BEGIN:VCALENDAR
PRODID:brasil.gov.agenda
VERSION:1.0
BEGIN:VEVENT
DTSTART:20211019T140000Z
DTEND:20211019T150000Z
DCREATED:20211108T194103Z
UID:Compromisso-f9745177ca1944f8962f2080a725c3fc
SEQUENCE:0
LAST-MODIFIED:20211108T194103Z
SUMMARY:Apresentação da Proposta APP's Gratuitos
LOCATION:Esplanada dos Ministérios – Bloco “R” sala 714
PRIORITY:3
TRANSP:0
END:VEVENT
END:VCALENDAR
