BEGIN:VCALENDAR
PRODID:brasil.gov.agenda
VERSION:1.0
BEGIN:VEVENT
DTSTART:20211129T180000Z
DTEND:20211129T190000Z
DCREATED:20211228T123530Z
UID:Compromisso-a01adc8fb6044d6183055bc5f7b10114
SEQUENCE:0
LAST-MODIFIED:20211228T123530Z
SUMMARY:Reunião CGEV e Núcleo Estratégico  do DECAD.
DESCRIPTION:Alinhamento de informações
LOCATION:Palácio Planalto 2º andar sala 201
PRIORITY:3
TRANSP:0
END:VEVENT
END:VCALENDAR
