BEGIN:VCALENDAR
PRODID:brasil.gov.agenda
VERSION:1.0
BEGIN:VEVENT
DTSTART:20211118T140000Z
DTEND:20211118T151500Z
DCREATED:20211122T203129Z
UID:Compromisso-58b836e8538b40468924ea0403a79ccf
SEQUENCE:0
LAST-MODIFIED:20211122T203129Z
SUMMARY:Reunião SECOM e MMA
DESCRIPTION:Decreto das Cavidades
LOCATION:Palácio do Planalto\, 2º andar\, Sala 207
PRIORITY:3
TRANSP:0
END:VEVENT
END:VCALENDAR
