BEGIN:VCALENDAR
PRODID:brasil.gov.agenda
VERSION:1.0
BEGIN:VEVENT
DTSTART:20210921T193000Z
DTEND:20210921T030000Z
DCREATED:20210921T001143Z
UID:Compromisso-57561ed2bdce408e81ea96337535d5de
SEQUENCE:0
LAST-MODIFIED:20210921T001143Z
SUMMARY:Presidente da ABRATEL\, Márcio Novaes
LOCATION:Secom/Palácio do Planalto
PRIORITY:3
TRANSP:0
END:VEVENT
END:VCALENDAR
