Workbook

Sheet Modelo de Proposta
A1: ANEXO XI
A2: MODELO DE PROPOSTA DE PREÇOS
A3: PREGÃO Nº 17/2021
A5: Ilmo. Sr. Pregoeiro, a Empresa ______________________________, CNPJ nº ________________, sediada ___________(endereço completo)______________, se propõe a executar os serviços discriminados, atendendo todas as condições estipuladas no Edital de Licitação, e nos valores abaixo:
A7: ITEM | B7: CÓDIGO SIASG | C7: DESCRIÇÃO/ ESPECIFICAÇÃO | D7: Unidade de Medida | E7: Quantidade | F7: Valor Mensal | G7: Valor Anual
A8: 1 | B8: 24023 | C8: Serviços de limpeza, conservação e higienização, com fornecimento de materiais, insumos, equipamentos, EPIs e uniformes, a serem executados nas dependências da Gerência Executiva de Caxias do Sul - Vinculada à Superintendência Regional Sul | D8: M2 | E8: 12 (meses) | F8: =Resumo!L15 -> 0 | G8: =F8*12 -> 0
A9: 2 | B9: 25194 | C9: Serviço de desinfecção, com fornecimento de materiais, insumos, EPIs e uniformes, a serem executados nas dependências da Gerência Executiva de Caxias do Sul - Vinculada à Superintendência Regional Sul | D9: Unidade de Medida | E9: 12 (meses) | F9: =Resumo!K15 -> 0 | G9: =F9*12 -> 0
A10: Valor anual da Proposta | G10: =SUM(G8:G9) -> 0
A13: – Validade da Proposta de Preços: 60 (sessenta) dias, a contar da data de apresentação.
A14: – Prazo de Execução dos Serviços: 12 (doze) meses.
A15: Dados para pagamento:
A16: – Banco (Nome/nº): – Agência: – Conta:
A17: Informações para assinatura do Contrato:
A18: – Nome:
A19: – Cargo:
A20: – RG:
A21: – CPF:
A22: –Telefone/Fax: E-mail:
A23: Local e data.
A25: Assinatura e Nome do Representante Legal da Empresa

Sheet Produt.
C1: ÁREA INTERNA | G1: ÁREA EXTERNA | J1: ESQUADRIAS
A2: Unidade Orgânica | B2: Atend | C2: AI-1: Pisos frios | D2: AI-2: Almoxarifado, Galpões, arquivos | E2: AI-3: Espaços Livres, saguão, hall, salão | F2: AI-4: Banheiros | G2: AE-1: Pisos adjacentes às edificações | H2: AE-2: Áreas verdes | I2: AE-3: Arruamento, passeios | J2: EER: Face Externa COM exposição a risco | K2: EE: Face Externa SEM exposição a risco | L2: EI: Face Interna | M2: Serventes por Unidade (Calculada) | N2: Total Área Interna (AI 1 a AI4) | O2: Serventes (qtde ajustada) | P2: Serventes piso frio | Q2: Serventes banheiro + piso frio
A3: GERÊNCIA EXECUTIVA CAXIAS DO SUL | B3: 40h | C3: =1452-D3-E3-F3 -> 964.16 | D3: =6.42+57.63+9.77+44.69+156.27+12+6+28.5 -> 321.28 | E3: 133.65 | F3: =15.72+15.1+2.09 -> 32.91 | K3: 177.15 | L3: 177.15 | M3: =C3/$C$16+D3/$D$16+E3/$E$16+F3/$F$16+G3/$G$16+H3/$H$16+I3/$I$16+J3/$J$16*8*1/1132.6+K3/$K$16*16*1/188.76+L3/$L$16*16*1/188.76 -> 1.4995719 | N3: =C3+D3+E3+F3 -> 1452 | O3: 1 | P3: =O3-Q3 -> 0 | Q3: 1
A4: APS BENTO GONÇALVES | B4: 30h | C4: 948.19 | E4: 202.44 | F4: 47.9 | G4: 224.13 | K4: 291.08 | L4: 291.08 | M4: =C4/$C$16+D4/$D$16+E4/$E$16+F4/$F$16+G4/$G$16+H4/$H$16+I4/$I$16+J4/$J$16*8*1/1132.6+K4/$K$16*16*1/188.76+L4/$L$16*16*1/188.76 -> 1.616691 | N4: =C4+D4+E4+F4 -> 1198.53 | O4: 2 | P4: =O4-Q4 -> 1 | Q4: 1
A5: APS CANELA | B5: 30h | C5: 677.04 | D5: 327.51 | E5: 367.55 | F5: 74.8 | G5: 517.21 | K5: 261.22 | L5: 261.22 | M5: =C5/$C$16+D5/$D$16+E5/$E$16+F5/$F$16+G5/$G$16+H5/$H$16+I5/$I$16+J5/$J$16*8*1/1132.6+K5/$K$16*16*1/188.76+L5/$L$16*16*1/188.76 -> 1.7903312 | N5: =C5+D5+E5+F5 -> 1446.9 | O5: 1 | P5: =O5-Q5 -> 0 | Q5: 1
A6: APS CAXIAS DO SUL | B6: 30h | C6: =1308.6-E6-F6+42.2 -> 1209.71 | E6: 100.84 | F6: =15.82+24.43 -> 40.25 | G6: 1060.3 | K6: 146.43 | L6: 146.43 | M6: =C6/$C$16+D6/$D$16+E6/$E$16+F6/$F$16+G6/$G$16+H6/$H$16+I6/$I$16+J6/$J$16*8*1/1132.6+K6/$K$16*16*1/188.76+L6/$L$16*16*1/188.76 -> 2.1425797 | N6: =C6+D6+E6+F6 -> 1350.8 | O6: 2 | P6: =O6-Q6 -> 1 | Q6: 1
A7: APS FARROUPILHA | B7: 30h | C7: 375.43 | D7: 281.65 | E7: 124.13 | F7: 64.6 | G7: 597.12 | K7: 170 | L7: 170 | M7: =C7/$C$16+D7/$D$16+E7/$E$16+F7/$F$16+G7/$G$16+H7/$H$16+I7/$I$16+J7/$J$16*8*1/1132.6+K7/$K$16*16*1/188.76+L7/$L$16*16*1/188.76 -> 1.2311419 | N7: =C7+D7+E7+F7 -> 845.81 | O7: 1 | P7: =O7-Q7 -> 0 | Q7: 1
A8: APS GARIBALDI | B8: 30h | C8: 388.46 | D8: 383.13 | F8: 50.1 | G8: 304.53 | H8: 318.75 | K8: 211.1 | L8: 211.1 | M8: =C8/$C$16+D8/$D$16+E8/$E$16+F8/$F$16+G8/$G$16+H8/$H$16+I8/$I$16+J8/$J$16*8*1/1132.6+K8/$K$16*16*1/188.76+L8/$L$16*16*1/188.76 -> 1.1762512 | N8: =C8+D8+E8+F8 -> 821.69 | O8: 1 | P8: =O8-Q8 -> 0 | Q8: 1
A9: APS VACARIA | B9: 30h | C9: 661.39 | D9: 734.88 | E9: 820.27 | F9: =16.88+9.43 -> 26.31 | H9: 165.47 | K9: 158.45 | L9: 158.45 | M9: =C9/$C$16+D9/$D$16+E9/$E$16+F9/$F$16+G9/$G$16+H9/$H$16+I9/$I$16+J9/$J$16*8*1/1132.6+K9/$K$16*16*1/188.76+L9/$L$16*16*1/188.76 -> 1.8304002 | N9: =C9+D9+E9+F9 -> 2242.85 | O9: 2 | P9: =O9-Q9 -> 1 | Q9: 1
A10: APS VERANÓPOLIS | B10: 30h | C10: 389.88 | E10: 185.67 | F10: 48.5 | G10: 329.13 | H10: 1242.66 | K10: 93.73 | L10: 93.73 | M10: =C10/$C$16+D10/$D$16+E10/$E$16+F10/$F$16+G10/$G$16+H10/$H$16+I10/$I$16+J10/$J$16*8*1/1132.6+K10/$K$16*16*1/188.76+L10/$L$16*16*1/188.76 -> 1.5412667 | N10: =C10+D10+E10+F10 -> 624.05 | O10: 1 | P10: =O10-Q10 -> 0 | Q10: 1
A11: APS NOVA PRATA | B11: 30h | C11: 278 | E11: 56.27 | F11: 15.34 | K11: 47.29 | L11: 47.29 | M11: =C11/$C$16+D11/$D$16+E11/$E$16+F11/$F$16+G11/$G$16+H11/$H$16+I11/$I$16+J11/$J$16*8*1/1132.6+K11/$K$16*16*1/188.76+L11/$L$16*16*1/188.76 -> 0.42885947 | N11: =C11+D11+E11+F11 -> 349.61 | O11: 1 | P11: =O11-Q11 -> 0 | Q11: 1
A12: APS CARLOS BARBOSA | B12: 30h | C12: 277.2 | E12: 20.8 | F12: 24.25 | G12: 581.15 | K12: 86.77 | L12: 86.77 | M12: =C12/$C$16+D12/$D$16+E12/$E$16+F12/$F$16+G12/$G$16+H12/$H$16+I12/$I$16+J12/$J$16*8*1/1132.6+K12/$K$16*16*1/188.76+L12/$L$16*16*1/188.76 -> 0.73431501 | N12: =C12+D12+E12+F12 -> 322.25 | O12: 1 | P12: =O12-Q12 -> 0 | Q12: 1
A13: APS FLORES DA CUNHA | B13: 30h | C13: 277.2 | E13: 20.8 | F13: 24.25 | G13: 548.63 | K13: 86.77 | L13: 86.77 | M13: =C13/$C$16+D13/$D$16+E13/$E$16+F13/$F$16+G13/$G$16+H13/$H$16+I13/$I$16+J13/$J$16*8*1/1132.6+K13/$K$16*16*1/188.76+L13/$L$16*16*1/188.76 -> 0.7188293 | N13: =C13+D13+E13+F13 -> 322.25 | O13: 1 | P13: =O13-Q13 -> 0 | Q13: 1
A14: CEDOCPREV CAXIAS | B14: 30h | C14: 337.98 | E14: 369.76 | F14: =4.29+5.03+6.42 -> 15.74 | K14: 121.89 | L14: 121.89 | M14: =C14/$C$16+D14/$D$16+E14/$E$16+F14/$F$16+G14/$G$16+H14/$H$16+I14/$I$16+J14/$J$16*8*1/1132.6+K14/$K$16*16*1/188.76+L14/$L$16*16*1/188.76 -> 0.73937816 | N14: =C14+D14+E14+F14 -> 723.48 | O14: 1 | P14: =O14-Q14 -> 0 | Q14: 1
A15: Total Geral | C15: =SUM(C3:C14) -> 6784.64 | D15: =SUM(D3:D14) -> 2048.45 | E15: =SUM(E3:E14) -> 2402.18 | F15: =SUM(F3:F14) -> 464.95 | G15: =SUM(G3:G14) -> 4162.2 | H15: =SUM(H3:H14) -> 1726.88 | K15: =SUM(K3:K14) -> 1851.88 | L15: =SUM(L3:L14) -> 1851.88 | M15: =SUM(M3:M14) -> 15.449616 | O15: =SUM(O3:O14) -> 15 | P15: =SUM(P3:P14) -> 3 | Q15: =SUM(Q3:Q14) -> 12
A16: Produtividade adotada | C16: 900 | D16: 2500 | E16: 1500 | F16: 250 | G16: 2100 | H16: 2100 | I16: 7500 | J16: 160 | K16: 380 | L16: 380
A17: Número de Serventes | C17: =C15/C16 -> 7.5384889 | D17: =D15/D16 -> 0.81938 | E17: =E15/E16 -> 1.6014533 | F17: =F15/F16 -> 1.8598 | G17: =G15/G16 -> 1.982 | H17: =H15/H16 -> 0.82232381 | I17: =I15/I16 -> 0 | J17: =1/J16*8*1/1132.6*J15 -> 0 | K17: =1/K16*16*1/188.76*K15 -> 0.41308484 | L17: =1/L16*16*1/188.76*L15 -> 0.41308484 | M17: =SUM(C17:L17) -> 15.449616
A18: Número de Encarregados | C18: =C15/(O15*C16) -> 0.50256593 | D18: =D15/(O15*D16) -> 0.054625333 | E18: =E15/(O15*E16) -> 0.10676356 | F18: =F15/(O15*F16) -> 0.12398667 | G18: =G15/(O15*G16) -> 0.13213333 | H18: =H15/(O15*H16) -> 0.054821587 | I18: =I15/(O15*I16) -> 0 | J18: =1/O15*1/J16*16*1/188.76*J15 -> 0 | K18: =1/O15*1/K16*16*1/188.76*K15 -> 0.027538989 | L18: =1/O15*1/L16*16*1/188.76*L15 -> 0.027538989 | M18: =SUM(C18:L18) -> 1.0299744
A19: (1/prod) serventes | C19: =ROUND(1/C16,9) -> 0.001111111 | D19: =ROUND(1/D16,9) -> 0.0004 | E19: =ROUND(1/E16,9) -> 0.000666667 | F19: =ROUND(1/F16,9) -> 0.004 | G19: =ROUND(1/G16,9) -> 0.00047619 | H19: =ROUND(1/H16,9) -> 0.00047619 | I19: =ROUND(1/I16,9) -> 0.000133333 | J19: =(1/J16)*(1/O27)*8 -> 4.8611111e-05 | K19: =(1/K16)*(1/O26)*16 -> 0.00024561404 | L19: =(1/L16)*(1/O26)*16 -> 0.00024561404
A20: (1/prod) encarregado | C20: =C19/$O$15 -> 7.4074067e-05 | D20: =D19/$O$15 -> 2.6666667e-05 | E20: =E19/$O$15 -> 4.4444467e-05 | F20: =F19/$O$15 -> 0.00026666667 | G20: =G19/$O$15 -> 3.1746e-05 | H20: =H19/$O$15 -> 3.1746e-05 | I20: =I19/$O$15 -> 8.8888667e-06 | J20: =J19/$O$15 -> 3.2407407e-06 | ... L20: =L19/$O$15 -> 1.6374269e-05
A21: Limite de Produtividade IN 05/2017 | C21: 800 a 1200 | D21: 1500 a 2500 | E21: 1000 a 1500 | F21: 200 a 300 | G21: 1800 a 2700 | H21: 1800 a 2700 | I21: 6000 a 9000 | J21: 130 a 160 | K21: 300 a 380 | L21: 300 a 380
M26: =30/7 -> 4.2857143 | N26: 40 | O26: =M26*N26 -> 171.42857
O27: =O26*6 -> 1028.5714 | P27: SEMESTRAL | Q27: risco

Sheet Resumo
L1: nova produtividade - 40h
A2: Unidade Orgânica | B2: Serventes (qtde ajustada) | C2: Serventes piso frio (20%) | D2: Serventes banheiro + piso frio | E2: Postos COVID | F2: Salário 40h 20% | G2: Salário 40h 40% | H2: Salário 30h 20% | I2: Salário 30h 40% | J2: Encarregado | K2: COVID | L2: Valor mensal | M2: Valor anual
A3: GERÊNCIA EXECUTIVA CAXIAS DO SUL | B3: ='Produt.'!O3 -> 1 | C3: =B3-D3 -> 0 | D3: 1 | F3: =C3*'Cax 40h'!C111 -> 0 | G3: =D3*'Cax 40h'!D111 -> 0 | J3: =Encarregado!F111 -> 0 | L3: ='Cax 40h'!E184 -> 0 | M3: =L3*12 -> 0
A4: APS BENTO GONÇALVES | B4: ='Produt.'!O4 -> 2 | C4: =B4-D4 -> 1 | D4: 1 | E4: 1 | F4: =C4*'Bento 40h'!C111 -> 0 | G4: =D4*'Bento 40h'!D111 -> 0 | K4: =E4*'Bento 40h'!E111 -> 0 | L4: ='Bento 40h'!E184 -> 0 | M4: =L4*12 -> 0
A5: APS CANELA | B5: ='Produt.'!O5 -> 1 | C5: =B5-D5 -> 0 | D5: 1 | E5: 1 | F5: =C5*'Canela 40h'!C111 -> 0 | G5: =D5*'Canela 40h'!D111 -> 0 | K5: =E5*'Canela 40h'!E111 -> 0 | L5: ='Canela 40h'!E184 -> 0 | M5: =L5*12 -> 0
A6: APS CAXIAS DO SUL | B6: ='Produt.'!O6 -> 2 | C6: =B6-D6 -> 1 | D6: 1 | E6: 3 | F6: =C6*'Cax 40h'!C111 -> 0 | G6: =D6*'Cax 40h'!D111 -> 0 | K6: =E6*'Cax 30h'!E111 -> 0 | L6: ='Cax 40h'!E198 -> 0 | M6: =L6*12 -> 0
A7: APS FARROUPILHA | B7: ='Produt.'!O7 -> 1 | C7: =B7-D7 -> 0 | D7: 1 | E7: 1 | F7: =C7*'Farroup 40h'!C111 -> 0 | G7: =D7*'Farroup 40h'!D111 -> 0 | K7: =E7*'Farroup 40h'!E111 -> 0 | L7: ='Farroup 40h'!E184 -> 0 | M7: =L7*12 -> 0
A8: APS GARIBALDI | B8: ='Produt.'!O8 -> 1 | C8: =B8-D8 -> 0 | D8: 1 | E8: 1 | F8: =C8*'Garib 40h'!C111 -> 0 | G8: =D8*'Garib 40h'!D111 -> 0 | K8: =E8*'Garib 40h'!E111 -> 0 | L8: ='Garib 40h'!E184 -> 0 | M8: =L8*12 -> 0
A9: APS VACARIA | B9: ='Produt.'!O9 -> 2 | C9: =B9-D9 -> 1 | D9: 1 | E9: 1 | F9: =C9*'Vac 40h'!C111 -> 0 | G9: =D9*'Vac 40h'!D111 -> 0 | K9: =E8*'Garib 40h'!E111 -> 0 | L9: ='Vac 40h'!E184 -> 0 | M9: =L9*12 -> 0
A10: APS VERANÓPOLIS | B10: ='Produt.'!O10 -> 1 | C10: =B10-D10 -> 0 | D10: 1 | F10: =C10*'Veran 40h'!C111 -> 0 | G10: =D10*'Veran 40h'!D111 -> 0 | L10: ='Veran 40h'!E184 -> 0 | M10: =L10*12 -> 0
A11: APS NOVA PRATA | B11: ='Produt.'!O11 -> 1 | C11: =B11-D11 -> 0 | D11: 1 | E11: 1 | F11: =C11*'N. Prata 40h'!C111 -> 0 | G11: =D11*'N. Prata 40h'!D111 -> 0 | K11: =E11*'N. Prata 40h'!E111 -> 0 | L11: ='N. Prata 40h'!E184 -> 0 | M11: =L11*12 -> 0
A12: APS CARLOS BARBOSA | B12: ='Produt.'!O12 -> 1 | C12: =B12-D12 -> 0 | D12: 1 | F12: =C12*'C. Barb 40h'!C111 -> 0 | G12: =D12*'C. Barb 40h'!D111 -> 0 | L12: ='C. Barb 40h'!E184 -> 0 | M12: =L12*12 -> 0
A13: APS FLORES DA CUNHA | B13: ='Produt.'!O13 -> 1 | C13: =B13-D13 -> 0 | D13: 1 | F13: =C13*'F. Cun 40h'!C111 -> 0 | G13: =D13*'F. Cun 40h'!D111 -> 0 | L13: ='F. Cun 40h'!E184 -> 0 | M13: =L13*12 -> 0
A14: CEDOCPREV CAXIAS | B14: ='Produt.'!O14 -> 1 | C14: =B14-D14 -> 0 | D14: 1 | I14: =D14*'Cax 30h'!D111 -> 0 | L14: ='Cax 30h'!E185 -> 0 | M14: =L14*12 -> 0
A15: Total Geral | B15: =SUM(B3:B14) -> 15 | C15: =SUM(C3:C14) -> 3 | D15: =SUM(D3:D14) -> 12 | E15: =SUM(E3:E14) -> 9 | F15: =SUM(F3:F14) -> 0 | G15: =SUM(G3:G14) -> 0 | H15: =SUM(H3:H14) -> 0 | I15: =SUM(I3:I14) -> 0 | ... M15: =SUM(M3:M14) -> 0
L16: =L15 -> 0 | M16: m2
L17: =K15 -> 0 | M17: Covid
L18: =L16+L17 -> 0 | M18: Total
L19: =L18*12 -> 0 | M19: anual

Sheet Encarregado
A1: ANEXO III
A2: MODELO DE PROPOSTA E PLANILHA DE CUSTOS E FORMAÇÃO DE PREÇOS
C4: 44h | D4: 40h | E4: 30h | F4: Encarregado
B5: Salário Normativo da Categoria: | C5: ='M. Cal'!C4 -> 0 | D5: ='M. Cal'!D4 -> 0 | E5: ='M. Cal'!E4 -> 0 | F5: ='M. Cal'!D5 -> 0
B6: Data base da Categoria: | C6: 43466 | D6: 43466 | E6: 43466 | F6: ='M. Cal'!D1 -> 44197
B7: Convenção Coletiva: | C7: RS000645/2019 | D7: RS000645/2019 | E7: RS000645/2019 | F7: ='M. Cal'!C1 -> 0
B8: CBO/MTE: | C8: 5143-20 | D8: 5143-20 | E8: 5143-20 | F8: 5143-20
A10: CUSTOS | B10: Percentuais e Valores de Referência | C10: Servente 20% | D10: Servente 40% | E10: Servente COVID | F10: Encarregado
A11: MÓDULO 1: COMPOSIÇÃO DA REMUNERAÇÃO
A12: 1 - Composição da Remuneração | B12: Percentuais | C12: Valor (R$) | D12: Valor (R$) | E12: Valor (R$) | F12: Valor (R$)
A13: A – Salário Base 40 horas | F13: =F5 -> 0
A14: B - Adicional de Insalubridade (20) | B14: 0.2
A15: C - Adicional de Insalubridade (40) | B15: 0.4
A16: D - Adicional Noturno
A17: E - Adicional de Hora Noturna Reduzida
A18: F - Adicional de Hora Extra no Feriado Trabalhado
A19: E - Outros (especificar)
A20: Total | C20: =SUM(C13:C19) -> 0 | D20: =SUM(D13:D19) -> 0 | E20: =SUM(E13:E19) -> 0 | F20: =SUM(F13:F19) -> 0
A22: MÓDULO 2: ENCARGOS E BENEFÍCIOS ANUAIS, MENSAIS E DIÁRIOS
A23: 2.1 - 13º Salário, Férias e Adicional de Férias | B23: Percentuais | C23: Valor (R$) | D23: Valor (R$) | E23: Valor (R$) | F23: Valor (R$)
A24: A - 13º salário | B24: 0.0833 | C24: =ROUND($B24*C$20,2) -> 0 | D24: =ROUND($B24*D$20,2) -> 0 | E24: =ROUND($B24*E$20,2) -> 0 | F24: =ROUND($B24*F$20,2) -> 0
A25: B - Férias | B25: 0
A26: C - Adicional de Férias | B26: 0.0278 | C26: =C20*B26 -> 0 | D26: =D20*B26 -> 0 | E26: =E20*B26 -> 0 | F26: =F20*B26 -> 0
A27: Total | B27: =SUM(B24:B26) -> 0.1111 | C27: =SUM(C24:C25) -> 0 | D27: =SUM(D24:D25) -> 0 | E27: =SUM(E24:E25) -> 0 | F27: =SUM(F24:F25) -> 0
A28: 2.2 - Encargos Previdenciários e FGTS | B28: Percentuais | C28: Valor (R$) | D28: Valor (R$) | E28: Valor (R$) | F28: Valor (R$)
A29: 2.2.1 - GPS
A30: A - INSS | B30: 0.2 | C30: =ROUND(($C$20+$C$27)*B30,2) -> 0 | D30: =ROUND(($D$20+$D$27)*B30,2) -> 0 | E30: =ROUND(($E$20+$E$27)*B30,2) -> 0 | F30: =ROUND(($F$20+$F$27)*B30,2) -> 0
A31: B - Salário Educação | B31: 0.025 | C31: =ROUND(($C$20+$C$27)*B31,2) -> 0 | D31: =ROUND(($D$20+$D$27)*B31,2) -> 0 | E31: =ROUND(($E$20+$E$27)*B31,2) -> 0 | F31: =ROUND(($F$20+$F$27)*B31,2) -> 0
A32: C - SAT | B32: 0.0225 | C32: =ROUND(($C$20+$C$27)*B32,2) -> 0 | D32: =ROUND(($D$20+$D$27)*B32,2) -> 0 | E32: =ROUND(($E$20+$E$27)*B32,2) -> 0 | F32: =ROUND(($F$20+$F$27)*B32,2) -> 0
A33: D - SESI ou SESC | B33: 0.015 | C33: =ROUND(($C$20+$C$27)*B33,2) -> 0 | D33: =ROUND(($D$20+$D$27)*B33,2) -> 0 | E33: =ROUND(($E$20+$E$27)*B33,2) -> 0 | F33: =ROUND(($F$20+$F$27)*B33,2) -> 0
A34: E - SENAI ou SENAC | B34: 0.01 | C34: =ROUND(($C$20+$C$27)*B34,2) -> 0 | D34: =ROUND(($D$20+$D$27)*B34,2) -> 0 | E34: =ROUND(($E$20+$E$27)*B34,2) -> 0 | F34: =ROUND(($F$20+$F$27)*B34,2) -> 0
A35: F - SEBRAE | B35: 0.006 | C35: =ROUND(($C$20+$C$27)*B35,2) -> 0 | D35: =ROUND(($D$20+$D$27)*B35,2) -> 0 | E35: =ROUND(($E$20+$E$27)*B35,2) -> 0 | F35: =ROUND(($F$20+$F$27)*B35,2) -> 0
A36: G - INCRA | B36: 0.002 | C36: =ROUND(($C$20+$C$27)*B36,2) -> 0 | D36: =ROUND(($D$20+$D$27)*B36,2) -> 0 | E36: =ROUND(($E$20+$E$27)*B36,2) -> 0 | F36: =ROUND(($F$20+$F$27)*B36,2) -> 0
A37: 2.2.2 - FGTS
A38: F - FGTS | B38: 0.08 | C38: =ROUND(($C$20+$C$27)*B38,2) -> 0 | D38: =ROUND(($D$20+$D$27)*B38,2) -> 0 | E38: =ROUND(($E$20+$E$27)*B38,2) -> 0 | F38: =ROUND(($F$20+$F$27)*B38,2) -> 0
A39: Total | B39: =SUM(B29:B38) -> 0.3605 | C39: =SUM(C29:C38) -> 0 | D39: =SUM(D29:D38) -> 0 | E39: =SUM(E29:E38) -> 0 | F39: =SUM(F29:F38) -> 0
A40: 2.3 - Benefícios Mensais e Diários | B40: Valores | C40: Valor (R$) | D40: Valor (R$) | E40: Valor (R$) | F40: Valor (R$)
A41: A - Transporte | B41: ='M. Cal'!M5 -> 0 | F41: =ROUND(((2*22*$B$41)-0.06*$F$5),2) -> 0
A42: B - Auxílio-Refeição/Alimentação ( COM DESCONTO DE 19% - CCT RS) | B42: 18.2 | F42: ='M. Cal'!E7 -> 0
A43: C - Outros (especificar)
...

Sheet Cax 40h
A1: ANEXO III
A2: MODELO DE PROPOSTA E PLANILHA DE CUSTOS E FORMAÇÃO DE PREÇOS
C4: 44h | D4: 40h | E4: 30h
B5: Salário Normativo da Categoria: | C5: ='M. Cal'!C4 -> 0 | D5: ='M. Cal'!D4 -> 0 | E5: ='M. Cal'!E4 -> 0
B6: Data base da Categoria: | C6: ='M. Cal'!$D$1 -> 44197 | D6: ='M. Cal'!$D$1 -> 44197 | E6: ='M. Cal'!$D$1 -> 44197
B7: Convenção Coletiva: | C7: ='M. Cal'!$C$1 -> 0 | D7: ='M. Cal'!$C$1 -> 0 | E7: ='M. Cal'!$C$1 -> 0
B8: CBO/MTE: | C8: 5143-20 | D8: 5143-20 | E8: 5143-20
A10: CUSTOS | B10: Percentuais e Valores de Referência | C10: Servente 20% | D10: Servente 40% | E10: Servente COVID
A11: MÓDULO 1: COMPOSIÇÃO DA REMUNERAÇÃO
A12: 1 - Composição da Remuneração | B12: Percentuais | C12: Valor (R$) | D12: Valor (R$) | E12: Valor (R$)
A13: A – Salário Base 40 horas | C13: =D5 -> 0 | D13: =D5 -> 0 | E13: =E5 -> 0
A14: B - Adicional de Insalubridade (20) | B14: 0.2 | C14: =C13*B14 -> 0 | E14: =E13*B14 -> 0
A15: C - Adicional de Insalubridade (40) | B15: 0.4 | D15: =D13*B15 -> 0
A16: D - Adicional Noturno
A17: E - Adicional de Hora Noturna Reduzida
A18: F - Adicional de Hora Extra no Feriado Trabalhado
A19: E - Outros (especificar)
A20: Total | C20: =SUM(C13:C19) -> 0 | D20: =SUM(D13:D19) -> 0 | E20: =SUM(E13:E19) -> 0
A22: MÓDULO 2: ENCARGOS E BENEFÍCIOS ANUAIS, MENSAIS E DIÁRIOS
A23: 2.1 - 13º Salário, Férias e Adicional de Férias | B23: Percentuais | C23: Valor (R$) | D23: Valor (R$) | E23: Valor (R$)
A24: A - 13º salário | B24: 0.0833 | C24: =ROUND($B24*C$20,2) -> 0 | D24: =ROUND($B24*D$20,2) -> 0 | E24: =ROUND($B24*E$20,2) -> 0
A25: B - Férias | B25: 0
A26: C - Adicional de Férias | B26: 0.0278 | C26: =C20*B26 -> 0 | D26: =D20*B26 -> 0 | E26: =E20*B26 -> 0
A27: Total | B27: =SUM(B24:B26) -> 0.1111 | C27: =SUM(C24:C25) -> 0 | D27: =SUM(D24:D25) -> 0 | E27: =SUM(E24:E25) -> 0
A28: 2.2 - Encargos Previdenciários e FGTS | B28: Percentuais | C28: Valor (R$) | D28: Valor (R$) | E28: Valor (R$)
A29: 2.2.1 - GPS
A30: A - INSS | B30: 0.2 | C30: =ROUND(($C$20+$C$27)*B30,2) -> 0 | D30: =ROUND(($D$20+$D$27)*B30,2) -> 0 | E30: =ROUND(($E$20+$E$27)*B30,2) -> 0
A31: B - Salário Educação | B31: 0.025 | C31: =ROUND(($C$20+$C$27)*B31,2) -> 0 | D31: =ROUND(($D$20+$D$27)*B31,2) -> 0 | E31: =ROUND(($E$20+$E$27)*B31,2) -> 0
A32: C - SAT | B32: 0.0225 | C32: =ROUND(($C$20+$C$27)*B32,2) -> 0 | D32: =ROUND(($D$20+$D$27)*B32,2) -> 0 | E32: =ROUND(($E$20+$E$27)*B32,2) -> 0
A33: D - SESI ou SESC | B33: 0.015 | C33: =ROUND(($C$20+$C$27)*B33,2) -> 0 | D33: =ROUND(($D$20+$D$27)*B33,2) -> 0 | E33: =ROUND(($E$20+$E$27)*B33,2) -> 0
A34: E - SENAI ou SENAC | B34: 0.01 | C34: =ROUND(($C$20+$C$27)*B34,2) -> 0 | D34: =ROUND(($D$20+$D$27)*B34,2) -> 0 | E34: =ROUND(($E$20+$E$27)*B34,2) -> 0
A35: F - SEBRAE | B35: 0.006 | C35: =ROUND(($C$20+$C$27)*B35,2) -> 0 | D35: =ROUND(($D$20+$D$27)*B35,2) -> 0 | E35: =ROUND(($E$20+$E$27)*B35,2) -> 0
A36: G - INCRA | B36: 0.002 | C36: =ROUND(($C$20+$C$27)*B36,2) -> 0 | D36: =ROUND(($D$20+$D$27)*B36,2) -> 0 | E36: =ROUND(($E$20+$E$27)*B36,2) -> 0
A37: 2.2.2 - FGTS
A38: F - FGTS | B38: 0.08 | C38: =ROUND(($C$20+$C$27)*B38,2) -> 0 | D38: =ROUND(($D$20+$D$27)*B38,2) -> 0 | E38: =ROUND(($E$20+$E$27)*B38,2) -> 0
A39: Total | B39: =SUM(B29:B38) -> 0.3605 | C39: =SUM(C29:C38) -> 0 | D39: =SUM(D29:D38) -> 0 | E39: =SUM(E29:E38) -> 0
A40: 2.3 - Benefícios Mensais e Diários | B40: Valores | C40: Valor (R$) | D40: Valor (R$) | E40: Valor (R$)
A41: A - Transporte | B41: ='M. Cal'!M2 -> 0 | C41: =ROUND(((2*22*$B$41)-0.06*$D$5),2) -> 0 | D41: =ROUND(((2*22*$B$41)-0.06*$D$5),2) -> 0 | E41: =ROUND(((2*22*$B$41)-0.06*$E$5),2) -> 0
A42: B - Auxílio-Refeição/Alimentação ( COM DESCONTO DE 19% - CCT RS) | B42: 18.2 | C42: ='M. Cal'!E7 -> 0 | D42: ='M. Cal'!E7 -> 0 | E42: ='M. Cal'!E7 -> 0
A43: C - Outros (especificar)
...

Sheet Cax 30h
A1: ANEXO III
A2: MODELO DE PROPOSTA E PLANILHA DE CUSTOS E FORMAÇÃO DE PREÇOS
C4: 44h | D4: 40h | E4: 30h
B5: Salário Normativo da Categoria: | C5: ='M. Cal'!C4 -> 0 | D5: ='M. Cal'!D4 -> 0 | E5: ='M. Cal'!E4 -> 0
B6: Data base da Categoria: | C6: ='M. Cal'!$D$1 -> 44197 | D6: ='M. Cal'!$D$1 -> 44197 | E6: ='M. Cal'!$D$1 -> 44197
B7: Convenção Coletiva: | C7: ='M. Cal'!$C$1 -> 0 | D7: ='M. Cal'!$C$1 -> 0 | E7: ='M. Cal'!$C$1 -> 0
B8: CBO/MTE: | C8: 5143-20 | D8: 5143-20 | E8: 5143-20
A10: CUSTOS | B10: Percentuais e Valores de Referência | C10: Servente 20% | D10: Servente 40% | E10: Servente COVID
A11: MÓDULO 1: COMPOSIÇÃO DA REMUNERAÇÃO
A12: 1 - Composição da Remuneração | B12: Percentuais | C12: Valor (R$) | D12: Valor (R$) | E12: Valor (R$)
A13: A – Salário Base 30 horas | C13: =E5 -> 0 | D13: =E5 -> 0 | E13: =E5 -> 0
A14: B - Adicional de Insalubridade (20) | B14: 0.2 | C14: =C13*B14 -> 0 | E14: =E13*B14 -> 0
A15: C - Adicional de Insalubridade (40) | B15: 0.4 | D15: =D13*B15 -> 0
A16: D - Adicional Noturno
A17: E - Adicional de Hora Noturna Reduzida
A18: F - Adicional de Hora Extra no Feriado Trabalhado
A19: E - Outros (especificar)
A20: Total | C20: =SUM(C13:C19) -> 0 | D20: =SUM(D13:D19) -> 0 | E20: =SUM(E13:E19) -> 0
A22: MÓDULO 2: ENCARGOS E BENEFÍCIOS ANUAIS, MENSAIS E DIÁRIOS
A23: 2.1 - 13º Salário, Férias e Adicional de Férias | B23: Percentuais | C23: Valor (R$) | D23: Valor (R$) | E23: Valor (R$)
A24: A - 13º salário | B24: 0.0833 | C24: =ROUND($B24*C$20,2) -> 0 | D24: =ROUND($B24*D$20,2) -> 0 | E24: =ROUND($B24*E$20,2) -> 0
A25: B - Férias | B25: 0
A26: C - Adicional de Férias | B26: 0.0278 | C26: =C20*B26 -> 0 | D26: =D20*B26 -> 0 | E26: =E20*B26 -> 0
A27: Total | B27: =SUM(B24:B26) -> 0.1111 | C27: =SUM(C24:C25) -> 0 | D27: =SUM(D24:D25) -> 0 | E27: =SUM(E24:E25) -> 0
A28: 2.2 - Encargos Previdenciários e FGTS | B28: Percentuais | C28: Valor (R$) | D28: Valor (R$) | E28: Valor (R$)
A29: 2.2.1 - GPS
A30: A - INSS | B30: 0.2 | C30: =ROUND(($C$20+$C$27)*B30,2) -> 0 | D30: =ROUND(($D$20+$D$27)*B30,2) -> 0 | E30: =ROUND(($E$20+$E$27)*B30,2) -> 0
A31: B - Salário Educação | B31: 0.025 | C31: =ROUND(($C$20+$C$27)*B31,2) -> 0 | D31: =ROUND(($D$20+$D$27)*B31,2) -> 0 | E31: =ROUND(($E$20+$E$27)*B31,2) -> 0
A32: C - SAT | B32: 0.0225 | C32: =ROUND(($C$20+$C$27)*B32,2) -> 0 | D32: =ROUND(($D$20+$D$27)*B32,2) -> 0 | E32: =ROUND(($E$20+$E$27)*B32,2) -> 0
A33: D - SESI ou SESC | B33: 0.015 | C33: =ROUND(($C$20+$C$27)*B33,2) -> 0 | D33: =ROUND(($D$20+$D$27)*B33,2) -> 0 | E33: =ROUND(($E$20+$E$27)*B33,2) -> 0
A34: E - SENAI ou SENAC | B34: 0.01 | C34: =ROUND(($C$20+$C$27)*B34,2) -> 0 | D34: =ROUND(($D$20+$D$27)*B34,2) -> 0 | E34: =ROUND(($E$20+$E$27)*B34,2) -> 0
A35: F - SEBRAE | B35: 0.006 | C35: =ROUND(($C$20+$C$27)*B35,2) -> 0 | D35: =ROUND(($D$20+$D$27)*B35,2) -> 0 | E35: =ROUND(($E$20+$E$27)*B35,2) -> 0
A36: G - INCRA | B36: 0.002 | C36: =ROUND(($C$20+$C$27)*B36,2) -> 0 | D36: =ROUND(($D$20+$D$27)*B36,2) -> 0 | E36: =ROUND(($E$20+$E$27)*B36,2) -> 0
A37: 2.2.2 - FGTS
A38: F - FGTS | B38: 0.08 | C38: =ROUND(($C$20+$C$27)*B38,2) -> 0 | D38: =ROUND(($D$20+$D$27)*B38,2) -> 0 | E38: =ROUND(($E$20+$E$27)*B38,2) -> 0
A39: Total | B39: =SUM(B29:B38) -> 0.3605 | C39: =SUM(C29:C38) -> 0 | D39: =SUM(D29:D38) -> 0 | E39: =SUM(E29:E38) -> 0
A40: 2.3 - Benefícios Mensais e Diários | B40: Valores | C40: Valor (R$) | D40: Valor (R$) | E40: Valor (R$)
A41: A - Transporte | B41: ='M. Cal'!M5 -> 0 | C41: =ROUND(((2*22*$B$41)-0.06*$E$5),2) -> 0 | D41: =ROUND(((2*22*$B$41)-0.06*$E$5),2) -> 0 | E41: =ROUND(((2*22*$B$41)-0.06*$E$5),2) -> 0
A42: B - Auxílio-Refeição/Alimentação ( COM DESCONTO DE 19% - CCT RS) | B42: 18.2 | C42: ='M. Cal'!E7 -> 0 | D42: ='M. Cal'!E7 -> 0 | E42: ='M. Cal'!E7 -> 0
A43: C - Outros (especificar)
...

Sheet Bento 40h
A1: ANEXO III
A2: MODELO DE PROPOSTA E PLANILHA DE CUSTOS E FORMAÇÃO DE PREÇOS
C4: 44h | D4: 40h | E4: 30h
B5: Salário Normativo da Categoria: | C5: ='M. Cal'!C4 -> 0 | D5: ='M. Cal'!D4 -> 0 | E5: ='M. Cal'!E4 -> 0
B6: Data base da Categoria: | C6: ='M. Cal'!$D$1 -> 44197 | D6: ='M. Cal'!$D$1 -> 44197 | E6: ='M. Cal'!$D$1 -> 44197
B7: Convenção Coletiva: | C7: ='M. Cal'!$C$1 -> 0 | D7: ='M. Cal'!$C$1 -> 0 | E7: ='M. Cal'!$C$1 -> 0
B8: CBO/MTE: | C8: 5143-20 | D8: 5143-20 | E8: 5143-20
A10: CUSTOS | B10: Percentuais e Valores de Referência | C10: Servente 20% | D10: Servente 40% | E10: Servente COVID
A11: MÓDULO 1: COMPOSIÇÃO DA REMUNERAÇÃO
A12: 1 - Composição da Remuneração | B12: Percentuais | C12: Valor (R$) | D12: Valor (R$) | E12: Valor (R$)
A13: A – Salário Base 40 horas | C13: =D5 -> 0 | D13: =D5 -> 0 | E13: =E5 -> 0
A14: B - Adicional de Insalubridade (20) | B14: 0.2 | C14: =C13*B14 -> 0 | E14: =E13*B14 -> 0
A15: C - Adicional de Insalubridade (40) | B15: 0.4 | D15: =D13*B15 -> 0
A16: D - Adicional Noturno
A17: E - Adicional de Hora Noturna Reduzida
A18: F - Adicional de Hora Extra no Feriado Trabalhado
A19: E - Outros (especificar)
A20: Total | C20: =SUM(C13:C19) -> 0 | D20: =SUM(D13:D19) -> 0 | E20: =SUM(E13:E19) -> 0
A22: MÓDULO 2: ENCARGOS E BENEFÍCIOS ANUAIS, MENSAIS E DIÁRIOS
A23: 2.1 - 13º Salário, Férias e Adicional de Férias | B23: Percentuais | C23: Valor (R$) | D23: Valor (R$) | E23: Valor (R$)
A24: A - 13º salário | B24: 0.0833 | C24: =ROUND($B24*C$20,2) -> 0 | D24: =ROUND($B24*D$20,2) -> 0 | E24: =ROUND($B24*E$20,2) -> 0
A25: B - Férias | B25: 0
A26: C - Adicional de Férias | B26: 0.0278 | C26: =C20*B26 -> 0 | D26: =D20*B26 -> 0 | E26: =E20*B26 -> 0
A27: Total | B27: =SUM(B24:B26) -> 0.1111 | C27: =SUM(C24:C25) -> 0 | D27: =SUM(D24:D25) -> 0 | E27: =SUM(E24:E25) -> 0
A28: 2.2 - Encargos Previdenciários e FGTS | B28: Percentuais | C28: Valor (R$) | D28: Valor (R$) | E28: Valor (R$)
A29: 2.2.1 - GPS
A30: A - INSS | B30: 0.2 | C30: =ROUND(($C$20+$C$27)*B30,2) -> 0 | D30: =ROUND(($D$20+$D$27)*B30,2) -> 0 | E30: =ROUND(($E$20+$E$27)*B30,2) -> 0
A31: B - Salário Educação | B31: 0.025 | C31: =ROUND(($C$20+$C$27)*B31,2) -> 0 | D31: =ROUND(($D$20+$D$27)*B31,2) -> 0 | E31: =ROUND(($E$20+$E$27)*B31,2) -> 0
A32: C - SAT | B32: 0.0225 | C32: =ROUND(($C$20+$C$27)*B32,2) -> 0 | D32: =ROUND(($D$20+$D$27)*B32,2) -> 0 | E32: =ROUND(($E$20+$E$27)*B32,2) -> 0
A33: D - SESI ou SESC | B33: 0.015 | C33: =ROUND(($C$20+$C$27)*B33,2) -> 0 | D33: =ROUND(($D$20+$D$27)*B33,2) -> 0 | E33: =ROUND(($E$20+$E$27)*B33,2) -> 0
A34: E - SENAI ou SENAC | B34: 0.01 | C34: =ROUND(($C$20+$C$27)*B34,2) -> 0 | D34: =ROUND(($D$20+$D$27)*B34,2) -> 0 | E34: =ROUND(($E$20+$E$27)*B34,2) -> 0
A35: F - SEBRAE | B35: 0.006 | C35: =ROUND(($C$20+$C$27)*B35,2) -> 0 | D35: =ROUND(($D$20+$D$27)*B35,2) -> 0 | E35: =ROUND(($E$20+$E$27)*B35,2) -> 0
A36: G - INCRA | B36: 0.002 | C36: =ROUND(($C$20+$C$27)*B36,2) -> 0 | D36: =ROUND(($D$20+$D$27)*B36,2) -> 0 | E36: =ROUND(($E$20+$E$27)*B36,2) -> 0
A37: 2.2.2 - FGTS
A38: F - FGTS | B38: 0.08 | C38: =ROUND(($C$20+$C$27)*B38,2) -> 0 | D38: =ROUND(($D$20+$D$27)*B38,2) -> 0 | E38: =ROUND(($E$20+$E$27)*B38,2) -> 0
A39: Total | B39: =SUM(B29:B38) -> 0.3605 | C39: =SUM(C29:C38) -> 0 | D39: =SUM(D29:D38) -> 0 | E39: =SUM(E29:E38) -> 0
A40: 2.3 - Benefícios Mensais e Diários | B40: Valores | C40: Valor (R$) | D40: Valor (R$) | E40: Valor (R$)
A41: A - Transporte | B41: ='M. Cal'!M3 -> 0 | C41: =ROUND(((2*22*$B$41)-0.06*$D$5),2) -> 0 | D41: =ROUND(((2*22*$B$41)-0.06*$D$5),2) -> 0 | E41: =ROUND(((2*22*$B$41)-0.06*$E$5),2) -> 0
A42: B - Auxílio-Refeição/Alimentação ( COM DESCONTO DE 19% - CCT RS) | B42: 18.2 | C42: ='M. Cal'!E7 -> 0 | D42: ='M. Cal'!E7 -> 0 | E42: ='M. Cal'!E7 -> 0
A43: C - Outros (especificar)
...

Sheet Canela 40h
A1: ANEXO III
A2: MODELO DE PROPOSTA E PLANILHA DE CUSTOS E FORMAÇÃO DE PREÇOS
C4: 44h | D4: 40h | E4: 30h
B5: Salário Normativo da Categoria: | C5: ='M. Cal'!C4 -> 0 | D5: ='M. Cal'!D4 -> 0 | E5: ='M. Cal'!E4 -> 0
B6: Data base da Categoria: | C6: ='M. Cal'!$D$1 -> 44197 | D6: ='M. Cal'!$D$1 -> 44197 | E6: ='M. Cal'!$D$1 -> 44197
B7: Convenção Coletiva: | C7: ='M. Cal'!$C$1 -> 0 | D7: ='M. Cal'!$C$1 -> 0 | E7: ='M. Cal'!$C$1 -> 0
B8: CBO/MTE: | C8: 5143-20 | D8: 5143-20 | E8: 5143-20
A10: CUSTOS | B10: Percentuais e Valores de Referência | C10: Servente 20% | D10: Servente 40% | E10: Servente COVID
A11: MÓDULO 1: COMPOSIÇÃO DA REMUNERAÇÃO
A12: 1 - Composição da Remuneração | B12: Percentuais | C12: Valor (R$) | D12: Valor (R$) | E12: Valor (R$)
A13: A – Salário Base 40 horas | C13: =D5 -> 0 | D13: =D5 -> 0 | E13: =E5 -> 0
A14: B - Adicional de Insalubridade (20) | B14: 0.2 | C14: =C13*B14 -> 0 | E14: =E13*B14 -> 0
A15: C - Adicional de Insalubridade (40) | B15: 0.4 | D15: =D13*B15 -> 0
A16: D - Adicional Noturno
A17: E - Adicional de Hora Noturna Reduzida
A18: F - Adicional de Hora Extra no Feriado Trabalhado
A19: E - Outros (especificar)
A20: Total | C20: =SUM(C13:C19) -> 0 | D20: =SUM(D13:D19) -> 0 | E20: =SUM(E13:E19) -> 0
A22: MÓDULO 2: ENCARGOS E BENEFÍCIOS ANUAIS, MENSAIS E DIÁRIOS
A23: 2.1 - 13º Salário, Férias e Adicional de Férias | B23: Percentuais | C23: Valor (R$) | D23: Valor (R$) | E23: Valor (R$)
A24: A - 13º salário | B24: 0.0833 | C24: =ROUND($B24*C$20,2) -> 0 | D24: =ROUND($B24*D$20,2) -> 0 | E24: =ROUND($B24*E$20,2) -> 0
A25: B - Férias | B25: 0
A26: C - Adicional de Férias | B26: 0.0278 | C26: =C20*B26 -> 0 | D26: =D20*B26 -> 0 | E26: =E20*B26 -> 0
A27: Total | B27: =SUM(B24:B26) -> 0.1111 | C27: =SUM(C24:C25) -> 0 | D27: =SUM(D24:D25) -> 0 | E27: =SUM(E24:E25) -> 0
A28: 2.2 - Encargos Previdenciários e FGTS | B28: Percentuais | C28: Valor (R$) | D28: Valor (R$) | E28: Valor (R$)
A29: 2.2.1 - GPS
A30: A - INSS | B30: 0.2 | C30: =ROUND(($C$20+$C$27)*B30,2) -> 0 | D30: =ROUND(($D$20+$D$27)*B30,2) -> 0 | E30: =ROUND(($E$20+$E$27)*B30,2) -> 0
A31: B - Salário Educação | B31: 0.025 | C31: =ROUND(($C$20+$C$27)*B31,2) -> 0 | D31: =ROUND(($D$20+$D$27)*B31,2) -> 0 | E31: =ROUND(($E$20+$E$27)*B31,2) -> 0
A32: C - SAT | B32: 0.0225 | C32: =ROUND(($C$20+$C$27)*B32,2) -> 0 | D32: =ROUND(($D$20+$D$27)*B32,2) -> 0 | E32: =ROUND(($E$20+$E$27)*B32,2) -> 0
A33: D - SESI ou SESC | B33: 0.015 | C33: =ROUND(($C$20+$C$27)*B33,2) -> 0 | D33: =ROUND(($D$20+$D$27)*B33,2) -> 0 | E33: =ROUND(($E$20+$E$27)*B33,2) -> 0
A34: E - SENAI ou SENAC | B34: 0.01 | C34: =ROUND(($C$20+$C$27)*B34,2) -> 0 | D34: =ROUND(($D$20+$D$27)*B34,2) -> 0 | E34: =ROUND(($E$20+$E$27)*B34,2) -> 0
A35: F - SEBRAE | B35: 0.006 | C35: =ROUND(($C$20+$C$27)*B35,2) -> 0 | D35: =ROUND(($D$20+$D$27)*B35,2) -> 0 | E35: =ROUND(($E$20+$E$27)*B35,2) -> 0
A36: G - INCRA | B36: 0.002 | C36: =ROUND(($C$20+$C$27)*B36,2) -> 0 | D36: =ROUND(($D$20+$D$27)*B36,2) -> 0 | E36: =ROUND(($E$20+$E$27)*B36,2) -> 0
A37: 2.2.2 - FGTS
A38: F - FGTS | B38: 0.08 | C38: =ROUND(($C$20+$C$27)*B38,2) -> 0 | D38: =ROUND(($D$20+$D$27)*B38,2) -> 0 | E38: =ROUND(($E$20+$E$27)*B38,2) -> 0
A39: Total | B39: =SUM(B29:B38) -> 0.3605 | C39: =SUM(C29:C38) -> 0 | D39: =SUM(D29:D38) -> 0 | E39: =SUM(E29:E38) -> 0
A40: 2.3 - Benefícios Mensais e Diários | B40: Valores | C40: Valor (R$) | D40: Valor (R$) | E40: Valor (R$)
A41: A - Transporte | B41: ='M. Cal'!M4 -> 0 | C41: =ROUND(((2*22*$B$41)-0.06*$D$5),2) -> 0 | D41: =ROUND(((2*22*$B$41)-0.06*$D$5),2) -> 0 | E41: =ROUND(((2*22*$B$41)-0.06*$E$5),2) -> 0
A42: B - Auxílio-Refeição/Alimentação ( COM DESCONTO DE 19% - CCT RS) | B42: 18.2 | C42: ='M. Cal'!E7 -> 0 | D42: ='M. Cal'!E7 -> 0 | E42: ='M. Cal'!E7 -> 0
A43: C - Outros (especificar)
...

Sheet Farroup 40h
A1: ANEXO III
A2: MODELO DE PROPOSTA E PLANILHA DE CUSTOS E FORMAÇÃO DE PREÇOS
C4: 44h | D4: 40h | E4: 30h
B5: Salário Normativo da Categoria: | C5: ='M. Cal'!C4 -> 0 | D5: ='M. Cal'!D4 -> 0 | E5: ='M. Cal'!E4 -> 0
B6: Data base da Categoria: | C6: ='M. Cal'!$D$1 -> 44197 | D6: ='M. Cal'!$D$1 -> 44197 | E6: ='M. Cal'!$D$1 -> 44197
B7: Convenção Coletiva: | C7: ='M. Cal'!$C$1 -> 0 | D7: ='M. Cal'!$C$1 -> 0 | E7: ='M. Cal'!$C$1 -> 0
B8: CBO/MTE: | C8: 5143-20 | D8: 5143-20 | E8: 5143-20
A10: CUSTOS | B10: Percentuais e Valores de Referência | C10: Servente 20% | D10: Servente 40% | E10: Servente COVID
A11: MÓDULO 1: COMPOSIÇÃO DA REMUNERAÇÃO
A12: 1 - Composição da Remuneração | B12: Percentuais | C12: Valor (R$) | D12: Valor (R$) | E12: Valor (R$)
A13: A – Salário Base 40 horas | C13: =D5 -> 0 | D13: =D5 -> 0 | E13: =E5 -> 0
A14: B - Adicional de Insalubridade (20) | B14: 0.2 | C14: =C13*B14 -> 0 | E14: =E13*B14 -> 0
A15: C - Adicional de Insalubridade (40) | B15: 0.4 | D15: =D13*B15 -> 0
A16: D - Adicional Noturno
A17: E - Adicional de Hora Noturna Reduzida
A18: F - Adicional de Hora Extra no Feriado Trabalhado
A19: E - Outros (especificar)
A20: Total | C20: =SUM(C13:C19) -> 0 | D20: =SUM(D13:D19) -> 0 | E20: =SUM(E13:E19) -> 0
A22: MÓDULO 2: ENCARGOS E BENEFÍCIOS ANUAIS, MENSAIS E DIÁRIOS
A23: 2.1 - 13º Salário, Férias e Adicional de Férias | B23: Percentuais | C23: Valor (R$) | D23: Valor (R$) | E23: Valor (R$)
A24: A - 13º salário | B24: 0.0833 | C24: =ROUND($B24*C$20,2) -> 0 | D24: =ROUND($B24*D$20,2) -> 0 | E24: =ROUND($B24*E$20,2) -> 0
A25: B - Férias | B25: 0
A26: C - Adicional de Férias | B26: 0.0278 | C26: =C20*B26 -> 0 | D26: =D20*B26 -> 0 | E26: =E20*B26 -> 0
A27: Total | B27: =SUM(B24:B26) -> 0.1111 | C27: =SUM(C24:C25) -> 0 | D27: =SUM(D24:D25) -> 0 | E27: =SUM(E24:E25) -> 0
A28: 2.2 - Encargos Previdenciários e FGTS | B28: Percentuais | C28: Valor (R$) | D28: Valor (R$) | E28: Valor (R$)
A29: 2.2.1 - GPS
A30: A - INSS | B30: 0.2 | C30: =ROUND(($C$20+$C$27)*B30,2) -> 0 | D30: =ROUND(($D$20+$D$27)*B30,2) -> 0 | E30: =ROUND(($E$20+$E$27)*B30,2) -> 0
A31: B - Salário Educação | B31: 0.025 | C31: =ROUND(($C$20+$C$27)*B31,2) -> 0 | D31: =ROUND(($D$20+$D$27)*B31,2) -> 0 | E31: =ROUND(($E$20+$E$27)*B31,2) -> 0
A32: C - SAT | B32: 0.0225 | C32: =ROUND(($C$20+$C$27)*B32,2) -> 0 | D32: =ROUND(($D$20+$D$27)*B32,2) -> 0 | E32: =ROUND(($E$20+$E$27)*B32,2) -> 0
A33: D - SESI ou SESC | B33: 0.015 | C33: =ROUND(($C$20+$C$27)*B33,2) -> 0 | D33: =ROUND(($D$20+$D$27)*B33,2) -> 0 | E33: =ROUND(($E$20+$E$27)*B33,2) -> 0
A34: E - SENAI ou SENAC | B34: 0.01 | C34: =ROUND(($C$20+$C$27)*B34,2) -> 0 | D34: =ROUND(($D$20+$D$27)*B34,2) -> 0 | E34: =ROUND(($E$20+$E$27)*B34,2) -> 0
A35: F - SEBRAE | B35: 0.006 | C35: =ROUND(($C$20+$C$27)*B35,2) -> 0 | D35: =ROUND(($D$20+$D$27)*B35,2) -> 0 | E35: =ROUND(($E$20+$E$27)*B35,2) -> 0
A36: G - INCRA | B36: 0.002 | C36: =ROUND(($C$20+$C$27)*B36,2) -> 0 | D36: =ROUND(($D$20+$D$27)*B36,2) -> 0 | E36: =ROUND(($E$20+$E$27)*B36,2) -> 0
A37: 2.2.2 - FGTS
A38: F - FGTS | B38: 0.08 | C38: =ROUND(($C$20+$C$27)*B38,2) -> 0 | D38: =ROUND(($D$20+$D$27)*B38,2) -> 0 | E38: =ROUND(($E$20+$E$27)*B38,2) -> 0
A39: Total | B39: =SUM(B29:B38) -> 0.3605 | C39: =SUM(C29:C38) -> 0 | D39: =SUM(D29:D38) -> 0 | E39: =SUM(E29:E38) -> 0
A40: 2.3 - Benefícios Mensais e Diários | B40: Valores | C40: Valor (R$) | D40: Valor (R$) | E40: Valor (R$)
A41: A - Transporte | B41: ='M. Cal'!M6 -> 0 | C41: =ROUND(((2*22*$B$41)-0.06*$D$5),2) -> 0 | D41: =ROUND(((2*22*$B$41)-0.06*$D$5),2) -> 0 | E41: =ROUND(((2*22*$B$41)-0.06*$E$5),2) -> 0
A42: B - Auxílio-Refeição/Alimentação ( COM DESCONTO DE 19% - CCT RS) | B42: 18.2 | C42: ='M. Cal'!E7 -> 0 | D42: ='M. Cal'!E7 -> 0 | E42: ='M. Cal'!E7 -> 0
A43: C - Outros (especificar)
...

Sheet Garib 40h
A1: ANEXO III
A2: MODELO DE PROPOSTA E PLANILHA DE CUSTOS E FORMAÇÃO DE PREÇOS
C4: 44h | D4: 40h | E4: 30h
B5: Salário Normativo da Categoria: | C5: ='M. Cal'!C4 -> 0 | D5: ='M. Cal'!D4 -> 0 | E5: ='M. Cal'!E4 -> 0
B6: Data base da Categoria: | C6: ='M. Cal'!$D$1 -> 44197 | D6: ='M. Cal'!$D$1 -> 44197 | E6: ='M. Cal'!$D$1 -> 44197
B7: Convenção Coletiva: | C7: ='M. Cal'!$C$1 -> 0 | D7: ='M. Cal'!$C$1 -> 0 | E7: ='M. Cal'!$C$1 -> 0
B8: CBO/MTE: | C8: 5143-20 | D8: 5143-20 | E8: 5143-20
A10: CUSTOS | B10: Percentuais e Valores de Referência | C10: Servente 20% | D10: Servente 40% | E10: Servente COVID
A11: MÓDULO 1: COMPOSIÇÃO DA REMUNERAÇÃO
A12: 1 - Composição da Remuneração | B12: Percentuais | C12: Valor (R$) | D12: Valor (R$) | E12: Valor (R$)
A13: A – Salário Base 40 horas | C13: =D5 -> 0 | D13: =D5 -> 0 | E13: =E5 -> 0
A14: B - Adicional de Insalubridade (20) | B14: 0.2 | C14: =C13*B14 -> 0 | E14: =E13*B14 -> 0
A15: C - Adicional de Insalubridade (40) | B15: 0.4 | D15: =D13*B15 -> 0
A16: D - Adicional Noturno
A17: E - Adicional de Hora Noturna Reduzida
A18: F - Adicional de Hora Extra no Feriado Trabalhado
A19: E - Outros (especificar)
A20: Total | C20: =SUM(C13:C19) -> 0 | D20: =SUM(D13:D19) -> 0 | E20: =SUM(E13:E19) -> 0
A22: MÓDULO 2: ENCARGOS E BENEFÍCIOS ANUAIS, MENSAIS E DIÁRIOS
A23: 2.1 - 13º Salário, Férias e Adicional de Férias | B23: Percentuais | C23: Valor (R$) | D23: Valor (R$) | E23: Valor (R$)
A24: A - 13º salário | B24: 0.0833 | C24: =ROUND($B24*C$20,2) -> 0 | D24: =ROUND($B24*D$20,2) -> 0 | E24: =ROUND($B24*E$20,2) -> 0
A25: B - Férias | B25: 0
A26: C - Adicional de Férias | B26: 0.0278 | C26: =C20*B26 -> 0 | D26: =D20*B26 -> 0 | E26: =E20*B26 -> 0
A27: Total | B27: =SUM(B24:B26) -> 0.1111 | C27: =SUM(C24:C25) -> 0 | D27: =SUM(D24:D25) -> 0 | E27: =SUM(E24:E25) -> 0
A28: 2.2 - Encargos Previdenciários e FGTS | B28: Percentuais | C28: Valor (R$) | D28: Valor (R$) | E28: Valor (R$)
A29: 2.2.1 - GPS
A30: A - INSS | B30: 0.2 | C30: =ROUND(($C$20+$C$27)*B30,2) -> 0 | D30: =ROUND(($D$20+$D$27)*B30,2) -> 0 | E30: =ROUND(($E$20+$E$27)*B30,2) -> 0
A31: B - Salário Educação | B31: 0.025 | C31: =ROUND(($C$20+$C$27)*B31,2) -> 0 | D31: =ROUND(($D$20+$D$27)*B31,2) -> 0 | E31: =ROUND(($E$20+$E$27)*B31,2) -> 0
A32: C - SAT | B32: 0.0225 | C32: =ROUND(($C$20+$C$27)*B32,2) -> 0 | D32: =ROUND(($D$20+$D$27)*B32,2) -> 0 | E32: =ROUND(($E$20+$E$27)*B32,2) -> 0
A33: D - SESI ou SESC | B33: 0.015 | C33: =ROUND(($C$20+$C$27)*B33,2) -> 0 | D33: =ROUND(($D$20+$D$27)*B33,2) -> 0 | E33: =ROUND(($E$20+$E$27)*B33,2) -> 0
A34: E - SENAI ou SENAC | B34: 0.01 | C34: =ROUND(($C$20+$C$27)*B34,2) -> 0 | D34: =ROUND(($D$20+$D$27)*B34,2) -> 0 | E34: =ROUND(($E$20+$E$27)*B34,2) -> 0
A35: F - SEBRAE | B35: 0.006 | C35: =ROUND(($C$20+$C$27)*B35,2) -> 0 | D35: =ROUND(($D$20+$D$27)*B35,2) -> 0 | E35: =ROUND(($E$20+$E$27)*B35,2) -> 0
A36: G - INCRA | B36: 0.002 | C36: =ROUND(($C$20+$C$27)*B36,2) -> 0 | D36: =ROUND(($D$20+$D$27)*B36,2) -> 0 | E36: =ROUND(($E$20+$E$27)*B36,2) -> 0
A37: 2.2.2 - FGTS
A38: F - FGTS | B38: 0.08 | C38: =ROUND(($C$20+$C$27)*B38,2) -> 0 | D38: =ROUND(($D$20+$D$27)*B38,2) -> 0 | E38: =ROUND(($E$20+$E$27)*B38,2) -> 0
A39: Total | B39: =SUM(B29:B38) -> 0.3605 | C39: =SUM(C29:C38) -> 0 | D39: =SUM(D29:D38) -> 0 | E39: =SUM(E29:E38) -> 0
A40: 2.3 - Benefícios Mensais e Diários | B40: Valores | C40: Valor (R$) | D40: Valor (R$) | E40: Valor (R$)
A41: A - Transporte | B41: ='M. Cal'!M7 -> 0 | C41: =ROUND(((2*22*$B$41)-0.06*$D$5),2) -> 0 | D41: =ROUND(((2*22*$B$41)-0.06*$D$5),2) -> 0 | E41: =ROUND(((2*22*$B$41)-0.06*$E$5),2) -> 0
A42: B - Auxílio-Refeição/Alimentação ( COM DESCONTO DE 19% - CCT RS) | B42: 18.2 | C42: ='M. Cal'!E7 -> 0 | D42: ='M. Cal'!E7 -> 0 | E42: ='M. Cal'!E7 -> 0
A43: C - Outros (especificar)
...

Sheet Vac 40h
A1: ANEXO III
A2: MODELO DE PROPOSTA E PLANILHA DE CUSTOS E FORMAÇÃO DE PREÇOS
C4: 44h | D4: 40h | E4: 30h
B5: Salário Normativo da Categoria: | C5: ='M. Cal'!C4 -> 0 | D5: ='M. Cal'!D4 -> 0 | E5: ='M. Cal'!E4 -> 0
B6: Data base da Categoria: | C6: ='M. Cal'!$D$1 -> 44197 | D6: ='M. Cal'!$D$1 -> 44197 | E6: ='M. Cal'!$D$1 -> 44197
B7: Convenção Coletiva: | C7: ='M. Cal'!$C$1 -> 0 | D7: ='M. Cal'!$C$1 -> 0 | E7: ='M. Cal'!$C$1 -> 0
B8: CBO/MTE: | C8: 5143-20 | D8: 5143-20 | E8: 5143-20
A10: CUSTOS | B10: Percentuais e Valores de Referência | C10: Servente 20% | D10: Servente 40% | E10: Servente COVID
A11: MÓDULO 1: COMPOSIÇÃO DA REMUNERAÇÃO
A12: 1 - Composição da Remuneração | B12: Percentuais | C12: Valor (R$) | D12: Valor (R$) | E12: Valor (R$)
A13: A – Salário Base 40 horas | C13: =D5 -> 0 | D13: =D5 -> 0 | E13: =E5 -> 0
A14: B - Adicional de Insalubridade (20) | B14: 0.2 | C14: =C13*B14 -> 0 | E14: =E13*B14 -> 0
A15: C - Adicional de Insalubridade (40) | B15: 0.4 | D15: =D13*B15 -> 0
A16: D - Adicional Noturno
A17: E - Adicional de Hora Noturna Reduzida
A18: F - Adicional de Hora Extra no Feriado Trabalhado
A19: E - Outros (especificar)
A20: Total | C20: =SUM(C13:C19) -> 0 | D20: =SUM(D13:D19) -> 0 | E20: =SUM(E13:E19) -> 0
A22: MÓDULO 2: ENCARGOS E BENEFÍCIOS ANUAIS, MENSAIS E DIÁRIOS
A23: 2.1 - 13º Salário, Férias e Adicional de Férias | B23: Percentuais | C23: Valor (R$) | D23: Valor (R$) | E23: Valor (R$)
A24: A - 13º salário | B24: 0.0833 | C24: =ROUND($B24*C$20,2) -> 0 | D24: =ROUND($B24*D$20,2) -> 0 | E24: =ROUND($B24*E$20,2) -> 0
A25: B - Férias | B25: 0
A26: C - Adicional de Férias | B26: 0.0278 | C26: =C20*B26 -> 0 | D26: =D20*B26 -> 0 | E26: =E20*B26 -> 0
A27: Total | B27: =SUM(B24:B26) -> 0.1111 | C27: =SUM(C24:C25) -> 0 | D27: =SUM(D24:D25) -> 0 | E27: =SUM(E24:E25) -> 0
A28: 2.2 - Encargos Previdenciários e FGTS | B28: Percentuais | C28: Valor (R$) | D28: Valor (R$) | E28: Valor (R$)
A29: 2.2.1 - GPS
A30: A - INSS | B30: 0.2 | C30: =ROUND(($C$20+$C$27)*B30,2) -> 0 | D30: =ROUND(($D$20+$D$27)*B30,2) -> 0 | E30: =ROUND(($E$20+$E$27)*B30,2) -> 0
A31: B - Salário Educação | B31: 0.025 | C31: =ROUND(($C$20+$C$27)*B31,2) -> 0 | D31: =ROUND(($D$20+$D$27)*B31,2) -> 0 | E31: =ROUND(($E$20+$E$27)*B31,2) -> 0
A32: C - SAT | B32: 0.0225 | C32: =ROUND(($C$20+$C$27)*B32,2) -> 0 | D32: =ROUND(($D$20+$D$27)*B32,2) -> 0 | E32: =ROUND(($E$20+$E$27)*B32,2) -> 0
A33: D - SESI ou SESC | B33: 0.015 | C33: =ROUND(($C$20+$C$27)*B33,2) -> 0 | D33: =ROUND(($D$20+$D$27)*B33,2) -> 0 | E33: =ROUND(($E$20+$E$27)*B33,2) -> 0
A34: E - SENAI ou SENAC | B34: 0.01 | C34: =ROUND(($C$20+$C$27)*B34,2) -> 0 | D34: =ROUND(($D$20+$D$27)*B34,2) -> 0 | E34: =ROUND(($E$20+$E$27)*B34,2) -> 0
A35: F - SEBRAE | B35: 0.006 | C35: =ROUND(($C$20+$C$27)*B35,2) -> 0 | D35: =ROUND(($D$20+$D$27)*B35,2) -> 0 | E35: =ROUND(($E$20+$E$27)*B35,2) -> 0
A36: G - INCRA | B36: 0.002 | C36: =ROUND(($C$20+$C$27)*B36,2) -> 0 | D36: =ROUND(($D$20+$D$27)*B36,2) -> 0 | E36: =ROUND(($E$20+$E$27)*B36,2) -> 0
A37: 2.2.2 - FGTS
A38: F - FGTS | B38: 0.08 | C38: =ROUND(($C$20+$C$27)*B38,2) -> 0 | D38: =ROUND(($D$20+$D$27)*B38,2) -> 0 | E38: =ROUND(($E$20+$E$27)*B38,2) -> 0
A39: Total | B39: =SUM(B29:B38) -> 0.3605 | C39: =SUM(C29:C38) -> 0 | D39: =SUM(D29:D38) -> 0 | E39: =SUM(E29:E38) -> 0
A40: 2.3 - Benefícios Mensais e Diários | B40: Valores | C40: Valor (R$) | D40: Valor (R$) | E40: Valor (R$)
A41: A - Transporte | B41: ='M. Cal'!M8 -> 0 | C41: =ROUND(((2*22*$B$41)-0.06*$D$5),2) -> 0 | D41: =ROUND(((2*22*$B$41)-0.06*$D$5),2) -> 0 | E41: =ROUND(((2*22*$B$41)-0.06*$E$5),2) -> 0
A42: B - Auxílio-Refeição/Alimentação ( COM DESCONTO DE 19% - CCT RS) | B42: 18.2 | C42: ='M. Cal'!E7 -> 0 | D42: ='M. Cal'!E7 -> 0 | E42: ='M. Cal'!E7 -> 0
A43: C - Outros (especificar)
...

Sheet Veran 40h
A1: ANEXO III
A2: MODELO DE PROPOSTA E PLANILHA DE CUSTOS E FORMAÇÃO DE PREÇOS
C4: 44h | D4: 40h | E4: 30h
B5: Salário Normativo da Categoria: | C5: ='M. Cal'!C4 -> 0 | D5: ='M. Cal'!D4 -> 0 | E5: ='M. Cal'!E4 -> 0
B6: Data base da Categoria: | C6: ='M. Cal'!$D$1 -> 44197 | D6: ='M. Cal'!$D$1 -> 44197 | E6: ='M. Cal'!$D$1 -> 44197
B7: Convenção Coletiva: | C7: ='M. Cal'!$C$1 -> 0 | D7: ='M. Cal'!$C$1 -> 0 | E7: ='M. Cal'!$C$1 -> 0
B8: CBO/MTE: | C8: 5143-20 | D8: 5143-20 | E8: 5143-20
A10: CUSTOS | B10: Percentuais e Valores de Referência | C10: Servente 20% | D10: Servente 40% | E10: Servente COVID
A11: MÓDULO 1: COMPOSIÇÃO DA REMUNERAÇÃO
A12: 1 - Composição da Remuneração | B12: Percentuais | C12: Valor (R$) | D12: Valor (R$) | E12: Valor (R$)
A13: A – Salário Base 40 horas | C13: =D5 -> 0 | D13: =D5 -> 0 | E13: =E5 -> 0
A14: B - Adicional de Insalubridade (20) | B14: 0.2 | C14: =C13*B14 -> 0 | E14: =E13*B14 -> 0
A15: C - Adicional de Insalubridade (40) | B15: 0.4 | D15: =D13*B15 -> 0
A16: D - Adicional Noturno
A17: E - Adicional de Hora Noturna Reduzida
A18: F - Adicional de Hora Extra no Feriado Trabalhado
A19: E - Outros (especificar)
A20: Total | C20: =SUM(C13:C19) -> 0 | D20: =SUM(D13:D19) -> 0 | E20: =SUM(E13:E19) -> 0
A22: MÓDULO 2: ENCARGOS E BENEFÍCIOS ANUAIS, MENSAIS E DIÁRIOS
A23: 2.1 - 13º Salário, Férias e Adicional de Férias | B23: Percentuais | C23: Valor (R$) | D23: Valor (R$) | E23: Valor (R$)
A24: A - 13º salário | B24: 0.0833 | C24: =ROUND($B24*C$20,2) -> 0 | D24: =ROUND($B24*D$20,2) -> 0 | E24: =ROUND($B24*E$20,2) -> 0
A25: B - Férias | B25: 0
A26: C - Adicional de Férias | B26: 0.0278 | C26: =C20*B26 -> 0 | D26: =D20*B26 -> 0 | E26: =E20*B26 -> 0
A27: Total | B27: =SUM(B24:B26) -> 0.1111 | C27: =SUM(C24:C25) -> 0 | D27: =SUM(D24:D25) -> 0 | E27: =SUM(E24:E25) -> 0
A28: 2.2 - Encargos Previdenciários e FGTS | B28: Percentuais | C28: Valor (R$) | D28: Valor (R$) | E28: Valor (R$)
A29: 2.2.1 - GPS
A30: A - INSS | B30: 0.2 | C30: =ROUND(($C$20+$C$27)*B30,2) -> 0 | D30: =ROUND(($D$20+$D$27)*B30,2) -> 0 | E30: =ROUND(($E$20+$E$27)*B30,2) -> 0
A31: B - Salário Educação | B31: 0.025 | C31: =ROUND(($C$20+$C$27)*B31,2) -> 0 | D31: =ROUND(($D$20+$D$27)*B31,2) -> 0 | E31: =ROUND(($E$20+$E$27)*B31,2) -> 0
A32: C - SAT | B32: 0.0225 | C32: =ROUND(($C$20+$C$27)*B32,2) -> 0 | D32: =ROUND(($D$20+$D$27)*B32,2) -> 0 | E32: =ROUND(($E$20+$E$27)*B32,2) -> 0
A33: D - SESI ou SESC | B33: 0.015 | C33: =ROUND(($C$20+$C$27)*B33,2) -> 0 | D33: =ROUND(($D$20+$D$27)*B33,2) -> 0 | E33: =ROUND(($E$20+$E$27)*B33,2) -> 0
A34: E - SENAI ou SENAC | B34: 0.01 | C34: =ROUND(($C$20+$C$27)*B34,2) -> 0 | D34: =ROUND(($D$20+$D$27)*B34,2) -> 0 | E34: =ROUND(($E$20+$E$27)*B34,2) -> 0
A35: F - SEBRAE | B35: 0.006 | C35: =ROUND(($C$20+$C$27)*B35,2) -> 0 | D35: =ROUND(($D$20+$D$27)*B35,2) -> 0 | E35: =ROUND(($E$20+$E$27)*B35,2) -> 0
A36: G - INCRA | B36: 0.002 | C36: =ROUND(($C$20+$C$27)*B36,2) -> 0 | D36: =ROUND(($D$20+$D$27)*B36,2) -> 0 | E36: =ROUND(($E$20+$E$27)*B36,2) -> 0
A37: 2.2.2 - FGTS
A38: F - FGTS | B38: 0.08 | C38: =ROUND(($C$20+$C$27)*B38,2) -> 0 | D38: =ROUND(($D$20+$D$27)*B38,2) -> 0 | E38: =ROUND(($E$20+$E$27)*B38,2) -> 0
A39: Total | B39: =SUM(B29:B38) -> 0.3605 | C39: =SUM(C29:C38) -> 0 | D39: =SUM(D29:D38) -> 0 | E39: =SUM(E29:E38) -> 0
A40: 2.3 - Benefícios Mensais e Diários | B40: Valores | C40: Valor (R$) | D40: Valor (R$) | E40: Valor (R$)
A41: A - Transporte | B41: ='M. Cal'!M9 -> 0 | C41: =ROUND(((2*22*$B$41)-0.06*$D$5),2) -> 0 | D41: =ROUND(((2*22*$B$41)-0.06*$D$5),2) -> 0 | E41: =ROUND(((2*22*$B$41)-0.06*$E$5),2) -> 0
A42: B - Auxílio-Refeição/Alimentação ( COM DESCONTO DE 19% - CCT RS) | B42: 18.2 | C42: ='M. Cal'!E7 -> 0 | D42: ='M. Cal'!E7 -> 0 | E42: ='M. Cal'!E7 -> 0
A43: C - Outros (especificar)
...

Sheet N. Prata 40h
A1: ANEXO III
A2: MODELO DE PROPOSTA E PLANILHA DE CUSTOS E FORMAÇÃO DE PREÇOS
C4: 44h | D4: 40h | E4: 30h
B5: Salário Normativo da Categoria: | C5: ='M. Cal'!C4 -> 0 | D5: ='M. Cal'!D4 -> 0 | E5: ='M. Cal'!E4 -> 0
B6: Data base da Categoria: | C6: ='M. Cal'!$D$1 -> 44197 | D6: ='M. Cal'!$D$1 -> 44197 | E6: ='M. Cal'!$D$1 -> 44197
B7: Convenção Coletiva: | C7: ='M. Cal'!$C$1 -> 0 | D7: ='M. Cal'!$C$1 -> 0 | E7: ='M. Cal'!$C$1 -> 0
B8: CBO/MTE: | C8: 5143-20 | D8: 5143-20 | E8: 5143-20
A10: CUSTOS | B10: Percentuais e Valores de Referência | C10: Servente 20% | D10: Servente 40% | E10: Servente COVID
A11: MÓDULO 1: COMPOSIÇÃO DA REMUNERAÇÃO
A12: 1 - Composição da Remuneração | B12: Percentuais | C12: Valor (R$) | D12: Valor (R$) | E12: Valor (R$)
A13: A – Salário Base 40 horas | C13: =D5 -> 0 | D13: =D5 -> 0 | E13: =E5 -> 0
A14: B - Adicional de Insalubridade (20) | B14: 0.2 | C14: =C13*B14 -> 0 | E14: =E13*B14 -> 0
A15: C - Adicional de Insalubridade (40) | B15: 0.4 | D15: =D13*B15 -> 0
A16: D - Adicional Noturno
A17: E - Adicional de Hora Noturna Reduzida
A18: F - Adicional de Hora Extra no Feriado Trabalhado
A19: E - Outros (especificar)
A20: Total | C20: =SUM(C13:C19) -> 0 | D20: =SUM(D13:D19) -> 0 | E20: =SUM(E13:E19) -> 0
A22: MÓDULO 2: ENCARGOS E BENEFÍCIOS ANUAIS, MENSAIS E DIÁRIOS
A23: 2.1 - 13º Salário, Férias e Adicional de Férias | B23: Percentuais | C23: Valor (R$) | D23: Valor (R$) | E23: Valor (R$)
A24: A - 13º salário | B24: 0.0833 | C24: =ROUND($B24*C$20,2) -> 0 | D24: =ROUND($B24*D$20,2) -> 0 | E24: =ROUND($B24*E$20,2) -> 0
A25: B - Férias | B25: 0
A26: C - Adicional de Férias | B26: 0.0278 | C26: =C20*B26 -> 0 | D26: =D20*B26 -> 0 | E26: =E20*B26 -> 0
A27: Total | B27: =SUM(B24:B26) -> 0.1111 | C27: =SUM(C24:C25) -> 0 | D27: =SUM(D24:D25) -> 0 | E27: =SUM(E24:E25) -> 0
A28: 2.2 - Encargos Previdenciários e FGTS | B28: Percentuais | C28: Valor (R$) | D28: Valor (R$) | E28: Valor (R$)
A29: 2.2.1 - GPS
A30: A - INSS | B30: 0.2 | C30: =ROUND(($C$20+$C$27)*B30,2) -> 0 | D30: =ROUND(($D$20+$D$27)*B30,2) -> 0 | E30: =ROUND(($E$20+$E$27)*B30,2) -> 0
A31: B - Salário Educação | B31: 0.025 | C31: =ROUND(($C$20+$C$27)*B31,2) -> 0 | D31: =ROUND(($D$20+$D$27)*B31,2) -> 0 | E31: =ROUND(($E$20+$E$27)*B31,2) -> 0
A32: C - SAT | B32: 0.0225 | C32: =ROUND(($C$20+$C$27)*B32,2) -> 0 | D32: =ROUND(($D$20+$D$27)*B32,2) -> 0 | E32: =ROUND(($E$20+$E$27)*B32,2) -> 0
A33: D - SESI ou SESC | B33: 0.015 | C33: =ROUND(($C$20+$C$27)*B33,2) -> 0 | D33: =ROUND(($D$20+$D$27)*B33,2) -> 0 | E33: =ROUND(($E$20+$E$27)*B33,2) -> 0
A34: E - SENAI ou SENAC | B34: 0.01 | C34: =ROUND(($C$20+$C$27)*B34,2) -> 0 | D34: =ROUND(($D$20+$D$27)*B34,2) -> 0 | E34: =ROUND(($E$20+$E$27)*B34,2) -> 0
A35: F - SEBRAE | B35: 0.006 | C35: =ROUND(($C$20+$C$27)*B35,2) -> 0 | D35: =ROUND(($D$20+$D$27)*B35,2) -> 0 | E35: =ROUND(($E$20+$E$27)*B35,2) -> 0
A36: G - INCRA | B36: 0.002 | C36: =ROUND(($C$20+$C$27)*B36,2) -> 0 | D36: =ROUND(($D$20+$D$27)*B36,2) -> 0 | E36: =ROUND(($E$20+$E$27)*B36,2) -> 0
A37: 2.2.2 - FGTS
A38: F - FGTS | B38: 0.08 | C38: =ROUND(($C$20+$C$27)*B38,2) -> 0 | D38: =ROUND(($D$20+$D$27)*B38,2) -> 0 | E38: =ROUND(($E$20+$E$27)*B38,2) -> 0
A39: Total | B39: =SUM(B29:B38) -> 0.3605 | C39: =SUM(C29:C38) -> 0 | D39: =SUM(D29:D38) -> 0 | E39: =SUM(E29:E38) -> 0
A40: 2.3 - Benefícios Mensais e Diários | B40: Valores | C40: Valor (R$) | D40: Valor (R$) | E40: Valor (R$)
A41: A - Transporte | B41: ='M. Cal'!M10 -> 0 | C41: =ROUND(((2*22*$B$41)-0.06*$D$5),2) -> 0 | D41: =ROUND(((2*22*$B$41)-0.06*$D$5),2) -> 0 | E41: =ROUND(((2*22*$B$41)-0.06*$E$5),2) -> 0
A42: B - Auxílio-Refeição/Alimentação ( COM DESCONTO DE 19% - CCT RS) | B42: 18.2 | C42: ='M. Cal'!E7 -> 0 | D42: ='M. Cal'!E7 -> 0 | E42: ='M. Cal'!E7 -> 0
A43: C - Outros (especificar)
...

Sheet C. Barb 40h
A1: ANEXO III
A2: MODELO DE PROPOSTA E PLANILHA DE CUSTOS E FORMAÇÃO DE PREÇOS
C4: 44h | D4: 40h | E4: 30h
B5: Salário Normativo da Categoria: | C5: ='M. Cal'!C4 -> 0 | D5: ='M. Cal'!D4 -> 0 | E5: ='M. Cal'!E4 -> 0
B6: Data base da Categoria: | C6: ='M. Cal'!$D$1 -> 44197 | D6: ='M. Cal'!$D$1 -> 44197 | E6: ='M. Cal'!$D$1 -> 44197
B7: Convenção Coletiva: | C7: ='M. Cal'!$C$1 -> 0 | D7: ='M. Cal'!$C$1 -> 0 | E7: ='M. Cal'!$C$1 -> 0
B8: CBO/MTE: | C8: 5143-20 | D8: 5143-20 | E8: 5143-20
A10: CUSTOS | B10: Percentuais e Valores de Referência | C10: Servente 20% | D10: Servente 40% | E10: Servente COVID
A11: MÓDULO 1: COMPOSIÇÃO DA REMUNERAÇÃO
A12: 1 - Composição da Remuneração | B12: Percentuais | C12: Valor (R$) | D12: Valor (R$) | E12: Valor (R$)
A13: A – Salário Base 40 horas | C13: =D5 -> 0 | D13: =D5 -> 0 | E13: =E5 -> 0
A14: B - Adicional de Insalubridade (20) | B14: 0.2 | C14: =C13*B14 -> 0 | E14: =E13*B14 -> 0
A15: C - Adicional de Insalubridade (40) | B15: 0.4 | D15: =D13*B15 -> 0
A16: D - Adicional Noturno
A17: E - Adicional de Hora Noturna Reduzida
A18: F - Adicional de Hora Extra no Feriado Trabalhado
A19: E - Outros (especificar)
A20: Total | C20: =SUM(C13:C19) -> 0 | D20: =SUM(D13:D19) -> 0 | E20: =SUM(E13:E19) -> 0
A22: MÓDULO 2: ENCARGOS E BENEFÍCIOS ANUAIS, MENSAIS E DIÁRIOS
A23: 2.1 - 13º Salário, Férias e Adicional de Férias | B23: Percentuais | C23: Valor (R$) | D23: Valor (R$) | E23: Valor (R$)
A24: A - 13º salário | B24: 0.0833 | C24: =ROUND($B24*C$20,2) -> 0 | D24: =ROUND($B24*D$20,2) -> 0 | E24: =ROUND($B24*E$20,2) -> 0
A25: B - Férias | B25: 0
A26: C - Adicional de Férias | B26: 0.0278 | C26: =C20*B26 -> 0 | D26: =D20*B26 -> 0 | E26: =E20*B26 -> 0
A27: Total | B27: =SUM(B24:B26) -> 0.1111 | C27: =SUM(C24:C25) -> 0 | D27: =SUM(D24:D25) -> 0 | E27: =SUM(E24:E25) -> 0
A28: 2.2 - Encargos Previdenciários e FGTS | B28: Percentuais | C28: Valor (R$) | D28: Valor (R$) | E28: Valor (R$)
A29: 2.2.1 - GPS
A30: A - INSS | B30: 0.2 | C30: =ROUND(($C$20+$C$27)*B30,2) -> 0 | D30: =ROUND(($D$20+$D$27)*B30,2) -> 0 | E30: =ROUND(($E$20+$E$27)*B30,2) -> 0
A31: B - Salário Educação | B31: 0.025 | C31: =ROUND(($C$20+$C$27)*B31,2) -> 0 | D31: =ROUND(($D$20+$D$27)*B31,2) -> 0 | E31: =ROUND(($E$20+$E$27)*B31,2) -> 0
A32: C - SAT | B32: 0.0225 | C32: =ROUND(($C$20+$C$27)*B32,2) -> 0 | D32: =ROUND(($D$20+$D$27)*B32,2) -> 0 | E32: =ROUND(($E$20+$E$27)*B32,2) -> 0
A33: D - SESI ou SESC | B33: 0.015 | C33: =ROUND(($C$20+$C$27)*B33,2) -> 0 | D33: =ROUND(($D$20+$D$27)*B33,2) -> 0 | E33: =ROUND(($E$20+$E$27)*B33,2) -> 0
A34: E - SENAI ou SENAC | B34: 0.01 | C34: =ROUND(($C$20+$C$27)*B34,2) -> 0 | D34: =ROUND(($D$20+$D$27)*B34,2) -> 0 | E34: =ROUND(($E$20+$E$27)*B34,2) -> 0
A35: F - SEBRAE | B35: 0.006 | C35: =ROUND(($C$20+$C$27)*B35,2) -> 0 | D35: =ROUND(($D$20+$D$27)*B35,2) -> 0 | E35: =ROUND(($E$20+$E$27)*B35,2) -> 0
A36: G - INCRA | B36: 0.002 | C36: =ROUND(($C$20+$C$27)*B36,2) -> 0 | D36: =ROUND(($D$20+$D$27)*B36,2) -> 0 | E36: =ROUND(($E$20+$E$27)*B36,2) -> 0
A37: 2.2.2 - FGTS
A38: F - FGTS | B38: 0.08 | C38: =ROUND(($C$20+$C$27)*B38,2) -> 0 | D38: =ROUND(($D$20+$D$27)*B38,2) -> 0 | E38: =ROUND(($E$20+$E$27)*B38,2) -> 0
A39: Total | B39: =SUM(B29:B38) -> 0.3605 | C39: =SUM(C29:C38) -> 0 | D39: =SUM(D29:D38) -> 0 | E39: =SUM(E29:E38) -> 0
A40: 2.3 - Benefícios Mensais e Diários | B40: Valores | C40: Valor (R$) | D40: Valor (R$) | E40: Valor (R$)
A41: A - Transporte | B41: ='M. Cal'!M11 -> 0 | C41: =ROUND(((2*22*$B$41)-0.06*$D$5),2) -> 0 | D41: =ROUND(((2*22*$B$41)-0.06*$D$5),2) -> 0 | E41: =ROUND(((2*22*$B$41)-0.06*$E$5),2) -> 0
A42: B - Auxílio-Refeição/Alimentação ( COM DESCONTO DE 19% - CCT RS) | B42: 18.2 | C42: ='M. Cal'!E7 -> 0 | D42: ='M. Cal'!E7 -> 0 | E42: ='M. Cal'!E7 -> 0
A43: C - Outros (especificar)
...

Sheet F. Cun 40h
A1: ANEXO III
A2: MODELO DE PROPOSTA E PLANILHA DE CUSTOS E FORMAÇÃO DE PREÇOS
C4: 44h | D4: 40h | E4: 30h
B5: Salário Normativo da Categoria: | C5: ='M. Cal'!C4 -> 0 | D5: ='M. Cal'!D4 -> 0 | E5: ='M. Cal'!E4 -> 0
B6: Data base da Categoria: | C6: ='M. Cal'!$D$1 -> 44197 | D6: ='M. Cal'!$D$1 -> 44197 | E6: ='M. Cal'!$D$1 -> 44197
B7: Convenção Coletiva: | C7: ='M. Cal'!$C$1 -> 0 | D7: ='M. Cal'!$C$1 -> 0 | E7: ='M. Cal'!$C$1 -> 0
B8: CBO/MTE: | C8: 5143-20 | D8: 5143-20 | E8: 5143-20
A10: CUSTOS | B10: Percentuais e Valores de Referência | C10: Servente 20% | D10: Servente 40% | E10: Servente COVID
A11: MÓDULO 1: COMPOSIÇÃO DA REMUNERAÇÃO
A12: 1 - Composição da Remuneração | B12: Percentuais | C12: Valor (R$) | D12: Valor (R$) | E12: Valor (R$)
A13: A – Salário Base 40 horas | C13: =D5 -> 0 | D13: =D5 -> 0 | E13: =E5 -> 0
A14: B - Adicional de Insalubridade (20) | B14: 0.2 | C14: =C13*B14 -> 0 | E14: =E13*B14 -> 0
A15: C - Adicional de Insalubridade (40) | B15: 0.4 | D15: =D13*B15 -> 0
A16: D - Adicional Noturno
A17: E - Adicional de Hora Noturna Reduzida
A18: F - Adicional de Hora Extra no Feriado Trabalhado
A19: E - Outros (especificar)
A20: Total | C20: =SUM(C13:C19) -> 0 | D20: =SUM(D13:D19) -> 0 | E20: =SUM(E13:E19) -> 0
A22: MÓDULO 2: ENCARGOS E BENEFÍCIOS ANUAIS, MENSAIS E DIÁRIOS
A23: 2.1 - 13º Salário, Férias e Adicional de Férias | B23: Percentuais | C23: Valor (R$) | D23: Valor (R$) | E23: Valor (R$)
A24: A - 13º salário | B24: 0.0833 | C24: =ROUND($B24*C$20,2) -> 0 | D24: =ROUND($B24*D$20,2) -> 0 | E24: =ROUND($B24*E$20,2) -> 0
A25: B - Férias | B25: 0
A26: C - Adicional de Férias | B26: 0.0278 | C26: =C20*B26 -> 0 | D26: =D20*B26 -> 0 | E26: =E20*B26 -> 0
A27: Total | B27: =SUM(B24:B26) -> 0.1111 | C27: =SUM(C24:C25) -> 0 | D27: =SUM(D24:D25) -> 0 | E27: =SUM(E24:E25) -> 0
A28: 2.2 - Encargos Previdenciários e FGTS | B28: Percentuais | C28: Valor (R$) | D28: Valor (R$) | E28: Valor (R$)
A29: 2.2.1 - GPS
A30: A - INSS | B30: 0.2 | C30: =ROUND(($C$20+$C$27)*B30,2) -> 0 | D30: =ROUND(($D$20+$D$27)*B30,2) -> 0 | E30: =ROUND(($E$20+$E$27)*B30,2) -> 0
A31: B - Salário Educação | B31: 0.025 | C31: =ROUND(($C$20+$C$27)*B31,2) -> 0 | D31: =ROUND(($D$20+$D$27)*B31,2) -> 0 | E31: =ROUND(($E$20+$E$27)*B31,2) -> 0
A32: C - SAT | B32: 0.0225 | C32: =ROUND(($C$20+$C$27)*B32,2) -> 0 | D32: =ROUND(($D$20+$D$27)*B32,2) -> 0 | E32: =ROUND(($E$20+$E$27)*B32,2) -> 0
A33: D - SESI ou SESC | B33: 0.015 | C33: =ROUND(($C$20+$C$27)*B33,2) -> 0 | D33: =ROUND(($D$20+$D$27)*B33,2) -> 0 | E33: =ROUND(($E$20+$E$27)*B33,2) -> 0
A34: E - SENAI ou SENAC | B34: 0.01 | C34: =ROUND(($C$20+$C$27)*B34,2) -> 0 | D34: =ROUND(($D$20+$D$27)*B34,2) -> 0 | E34: =ROUND(($E$20+$E$27)*B34,2) -> 0
A35: F - SEBRAE | B35: 0.006 | C35: =ROUND(($C$20+$C$27)*B35,2) -> 0 | D35: =ROUND(($D$20+$D$27)*B35,2) -> 0 | E35: =ROUND(($E$20+$E$27)*B35,2) -> 0
A36: G - INCRA | B36: 0.002 | C36: =ROUND(($C$20+$C$27)*B36,2) -> 0 | D36: =ROUND(($D$20+$D$27)*B36,2) -> 0 | E36: =ROUND(($E$20+$E$27)*B36,2) -> 0
A37: 2.2.2 - FGTS
A38: F - FGTS | B38: 0.08 | C38: =ROUND(($C$20+$C$27)*B38,2) -> 0 | D38: =ROUND(($D$20+$D$27)*B38,2) -> 0 | E38: =ROUND(($E$20+$E$27)*B38,2) -> 0
A39: Total | B39: =SUM(B29:B38) -> 0.3605 | C39: =SUM(C29:C38) -> 0 | D39: =SUM(D29:D38) -> 0 | E39: =SUM(E29:E38) -> 0
A40: 2.3 - Benefícios Mensais e Diários | B40: Valores | C40: Valor (R$) | D40: Valor (R$) | E40: Valor (R$)
A41: A - Transporte | B41: ='M. Cal'!M12 -> 0 | C41: =ROUND(((2*22*$B$41)-0.06*$D$5),2) -> 0 | D41: =ROUND(((2*22*$B$41)-0.06*$D$5),2) -> 0 | E41: =ROUND(((2*22*$B$41)-0.06*$E$5),2) -> 0
A42: B - Auxílio-Refeição/Alimentação ( COM DESCONTO DE 19% - CCT RS) | B42: 18.2 | C42: ='M. Cal'!E7 -> 0 | D42: ='M. Cal'!E7 -> 0 | E42: ='M. Cal'!E7 -> 0
A43: C - Outros (especificar)
...

Sheet M. Cal
B1: CCT | C1: RS000078/2021 | D1: 44197 | K1: Unidade Orgânica | L1: ISS | M1: VT
C2: Carga horária semanal | K2: GERÊNCIA EXECUTIVA CAXIAS DO SUL
C3: 44 | D3: 40 | E3: 30 | F3: =D4*C5 -> 0 | K3: APS BENTO GONÇALVES
B4: Salário Base | D4: =C4/C3*D3 -> 0 | E4: =C4/C3*E3 -> 0 | F4: =E4*C5 -> 0 | K4: APS CANELA
B5: Encarregado | C5: 0.4012 | D5: =D4+F3 -> 0 | E5: =E4+F4 -> 0 | K5: APS CAXIAS DO SUL
D6: custo empregado | E6: custo da empresa | K6: APS FARROUPILHA
B7: Auxílio alimentação | D7: 0.19 | E7: =ROUND(C7*0.81*22,2) -> 0 | K7: APS GARIBALDI
B8: Auxílio transporte | D8: 0.06 | K8: APS VACARIA
J9: Lucro | K9: APS VERANÓPOLIS
D10: 3.1 | J10: 0.0679 | K10: APS NOVA PRATA
B11: módulo 3 | D11: Aviso prévio indenizado | G11: multa FGTS | K11: APS CARLOS BARBOSA
B12: 3.1 Indenizado | C12: 0.3387 | D12: BC | E12: Provisionamento | F12: Valor | G12: BC | H12: % multa | I12: valor | K12: APS FLORES DA CUNHA
B13: 3.2 Trabalhado | C13: 0.3387 | D13: Mod 1+Mod 2 (sem GPS) | E13: 12 | F13: D/E | G13: FGTS na planilha | H13: 0.4 | I13: G*H | K13: CEDOCPREV CAXIAS
B14: 3.3. Justa Causa | C14: 0.0277
D15: Custo aviso prévio indenizado
D16: BC | E16: Percentual | F16: Valor | G16: =67.74/12 -> 5.645
D17: F11+I11 | E17: 0.3387 | F17: D*E
D20: 3.2
D21: Aviso prévio trabalhado | G21: multa FGTS
D22: BC | E22: Provisionamento | F22: Valor | G22: BC | H22: % multa | I22: valor
D23: Mod 1+ Mod 2 | E23: 12 | F23: D/E | G23: FGTS na planilha | H23: 0.4 | I23: G*H
D25: Custo aviso prévio trabalhado
D26: BC | E26: Percentual | F26: Valor
D27: F21+I21 | E27: 0.3387 | F27: D*E
D30: 3.3
D31: Demissões por justa causa
D32: provisão 13º | E32: provisão férias | F32: provisão 1/3 | G32: valor
D33: (-) | E33: (-) | F33: (-) | G33: D+E+F (-)
D35: Custo da demissão com justa causa
D36: BC | E36: Percentual | F36: valor
D37: G31 | E37: 0.0277 | F37: D*E
D39: Total módulo 3
D40: 3.1 | E40: 3.2 | F40: 3.3 | G40: Total
D41: F15 | E41: F25 | F41: F35 | G41: D+E+F
B44: módulo 4
B45: 2021 | C45: 253 | D45: dias úteis
