Workbook

Sheet Resumo Polo V
B1: GRUPO 05 / POLO V
G3: =B1 -> GRUPO 05 / POLO V
G4: ITEM | H4: CATSER | I4: ESPECIFICAÇÃO | N4: VALOR MENSAL | P4: VALOR 36 MESES
G5: 21 | H5: 23507 | I5: Posto de vigilância diurno, escala 44 horas semanais de segunda a sexta-feira envolvendo 1 vigilante, para Gerências Executivas Araçatuba, Bauru, Marília, Sorocaba e Presidente Prudente, e unidades subordinadas | N5: =F39+F62+F81+F99+F126 -> 1159375.3 | P5: =N5*36 -> 41737512
G6: 22 | H6: 23647 | I6: Posto de vigilância diurno, escala 12x36 horas de segunda-feira a domingo envolvendo 2 vigilantes, para Gerências Executivas Araçatuba, Bauru, Marília, Sorocaba e Presidente Prudente, e unidades subordinadas | N6: =I39+I62+I81+I99+I126 -> 270478.4 | P6: =N6*36 -> 9737222.3
G7: 23 | H7: 23957 | I7: Posto de vigilância noturno, escala 12x36 horas de segunda-feira a domingo envolvendo 2 vigilantes, para Gerências Executivas Araçatuba, Bauru, Marília, Sorocaba e Presidente Prudente, e unidades subordinadas | N7: =L39+L62+L81+L99+L126 -> 90080.11 | P7: =N7*36 -> 3242884
G8: 24 | H8: 23507 | I8: Hora eventual diurna, para Gerências Executivas Araçatuba, Bauru, Marília, Sorocaba e Presidente Prudente, e unidades subordinadas | N8: =O39+O62+O81+O99+O126 -> 11735.531 | P8: =N8*36 -> 422479.11
G9: 25 | H9: 23957 | I9: Hora eventual noturna, para Gerências Executivas Araçatuba, Bauru, Marília, Sorocaba e Presidente Prudente, e unidades subordinadas | N9: =R39+R62+R81+R99+R126 -> 1445.5075 | P9: =N9*36 -> 52038.271
G10: VALOR TOTAL MENSAL | N10: =SUM(N5:N9) -> 1533114.9
G11: VALOR TOTAL GLOBAL 36 MESES | N11: =SUM(P5:Q9) -> 55192136
G14: DIVISÃO POR GERÊNCIAS POLO V
G15: GERÊNCIA EXECUTIVA | J15: VALOR MENSAL | N15: ESCALA DE TRABALHO | R15: QUANTIDADE DE POSTOS
G16: =B23 -> GERÊNCIA EXECUTIVA ARAÇATUBA | J16: =S39 -> 200640.14 | N16: 44 horas semanais de segunda a sexta-feira | R16: =D39+D62+D81+D99+D126 -> 146
G17: =B42 -> GERÊNCIA EXECUTIVA BAURU | J17: =S62 -> 368442.73 | N17: 12x36 horas diurnas de segunda-feira a domingo | R17: =G39+G62+G81+G99+G126 -> 17
G18: =B65 -> GERÊNCIA EXECUTIVA MARÍLIA | J18: =S81 -> 276905.72 | N18: 12x36 horas noturnas de segunda-feira a domingo | R18: =J39+J62+J81+J99+J126 -> 5
G19: =B84 -> GERÊNCIA EXECUTIVA PRESIDENTE PRUDENTE | J19: =S99 -> 245104.29
G20: =B102 -> GERÊNCIA EXECUTIVA SOROCABA | J20: =S126 -> 442021.99 | N20: HORAS EVENTUAIS | R20: QUANTIDADE DE HORAS
G21: VALOR GLOBAL MENSAL | J21: =SUM(J16:J20) -> 1533114.9 | N21: horas eventuais diurnas | R21: =M39+M62+M81+M99+M126 -> 325
G22: VALOR GLOBAL 36 MESES | J22: =J21*36 -> 55192136 | N22: horas eventuais noturnas | R22: =P39+P62+P81+P99+P126 -> 35
B23: GERÊNCIA EXECUTIVA ARAÇATUBA
B24: UNIDADES | C24: ISS% | D24: 44 HORAS | G24: 12 x 36 DIURNO | J24: 12 x 36 NOTURNO | M24: HORA EVENTUAL DIURNA | P24: HORA EVENTUAL NOTURNA | S24: VALOR MENSAL
D25: QUANT. | E25: VALOR UNIT. MENSAL | F25: VALOR MENSAL | G25: QUANT. | H25: VALOR UNIT. MENSAL | I25: VALOR MENSAL | J25: QUANT. | K25: VALOR UNIT. MENSAL | L25: VALOR MENSAL | M25: QUANT. | N25: VALOR DA HORA | O25: VALOR MENSAL | P25: QUANT. | Q25: VALOR DA HORA | R25: VALOR MENSAL
B26: AGÊNCIA DA PREVIDÊNCIA SOCIAL ANDRADINA | C26: 0.03 | D26: 1 | E26: =VLOOKUP($C26,'Memória de Cálculo 3'!$B$2:$E$11,2, ) -> 7890.4664 | F26: =D26*E26 -> 7890.4664 | G26: 1 | H26: =VLOOKUP($C26,'Memória de Cálculo 3'!$B$2:$E$11,3, ) -> 15807.629 | I26: =G26*H26 -> 15807.629 | J26: 0 | K26: =VLOOKUP($C26,'Memória de Cálculo 3'!$B$2:$E$11,4, ) -> 18013.514 | L26: =J26*K26 -> 0 | M26: 4 | N26: =VLOOKUP($C26,'Memória de Cálculo 3'!$B$2:$G$11,5, ) -> 35.865756 | O26: =M26*N26 -> 143.46302 | Q26: =VLOOKUP($C26,'Memória de Cálculo 3'!$B$2:$G$11,6, ) -> 40.939805 | R26: =P26*Q26 -> 0 | S26: =F26+I26+L26+O26+R26 -> 23841.558
B27: AGÊNCIA DA PREVIDÊNCIA SOCIAL ARAÇATUBA | C27: 0.04 | D27: 2 | E27: =VLOOKUP($C27,'Memória de Cálculo 3'!$B$2:$E$11,2, ) -> 7975.9073 | F27: =D27*E27 -> 15951.815 | G27: 1 | H27: =VLOOKUP($C27,'Memória de Cálculo 3'!$B$2:$E$11,3, ) -> 15978.8 | I27: =G27*H27 -> 15978.8 | J27: 0 | K27: =VLOOKUP($C27,'Memória de Cálculo 3'!$B$2:$E$11,4, ) -> 18208.571 | L27: =J27*K27 -> 0 | M27: 4 | N27: =VLOOKUP($C27,'Memória de Cálculo 3'!$B$2:$G$11,5, ) -> 36.254124 | O27: =M27*N27 -> 145.0165 | Q27: =VLOOKUP($C27,'Memória de Cálculo 3'!$B$2:$G$11,6, ) -> 41.383116 | R27: =P27*Q27 -> 0 | S27: =F27+I27+L27+O27+R27 -> 32075.631
B28: AGÊNCIA DA PREVIDÊNCIA SOCIAL BIRIGÜI | C28: 0.04 | D28: 3 | E28: =VLOOKUP($C28,'Memória de Cálculo 3'!$B$2:$E$11,2, ) -> 7975.9073 | F28: =D28*E28 -> 23927.722 | G28: 0 | H28: =VLOOKUP($C28,'Memória de Cálculo 3'!$B$2:$E$11,3, ) -> 15978.8 | I28: =G28*H28 -> 0 | J28: 0 | K28: =VLOOKUP($C28,'Memória de Cálculo 3'!$B$2:$E$11,4, ) -> 18208.571 | L28: =J28*K28 -> 0 | M28: 4 | N28: =VLOOKUP($C28,'Memória de Cálculo 3'!$B$2:$G$11,5, ) -> 36.254124 | O28: =M28*N28 -> 145.0165 | Q28: =VLOOKUP($C28,'Memória de Cálculo 3'!$B$2:$G$11,6, ) -> 41.383116 | R28: =P28*Q28 -> 0 | S28: =F28+I28+L28+O28+R28 -> 24072.738
B29: AGÊNCIA DA PREVIDÊNCIA SOCIAL GUARARAPES | C29: 0.04 | D29: 1 | E29: =VLOOKUP($C29,'Memória de Cálculo 3'!$B$2:$E$11,2, ) -> 7975.9073 | F29: =D29*E29 -> 7975.9073 | G29: 0 | H29: =VLOOKUP($C29,'Memória de Cálculo 3'!$B$2:$E$11,3, ) -> 15978.8 | I29: =G29*H29 -> 0 | J29: 0 | K29: =VLOOKUP($C29,'Memória de Cálculo 3'!$B$2:$E$11,4, ) -> 18208.571 | L29: =J29*K29 -> 0 | M29: 4 | N29: =VLOOKUP($C29,'Memória de Cálculo 3'!$B$2:$G$11,5, ) -> 36.254124 | O29: =M29*N29 -> 145.0165 | Q29: =VLOOKUP($C29,'Memória de Cálculo 3'!$B$2:$G$11,6, ) -> 41.383116 | R29: =P29*Q29 -> 0 | S29: =F29+I29+L29+O29+R29 -> 8120.9238
B30: AGÊNCIA DA PREVIDÊNCIA SOCIAL ILHA SOLTEIRA | C30: 0.03 | D30: 2 | E30: =VLOOKUP($C30,'Memória de Cálculo 3'!$B$2:$E$11,2, ) -> 7890.4664 | F30: =D30*E30 -> 15780.933 | G30: 0 | H30: =VLOOKUP($C30,'Memória de Cálculo 3'!$B$2:$E$11,3, ) -> 15807.629 | I30: =G30*H30 -> 0 | J30: 0 | K30: =VLOOKUP($C30,'Memória de Cálculo 3'!$B$2:$E$11,4, ) -> 18013.514 | L30: =J30*K30 -> 0 | M30: 4 | N30: =VLOOKUP($C30,'Memória de Cálculo 3'!$B$2:$G$11,5, ) -> 35.865756 | O30: =M30*N30 -> 143.46302 | Q30: =VLOOKUP($C30,'Memória de Cálculo 3'!$B$2:$G$11,6, ) -> 40.939805 | R30: =P30*Q30 -> 0 | S30: =F30+I30+L30+O30+R30 -> 15924.396
B31: AGÊNCIA DA PREVIDÊNCIA SOCIAL LINS | C31: 0.02 | D31: 2 | E31: =VLOOKUP($C31,'Memória de Cálculo 3'!$B$2:$E$11,2, ) -> 7806.8366 | F31: =D31*E31 -> 15613.673 | G31: 0 | H31: =VLOOKUP($C31,'Memória de Cálculo 3'!$B$2:$E$11,3, ) -> 15640.086 | I31: =G31*H31 -> 0 | J31: 0 | K31: =VLOOKUP($C31,'Memória de Cálculo 3'!$B$2:$E$11,4, ) -> 17822.592 | L31: =J31*K31 -> 0 | M31: 4 | N31: =VLOOKUP($C31,'Memória de Cálculo 3'!$B$2:$G$11,5, ) -> 35.485621 | O31: =M31*N31 -> 141.94248 | Q31: =VLOOKUP($C31,'Memória de Cálculo 3'!$B$2:$G$11,6, ) -> 40.50589 | R31: =P31*Q31 -> 0 | S31: =F31+I31+L31+O31+R31 -> 15755.616
B32: AGÊNCIA DA PREVIDÊNCIA SOCIAL MIRANDÓPOLIS | C32: 0.05 | D32: 1 | E32: =VLOOKUP($C32,'Memória de Cálculo 3'!$B$2:$E$11,2, ) -> 8063.2188 | F32: =D32*E32 -> 8063.2188 | G32: 0 | H32: =VLOOKUP($C32,'Memória de Cálculo 3'!$B$2:$E$11,3, ) -> 16153.718 | I32: =G32*H32 -> 0 | J32: 0 | K32: =VLOOKUP($C32,'Memória de Cálculo 3'!$B$2:$E$11,4, ) -> 18407.899 | L32: =J32*K32 -> 0 | M32: 4 | N32: =VLOOKUP($C32,'Memória de Cálculo 3'!$B$2:$G$11,5, ) -> 36.650994 | O32: =M32*N32 -> 146.60398 | Q32: =VLOOKUP($C32,'Memória de Cálculo 3'!$B$2:$G$11,6, ) -> 41.836133 | R32: =P32*Q32 -> 0 | S32: =F32+I32+L32+O32+R32 -> 8209.8228
B33: AGÊNCIA DA PREVIDÊNCIA SOCIAL PENÁPOLIS | C33: 0.03 | D33: 2 | E33: =VLOOKUP($C33,'Memória de Cálculo 3'!$B$2:$E$11,2, ) -> 7890.4664 | F33: =D33*E33 -> 15780.933 | G33: 0 | H33: =VLOOKUP($C33,'Memória de Cálculo 3'!$B$2:$E$11,3, ) -> 15807.629 | I33: =G33*H33 -> 0 | J33: 0 | K33: =VLOOKUP($C33,'Memória de Cálculo 3'!$B$2:$E$11,4, ) -> 18013.514 | L33: =J33*K33 -> 0 | M33: 4 | N33: =VLOOKUP($C33,'Memória de Cálculo 3'!$B$2:$G$11,5, ) -> 35.865756 | O33: =M33*N33 -> 143.46302 | Q33: =VLOOKUP($C33,'Memória de Cálculo 3'!$B$2:$G$11,6, ) -> 40.939805 | R33: =P33*Q33 -> 0 | S33: =F33+I33+L33+O33+R33 -> 15924.396
B34: AGÊNCIA DA PREVIDÊNCIA SOCIAL PEREIRA BARRETO | C34: 0.04 | D34: 1 | E34: =VLOOKUP($C34,'Memória de Cálculo 3'!$B$2:$E$11,2, ) -> 7975.9073 | F34: =D34*E34 -> 7975.9073 | G34: 0 | H34: =VLOOKUP($C34,'Memória de Cálculo 3'!$B$2:$E$11,3, ) -> 15978.8 | I34: =G34*H34 -> 0 | J34: 0 | K34: =VLOOKUP($C34,'Memória de Cálculo 3'!$B$2:$E$11,4, ) -> 18208.571 | L34: =J34*K34 -> 0 | M34: 4 | N34: =VLOOKUP($C34,'Memória de Cálculo 3'!$B$2:$G$11,5, ) -> 36.254124 | O34: =M34*N34 -> 145.0165 | Q34: =VLOOKUP($C34,'Memória de Cálculo 3'!$B$2:$G$11,6, ) -> 41.383116 | R34: =P34*Q34 -> 0 | S34: =F34+I34+L34+O34+R34 -> 8120.9238
B35: AGÊNCIA DA PREVIDÊNCIA SOCIAL PIRAJUÍ | C35: 0.05 | D35: 1 | E35: =VLOOKUP($C35,'Memória de Cálculo 3'!$B$2:$E$11,2, ) -> 8063.2188 | F35: =D35*E35 -> 8063.2188 | G35: 0 | H35: =VLOOKUP($C35,'Memória de Cálculo 3'!$B$2:$E$11,3, ) -> 16153.718 | I35: =G35*H35 -> 0 | J35: 0 | K35: =VLOOKUP($C35,'Memória de Cálculo 3'!$B$2:$E$11,4, ) -> 18407.899 | L35: =J35*K35 -> 0 | M35: 4 | N35: =VLOOKUP($C35,'Memória de Cálculo 3'!$B$2:$G$11,5, ) -> 36.650994 | O35: =M35*N35 -> 146.60398 | Q35: =VLOOKUP($C35,'Memória de Cálculo 3'!$B$2:$G$11,6, ) -> 41.836133 | R35: =P35*Q35 -> 0 | S35: =F35+I35+L35+O35+R35 -> 8209.8228
B36: AGÊNCIA DA PREVIDÊNCIA SOCIAL PROMISSÃO | C36: 0.02 | D36: 2 | E36: =VLOOKUP($C36,'Memória de Cálculo 3'!$B$2:$E$11,2, ) -> 7806.8366 | F36: =D36*E36 -> 15613.673 | G36: 0 | H36: =VLOOKUP($C36,'Memória de Cálculo 3'!$B$2:$E$11,3, ) -> 15640.086 | I36: =G36*H36 -> 0 | J36: 0 | K36: =VLOOKUP($C36,'Memória de Cálculo 3'!$B$2:$E$11,4, ) -> 17822.592 | L36: =J36*K36 -> 0 | M36: 4 | N36: =VLOOKUP($C36,'Memória de Cálculo 3'!$B$2:$G$11,5, ) -> 35.485621 | O36: =M36*N36 -> 141.94248 | Q36: =VLOOKUP($C36,'Memória de Cálculo 3'!$B$2:$G$11,6, ) -> 40.50589 | R36: =P36*Q36 -> 0 | S36: =F36+I36+L36+O36+R36 -> 15755.616
B37: AGÊNCIA DA PREVIDÊNCIA SOCIAL VALPARAÍSO | C37: 0.03 | D37: 1 | E37: =VLOOKUP($C37,'Memória de Cálculo 3'!$B$2:$E$11,2, ) -> 7890.4664 | F37: =D37*E37 -> 7890.4664 | G37: 0 | H37: =VLOOKUP($C37,'Memória de Cálculo 3'!$B$2:$E$11,3, ) -> 15807.629 | I37: =G37*H37 -> 0 | J37: 0 | K37: =VLOOKUP($C37,'Memória de Cálculo 3'!$B$2:$E$11,4, ) -> 18013.514 | L37: =J37*K37 -> 0 | M37: 4 | N37: =VLOOKUP($C37,'Memória de Cálculo 3'!$B$2:$G$11,5, ) -> 35.865756 | O37: =M37*N37 -> 143.46302 | Q37: =VLOOKUP($C37,'Memória de Cálculo 3'!$B$2:$G$11,6, ) -> 40.939805 | R37: =P37*Q37 -> 0 | S37: =F37+I37+L37+O37+R37 -> 8033.9294
B38: GERÊNCIA EXECUTIVA ARAÇATUBA | C38: 0.04 | D38: 0 | E38: =VLOOKUP($C38,'Memória de Cálculo 3'!$B$2:$E$11,2, ) -> 7975.9073 | F38: =D38*E38 -> 0 | G38: 1 | H38: =VLOOKUP($C38,'Memória de Cálculo 3'!$B$2:$E$11,3, ) -> 15978.8 | I38: =G38*H38 -> 15978.8 | J38: 0 | K38: =VLOOKUP($C38,'Memória de Cálculo 3'!$B$2:$E$11,4, ) -> 18208.571 | L38: =J38*K38 -> 0 | M38: 9 | N38: =VLOOKUP($C38,'Memória de Cálculo 3'!$B$2:$G$11,5, ) -> 36.254124 | O38: =M38*N38 -> 326.28712 | P38: 7 | Q38: =VLOOKUP($C38,'Memória de Cálculo 3'!$B$2:$G$11,6, ) -> 41.383116 | R38: =P38*Q38 -> 289.68181 | S38: =F38+I38+L38+O38+R38 -> 16594.769
B39: VALOR GLOBAL MENSAL | D39: =SUM(D26:D38) -> 19 | F39: =SUM(F26:F38) -> 150527.93 | G39: =SUM(G26:G38) -> 3 | I39: =SUM(I26:I38) -> 47765.228 | J39: =SUM(J26:J38) -> 0 | L39: =SUM(L26:L38) -> 0 | M39: =SUM(M26:M38) -> 57 | O39: =SUM(O26:O38) -> 2057.2981 | P39: =SUM(P26:P38) -> 7 | R39: =SUM(R26:R38) -> 289.68181 | S39: =SUM(S26:S38) -> 200640.14
B40: VALOR GLOBAL | S40: =S39*36 -> 7223045.1
B42: GERÊNCIA EXECUTIVA BAURU
B43: UNIDADES | C43: ISS% | D43: 44 HORAS | G43: 12 x 36 DIURNO | J43: 12 x 36 NOTURNO | M43: HORA EVENTUAL DIURNA | P43: HORA EVENTUAL NOTURNA | S43: VALOR MENSAL
D44: QUANT. | E44: VALOR UNIT. MENSAL | F44: VALOR MENSAL | G44: QUANT. | H44: VALOR UNIT. MENSAL | I44: VALOR MENSAL | J44: QUANT. | K44: VALOR UNIT. MENSAL | L44: VALOR MENSAL | M44: QUANT. | N44: VALOR DA HORA | O44: VALOR MENSAL | P44: QUANT. | Q44: VALOR DA HORA | R44: VALOR MENSAL
...

Sheet Planilha de Custos
A1: PLANILHA ESTIMATIVA
A2: Planilha Estimativa de Custos e Formação de Preços para Serviços de Vigilância
B4: Salário Normativo da Categoria: | C4: 2271.74
B5: Data base da Categoria: | C5: 46023
B6: Convenção Coletiva: | C6: SP000195/2026
B7: CBO/MTE: | C7: 5173-30
A9: CUSTOS | B9: Percentuais e Valores de Referência | C9: 44 horas semanais diurnas | D9: 12 x 36 diurnas | E9: 12 x 36 noturnas
A10: MÓDULO 1: COMPOSIÇÃO DA REMUNERAÇÃO
A11: 1 - Composição da Remuneração | B11: Valores/Percentuais | C11: Valor (R$) | D11: Valor (R$) | E11: Valor (R$)
A12: A - Salário-Base | B12: =C4 -> 2271.74 | C12: =$B12 -> 2271.74 | D12: =$B12*2 -> 4543.48 | E12: =$B12*2 -> 4543.48
A13: B - Adicional de Periculosidade | B13: 0.3 | C13: =C12*$B13 -> 681.522 | D13: =D12*$B13 -> 1363.044 | E13: =E12*$B13 -> 1363.044
A14: C - Adicional de Insalubridade
A15: D - Adicional Noturno | B15: 0.2 | E15: =(E12+E13)/220*(7*15)*B15 -> 563.80456
A16: E - Adicional de Hora Noturna Reduzida | E16: =((E12+E13)/2/220)*(1+B15)*15*2 -> 483.26105
A17: F - Adicional de Hora-Extra
A18: G - Outros (especificar)
A19: Total | C19: =SUM(C12:C18) -> 2953.262 | D19: =SUM(D12:D18) -> 5906.524 | E19: =SUM(E12:E18) -> 6953.5896
A21: MÓDULO 2: ENCARGOS E BENEFÍCIOS ANUAIS, MENSAIS E DIÁRIOS
A22: 2.1 - 13º Salário, Férias e Adicional de Férias | B22: Percentuais | C22: Valor (R$) | D22: Valor (R$) | E22: Valor (R$)
A23: A - 13º salário | B23: =1/12 -> 0.083333333 | C23: =C19*$B23 -> 246.10517 | D23: =D19*$B23 -> 492.21033 | E23: =E19*$B23 -> 579.4658
A24: B - Férias e Adicional de Férias | B24: =(1/3)*(1/12) -> 0.027777778 | C24: =C19*$B24 -> 82.035056 | D24: =D19*$B24 -> 164.07011 | E24: =E19*$B24 -> 193.15527
A25: Total | B25: =SUM(B23:B24) -> 0.11111111 | C25: =SUM(C23:C24) -> 328.14022 | D25: =SUM(D23:D24) -> 656.28044 | E25: =SUM(E23:E24) -> 772.62107
A26: 2.2 - GPS, FGTS e outras contribuições (Incide sobre os Módulos 1 e 2.1) | B26: Percentuais | C26: Valor (R$) | D26: Valor (R$) | E26: Valor (R$)
A27: A - INSS | B27: 0.2 | C27: =(C$19+C$25)*$B27 -> 656.28044 | D27: =(D$19+D$25)*$B27 -> 1312.5609 | E27: =(E$19+E$25)*$B27 -> 1545.2421
A28: B - Salário Educação | B28: 0.025 | C28: =(C$19+C$25)*$B28 -> 82.035056 | D28: =(D$19+D$25)*$B28 -> 164.07011 | E28: =(E$19+E$25)*$B28 -> 193.15527
A29: C - SAT | B29: 0.03 | C29: =(C$19+C$25)*$B29 -> 98.442067 | D29: =(D$19+D$25)*$B29 -> 196.88413 | E29: =(E$19+E$25)*$B29 -> 231.78632
A30: D - SESI ou SESC | B30: 0.015 | C30: =(C$19+C$25)*$B30 -> 49.221033 | D30: =(D$19+D$25)*$B30 -> 98.442067 | E30: =(E$19+E$25)*$B30 -> 115.89316
A31: E - SENAI ou SENAC | B31: 0.01 | C31: =(C$19+C$25)*$B31 -> 32.814022 | D31: =(D$19+D$25)*$B31 -> 65.628044 | E31: =(E$19+E$25)*$B31 -> 77.262107
A32: F - SEBRAE | B32: 0.006 | C32: =(C$19+C$25)*$B32 -> 19.688413 | D32: =(D$19+D$25)*$B32 -> 39.376827 | E32: =(E$19+E$25)*$B32 -> 46.357264
A33: G - INCRA | B33: 0.002 | C33: =(C$19+C$25)*$B33 -> 6.5628044 | D33: =(D$19+D$25)*$B33 -> 13.125609 | E33: =(E$19+E$25)*$B33 -> 15.452421
A34: F - FGTS | B34: 0.08 | C34: =(C$19+C$25)*$B34 -> 262.51218 | D34: =(D$19+D$25)*$B34 -> 525.02436 | E34: =(E$19+E$25)*$B34 -> 618.09685
A35: Total | B35: =SUM(B27:B34) -> 0.368 | C35: =SUM(C27:C34) -> 1207.556 | D35: =SUM(D27:D34) -> 2415.112 | E35: =SUM(E27:E34) -> 2843.2455
A36: 2.3 - Benefícios Mensais e Diários | C36: Valor (R$) | D36: Valor (R$) | E36: Valor (R$)
A37: A - Transporte | B37: =' Memória de Cálculo 1'!E7 -> 4.61 | C37: =' Memória de Cálculo 1'!$F$14 -> 66.5356 | D37: =' Memória de Cálculo 1'!$F$10 -> 3.9912 | E37: =' Memória de Cálculo 1'!$F$10 -> 3.9912
A38: B - Auxílio-Refeição/Alimentação | B38: =' Memória de Cálculo 1'!D17 -> 42 | C38: =' Memória de Cálculo 1'!$F$22 -> 757.68 | D38: =' Memória de Cálculo 1'!$F$18 -> 1033.2 | E38: =' Memória de Cálculo 1'!$F$18 -> 1033.2
A39: C - Assistência Médica e Familiar ou Cesta Básica Suplementar | B39: 208.45 | C39: =$B39-($B39*5%) -> 198.0275 | D39: =($B39-($B39*5%))*2 -> 396.055 | E39: =($B39-($B39*5%))*2 -> 396.055
A40: D – Auxílio Funeral | B40: =' Memória de Cálculo 1'!D60 -> 0.72317057 | C40: =$B40 -> 0.72317057 | D40: =$B40*2 -> 1.4463411 | E40: =$B40*2 -> 1.4463411
A41: E – Seguro de Vida | B41: =' Memória de Cálculo 1'!D29 -> 14.589114 | C41: =$B41 -> 14.589114 | D41: =$B41*2 -> 29.178229 | E41: =$B41*2 -> 29.178229
A42: F – Reembolso-creche | B42: =' Memória de Cálculo 1'!D66 -> 105.328 | C42: =$B42 -> 105.328 | D42: =$B42*2 -> 210.656 | E42: =$B42*2 -> 210.656
A43: G – Outros | B43: 0 | C43: =$B43 -> 0 | D43: =$B43*2 -> 0 | E43: =$B43*2 -> 0
...

Sheet  Memória de Cálculo 1
B2: Memória de Cálculo
B4: Salário base mensal Vigilante | C4: ='Planilha de Custos'!B12 -> 2271.74
B6: VALE TRANSPORTE (12x36) | C6: BILHETES | D6: DIAS | E6: VALOR DA TARIFA | F6: VALOR MENSAL
B7: Quantidade de viagens/mês (2 bilhetes * 22 dias) | C7: 2 | D7: 15 | E7: 4.61 | F7: =C7*D7*E7 -> 138.3
B8: Parcela do empregado (6% salário base mensal) | F8: =C4*6% -> 136.3044
B9: Custo Mensal para 1 Vigilante (12x36) | F9: =F7-MIN(F8,F7) -> 1.9956
B10: Custo Total Mensal para 2 Vigilantes (12x36) | F10: =F9*2 -> 3.9912
B11: VALE TRANSPORTE (44hs) | C11: BILHETES | D11: DIAS | E11: VALOR DA TARIFA | F11: VALOR MENSAL
B12: Quantidade de viagens/mês (2 bilhetes * 22 dias) | C12: 2 | D12: 22 | E12: =E7 -> 4.61 | F12: =C12*D12*E12 -> 202.84
B13: Parcela do empregado (6% salário base mensal) | F13: =C4*6% -> 136.3044
B14: Custo Total Mensal (44hs) | F14: =F12-MIN(F13,F12) -> 66.5356
B16: VALE REFEIÇÃO (12x36) | C16: QTD DE TICKETS | D16: VALOR UNITÁRIO | E16: EMPREGADO (ESTIPULADO NA CCT) | F16: CUSTO TOTAL MENSAL
C17: 15 | D17: 42 | E17: =D17*18% -> 7.56 | F17: =(D17-E17)*C17 -> 516.6
B18: Custo Total Mensal para 2 Vigilantes (12x36) | F18: =F17*2 -> 1033.2
B20: VALE REFEIÇÃO (30 e 44 hs) | C20: QTD DE TICKETS | D20: VALOR UNITÁRIO | E20: EMPREGADO (ESTIPULADO NA CCT) | F20: CUSTO TOTAL MENSAL
C21: 22 | D21: =D17 -> 42 | E21: =D21*18% -> 7.56 | F21: =(D21-E21)*C21 -> 757.68
B22: Custo Total Mensal (44hs) | F22: =F21 -> 757.68
B24: Seguro de Vida (cláusula Vigésima Segunda CCT e Caderno Técnico de Vigilância, 2014)
B25: A - Salário Normativo | D25: ='Planilha de Custos'!C4 -> 2271.74
B26: B - Adicional de Periculosidade (30%) | D26: ='Planilha de Custos'!C13 -> 681.522
B27: C - Base de cálculo (A + B) X 52 | D27: =(D25+D26)*52 -> 153569.62
B28: D - Alíquota FIA (ver Caderno Técnico disponível em comprasgov) | D28: 9.5e-05
B29: E - Total mensal (por funcionário): C X D | D29: =D27*D28 -> 14.589114
B32: Média de faltas anuais por motivos legais
B33: Média de dias de ausências legais por ano | D33: 2.96
B34: (Fonte: Caderno Técnico Planilha de Custos e Formação de Preços, 1ª Edição/2023)
B36: Licença Paternidade
B37: Taxa Bruta de Natalidade 2026 (IBGE): | E37: 0.01291
B38: Percentual de homens no serviço de vigilância: | E38: 0.7989
B39: Duração da Licença Paternidade (em dias) | E39: 20
B40: (Fonte: Painel de Informações RAIS 2025 e IBGE)
B42: Ausências por acidente de trabalho
B43: Média de faltas anuais por acidente de trabalho: | E43: 0.0651
B44: (Fonte: CADTERC Novembro 2025)
B46: Afastamento Maternidade
B47: Discriminação do Item | D47: 44hs - Valor (R$) | E47: Diurnas - Valor (R$) | F47: Noturnas - Valor (R$)
B48: 13º Salário + Férias + Adicional Férias | D48: ='Planilha de Custos'!C19+'Planilha de Custos'!C19+('Planilha de Custos'!C19/3) -> 6890.9447 | E48: ='Planilha de Custos'!D19+'Planilha de Custos'!D19+('Planilha de Custos'!D19/3) -> 13781.889 | F48: ='Planilha de Custos'!E19+'Planilha de Custos'!E19+('Planilha de Custos'!E19/3) -> 16225.042
B49: Submódulo 2.2 | D49: ='Planilha de Custos'!C35 -> 1207.556 | E49: ='Planilha de Custos'!D35 -> 2415.112 | F49: ='Planilha de Custos'!E35 -> 2843.2455
B50: Benefícios Mensais ( - VT e VR) | D50: ='Planilha de Custos'!C44-'Planilha de Custos'!C37-'Planilha de Custos'!C38 -> 318.66778 | E50: ='Planilha de Custos'!D44-'Planilha de Custos'!D37-'Planilha de Custos'!D38 -> 637.33557 | F50: ='Planilha de Custos'!E44-'Planilha de Custos'!E37-'Planilha de Custos'!E38 -> 637.33557
B51: Base de Cálculo | D51: =SUM(D48:D50) -> 8417.1685 | E51: =SUM(E48:E50) -> 16834.337 | F51: =SUM(F48:F50) -> 19705.624
...

Sheet Memória de Cálculo 2 (Insumos)
A1: Memória de Cálculo 2
A3: ESTIMATIVA DE UNIFORMES POR VIGILANTE
A4: A – Item | B4: B -Quantidade | C4: C – Periodicidade de entrega (meses) | D4: D - Vigência contratual (meses) | E4: E – Quant. Total (D/C) X B | F4: F - Valor Unitário | G4: G - Valor Total (E x F)
A5: Calça | B5: 2 | C5: 6 | D5: 36 | E5: =D5/C5*B5 -> 12 | F5: 133.71 | G5: =E5*F5 -> 1604.52
A6: Camisa de mangas curtas | B6: 2 | C6: 6 | D6: 36 | E6: =D6/C6*B6 -> 12 | F6: 79.5 | G6: =E6*F6 -> 954
A7: Camisa de mangas compridas | B7: 2 | C7: 6 | D7: 36 | E7: =D7/C7*B7 -> 12 | F7: 100.58 | G7: =E7*F7 -> 1206.96
A8: Cinto | B8: 2 | C8: 6 | D8: 36 | E8: =D8/C8*B8 -> 12 | F8: 28.11 | G8: =E8*F8 -> 337.32
A9: Par de Sapatos ou Coturnos | B9: 2 | C9: 6 | D9: 36 | E9: =D9/C9*B9 -> 12 | F9: 103.07 | G9: =E9*F9 -> 1236.84
A10: Boné ou Quepe com emblema | B10: 2 | C10: 6 | D10: 36 | E10: =D10/C10*B10 -> 12 | F10: 22.21 | G10: =E10*F10 -> 266.52
A11: Jaqueta de frio ou japona | B11: 2 | C11: 6 | D11: 36 | E11: =D11/C11*B11 -> 12 | F11: 122.15 | G11: =E11*F11 -> 1465.8
A12: Capa de chuva | B12: 2 | C12: 6 | D12: 36 | E12: =D12/C12*B12 -> 12 | F12: 26.24 | G12: =E12*F12 -> 314.88
A13: Crachá | B13: 1 | C13: 12 | D13: 36 | E13: =D13/C13*B13 -> 3 | F13: 5.47 | G13: =E13*F13 -> 16.41
A14: Apito c/ cordão | B14: 1 | C14: 36 | D14: 36 | E14: =D14/C14*B14 -> 1 | F14: 5.47 | G14: =E14*F14 -> 5.47
A15: TOTAL | G15: =SUM(G5:G14) -> 7408.72
A16: CUSTO MENSAL ESTIMADO | E16: = total / nº de meses de vigência do contrato | G16: =G15/D5 -> 205.79778
A18: MATERIAIS E EQUIPAMENTOS POR POSTO
A19: Item | B19: A -Quant. | C19: B - Vida útil em meses | D19: C - Valor residual | E19: D - Valor Unitário | F19: Total Mensal A X [(D-C)/B]
A20: Cassetete | B20: 1 | C20: 30 | D20: =E20*10% -> 4.051 | E20: 40.51 | F20: =B20*((E20-D20)/C20) -> 1.2153
A21: Porta cassetete | B21: 1 | C21: 30 | D21: =E21*10% -> 2.34 | E21: 23.4 | F21: =B21*((E21-D21)/C21) -> 0.702
A22: Rádio Comunicação | B22: 1 | C22: 30 | D22: =E22*10% -> 24.97 | E22: 249.7 | F22: =B22*((E22-D22)/C22) -> 7.491
A23: Livro de ocorrência | B23: 1 | C23: 12 | D23: =E23*10% -> 2.246 | E23: 22.46 | F23: =B23*((E23-D23)/C23) -> 1.6845
A24: CUSTO MENSAL ESTIMADO | F24: =SUM(F20:F23) -> 11.0928
A25: Lanterna recarregável acima de 12 LEDs | B25: 1 | C25: 36 | D25: =E25*10% -> 5.5 | E25: 55 | F25: =B25*((E25-D25)/C25) -> 1.375
A26: CUSTO MENSAL ESTIMADO PARA POSTO NOTURNO | F26: =SUM(F24:F25) -> 12.4678

Sheet Memória de Cálculo 3
B2: ISS% | C2: 44 HORAS | D2: 12 x 36 DIURNO | E2: 12 x 36 NOTURNO | F2: HORA EVENTUAL DIURNA | G2: HORA EVENTUAL NOTURNA
C3: VALOR UNIT. MENSAL | D3: VALOR UNIT. MENSAL | E3: VALOR UNIT. MENSAL | F3: VALOR DA HORA | G3: VALOR DA HORA
B4: 0.02 | C4: ='Planilha de Custos'!C160 -> 7806.8366 | D4: ='Planilha de Custos'!D160 -> 15640.086 | E4: ='Planilha de Custos'!E160 -> 17822.592 | F4: ='Planilha de Custos'!C168 -> 35.485621 | G4: ='Planilha de Custos'!E168 -> 40.50589
B5: 0.021 | C5: ='Planilha de Custos'!C161 -> 7815.1197 | D5: ='Planilha de Custos'!D161 -> 15656.681 | E5: ='Planilha de Custos'!E161 -> 17841.502 | F5: ='Planilha de Custos'!C169 -> 35.523272 | G5: ='Planilha de Custos'!E169 -> 40.548868
B6: 0.025 | C6: ='Planilha de Custos'!C162 -> 7848.4287 | D6: ='Planilha de Custos'!D162 -> 15723.411 | E6: ='Planilha de Custos'!E162 -> 17917.544 | F6: ='Planilha de Custos'!C170 -> 35.674676 | G6: ='Planilha de Custos'!E170 -> 40.721692
B7: 0.03 | C7: ='Planilha de Custos'!C163 -> 7890.4664 | D7: ='Planilha de Custos'!D163 -> 15807.629 | E7: ='Planilha de Custos'!E163 -> 18013.514 | F7: ='Planilha de Custos'!C171 -> 35.865756 | G7: ='Planilha de Custos'!E171 -> 40.939805
B8: 0.035 | C8: ='Planilha de Custos'!C164 -> 7932.9568 | D8: ='Planilha de Custos'!D164 -> 15892.753 | E8: ='Planilha de Custos'!E164 -> 18110.517 | F8: ='Planilha de Custos'!C172 -> 36.058894 | G8: ='Planilha de Custos'!E172 -> 41.160267
B9: 0.04 | C9: ='Planilha de Custos'!C165 -> 7975.9073 | D9: ='Planilha de Custos'!D165 -> 15978.8 | E9: ='Planilha de Custos'!E165 -> 18208.571 | F9: ='Planilha de Custos'!C173 -> 36.254124 | G9: ='Planilha de Custos'!E173 -> 41.383116
B10: 0.045 | C10: ='Planilha de Custos'!C166 -> 8019.3254 | D10: ='Planilha de Custos'!D166 -> 16065.783 | E10: ='Planilha de Custos'!E166 -> 18307.692 | F10: ='Planilha de Custos'!C174 -> 36.451479 | G10: ='Planilha de Custos'!E174 -> 41.608392
B11: 0.05 | C11: ='Planilha de Custos'!C167 -> 8063.2188 | D11: ='Planilha de Custos'!D167 -> 16153.718 | E11: ='Planilha de Custos'!E167 -> 18407.899 | F11: ='Planilha de Custos'!C175 -> 36.650994 | G11: ='Planilha de Custos'!E175 -> 41.836133
