Workbook

Sheet Resumo
A2: PLANILHA RESUMO
A4: REGIME DE TRIBUTAÇÃO | C4: BDI (%) | D4: BDI DIFERENCIADO (%) | J4: DESONERADO
A5: DESONERADO | C5: 0 | D5: 0 | J5: NÃO DESONERADO
A9: Grupo III - GEX Garanhuns
A10: Item | B10: Descrição | C10: BDI ADOTADO | D10: Valor Mensal C/ BDI | E10: Valor Anual C/ BDI
A11: 1 | B11: Serviços Técnicos de Manutenção PREVENTIVA, CORRETIVA e de INSTALAÇÃO em equipamentos de refrigeração e ar condicionado de qualquer capacidade, para atender as Unidades do INSS vinculadas a GEX – Garanhuns, conforme Termo de Referência. (Parcela Fixa) | C11: BDI | D11: ='Anexo IV - Consolidado'!C27 -> 210.66 | E11: ='Anexo IV - Consolidado'!E27 -> 2527.92
A12: 2 | B12: Serviços Sob Demanda ( Parcela Sob Demanda) | C12: BDI | D12: ='Anexo IV - Consolidado'!C35 -> 3032.6667 | E12: ='Anexo IV - Consolidado'!E34 -> 36392
A13: 3 | B13: Peças Sob Demanda ( Parcela Sob Demanda) | C13: BDI DIFERENCIADO | D13: ='Anexo IV - Consolidado'!C31 -> 9169.5917 | E13: ='Anexo IV - Consolidado'!E31 -> 110035.1
A14: VALOR TOTAL COM BDI | D14: =SUM(D11:D13) -> 12412.918 | E14: =SUM(E11:E13) -> 148955.02

Sheet Anexo IV - Consolidado
A2: ANEXO IV – PLANILHA ESTIMATIVA DE CUSTOS E FORMAÇÃO DE PREÇOS CONSOLIDADA - Garanhuns
A4: QUADRO RESUMO DO CUSTO ANUAL COM MÃO-DE-OBRA, INSUMOS E DEMAIS COMPONENTES
A6: Item | B6: Discriminação | C6: Custo Mensal (R$) | D6: Meses | E6: Custo Anual (R$) | F6: % do Custo
A7: 1 | B7: MÃO-DE-OBRA (SERVIÇOS PREVENTIVOS E CORRETIVOS)
A8: 1.1 | B8: Equipe Administrativa - ANEXO IV A | C8: ='Anexo IV A - Mão_de_Obra'!C102+'Anexo IV A - Mão_de_Obra'!D102 -> 0 | D8: 12 | E8: =C8*D8 -> 0 | F8: =E8/$E$11 -> 0
A9: 1.2 | B9: Equipe Técnica - ANEXO IV A | C9: ='Anexo IV A - Mão_de_Obra'!E102+'Anexo IV A - Mão_de_Obra'!F102 -> 210.66 | D9: 12 | E9: =C9*D9 -> 2527.92 | F9: =E9/$E$11 -> 1
B11: TOTAL MÃO-DE-OBRA | C11: =C8+C9 -> 210.66 | E11: =E8+E9 -> 2527.92 | F11: =SUM(F8:F10) -> 1
A13: 2 | B13: DEMAIS INSUMOS
A14: 2.1 | B14: Estimativa de Pernoite e Alimentação (Jantar) - ANEXO IV F | C14: ='Anexo IV F - Transp. +_Diárias'!G47 -> 0 | D14: 12 | E14: =C14*D14 -> 0 | F14: =E14/$E$19 -> #DIV/0!
A15: 2.2 | B15: Estimativa – Desloc. Veículo Manutenção - ANEXO IV F | C15: ='Anexo IV F - Transp. +_Diárias'!G50+'Anexo IV F - Transp. +_Diárias'!G51 -> 0 | D15: 12 | E15: =C15*D15 -> 0 | F15: =E15/$E$19 -> #DIV/0!
A16: 2.3 | B16: Estimativa - Pedágio e outras Tarifas | C16: ='Anexo IV F - Transp. +_Diárias'!G48 -> 0 | D16: 12 | E16: 0 | F16: =E16/$E$19 -> #DIV/0!
A17: 2.4 | B17: Estimativa p/Despesas c/Transporte - Ônibus Rodoviário | C17: ='Anexo IV F - Transp. +_Diárias'!G49 -> 0 | D17: 12 | E17: 0 | F17: =E17/$E$19 -> #DIV/0!
A18: 2.5 | B18: Material (Circulante) - ANEXO IV B | C18: ='Anexo IV B- Materiais_Insumos'!F46 -> 0 | D18: 12 | E18: =C18*D18 -> 0 | F18: =E18/$E$19 -> #DIV/0!
B19: TOTAL OUTROS INSUMOS | C19: =SUM(C14:C18) -> 0 | E19: =SUM(E14:E18) -> 0 | F19: =SUM(F14:F18) -> #DIV/0!
A21: 3 | B21: TAXA DE BENEFÍCIOS E DESPESAS INDIRETAS – BDI
A22: 3.1 | B22: BDI - ANEXO IV E | F22: 0
A23: 3.2 | B23: BDI Diferenciado - ANEXO IV E | F23: 0
A25: 4 | B25: SERVIÇOS PREVENTIVOS E CORRETIVOS + DEMAIS INSUMOS
A26: 4.1 | B26: Custos dos Serviços Preventivos e Corretivos S/ BDI | C26: =C11+C19 -> 210.66 | D26: 12 | E26: =C26*D26 -> 2527.92 | F26: =E26/E27 -> 1
A27: 4.2 | B27: Custos dos Serviços Preventivos e Corretivos C/ BDI | C27: =C26*(1+F22) -> 210.66 | D27: 12 | E27: =C27*D27 -> 2527.92 | F27: 1
A29: 5 | B29: PEÇAS SOB DEMANDA
A30: 5.1 | B30: Custos das Peças sob Demanda S/ BDI Diferenciado - ANEXO IV C | C30: ='Anexo IV C - Peças sob Demanda'!F92 -> 9169.5917 | D30: 12 | E30: =C30*D30 -> 110035.1 | F30: =E30/E31 -> 1
A31: 5.2 | B31: Custos das Peças sob Demanda C/ BDI Diferenciado – ANEXO IV C | C31: =C30*(1+F23) -> 9169.5917 | D31: 12 | E31: =C31*D31 -> 110035.1 | F31: 1
A33: 6 | B33: SERVIÇOS EVENTUAIS
A34: 6.1 | B34: Custos dos Serviços Eventuais S/ BDI - ANEXO IV D | C34: ='Anexo IV D - Serv._Eventuais'!I15 -> 3032.6667 | D34: 12 | E34: =C34*D34 -> 36392 | F34: =E34/E35 -> 1
A35: 6.2 | B35: Custos dos Serviços Eventuais C/ BDI – ANEXO IV D | C35: =C34*(1+F23) -> 3032.6667 | D35: 12 | E35: =C35*D35 -> 36392 | F35: 1
A37: 7 | B37: VALOR TOTAL DOS SERVIÇOS PREVENTIVOS E CORRETIVOS (S/ SERVIÇOS EVENTUAIS E S/ PEÇAS SOB DEMANDA) | C37: =C27 -> 210.66 | D37: 12 | E37: =C37*D37 -> 2527.92 | F37: =E37/E44 -> 0.016971029
A39: 8 | B39: VALOR TOTAL DAS PEÇAS SOB DEMANDA | C39: =C31 -> 9169.5917 | D39: 12 | E39: =C39*D39 -> 110035.1 | F39: =E39/E44 -> 0.73871361
A40: 8.1 | B40: DESCONTO OFERECIDO PELA LICITANTE EM PERCENTUAL ( PEÇAS SOB DEMANDA) | E40: 0
A41: 9 | B41: VALOR TOTAL DOS SERVIÇOS EVENTUAIS | C41: =C35 -> 3032.6667 | D41: 12 | E41: =C41*D41 -> 36392 | F41: =E41/E44 -> 0.24431536
A42: 9.1 | B42: DESCONTO OFERECIDO PELA LICITANTE EM PERCENTUAL ( SERVIÇOS SOB DEMANDA) | E42: 0
A44: 10 | B44: VALOR TOTAL DOS SERVIÇOS PREVENTIVOS E CORRETIVOS C/ SERVIÇOS EVENTUAIS E C/ PEÇAS SOB DEMANDA | C44: =C37+C39+C41 -> 12412.918 | D44: 12 | E44: =C44*D44 -> 148955.02 | F44: 1

Sheet Anexo IV A - Mão_de_Obra
A2: ANEXO IV A – PLANILHA DE CUSTOS E FORMAÇÃO DE PREÇOS DE MÃO DE OBRA - Garanhuns
A4: PLANILHA DE CUSTOS E FORMAÇÃO DE PREÇOS DE MÃO DE OBRA
A6: CONVENÇÃO COLETIVA DO TRABALHO:
A7: NÚMERO DE REGISTRO:
A8: DATA BASE DA CATEGORIA:
C11: EQUIPE ADMINISTRATIVA | E11: EQUIPE TÉCNICA
A12: REFERÊNCIAS PARA O SALÁRIO NORMATIVO: | B12: PROFISSIONAIS NECESSÁRIOS | C12: 1) Supervisor de manutenção de aparelhos térmicos, de climatização e de refrigeração (CBO-9101-10) | D12: 2) TÉCNICO DE SEGURANÇA (CBO -3516-05) | E12: 3) MECÂNICO DE REFRIGERAÇÃO (CBO 7257-05) | F12: 4) AUXILIAR DE MECÂNICO (CBO 9112-05)
B13: SALÁRIO NORMATIVO DA CATEGORIA | C13: 0 | D13: 0 | E13: 0 | F13: 0
A16: CUSTOS | B16: PERCENTUAIS E VALORES DE REFERÊNCIA
A17: MÓDULO 1: COMPOSIÇÃO DA REMUNERAÇÃO
A18: 1 - Composição da Remuneração | C18: Valor (R$) | D18: Valor (R$) | E18: Valor (R$) | F18: Valor (R$) | G18: Valor (R$)
A19: A - Salário Base | C19: =C13 -> 0 | D19: =D13 -> 0 | E19: =E13 -> 0 | F19: =F13 -> 0 | G19: 0
A20: B - Adicional por atividade (CCT)
A21: C - Adicional Periculosidade
A22: D - Adicional noturno
A23: E - Adicional de Hora Noturna Reduzida
A24: F - Adicional de Hora Extra no Feriado Trabalhado
A25: G - Outros (especificar) - Adicional Motorista
A26: TOTAL DO MÓDULO 1 (COMPOSIÇÃO DA REMUNERAÇÃO) | C26: =SUM(C19:C25) -> 0 | D26: =SUM(D19:D25) -> 0 | E26: =SUM(E19:E25) -> 0 | F26: =SUM(F19:F25) -> 0 | G26: 0
A28: MÓDULO 2: ENCARGOS E BENEFÍCIOS ANUAIS, MENSAIS E DIÁRIOS
A29: Submódulo 2.1 - 13º Salário e Adicional de Férias
A30: 2.1 - 13º Salário, Férias e Adicional de Férias | C30: Valor (R$) | D30: Valor (R$) | E30: Valor (R$) | F30: Valor (R$) | G30: Valor (R$)
A31: A - 13º salário | B31: 0.0833 | C31: =C26*$B$31 -> 0 | D31: =D26*$B$31 -> 0 | E31: =E26*$B$31 -> 0 | F31: =F26*$B$31 -> 0 | G31: 0
A32: B – Férias + Adicional de Férias | B32: 0.0278 | C32: =C26*$B$32 -> 0 | D32: =D26*$B$32 -> 0 | E32: =E26*$B$32 -> 0 | F32: =F26*$B$32 -> 0 | G32: 0
A33: TOTAL DE 13º SALÁRIO E ADICIONAL DE FÉRIAS | B33: =SUM(B31:B32) -> 0.1111 | C33: =C31+C32 -> 0 | D33: =D31+D32 -> 0 | E33: =E31+E32 -> 0 | F33: =F31+F32 -> 0 | G33: 0
A34: Submódulo 2.2 - Encargos previdenciários e FGTS
A35: 2.2 - Encargos previdenciários e FGTS | C35: Valor (R$) | D35: Valor (R$) | E35: Valor (R$) | F35: Valor (R$) | G35: Valor (R$)
A36: A - INSS | B36: 0 | C36: =$B36*(C$26+C$33) -> 0 | D36: =$B36*(D$26+D$33) -> 0 | E36: =$B36*(E$26+E$33) -> 0 | F36: =$B36*(F$26+F$33) -> 0 | G36: 0
A37: B - Salário Educação | B37: 0.025 | C37: =$B37*(C$26+C$33) -> 0 | D37: =$B37*(D$26+D$33) -> 0 | E37: =$B37*(E$26+E$33) -> 0 | F37: =$B37*(F$26+F$33) -> 0 | G37: 0
A38: C - Seguro Acidente do Trabalho/SAT/INSS | B38: 0.03 | C38: =$B38*(C$26+C$33) -> 0 | D38: =$B38*(D$26+D$33) -> 0 | E38: =$B38*(E$26+E$33) -> 0 | F38: =$B38*(F$26+F$33) -> 0 | G38: 0
A39: D - SESI ou SESC | B39: 0.015 | C39: =$B39*(C$26+C$33) -> 0 | D39: =$B39*(D$26+D$33) -> 0 | E39: =$B39*(E$26+E$33) -> 0 | F39: =$B39*(F$26+F$33) -> 0 | G39: 0
A40: E - SENAI ou SENAC | B40: 0.01 | C40: =$B40*(C$26+C$33) -> 0 | D40: =$B40*(D$26+D$33) -> 0 | E40: =$B40*(E$26+E$33) -> 0 | F40: =$B40*(F$26+F$33) -> 0 | G40: 0
A41: F - SEBRAE | B41: 0.006 | C41: =$B41*(C$26+C$33) -> 0 | D41: =$B41*(D$26+D$33) -> 0 | E41: =$B41*(E$26+E$33) -> 0 | F41: =$B41*(F$26+F$33) -> 0 | G41: 0
A42: G - INCRA | B42: 0.002 | C42: =$B42*(C$26+C$33) -> 0 | D42: =$B42*(D$26+D$33) -> 0 | E42: =$B42*(E$26+E$33) -> 0 | F42: =$B42*(F$26+F$33) -> 0 | G42: 0
A43: F - FGTS | B43: 0.08 | C43: =$B43*(C$26+C$33) -> 0 | D43: =$B43*(D$26+D$33) -> 0 | E43: =$B43*(E$26+E$33) -> 0 | F43: =$B43*(F$26+F$33) -> 0 | G43: 0
A44: TOTAL DE ENCARGOS PREVIDENCIÁRIOS E FGTS | B44: =SUM(B36:B43) -> 0.168 | C44: =SUM(C36:C43) -> 0 | D44: =SUM(D36:D43) -> 0 | E44: =SUM(E36:E43) -> 0 | F44: =SUM(F36:F43) -> 0 | G44: 0
A45: Submódulo 2.3 – Benefícios Mensais e Diários
A46: 2.3 - Benefícios Mensais e Diários | C46: Valor (R$) | D46: Valor (R$) | E46: Valor (R$) | F46: Valor (R$) | G46: Valor (R$)
A47: A - Transporte | B47: 0 | C47: =$B$47*22*2-0.06*(22/30)*C13 -> 0 | D47: =$B$47*22*2-0.06*(22/30)*D13 -> 0 | E47: =$B$47*22*2-0.06*(22/30)*E13 -> 0 | F47: =$B$47*22*2-0.06*(22/30)*F13 -> 0
A48: B - Auxílio alimentação (Vales, cesta básica etc.) | C48: =$B$48 -> 0 | D48: =$B$48 -> 0 | E48: =$B$48 -> 0 | F48: =$B$48 -> 0
...

Sheet Anexo IV B- Materiais_Insumos
A2: ANEXO IV B – PLANILHA DE CUSTOS DE MATERIAIS E INSUMOS - Garanhuns
A4: PLANILHA ESTIMATIVA DE CUSTOS DE MATERIAIS E INSUMOS
A6: ITEM | B6: DESCRIÇÃO | C6: UNID | D6: QUANTIDADE | E6: PREÇO UNITÁRIO S/BDI | F6: PREÇO PARCIAL | G6: BDI | H6: PREÇO UNITÁRIO C/BDI | I6: PREÇO TOTAL
A8: 1 | B8: PEÇAS / COMPONENTES DE DRENAGEM | F8: =SUM(F9:F24) -> 0 | I8: =SUM(I9:I24) -> 0
A9: 1.1 | B9: CURVA DE PVC 90 GRAUS, SOLDAVEL, 20 MM, COR MARROM, PARA AGUA FRIA PREDIAL | C9: UN | D9: 6 | E9: 0 | F9: =D9*E9 -> 0 | G9: 0 | H9: =E9*(1+$G$9) -> 0 | I9: =H9*D9 -> 0
A10: 1.2 | B10: CURVA DE PVC 90 GRAUS, SOLDAVEL, 32 MM, COR MARROM, PARA AGUA FRIA PREDIAL | C10: UN | D10: 6 | E10: 0 | F10: =D10*E10 -> 0 | H10: =E10*(1+$G$9) -> 0 | I10: =H10*D10 -> 0
A11: 1.3 | B11: TUBO PVC, SOLDAVEL, DE 25 MM, AGUA FRIA (NBR-5648) | C11: M | D11: 36 | E11: 0 | F11: =D11*E11 -> 0 | H11: =E11*(1+$G$9) -> 0 | I11: =H11*D11 -> 0
A12: 1.4 | B12: TUBO PVC, SOLDAVEL, DE 32 MM, AGUA FRIA (NBR-5648) | C12: M | D12: 24 | E12: 0 | F12: =D12*E12 -> 0 | H12: =E12*(1+$G$9) -> 0 | I12: =H12*D12 -> 0
A13: 1.5 | B13: JOELHO, PVC SOLDAVEL, 45 GRAUS, 20 MM, COR MARROM, PARA AGUA FRIA PREDIAL | C13: UN | D13: 6 | E13: 0 | F13: =D13*E13 -> 0 | H13: =E13*(1+$G$9) -> 0 | I13: =H13*D13 -> 0
A14: 1.6 | B14: JOELHO, PVC SOLDAVEL, 45 GRAUS, 25 MM, COR MARROM, PARA AGUA FRIA PREDIAL | C14: UN | D14: 9 | E14: 0 | F14: =D14*E14 -> 0 | H14: =E14*(1+$G$9) -> 0 | I14: =H14*D14 -> 0
A15: 1.7 | B15: JOELHO, PVC SOLDAVEL, 45 GRAUS, 32 MM, COR MARROM, PARA AGUA FRIA PREDIAL | C15: UN | D15: 6 | E15: 0 | F15: =D15*E15 -> 0 | H15: =E15*(1+$G$9) -> 0 | I15: =H15*D15 -> 0
A16: 1.8 | B16: TE SOLDAVEL, PVC, 90 GRAUS, 20 MM, PARA AGUA FRIA PREDIAL (NBR 5648) | C16: UN | D16: 12 | E16: 0 | F16: =D16*E16 -> 0 | H16: =E16*(1+$G$9) -> 0 | I16: =H16*D16 -> 0
A17: 1.9 | B17: TE SOLDAVEL, PVC, 90 GRAUS, 25 MM, PARA AGUA FRIA PREDIAL (NBR 5648) | C17: UN | D17: 9 | E17: 0 | F17: =D17*E17 -> 0 | H17: =E17*(1+$G$9) -> 0 | I17: =H17*D17 -> 0
A18: 1.10 | B18: TE SOLDAVEL, PVC, 90 GRAUS, 32 MM, PARA AGUA FRIA PREDIAL (NBR 5648) | C18: UN | D18: 6 | E18: 0 | F18: =D18*E18 -> 0 | H18: =E18*(1+$G$9) -> 0 | I18: =H18*D18 -> 0
A19: 1.11 | B19: TE DE REDUCAO, PVC, SOLDAVEL, 90 GRAUS, 32 MM X 25 MM, PARA AGUA FRIA PREDIAL | C19: UN | D19: 6 | E19: 0 | F19: =D19*E19 -> 0 | H19: =E19*(1+$G$9) -> 0 | I19: =H19*D19 -> 0
A20: 1.12 | B20: TE DE REDUCAO, PVC, SOLDAVEL, 90 GRAUS, 25 MM X 20 MM, PARA AGUA FRIA PREDIAL | C20: UN | D20: 9 | E20: 0 | F20: =D20*E20 -> 0 | H20: =E20*(1+$G$9) -> 0 | I20: =H20*D20 -> 0
A21: 1.13 | B21: LUVA PVC SOLDAVEL, 32 MM, PARA AGUA FRIA PREDIAL | C21: UN | D21: 9 | E21: 0 | F21: =D21*E21 -> 0 | H21: =E21*(1+$G$9) -> 0 | I21: =H21*D21 -> 0
... A24: 1.16 | B24: LUVA DE REDUCAO SOLDAVEL, PVC, 32 MM X 25 MM, PARA AGUA FRIA PREDIAL | C24: UN | D24: 12 | E24: 0 | F24: =D24*E24 -> 0 | H24: =E24*(1+$G$9) -> 0 | I24: =H24*D24 -> 0
A25: 2. | B25: MATERIAIS DE CONSUMO GERAIS | F25: =SUM(F26:F34) -> 0 | I25: =SUM(I26:I34) -> 0
A26: 2.1 | B26: SOLDA EM VARETA FOSCOPER, D = *2,5* MM X COMPRIMENTO 500 MM | C26: KG | D26: 2 | E26: 0 | F26: =D26*E26 -> 0 | G26: 0 | H26: =E26*(1+$G$26) -> 0 | I26: =H26*D26 -> 0
A27: 2.2 | B27: PASTA PARA SOLDA DE TUBOS E CONEXOES DE COBRE (EMBALAGEM COM 250 G) | C27: UN | D27: 3 | E27: 0 | F27: =D27*E27 -> 0 | H27: =E27*(1+$G$26) -> 0 | I27: =H27*D27 -> 0
A28: 2.3 | B28: Cilindro refil de gás MAPP bernzomatic - 400g | C28: UN | D28: 6 | E28: 0 | F28: =D28*E28 -> 0 | H28: =E28*(1+$G$26) -> 0 | I28: =H28*D28 -> 0
A29: 2.4 | B29: ESTOPA | C29: KG | D29: 9 | E29: 0 | F29: =D29*E29 -> 0 | H29: =E29*(1+$G$26) -> 0 | I29: =H29*D29 -> 0
A30: 2.5 | B30: TRINCHA CERDAS GRIS 1.1/2" (38 MM) | C30: UN | D30: 4 | E30: 0 | F30: =D30*E30 -> 0 | H30: =E30*(1+$G$26) -> 0 | I30: =H30*D30 -> 0
A31: 2.6 | B31: Manta Filtrante Classe G3/G4 - Rolo 20 Metros | C31: UN | D31: 2 | E31: 0 | F31: =D31*E31 -> 0 | H31: =E31*(1+$G$26) -> 0 | I31: =H31*D31 -> 0
A32: 2.7 | B32: DETERGENTE NEUTRO USO GERAL, CONCENTRADO | C32: L | D32: 4 | E32: 0 | F32: =D32*E32 -> 0 | H32: =E32*(1+$G$26) -> 0 | I32: =H32*D32 -> 0
A33: 2.8 | B33: CLORO LÍQUIDO | C33: L | D33: 8 | E33: 0 | F33: =D33*E33 -> 0 | H33: =E33*(1+$G$26) -> 0 | I33: =H33*D33 -> 0
A34: 2.9 | B34: FITA ISOLANTE ADESIVA ANTICHAMA, USO ATE 750 V, EM ROLO DE 19 MM X 20 M | C34: UN | D34: 12 | E34: 0 | F34: =D34*E34 -> 0 | H34: =E34*(1+$G$26) -> 0 | I34: =H34*D34 -> 0
A35: 3 | B35: EQUIPAMENTOS GERAIS / EQUIPAMENTOS DE PROTEÇÃO E SINALIZAÇÃO | F35: =SUM(F37:F44) -> 0 | I35: =SUM(I37:I44) -> 0
B36: Valor Mensal com depreciação 24 meses Equipamentos gerais | F36: =SUM(F37:F44)/24 -> 0 | I36: =SUM(I37:I44)/24 -> 0
A37: 3.1 | B37: CONE DE SINALIZACAO EM PVC RIGIDO COM FAIXA REFLETIVA, H = 70 / 76 CM | C37: UN | D37: 4 | E37: 0 | F37: =D37*E37 -> 0 | G37: 0 | H37: =E37*(1+$G$37) -> 0 | I37: =H37*D37 -> 0
A38: 3.2 | B38: CORDA DE POLIAMIDA 12 MM TIPO BOMBEIRO, PARA TRABALHO EM ALTURA (100M) | C38: UN | D38: 1 | E38: 0 | F38: =D38*E38 -> 0 | H38: =E38*(1+$G$37) -> 0 | I38: =H38*D38 -> 0
A39: 3.3 | B39: CABO DE ACO GALVANIZADO, DIAMETRO 12,7 MM (1/2"), COM ALMA DE FIBRA 6 X 25 F | C39: KG | D39: 6 | E39: 0 | F39: =D39*E39 -> 0 | H39: =E39*(1+$G$37) -> 0 | I39: =H39*D39 -> 0
A40: 3.4 | B40: TABUA APARELHADA *2,5 X 25* CM, EM MACARANDUBA/MASSARANDUBA, ANGELIM OU EQUIVALENTE DA REGIAO | C40: M | D40: 5 | E40: 0 | F40: =D40*E40 -> 0 | H40: =E40*(1+$G$37) -> 0 | I40: =H40*D40 -> 0
A41: 3.5 | B41: BOMBA DE VÁCUO 12 CFM DUPLO ESTÁGIO BIVOLT | C41: UN | D41: 1 | E41: 0 | F41: =D41*E41 -> 0 | H41: =E41*(1+$G$37) -> 0 | I41: =H41*D41 -> 0
A42: 3.6 | B42: LAVADORA DE ALTA PRESSAO (LAVA - JATO) PARA AGUA FRIA, PRESSAO DE OPERACAO ENTRE 1400 E 1900 LIB/POL2, VAZAO MAXIMA ENTRE 400 E 700 L/H, POTENCIA DE OPERACAO ENTRE 2,50 E 3,00 CV | C42: UN | D42: 1 | E42: 0 | F42: =D42*E42 -> 0 | H42: =E42*(1+$G$37) -> 0 | I42: =H42*D42 -> 0
A43: 3.7 | B43: KIT MAÇARICO PORTÁTIL PARA SOLDA SERVIÇOS AR CONDICIONADO | C43: UN | D43: 1 | E43: 0 | F43: =D43*E43 -> 0 | H43: =E43*(1+$G$37) -> 0 | I43: =H43*D43 -> 0
A44: 3.8 | B44: ESCADA EXTENSIVEL EM ALUMINIO, COM SAPATAS DE BORRACHA, ALTURA FECHADA 3,60 M, ALTURA ESTENDIDA DE 6,0 A 6,30 M, LARGURA MINIMA DE 35 CM, CACIDADE *120* KG | C44: UN | D44: 1 | E44: 0 | F44: =D44*E44 -> 0 | H44: =E44*(1+$G$37) -> 0 | I44: =H44*D44 -> 0
A45: TOTAL ANUAL | F45: =F8+F25+(F35/2) -> 0 | I45: =I8+I25+(I35/2) -> 0
A46: TOTAL MENSAL | F46: =F45/12 -> 0 | I46: =I45/12 -> 0
...

Sheet Anexo IV C - Peças sob Demanda
A2: ANEXO IV C – PLANILHA DE CUSTOS DE PEÇAS SOB DEMANDA - Garanhuns
A4: PERCENTUAL DE DESCONTO OFERECIDO PELA LICITANTE AO ITEM PEÇAS SOB DEMANDA | I4: 0
A6: PLANILHA ESTIMATIVA DE CUSTOS DE PEÇAS SOB DEMANDA
A8: ITEM | B8: DESCRIÇÃO | C8: UNID | D8: QUANTIDADE | E8: PREÇO UNITÁRIO S/BDI Diferenciado | F8: TOTAL S/BDI Diferenciado | G8: BDI Diferenciado | H8: PREÇO UNITÁRIO C/BDI Diferenciado | I8: TOTAL C/BDI Diferenciado
K10: Valor unitário estimado pela Administração C/ BDI
A11: 5
A12: 5.1 | B12: CAPACITORES PARA APARELHOS DE AR CONDICIONADO COM CAPACIDADE DE 9.000 A 12.000 Btus | C12: UN | D12: 20 | E12: =H12/(1+$G$12) -> 29.07 | F12: =D12*E12 -> 581.4 | G12: 0 | H12: =K12-(K12*$I$4) -> 29.07 | I12: =D12*H12 -> 581.4 | K12: 29.07
A13: 5.2 | B13: CAPACITORES PARA APARELHOS DE AR CONDICIONADO COM CAPACIDADE DE 18.000 A 30.000 Btus | C13: UN | D13: 15 | E13: =H13/(1+$G$12) -> 38.52 | F13: =D13*E13 -> 577.8 | H13: =K13-(K13*$I$4) -> 38.52 | I13: =D13*H13 -> 577.8 | K13: 38.52
A14: 5.3 | B14: CAPACITORES PARA APARELHOS DE AR CONDICIONADO COM CAPACIDADE DE 36.000 A 60.000 Btus | C14: UN | D14: 10 | E14: =H14/(1+$G$12) -> 54.4 | F14: =D14*E14 -> 544 | H14: =K14-(K14*$I$4) -> 54.4 | I14: =D14*H14 -> 544 | K14: 54.4
A15: 5.4 | B15: CONTATOR TRIPOLAR, CORRENTE DE 25 A, TENSAO NOMINAL DE *500* V, CATEGORIA AC-2 E AC-3 | C15: UN | D15: 2 | E15: =H15/(1+$G$12) -> 199.13 | F15: =D15*E15 -> 398.26 | H15: =K15-(K15*$I$4) -> 199.13 | I15: =D15*H15 -> 398.26 | K15: 199.13
A16: 5.5 | B16: CONTATOR TRIPOLAR, CORRENTE DE 32 A, TENSAO NOMINAL DE *500* V, CATEGORIA AC-2 E AC-3 | C16: UN | D16: 2 | E16: =H16/(1+$G$12) -> 308.19 | F16: =D16*E16 -> 616.38 | H16: =K16-(K16*$I$4) -> 308.19 | I16: =D16*H16 -> 616.38 | K16: 308.19
A17: 5.6 | B17: CONTATOR TRIPOLAR, CORRENTE DE 45 A, TENSAO NOMINAL DE *500* V, CATEGORIA AC-2 E AC-3 | C17: UN | D17: 2 | E17: =H17/(1+$G$12) -> 551.21 | F17: =D17*E17 -> 1102.42 | H17: =K17-(K17*$I$4) -> 551.21 | I17: =D17*H17 -> 1102.42 | K17: 551.21
A18: 5.7 | B18: Placa eletrônica PRINCIPAL para aparelhos de ar condicionado de qualquer capacidade | C18: UN | D18: 11 | E18: =H18/(1+$G$12) -> 562.72 | F18: =D18*E18 -> 6189.92 | H18: =K18-(K18*$I$4) -> 562.72 | I18: =D18*H18 -> 6189.92 | K18: 562.72
A19: 5.8 | B19: Placa eletrônica UNIVERSAL COM CONTROLE para aparelhos de ar condicionado de qualquer capacidade | C19: UN | D19: 11 | E19: =H19/(1+$G$12) -> 120 | F19: =D19*E19 -> 1320 | H19: =K19-(K19*$I$4) -> 120 | I19: =D19*H19 -> 1320 | K19: 120
A20: 5.9 | B20: SENSOR DE TEMPERATURA | C20: UN | D20: 13 | E20: =H20/(1+$G$12) -> 44 | F20: =D20*E20 -> 572 | H20: =K20-(K20*$I$4) -> 44 | I20: =D20*H20 -> 572 | K20: 44
A21: 5.10 | B21: Compressor para ar condicionado até 9.000 BTU/h. | C21: UN | D21: 2 | E21: =H21/(1+$G$12) -> 678.16 | F21: =D21*E21 -> 1356.32 | H21: =K21-(K21*$I$4) -> 678.16 | I21: =D21*H21 -> 1356.32 | K21: 678.16
A22: 5.11 | B22: Compressor para ar condicionado Inverter de 9.000 BTU/h | C22: UN | D22: 1 | E22: =H22/(1+$G$12) -> 967.61 | F22: =D22*E22 -> 967.61 | H22: =K22-(K22*$I$4) -> 967.61 | I22: =D22*H22 -> 967.61 | K22: 967.61
A23: 5.12 | B23: Compressor para ar condicionado de 12.000 BTU/h. | C23: UN | D23: 2 | E23: =H23/(1+$G$12) -> 685.25 | F23: =D23*E23 -> 1370.5 | H23: =K23-(K23*$I$4) -> 685.25 | I23: =D23*H23 -> 1370.5 | K23: 685.25
A24: 5.13 | B24: Compressor para ar condicionado Inverter de 12.000 BTU/h | C24: UN | D24: 1 | E24: =H24/(1+$G$12) -> 1101.72 | F24: =D24*E24 -> 1101.72 | H24: =K24-(K24*$I$4) -> 1101.72 | I24: =D24*H24 -> 1101.72 | K24: 1101.72
... A90: 5.79 | B90: GÁS REFRIGERANTE R32 | C90: KG | D90: 30 | E90: =H90/(1+$G$12) -> 106.62 | F90: =D90*E90 -> 3198.6 | H90: =K90-(K90*$I$4) -> 106.62 | I90: =D90*H90 -> 3198.6 | K90: 106.62
A91: TOTAL ANUAL | F91: =SUM(F12:F90) -> 110035.1 | I91: =SUM(I12:I90) -> 110035.1
A92: TOTAL MENSAL | F92: =F91/12 -> 9169.5917 | I92: =I91/12 -> 9169.5917
A95: *OBS: A QUANTIDADE DE MATERIAL DESTA LISTA É UMA ESTIMATIVA.
A96: IMPORTANTE: O CORRETO PREENCHIMENTO DAS PLANILHAS, INCLUSIVE QUANTO A FÓRMULAS, É DE RESPONSABILIDADE ÚNICA E EXCLUSIVA DA LICITANTE.

Sheet Anexo IV D - Serv._Eventuais
A2: ANEXO IV D – PLANILHA DE CUSTOS DOS SERVIÇOS EVENTUAIS - Garanhuns
A4: DESCONTO OFERECIDO PELA LICITANTE EM PERCENTUAL | I4: 0
A6: PLANILHA DE CUSTOS DOS SERVIÇOS EVENTUAIS
A7: Item | B7: Descrição | C7: Unid. | D7: Quant. | E7: Preço Unitário S/ BDI Diferenciado | F7: Preço Total S/BDI Diferenciado | G7: BDI Diferenciado | H7: Preço Unitário C/ BDI Diferenciado | I7: Preço Total c/BDI Diferenciado | L7: Valor unitário estimado pela Administração C/ BDI
A9: 6 | L9: 195
A10: 6.1 | B10: Serviços de Coleta e Análise Bacteriológica e Microbiológica do Ar | C10: sv | D10: 164 | E10: =ROUNDDOWN(H10/(1+$G$10),2) -> 195 | F10: =D10*E10 -> 31980 | G10: 0 | H10: =L9-(L9*$I$4) -> 195 | I10: =H10*D10 -> 31980 | L10: 22.06
A11: 6.2 | B11: Limpeza e dutos de ar condicionado e exaustores | C11: m | D11: 200 | E11: =ROUNDUP(H11/(1+$G$10),2) -> 22.06 | F11: =D11*E11 -> 4412 | H11: =L10-(L10*$I$4) -> 22.06 | I11: =H11*D11 -> 4412
A13: TOTAL GERAL ANUAL S/ BDI (R$) = | I13: =F10+F11 -> 36392
A15: TOTAL MENSAL S/ BDI (R$) = | I15: =I13/12 -> 3032.6667
A17: TOTAL GERAL ANUAL C/ BDI (R$) = | I17: =I10+I11 -> 36392
A19: TOTAL MENSAL C/ BDI (R$) = | I19: =I17/12 -> 3032.6667

Sheet Anexo IV E - Cálculo BDI
A2: ANEXO IV E - COMPOSIÇÃO DA TAXA DE BDI - Garanhuns
A4: REGIME ADOTADO | D4: DESONERADO ( ) NÃO DESONERADO ( )
A7: CÁLCULO DO BDI | F7: CÁLCULO DO BDI DIFERENCIADO
A8: (SERVIÇOS PREVENTIVOS, CORRETIVOS E SOB DEMANDA) | F8: (SERVIÇOS E PEÇAS SOB DEMANDA)
A10: COMPONENTE | D10: INCIDÊNCIA | F10: COMPONENTE | I10: INCIDÊNCIA
A11: A | C11: DESPESAS INDIRETAS | F11: A | H11: DESPESAS INDIRETAS
B12: 1 | C12: Administração Central | D12: 0 | G12: 1 | H12: Administração Central | I12: 0
B13: 2 | C13: Seguros + Garantias | D13: 0 | G13: 2 | H13: Seguros + Garantias | I13: 0
B14: 3 | C14: Riscos | D14: 0 | G14: 3 | H14: Riscos | I14: 0
B15: 4 | C15: Despesas Financeiras | D15: 0 | G15: 4 | H15: Despesas Financeiras | I15: 0
A18: B | C18: TRIBUTOS | F18: B | H18: TRIBUTOS
B19: 1 | C19: COFINS - Contribuição financiamento seguridade social | D19: 0 | G19: 1 | H19: COFINS - Contribuição financiamento seguridade social | I19: 0
B20: 2 | C20: PIS - Programa de Integração Social | D20: 0 | G20: 2 | H20: PIS - Programa de Integração Social | I20: 0
B21: 3 | C21: ISS - Imposto sobre serviço de qualquer natureza | D21: 0 | G21: 3 | H21: ISS - Imposto sobre serviço de qualquer natureza | I21: 0
B22: 4 | C22: Contribuição Previdenciária sobre Receita Bruta | D22: 0 | G22: 4 | H22: Contribuição Previdenciária sobre Receita Bruta | I22: 0
A25: C | C25: BONIFICAÇÃO | F25: C | H25: BONIFICAÇÃO
B26: 1 | C26: Lucro | D26: 0 | G26: 1 | H26: Lucro | I26: 0
B27: 2 | G27: 2
B28: 3 | G28: 3
B29: 4 | G29: 4
A32: BDI | D32: =(((1+(D12+D13+D14))*(1+D15)*(1+D26))/(1-(D19+D20+D21+D22))-1) -> 0 | F32: BDI DIFERENCIADO | I32: =(((1+(I12+I13+I14))*(1+I15)*(1+I26))/(1-(I19+I20+I21+I22))-1) -> 0
A35: Observações:
A36: (*) % de ISS adotado: A licitante deverá informar, na composição do BDI, a alíquota de ISSQN adotada e seu respectivo fundamento legal, mediante indicação da legislação aplicável.
A37: A licitante deve adotar a correta tributação à qual esteja vinculada e caso tenha havido erro, e a tributação real seja pela CPRB, será promovido o reequilíbrio dos valores pactuados para correção da falha, caso contrário a empresa deve arcar com o ônus de seu equívoco, conforme notas introdutórias das minutas padrão do INSS;
A39: FÓRMULA UTILIZADA PARA CÁLCULO DO BDI
A41: AC | B41: Taxa representativa das despesas de rateio da Administração Central
A42: S | B42: Taxa representativa de Seguros
A43: R | B43: Taxa representativa de Riscos
A44: G | B44: Taxa representativa de Garantias
A45: DF | B45: Taxa representativa das Despesas Financeiras
A46: L | B46: Taxa representativa do Lucro
A47: I | B47: Taxa representativa da incidência de Impostos
B48: Taxa representativa da incidência de impostos é aplicada sobre o preço de venda da prestação do serviço, enquanto que as demais taxas são aplicadas sobre o custo.

Sheet Anexo IV F - Transp. +_Diárias
A2: COTAÇÃO DE PREÇO DO DESLOCAMENTO
A3: COMPOSIÇÃO – CAMINHONETE CABINE DUPLA COM MOTOR FLEX, CÂMBIO MANUAL - CHP DIURNO. (H)
A4: GRUPO | B4: CÓDIGO | C4: DESCRIÇÃO | G4: UNIDADE | H4: PREÇO UNITÁRIO | I4: ÍNDICE | J4: PREÇO TOTAL | L4: DESCRIÇÃO DO VEÍCULO | S4: VALOR
A5: - | B5: - | C5: CAMINHONETE CABINE DUPLA COM MOTOR FLEX, CÂMBIO MANUAL- DEPRECIAÇÃO. | G5: H | H5: =J26 -> 0 | I5: 1 | J5: =I5*H5 -> 0 | L5: Veículo | S5: 0
A6: - | B6: - | C6: CAMINHONETE CABINE DUPLA COM MOTOR FLEX, CÂMBIO MANUAL- JUROS. | G6: H | H6: =J30 -> 0 | I6: 1 | J6: =I6*H6 -> 0
A7: - | B7: - | C7: CAMINHONETE CABINE DUPLA COM MOTOR FLEX, CÂMBIO MANUAL - IMPOSTOS E SEGUROS. | G7: H | H7: =J34 -> 0 | I7: 1 | J7: =I7*H7 -> 0
A8: - | B8: - | C8: CAMINHONETE CABINE DUPLA COM MOTOR FLEX, CÂMBIO MANUAL- MANUTENÇÃO. | G8: H | H8: =J38 -> 0 | I8: 1 | J8: =I8*H8 -> 0
A9: - | B9: - | C9: CAMINHONETE CABINE DUPLA COM MOTOR FLEX, CÂMBIO MANUAL - MATERIAIS NA OPERAÇÃO. | G9: H | H9: =J42 -> 0 | I9: 1 | J9: =I9*H9 -> 0
A10: TOTAL POR HORA PRODUTIVA | J10: =SUM(J5:J9) -> 0
A11: QUANTIDADE DE HORAS PRODUTIVAS | J11: 0
A12: ESTIMATIVA TOTAL DE HORAS PRODUTIVAS | J12: =J11*J10 -> 0
A14: COMPOSIÇÃO – CAMINHONETE CABINE DUPLA COM MOTOR FLEX, CÂMBIO MANUAL - CHI DIURNO. (H)
A15: GRUPO | B15: CÓDIGO | C15: DESCRIÇÃO | G15: UNIDADE | H15: PREÇO UNITÁRIO | I15: ÍNDICE | J15: PREÇO TOTAL
A16: - | B16: - | C16: CAMINHONETE CABINE DUPLA COM MOTOR FLEX, CÂMBIO MANUAL - DEPRECIAÇÃO | G16: H | H16: =J26 -> 0 | I16: 1 | J16: =I16*H16 -> 0
A17: - | B17: - | C17: CAMINHONETE CABINE DUPLA COM MOTOR FLEX, CÂMBIO MANUAL - JUROS. | G17: H | H17: =J30 -> 0 | I17: 1 | J17: =I17*H17 -> 0
A18: - | B18: - | C18: CAMINHONETE CABINE DUPLA COM MOTOR FLEX, CÂMBIO MANUAL - IMPOSTOS E SEGUROS. | G18: H | H18: =J34 -> 0 | I18: 1 | J18: =I18*H18 -> 0
A19: TOTAL POR HORA IMPRODUTIVA | J19: =SUM(J16:J18) -> 0
A20: QUANTIDADE DE HORAS IMPRODUTIVAS | J20: 0
A21: ESTIMATIVA TOTAL DE HORAS IMPRODUTIVAS | J21: =J20*J19 -> 0
A24: CAMINHONETE CABINE DUPLA COM MOTOR FLEX, CÂMBIO MANUAL - DEPRECIAÇÃO. (H)
A25: DESCRIÇÃO | G25: UNIDADE | H25: COEFICIENTE | I25: CUSTO UNITÁRIO VEÍCULO | J25: CUSTO TOTAL
A26: CAMINHONETE CABINE DUPLA COM MOTOR FLEX, CÂMBIO MANUAL | G26: UN | H26: 4.8e-05 | I26: 0 | J26: =TRUNC((I26*H26),2) -> 0
A28: CAMINHONETE CABINE DUPLA COM MOTOR FLEX, CÂMBIO MANUAL - JUROS. (H)
A29: DESCRIÇÃO | G29: UNIDADE | H29: COEFICIENTE | I29: CUSTO UNITÁRIO VEÍCULO | J29: CUSTO TOTAL
A30: CAMINHONETE CABINE DUPLA COM MOTOR FLEX, CÂMBIO MANUAL | G30: UN | H30: 1.48e-05 | I30: 0 | J30: =TRUNC((I30*H30),2) -> 0
A32: CAMINHONETE CABINE DUPLA COM MOTOR FLEX, CÂMBIO MANUAL - IMPOSTOS E SEGUROS. (H)
A33: DESCRIÇÃO | G33: UNIDADE | H33: COEFICIENTE | I33: CUSTO UNITÁRIO VEÍCULO | J33: CUSTO TOTAL
A34: CAMINHONETE CABINE DUPLA COM MOTOR FLEX, CÂMBIO MANUAL | G34: UN | H34: 6e-06 | I34: 0 | J34: =TRUNC((I34*H34),2) -> 0
A36: CAMINHONETE CABINE DUPLA COM MOTOR FLEX, CÂMBIO MANUAL - MANUTENÇÃO. (H)
A37: DESCRIÇÃO | G37: UNIDADE | H37: COEFICIENTE | I37: CUSTO UNITÁRIO VEÍCULO | J37: CUSTO TOTAL
A38: CAMINHONETE CABINE DUPLA COM MOTOR FLEX, CÂMBIO MANUAL | G38: UN | H38: 6e-05 | I38: 0 | J38: =TRUNC((I38*H38),2) -> 0
A40: CAMINHONETE CABINE DUPLA COM MOTOR FLEX, CÂMBIO MANUAL - MATERIAIS NA OPERAÇÃO. (H)
A41: DESCRIÇÃO | G41: UNIDADE | H41: COEFICIENTE | I41: CUSTO UNITÁRIO | J41: CUSTO TOTAL
A42: Gasolina Comum | G42: L | H42: 6.69 | I42: 0 | J42: =TRUNC((I42*H42),2) -> 0
A45: RESUMO DAS ESTIMATIVAS DE DESLOCAMENTOS E DIÁRIAS
A46: ITEM | B46: DESCRIÇÃO | E46: QUANTIDADE MENSAL | F46: PREÇO UNITÁRIO | G46: CUSTO MENSAL (SEM BDI) | H46: QUANTIDADE ANUAL | I46: VALOR ANUAL (SEM BDI) | J46: %
A47: 1 | B47: ESTIMATIVA DE PERNOITE E ALIMENTAÇÃO (JANTAR) | E47: 0 | F47: 0 | G47: =E47*F47 -> 0 | H47: =E47*12 -> 0 | I47: =H47*F47 -> 0 | J47: =I47/G53 -> #DIV/0!
A48: 2 | B48: ESTIMATIVA - PEDÁGIO E OUTRAS TARIFAS | E48: 0 | F48: 0 | G48: 0 | H48: =E48*12 -> 0 | I48: 0 | J48: 0
A49: 3 | B49: ESTIMATIVA P/DESPESAS C/TRANSPORTE - ÔNIBUS RODOVIÁRIO | E49: 0 | F49: 0 | G49: 0 | H49: =E49*12 -> 0 | I49: 0 | J49: 0
A50: 4 | B50: ESTIMATIVA TOTAL DE HORAS PRODUTIVAS DESLOCAMENTO VEÍCULO MANUTENÇÃO AR CONDICIONADO | E50: 0 | F50: 0 | G50: =E50*F50 -> 0 | H50: =E50*12 -> 0 | I50: =H50*F50 -> 0 | J50: =I50/G53 -> #DIV/0!
...

Sheet Memória_Cálculo
A1: MEMÓRIA DE CÁLCULO - PLANILHA DE CUSTOS E FORMAÇÃO DE PREÇOS DE MÃO DE OBRA
A3: REFERÊNCIAS PARA O SALÁRIO NORMATIVO: | B3: PROFISSIONAIS NECESSÁRIOS | C3: FUNCIONÁRIO (CBO)
B4: SALÁRIO NORMATIVO DA CATEGORIA | C4: SALÁRIO NORMATIVO
C5: FONTE
A7: CUSTOS | B7: PERCENTUAIS E VALORES DE REFERÊNCIA
A8: MÓDULO 1: COMPOSIÇÃO DA REMUNERAÇÃO
A9: 1 - Composição da Remuneração | C9: Valor (R$)
A10: A - Salário Base | C10: SALÁRIO NORMATIVO
A11: B - Adicional por atividade CCT
A12: C - Adicional insalubridade / periculosidade
A13: D - Adicional noturno
A14: E - Adicional de Hora Noturna Reduzida
A15: F - Adicional de Hora Extra no Feriado Trabalhado
A16: G - Outros (especificar)
A17: TOTAL DO MÓDULO 1 (COMPOSIÇÃO DA REMUNERAÇÃO) | C17: SOMA DOS VALORES DO MÓDULO
A19: MÓDULO 2: ENCARGOS E BENEFÍCIOS ANUAIS, MENSAIS E DIÁRIOS
A20: Submódulo 2.1 - 13º Salário e Adicional de Férias
A21: 2.1 - 13º Salário, Férias e Adicional de Férias | C21: Valor (R$)
A22: A - 13º salário | B22: 0.0833 | C22: 1/12 = 8,33
A23: B – Férias + Adicional de Férias | B23: 0.027766667 | C23: 1/12*1/3 = 2,78
A24: TOTAL DE 13º SALÁRIO E ADICIONAL DE FÉRIAS | B24: 0.11106667 | C24: SOMA 2.1
A25: Submódulo 2.2 - Encargos previdenciários e FGTS
A26: 2.2 - Encargos previdenciários e FGTS (incide sobre modulo 1 e submódulo 2.2) | C26: Valor (R$)
A27: A - INSS | B27: 0 | C27: DESONERADA / NÃO DESONERADO
A28: B - Salário Educação | B28: 0.025 | C28: Fundamentação: art. 3º, inciso I, do Decreto nº 87.043/8
A29: C - Seguro Acidente do Trabalho/SAT/INSS | B29: 0.03 | C29: art. 22, inciso II, alíneas ‘b’ e ‘c’, da Lei nº 8.212/91
A30: D - SESI ou SESC | B30: 0.015 | C30: art. 30 da Lei nº 8.036/90 e art. 1º da Lei nº 8.154/90.
A31: E - SENAI ou SENAC | B31: 0.01 | C31: Decreto-Lei nº 2.318/86
A32: F - SEBRAE | B32: 0.006 | C32: Lei nº 8.029/90, alterada pela Lei nº 8.154/90.
A33: G - INCRA | B33: 0.002 | C33: art. 1º, inciso I, do Decreto-Lei nº 1.146/70
A34: F - FGTS | B34: 0.08 | C34: art. 15 da Lei nº 8.036/90 e art. 7º, inciso III, da Constituição Federal de 1988.
A35: TOTAL DE ENCARGOS PREVIDENCIÁRIOS E FGTS | B35: =SUM(B27:B34) -> 0.168 | C35: SOMA 2.2
A36: Submódulo 2.3 – Benefícios Mensais e Diários
A37: 2.3 - Benefícios Mensais e Diários | C37: Valor (R$)
A38: A - Transporte | C38: VALOR TRANSPORTE OFICIAL
A39: B - Auxílio alimentação (Vales, cesta básica etc.) | C39: VALOR CONVENÇÃO COLETIVA
A40: C - Assistência médica e familiar | C40: 0
A41: D - Auxílio creche | C41: 0
A42: E - Seguro de vida, invalidez e funeral | C42: 0
A43: F - Outros (especificar) | C43: 0
...
