Workbook
Name Print_Area: Resumo!$A$1:$H$131
Name Print_Area: 'Memória de Cálculo'!$A$1:$E$72
Name Print_Area_0_0: Resumo!$A$1:$H$131
Name Print_Area_0_0: 'Memória de Cálculo'!$A$1:$E$43
Name Print_Area_0_0_0: Resumo!$A$1:$H$89
Name Print_Area_0_0_0: 'Memória de Cálculo'!$A$1:$E$43

Sheet Resumo
A1: PLANILHA ESTIMATIVA
A2: Anexo IV - Planilha de Custos e Formação de Preços para Serviços de Vigilância - GEX Belém, Marabá e Santarém/PA
A4: INSS - GERÊNCIA EXECUTIVA EM BELÉM, MARABÁ E SANTARÉM / PA
A5: PREGÃO ELETRÔNICO Nº
A6: DATA DA ABERTURA: | G6: Hora:
A8: 1 - OBJETO:
A9: Contratação de serviços de segurança e vigilância orgânica e patrimonial desarmada, visando atender as demandas das Gerências Executivas vinculadas, conforme condições, quantidades e exigências estabelecidas neste instrumento convocatório.
A11: 2 - CONDIÇÕES GERAIS
A12: Conforme Termo de Referência.
A16: RESUMO GERAL
B17: DESCRIÇÃO | F17: POSTOS / HE | G17: VALOR MENSAL | H17: VALOR GLOBAL
B18: POSTO DE VIGILÂNCIA DESARMADA 44 HORAS SEMANAIS | F18: =E27+E31+E34+E38+E41+E44+E47+E50+E53+E56+E59+E63+E67+E71+E74+E77+E81+E84+E88+E91+E95+E98+E102+E105+E108+E111+E114+E117+E120+E123+E126+E129+E132+E135+E138+E141+E145+E149+E152+E155+E158+E161+E164+E167+E170+E174+E177+E180+E183+E187+E190+E194+E198+E202+E206+E210 -> 81 | G18: =G27+G31+G34+G38+G41+G44+G47+G50+G53+G56+G59+G63+G67+G71+G74+G77+G81+G84+G88+G91+G95+G98+G102+G105+G108+G111+G114+G117+G120+G123+G126+G129+G132+G135+G138+G141+G145+G149+G152+G155+G158+G161+G164+G167+G170+G174+G177+G180+G183+G187+G190+G194+G198+G202+G206+G210 -> 466837.14 | H18: =G18*12 -> 5602045.7
B19: POSTO DE VIGILÂNCIA DESARMADA 12x36 DIURNO | F19: =E28+E32+E35+E39+E42+E45+E48+E51+E54+E57+E60+E64+E68+E72+E75+E78+E82+E85+E89+E92+E96+E99+E103+E106+E109+E112+E115+E118+E121+E124+E127+E130+E133+E136+E139+E142+E146+E150+E153+E156+E159+E162+E165+E168+E171+E175+E178+E181+E184+E188+E191+E195+E199+E203+E207+E211 -> 21 | G19: =G28+G32+G35+G39+G42+G45+G48+G51+G54+G57+G60+G64+G68+G72+G75+G78+G82+G85+G89+G92+G96+G99+G103+G106+G109+G112+G115+G118+G121+G124+G127+G130+G133+G136+G139+G142+G146+G150+G153+G156+G159+G162+G165+G168+G171+G175+G178+G181+G184+G188+G191+G195+G199+G203+G207+G211 -> 230430.32 | H19: =G19*12 -> 2765163.8
B20: POSTO DE VIGILÂNCIA DESARMADA 12x36 NOTURNO | F20: =E29+E36+E61+E65+E69+E79+E86+E93+E100+E143+E147+E172+E185+E192+E196+E200+E204+E208 -> 26 | G20: =G29+G36+G61+G65+G69+G79+G86+G93+G100+G143+G147+G172+G185+G192+G196+G200+G204+G208 -> 328576.8 | H20: =G20*12 -> 3942921.6
B21: HORA EXTRA (Sábado) | F21: 250 | G21: =H21/12 -> 585.20833 | H21: =Horas_Extras!E130 -> 7022.5
B22: HORA EXTRA (Domingo e feriados) | F22: 50 | G22: =H22/12 -> 156.04167 | H22: =Horas_Extras!E131 -> 1872.5
B23: VALOR TOTAL: | F23: =SUM(F18:F20) -> 128 | G23: =SUM(G18:G22) -> 1026585.5 | H23: =SUM(H18:H22) -> 12319026
A25: PLANILHA 2023
A26: Item | B26: Município | C26: Descrição | E26: Quant. | F26: Valor do Posto | G26: Valor Mensal | H26: Valor 12 Meses
A27: 1 | B27: BELÉM | C27: POSTO DE VIGILÂNCIA DESARMADA 44 HORAS SEMANAIS | E27: 12 | F27: =Belém!E128 -> 5859.54 | G27: =F27*E27 -> 70314.48 | H27: =G27*12 -> 843773.76
C28: POSTO DE VIGILÂNCIA DESARMADA 12x36 DIURNO | E28: 8 | F28: =Belém!E129 -> 11012.84 | G28: =F28*E28 -> 88102.72 | H28: =G28*12 -> 1057232.6
C29: POSTO DE VIGILÂNCIA DESARMADA 12x36 NOTURNO | E29: 8 | F29: =Belém!E130 -> 12695.82 | G29: =F29*E29 -> 101566.56 | H29: =G29*12 -> 1218798.7
C30: VALOR TOTAL: | G30: =SUM(G27:G29) -> 259983.76 | H30: =SUM(H27:H29) -> 3119805.1
A31: 2 | B31: ACARÁ | C31: POSTO DE VIGILÂNCIA DESARMADA 44 HORAS SEMANAIS | E31: 1 | F31: =Acará!E128 -> 5724.59 | G31: =F31*E31 -> 5724.59 | H31: =G31*12 -> 68695.08
C32: POSTO DE VIGILÂNCIA DESARMADA 12x36 DIURNO | E32: 0 | F32: =Acará!E129 -> 10967.34 | G32: =F32*E32 -> 0 | H32: =G32*12 -> 0
C33: VALOR TOTAL: | G33: =SUM(G31:G32) -> 5724.59 | H33: =SUM(H31:H32) -> 68695.08
A34: 3 | B34: BARCARENA | C34: POSTO DE VIGILÂNCIA DESARMADA 44 HORAS SEMANAIS | E34: 0 | F34: =Barcarena!E128 -> 5724.59 | G34: =F34*E34 -> 0 | H34: =G34*12 -> 0
C35: POSTO DE VIGILÂNCIA DESARMADA 12x36 DIURNO | E35: 1 | F35: =Barcarena!E129 -> 10967.34 | G35: =F35*E35 -> 10967.34 | H35: =G35*12 -> 131608.08
C36: POSTO DE VIGILÂNCIA DESARMADA 12x36 NOTURNO | E36: 1 | F36: =Barcarena!E130 -> 12650.3 | G36: =F36*E36 -> 12650.3 | H36: =G36*12 -> 151803.6
C37: VALOR TOTAL: | G37: =SUM(G34:G36) -> 23617.64 | H37: =SUM(H34:H36) -> 283411.68
A38: 4 | B38: BENEVIDES | C38: POSTO DE VIGILÂNCIA DESARMADA 44 HORAS SEMANAIS | E38: 2 | F38: =Benevides!E128 -> 5833.03 | G38: =F38*E38 -> 11666.06 | H38: =G38*12 -> 139992.72
C39: POSTO DE VIGILÂNCIA DESARMADA 12x36 DIURNO | E39: 0 | F39: =Benevides!E129 -> 10982.26 | G39: =F39*E39 -> 0 | H39: =G39*12 -> 0
C40: VALOR TOTAL: | G40: =SUM(G38:G39) -> 11666.06 | H40: =SUM(H38:H39) -> 139992.72
A41: 5 | B41: CONCÓRDIA DO PARÁ | C41: POSTO DE VIGILÂNCIA DESARMADA 44 HORAS SEMANAIS | E41: 1 | F41: =Concórdia!E128 -> 5724.59 | G41: =F41*E41 -> 5724.59 | H41: =G41*12 -> 68695.08
C42: POSTO DE VIGILÂNCIA DESARMADA 12x36 DIURNO | E42: 0 | F42: =Concórdia!E129 -> 10967.34 | G42: =F42*E42 -> 0 | H42: =G42*12 -> 0
C43: VALOR TOTAL: | G43: =SUM(G41:G42) -> 5724.59 | H43: =SUM(H41:H42) -> 68695.08
A44: 6 | B44: DOM ELISEU | C44: POSTO DE VIGILÂNCIA DESARMADA 44 HORAS SEMANAIS | E44: 1 | F44: ='Dom Eliseu'!E128 -> 5724.59 | G44: =F44*E44 -> 5724.59 | H44: =G44*12 -> 68695.08
C45: POSTO DE VIGILÂNCIA DESARMADA 12x36 DIURNO | E45: 0 | F45: ='Dom Eliseu'!E129 -> 10967.34 | G45: =F45*E45 -> 0 | H45: =G45*12 -> 0
C46: VALOR TOTAL: | G46: =SUM(G44:G45) -> 5724.59 | H46: =SUM(H44:H45) -> 68695.08
A47: 7 | B47: IPIXUNA DO PARÁ | C47: POSTO DE VIGILÂNCIA DESARMADA 44 HORAS SEMANAIS | E47: 1 | F47: =Ipixuna!E128 -> 5724.59 | G47: =F47*E47 -> 5724.59 | H47: =G47*12 -> 68695.08
...

Sheet Insumos
A1: CÁLCULO DOS INSUMOS
A3: ESTIMATIVA ANUAL DE UNIFORMES POR VIGILANTE
A4: ITEM | B4: DISCRIMINAÇÃO | C4: UNIDADE | D4: QTDE | E4: Preço 1 R$ | F4: Preço 2 | G4: Preço 3 | H4: Média Painel de Preços | I4: VALOR MÉDIO | J4: VALOR MENSAL
A5: 1 | B5: Calça | C5: unid | D5: 2 | E5: 85 | F5: 65 | G5: 99 | H5: 83.27 | I5: 65.77 | J5: =D5*I5/12 -> 10.961667
A6: 2 | B6: Camisa de mangas curtas | C6: unid | D6: 2 | E6: 59.99 | F6: 71 | G6: 78.9 | H6: 63.39 | I6: 41.64 | J6: =D6*I6/12 -> 6.94
A7: 3 | B7: Cinto de nylon | C7: unid | D7: 1 | E7: 32.72 | F7: 59.9 | G7: 45 | H7: 37.99 | I7: 21.81 | J7: =D7*I7/12 -> 1.8175
A8: 4 | B8: Coturno | C8: par | D8: 1 | E8: 152 | F8: 169.9 | G8: 99.9 | H8: 162.44 | I8: 109.31 | J8: =D8*I8/12 -> 9.1091667
A9: 5 | B9: Meia | C9: par | D9: 2 | E9: 10 | F9: 13.35 | G9: 8.31 | H9: 9.05 | I9: 13.19 | J9: =D9*I9/12 -> 2.1983333
A10: 6 | B10: Blusa de frio - japona | C10: unid | D10: 1 | E10: 147.3 | F10: 180 | G10: 173.5 | H10: 119.82 | I10: 114.05 | J10: =D10*I10/12 -> 9.5041667
A11: 7 | B11: Crachá | C11: unid | D11: 1 | E11: 9.92 | F11: 5.9 | G11: 6.45 | H11: 10.8 | I11: 2.99 | J11: =D11*I11/12 -> 0.24916667
A12: 8 | B12: Apito de metal com cordão | C12: unid | D12: 1 | E12: 11.86 | F12: 5.88 | G12: 19.9 | H12: 8.91 | I12: 10.84 | J12: =I12*D12/12 -> 0.90333333
A13: CUSTO MENSAL DE UNIFORMES | J13: =SUM(J5:J12) -> 41.683333
A15: MATERIAIS POR POSTO
A16: ITEM | B16: DISCRIMINAÇÃO | C16: UNIDADE | D16: QTDE | E16: Preço 1 | F16: Preço 2 | G16: Preço 3 | H16: Média Painel de Preços | I16: VALOR MÉDIO | J16: VALOR MENSAL
A17: 1 | B17: Livro de ocorrência | C17: unid | D17: 2 | E17: 12.94 | F17: 10.57 | G17: 11.25 | H17: 15.5 | I17: 11.86 | J17: =(I17*D17)/12 -> 1.9766667
A18: 1 | B18: Tonfa (cassetete) | C18: unid | D18: 1 | E18: 46 | F18: 54 | G18: 59.9 | H18: 22.8 | I18: 25.41 | J18: =I18*D18/12 -> 2.1175
A19: 2 | B19: Porta tonfa (Cassetete) | C19: unid | D19: 1 | E19: 39.9 | F19: 29.9 | G19: 25.9 | H19: 59.48 | I19: 16.52 | J19: =I19*D19/12 -> 1.3766667
A20: 4 | B20: Lanterna tática recarregável | C20: unid | D20: 1 | E20: 46.8 | F20: 58.49 | G20: 58.88 | H20: 47.68 | I20: 56.79 | J20: =I20*D20/12 -> 4.7325
A21: CUSTO MENSAL DE MATERIAIS E EQUIPAMENTOS | J21: =SUM(J17:J20) -> 10.203333

Sheet Memória de Cálculo
A1: Memória de Cálculo
A5: AUXÍLIO REFEIÇÃO | B5: QTDE DE TICKETS | C5: VALOR UNITÁRIO | D5: DESCONTO (1% valor do Auxílio) | E5: VALOR MENSAL
A6: POSTOS 44h | B6: 26 | C6: 36 | D6: =(B6*C6)*0.01 -> 9.36 | E6: =(C6*B6)-D6 -> 926.64
A7: POSTOS 12x36h Diurno | B7: 15 | C7: 36 | D7: =(B7*C7)*0.01 -> 5.4 | E7: =(C7*B7)-D7 -> 534.6
A8: POSTOS 12x36h Noturno | B8: 15 | C8: 36 | D8: =(B8*C8)*0.01 -> 5.4 | E8: =(C8*B8)-D8 -> 534.6
A11: Média de faltas anuais por motivos legais
A12: Ausências legais: Art. 473 da CLT. Considerando que em média se falta 2 dias por ano com esse tipo de ausência e que apenas 3% dos profissionais se beneficiarão com tal ausência. Índice que demonstra o custo estimado com a substituição na cobertura de ausência legal. Esse índice BCCPA = deverá ser aplicado sobre (Módulo 1 + Módulo 2 + Módulo 3). % Ausências legais = Cálculo do valor = [(BCCPA/30)x1dia]/12 = 0,28%
A21: Total | C21: 0.0028
A24: Licença Paternidade
A25: Percentual de Homens: | D25: 0.5167
A26: Expectativa anual de nascimento de filhos dos trabalhadores (IBGE): | D26: 0.015
A27: Percentual de homens no serviço: | D27: 0.8988
A28: Duração da Licença Paternidade (em dias) | D28: 5
A31: Ausências por acidente de trabalho
A32: Média de faltas anuais por acidente de trabalho: | D32: 0.6913
A35: Afastamento Maternidade
A36: Discriminação do Item | D36: Valor (R$)
A37: 13º Salário + Férias + Adicional Férias | D37: =Belém!D38+Belém!D38+(Belém!D38/3) -> 5164.2197
A38: GPS + FGTS | D38: =Belém!D54 -> 904.96802
A39: Assistência Médica e Familiar | D39: =Belém!C58 -> 0
A40: Base de Cálculo | D40: =SUM(D37:D39) -> 6069.1877
A42: Percentual de Mulheres: | D42: 0.1012
A43: Expectativa mensal Afastamento Maternidade (Censo IBGE): | D43: 0.0032
A46: * NOTA INFORMATIVA
A47: ITENS QUE NÃO PODERÃO SER COTADOS NA PLANILHA DE CUSTOS E FORMAÇÃO DE PREÇOS À LUZ DA JURISPRUDÊNCIA CONSOLIDADA DO TCU:
A48: 1. A ADMINISTRAÇÃO NÃO PODERÁ DESCLASSIFICAR PROPOSTAS QUE APRESENTEM COTAÇÕES PARA RESERVA TÉCNICA, IRPJ, CSLL, SUPERVISÃO/FISCALIZAÇÃO E RECICLAGEM/TREINAMENTO, NEM PODERÁ DESCLASSIFICAR EMPRESAS QUE APRESENTEM PLANILHAS COM COTAÇÕES INCORRETAS PARA OS ENCARGOS TRIBUTÁRIOS.
A49: ADVERTE-SE, CONTUDO, QUE, DE ACORDO COM A JURISPRUDÊNCIA CONSOLIDADA DO TCU, É INDEVIDA A COTAÇÃO, COMO ITEM ESPECÍFICO DA PLANILHA, DE CUSTOS RELATIVOS A:
A50: A) RESERVA TÉCNICA, POIS JÁ ESTARIAM COMPREENDIDOS NAS FALTAS LEGAIS (ACÓRDÃOS TCU Nº 1.696/2010-2ª CÂMARA E Nº 1.319/2010-2ª CÂMARA);
A51: B) TREINAMENTO/RECICLAGEM/CAPACITAÇÃO OU ITEM CONGÊNERE, UMA VEZ QUE ESSES CUSTOS JÁ ESTÃO ENGLOBADOS NAS DESPESAS ADMINISTRATIVAS DA CONTRATADA, SENDO DE SUA EXCLUSIVA RESPONSABILIDADE (ACÓRDÃOS TCU Nº 592/2010-PLENÁRIO, Nº 1.696/2010-2ª CÂMARA E Nº 592/2010-PLENÁRIO);
A52: C) SUPERVISÃO E FISCALIZAÇÃO, UMA VEZ QUE ESSES CUSTOS JÁ ESTÃO ENGLOBADOS NAS DESPESAS ADMINISTRATIVAS DA CONTRATADA (ACÓRDÃO Nº 592/2010-PLENÁRIO);*
A53: D) IRPJ E CSLL, POR SE CONSTITUÍREM EM TRIBUTOS DE NATUREZA DIRETA E PERSONALÍSTICA, QUE ONERAM PESSOALMENTE O CONTRATADO, NÃO DEVEM SER REPASSADOS À CONTRATANTE, NÃO PODENDO, AINDA, SEREM COTADOS NO ITEM REFERENTE AO LUCRO E DESPESAS ADMINISTRATIVAS/OPERACIONAIS (ACÓRDÃOS TCU N° 1.595/2006 - PLENÁRIO, N° 325/2009 - PLENÁRIO E N° 2.354/2010 - 2ª CÂMARA). *
A54: DESSE MODO, SE A EMPRESA OS COTAR, HAVERÁ SUPRESSÃO UNILATERAL DO ITEM DA PLANILHA E DEDUÇÃO/GLOSA, NO VALOR TOTAL DO DÉBITO, QUANDO DO PAGAMENTO MENSAL OU DA REPACTUAÇÃO. A EMPRESA QUE OS TENHA COTADO INCORRETAMENTE PODERÁ CORRIGIR A PLANILHA DE CUSTOS E FORMAÇÃO DOS PREÇOS ATÉ O MOMENTO DA ACEITABILIDADE DA PROPOSTA PELO PREGOEIRO, OPORTUNIDADE NA QUAL PRECLUIRÁ SEU DIREITO A CORREÇÕES.
A56: 2. COTAÇÃO DE ENCARGOS TRIBUTÁRIOS - CUIDADOS E CONSEQUÊNCIAS À LUZ DA JURISPRUDÊNCIA DO TCU:
A57: A EMPRESA É A ÚNICA RESPONSÁVEL PELA COTAÇÃO CORRETA DOS ENCARGOS TRIBUTÁRIOS. EM CASO DE ERRO OU COTAÇÃO INCOMPATÍVEL COM O REGIME TRIBUTÁRIO A QUE SE SUBMETE, SERÃO ADOTADAS AS ORIENTAÇÕES A SEGUIR:*
A58: A) COTAÇÃO DE PERCENTUAL MENOR QUE O ADEQUADO: O PERCENTUAL SERÁ MANTIDO DURANTE TODA A EXECUÇÃO CONTRATUAL;
... A69: OBS: Em conformidade com a IN N° 05 DE 26/05/2017 e alteração acrescentada pela IN N° 07 de 20/09/2018, e em referência a Nota 3 do Módulo 2 do Anexo VII-D, resaltamos o texto a seguir "Levando em consideração a vigência contratual prevista no art. 57 da Lei nº 8.666, de 23 de junho de 1993, a rubrica férias do subítem 2.1 tem como objetivo principal suprir a necessidade do pagamento das férias remuneradas ao final do contrato de 12 meses. Esta rubrica, quando da prorrogação contratual, torna-se custo não renovável".

Sheet Horas_Extras
B1: PLANILHA ESTIMATIVA
B2: Planilha de Custos e Formação de Preços para Serviços de Vigilância - GEX - Campo Grande-MS
B4: Nº do Processo: | C4: 35014.499513/2022-13
B5: Pregão Eletrônico nº
B6: Data:
B8: Discriminação dos Serviços (dados referentes à contratação)
B9: A – Data de apresentação da proposta (dia/mês/ano)
B10: B – Município/UF | C10: Pará
B11: C – Ano Acordo, Convenção ou Sentença Normativa em Dissídio Coletivo | C11: 2023
B12: D – Nº de meses de execução contratual | C12: 12
B14: Identificação do Serviço
B15: Tipo de Serviço | C15: Unid. de Medida | D15: Hora Extra Sábado | E15: Hora Extra Domingo
B16: Contratação de serviços de segurança e vigilância orgânica e patrimonial desarmada, visando atender as demandas das Gerências Executivas de Belém, Marabá e Santarém-PA, conforme condições, quantidades e exigências estabelecidas no instrumento convocatório. | C16: Hora | D16: =Resumo!F21 -> 250 | E16: =Resumo!F22 -> 50
B19: Mão de obra vinculada à execução contratual
B20: Dados para composição dos custos referente à mão de obra
B21: 1 – Tipo de serviço (mesmo serviço com características distintas) | C21: Vigilância
B22: 2 – Classificação Brasileira de Ocupações (CBO) | C22: 517330
B23: 3 – Salário Normativo da Categoria Profissional | C23: 1567.82
B24: 4 – Categoria profissional (vinculada à execução contratual) | C24: Vigilante
B25: 5 – Data base da categoria (dia/mês/ano) | C25: 01 de março
B26: 6 – Numero de registro da convenção coletiva no MTE:
B28: CUSTOS | C28: Percentuais e Valores de Referência | D28: Hora Extra Sábado | E28: Hora Extra Domingo
B29: MÓDULO 1: COMPOSIÇÃO DA REMUNERAÇÃO
B30: 1 - Composição da Remuneração | C30: Valores/ Percentuais | D30: Valor (R$) | E30: Valor (R$)
B31: A – Salário Base (conforme Cláusula Terceira da CCT) | C31: =C23 -> 1567.82 | D31: =C31 -> 1567.82 | E31: =C31 -> 1567.82
B32: B - Adicional de Periculosidade (conforme Cláusula Décima Quarta da CCT) | C32: 0.3 | D32: =D31*C32 -> 470.346 | E32: =E31*C32 -> 470.346
B33: C - Adicional de Insalubridade
B34: D - Adicional Noturno | D34: 0 | E34: 0
B35: E - Adicional de Hora Noturna Reduzida | D35: 0 | E35: 0
B36: F - Penosidade | D36: 0 | E36: 0
B37: G - Outros | D37: =(SUM(D31:D36))/220*1.5 -> 13.896586 | E37: =(SUM(E31:E36))/220*2 -> 18.528782
B38: Total | D38: =D37 -> 13.896586 | E38: =E37 -> 18.528782
B40: MÓDULO 2: ENCARGOS E BENEFÍCIOS ANUAIS, MENSAIS E DIÁRIOS
B41: 2.1 - 13º Salário, Férias e Adicional de Férias | C41: Percentuais | D41: Valor (R$) | E41: Valor (R$)
B42: A - 13º salário | C42: =1/12 -> 0.083333333 | D42: =C42*D38 -> 1.1580489 | E42: =C42*E38 -> 1.5440652
B43: B - Férias e Adicional de Férias (O custo com o valor pago ao substituto durante as férias do empregado consta na letra "A" do submódulo 4.1), (custo não renovável). | C43: =C42/3 -> 0.027777778 | D43: =C43*D38 -> 0.38601629 | E43: =C43*E38 -> 0.51468838
B44: Total | C44: =SUM(C42:C43) -> 0.11111111 | D44: =SUM(D42:D43) -> 1.5440652 | E44: =SUM(E42:E43) -> 2.0587535
B45: 2.2 - GPS, FGTS e outras contribuições (Incide sobre os Módulos 1 e 2.1) | C45: Percentuais | D45: Valor (R$) | E45: Valor (R$)
B46: A - INSS | C46: 0.2 | D46: =C46*(D38+D44) -> 3.0881303 | E46: =C46*(E38+E44) -> 4.1175071
B47: B - Salário Educação | C47: 0.025 | D47: =C47*(D38+D44) -> 0.38601629 | E47: =C47*(E38+E44) -> 0.51468838
...

Sheet Belém
B1: PLANILHA ESTIMATIVA
B2: Planilha de Custos e Formação de Preços para Serviços de Vigilância - GEX – Belém, Marabá e Santarém-PA
B4: Nº do Processo: | C4: 35014.499513/2022-13
B5: Pregão Eletrônico nº
B6: Data:
B8: Discriminação dos Serviços (dados referentes à contratação)
B9: A – Data de apresentação da proposta (dia/mês/ano)
B10: B – Município/UF | C10: Belém – PA
B11: C – Ano Acordo, Convenção ou Sentença Normativa em Dissídio Coletivo | C11: 2023
B12: D – Nº de meses de execução contratual | C12: 12
B14: Identificação do Serviço
B15: Tipo de Serviço | C15: Unid. de Medida | D15: Posto de 44 h semanais (Qtde) | E15: Posto 12X36 Diurnas (Qtde) | F15: Posto 12X36 Noturno (Qtde)
B16: Contratação de serviços de segurança e vigilância orgânica e patrimonial desarmada, visando atender as demandas das Gerências Executivas de Belém, Marabá e Santarém-PA, conforme condições, quantidades e exigências estabelecidas no instrumento convocatório. | C16: Posto | D16: =Resumo!E27 -> 12 | E16: =Resumo!E28 -> 8 | F16: =Resumo!E29 -> 8
B19: Mão de obra vinculada à execução contratual
B20: Dados para composição dos custos referente à mão de obra
B21: 1 – Tipo de serviço (mesmo serviço com características distintas) | C21: Vigilância
B22: 2 – Classificação Brasileira de Ocupações (CBO) | C22: 517330
B23: 3 – Salário Normativo da Categoria Profissional | C23: 1702.49
B24: 4 – Categoria profissional (vinculada à execução contratual) | C24: Vigilante
B25: 5 – Data base da categoria (dia/mês/ano) | C25: 01 de janeiro
B26: 6 – Numero de registro da convenção coletiva no MTE | C26: PA000985/2022
B28: CUSTOS | C28: Percentuais e Valores de Referência | D28: 44 horas semanais | E28: 12X36 Diurnas | F28: 12X36 Noturnas
B29: MÓDULO 1: COMPOSIÇÃO DA REMUNERAÇÃO
B30: 1 - Composição da Remuneração | C30: Valores/ Percentuais | D30: Valor (R$) | E30: Valor (R$) | F30: Valor (R$)
B31: A – Salário Normativo | C31: =C23 -> 1702.49 | D31: =C31 -> 1702.49 | E31: =C31 -> 1702.49 | F31: =C31 -> 1702.49
B32: B - Adicional de Periculosidade | C32: 0.3 | D32: =D31*C32 -> 510.747 | E32: =E31*C32 -> 510.747 | F32: =F31*C32 -> 510.747
B33: C - Adicional de Insalubridade
B34: D - Adicional Noturno | C34: 0.2 | D34: 0 | E34: 0 | F34: =((F31+F32)/220)*C34*7*15 -> 211.26353
B35: E - Adicional de Hora Noturna Reduzida | D35: 0 | E35: 0 | F35: =((F31+F32)/220)*1.2*15 -> 181.08303
B36: F - Penosidade | D36: 0 | E36: 0 | F36: 0
B37: G - Outros | D37: 0 | E37: 0 | F37: 0
B38: Total | D38: =SUM(D31:D37) -> 2213.237 | E38: =SUM(E31:E37) -> 2213.237 | F38: =SUM(F31:F37) -> 2605.5836
B40: MÓDULO 2: ENCARGOS E BENEFÍCIOS ANUAIS, MENSAIS E DIÁRIOS
B41: 2.1 - 13º Salário, Férias e Adicional de Férias | C41: Percentuais | D41: Valor (R$) | E41: Valor (R$) | F41: Valor (R$)
B42: A - 13º salário | C42: =1/12 -> 0.083333333 | D42: =C42*D38 -> 184.43642 | E42: =C42*E38 -> 184.43642 | F42: =C42*F38 -> 217.13196
B43: B - Férias e Adicional de Férias (O custo com o valor pago ao substituto durante as férias do empregado consta na letra "A" do submódulo 4.1), (custo não renovável). | C43: =C42/3 -> 0.027777778 | D43: =C43*D38 -> 61.478806 | E43: =C43*E38 -> 61.478806 | F43: =C43*F38 -> 72.377321
B44: Total | C44: =SUM(C42:C43) -> 0.11111111 | D44: =SUM(D42:D43) -> 245.91522 | E44: =SUM(E42:E43) -> 245.91522 | F44: =SUM(F42:F43) -> 289.50928
B45: 2.2 - GPS, FGTS e outras contribuições (Incide sobre os Módulos 1 e 2.1) | C45: Percentuais | D45: Valor (R$) | E45: Valor (R$) | F45: Valor (R$)
B46: A - INSS | C46: 0.2 | D46: =C46*(D38+D44) -> 491.83044 | E46: =C46*(E38+E44) -> 491.83044 | F46: =C46*(F38+F44) -> 579.01857
B47: B - Salário Educação | C47: 0.025 | D47: =C47*(D38+D44) -> 61.478806 | E47: =C47*(E38+E44) -> 61.478806 | F47: =C47*(F38+F44) -> 72.377321
...

Sheet Acará
B1: PLANILHA ESTIMATIVA
B2: Planilha de Custos e Formação de Preços para Serviços de Vigilância - GEX – Belém, Marabá e Santarém-PA
B4: Nº do Processo: | C4: 35014.499513/2022-13
B5: Pregão Eletrônico nº
B6: Data:
B8: Discriminação dos Serviços (dados referentes à contratação)
B9: A – Data de apresentação da proposta (dia/mês/ano)
B10: B – Município/UF | C10: Acará – PA
B11: C – Ano Acordo, Convenção ou Sentença Normativa em Dissídio Coletivo | C11: 2023
B12: D – Nº de meses de execução contratual | C12: 12
B14: Identificação do Serviço
B15: Tipo de Serviço | C15: Unid. de Medida | D15: Posto de 44 h semanais (Qtde) | E15: Posto 12X36 Diurnas (Qtde) | F15: Posto 12X36 Noturno (Qtde)
B16: Contratação de serviços de segurança e vigilância orgânica e patrimonial desarmada, visando atender as demandas das Gerências Executivas de Belém, Marabá e Santarém-PA, conforme condições, quantidades e exigências estabelecidas no instrumento convocatório. | C16: Posto | D16: =Resumo!E31 -> 1 | E16: =Resumo!E32 -> 0
B19: Mão de obra vinculada à execução contratual
B20: Dados para composição dos custos referente à mão de obra
B21: 1 – Tipo de serviço (mesmo serviço com características distintas) | C21: Vigilância
B22: 2 – Classificação Brasileira de Ocupações (CBO) | C22: 517330
B23: 3 – Salário Normativo da Categoria Profissional | C23: 1702.49
B24: 4 – Categoria profissional (vinculada à execução contratual) | C24: Vigilante
B25: 5 – Data base da categoria (dia/mês/ano) | C25: 01 de janeiro
B26: 6 – Numero de registro da convenção coletiva no MTE | C26: PA000985/2022
B28: CUSTOS | C28: Percentuais e Valores de Referência | D28: 44 horas semanais | E28: 12X36 Diurnas | F28: 12X36 Noturnas
B29: MÓDULO 1: COMPOSIÇÃO DA REMUNERAÇÃO
B30: 1 - Composição da Remuneração | C30: Valores/ Percentuais | D30: Valor (R$) | E30: Valor (R$) | F30: Valor (R$)
B31: A – Salário Normativo | C31: =C23 -> 1702.49 | D31: =C31 -> 1702.49 | E31: =C31 -> 1702.49 | F31: =C31 -> 1702.49
B32: B - Adicional de Periculosidade | C32: 0.3 | D32: =D31*C32 -> 510.747 | E32: =E31*C32 -> 510.747 | F32: =F31*C32 -> 510.747
B33: C - Adicional de Insalubridade
B34: D - Adicional Noturno | C34: 0.2 | D34: 0 | E34: 0 | F34: =((F31+F32)/220)*C34*7*15 -> 211.26353
B35: E - Adicional de Hora Noturna Reduzida | D35: 0 | E35: 0 | F35: =((F31+F32)/220)*1.2*15 -> 181.08303
B36: F - Penosidade | D36: 0 | E36: 0 | F36: 0
B37: G - Outros | D37: 0 | E37: 0 | F37: 0
B38: Total | D38: =SUM(D31:D37) -> 2213.237 | E38: =SUM(E31:E37) -> 2213.237 | F38: =SUM(F31:F37) -> 2605.5836
B40: MÓDULO 2: ENCARGOS E BENEFÍCIOS ANUAIS, MENSAIS E DIÁRIOS
B41: 2.1 - 13º Salário, Férias e Adicional de Férias | C41: Percentuais | D41: Valor (R$) | E41: Valor (R$) | F41: Valor (R$)
B42: A - 13º salário | C42: =1/12 -> 0.083333333 | D42: =C42*D38 -> 184.43642 | E42: =C42*E38 -> 184.43642 | F42: =C42*F38 -> 217.13196
B43: B - Férias e Adicional de Férias (O custo com o valor pago ao substituto durante as férias do empregado consta na letra "A" do submódulo 4.1), (custo não renovável). | C43: =C42/3 -> 0.027777778 | D43: =C43*D38 -> 61.478806 | E43: =C43*E38 -> 61.478806 | F43: =C43*F38 -> 72.377321
B44: Total | C44: =SUM(C42:C43) -> 0.11111111 | D44: =SUM(D42:D43) -> 245.91522 | E44: =SUM(E42:E43) -> 245.91522 | F44: =SUM(F42:F43) -> 289.50928
B45: 2.2 - GPS, FGTS e outras contribuições (Incide sobre os Módulos 1 e 2.1) | C45: Percentuais | D45: Valor (R$) | E45: Valor (R$) | F45: Valor (R$)
B46: A - INSS | C46: 0.2 | D46: =C46*(D38+D44) -> 491.83044 | E46: =C46*(E38+E44) -> 491.83044 | F46: =C46*(F38+F44) -> 579.01857
B47: B - Salário Educação | C47: 0.025 | D47: =C47*(D38+D44) -> 61.478806 | E47: =C47*(E38+E44) -> 61.478806 | F47: =C47*(F38+F44) -> 72.377321
...

Sheet Barcarena
B1: PLANILHA ESTIMATIVA
B2: Planilha de Custos e Formação de Preços para Serviços de Vigilância - GEX – Belém, Marabá e Santarém-PA
B4: Nº do Processo: | C4: 35014.499513/2022-13
B5: Pregão Eletrônico nº
B6: Data:
B8: Discriminação dos Serviços (dados referentes à contratação)
B9: A – Data de apresentação da proposta (dia/mês/ano)
B10: B – Município/UF | C10: Barcarena – PA
B11: C – Ano Acordo, Convenção ou Sentença Normativa em Dissídio Coletivo | C11: 2023
B12: D – Nº de meses de execução contratual | C12: 12
B14: Identificação do Serviço
B15: Tipo de Serviço | C15: Unid. de Medida | D15: Posto de 44 h semanais (Qtde) | E15: Posto 12X36 Diurnas (Qtde) | F15: Posto 12X36 Noturno (Qtde)
B16: Contratação de serviços de segurança e vigilância orgânica e patrimonial desarmada, visando atender as demandas das Gerências Executivas de Belém, Marabá e Santarém-PA, conforme condições, quantidades e exigências estabelecidas no instrumento convocatório. | C16: Posto | D16: =Resumo!E34 -> 0 | E16: =Resumo!E35 -> 1 | F16: =Resumo!E36 -> 1
B19: Mão de obra vinculada à execução contratual
B20: Dados para composição dos custos referente à mão de obra
B21: 1 – Tipo de serviço (mesmo serviço com características distintas) | C21: Vigilância
B22: 2 – Classificação Brasileira de Ocupações (CBO) | C22: 517330
B23: 3 – Salário Normativo da Categoria Profissional | C23: 1702.49
B24: 4 – Categoria profissional (vinculada à execução contratual) | C24: Vigilante
B25: 5 – Data base da categoria (dia/mês/ano) | C25: 01 de janeiro
B26: 6 – Numero de registro da convenção coletiva no MTE | C26: PA000985/2022
B28: CUSTOS | C28: Percentuais e Valores de Referência | D28: 44 horas semanais | E28: 12X36 Diurnas | F28: 12X36 Noturnas
B29: MÓDULO 1: COMPOSIÇÃO DA REMUNERAÇÃO
B30: 1 - Composição da Remuneração | C30: Valores/ Percentuais | D30: Valor (R$) | E30: Valor (R$) | F30: Valor (R$)
B31: A – Salário Normativo | C31: =C23 -> 1702.49 | D31: =C31 -> 1702.49 | E31: =C31 -> 1702.49 | F31: =C31 -> 1702.49
B32: B - Adicional de Periculosidade | C32: 0.3 | D32: =D31*C32 -> 510.747 | E32: =E31*C32 -> 510.747 | F32: =F31*C32 -> 510.747
B33: C - Adicional de Insalubridade
B34: D - Adicional Noturno | C34: 0.2 | D34: 0 | E34: 0 | F34: =((F31+F32)/220)*C34*7*15 -> 211.26353
B35: E - Adicional de Hora Noturna Reduzida | D35: 0 | E35: 0 | F35: =((F31+F32)/220)*1.2*15 -> 181.08303
B36: F - Penosidade | D36: 0 | E36: 0 | F36: 0
B37: G - Outros | D37: 0 | E37: 0 | F37: 0
B38: Total | D38: =SUM(D31:D37) -> 2213.237 | E38: =SUM(E31:E37) -> 2213.237 | F38: =SUM(F31:F37) -> 2605.5836
B40: MÓDULO 2: ENCARGOS E BENEFÍCIOS ANUAIS, MENSAIS E DIÁRIOS
B41: 2.1 - 13º Salário, Férias e Adicional de Férias | C41: Percentuais | D41: Valor (R$) | E41: Valor (R$) | F41: Valor (R$)
B42: A - 13º salário | C42: =1/12 -> 0.083333333 | D42: =C42*D38 -> 184.43642 | E42: =C42*E38 -> 184.43642 | F42: =C42*F38 -> 217.13196
B43: B - Férias e Adicional de Férias (O custo com o valor pago ao substituto durante as férias do empregado consta na letra "A" do submódulo 4.1), (custo não renovável). | C43: =C42/3 -> 0.027777778 | D43: =C43*D38 -> 61.478806 | E43: =C43*E38 -> 61.478806 | F43: =C43*F38 -> 72.377321
B44: Total | C44: =SUM(C42:C43) -> 0.11111111 | D44: =SUM(D42:D43) -> 245.91522 | E44: =SUM(E42:E43) -> 245.91522 | F44: =SUM(F42:F43) -> 289.50928
B45: 2.2 - GPS, FGTS e outras contribuições (Incide sobre os Módulos 1 e 2.1) | C45: Percentuais | D45: Valor (R$) | E45: Valor (R$) | F45: Valor (R$)
B46: A - INSS | C46: 0.2 | D46: =C46*(D38+D44) -> 491.83044 | E46: =C46*(E38+E44) -> 491.83044 | F46: =C46*(F38+F44) -> 579.01857
B47: B - Salário Educação | C47: 0.025 | D47: =C47*(D38+D44) -> 61.478806 | E47: =C47*(E38+E44) -> 61.478806 | F47: =C47*(F38+F44) -> 72.377321
...

Sheet Benevides
B1: PLANILHA ESTIMATIVA
B2: Planilha de Custos e Formação de Preços para Serviços de Vigilância - GEX – Belém, Marabá e Santarém-PA
B4: Nº do Processo: | C4: 35014.499513/2022-13
B5: Pregão Eletrônico nº
B6: Data:
B8: Discriminação dos Serviços (dados referentes à contratação)
B9: A – Data de apresentação da proposta (dia/mês/ano)
B10: B – Município/UF | C10: Benevides – PA
B11: C – Ano Acordo, Convenção ou Sentença Normativa em Dissídio Coletivo | C11: 2023
B12: D – Nº de meses de execução contratual | C12: 12
B14: Identificação do Serviço
B15: Tipo de Serviço | C15: Unid. de Medida | D15: Posto de 44 h semanais (Qtde) | E15: Posto 12X36 Diurnas (Qtde) | F15: Posto 12X36 Noturno (Qtde)
B16: Contratação de serviços de segurança e vigilância orgânica e patrimonial desarmada, visando atender as demandas das Gerências Executivas de Belém, Marabá e Santarém-PA, conforme condições, quantidades e exigências estabelecidas no instrumento convocatório. | C16: Posto | D16: =Resumo!E38 -> 2 | E16: =Resumo!E39 -> 0 | F16: 0
B19: Mão de obra vinculada à execução contratual
B20: Dados para composição dos custos referente à mão de obra
B21: 1 – Tipo de serviço (mesmo serviço com características distintas) | C21: Vigilância
B22: 2 – Classificação Brasileira de Ocupações (CBO) | C22: 517330
B23: 3 – Salário Normativo da Categoria Profissional | C23: 1702.49
B24: 4 – Categoria profissional (vinculada à execução contratual) | C24: Vigilante
B25: 5 – Data base da categoria (dia/mês/ano) | C25: 01 de janeiro
B26: 6 – Numero de registro da convenção coletiva no MTE | C26: PA000985/2022
B28: CUSTOS | C28: Percentuais e Valores de Referência | D28: 44 horas semanais | E28: 12X36 Diurnas | F28: 12X36 Noturnas
B29: MÓDULO 1: COMPOSIÇÃO DA REMUNERAÇÃO
B30: 1 - Composição da Remuneração | C30: Valores/ Percentuais | D30: Valor (R$) | E30: Valor (R$) | F30: Valor (R$)
B31: A – Salário Normativo | C31: =C23 -> 1702.49 | D31: =C31 -> 1702.49 | E31: =C31 -> 1702.49 | F31: =C31 -> 1702.49
B32: B - Adicional de Periculosidade | C32: 0.3 | D32: =D31*C32 -> 510.747 | E32: =E31*C32 -> 510.747 | F32: =F31*C32 -> 510.747
B33: C - Adicional de Insalubridade
B34: D - Adicional Noturno | C34: 0.2 | D34: 0 | E34: 0 | F34: =((F31+F32)/220)*C34*7*15 -> 211.26353
B35: E - Adicional de Hora Noturna Reduzida | D35: 0 | E35: 0 | F35: =((F31+F32)/220)*1.2*15 -> 181.08303
B36: F - Penosidade | D36: 0 | E36: 0 | F36: 0
B37: G - Outros | D37: 0 | E37: 0 | F37: 0
B38: Total | D38: =SUM(D31:D37) -> 2213.237 | E38: =SUM(E31:E37) -> 2213.237 | F38: =SUM(F31:F37) -> 2605.5836
B40: MÓDULO 2: ENCARGOS E BENEFÍCIOS ANUAIS, MENSAIS E DIÁRIOS
B41: 2.1 - 13º Salário, Férias e Adicional de Férias | C41: Percentuais | D41: Valor (R$) | E41: Valor (R$) | F41: Valor (R$)
B42: A - 13º salário | C42: =1/12 -> 0.083333333 | D42: =C42*D38 -> 184.43642 | E42: =C42*E38 -> 184.43642 | F42: =C42*F38 -> 217.13196
B43: B - Férias e Adicional de Férias (O custo com o valor pago ao substituto durante as férias do empregado consta na letra "A" do submódulo 4.1), (custo não renovável). | C43: =C42/3 -> 0.027777778 | D43: =C43*D38 -> 61.478806 | E43: =C43*E38 -> 61.478806 | F43: =C43*F38 -> 72.377321
B44: Total | C44: =SUM(C42:C43) -> 0.11111111 | D44: =SUM(D42:D43) -> 245.91522 | E44: =SUM(E42:E43) -> 245.91522 | F44: =SUM(F42:F43) -> 289.50928
B45: 2.2 - GPS, FGTS e outras contribuições (Incide sobre os Módulos 1 e 2.1) | C45: Percentuais | D45: Valor (R$) | E45: Valor (R$) | F45: Valor (R$)
B46: A - INSS | C46: 0.2 | D46: =C46*(D38+D44) -> 491.83044 | E46: =C46*(E38+E44) -> 491.83044 | F46: =C46*(F38+F44) -> 579.01857
B47: B - Salário Educação | C47: 0.025 | D47: =C47*(D38+D44) -> 61.478806 | E47: =C47*(E38+E44) -> 61.478806 | F47: =C47*(F38+F44) -> 72.377321
...

Sheet Concórdia
B1: PLANILHA ESTIMATIVA
B2: Planilha de Custos e Formação de Preços para Serviços de Vigilância - GEX – Belém, Marabá e Santarém-PA
B4: Nº do Processo: | C4: 35014.499513/2022-13
B5: Pregão Eletrônico nº
B6: Data:
B8: Discriminação dos Serviços (dados referentes à contratação)
B9: A – Data de apresentação da proposta (dia/mês/ano)
B10: B – Município/UF | C10: Concórdia do Pará – PA
B11: C – Ano Acordo, Convenção ou Sentença Normativa em Dissídio Coletivo | C11: 2023
B12: D – Nº de meses de execução contratual | C12: 12
B14: Identificação do Serviço
B15: Tipo de Serviço | C15: Unid. de Medida | D15: Posto de 44 h semanais (Qtde) | E15: Posto 12X36 Diurnas (Qtde) | F15: Posto 12X36 Noturno (Qtde)
B16: Contratação de serviços de segurança e vigilância orgânica e patrimonial desarmada, visando atender as demandas das Gerências Executivas de Belém, Marabá e Santarém-PA, conforme condições, quantidades e exigências estabelecidas no instrumento convocatório. | C16: Posto | D16: =Resumo!E41 -> 1 | E16: =Resumo!E42 -> 0 | F16: 0
B19: Mão de obra vinculada à execução contratual
B20: Dados para composição dos custos referente à mão de obra
B21: 1 – Tipo de serviço (mesmo serviço com características distintas) | C21: Vigilância
B22: 2 – Classificação Brasileira de Ocupações (CBO) | C22: 517330
B23: 3 – Salário Normativo da Categoria Profissional | C23: 1702.49
B24: 4 – Categoria profissional (vinculada à execução contratual) | C24: Vigilante
B25: 5 – Data base da categoria (dia/mês/ano) | C25: 01 de janeiro
B26: 6 – Numero de registro da convenção coletiva no MTE | C26: PA000985/2022
B28: CUSTOS | C28: Percentuais e Valores de Referência | D28: 44 horas semanais | E28: 12X36 Diurnas | F28: 12X36 Noturnas
B29: MÓDULO 1: COMPOSIÇÃO DA REMUNERAÇÃO
B30: 1 - Composição da Remuneração | C30: Valores/ Percentuais | D30: Valor (R$) | E30: Valor (R$) | F30: Valor (R$)
B31: A – Salário Normativo | C31: =C23 -> 1702.49 | D31: =C31 -> 1702.49 | E31: =C31 -> 1702.49 | F31: =C31 -> 1702.49
B32: B - Adicional de Periculosidade | C32: 0.3 | D32: =D31*C32 -> 510.747 | E32: =E31*C32 -> 510.747 | F32: =F31*C32 -> 510.747
B33: C - Adicional de Insalubridade
B34: D - Adicional Noturno | C34: 0.2 | D34: 0 | E34: 0 | F34: =((F31+F32)/220)*C34*7*15 -> 211.26353
B35: E - Adicional de Hora Noturna Reduzida | D35: 0 | E35: 0 | F35: =((F31+F32)/220)*1.2*15 -> 181.08303
B36: F - Penosidade | D36: 0 | E36: 0 | F36: 0
B37: G - Outros | D37: 0 | E37: 0 | F37: 0
B38: Total | D38: =SUM(D31:D37) -> 2213.237 | E38: =SUM(E31:E37) -> 2213.237 | F38: =SUM(F31:F37) -> 2605.5836
B40: MÓDULO 2: ENCARGOS E BENEFÍCIOS ANUAIS, MENSAIS E DIÁRIOS
B41: 2.1 - 13º Salário, Férias e Adicional de Férias | C41: Percentuais | D41: Valor (R$) | E41: Valor (R$) | F41: Valor (R$)
B42: A - 13º salário | C42: =1/12 -> 0.083333333 | D42: =C42*D38 -> 184.43642 | E42: =C42*E38 -> 184.43642 | F42: =C42*F38 -> 217.13196
B43: B - Férias e Adicional de Férias (O custo com o valor pago ao substituto durante as férias do empregado consta na letra "A" do submódulo 4.1), (custo não renovável). | C43: =C42/3 -> 0.027777778 | D43: =C43*D38 -> 61.478806 | E43: =C43*E38 -> 61.478806 | F43: =C43*F38 -> 72.377321
B44: Total | C44: =SUM(C42:C43) -> 0.11111111 | D44: =SUM(D42:D43) -> 245.91522 | E44: =SUM(E42:E43) -> 245.91522 | F44: =SUM(F42:F43) -> 289.50928
B45: 2.2 - GPS, FGTS e outras contribuições (Incide sobre os Módulos 1 e 2.1) | C45: Percentuais | D45: Valor (R$) | E45: Valor (R$) | F45: Valor (R$)
B46: A - INSS | C46: 0.2 | D46: =C46*(D38+D44) -> 491.83044 | E46: =C46*(E38+E44) -> 491.83044 | F46: =C46*(F38+F44) -> 579.01857
B47: B - Salário Educação | C47: 0.025 | D47: =C47*(D38+D44) -> 61.478806 | E47: =C47*(E38+E44) -> 61.478806 | F47: =C47*(F38+F44) -> 72.377321
...

Sheet Dom Eliseu
B1: PLANILHA ESTIMATIVA
B2: Planilha de Custos e Formação de Preços para Serviços de Vigilância - GEX – Belém, Marabá e Santarém-PA
B4: Nº do Processo: | C4: 35014.499513/2022-13
B5: Pregão Eletrônico nº
B6: Data:
B8: Discriminação dos Serviços (dados referentes à contratação)
B9: A – Data de apresentação da proposta (dia/mês/ano)
B10: B – Município/UF | C10: Dom Eliseu – PA
B11: C – Ano Acordo, Convenção ou Sentença Normativa em Dissídio Coletivo | C11: 2023
B12: D – Nº de meses de execução contratual | C12: 12
B14: Identificação do Serviço
B15: Tipo de Serviço | C15: Unid. de Medida | D15: Posto de 44 h semanais (Qtde) | E15: Posto 12X36 Diurnas (Qtde) | F15: Posto 12X36 Noturno (Qtde)
B16: Contratação de serviços de segurança e vigilância orgânica e patrimonial desarmada, visando atender as demandas das Gerências Executivas de Belém, Marabá e Santarém-PA, conforme condições, quantidades e exigências estabelecidas no instrumento convocatório. | C16: Posto | D16: =Resumo!E44 -> 1 | E16: =Resumo!E45 -> 0 | F16: 0
B19: Mão de obra vinculada à execução contratual
B20: Dados para composição dos custos referente à mão de obra
B21: 1 – Tipo de serviço (mesmo serviço com características distintas) | C21: Vigilância
B22: 2 – Classificação Brasileira de Ocupações (CBO) | C22: 517330
B23: 3 – Salário Normativo da Categoria Profissional | C23: 1702.49
B24: 4 – Categoria profissional (vinculada à execução contratual) | C24: Vigilante
B25: 5 – Data base da categoria (dia/mês/ano) | C25: 01 de janeiro
B26: 6 – Numero de registro da convenção coletiva no MTE | C26: PA000985/2022
B28: CUSTOS | C28: Percentuais e Valores de Referência | D28: 44 horas semanais | E28: 12X36 Diurnas | F28: 12X36 Noturnas
B29: MÓDULO 1: COMPOSIÇÃO DA REMUNERAÇÃO
B30: 1 - Composição da Remuneração | C30: Valores/ Percentuais | D30: Valor (R$) | E30: Valor (R$) | F30: Valor (R$)
B31: A – Salário Normativo | C31: =C23 -> 1702.49 | D31: =C31 -> 1702.49 | E31: =C31 -> 1702.49 | F31: =C31 -> 1702.49
B32: B - Adicional de Periculosidade | C32: 0.3 | D32: =D31*C32 -> 510.747 | E32: =E31*C32 -> 510.747 | F32: =F31*C32 -> 510.747
B33: C - Adicional de Insalubridade
B34: D - Adicional Noturno | C34: 0.2 | D34: 0 | E34: 0 | F34: =((F31+F32)/220)*C34*7*15 -> 211.26353
B35: E - Adicional de Hora Noturna Reduzida | D35: 0 | E35: 0 | F35: =((F31+F32)/220)*1.2*15 -> 181.08303
B36: F - Penosidade | D36: 0 | E36: 0 | F36: 0
B37: G - Outros | D37: 0 | E37: 0 | F37: 0
B38: Total | D38: =SUM(D31:D37) -> 2213.237 | E38: =SUM(E31:E37) -> 2213.237 | F38: =SUM(F31:F37) -> 2605.5836
B40: MÓDULO 2: ENCARGOS E BENEFÍCIOS ANUAIS, MENSAIS E DIÁRIOS
B41: 2.1 - 13º Salário, Férias e Adicional de Férias | C41: Percentuais | D41: Valor (R$) | E41: Valor (R$) | F41: Valor (R$)
B42: A - 13º salário | C42: =1/12 -> 0.083333333 | D42: =C42*D38 -> 184.43642 | E42: =C42*E38 -> 184.43642 | F42: =C42*F38 -> 217.13196
B43: B - Férias e Adicional de Férias (O custo com o valor pago ao substituto durante as férias do empregado consta na letra "A" do submódulo 4.1), (custo não renovável). | C43: =C42/3 -> 0.027777778 | D43: =C43*D38 -> 61.478806 | E43: =C43*E38 -> 61.478806 | F43: =C43*F38 -> 72.377321
B44: Total | C44: =SUM(C42:C43) -> 0.11111111 | D44: =SUM(D42:D43) -> 245.91522 | E44: =SUM(E42:E43) -> 245.91522 | F44: =SUM(F42:F43) -> 289.50928
B45: 2.2 - GPS, FGTS e outras contribuições (Incide sobre os Módulos 1 e 2.1) | C45: Percentuais | D45: Valor (R$) | E45: Valor (R$) | F45: Valor (R$)
B46: A - INSS | C46: 0.2 | D46: =C46*(D38+D44) -> 491.83044 | E46: =C46*(E38+E44) -> 491.83044 | F46: =C46*(F38+F44) -> 579.01857
B47: B - Salário Educação | C47: 0.025 | D47: =C47*(D38+D44) -> 61.478806 | E47: =C47*(E38+E44) -> 61.478806 | F47: =C47*(F38+F44) -> 72.377321
...

Sheet Ipixuna
B1: PLANILHA ESTIMATIVA
B2: Planilha de Custos e Formação de Preços para Serviços de Vigilância - GEX – Belém, Marabá e Santarém-PA
B4: Nº do Processo: | C4: 35014.499513/2022-13
B5: Pregão Eletrônico nº
B6: Data:
B8: Discriminação dos Serviços (dados referentes à contratação)
B9: A – Data de apresentação da proposta (dia/mês/ano)
B10: B – Município/UF | C10: Ipixuna do Pará – PA
B11: C – Ano Acordo, Convenção ou Sentença Normativa em Dissídio Coletivo | C11: 2023
B12: D – Nº de meses de execução contratual | C12: 12
B14: Identificação do Serviço
B15: Tipo de Serviço | C15: Unid. de Medida | D15: Posto de 44 h semanais (Qtde) | E15: Posto 12X36 Diurnas (Qtde) | F15: Posto 12X36 Noturno (Qtde)
B16: Contratação de serviços de segurança e vigilância orgânica e patrimonial desarmada, visando atender as demandas das Gerências Executivas de Belém, Marabá e Santarém-PA, conforme condições, quantidades e exigências estabelecidas no instrumento convocatório. | C16: Posto | D16: =Resumo!E47 -> 1 | E16: =Resumo!E48 -> 0 | F16: 0
B19: Mão de obra vinculada à execução contratual
B20: Dados para composição dos custos referente à mão de obra
B21: 1 – Tipo de serviço (mesmo serviço com características distintas) | C21: Vigilância
B22: 2 – Classificação Brasileira de Ocupações (CBO) | C22: 517330
B23: 3 – Salário Normativo da Categoria Profissional | C23: 1702.49
B24: 4 – Categoria profissional (vinculada à execução contratual) | C24: Vigilante
B25: 5 – Data base da categoria (dia/mês/ano) | C25: 01 de janeiro
B26: 6 – Numero de registro da convenção coletiva no MTE | C26: PA000985/2022
B28: CUSTOS | C28: Percentuais e Valores de Referência | D28: 44 horas semanais | E28: 12X36 Diurnas | F28: 12X36 Noturnas
B29: MÓDULO 1: COMPOSIÇÃO DA REMUNERAÇÃO
B30: 1 - Composição da Remuneração | C30: Valores/ Percentuais | D30: Valor (R$) | E30: Valor (R$) | F30: Valor (R$)
B31: A – Salário Normativo | C31: =C23 -> 1702.49 | D31: =C31 -> 1702.49 | E31: =C31 -> 1702.49 | F31: =C31 -> 1702.49
B32: B - Adicional de Periculosidade | C32: 0.3 | D32: =D31*C32 -> 510.747 | E32: =E31*C32 -> 510.747 | F32: =F31*C32 -> 510.747
B33: C - Adicional de Insalubridade
B34: D - Adicional Noturno | C34: 0.2 | D34: 0 | E34: 0 | F34: =((F31+F32)/220)*C34*7*15 -> 211.26353
B35: E - Adicional de Hora Noturna Reduzida | D35: 0 | E35: 0 | F35: =((F31+F32)/220)*1.2*15 -> 181.08303
B36: F - Penosidade | D36: 0 | E36: 0 | F36: 0
B37: G - Outros | D37: 0 | E37: 0 | F37: 0
B38: Total | D38: =SUM(D31:D37) -> 2213.237 | E38: =SUM(E31:E37) -> 2213.237 | F38: =SUM(F31:F37) -> 2605.5836
B40: MÓDULO 2: ENCARGOS E BENEFÍCIOS ANUAIS, MENSAIS E DIÁRIOS
B41: 2.1 - 13º Salário, Férias e Adicional de Férias | C41: Percentuais | D41: Valor (R$) | E41: Valor (R$) | F41: Valor (R$)
B42: A - 13º salário | C42: =1/12 -> 0.083333333 | D42: =C42*D38 -> 184.43642 | E42: =C42*E38 -> 184.43642 | F42: =C42*F38 -> 217.13196
B43: B - Férias e Adicional de Férias (O custo com o valor pago ao substituto durante as férias do empregado consta na letra "A" do submódulo 4.1), (custo não renovável). | C43: =C42/3 -> 0.027777778 | D43: =C43*D38 -> 61.478806 | E43: =C43*E38 -> 61.478806 | F43: =C43*F38 -> 72.377321
B44: Total | C44: =SUM(C42:C43) -> 0.11111111 | D44: =SUM(D42:D43) -> 245.91522 | E44: =SUM(E42:E43) -> 245.91522 | F44: =SUM(F42:F43) -> 289.50928
B45: 2.2 - GPS, FGTS e outras contribuições (Incide sobre os Módulos 1 e 2.1) | C45: Percentuais | D45: Valor (R$) | E45: Valor (R$) | F45: Valor (R$)
B46: A - INSS | C46: 0.2 | D46: =C46*(D38+D44) -> 491.83044 | E46: =C46*(E38+E44) -> 491.83044 | F46: =C46*(F38+F44) -> 579.01857
B47: B - Salário Educação | C47: 0.025 | D47: =C47*(D38+D44) -> 61.478806 | E47: =C47*(E38+E44) -> 61.478806 | F47: =C47*(F38+F44) -> 72.377321
...

Sheet Marapanim
B1: PLANILHA ESTIMATIVA
B2: Planilha de Custos e Formação de Preços para Serviços de Vigilância - GEX – Belém, Marabá e Santarém-PA
B4: Nº do Processo: | C4: 35014.499513/2022-13
B5: Pregão Eletrônico nº
B6: Data:
B8: Discriminação dos Serviços (dados referentes à contratação)
B9: A – Data de apresentação da proposta (dia/mês/ano)
B10: B – Município/UF | C10: Marapanim – PA
B11: C – Ano Acordo, Convenção ou Sentença Normativa em Dissídio Coletivo | C11: 2023
B12: D – Nº de meses de execução contratual | C12: 12
B14: Identificação do Serviço
B15: Tipo de Serviço | C15: Unid. de Medida | D15: Posto de 44 h semanais (Qtde) | E15: Posto 12X36 Diurnas (Qtde) | F15: Posto 12X36 Noturno (Qtde)
B16: Contratação de serviços de segurança e vigilância orgânica e patrimonial desarmada, visando atender as demandas das Gerências Executivas de Belém, Marabá e Santarém-PA, conforme condições, quantidades e exigências estabelecidas no instrumento convocatório. | C16: Posto | D16: =Resumo!E50 -> 1 | E16: =Resumo!E51 -> 0 | F16: 0
B19: Mão de obra vinculada à execução contratual
B20: Dados para composição dos custos referente à mão de obra
B21: 1 – Tipo de serviço (mesmo serviço com características distintas) | C21: Vigilância
B22: 2 – Classificação Brasileira de Ocupações (CBO) | C22: 517330
B23: 3 – Salário Normativo da Categoria Profissional | C23: 1702.49
B24: 4 – Categoria profissional (vinculada à execução contratual) | C24: Vigilante
B25: 5 – Data base da categoria (dia/mês/ano) | C25: 01 de janeiro
B26: 6 – Numero de registro da convenção coletiva no MTE | C26: PA000985/2022
B28: CUSTOS | C28: Percentuais e Valores de Referência | D28: 44 horas semanais | E28: 12X36 Diurnas | F28: 12X36 Noturnas
B29: MÓDULO 1: COMPOSIÇÃO DA REMUNERAÇÃO
B30: 1 - Composição da Remuneração | C30: Valores/ Percentuais | D30: Valor (R$) | E30: Valor (R$) | F30: Valor (R$)
B31: A – Salário Normativo | C31: =C23 -> 1702.49 | D31: =C31 -> 1702.49 | E31: =C31 -> 1702.49 | F31: =C31 -> 1702.49
B32: B - Adicional de Periculosidade | C32: 0.3 | D32: =D31*C32 -> 510.747 | E32: =E31*C32 -> 510.747 | F32: =F31*C32 -> 510.747
B33: C - Adicional de Insalubridade
B34: D - Adicional Noturno | C34: 0.2 | D34: 0 | E34: 0 | F34: =((F31+F32)/220)*C34*7*15 -> 211.26353
B35: E - Adicional de Hora Noturna Reduzida | D35: 0 | E35: 0 | F35: =((F31+F32)/220)*1.2*15 -> 181.08303
B36: F - Penosidade | D36: 0 | E36: 0 | F36: 0
B37: G - Outros | D37: 0 | E37: 0 | F37: 0
B38: Total | D38: =SUM(D31:D37) -> 2213.237 | E38: =SUM(E31:E37) -> 2213.237 | F38: =SUM(F31:F37) -> 2605.5836
B40: MÓDULO 2: ENCARGOS E BENEFÍCIOS ANUAIS, MENSAIS E DIÁRIOS
B41: 2.1 - 13º Salário, Férias e Adicional de Férias | C41: Percentuais | D41: Valor (R$) | E41: Valor (R$) | F41: Valor (R$)
B42: A - 13º salário | C42: =1/12 -> 0.083333333 | D42: =C42*D38 -> 184.43642 | E42: =C42*E38 -> 184.43642 | F42: =C42*F38 -> 217.13196
B43: B - Férias e Adicional de Férias (O custo com o valor pago ao substituto durante as férias do empregado consta na letra "A" do submódulo 4.1), (custo não renovável). | C43: =C42/3 -> 0.027777778 | D43: =C43*D38 -> 61.478806 | E43: =C43*E38 -> 61.478806 | F43: =C43*F38 -> 72.377321
B44: Total | C44: =SUM(C42:C43) -> 0.11111111 | D44: =SUM(D42:D43) -> 245.91522 | E44: =SUM(E42:E43) -> 245.91522 | F44: =SUM(F42:F43) -> 289.50928
B45: 2.2 - GPS, FGTS e outras contribuições (Incide sobre os Módulos 1 e 2.1) | C45: Percentuais | D45: Valor (R$) | E45: Valor (R$) | F45: Valor (R$)
B46: A - INSS | C46: 0.2 | D46: =C46*(D38+D44) -> 491.83044 | E46: =C46*(E38+E44) -> 491.83044 | F46: =C46*(F38+F44) -> 579.01857
B47: B - Salário Educação | C47: 0.025 | D47: =C47*(D38+D44) -> 61.478806 | E47: =C47*(E38+E44) -> 61.478806 | F47: =C47*(F38+F44) -> 72.377321
...

Sheet Mocajuba
B1: PLANILHA ESTIMATIVA
B2: Planilha de Custos e Formação de Preços para Serviços de Vigilância - GEX – Belém, Marabá e Santarém-PA
B4: Nº do Processo: | C4: 35014.499513/2022-13
B5: Pregão Eletrônico nº
B6: Data:
B8: Discriminação dos Serviços (dados referentes à contratação)
B9: A – Data de apresentação da proposta (dia/mês/ano)
B10: B – Município/UF | C10: Mocajuba – PA
B11: C – Ano Acordo, Convenção ou Sentença Normativa em Dissídio Coletivo | C11: 2023
B12: D – Nº de meses de execução contratual | C12: 12
B14: Identificação do Serviço
B15: Tipo de Serviço | C15: Unid. de Medida | D15: Posto de 44 h semanais (Qtde) | E15: Posto 12X36 Diurnas (Qtde) | F15: Posto 12X36 Noturno (Qtde)
B16: Contratação de serviços de segurança e vigilância orgânica e patrimonial desarmada, visando atender as demandas das Gerências Executivas de Belém, Marabá e Santarém-PA, conforme condições, quantidades e exigências estabelecidas no instrumento convocatório. | C16: Posto | D16: =Resumo!E53 -> 1 | E16: =Resumo!E54 -> 0 | F16: 0
B19: Mão de obra vinculada à execução contratual
B20: Dados para composição dos custos referente à mão de obra
B21: 1 – Tipo de serviço (mesmo serviço com características distintas) | C21: Vigilância
B22: 2 – Classificação Brasileira de Ocupações (CBO) | C22: 517330
B23: 3 – Salário Normativo da Categoria Profissional | C23: 1702.49
B24: 4 – Categoria profissional (vinculada à execução contratual) | C24: Vigilante
B25: 5 – Data base da categoria (dia/mês/ano) | C25: 01 de janeiro
B26: 6 – Numero de registro da convenção coletiva no MTE | C26: PA000985/2022
B28: CUSTOS | C28: Percentuais e Valores de Referência | D28: 44 horas semanais | E28: 12X36 Diurnas | F28: 12X36 Noturnas
B29: MÓDULO 1: COMPOSIÇÃO DA REMUNERAÇÃO
B30: 1 - Composição da Remuneração | C30: Valores/ Percentuais | D30: Valor (R$) | E30: Valor (R$) | F30: Valor (R$)
B31: A – Salário Normativo | C31: =C23 -> 1702.49 | D31: =C31 -> 1702.49 | E31: =C31 -> 1702.49 | F31: =C31 -> 1702.49
B32: B - Adicional de Periculosidade | C32: 0.3 | D32: =D31*C32 -> 510.747 | E32: =E31*C32 -> 510.747 | F32: =F31*C32 -> 510.747
B33: C - Adicional de Insalubridade
B34: D - Adicional Noturno | C34: 0.2 | D34: 0 | E34: 0 | F34: =((F31+F32)/220)*C34*7*15 -> 211.26353
B35: E - Adicional de Hora Noturna Reduzida | D35: 0 | E35: 0 | F35: =((F31+F32)/220)*1.2*15 -> 181.08303
B36: F - Penosidade | D36: 0 | E36: 0 | F36: 0
B37: G - Outros | D37: 0 | E37: 0 | F37: 0
B38: Total | D38: =SUM(D31:D37) -> 2213.237 | E38: =SUM(E31:E37) -> 2213.237 | F38: =SUM(F31:F37) -> 2605.5836
B40: MÓDULO 2: ENCARGOS E BENEFÍCIOS ANUAIS, MENSAIS E DIÁRIOS
B41: 2.1 - 13º Salário, Férias e Adicional de Férias | C41: Percentuais | D41: Valor (R$) | E41: Valor (R$) | F41: Valor (R$)
B42: A - 13º salário | C42: =1/12 -> 0.083333333 | D42: =C42*D38 -> 184.43642 | E42: =C42*E38 -> 184.43642 | F42: =C42*F38 -> 217.13196
B43: B - Férias e Adicional de Férias (O custo com o valor pago ao substituto durante as férias do empregado consta na letra "A" do submódulo 4.1), (custo não renovável). | C43: =C42/3 -> 0.027777778 | D43: =C43*D38 -> 61.478806 | E43: =C43*E38 -> 61.478806 | F43: =C43*F38 -> 72.377321
B44: Total | C44: =SUM(C42:C43) -> 0.11111111 | D44: =SUM(D42:D43) -> 245.91522 | E44: =SUM(E42:E43) -> 245.91522 | F44: =SUM(F42:F43) -> 289.50928
B45: 2.2 - GPS, FGTS e outras contribuições (Incide sobre os Módulos 1 e 2.1) | C45: Percentuais | D45: Valor (R$) | E45: Valor (R$) | F45: Valor (R$)
B46: A - INSS | C46: 0.2 | D46: =C46*(D38+D44) -> 491.83044 | E46: =C46*(E38+E44) -> 491.83044 | F46: =C46*(F38+F44) -> 579.01857
B47: B - Salário Educação | C47: 0.025 | D47: =C47*(D38+D44) -> 61.478806 | E47: =C47*(E38+E44) -> 61.478806 | F47: =C47*(F38+F44) -> 72.377321
...

Sheet Nova Esperança
B1: PLANILHA ESTIMATIVA
B2: Planilha de Custos e Formação de Preços para Serviços de Vigilância - GEX – Belém, Marabá e Santarém-PA
B4: Nº do Processo: | C4: 35014.499513/2022-13
B5: Pregão Eletrônico nº
B6: Data:
B8: Discriminação dos Serviços (dados referentes à contratação)
B9: A – Data de apresentação da proposta (dia/mês/ano)
B10: B – Município/UF | C10: Nova Esperança do Piriá – PA
B11: C – Ano Acordo, Convenção ou Sentença Normativa em Dissídio Coletivo | C11: 2023
B12: D – Nº de meses de execução contratual | C12: 12
B14: Identificação do Serviço
B15: Tipo de Serviço | C15: Unid. de Medida | D15: Posto de 44 h semanais (Qtde) | E15: Posto 12X36 Diurnas (Qtde) | F15: Posto 12X36 Noturno (Qtde)
B16: Contratação de serviços de segurança e vigilância orgânica e patrimonial desarmada, visando atender as demandas das Gerências Executivas de Belém, Marabá e Santarém-PA, conforme condições, quantidades e exigências estabelecidas no instrumento convocatório. | C16: Posto | D16: =Resumo!E56 -> 1 | E16: =Resumo!E57 -> 0 | F16: 0
B19: Mão de obra vinculada à execução contratual
B20: Dados para composição dos custos referente à mão de obra
B21: 1 – Tipo de serviço (mesmo serviço com características distintas) | C21: Vigilância
B22: 2 – Classificação Brasileira de Ocupações (CBO) | C22: 517330
B23: 3 – Salário Normativo da Categoria Profissional | C23: 1702.49
B24: 4 – Categoria profissional (vinculada à execução contratual) | C24: Vigilante
B25: 5 – Data base da categoria (dia/mês/ano) | C25: 01 de janeiro
B26: 6 – Numero de registro da convenção coletiva no MTE | C26: PA000985/2022
B28: CUSTOS | C28: Percentuais e Valores de Referência | D28: 44 horas semanais | E28: 12X36 Diurnas | F28: 12X36 Noturnas
B29: MÓDULO 1: COMPOSIÇÃO DA REMUNERAÇÃO
B30: 1 - Composição da Remuneração | C30: Valores/ Percentuais | D30: Valor (R$) | E30: Valor (R$) | F30: Valor (R$)
B31: A – Salário Normativo | C31: =C23 -> 1702.49 | D31: =C31 -> 1702.49 | E31: =C31 -> 1702.49 | F31: =C31 -> 1702.49
B32: B - Adicional de Periculosidade | C32: 0.3 | D32: =D31*C32 -> 510.747 | E32: =E31*C32 -> 510.747 | F32: =F31*C32 -> 510.747
B33: C - Adicional de Insalubridade
B34: D - Adicional Noturno | C34: 0.2 | D34: 0 | E34: 0 | F34: =((F31+F32)/220)*C34*7*15 -> 211.26353
B35: E - Adicional de Hora Noturna Reduzida | D35: 0 | E35: 0 | F35: =((F31+F32)/220)*1.2*15 -> 181.08303
B36: F - Penosidade | D36: 0 | E36: 0 | F36: 0
B37: G - Outros | D37: 0 | E37: 0 | F37: 0
B38: Total | D38: =SUM(D31:D37) -> 2213.237 | E38: =SUM(E31:E37) -> 2213.237 | F38: =SUM(F31:F37) -> 2605.5836
B40: MÓDULO 2: ENCARGOS E BENEFÍCIOS ANUAIS, MENSAIS E DIÁRIOS
B41: 2.1 - 13º Salário, Férias e Adicional de Férias | C41: Percentuais | D41: Valor (R$) | E41: Valor (R$) | F41: Valor (R$)
B42: A - 13º salário | C42: =1/12 -> 0.083333333 | D42: =C42*D38 -> 184.43642 | E42: =C42*E38 -> 184.43642 | F42: =C42*F38 -> 217.13196
B43: B - Férias e Adicional de Férias (O custo com o valor pago ao substituto durante as férias do empregado consta na letra "A" do submódulo 4.1), (custo não renovável). | C43: =C42/3 -> 0.027777778 | D43: =C43*D38 -> 61.478806 | E43: =C43*E38 -> 61.478806 | F43: =C43*F38 -> 72.377321
B44: Total | C44: =SUM(C42:C43) -> 0.11111111 | D44: =SUM(D42:D43) -> 245.91522 | E44: =SUM(E42:E43) -> 245.91522 | F44: =SUM(F42:F43) -> 289.50928
B45: 2.2 - GPS, FGTS e outras contribuições (Incide sobre os Módulos 1 e 2.1) | C45: Percentuais | D45: Valor (R$) | E45: Valor (R$) | F45: Valor (R$)
B46: A - INSS | C46: 0.2 | D46: =C46*(D38+D44) -> 491.83044 | E46: =C46*(E38+E44) -> 491.83044 | F46: =C46*(F38+F44) -> 579.01857
B47: B - Salário Educação | C47: 0.025 | D47: =C47*(D38+D44) -> 61.478806 | E47: =C47*(E38+E44) -> 61.478806 | F47: =C47*(F38+F44) -> 72.377321
...

Sheet Abaetetuba
B1: PLANILHA ESTIMATIVA
B2: Planilha de Custos e Formação de Preços para Serviços de Vigilância - GEX – Belém, Marabá e Santarém-PA
B4: Nº do Processo: | C4: 35014.499513/2022-13
B5: Pregão Eletrônico nº
B6: Data:
B8: Discriminação dos Serviços (dados referentes à contratação)
B9: A – Data de apresentação da proposta (dia/mês/ano)
B10: B – Município/UF | C10: Abaetetuba – PA
B11: C – Ano Acordo, Convenção ou Sentença Normativa em Dissídio Coletivo | C11: 2023
B12: D – Nº de meses de execução contratual | C12: 12
B14: Identificação do Serviço
B15: Tipo de Serviço | C15: Unid. de Medida | D15: Posto de 44 h semanais (Qtde) | E15: Posto 12X36 Diurnas (Qtde) | F15: Posto 12X36 Noturno (Qtde)
B16: Contratação de serviços de segurança e vigilância orgânica e patrimonial desarmada, visando atender as demandas das Gerências Executivas de Belém, Marabá e Santarém-PA, conforme condições, quantidades e exigências estabelecidas no instrumento convocatório. | C16: Posto | D16: =Resumo!E59 -> 1 | E16: =Resumo!E60 -> 1 | F16: =Resumo!E61 -> 1
B19: Mão de obra vinculada à execução contratual
B20: Dados para composição dos custos referente à mão de obra
B21: 1 – Tipo de serviço (mesmo serviço com características distintas) | C21: Vigilância
B22: 2 – Classificação Brasileira de Ocupações (CBO) | C22: 517330
B23: 3 – Salário Normativo da Categoria Profissional | C23: 1702.49
B24: 4 – Categoria profissional (vinculada à execução contratual) | C24: Vigilante
B25: 5 – Data base da categoria (dia/mês/ano) | C25: 01 de janeiro
B26: 6 – Numero de registro da convenção coletiva no MTE | C26: PA000985/2022
B28: CUSTOS | C28: Percentuais e Valores de Referência | D28: 44 horas semanais | E28: 12X36 Diurnas | F28: 12X36 Noturnas
B29: MÓDULO 1: COMPOSIÇÃO DA REMUNERAÇÃO
B30: 1 - Composição da Remuneração | C30: Valores/ Percentuais | D30: Valor (R$) | E30: Valor (R$) | F30: Valor (R$)
B31: A – Salário Normativo | C31: =C23 -> 1702.49 | D31: =C31 -> 1702.49 | E31: =C31 -> 1702.49 | F31: =C31 -> 1702.49
B32: B - Adicional de Periculosidade | C32: 0.3 | D32: =D31*C32 -> 510.747 | E32: =E31*C32 -> 510.747 | F32: =F31*C32 -> 510.747
B33: C - Adicional de Insalubridade
B34: D - Adicional Noturno | C34: 0.2 | D34: 0 | E34: 0 | F34: =((F31+F32)/220)*C34*7*15 -> 211.26353
B35: E - Adicional de Hora Noturna Reduzida | D35: 0 | E35: 0 | F35: =((F31+F32)/220)*1.2*15 -> 181.08303
B36: F - Penosidade | D36: 0 | E36: 0 | F36: 0
B37: G - Outros | D37: 0 | E37: 0 | F37: 0
B38: Total | D38: =SUM(D31:D37) -> 2213.237 | E38: =SUM(E31:E37) -> 2213.237 | F38: =SUM(F31:F37) -> 2605.5836
B40: MÓDULO 2: ENCARGOS E BENEFÍCIOS ANUAIS, MENSAIS E DIÁRIOS
B41: 2.1 - 13º Salário, Férias e Adicional de Férias | C41: Percentuais | D41: Valor (R$) | E41: Valor (R$) | F41: Valor (R$)
B42: A - 13º salário | C42: =1/12 -> 0.083333333 | D42: =C42*D38 -> 184.43642 | E42: =C42*E38 -> 184.43642 | F42: =C42*F38 -> 217.13196
B43: B - Férias e Adicional de Férias (O custo com o valor pago ao substituto durante as férias do empregado consta na letra "A" do submódulo 4.1), (custo não renovável). | C43: =C42/3 -> 0.027777778 | D43: =C43*D38 -> 61.478806 | E43: =C43*E38 -> 61.478806 | F43: =C43*F38 -> 72.377321
B44: Total | C44: =SUM(C42:C43) -> 0.11111111 | D44: =SUM(D42:D43) -> 245.91522 | E44: =SUM(E42:E43) -> 245.91522 | F44: =SUM(F42:F43) -> 289.50928
B45: 2.2 - GPS, FGTS e outras contribuições (Incide sobre os Módulos 1 e 2.1) | C45: Percentuais | D45: Valor (R$) | E45: Valor (R$) | F45: Valor (R$)
B46: A - INSS | C46: 0.2 | D46: =C46*(D38+D44) -> 491.83044 | E46: =C46*(E38+E44) -> 491.83044 | F46: =C46*(F38+F44) -> 579.01857
B47: B - Salário Educação | C47: 0.025 | D47: =C47*(D38+D44) -> 61.478806 | E47: =C47*(E38+E44) -> 61.478806 | F47: =C47*(F38+F44) -> 72.377321
...

Sheet Icoarací
B1: PLANILHA ESTIMATIVA
B2: Planilha de Custos e Formação de Preços para Serviços de Vigilância - GEX – Belém, Marabá e Santarém-PA
B4: Nº do Processo: | C4: 35014.499513/2022-13
B5: Pregão Eletrônico nº
B6: Data:
B8: Discriminação dos Serviços (dados referentes à contratação)
B9: A – Data de apresentação da proposta (dia/mês/ano)
B10: B – Município/UF | C10: Icoarí – PA
B11: C – Ano Acordo, Convenção ou Sentença Normativa em Dissídio Coletivo | C11: 2023
B12: D – Nº de meses de execução contratual | C12: 12
B14: Identificação do Serviço
B15: Tipo de Serviço | C15: Unid. de Medida | D15: Posto de 44 h semanais (Qtde) | E15: Posto 12X36 Diurnas (Qtde) | F15: Posto 12X36 Noturno (Qtde)
B16: Contratação de serviços de segurança e vigilância orgânica e patrimonial desarmada, visando atender as demandas das Gerências Executivas de Belém, Marabá e Santarém-PA, conforme condições, quantidades e exigências estabelecidas no instrumento convocatório. | C16: Posto | D16: =Resumo!E63 -> 2 | E16: =Resumo!E64 -> 1 | F16: =Resumo!E65 -> 1
B19: Mão de obra vinculada à execução contratual
B20: Dados para composição dos custos referente à mão de obra
B21: 1 – Tipo de serviço (mesmo serviço com características distintas) | C21: Vigilância
B22: 2 – Classificação Brasileira de Ocupações (CBO) | C22: 517330
B23: 3 – Salário Normativo da Categoria Profissional | C23: 1702.49
B24: 4 – Categoria profissional (vinculada à execução contratual) | C24: Vigilante
B25: 5 – Data base da categoria (dia/mês/ano) | C25: 01 de janeiro
B26: 6 – Numero de registro da convenção coletiva no MTE | C26: PA000985/2022
B28: CUSTOS | C28: Percentuais e Valores de Referência | D28: 44 horas semanais | E28: 12X36 Diurnas | F28: 12X36 Noturnas
B29: MÓDULO 1: COMPOSIÇÃO DA REMUNERAÇÃO
B30: 1 - Composição da Remuneração | C30: Valores/ Percentuais | D30: Valor (R$) | E30: Valor (R$) | F30: Valor (R$)
B31: A – Salário Normativo | C31: =C23 -> 1702.49 | D31: =C31 -> 1702.49 | E31: =C31 -> 1702.49 | F31: =C31 -> 1702.49
B32: B - Adicional de Periculosidade | C32: 0.3 | D32: =D31*C32 -> 510.747 | E32: =E31*C32 -> 510.747 | F32: =F31*C32 -> 510.747
B33: C - Adicional de Insalubridade
B34: D - Adicional Noturno | C34: 0.2 | D34: 0 | E34: 0 | F34: =((F31+F32)/220)*C34*7*15 -> 211.26353
