Workbook

Sheet Resumo
A1: PLANILHA ESTIMATIVA
A2: Anexo V - Planilha de Custos e Formação de Preços para Serviços de Vigilância - GEX - Campo Grande e Dourados/MS
A4: INSS - GERÊNCIA EXECUTIVA EM CAMPO GRANDE E DOURADOS/MS
A5: PREGÃO ELETRÔNICO Nº
A6: DATA DA ABERTURA: | G6: Hora:
A8: 1 - OBJETO:
A9: Contratação de serviços de segurança e vigilância orgânica e patrimonial desarmada, visando atender as demandas da Superintendência Regional Norte/Centro-Oeste e Gerências Executivas vinculadas, conforme condições, quantidades e exigências estabelecidas neste instrumento convocatório.
A11: 2 - CONDIÇÕES GERAIS
A12: Conforme Termo de Referência.
A16: RESUMO GERAL
B17: DESCRIÇÃO | F17: POSTOS / HE | G17: VALOR MENSAL | H17: VALOR GLOBAL
B18: POSTO DE VIGILÂNCIA DESARMADA 12x36 DIURNO | F18: =E27+E31+E34+E37+E40+E43+E46+E49+E52+E55+E58+E61+E64+E67+E70+E73+E76+E79+E82+E86+E89+E92+E95+E98+E101+E104+E107+E110+E113+E116+E119+E122 -> 7 | G18: =G27+G31+G34+G37+G40+G43+G46+G49+G52+G55+G58+G61+G64+G67+G70+G73+G76+G79+G82+G86+G89+G92+G95+G98+G101+G104+G107+G110+G113+G116+G119+G122 -> 75247.42 | H18: =G18*12 -> 902969.04
B19: POSTO DE VIGILÂNCIA DESARMADA 12x36 NOTURNO | F19: =E28+E83 -> 6 | G19: =G28+G83 -> 74338 | H19: =G19*12 -> 892056
B20: POSTO DE VIGILÂNCIA DESARMADA 44 HORAS SEMANAIS | F20: =E29+E32+E35+E38+E41+E44+E47+E50+E53+E56+E59+E62+E65+E68+E71+E74+E77+E80+E84+E87+E90+E93+E96+E99+E102+E105+E108+E111+E114+E117+E120+E123 -> 56 | G20: =G29+G32+G35+G38+G41+G44+G47+G50+G53+G56+G59+G62+G65+G68+G71+G74+G77+G80+G84+G87+G90+G93+G96+G99+G102+G105+G108+G111+G114+G117+G120+G123 -> 311485.83 | H20: =G20*12 -> 3737830
B21: HORA EXTRA (Sábado) | F21: ='Horas Extras'!D16 -> 150 | G21: =H21/12 -> 370.375 | H21: ='Horas Extras'!E130 -> 4444.5
B22: HORA EXTRA (Domingo) | F22: ='Horas Extras'!E16 -> 24 | G22: =H22/12 -> 79 | H22: ='Horas Extras'!E131 -> 948
B23: VALOR TOTAL: | F23: =SUM(F18:F20) -> 69 | G23: =SUM(G18:G22) -> 461520.62 | H23: =SUM(H18:H22) -> 5538247.5
A25: PLANILHA 2023
A26: Item | B26: Município | C26: Descrição | E26: Quant. | F26: Valor do Posto | G26: Valor Mensal | H26: Valor 12 Meses
A27: 1 | B27: CAMPO GRANDE | C27: POSTO DE VIGILÂNCIA DESARMADA 12x36 DIURNO | E27: 5 | F27: ='Campo Grande'!E129 -> 10769.3 | G27: =F27*E27 -> 53846.5 | H27: =G27*12 -> 646158
C28: POSTO DE VIGILÂNCIA DESARMADA 12x36 NOTURNO | E28: 5 | F28: ='Campo Grande'!E130 -> 12401.14 | G28: =F28*E28 -> 62005.7 | H28: =G28*12 -> 744068.4
C29: POSTO DE VIGILÂNCIA DESARMADA 44 HORAS SEMANAIS | E29: 10 | F29: ='Campo Grande'!E131 -> 5693.12 | G29: =F29*E29 -> 56931.2 | H29: =G29*12 -> 683174.4
C30: VALOR TOTAL: | G30: =SUM(G27:G29) -> 172783.4 | H30: =SUM(H27:H29) -> 2073400.8
A31: 2 | B31: AQUIDAUANA | C31: POSTO DE VIGILÂNCIA DESARMADA 12x36 DIURNO | E31: 0 | F31: =Aquidauana!D129 -> 10685.7 | G31: =F31*E31 -> 0 | H31: =G31*12 -> 0
C32: POSTO DE VIGILÂNCIA DESARMADA 44 HORAS SEMANAIS | E32: 2 | F32: =Aquidauana!D130 -> 5527.91 | G32: =F32*E32 -> 11055.82 | H32: =G32*12 -> 132669.84
C33: VALOR TOTAL: | G33: =SUM(G31:G32) -> 11055.82 | H33: =SUM(H31:H32) -> 132669.84
A34: 3 | B34: ANASTÁCIO | C34: POSTO DE VIGILÂNCIA DESARMADA 12x36 DIURNO | E34: 0 | F34: =Anastácio!D129 -> 10685.7 | G34: =F34*E34 -> 0 | H34: =G34*12 -> 0
C35: POSTO DE VIGILÂNCIA DESARMADA 44 HORAS SEMANAIS | E35: 1 | F35: =Anastácio!D130 -> 5527.91 | G35: =F35*E35 -> 5527.91 | H35: =G35*12 -> 66334.92
C36: VALOR TOTAL: | G36: =SUM(G34:G35) -> 5527.91 | H36: =SUM(H34:H35) -> 66334.92
A37: 4 | B37: MIRANDA | C37: POSTO DE VIGILÂNCIA DESARMADA 12x36 DIURNO | E37: 0 | F37: =Miranda!D129 -> 10685.7 | G37: =F37*E37 -> 0 | H37: =G37*12 -> 0
C38: POSTO DE VIGILÂNCIA DESARMADA 44 HORAS SEMANAIS | E38: 1 | F38: =Miranda!D130 -> 5527.91 | G38: =F38*E38 -> 5527.91 | H38: =G38*12 -> 66334.92
C39: VALOR TOTAL: | G39: =SUM(G37:G38) -> 5527.91 | H39: =SUM(H37:H38) -> 66334.92
A40: 5 | B40: CORUMBÁ | C40: POSTO DE VIGILÂNCIA DESARMADA 12x36 DIURNO | E40: 0 | F40: =Corumbá!D129 -> 10715.76 | G40: =F40*E40 -> 0 | H40: =G40*12 -> 0
C41: POSTO DE VIGILÂNCIA DESARMADA 44 HORAS SEMANAIS | E41: 2 | F41: =Corumbá!D130 -> 5646.71 | G41: =F41*E41 -> 11293.42 | H41: =G41*12 -> 135521.04
C42: VALOR TOTAL: | G42: =SUM(G40:G41) -> 11293.42 | H42: =SUM(H40:H41) -> 135521.04
A43: 6 | B43: SIDROLÂNDIA | C43: POSTO DE VIGILÂNCIA DESARMADA 12x36 DIURNO | E43: 0 | F43: =Sidrolândia!D129 -> 10685.7 | G43: =F43*E43 -> 0 | H43: =G43*12 -> 0
C44: POSTO DE VIGILÂNCIA DESARMADA 44 HORAS SEMANAIS | E44: 1 | F44: =Sidrolândia!D130 -> 5527.91 | G44: =F44*E44 -> 5527.91 | H44: =G44*12 -> 66334.92
C45: VALOR TOTAL: | G45: =SUM(G43:G44) -> 5527.91 | H45: =SUM(H43:H44) -> 66334.92
A46: 7 | B46: JARDIM | C46: POSTO DE VIGILÂNCIA DESARMADA 12x36 DIURNO | E46: 0 | F46: =Jardim!D129 -> 10685.7 | G46: =F46*E46 -> 0 | H46: =G46*12 -> 0
C47: POSTO DE VIGILÂNCIA DESARMADA 44 HORAS SEMANAIS | E47: 1 | F47: =Jardim!D130 -> 5527.91 | G47: =F47*E47 -> 5527.91 | H47: =G47*12 -> 66334.92
...

Sheet Insumos
A1: CÁLCULO DOS INSUMOS
A3: ESTIMATIVA ANUAL DE UNIFORMES POR VIGILANTE
A4: ITEM | B4: DISCRIMINAÇÃO | C4: UNIDADE | D4: QTDE | E4: Preço 1 R$ | F4: Preço 2 | G4: Preço 3 | H4: Média Painel de Preços | I4: VALOR MÉDIO | J4: VALOR MENSAL
A5: 1 | B5: Calça | C5: unid | D5: 2 | E5: 85 | F5: 65 | G5: 99 | H5: 83.27 | I5: 65.77 | J5: =D5*I5/12 -> 10.961667
A6: 2 | B6: Camisa de mangas curtas | C6: unid | D6: 2 | E6: 59.99 | F6: 71 | G6: 78.9 | H6: 63.39 | I6: 41.64 | J6: =D6*I6/12 -> 6.94
A7: 3 | B7: Cinto de nylon | C7: unid | D7: 1 | E7: 32.72 | F7: 59.9 | G7: 45 | H7: 37.99 | I7: 21.81 | J7: =D7*I7/12 -> 1.8175
A8: 4 | B8: Coturno | C8: par | D8: 1 | E8: 152 | F8: 169.9 | G8: 99.9 | H8: 162.44 | I8: 109.31 | J8: =D8*I8/12 -> 9.1091667
A9: 5 | B9: Meia | C9: par | D9: 2 | E9: 10 | F9: 13.35 | G9: 8.31 | H9: 9.05 | I9: 13.19 | J9: =D9*I9/12 -> 2.1983333
A10: 6 | B10: Blusa de frio - japona | C10: unid | D10: 1 | E10: 147.3 | F10: 180 | G10: 173.5 | H10: 119.82 | I10: 114.05 | J10: =D10*I10/12 -> 9.5041667
A11: 7 | B11: Crachá | C11: unid | D11: 1 | E11: 9.92 | F11: 5.9 | G11: 6.45 | H11: 10.8 | I11: 2.99 | J11: =D11*I11/12 -> 0.24916667
A12: 8 | B12: Apito de metal com cordão | C12: unid | D12: 1 | E12: 11.86 | F12: 5.88 | G12: 19.9 | H12: 8.91 | I12: 10.84 | J12: =I12*D12/12 -> 0.90333333
A13: CUSTO MENSAL DE UNIFORMES | J13: =SUM(J5:J12) -> 41.683333
A15: MATERIAIS POR POSTO
A16: ITEM | B16: DISCRIMINAÇÃO | C16: UNIDADE | D16: QTDE | E16: Preço 1 | F16: Preço 2 | G16: Preço 3 | H16: Média Painel de Preços | I16: VALOR MÉDIO | J16: VALOR MENSAL
A17: 1 | B17: Livro de ocorrência | C17: unid | D17: 2 | E17: 12.94 | F17: 10.57 | G17: 11.25 | H17: 15.5 | I17: 11.86 | J17: =(I17*D17)/12 -> 1.9766667
A18: 2 | B18: Tonfa (cassetete) | C18: unid | D18: 1 | E18: 46 | F18: 54 | G18: 59.9 | H18: 22.8 | I18: 25.41 | J18: =I18*D18/12 -> 2.1175
A19: 3 | B19: Porta tonfa (Cassetete) | C19: unid | D19: 1 | E19: 39.9 | F19: 29.9 | G19: 25.9 | H19: 59.48 | I19: 16.52 | J19: =I19*D19/12 -> 1.3766667
A20: 4 | B20: Lanterna tática recarregável | C20: unid | D20: 1 | E20: 46.8 | F20: 58.49 | G20: 58.88 | H20: 47.68 | I20: 56.79 | J20: =I20*D20/12 -> 4.7325
A21: CUSTO MENSAL DE MATERIAIS E EQUIPAMENTOS | J21: =SUM(J17:J20) -> 10.203333

Sheet Memória de Cálculo
A1: Memória de Cálculo
A5: VALE REFEIÇÃO | B5: QTD DE TICKETS | C5: VALOR UNITÁRIO | D5: DESCONTO (1% do piso salarial) | E5: VALOR MENSAL
A6: POSTOS 44h | B6: 26 | C6: =29.5+(29.5*5.4706%) -> 31.113827 | D6: ='Campo Grande'!C31*0.01 -> 16.535892 | E6: =(C6*B6)-D6 -> 792.42361
A7: POSTOS 12x36h Diurno | B7: 15 | C7: =29.5+(29.5*5.4706%) -> 31.113827 | D7: ='Campo Grande'!C31*0.01 -> 16.535892 | E7: =(C7*B7)-D7 -> 450.17151
A8: POSTOS 12x36h Noturno | B8: 15 | C8: =29.5+(29.5*5.4706%) -> 31.113827 | D8: ='Campo Grande'!C31*0.01 -> 16.535892 | E8: =(C8*B8)-D8 -> 450.17151
A11: Média de faltas anuais por motivos legais
A12: Ausências legais: Art. 473 da CLT. Considerando que em média se falta 2 dias por ano com esse tipo de ausência e que apenas 3% dos profissionais se beneficiarão com tal ausência. Índice que demonstra o custo estimado com a substituição na cobertura de ausência legal. Esse índice BCCPA = deverá ser aplicado sobre (Módulo 1 + Módulo 2 + Módulo 3). % Ausências legais = Cálculo do valor = [(BCCPA/30)x1dia]/12 = 0,28%
A21: Total | C21: 0.0028
A24: Licença Paternidade
A25: Percentual de Homens: | D25: 0.5167
A26: Expectativa anual de nascimento de filhos dos trabalhadores (IBGE): | D26: 0.015
A27: Percentual de homens no serviço: | D27: 0.8988
A28: Duração da Licença Paternidade (em dias) | D28: 5
A31: Ausências por acidente de trabalho
A32: Média de faltas anuais por acidente de trabalho: | D32: 0.6913
A35: Afastamento Maternidade
A36: Discriminação do Item | D36: Valor (R$)
A37: 13º Salário + Férias + Adicional Férias | D37: ='Campo Grande'!D38+'Campo Grande'!D38+('Campo Grande'!D38/3) -> 5015.8871
A38: GPS + FGTS | D38: ='Campo Grande'!D54 -> 878.97451
A39: Assistência Médica e Familiar | D39: ='Campo Grande'!C58 -> 80
A40: Base de Cálculo | D40: =SUM(D37:D39) -> 5974.8616
A42: Percentual de Mulheres: | D42: 0.1012
A43: Expectativa mensal Afastatamento Maternidade (Censo IBGE): | D43: 0.0032
A45: * NOTA INFORMATIVA
A46: ITENS QUE NÃO PODERÃO SER COTADOS NA PLANILHA DE CUSTOS E FORMAÇÃO DE PREÇOS À LUZ DA JURISPRUDÊNCIA CONSOLIDADA DO TCU:
A47: 1. A ADMINISTRAÇÃO NÃO PODERÁ DESCLASSIFICAR PROPOSTAS QUE APRESENTEM COTAÇÕES PARA RESERVA TÉCNICA, IRPJ, CSLL, SUPERVISÃO/FISCALIZAÇÃO E RECICLAGEM/TREINAMENTO, NEM PODERÁ DESCLASSIFICAR EMPRESAS QUE APRESENTEM PLANILHAS COM COTAÇÕES INCORRETAS PARA OS ENCARGOS TRIBUTÁRIOS.
A48: ADVERTE-SE, CONTUDO, QUE, DE ACORDO COM A JURISPRUDÊNCIA CONSOLIDADA DO TCU, É INDEVIDA A COTAÇÃO, COMO ITEM ESPECÍFICO DA PLANILHA, DE CUSTOS RELATIVOS A:
A49: A) RESERVA TÉCNICA, POIS JÁ ESTARIAM COMPREENDIDOS NAS FALTAS LEGAIS (ACÓRDÃOS TCU Nº 1.696/2010-2ª CÂMARA E Nº 1.319/2010-2ª CÂMARA);
A50: B) TREINAMENTO/RECICLAGEM/CAPACITAÇÃO OU ITEM CONGÊNERE, UMA VEZ QUE ESSES CUSTOS JÁ ESTÃO ENGLOBADOS NAS DESPESAS ADMINISTRATIVAS DA CONTRATADA, SENDO DE SUA EXCLUSIVA RESPONSABILIDADE (ACÓRDÃOS TCU Nº 592/2010-PLENÁRIO, Nº 1.696/2010-2ª CÂMARA E Nº 592/2010-PLENÁRIO);
A51: C) SUPERVISÃO E FISCALIZAÇÃO, UMA VEZ QUE ESSES CUSTOS JÁ ESTÃO ENGLOBADOS NAS DESPESAS ADMINISTRATIVAS DA CONTRATADA (ACÓRDÃO Nº 592/2010-PLENÁRIO);*
A52: D) IRPJ E CSLL, POR SE CONSTITUÍREM EM TRIBUTOS DE NATUREZA DIRETA E PERSONALÍSTICA, QUE ONERAM PESSOALMENTE O CONTRATADO, NÃO DEVEM SER REPASSADOS À CONTRATANTE, NÃO PODENDO, AINDA, SEREM COTADOS NO ITEM REFERENTE AO LUCRO E DESPESAS ADMINISTRATIVAS/OPERACIONAIS (ACÓRDÃOS TCU N° 1.595/2006 - PLENÁRIO, N° 325/2009 - PLENÁRIO E N° 2.354/2010 - 2ª CÂMARA). *
A53: DESSE MODO, SE A EMPRESA OS COTAR, HAVERÁ SUPRESSÃO UNILATERAL DO ITEM DA PLANILHA E DEDUÇÃO/GLOSA, NO VALOR TOTAL DO DÉBITO, QUANDO DO PAGAMENTO MENSAL OU DA REPACTUAÇÃO. A EMPRESA QUE OS TENHA COTADO INCORRETAMENTE PODERÁ CORRIGIR A PLANILHA DE CUSTOS E FORMAÇÃO DOS PREÇOS ATÉ O MOMENTO DA ACEITABILIDADE DA PROPOSTA PELO PREGOEIRO, OPORTUNIDADE NA QUAL PRECLUIRÁ SEU DIREITO A CORREÇÕES.
A55: 2. COTAÇÃO DE ENCARGOS TRIBUTÁRIOS - CUIDADOS E CONSEQUÊNCIAS À LUZ DA JURISPRUDÊNCIA DO TCU:
A56: A EMPRESA É A ÚNICA RESPONSÁVEL PELA COTAÇÃO CORRETA DOS ENCARGOS TRIBUTÁRIOS. EM CASO DE ERRO OU COTAÇÃO INCOMPATÍVEL COM O REGIME TRIBUTÁRIO A QUE SE SUBMETE, SERÃO ADOTADAS AS ORIENTAÇÕES A SEGUIR:*
A57: A) COTAÇÃO DE PERCENTUAL MENOR QUE O ADEQUADO: O PERCENTUAL SERÁ MANTIDO DURANTE TODA A EXECUÇÃO CONTRATUAL;
... A68: OBS: Em conformidade com a IN N° 05 DE 26/05/2017 e alteração acrescentada pela IN N° 07 de 20/09/2018, e em referência a Nota 3 do Módulo 2 do Anexo VII-D, resaltamos o texto a seguir "Levando em consideração a vigência contratual prevista no art. 57 da Lei nº 8.666, de 23 de junho de 1993, a rubrica férias do subítem 2.1 tem como objetivo principal suprir a necessidade do pagamento das férias remuneradas ao final do contrato de 12 meses. Esta rubrica, quando da prorrogação contratual, torna-se custo não renovável".

Sheet Horas Extras
B1: PLANILHA ESTIMATIVA
B2: Planilha de Custos e Formação de Preços para Serviços de Vigilância - GEX - Campo Grande e Dourados-MS
B4: Nº do Processo: | C4: 35014.499513/2022-13
B5: Pregão Eletrônico nº
B6: Data:
B8: Discriminação dos Serviços (dados referentes à contratação)
B9: A – Data de apresentação da proposta (dia/mês/ano)
B10: B – Município/UF
B11: C – Ano Acordo, Convenção ou Sentença Normativa em Dissídio Coletivo
B12: D – Nº de meses de execução contratual | C12: 12
B14: Identificação do Serviço
B15: Tipo de Serviço | C15: Unid. de Medida | D15: Hora Extra – Sábado | E15: Hora Extra – Domingo
B16: Contratação de serviços de segurança e vigilância orgânica e patrimonial desarmada, visando atender as demandas da Superintendência Regional Norte/Centro-Oeste e Gerências Executivas vinculadas, conforme condições, quantidades e exigências estabelecidas neste instrumento convocatório. | C16: Serviço | D16: 150 | E16: 24
B19: Mão de obra vinculada à execução contratual
B20: Dados para composição dos custos referente à mão de obra
B21: 1 – Tipo de serviço (mesmo serviço com características distintas) | C21: Vigilância
B22: 2 – Classificação Brasileira de Ocupações (CBO) | C22: 517330
B23: 3 – Salário Normativo da Categoria Profissional | C23: ='Campo Grande'!C23 -> 1653.5892
B24: 4 – Categoria profissional (vinculada à execução contratual) | C24: Vigilante
B25: 5 – Data base da categoria (dia/mês/ano) | C25: 01 de março
B26: 6 – Numero de registro da convenção coletiva no MTE: | C26: MS000122/2022 e MS000120/2022
B28: CUSTOS | C28: Percentuais e Valores de Referência | D28: Hora Extra – Sábado | E28: Hora Extra – Domingo
B29: MÓDULO 1: COMPOSIÇÃO DA REMUNERAÇÃO
B30: 1 - Composição da Remuneração | C30: Valores/ Percentuais | D30: Valor (R$) | E30: Valor (R$)
B31: A – Salário Base (conforme Cláusula Terceira da CCT) | C31: =C23 -> 1653.5892 | D31: =C31 -> 1653.5892 | E31: =C31 -> 1653.5892
B32: B - Adicional de Periculosidade (conforme Cláusula Décima Quarta da CCT) | C32: 0.3 | D32: =D31*C32 -> 496.07675 | E32: =E31*C32 -> 496.07675
B33: C - Adicional de Insalubridade
B34: D - Adicional Noturno | D34: 0 | E34: 0
B35: E - Adicional de Hora Noturna Reduzida | D35: 0 | E35: 0
B36: F - Penosidade | D36: 0 | E36: 0
B37: G - Outros | D37: =(SUM(D31:D36))/220*1.5 -> 14.656813 | E37: =(SUM(E31:E36))/220*2 -> 19.542417
B38: Total | D38: =D37 -> 14.656813 | E38: =E37 -> 19.542417
B40: MÓDULO 2: ENCARGOS E BENEFÍCIOS ANUAIS, MENSAIS E DIÁRIOS
B41: 2.1 - 13º Salário, Férias e Adicional de Férias | C41: Percentuais | D41: Valor (R$) | E41: Valor (R$)
B42: A - 13º salário | C42: =1/12 -> 0.083333333 | D42: =C42*D38 -> 1.2214011 | E42: =C42*E38 -> 1.6285348
B43: B - Férias e Adicional de Férias (O custo com o valor pago ao substituto durante as férias do empregado consta na letra "A" do submódulo 4.1), (custo não renovável). | C43: =C42/3 -> 0.027777778 | D43: =C43*D38 -> 0.40713369 | E43: =C43*E38 -> 0.54284493
B44: Total | C44: =SUM(C42:C43) -> 0.11111111 | D44: =SUM(D42:D43) -> 1.6285348 | E44: =SUM(E42:E43) -> 2.1713797
B45: 2.2 - GPS, FGTS e outras contribuições (Incide sobre os Módulos 1 e 2.1) | C45: Percentuais | D45: Valor (R$) | E45: Valor (R$)
B46: A - INSS | C46: 0.2 | D46: =C46*(D38+D44) -> 3.2570696 | E46: =C46*(E38+E44) -> 4.3427594
B47: B - Salário Educação | C47: 0.025 | D47: =C47*(D38+D44) -> 0.40713369 | E47: =C47*(E38+E44) -> 0.54284493
...

Sheet Campo Grande
B1: PLANILHA ESTIMATIVA
B2: Planilha de Custos e Formação de Preços para Serviços de Vigilância - GEX - Campo Grande e Dourados-MS
B4: Nº do Processo: | C4: 35014.499513/2022-13
B5: Pregão Eletrônico nº
B6: Data:
B8: Discriminação dos Serviços (dados referentes à contratação)
B9: A – Data de apresentação da proposta (dia/mês/ano)
B10: B – Município/UF | C10: Campo Grande - MS
B11: C – Ano Acordo, Convenção ou Sentença Normativa em Dissídio Coletivo | C11: 2022/2024
B12: D – Nº de meses de execução contratual | C12: 12
B14: Identificação do Serviço
B15: Tipo de Serviço | C15: Unid. de Medida | D15: Posto de 44 hs semanais (Qtde) | E15: Posto 12X36 Diurnas (Qtde) | F15: Posto 12X36 Noturno (Qtde)
B16: Contratação de serviços de segurança e vigilância orgânica e patrimonial desarmada, visando atender as demandas das Gerências Executivas de Campo Grande e Dourados, conforme condições, quantidades e exigências estabelecidas neste instrumento convocatório. | C16: Serviço | D16: =Resumo!E29 -> 10 | E16: =Resumo!E27 -> 5 | F16: =Resumo!E28 -> 5
B19: Mão de obra vinculada à execução contratual
B20: Dados para composição dos custos referente à mão de obra
B21: 1 – Tipo de serviço (mesmo serviço com características distintas) | C21: Vigilância
B22: 2 – Classificação Brasileira de Ocupações (CBO) | C22: 517330
B23: 3 – Salário Normativo da Categoria Profissional | C23: =1567.82+(1567.82*5.4706%) -> 1653.5892
B24: 4 – Categoria profissional (vinculada à execução contratual) | C24: Vigilante
B25: 5 – Data base da categoria (dia/mês/ano) | C25: 01 de março
B26: 6 – Numero de registro da convenção coletiva no MTE: | C26: MS000122/2022
B28: CUSTOS | C28: Percentuais e Valores de Referência | D28: 44 horas semanais diurnas | E28: 12X36 Diurnas | F28: 12X36 Noturnas
B29: MÓDULO 1: COMPOSIÇÃO DA REMUNERAÇÃO
B30: 1 - Composição da Remuneração | C30: Valores/ Percentuais | D30: Valor (R$) | E30: Valor (R$) | F30: Valor (R$)
B31: A – Salário Base (conforme Cláusula Terceira da CCT) | C31: =C23 -> 1653.5892 | D31: =C31 -> 1653.5892 | E31: =C31 -> 1653.5892 | F31: =C31 -> 1653.5892
B32: B - Adicional de Periculosidade (conforme Cláusula Décima Quarta da CCT) | C32: 0.3 | D32: =D31*C32 -> 496.07675 | E32: =E31*C32 -> 496.07675 | F32: =F31*C32 -> 496.07675
B33: C - Adicional de Insalubridade
B34: D - Adicional Noturno | C34: 0.2 | D34: 0 | E34: 0 | F34: =((F31+F32)/220)*C34*7*15 -> 205.19538
B35: E - Adicional de Hora Noturna Reduzida | D35: 0 | E35: 0 | F35: =((F31+F32)/220)*1.2*15 -> 175.88176
B36: F - Penosidade | D36: 0 | E36: 0 | F36: 0
B37: G - Outros | D37: 0 | E37: 0 | F37: 0
B38: Total | D38: =SUM(D31:D37) -> 2149.6659 | E38: =SUM(E31:E37) -> 2149.6659 | F38: =SUM(F31:F37) -> 2530.743
B40: MÓDULO 2: ENCARGOS E BENEFÍCIOS ANUAIS, MENSAIS E DIÁRIOS
B41: 2.1 - 13º Salário, Férias e Adicional de Férias | C41: Percentuais | D41: Valor (R$) | E41: Valor (R$) | F41: Valor (R$)
B42: A - 13º salário | C42: =1/12 -> 0.083333333 | D42: =C42*D38 -> 179.13883 | E42: =C42*E38 -> 179.13883 | F42: =C42*F38 -> 210.89525
B43: B - Férias e Adicional de Férias (O custo com o valor pago ao substituto durante as férias do empregado consta na letra "A" do submódulo 4.1), (custo não renovável). | C43: =C42/3 -> 0.027777778 | D43: =C43*D38 -> 59.712942 | E43: =C43*E38 -> 59.712942 | F43: =C43*F38 -> 70.298418
B44: Total | C44: =SUM(C42:C43) -> 0.11111111 | D44: =SUM(D42:D43) -> 238.85177 | E44: =SUM(E42:E43) -> 238.85177 | F44: =SUM(F42:F43) -> 281.19367
B45: 2.2 - GPS, FGTS e outras contribuições (Incide sobre os Módulos 1 e 2.1) | C45: Percentuais | D45: Valor (R$) | E45: Valor (R$) | F45: Valor (R$)
B46: A - INSS | C46: 0.2 | D46: =C46*(D38+D44) -> 477.70354 | E46: =C46*(E38+E44) -> 477.70354 | F46: =C46*(F38+F44) -> 562.38734
B47: B - Salário Educação | C47: 0.025 | D47: =C47*(D38+D44) -> 59.712942 | E47: =C47*(E38+E44) -> 59.712942 | F47: =C47*(F38+F44) -> 70.298418
...

Sheet Aquidauana
B1: PLANILHA ESTIMATIVA
B2: Planilha de Custos e Formação de Preços para Serviços de Vigilância - GEX - Campo Grande e Dourados-MS
B4: Nº do Processo: | C4: 35014.499513/2022-13
B5: Pregão Eletrônico nº
B6: Data:
B8: Discriminação dos Serviços (dados referentes à contratação)
B9: A – Data de apresentação da proposta (dia/mês/ano)
B10: B – Município/UF | C10: Aquidauana - MS
B11: C – Ano Acordo, Convenção ou Sentença Normativa em Dissídio Coletivo | C11: 2022/2024
B12: D – Nº de meses de execução contratual | C12: 12
B14: Identificação do Serviço
B15: Tipo de Serviço | C15: Unid. de Medida | D15: Posto de 44 hs semanais (Qtde) | E15: Posto 12X36 Diurnas (Qtde)
B16: Contratação de serviços de segurança e vigilância orgânica e patrimonial desarmada, visando atender as demandas das Gerências Executivas de Campo Grande e Dourados, conforme condições, quantidades e exigências estabelecidas neste instrumento convocatório. | C16: Serviço | D16: =Resumo!E32 -> 2 | E16: =Resumo!E31 -> 0
B19: Mão de obra vinculada à execução contratual
B20: Dados para composição dos custos referente à mão de obra
B21: 1 – Tipo de serviço (mesmo serviço com características distintas) | C21: Vigilância
B22: 2 – Classificação Brasileira de Ocupações (CBO) | C22: 517330
B23: 3 – Salário Normativo da Categoria Profissional | C23: ='Campo Grande'!C23 -> 1653.5892
B24: 4 – Categoria profissional (vinculada à execução contratual) | C24: Vigilante
B25: 5 – Data base da categoria (dia/mês/ano) | C25: 01 de março
B26: 6 – Numero de registro da convenção coletiva no MTE: | C26: MS000122/2022
B28: CUSTOS | C28: Percentuais e Valores de Referência | D28: 44 horas semanais diurnas | E28: 12X36 Diurnas
B29: MÓDULO 1: COMPOSIÇÃO DA REMUNERAÇÃO
B30: 1 - Composição da Remuneração | C30: Valores/ Percentuais | D30: Valor (R$) | E30: Valor (R$)
B31: A – Salário Base (conforme Cláusula Terceira da CCT) | C31: =C23 -> 1653.5892 | D31: =C31 -> 1653.5892 | E31: =C31 -> 1653.5892
B32: B - Adicional de Periculosidade (conforme Cláusula Décima Quarta da CCT) | C32: 0.3 | D32: =D31*C32 -> 496.07675 | E32: =E31*C32 -> 496.07675
B33: C - Adicional de Insalubridade
B34: D - Adicional Noturno | D34: 0 | E34: 0
B35: E - Adicional de Hora Noturna Reduzida | D35: 0 | E35: 0
B36: F - Penosidade | D36: 0 | E36: 0
B37: G - Outros | D37: 0 | E37: 0
B38: Total | D38: =SUM(D31:D37) -> 2149.6659 | E38: =SUM(E31:E37) -> 2149.6659
B40: MÓDULO 2: ENCARGOS E BENEFÍCIOS ANUAIS, MENSAIS E DIÁRIOS
B41: 2.1 - 13º Salário, Férias e Adicional de Férias | C41: Percentuais | D41: Valor (R$) | E41: Valor (R$)
B42: A - 13º salário | C42: =1/12 -> 0.083333333 | D42: =C42*D38 -> 179.13883 | E42: =C42*E38 -> 179.13883
B43: B - Férias e Adicional de Férias (O custo com o valor pago ao substituto durante as férias do empregado consta na letra "A" do submódulo 4.1), (custo não renovável). | C43: =C42/3 -> 0.027777778 | D43: =C43*D38 -> 59.712942 | E43: =C43*E38 -> 59.712942
B44: Total | C44: =SUM(C42:C43) -> 0.11111111 | D44: =SUM(D42:D43) -> 238.85177 | E44: =SUM(E42:E43) -> 238.85177
B45: 2.2 - GPS, FGTS e outras contribuições (Incide sobre os Módulos 1 e 2.1) | C45: Percentuais | D45: Valor (R$) | E45: Valor (R$)
B46: A - INSS | C46: 0.2 | D46: =C46*(D38+D44) -> 477.70354 | E46: =C46*(E38+E44) -> 477.70354
B47: B - Salário Educação | C47: 0.025 | D47: =C47*(D38+D44) -> 59.712942 | E47: =C47*(E38+E44) -> 59.712942
...

Sheet Anastácio
B1: PLANILHA ESTIMATIVA
B2: Planilha de Custos e Formação de Preços para Serviços de Vigilância - GEX - Campo Grande e Dourados-MS
B4: Nº do Processo: | C4: =Aquidauana!C4 -> 35014.499513/2022-13
B5: Pregão Eletrônico nº | C5: =Aquidauana!C5 -> 0
B6: Data: | C6: =Aquidauana!C6 -> 0
B8: Discriminação dos Serviços (dados referentes à contratação)
B9: A – Data de apresentação da proposta (dia/mês/ano)
B10: B – Município/UF | C10: Anastácio - MS
B11: C – Ano Acordo, Convenção ou Sentença Normativa em Dissídio Coletivo | C11: 2022/2024
B12: D – Nº de meses de execução contratual | C12: 12
B14: Identificação do Serviço
B15: Tipo de Serviço | C15: Unid. de Medida | D15: Posto de 44 hs semanais (Qtde) | E15: Posto 12X36 Diurnas (Qtde)
B16: Contratação de serviços de segurança e vigilância orgânica e patrimonial desarmada, visando atender as demandas das Gerências Executivas de Campo Grande e Dourados, conforme condições, quantidades e exigências estabelecidas neste instrumento convocatório. | C16: Serviço | D16: =Resumo!E35 -> 1 | E16: =Resumo!E34 -> 0
B19: Mão de obra vinculada à execução contratual
B20: Dados para composição dos custos referente à mão de obra
B21: 1 – Tipo de serviço (mesmo serviço com características distintas) | C21: Vigilância
B22: 2 – Classificação Brasileira de Ocupações (CBO) | C22: 517330
B23: 3 – Salário Normativo da Categoria Profissional | C23: ='Campo Grande'!C23 -> 1653.5892
B24: 4 – Categoria profissional (vinculada à execução contratual) | C24: Vigilante
B25: 5 – Data base da categoria (dia/mês/ano) | C25: 01 de março
B26: 6 – Numero de registro da convenção coletiva no MTE: | C26: MS000122/2022
B28: CUSTOS | C28: Percentuais e Valores de Referência | D28: 44 horas semanais diurnas | E28: 12X36 Diurnas
B29: MÓDULO 1: COMPOSIÇÃO DA REMUNERAÇÃO
B30: 1 - Composição da Remuneração | C30: Valores/ Percentuais | D30: Valor (R$) | E30: Valor (R$)
B31: A – Salário-Base (conforme Cláusula Terceira da CCT) | C31: =C23 -> 1653.5892 | D31: =C31 -> 1653.5892 | E31: =C31 -> 1653.5892
B32: B - Adicional de Periculosidade (conforme Cláusula Décima Quarta da CCT) | C32: 0.3 | D32: =D31*C32 -> 496.07675 | E32: =E31*C32 -> 496.07675
B33: C - Adicional de Insalubridade
B34: D - Adicional Noturno | D34: 0 | E34: 0
B35: E - Adicional de Hora Noturna Reduzida | D35: 0 | E35: 0
B36: F - Penosidade | D36: 0 | E36: 0
B37: G - Outros | D37: 0 | E37: 0
B38: Total | D38: =SUM(D31:D37) -> 2149.6659 | E38: =SUM(E31:E37) -> 2149.6659
B40: MÓDULO 2: ENCARGOS E BENEFÍCIOS ANUAIS, MENSAIS E DIÁRIOS
B41: 2.1 - 13º Salário, Férias e Adicional de Férias | C41: Percentuais | D41: Valor (R$) | E41: Valor (R$)
B42: A - 13º salário | C42: =1/12 -> 0.083333333 | D42: =C42*D38 -> 179.13883 | E42: =C42*E38 -> 179.13883
B43: B - Férias e Adicional de Férias (O custo com o valor pago ao substituto durante as férias do empregado consta na letra "A" do submódulo 4.1), (custo não renovável). | C43: =C42/3 -> 0.027777778 | D43: =C43*D38 -> 59.712942 | E43: =C43*E38 -> 59.712942
B44: Total | C44: =SUM(C42:C43) -> 0.11111111 | D44: =SUM(D42:D43) -> 238.85177 | E44: =SUM(E42:E43) -> 238.85177
B45: 2.2 - GPS, FGTS e outras contribuições (Incide sobre os Módulos 1 e 2.1) | C45: Percentuais | D45: Valor (R$) | E45: Valor (R$)
B46: A - INSS | C46: 0.2 | D46: =C46*(D38+D44) -> 477.70354 | E46: =C46*(E38+E44) -> 477.70354
B47: B - Salário Educação | C47: 0.025 | D47: =C47*(D38+D44) -> 59.712942 | E47: =C47*(E38+E44) -> 59.712942
...

Sheet Miranda
B1: PLANILHA ESTIMATIVA
B2: Planilha de Custos e Formação de Preços para Serviços de Vigilância - GEX - Campo Grande e Dourados-MS
B4: Nº do Processo: | C4: =Aquidauana!C4 -> 35014.499513/2022-13
B5: Pregão Eletrônico nº | C5: =Aquidauana!C5 -> 0
B6: Data: | C6: =Aquidauana!C6 -> 0
B8: Discriminação dos Serviços (dados referentes à contratação)
B9: A – Data de apresentação da proposta (dia/mês/ano)
B10: B – Município/UF | C10: Miranda - MS
B11: C – Ano Acordo, Convenção ou Sentença Normativa em Dissídio Coletivo | C11: 2022/2024
B12: D – Nº de meses de execução contratual | C12: 12
B14: Identificação do Serviço
B15: Tipo de Serviço | C15: Unid. de Medida | D15: Posto de 44 hs semanais (Qtde) | E15: Posto 12X36 Diurnas (Qtde)
B16: Contratação de serviços de segurança e vigilância orgânica e patrimonial desarmada, visando atender as demandas das Gerências Executivas de Campo Grande e Dourados, conforme condições, quantidades e exigências estabelecidas neste instrumento convocatório. | C16: Serviço | D16: =Resumo!E38 -> 1 | E16: =Resumo!E37 -> 0
B19: Mão de obra vinculada à execução contratual
B20: Dados para composição dos custos referente à mão de obra
B21: 1 – Tipo de serviço (mesmo serviço com características distintas) | C21: Vigilância
B22: 2 – Classificação Brasileira de Ocupações (CBO) | C22: 517330
B23: 3 – Salário Normativo da Categoria Profissional | C23: ='Campo Grande'!C23 -> 1653.5892
B24: 4 – Categoria profissional (vinculada à execução contratual) | C24: Vigilante
B25: 5 – Data base da categoria (dia/mês/ano) | C25: 01 de março
B26: 6 – Numero de registro da convenção coletiva no MTE: | C26: MS000122/2022
B28: CUSTOS | C28: Percentuais e Valores de Referência | D28: 44 horas semanais diurnas | E28: 12X36 Diurnas
B29: MÓDULO 1: COMPOSIÇÃO DA REMUNERAÇÃO
B30: 1 - Composição da Remuneração | C30: Valores/ Percentuais | D30: Valor (R$) | E30: Valor (R$)
B31: A – Salário-Base (conforme Cláusula Terceira da CCT) | C31: =C23 -> 1653.5892 | D31: =C31 -> 1653.5892 | E31: =C31 -> 1653.5892
B32: B - Adicional de Periculosidade (conforme Cláusula Décima Quarta da CCT) | C32: 0.3 | D32: =D31*C32 -> 496.07675 | E32: =E31*C32 -> 496.07675
B33: C - Adicional de Insalubridade
B34: D - Adicional Noturno | D34: 0 | E34: 0
B35: E - Adicional de Hora Noturna Reduzida | D35: 0 | E35: 0
B36: F - Penosidade | D36: 0 | E36: 0
B37: G - Outros | D37: 0 | E37: 0
B38: Total | D38: =SUM(D31:D37) -> 2149.6659 | E38: =SUM(E31:E37) -> 2149.6659
B40: MÓDULO 2: ENCARGOS E BENEFÍCIOS ANUAIS, MENSAIS E DIÁRIOS
B41: 2.1 - 13º Salário, Férias e Adicional de Férias | C41: Percentuais | D41: Valor (R$) | E41: Valor (R$)
B42: A - 13º salário | C42: =1/12 -> 0.083333333 | D42: =C42*D38 -> 179.13883 | E42: =C42*E38 -> 179.13883
B43: B - Férias e Adicional de Férias (O custo com o valor pago ao substituto durante as férias do empregado consta na letra "A" do submódulo 4.1), (custo não renovável). | C43: =C42/3 -> 0.027777778 | D43: =C43*D38 -> 59.712942 | E43: =C43*E38 -> 59.712942
B44: Total | C44: =SUM(C42:C43) -> 0.11111111 | D44: =SUM(D42:D43) -> 238.85177 | E44: =SUM(E42:E43) -> 238.85177
B45: 2.2 - GPS, FGTS e outras contribuições (Incide sobre os Módulos 1 e 2.1) | C45: Percentuais | D45: Valor (R$) | E45: Valor (R$)
B46: A - INSS | C46: 0.2 | D46: =C46*(D38+D44) -> 477.70354 | E46: =C46*(E38+E44) -> 477.70354
B47: B - Salário Educação | C47: 0.025 | D47: =C47*(D38+D44) -> 59.712942 | E47: =C47*(E38+E44) -> 59.712942
...

Sheet Corumbá
B1: PLANILHA ESTIMATIVA
B2: Planilha de Custos e Formação de Preços para Serviços de Vigilância - GEX - Campo Grande e Dourados-MS
B4: Nº do Processo: | C4: =Aquidauana!C4 -> 35014.499513/2022-13
B5: Pregão Eletrônico nº | C5: =Aquidauana!C5 -> 0
B6: Data: | C6: =Aquidauana!C6 -> 0
B8: Discriminação dos Serviços (dados referentes à contratação)
B9: A – Data de apresentação da proposta (dia/mês/ano)
B10: B – Município/UF | C10: Corumbá - MS
B11: C – Ano Acordo, Convenção ou Sentença Normativa em Dissídio Coletivo | C11: 2022/2024
B12: D – Nº de meses de execução contratual | C12: 12
B14: Identificação do Serviço
B15: Tipo de Serviço | C15: Unid. de Medida | D15: Posto de 44 hs semanais (Qtde) | E15: Posto 12X36 Diurnas (Qtde)
B16: Contratação de serviços de segurança e vigilância orgânica e patrimonial desarmada, visando atender as demandas das Gerências Executivas de Campo Grande e Dourados, conforme condições, quantidades e exigências estabelecidas neste instrumento convocatório. | C16: Serviço | D16: =Resumo!E41 -> 2 | E16: =Resumo!E40 -> 0
B19: Mão de obra vinculada à execução contratual
B20: Dados para composição dos custos referente à mão de obra
B21: 1 – Tipo de serviço (mesmo serviço com características distintas) | C21: Vigilância
B22: 2 – Classificação Brasileira de Ocupações (CBO) | C22: 517330
B23: 3 – Salário Normativo da Categoria Profissional | C23: ='Campo Grande'!C23 -> 1653.5892
B24: 4 – Categoria profissional (vinculada à execução contratual) | C24: Vigilante
B25: 5 – Data base da categoria (dia/mês/ano) | C25: 01 de março
B26: 6 – Numero de registro da convenção coletiva no MTE: | C26: MS000122/2022
B28: CUSTOS | C28: Percentuais e Valores de Referência | D28: 44 horas semanais diurnas | E28: 12X36 Diurnas
B29: MÓDULO 1: COMPOSIÇÃO DA REMUNERAÇÃO
B30: 1 - Composição da Remuneração | C30: Valores/ Percentuais | D30: Valor (R$) | E30: Valor (R$)
B31: A – Salário-Base (conforme Cláusula Terceira da CCT) | C31: =C23 -> 1653.5892 | D31: =C31 -> 1653.5892 | E31: =C31 -> 1653.5892
B32: B - Adicional de Periculosidade (conforme Cláusula Décima Quarta da CCT) | C32: 0.3 | D32: =D31*C32 -> 496.07675 | E32: =E31*C32 -> 496.07675
B33: C - Adicional de Insalubridade
B34: D - Adicional Noturno | D34: 0 | E34: 0
B35: E - Adicional de Hora Noturna Reduzida | D35: 0 | E35: 0
B36: F - Penosidade | D36: 0 | E36: 0
B37: G - Outros | D37: 0 | E37: 0
B38: Total | D38: =SUM(D31:D37) -> 2149.6659 | E38: =SUM(E31:E37) -> 2149.6659
B40: MÓDULO 2: ENCARGOS E BENEFÍCIOS ANUAIS, MENSAIS E DIÁRIOS
B41: 2.1 - 13º Salário, Férias e Adicional de Férias | C41: Percentuais | D41: Valor (R$) | E41: Valor (R$)
B42: A - 13º salário | C42: =1/12 -> 0.083333333 | D42: =C42*D38 -> 179.13883 | E42: =C42*E38 -> 179.13883
B43: B - Férias e Adicional de Férias (O custo com o valor pago ao substituto durante as férias do empregado consta na letra "A" do submódulo 4.1), (custo não renovável). | C43: =C42/3 -> 0.027777778 | D43: =C43*D38 -> 59.712942 | E43: =C43*E38 -> 59.712942
B44: Total | C44: =SUM(C42:C43) -> 0.11111111 | D44: =SUM(D42:D43) -> 238.85177 | E44: =SUM(E42:E43) -> 238.85177
B45: 2.2 - GPS, FGTS e outras contribuições (Incide sobre os Módulos 1 e 2.1) | C45: Percentuais | D45: Valor (R$) | E45: Valor (R$)
B46: A - INSS | C46: 0.2 | D46: =C46*(D38+D44) -> 477.70354 | E46: =C46*(E38+E44) -> 477.70354
B47: B - Salário Educação | C47: 0.025 | D47: =C47*(D38+D44) -> 59.712942 | E47: =C47*(E38+E44) -> 59.712942
...

Sheet Sidrolândia
B1: PLANILHA ESTIMATIVA
B2: Planilha de Custos e Formação de Preços para Serviços de Vigilância - GEX - Campo Grande e Dourados-MS
B4: Nº do Processo: | C4: =Aquidauana!C4 -> 35014.499513/2022-13
B5: Pregão Eletrônico nº | C5: =Aquidauana!C5 -> 0
B6: Data: | C6: =Aquidauana!C6 -> 0
B8: Discriminação dos Serviços (dados referentes à contratação)
B9: A – Data de apresentação da proposta (dia/mês/ano)
B10: B – Município/UF | C10: Sidrolândia - MS
B11: C – Ano Acordo, Convenção ou Sentença Normativa em Dissídio Coletivo | C11: 2022/2024
B12: D – Nº de meses de execução contratual | C12: 12
B14: Identificação do Serviço
B15: Tipo de Serviço | C15: Unid. de Medida | D15: Posto de 44 hs semanais (Qtde) | E15: Posto 12X36 Diurnas (Qtde)
B16: Contratação de serviços de segurança e vigilância orgânica e patrimonial desarmada, visando atender as demandas das Gerências Executivas de Campo Grande e Dourados, conforme condições, quantidades e exigências estabelecidas neste instrumento convocatório. | C16: Serviço | D16: =Resumo!E44 -> 1 | E16: =Resumo!E43 -> 0
B19: Mão de obra vinculada à execução contratual
B20: Dados para composição dos custos referente à mão de obra
B21: 1 – Tipo de serviço (mesmo serviço com características distintas) | C21: Vigilância
B22: 2 – Classificação Brasileira de Ocupações (CBO) | C22: 517330
B23: 3 – Salário Normativo da Categoria Profissional | C23: ='Campo Grande'!C23 -> 1653.5892
B24: 4 – Categoria profissional (vinculada à execução contratual) | C24: Vigilante
B25: 5 – Data base da categoria (dia/mês/ano) | C25: 01 de março
B26: 6 – Numero de registro da convenção coletiva no MTE: | C26: MS000122/2022
B28: CUSTOS | C28: Percentuais e Valores de Referência | D28: 44 horas semanais diurnas | E28: 12X36 Diurnas
B29: MÓDULO 1: COMPOSIÇÃO DA REMUNERAÇÃO
B30: 1 - Composição da Remuneração | C30: Valores/ Percentuais | D30: Valor (R$) | E30: Valor (R$)
B31: A – Salário-Base (conforme Cláusula Terceira da CCT) | C31: =C23 -> 1653.5892 | D31: =C31 -> 1653.5892 | E31: =C31 -> 1653.5892
B32: B - Adicional de Periculosidade (conforme Cláusula Décima Quarta da CCT) | C32: 0.3 | D32: =D31*C32 -> 496.07675 | E32: =E31*C32 -> 496.07675
B33: C - Adicional de Insalubridade
B34: D - Adicional Noturno | D34: 0 | E34: 0
B35: E - Adicional de Hora Noturna Reduzida | D35: 0 | E35: 0
B36: F - Penosidade | D36: 0 | E36: 0
B37: G - Outros | D37: 0 | E37: 0
B38: Total | D38: =SUM(D31:D37) -> 2149.6659 | E38: =SUM(E31:E37) -> 2149.6659
B40: MÓDULO 2: ENCARGOS E BENEFÍCIOS ANUAIS, MENSAIS E DIÁRIOS
B41: 2.1 - 13º Salário, Férias e Adicional de Férias | C41: Percentuais | D41: Valor (R$) | E41: Valor (R$)
B42: A - 13º salário | C42: =1/12 -> 0.083333333 | D42: =C42*D38 -> 179.13883 | E42: =C42*E38 -> 179.13883
B43: B - Férias e Adicional de Férias (O custo com o valor pago ao substituto durante as férias do empregado consta na letra "A" do submódulo 4.1), (custo não renovável). | C43: =C42/3 -> 0.027777778 | D43: =C43*D38 -> 59.712942 | E43: =C43*E38 -> 59.712942
B44: Total | C44: =SUM(C42:C43) -> 0.11111111 | D44: =SUM(D42:D43) -> 238.85177 | E44: =SUM(E42:E43) -> 238.85177
B45: 2.2 - GPS, FGTS e outras contribuições (Incide sobre os Módulos 1 e 2.1) | C45: Percentuais | D45: Valor (R$) | E45: Valor (R$)
B46: A - INSS | C46: 0.2 | D46: =C46*(D38+D44) -> 477.70354 | E46: =C46*(E38+E44) -> 477.70354
B47: B - Salário Educação | C47: 0.025 | D47: =C47*(D38+D44) -> 59.712942 | E47: =C47*(E38+E44) -> 59.712942
...

Sheet Jardim
B1: PLANILHA ESTIMATIVA
B2: Planilha de Custos e Formação de Preços para Serviços de Vigilância - GEX - Campo Grande e Dourados-MS
B4: Nº do Processo: | C4: =Aquidauana!C4 -> 35014.499513/2022-13
B5: Pregão Eletrônico nº | C5: =Aquidauana!C5 -> 0
B6: Data: | C6: =Aquidauana!C6 -> 0
B8: Discriminação dos Serviços (dados referentes à contratação)
B9: A – Data de apresentação da proposta (dia/mês/ano)
B10: B – Município/UF | C10: Jardim - MS
B11: C – Ano Acordo, Convenção ou Sentença Normativa em Dissídio Coletivo | C11: 2022/2024
B12: D – Nº de meses de execução contratual | C12: 12
B14: Identificação do Serviço
B15: Tipo de Serviço | C15: Unid. de Medida | D15: Posto de 44 hs semanais (Qtde) | E15: Posto 12X36 Diurnas (Qtde)
B16: Contratação de serviços de segurança e vigilância orgânica e patrimonial desarmada, visando atender as demandas das Gerências Executivas de Campo Grande e Dourados, conforme condições, quantidades e exigências estabelecidas neste instrumento convocatório. | C16: Serviço | D16: =Resumo!E47 -> 1 | E16: =Resumo!E46 -> 0
B19: Mão de obra vinculada à execução contratual
B20: Dados para composição dos custos referente à mão de obra
B21: 1 – Tipo de serviço (mesmo serviço com características distintas) | C21: Vigilância
B22: 2 – Classificação Brasileira de Ocupações (CBO) | C22: 517330
B23: 3 – Salário Normativo da Categoria Profissional | C23: ='Campo Grande'!C23 -> 1653.5892
B24: 4 – Categoria profissional (vinculada à execução contratual) | C24: Vigilante
B25: 5 – Data base da categoria (dia/mês/ano) | C25: 01 de março
B26: 6 – Numero de registro da convenção coletiva no MTE: | C26: MS000122/2022
B28: CUSTOS | C28: Percentuais e Valores de Referência | D28: 44 horas semanais diurnas | E28: 12X36 Diurnas
B29: MÓDULO 1: COMPOSIÇÃO DA REMUNERAÇÃO
B30: 1 - Composição da Remuneração | C30: Valores/ Percentuais | D30: Valor (R$) | E30: Valor (R$)
B31: A – Salário-Base (conforme Cláusula Terceira da CCT) | C31: =C23 -> 1653.5892 | D31: =C31 -> 1653.5892 | E31: =C31 -> 1653.5892
B32: B - Adicional de Periculosidade (conforme Cláusula Décima Quarta da CCT) | C32: 0.3 | D32: =D31*C32 -> 496.07675 | E32: =E31*C32 -> 496.07675
B33: C - Adicional de Insalubridade
B34: D - Adicional Noturno | D34: 0 | E34: 0
B35: E - Adicional de Hora Noturna Reduzida | D35: 0 | E35: 0
B36: F - Penosidade | D36: 0 | E36: 0
B37: G - Outros | D37: 0 | E37: 0
B38: Total | D38: =SUM(D31:D37) -> 2149.6659 | E38: =SUM(E31:E37) -> 2149.6659
B40: MÓDULO 2: ENCARGOS E BENEFÍCIOS ANUAIS, MENSAIS E DIÁRIOS
B41: 2.1 - 13º Salário, Férias e Adicional de Férias | C41: Percentuais | D41: Valor (R$) | E41: Valor (R$)
B42: A - 13º salário | C42: =1/12 -> 0.083333333 | D42: =C42*D38 -> 179.13883 | E42: =C42*E38 -> 179.13883
B43: B - Férias e Adicional de Férias (O custo com o valor pago ao substituto durante as férias do empregado consta na letra "A" do submódulo 4.1), (custo não renovável). | C43: =C42/3 -> 0.027777778 | D43: =C43*D38 -> 59.712942 | E43: =C43*E38 -> 59.712942
B44: Total | C44: =SUM(C42:C43) -> 0.11111111 | D44: =SUM(D42:D43) -> 238.85177 | E44: =SUM(E42:E43) -> 238.85177
B45: 2.2 - GPS, FGTS e outras contribuições (Incide sobre os Módulos 1 e 2.1) | C45: Percentuais | D45: Valor (R$) | E45: Valor (R$)
B46: A - INSS | C46: 0.2 | D46: =C46*(D38+D44) -> 477.70354 | E46: =C46*(E38+E44) -> 477.70354
B47: B - Salário Educação | C47: 0.025 | D47: =C47*(D38+D44) -> 59.712942 | E47: =C47*(E38+E44) -> 59.712942
...

Sheet Bela Vista
B1: PLANILHA ESTIMATIVA
B2: Planilha de Custos e Formação de Preços para Serviços de Vigilância - GEX - Campo Grande e Dourados-MS
B4: Nº do Processo: | C4: =Aquidauana!C4 -> 35014.499513/2022-13
B5: Pregão Eletrônico nº | C5: =Aquidauana!C5 -> 0
B6: Data: | C6: =Aquidauana!C6 -> 0
B8: Discriminação dos Serviços (dados referentes à contratação)
B9: A – Data de apresentação da proposta (dia/mês/ano)
B10: B – Município/UF | C10: Bela Vista - MS
B11: C – Ano Acordo, Convenção ou Sentença Normativa em Dissídio Coletivo | C11: 2022/2024
B12: D – Nº de meses de execução contratual | C12: 12
B14: Identificação do Serviço
B15: Tipo de Serviço | C15: Unid. de Medida | D15: Posto de 44 hs semanais (Qtde) | E15: Posto 12X36 Diurnas (Qtde)
B16: Contratação de serviços de segurança e vigilância orgânica e patrimonial desarmada, visando atender as demandas das Gerências Executivas de Campo Grande e Dourados, conforme condições, quantidades e exigências estabelecidas neste instrumento convocatório. | C16: Serviço | D16: =Resumo!E50 -> 1 | E16: =Resumo!E49 -> 0
B19: Mão de obra vinculada à execução contratual
B20: Dados para composição dos custos referente à mão de obra
B21: 1 – Tipo de serviço (mesmo serviço com características distintas) | C21: Vigilância
B22: 2 – Classificação Brasileira de Ocupações (CBO) | C22: 517330
B23: 3 – Salário Normativo da Categoria Profissional | C23: ='Campo Grande'!C23 -> 1653.5892
B24: 4 – Categoria profissional (vinculada à execução contratual) | C24: Vigilante
B25: 5 – Data base da categoria (dia/mês/ano) | C25: 01 de março
B26: 6 – Numero de registro da convenção coletiva no MTE: | C26: MS000122/2022
B28: CUSTOS | C28: Percentuais e Valores de Referência | D28: 44 horas semanais diurnas | E28: 12X36 Diurnas
B29: MÓDULO 1: COMPOSIÇÃO DA REMUNERAÇÃO
B30: 1 - Composição da Remuneração | C30: Valores/ Percentuais | D30: Valor (R$) | E30: Valor (R$)
B31: A – Salário-Base (conforme Cláusula Terceira da CCT) | C31: =C23 -> 1653.5892 | D31: =C31 -> 1653.5892 | E31: =C31 -> 1653.5892
B32: B - Adicional de Periculosidade (conforme Cláusula Décima Quarta da CCT) | C32: 0.3 | D32: =D31*C32 -> 496.07675 | E32: =E31*C32 -> 496.07675
B33: C - Adicional de Insalubridade
B34: D - Adicional Noturno | D34: 0 | E34: 0
B35: E - Adicional de Hora Noturna Reduzida | D35: 0 | E35: 0
B36: F - Penosidade | D36: 0 | E36: 0
B37: G - Outros | D37: 0 | E37: 0
B38: Total | D38: =SUM(D31:D37) -> 2149.6659 | E38: =SUM(E31:E37) -> 2149.6659
B40: MÓDULO 2: ENCARGOS E BENEFÍCIOS ANUAIS, MENSAIS E DIÁRIOS
B41: 2.1 - 13º Salário, Férias e Adicional de Férias | C41: Percentuais | D41: Valor (R$) | E41: Valor (R$)
B42: A - 13º salário | C42: =1/12 -> 0.083333333 | D42: =C42*D38 -> 179.13883 | E42: =C42*E38 -> 179.13883
B43: B - Férias e Adicional de Férias (O custo com o valor pago ao substituto durante as férias do empregado consta na letra "A" do submódulo 4.1), (custo não renovável). | C43: =C42/3 -> 0.027777778 | D43: =C43*D38 -> 59.712942 | E43: =C43*E38 -> 59.712942
B44: Total | C44: =SUM(C42:C43) -> 0.11111111 | D44: =SUM(D42:D43) -> 238.85177 | E44: =SUM(E42:E43) -> 238.85177
B45: 2.2 - GPS, FGTS e outras contribuições (Incide sobre os Módulos 1 e 2.1) | C45: Percentuais | D45: Valor (R$) | E45: Valor (R$)
B46: A - INSS | C46: 0.2 | D46: =C46*(D38+D44) -> 477.70354 | E46: =C46*(E38+E44) -> 477.70354
B47: B - Salário Educação | C47: 0.025 | D47: =C47*(D38+D44) -> 59.712942 | E47: =C47*(E38+E44) -> 59.712942
...

Sheet Bonito
B1: PLANILHA ESTIMATIVA
B2: Planilha de Custos e Formação de Preços para Serviços de Vigilância - GEX - Campo Grande e Dourados-MS
B4: Nº do Processo: | C4: =Aquidauana!C4 -> 35014.499513/2022-13
B5: Pregão Eletrônico nº | C5: =Aquidauana!C5 -> 0
B6: Data: | C6: =Aquidauana!C6 -> 0
B8: Discriminação dos Serviços (dados referentes à contratação)
B9: A – Data de apresentação da proposta (dia/mês/ano)
B10: B – Município/UF | C10: Bonito - MS
B11: C – Ano Acordo, Convenção ou Sentença Normativa em Dissídio Coletivo | C11: 2022/2024
B12: D – Nº de meses de execução contratual | C12: 12
B14: Identificação do Serviço
B15: Tipo de Serviço | C15: Unid. de Medida | D15: Posto de 44 hs semanais (Qtde) | E15: Posto 12X36 Diurnas (Qtde)
B16: Contratação de serviços de segurança e vigilância orgânica e patrimonial desarmada, visando atender as demandas das Gerências Executivas de Campo Grande e Dourados, conforme condições, quantidades e exigências estabelecidas neste instrumento convocatório. | C16: Serviço | D16: =Resumo!E53 -> 1 | E16: =Resumo!E52 -> 0
B19: Mão de obra vinculada à execução contratual
B20: Dados para composição dos custos referente à mão de obra
B21: 1 – Tipo de serviço (mesmo serviço com características distintas) | C21: Vigilância
B22: 2 – Classificação Brasileira de Ocupações (CBO) | C22: 517330
B23: 3 – Salário Normativo da Categoria Profissional | C23: ='Campo Grande'!C23 -> 1653.5892
B24: 4 – Categoria profissional (vinculada à execução contratual) | C24: Vigilante
B25: 5 – Data base da categoria (dia/mês/ano) | C25: 01 de março
B26: 6 – Numero de registro da convenção coletiva no MTE: | C26: MS000122/2022
B28: CUSTOS | C28: Percentuais e Valores de Referência | D28: 44 horas semanais diurnas | E28: 12X36 Diurnas
B29: MÓDULO 1: COMPOSIÇÃO DA REMUNERAÇÃO
B30: 1 - Composição da Remuneração | C30: Valores/ Percentuais | D30: Valor (R$) | E30: Valor (R$)
B31: A – Salário-Base (conforme Cláusula Terceira da CCT) | C31: =C23 -> 1653.5892 | D31: =C31 -> 1653.5892 | E31: =C31 -> 1653.5892
B32: B - Adicional de Periculosidade (conforme Cláusula Décima Quarta da CCT) | C32: 0.3 | D32: =D31*C32 -> 496.07675 | E32: =E31*C32 -> 496.07675
B33: C - Adicional de Insalubridade
B34: D - Adicional Noturno | D34: 0 | E34: 0
B35: E - Adicional de Hora Noturna Reduzida | D35: 0 | E35: 0
B36: F - Penosidade | D36: 0 | E36: 0
B37: G - Outros | D37: 0 | E37: 0
B38: Total | D38: =SUM(D31:D37) -> 2149.6659 | E38: =SUM(E31:E37) -> 2149.6659
B40: MÓDULO 2: ENCARGOS E BENEFÍCIOS ANUAIS, MENSAIS E DIÁRIOS
B41: 2.1 - 13º Salário, Férias e Adicional de Férias | C41: Percentuais | D41: Valor (R$) | E41: Valor (R$)
B42: A - 13º salário | C42: =1/12 -> 0.083333333 | D42: =C42*D38 -> 179.13883 | E42: =C42*E38 -> 179.13883
B43: B - Férias e Adicional de Férias (O custo com o valor pago ao substituto durante as férias do empregado consta na letra "A" do submódulo 4.1), (custo não renovável). | C43: =C42/3 -> 0.027777778 | D43: =C43*D38 -> 59.712942 | E43: =C43*E38 -> 59.712942
B44: Total | C44: =SUM(C42:C43) -> 0.11111111 | D44: =SUM(D42:D43) -> 238.85177 | E44: =SUM(E42:E43) -> 238.85177
B45: 2.2 - GPS, FGTS e outras contribuições (Incide sobre os Módulos 1 e 2.1) | C45: Percentuais | D45: Valor (R$) | E45: Valor (R$)
B46: A - INSS | C46: 0.2 | D46: =C46*(D38+D44) -> 477.70354 | E46: =C46*(E38+E44) -> 477.70354
B47: B - Salário Educação | C47: 0.025 | D47: =C47*(D38+D44) -> 59.712942 | E47: =C47*(E38+E44) -> 59.712942
...

Sheet São Gabriel D'oeste
B1: PLANILHA ESTIMATIVA
B2: Planilha de Custos e Formação de Preços para Serviços de Vigilância - GEX - Campo Grande e Dourados-MS
B4: Nº do Processo: | C4: =Aquidauana!C4 -> 35014.499513/2022-13
B5: Pregão Eletrônico nº | C5: =Aquidauana!C5 -> 0
B6: Data: | C6: =Aquidauana!C6 -> 0
B8: Discriminação dos Serviços (dados referentes à contratação)
B9: A – Data de apresentação da proposta (dia/mês/ano)
B10: B – Município/UF | C10: São Gabriel D'Oeste - MS
B11: C – Ano Acordo, Convenção ou Sentença Normativa em Dissídio Coletivo | C11: 2022/2024
B12: D – Nº de meses de execução contratual | C12: 12
B14: Identificação do Serviço
B15: Tipo de Serviço | C15: Unid. de Medida | D15: Posto de 44 hs semanais (Qtde) | E15: Posto 12X36 Diurnas (Qtde)
B16: Contratação de serviços de segurança e vigilância orgânica e patrimonial desarmada, visando atender as demandas das Gerências Executivas de Campo Grande e Dourados, conforme condições, quantidades e exigências estabelecidas neste instrumento convocatório. | C16: Serviço | D16: =Resumo!E56 -> 1 | E16: =Resumo!E55 -> 0
B19: Mão de obra vinculada à execução contratual
B20: Dados para composição dos custos referente à mão de obra
B21: 1 – Tipo de serviço (mesmo serviço com características distintas) | C21: Vigilância
B22: 2 – Classificação Brasileira de Ocupações (CBO) | C22: 517330
B23: 3 – Salário Normativo da Categoria Profissional | C23: ='Campo Grande'!C23 -> 1653.5892
B24: 4 – Categoria profissional (vinculada à execução contratual) | C24: Vigilante
B25: 5 – Data base da categoria (dia/mês/ano) | C25: 01 de março
B26: 6 – Numero de registro da convenção coletiva no MTE: | C26: MS000122/2022
B28: CUSTOS | C28: Percentuais e Valores de Referência | D28: 44 horas semanais diurnas | E28: 12X36 Diurnas
B29: MÓDULO 1: COMPOSIÇÃO DA REMUNERAÇÃO
B30: 1 - Composição da Remuneração | C30: Valores/ Percentuais | D30: Valor (R$) | E30: Valor (R$)
B31: A – Salário-Base (conforme Cláusula Terceira da CCT) | C31: =C23 -> 1653.5892 | D31: =C31 -> 1653.5892 | E31: =C31 -> 1653.5892
B32: B - Adicional de Periculosidade (conforme Cláusula Décima Quarta da CCT) | C32: 0.3 | D32: =D31*C32 -> 496.07675 | E32: =E31*C32 -> 496.07675
B33: C - Adicional de Insalubridade
B34: D - Adicional Noturno | D34: 0 | E34: 0
B35: E - Adicional de Hora Noturna Reduzida | D35: 0 | E35: 0
B36: F - Penosidade | D36: 0 | E36: 0
B37: G - Outros | D37: 0 | E37: 0
B38: Total | D38: =SUM(D31:D37) -> 2149.6659 | E38: =SUM(E31:E37) -> 2149.6659
B40: MÓDULO 2: ENCARGOS E BENEFÍCIOS ANUAIS, MENSAIS E DIÁRIOS
B41: 2.1 - 13º Salário, Férias e Adicional de Férias | C41: Percentuais | D41: Valor (R$) | E41: Valor (R$)
B42: A - 13º salário | C42: =1/12 -> 0.083333333 | D42: =C42*D38 -> 179.13883 | E42: =C42*E38 -> 179.13883
B43: B - Férias e Adicional de Férias (O custo com o valor pago ao substituto durante as férias do empregado consta na letra "A" do submódulo 4.1), (custo não renovável). | C43: =C42/3 -> 0.027777778 | D43: =C43*D38 -> 59.712942 | E43: =C43*E38 -> 59.712942
B44: Total | C44: =SUM(C42:C43) -> 0.11111111 | D44: =SUM(D42:D43) -> 238.85177 | E44: =SUM(E42:E43) -> 238.85177
B45: 2.2 - GPS, FGTS e outras contribuições (Incide sobre os Módulos 1 e 2.1) | C45: Percentuais | D45: Valor (R$) | E45: Valor (R$)
B46: A - INSS | C46: 0.2 | D46: =C46*(D38+D44) -> 477.70354 | E46: =C46*(E38+E44) -> 477.70354
B47: B - Salário Educação | C47: 0.025 | D47: =C47*(D38+D44) -> 59.712942 | E47: =C47*(E38+E44) -> 59.712942
...

Sheet Rio Verde
B1: PLANILHA ESTIMATIVA
B2: Planilha de Custos e Formação de Preços para Serviços de Vigilância - GEX - Campo Grande e Dourados-MS
B4: Nº do Processo: | C4: =Aquidauana!C4 -> 35014.499513/2022-13
B5: Pregão Eletrônico nº | C5: =Aquidauana!C5 -> 0
B6: Data: | C6: =Aquidauana!C6 -> 0
B8: Discriminação dos Serviços (dados referentes à contratação)
B9: A – Data de apresentação da proposta (dia/mês/ano)
B10: B – Município/UF | C10: Rio Verde - MS
B11: C – Ano Acordo, Convenção ou Sentença Normativa em Dissídio Coletivo | C11: 2022/2024
B12: D – Nº de meses de execução contratual | C12: 12
B14: Identificação do Serviço
B15: Tipo de Serviço | C15: Unid. de Medida | D15: Posto de 44 hs semanais (Qtde) | E15: Posto 12X36 Diurnas (Qtde)
B16: Contratação de serviços de segurança e vigilância orgânica e patrimonial desarmada, visando atender as demandas das Gerências Executivas de Campo Grande e Dourados, conforme condições, quantidades e exigências estabelecidas neste instrumento convocatório. | C16: Serviço | D16: =Resumo!E59 -> 1 | E16: =Resumo!E58 -> 0
B19: Mão de obra vinculada à execução contratual
B20: Dados para composição dos custos referente à mão de obra
B21: 1 – Tipo de serviço (mesmo serviço com características distintas) | C21: Vigilância
B22: 2 – Classificação Brasileira de Ocupações (CBO) | C22: 517330
B23: 3 – Salário Normativo da Categoria Profissional | C23: ='Campo Grande'!C23 -> 1653.5892
B24: 4 – Categoria profissional (vinculada à execução contratual) | C24: Vigilante
B25: 5 – Data base da categoria (dia/mês/ano) | C25: 01 de março
B26: 6 – Numero de registro da convenção coletiva no MTE: | C26: MS000122/2022
B28: CUSTOS | C28: Percentuais e Valores de Referência | D28: 44 horas semanais diurnas | E28: 12X36 Diurnas
B29: MÓDULO 1: COMPOSIÇÃO DA REMUNERAÇÃO
B30: 1 - Composição da Remuneração | C30: Valores/ Percentuais | D30: Valor (R$) | E30: Valor (R$)
B31: A – Salário-Base (conforme Cláusula Terceira da CCT) | C31: =C23 -> 1653.5892 | D31: =C31 -> 1653.5892 | E31: =C31 -> 1653.5892
B32: B - Adicional de Periculosidade (conforme Cláusula Décima Quarta da CCT) | C32: 0.3 | D32: =D31*C32 -> 496.07675 | E32: =E31*C32 -> 496.07675
B33: C - Adicional de Insalubridade
B34: D - Adicional Noturno | D34: 0 | E34: 0
B35: E - Adicional de Hora Noturna Reduzida | D35: 0 | E35: 0
B36: F - Penosidade | D36: 0 | E36: 0
B37: G - Outros | D37: 0 | E37: 0
B38: Total | D38: =SUM(D31:D37) -> 2149.6659 | E38: =SUM(E31:E37) -> 2149.6659
B40: MÓDULO 2: ENCARGOS E BENEFÍCIOS ANUAIS, MENSAIS E DIÁRIOS
B41: 2.1 - 13º Salário, Férias e Adicional de Férias | C41: Percentuais | D41: Valor (R$) | E41: Valor (R$)
B42: A - 13º salário | C42: =1/12 -> 0.083333333 | D42: =C42*D38 -> 179.13883 | E42: =C42*E38 -> 179.13883
B43: B - Férias e Adicional de Férias (O custo com o valor pago ao substituto durante as férias do empregado consta na letra "A" do submódulo 4.1), (custo não renovável). | C43: =C42/3 -> 0.027777778 | D43: =C43*D38 -> 59.712942 | E43: =C43*E38 -> 59.712942
B44: Total | C44: =SUM(C42:C43) -> 0.11111111 | D44: =SUM(D42:D43) -> 238.85177 | E44: =SUM(E42:E43) -> 238.85177
B45: 2.2 - GPS, FGTS e outras contribuições (Incide sobre os Módulos 1 e 2.1) | C45: Percentuais | D45: Valor (R$) | E45: Valor (R$)
B46: A - INSS | C46: 0.2 | D46: =C46*(D38+D44) -> 477.70354 | E46: =C46*(E38+E44) -> 477.70354
B47: B - Salário Educação | C47: 0.025 | D47: =C47*(D38+D44) -> 59.712942 | E47: =C47*(E38+E44) -> 59.712942
...

Sheet Coxim
B1: PLANILHA ESTIMATIVA
B2: Planilha de Custos e Formação de Preços para Serviços de Vigilância - GEX - Campo Grande e Dourados-MS
B4: Nº do Processo: | C4: =Aquidauana!C4 -> 35014.499513/2022-13
B5: Pregão Eletrônico nº | C5: =Aquidauana!C5 -> 0
B6: Data: | C6: =Aquidauana!C6 -> 0
B8: Discriminação dos Serviços (dados referentes à contratação)
B9: A – Data de apresentação da proposta (dia/mês/ano)
B10: B – Município/UF | C10: Coxim - MS
B11: C – Ano Acordo, Convenção ou Sentença Normativa em Dissídio Coletivo | C11: 2022/2024
B12: D – Nº de meses de execução contratual | C12: 12
B14: Identificação do Serviço
B15: Tipo de Serviço | C15: Unid. de Medida | D15: Posto de 44 hs semanais (Qtde) | E15: Posto 12X36 Diurnas (Qtde)
B16: Contratação de serviços de segurança e vigilância orgânica e patrimonial desarmada, visando atender as demandas das Gerências Executivas de Campo Grande e Dourados, conforme condições, quantidades e exigências estabelecidas neste instrumento convocatório. | C16: Serviço | D16: =Resumo!E62 -> 2 | E16: =Resumo!E61 -> 0
B19: Mão de obra vinculada à execução contratual
B20: Dados para composição dos custos referente à mão de obra
B21: 1 – Tipo de serviço (mesmo serviço com características distintas) | C21: Vigilância
B22: 2 – Classificação Brasileira de Ocupações (CBO) | C22: 517330
B23: 3 – Salário Normativo da Categoria Profissional | C23: ='Campo Grande'!C23 -> 1653.5892
B24: 4 – Categoria profissional (vinculada à execução contratual) | C24: Vigilante
B25: 5 – Data base da categoria (dia/mês/ano) | C25: 01 de março
B26: 6 – Numero de registro da convenção coletiva no MTE: | C26: MS000122/2022
B28: CUSTOS | C28: Percentuais e Valores de Referência | D28: 44 horas semanais diurnas | E28: 12X36 Diurnas
B29: MÓDULO 1: COMPOSIÇÃO DA REMUNERAÇÃO
B30: 1 - Composição da Remuneração | C30: Valores/ Percentuais | D30: Valor (R$) | E30: Valor (R$)
B31: A – Salário-Base (conforme Cláusula Terceira da CCT) | C31: =C23 -> 1653.5892 | D31: =C31 -> 1653.5892 | E31: =C31 -> 1653.5892
B32: B - Adicional de Periculosidade (conforme Cláusula Décima Quarta da CCT) | C32: 0.3 | D32: =D31*C32 -> 496.07675 | E32: =E31*C32 -> 496.07675
B33: C - Adicional de Insalubridade
B34: D - Adicional Noturno | D34: 0 | E34: 0
B35: E - Adicional de Hora Noturna Reduzida | D35: 0 | E35: 0
B36: F - Penosidade | D36: 0 | E36: 0
B37: G - Outros | D37: 0 | E37: 0
B38: Total | D38: =SUM(D31:D37) -> 2149.6659 | E38: =SUM(E31:E37) -> 2149.6659
B40: MÓDULO 2: ENCARGOS E BENEFÍCIOS ANUAIS, MENSAIS E DIÁRIOS
B41: 2.1 - 13º Salário, Férias e Adicional de Férias | C41: Percentuais | D41: Valor (R$) | E41: Valor (R$)
B42: A - 13º salário | C42: =1/12 -> 0.083333333 | D42: =C42*D38 -> 179.13883 | E42: =C42*E38 -> 179.13883
B43: B - Férias e Adicional de Férias (O custo com o valor pago ao substituto durante as férias do empregado consta na letra "A" do submódulo 4.1), (custo não renovável). | C43: =C42/3 -> 0.027777778 | D43: =C43*D38 -> 59.712942 | E43: =C43*E38 -> 59.712942
B44: Total | C44: =SUM(C42:C43) -> 0.11111111 | D44: =SUM(D42:D43) -> 238.85177 | E44: =SUM(E42:E43) -> 238.85177
B45: 2.2 - GPS, FGTS e outras contribuições (Incide sobre os Módulos 1 e 2.1) | C45: Percentuais | D45: Valor (R$) | E45: Valor (R$)
B46: A - INSS | C46: 0.2 | D46: =C46*(D38+D44) -> 477.70354 | E46: =C46*(E38+E44) -> 477.70354
B47: B - Salário Educação | C47: 0.025 | D47: =C47*(D38+D44) -> 59.712942 | E47: =C47*(E38+E44) -> 59.712942
...

Sheet Costa Rica
B1: PLANILHA ESTIMATIVA
B2: Planilha de Custos e Formação de Preços para Serviços de Vigilância - GEX - Campo Grande e Dourados-MS
B4: Nº do Processo: | C4: =Aquidauana!C4 -> 35014.499513/2022-13
B5: Pregão Eletrônico nº | C5: =Aquidauana!C5 -> 0
B6: Data: | C6: =Aquidauana!C6 -> 0
B8: Discriminação dos Serviços (dados referentes à contratação)
B9: A – Data de apresentação da proposta (dia/mês/ano)
B10: B – Município/UF | C10: Costa Rica - MS
B11: C – Ano Acordo, Convenção ou Sentença Normativa em Dissídio Coletivo | C11: 2022/2024
B12: D – Nº de meses de execução contratual | C12: 12
B14: Identificação do Serviço
B15: Tipo de Serviço | C15: Unid. de Medida | D15: Posto de 44 hs semanais (Qtde) | E15: Posto 12X36 Diurnas (Qtde)
B16: Contratação de serviços de segurança e vigilância orgânica e patrimonial desarmada, visando atender as demandas das Gerências Executivas de Campo Grande e Dourados, conforme condições, quantidades e exigências estabelecidas neste instrumento convocatório. | C16: Serviço | D16: =Resumo!E65 -> 2 | E16: =Resumo!E64 -> 0
B19: Mão de obra vinculada à execução contratual
B20: Dados para composição dos custos referente à mão de obra
B21: 1 – Tipo de serviço (mesmo serviço com características distintas) | C21: Vigilância
B22: 2 – Classificação Brasileira de Ocupações (CBO) | C22: 517330
B23: 3 – Salário Normativo da Categoria Profissional | C23: ='Campo Grande'!C23 -> 1653.5892
B24: 4 – Categoria profissional (vinculada à execução contratual) | C24: Vigilante
B25: 5 – Data base da categoria (dia/mês/ano) | C25: 01 de março
B26: 6 – Numero de registro da convenção coletiva no MTE: | C26: MS000122/2022
B28: CUSTOS | C28: Percentuais e Valores de Referência | D28: 44 horas semanais diurnas | E28: 12X36 Diurnas
B29: MÓDULO 1: COMPOSIÇÃO DA REMUNERAÇÃO
B30: 1 - Composição da Remuneração | C30: Valores/ Percentuais | D30: Valor (R$) | E30: Valor (R$)
B31: A – Salário-Base (conforme Cláusula Terceira da CCT) | C31: =C23 -> 1653.5892 | D31: =C31 -> 1653.5892 | E31: =C31 -> 1653.5892
B32: B - Adicional de Periculosidade (conforme Cláusula Décima Quarta da CCT) | C32: 0.3 | D32: =D31*C32 -> 496.07675 | E32: =E31*C32 -> 496.07675
B33: C - Adicional de Insalubridade
B34: D - Adicional Noturno | D34: 0 | E34: 0
B35: E - Adicional de Hora Noturna Reduzida | D35: 0 | E35: 0
B36: F - Penosidade | D36: 0 | E36: 0
