Workbook

Sheet Resumo
A1: PLANILHA ESTIMATIVA
A2: Anexo V - Planilha de Custos e Formação de Preços para Serviços de Vigilância - GEX – Goiânia/GO e Anápolis/GO
A4: INSS - GERÊNCIAS EXECUTIVAS EM GOIÂNIA/GO E ANÁPOLIS/GO
A5: PREGÃO ELETRÔNICO Nº
A6: DATA DA ABERTURA: | G6: Hora:
A8: 1 - OBJETO:
A9: Contratação de serviços de segurança e vigilância orgânica e patrimonial desarmada, visando atender as demandas da Superintendência Regional Norte/Centro-Oeste e Gerências Executivas vinculadas, conforme condições, quantidades e exigências estabelecidas neste instrumento convocatório.
A11: 2 - CONDIÇÕES GERAIS
A12: Conforme Termo de Referência.
A16: RESUMO GERAL
B17: DESCRIÇÃO | F17: POSTOS / HE | G17: VALOR MENSAL | H17: VALOR GLOBAL
B18: POSTO DE VIGILÂNCIA DESARMADA 12x36 DIURNO | F18: =E27+E30+E33+E36+E39+E42+E45+E48+E51+E54+E57+E60+E63+E66+E69+E72+E75+E78+E81+E84+E87+E90+E93+E96+E99+E102+E105+E108+E111+E114+E117+E120+E123+E126+E129+E132+E135+E138+E141+E144+E147+E150+E153+E156+E159+E162+E165+E168+E172+E175+E178+E181+E184+E187 -> 2 | G18: =G27+G30+G33+G36+G39+G42+G45+G48+G51+G54+G57+G60+G63+G66+G69+G72+G75+G78+G81+G84+G87+G90+G93+G96+G99+G102+G105+G108+G111+G114+G117+G120+G123+G126+G129+G132+G135+G138+G141+G144+G147+G150+G153+G156+G159+G162+G165+G168+G172+G175+G178+G181+G184+G187 -> 21637.74 | H18: =G18*12 -> 259652.88
B19: POSTO DE VIGILÂNCIA DESARMADA 12x36 NOTURNO | F19: 1 | G19: =G169 -> 10897.76 | H19: =G19*12 -> 130773.12
B20: POSTO DE VIGILÂNCIA DESARMADA 44 HORAS SEMANAIS | F20: =E28+E31+E34+E37+E40+E43+E46+E49+E52+E55+E58+E61+E64+E67+E70+E73+E76+E79+E82+E85+E88+E91+E94+E97+E100+E103+E106+E109+E112+E115+E118+E121+E124+E127+E130+E133+E136+E139+E142+E145+E148+E151+E154+E157+E160+E163+E166+E170+E173+E176+E179+E182+E185+E188 -> 119 | G20: =G28+G31+G34+G37+G40+G43+G46+G49+G52+G55+G58+G61+G64+G67+G70+G73+G76+G79+G82+G85+G88+G91+G94+G97+G100+G103+G106+G109+G112+G115+G118+G121+G124+G127+G130+G133+G136+G139+G142+G145+G148+G151+G154+G157+G160+G163+G166+G170+G173+G176+G179+G182+G185+G188 -> 669499.9 | H20: =G20*12 -> 8033998.8
B21: HORA EXTRA (Sábado) | F21: 334 | G21: =H21/12 -> 915.16 | H21: =F21*'Horas Extras'!C126 -> 10981.92
B22: HORA EXTRA (Domingo e Feriado) | F22: 80 | G22: =H22/12 -> 292.26667 | H22: =F22*'Horas Extras'!D126 -> 3507.2
B23: VALOR TOTAL: | F23: =SUM(F18:F20) -> 122 | G23: =SUM(G18:G22) -> 703242.83 | H23: =SUM(H18:H22) -> 8438913.9
A25: PLANILHA 2023
A26: Item | B26: Descrição | E26: Quant. | F26: Valor do Posto | G26: Valor Mensal | H26: Valor 12 Meses
A27: 1 | B27: GOIÂNIA | C27: POSTO 12x36 DIURNO | E27: 1 | F27: =Goiânia!C131 -> 10947.34 | G27: =F27*E27 -> 10947.34 | H27: =G27*12 -> 131368.08
C28: POSTO 44 HORAS SEMANAIS | E28: 26 | F28: =Goiânia!C130 -> 5777.79 | G28: =F28*E28 -> 150222.54 | H28: =G28*12 -> 1802670.5
C29: VALOR TOTAL: | G29: =SUM(G27:G28) -> 161169.88 | H29: =SUM(H27:H28) -> 1934038.6
A30: 2 | B30: ACREÚNA | C30: POSTO 12x36 DIURNO | E30: 0 | F30: =Acreúna!C131 -> 10897.76 | G30: =F30*E30 -> 0 | H30: =G30*12 -> 0
C31: POSTO 44 HORAS SEMANAIS | E31: 1 | F31: =Acreúna!C130 -> 5632.75 | G31: =F31*E31 -> 5632.75 | H31: =G31*12 -> 67593
C32: VALOR TOTAL: | G32: =SUM(G30:G31) -> 5632.75 | H32: =SUM(H30:H31) -> 67593
A33: 3 | B33: ANICUNS | C33: POSTO 12x36 DIURNO | E33: 0 | F33: =Anicuns!C131 -> 10664.28 | G33: =F33*E33 -> 0 | H33: =G33*12 -> 0
C34: POSTO 44 HORAS SEMANAIS | E34: 2 | F34: =Anicuns!C130 -> 5512.07 | G34: =F34*E34 -> 11024.14 | H34: =G34*12 -> 132289.68
C35: VALOR TOTAL: | G35: =SUM(G33:G34) -> 11024.14 | H35: =SUM(H33:H34) -> 132289.68
A36: 4 | B36: APARECIDA DE GOIÂNIA | C36: POSTO 12x36 DIURNO | E36: 0 | F36: ='Aparecida de Goiânia'!C131 -> 10712.8 | G36: =F36*E36 -> 0 | H36: =G36*12 -> 0
C37: POSTO 44 HORAS SEMANAIS | E37: 4 | F37: ='Aparecida de Goiânia'!C130 -> 5654 | G37: =F37*E37 -> 22616 | H37: =G37*12 -> 271392
C38: VALOR TOTAL: | G38: =SUM(G36:G37) -> 22616 | H38: =SUM(H36:H37) -> 271392
A39: 5 | B39: BELA VISTA DE GOIÁS | C39: POSTO 12x36 DIURNO | E39: 0 | F39: ='Bela Vista de Goiás'!C131 -> 10599.26 | G39: =F39*E39 -> 0 | H39: =G39*12 -> 0
C40: POSTO 44 HORAS SEMANAIS | E40: 1 | F40: ='Bela Vista de Goiás'!C130 -> 5594.08 | G40: =F40*E40 -> 5594.08 | H40: =G40*12 -> 67128.96
C41: VALOR TOTAL: | G41: =SUM(G39:G40) -> 5594.08 | H41: =SUM(H39:H40) -> 67128.96
A42: 6 | B42: CAIAPÔNIA | C42: POSTO 12x36 DIURNO | E42: 0 | F42: =Caiapônia!C131 -> 10897.76 | G42: =F42*E42 -> 0 | H42: =G42*12 -> 0
C43: POSTO 44 HORAS SEMANAIS | E43: 1 | F43: =Caiapônia!C130 -> 5632.75 | G43: =F43*E43 -> 5632.75 | H43: =G43*12 -> 67593
C44: VALOR TOTAL: | G44: =SUM(G42:G43) -> 5632.75 | H44: =SUM(H42:H43) -> 67593
A45: 7 | B45: GOIATUBA | C45: POSTO 12x36 DIURNO | E45: 0 | F45: =Goiatuba!C131 -> 10664.28 | G45: =F45*E45 -> 0 | H45: =G45*12 -> 0
C46: POSTO 44 HORAS SEMANAIS | E46: 2 | F46: =Goiatuba!C130 -> 5512.07 | G46: =F46*E46 -> 11024.14 | H46: =G46*12 -> 132289.68
C47: VALOR TOTAL: | G47: =SUM(G45:G46) -> 11024.14 | H47: =SUM(H45:H46) -> 132289.68
...

Sheet Insumos
A1: CÁLCULO DOS INSUMOS
A3: ESTIMATIVA ANUAL DE UNIFORMES POR VIGILANTE
A4: ITEM | B4: DISCRIMINAÇÃO | C4: UNIDADE | D4: QTDE | E4: Preço 1 R$ | F4: Preço 2 | G4: Preço 3 | H4: Média Painel de Preços | I4: VALOR MÉDIO | J4: VALOR MENSAL
A5: 1 | B5: Calça | C5: unid | D5: 2 | E5: 85 | F5: 65 | G5: 99 | H5: 83.27 | I5: 65.77 | J5: =D5*I5/12 -> 10.961667
A6: 2 | B6: Camisa de mangas curtas | C6: unid | D6: 2 | E6: 59.99 | F6: 71 | G6: 78.9 | H6: 63.39 | I6: 41.64 | J6: =D6*I6/12 -> 6.94
A7: 3 | B7: Cinto de nylon | C7: unid | D7: 1 | E7: 32.72 | F7: 59.9 | G7: 45 | H7: 37.99 | I7: 21.81 | J7: =D7*I7/12 -> 1.8175
A8: 4 | B8: Coturno | C8: par | D8: 1 | E8: 152 | F8: 169.9 | G8: 99.9 | H8: 162.44 | I8: 109.31 | J8: =D8*I8/12 -> 9.1091667
A9: 5 | B9: Meia | C9: par | D9: 2 | E9: 10 | F9: 13.35 | G9: 8.31 | H9: 9.05 | I9: 13.19 | J9: =D9*I9/12 -> 2.1983333
A10: 6 | B10: Blusa de frio - japona | C10: unid | D10: 1 | E10: 147.3 | F10: 180 | G10: 173.5 | H10: 119.82 | I10: 114.05 | J10: =D10*I10/12 -> 9.5041667
A11: 7 | B11: Crachá | C11: unid | D11: 1 | E11: 9.92 | F11: 5.9 | G11: 6.45 | H11: 10.8 | I11: 2.99 | J11: =D11*I11/12 -> 0.24916667
A12: 8 | B12: Apito de metal com cordão | C12: unid | D12: 1 | E12: 11.86 | F12: 5.88 | G12: 19.9 | H12: 8.91 | I12: 10.84 | J12: =I12*D12/12 -> 0.90333333
A13: CUSTO MENSAL DE UNIFORMES | J13: =SUM(J5:J12) -> 41.683333
A15: MATERIAIS POR POSTO
A16: ITEM | B16: DISCRIMINAÇÃO | C16: UNIDADE | D16: QTDE | E16: Preço 1 | F16: Preço 2 | G16: Preço 3 | H16: Média Painel de Preços | I16: VALOR MÉDIO | J16: VALOR MENSAL
A17: 1 | B17: Livro de ocorrência | C17: unid | D17: 2 | E17: 12.94 | F17: 10.57 | G17: 11.25 | H17: 15.5 | I17: 11.86 | J17: =(I17*D17)/12 -> 1.9766667
A18: 2 | B18: Tonfa (cassetete) | C18: unid | D18: 1 | E18: 46 | F18: 54 | G18: 59.9 | H18: 22.8 | I18: 25.41 | J18: =I18*D18/12 -> 2.1175
A19: 3 | B19: Porta tonfa (Cassetete) | C19: unid | D19: 1 | E19: 39.9 | F19: 29.9 | G19: 25.9 | H19: 59.48 | I19: 16.52 | J19: =I19*D19/12 -> 1.3766667
A20: 4 | B20: Lanterna tática recarregável | C20: unid | D20: 1 | E20: 46.8 | F20: 58.49 | G20: 58.88 | H20: 47.68 | I20: 56.79 | J20: =I20*D20/12 -> 4.7325
A21: CUSTO MENSAL DE MATERIAIS E EQUIPAMENTOS | J21: =SUM(J17:J20) -> 10.203333

Sheet Memória de Cálculo
A3: Memória de Cálculo
A5: AUXÍLIO REFEIÇÃO | B5: QTDE DE TICKETS | C5: VALOR UNITÁRIO | D5: DESCONTO (8,5% valor do Auxílio) | E5: VALOR MENSAL
A6: POSTOS 44h | B6: 26 | C6: 25 | D6: =(B6*C6)*8.5% -> 55.25 | E6: =(C6*B6)-D6 -> 594.75
A7: POSTOS 12x36h Diurno | B7: 15 | C7: 25 | D7: =(B7*C7)*8.5% -> 31.875 | E7: =(C7*B7)-D7 -> 343.125
A8: POSTOS 12x36h Noturno | B8: 15 | C8: 25 | D8: =(B8*C8)*8.5% -> 31.875 | E8: =(C8*B8)-D8 -> 343.125
A11: Média de faltas anuais por motivos legais
A12: Ausências legais: Art. 473 da CLT. Considerando que em média se falta 2 dias por ano com esse tipo de ausência e que apenas 3% dos profissionais se beneficiarão com tal ausência. Índice que demonstra o custo estimado com a substituição na cobertura de ausência legal. Esse índice BCCPA = deverá ser aplicado sobre (Módulo 1 + Módulo 2 + Módulo 3). % Ausências legais = Cálculo do valor = [(BCCPA/30)x1 dia]/12 = 0,28%
A19: Total | C19: 0.0028
A22: Licença Paternidade
A23: Percentual de Homens: | D23: 0.5167
A24: Expectativa anual de nascimento de filhos dos trabalhadores (IBGE): | D24: 0.015
A25: Percentual de homens no serviço: | D25: 0.8988
A26: Duração da Licença Paternidade (em dias) | D26: 5
A29: Ausências por acidente de trabalho
A30: Média de faltas anuais por acidente de trabalho: | D30: 0.6913
A33: Afastamento Maternidade
A34: Discriminação do Item | D34: Valor (R$)
A35: 13º Salário + Férias + Adicional Férias | D35: =Goiânia!D38+Goiânia!D38+(Goiânia!D38/3) -> 5535.8333
A36: GPS + FGTS | D36: =Goiânia!C54 -> 970.08889
A37: Assistência Médica e Familiar | D37: =Goiânia!B58 -> 0
A38: Base de Cálculo | D38: =SUM(D35:D37) -> 6505.9222
A40: Percentual de Mulheres: | D40: 0.1012
A41: Expectativa mensal Afastamento Maternidade (Censo IBGE): | D41: 0.0032
A43: * NOTA INFORMATIVA
A44: ITENS QUE NÃO PODERÃO SER COTADOS NA PLANILHA DE CUSTOS E FORMAÇÃO DE PREÇOS À LUZ DA JURISPRUDÊNCIA CONSOLIDADA DO TCU:
A45: 1. A ADMINISTRAÇÃO NÃO PODERÁ DESCLASSIFICAR PROPOSTAS QUE APRESENTEM COTAÇÕES PARA RESERVA TÉCNICA, IRPJ, CSLL, SUPERVISÃO/FISCALIZAÇÃO E RECICLAGEM/TREINAMENTO, NEM PODERÁ DESCLASSIFICAR EMPRESAS QUE APRESENTEM PLANILHAS COM COTAÇÕES INCORRETAS PARA OS ENCARGOS TRIBUTÁRIOS.
A46: ADVERTE-SE, CONTUDO, QUE, DE ACORDO COM A JURISPRUDÊNCIA CONSOLIDADA DO TCU, É INDEVIDA A COTAÇÃO, COMO ITEM ESPECÍFICO DA PLANILHA, DE CUSTOS RELATIVOS A:
A47: A) RESERVA TÉCNICA, POIS JÁ ESTARIAM COMPREENDIDOS NAS FALTAS LEGAIS (ACÓRDÃOS TCU Nº 1.696/2010-2ª CÂMARA E Nº 1.319/2010-2ª CÂMARA);
A48: B) TREINAMENTO/RECICLAGEM/CAPACITAÇÃO OU ITEM CONGÊNERE, UMA VEZ QUE ESSES CUSTOS JÁ ESTÃO ENGLOBADOS NAS DESPESAS ADMINISTRATIVAS DA CONTRATADA, SENDO DE SUA EXCLUSIVA RESPONSABILIDADE (ACÓRDÃOS TCU Nº 592/2010-PLENÁRIO, Nº 1.696/2010-2ª CÂMARA E Nº 592/2010-PLENÁRIO);
A49: C) SUPERVISÃO E FISCALIZAÇÃO, UMA VEZ QUE ESSES CUSTOS JÁ ESTÃO ENGLOBADOS NAS DESPESAS ADMINISTRATIVAS DA CONTRATADA (ACÓRDÃO Nº 592/2010-PLENÁRIO);*
A50: D) IRPJ E CSLL, POR SE CONSTITUÍREM EM TRIBUTOS DE NATUREZA DIRETA E PERSONALÍSTICA, QUE ONERAM PESSOALMENTE O CONTRATADO, NÃO DEVEM SER REPASSADOS À CONTRATANTE, NÃO PODENDO, AINDA, SEREM COTADOS NO ITEM REFERENTE AO LUCRO E DESPESAS ADMINISTRATIVAS/OPERACIONAIS (ACÓRDÃOS TCU N° 1.595/2006 - PLENÁRIO, N° 325/2009 - PLENÁRIO E N° 2.354/2010 - 2ª CÂMARA). *
A51: DESSE MODO, SE A EMPRESA OS COTAR, HAVERÁ SUPRESSÃO UNILATERAL DO ITEM DA PLANILHA E DEDUÇÃO/GLOSA, NO VALOR TOTAL DO DÉBITO, QUANDO DO PAGAMENTO MENSAL OU DA REPACTUAÇÃO. A EMPRESA QUE OS TENHA COTADO INCORRETAMENTE PODERÁ CORRIGIR A PLANILHA DE CUSTOS E FORMAÇÃO DOS PREÇOS ATÉ O MOMENTO DA ACEITABILIDADE DA PROPOSTA PELO PREGOEIRO, OPORTUNIDADE NA QUAL PRECLUIRÁ SEU DIREITO A CORREÇÕES.
A53: 2. COTAÇÃO DE ENCARGOS TRIBUTÁRIOS - CUIDADOS E CONSEQUÊNCIAS À LUZ DA JURISPRUDÊNCIA DO TCU:
A54: A EMPRESA É A ÚNICA RESPONSÁVEL PELA COTAÇÃO CORRETA DOS ENCARGOS TRIBUTÁRIOS. EM CASO DE ERRO OU COTAÇÃO INCOMPATÍVEL COM O REGIME TRIBUTÁRIO A QUE SE SUBMETE, SERÃO ADOTADAS AS ORIENTAÇÕES A SEGUIR:*
A55: A) COTAÇÃO DE PERCENTUAL MENOR QUE O ADEQUADO: O PERCENTUAL SERÁ MANTIDO DURANTE TODA A EXECUÇÃO CONTRATUAL;
... A66: OBS: Em conformidade com a IN N° 05 DE 26/05/2017 e alteração acrescentada pela IN N° 07 de 20/09/2018, e em referência a Nota 3 do Módulo 2 do Anexo VII-D, resaltamos o texto a seguir "Levando em consideração a vigência contratual prevista no art. 57 da Lei nº 8.666, de 23 de junho de 1993, a rubrica férias do subítem 2.1 tem como objetivo principal suprir a necessidade do pagamento das férias remuneradas ao final do contrato de 12 meses. Esta rubrica, quando da prorrogação contratual, torna-se custo não renovável".

Sheet Horas Extras
A1: PLANILHA ESTIMATIVA
A2: Planilha de Custos e Formação de Preços para Serviços de Vigilância Ostensiva
A4: Nº do Processo: | B4: 35014.499513/2022-13
A5: Pregão Eletrônico nº
A6: Data:
A8: Discriminação dos Serviços (dados referentes à contratação)
A9: A – Data de apresentação da proposta (dia/mês/ano)
A10: B – Município/UF | B10: Goiás
A11: C – Ano Acordo, Convenção ou Sentença Normativa em Dissídio Coletivo | B11: 2023
A12: D – Nº de meses de execução contratual | B12: 12
A14: Identificação do Serviço
A15: Tipo de Serviço | B15: Unid. de Medida | C15: Horas Extras Sábado | D15: Horas Extras Domingo e Feriado
A16: Contratação de serviços de segurança e vigilância orgânica e patrimonial desarmada, visando atender as demandas das Gerências Executivas de Goiânia, Anápolis e DF (unidades em Goiás), conforme condições, quantidades e exigências estabelecidas no instrumento convocatório. | B16: Hora | C16: =Resumo!F21 -> 334 | D16: =Resumo!F22 -> 80
A19: Mão de obra vinculada à execução contratual
A20: Dados para composição dos custos referente à mão de obra
A21: 1 – Tipo de serviço (mesmo serviço com características distintas) | B21: Vigilância
A22: 2 – Classificação Brasileira de Ocupações (CBO) | B22: 517330
A23: 3 – Salário Normativo da Categoria Profissional | B23: 1825
A24: 4 – Categoria profissional (vinculada à execução contratual) | B24: Vigilante
A25: 5 – Data base da categoria (dia/mês/ano) | B25: 01 de janeiro
A26: 6 – Numero de registro da convenção coletiva no MTE:
A28: CUSTOS | B28: Percentuais e Valores de Referência | C28: Horas Extras Sábado | D28: Horas Extras Domingo e Feriado
A29: MÓDULO 1: COMPOSIÇÃO DA REMUNERAÇÃO
A30: 1 - Composição da Remuneração | B30: Valores/ Percentuais | C30: Valor (R$) | D30: Valor (R$)
A31: A – Salário Base (conforme Cláusula Terceira da CCT) | B31: =B23 -> 1825 | C31: =B31 -> 1825 | D31: =B31 -> 1825
A32: B - Adicional de Periculosidade (conforme Cláusula Oitava da CCT) | B32: 0.3 | C32: =C31*B32 -> 547.5 | D32: =D31*B32 -> 547.5
A33: C - Adicional de Insalubridade
A34: D - Adicional Noturno | C34: 0 | D34: 0
A35: E - Adicional de Hora Noturna Reduzida | C35: 0 | D35: 0
A36: F - Penosidade | C36: 0 | D36: 0
A37: G - Outros | C37: =(SUM(C31:C36))/220*1.5 -> 16.176136 | D37: =(SUM(D31:D36))/220*2 -> 21.568182
A38: Total | C38: =C37 -> 16.176136 | D38: =D37 -> 21.568182
A40: MÓDULO 2: ENCARGOS E BENEFÍCIOS ANUAIS, MENSAIS E DIÁRIOS
A41: 2.1 - 13º Salário, Férias e Adicional de Férias | B41: Percentuais | C41: Valor (R$) | D41: Valor (R$)
A42: A - 13º salário | B42: =1/12 -> 0.083333333 | C42: =B42*C38 -> 1.3480114 | D42: =B42*D38 -> 1.7973485
A43: B - Férias e Adicional de Férias (O custo com o valor pago ao substituto durante as férias do empregado consta na letra "A" do submódulo 4.1), (custo não renovável). | B43: =B42/3 -> 0.027777778 | C43: =B43*C38 -> 0.44933712 | D43: =B43*D38 -> 0.59911616
A44: Total | B44: =SUM(B42:B43) -> 0.11111111 | C44: =SUM(C42:C43) -> 1.7973485 | D44: =SUM(D42:D43) -> 2.3964646
A45: 2.2 - GPS, FGTS e outras contribuições (Incide sobre os Módulos 1 e 2.1) | B45: Percentuais | C45: Valor (R$) | D45: Valor (R$)
A46: A - INSS | B46: 0.2 | C46: =B46*(C38+C44) -> 3.594697 | D46: =B46*(D38+D44) -> 4.7929293
A47: B - Salário Educação | B47: 0.025 | C47: =B47*(C38+C44) -> 0.44933712 | D47: =B47*(D38+D44) -> 0.59911616
...

Sheet Goiânia
A1: PLANILHA ESTIMATIVA
A2: Planilha de Custos e Formação de Preços para Serviços de Vigilância Ostensiva
A4: Nº do Processo: | B4: 35014.499513/2022-13
A5: Pregão Eletrônico nº | B5: ='Horas Extras'!B5:D5 -> 0
A6: Data: | B6: ='Horas Extras'!B6:D6 -> 0
A8: Discriminação dos Serviços (dados referentes à contratação)
A9: A – Data de apresentação da proposta (dia/mês/ano)
A10: B – Município/UF | B10: Goiânia - GO
A11: C – Ano Acordo, Convenção ou Sentença Normativa em Dissídio Coletivo | B11: 2023
A12: D – Nº de meses de execução contratual | B12: 12
A14: Identificação do Serviço
A15: Tipo de Serviço | B15: Unid. de Medida | C15: Posto de 44 h semanais (Qtde) | D15: Posto 12X36 Diurnas (Qtde)
A16: Contratação de serviços de segurança e vigilância orgânica e patrimonial desarmada, visando atender as demandas das Gerências Executivas de Goiânia, Anápolis e DF (unidades em Goiás), conforme condições, quantidades e exigências estabelecidas no instrumento convocatório. | B16: Serviço | C16: =Resumo!E28 -> 26 | D16: =Resumo!E27 -> 1
A19: Mão de obra vinculada à execução contratual
A20: Dados para composição dos custos referente à mão de obra
A21: 1 – Tipo de serviço (mesmo serviço com características distintas) | B21: Vigilância
A22: 2 – Classificação Brasileira de Ocupações (CBO) | B22: 517330
A23: 3 – Salário Normativo da Categoria Profissional | B23: 1825
A24: 4 – Categoria profissional (vinculada à execução contratual) | B24: Vigilante
A25: 5 – Data base da categoria (dia/mês/ano) | B25: 01 de janeiro
A26: 6 – Numero de registro da convenção coletiva no MTE: | B26: GO000845/2022
A28: CUSTOS | B28: Percentuais e Valores de Referência | C28: 44 horas semanais diurnas | D28: 12X36 Diurnas
A29: MÓDULO 1: COMPOSIÇÃO DA REMUNERAÇÃO
A30: 1 - Composição da Remuneração | B30: Valores/ Percentuais | C30: Valor (R$) | D30: Valor (R$)
A31: A – Salário Normativo | B31: =B23 -> 1825 | C31: =B31 -> 1825 | D31: =B31 -> 1825
A32: B - Adicional de Periculosidade | B32: 0.3 | C32: =C31*B32 -> 547.5 | D32: =D31*B32 -> 547.5
A33: C - Adicional de Insalubridade
A34: D - Adicional Noturno | C34: 0 | D34: 0
A35: E - Adicional de Hora Noturna Reduzida | C35: 0 | D35: 0
A36: F - Penosidade | C36: 0 | D36: 0
A37: G - Outros | C37: 0 | D37: 0
A38: Total | C38: =SUM(C31:C37) -> 2372.5 | D38: =SUM(D31:D37) -> 2372.5
A40: MÓDULO 2: ENCARGOS E BENEFÍCIOS ANUAIS, MENSAIS E DIÁRIOS
A41: 2.1 - 13º Salário, Férias e Adicional de Férias | B41: Percentuais | C41: Valor (R$) | D41: Valor (R$)
A42: A - 13º salário | B42: =1/12 -> 0.083333333 | C42: =B42*C38 -> 197.70833 | D42: =B42*D38 -> 197.70833
A43: B - Férias e Adicional de Férias (O custo com o valor pago ao substituto durante as férias do empregado consta na letra "A" do submódulo 4.1), (custo não renovável). | B43: =B42/3 -> 0.027777778 | C43: =B43*C38 -> 65.902778 | D43: =B43*D38 -> 65.902778
A44: Total | B44: =SUM(B42:B43) -> 0.11111111 | C44: =SUM(C42:C43) -> 263.61111 | D44: =SUM(D42:D43) -> 263.61111
A45: 2.2 - GPS, FGTS e outras contribuições (Incide sobre os Módulos 1 e 2.1) | B45: Percentuais | C45: Valor (R$) | D45: Valor (R$)
A46: A - INSS | B46: 0.2 | C46: =B46*(C38+C44) -> 527.22222 | D46: =B46*(D38+D44) -> 527.22222
A47: B - Salário Educação | B47: 0.025 | C47: =B47*(C38+C44) -> 65.902778 | D47: =B47*(D38+D44) -> 65.902778
...

Sheet Acreúna
A1: PLANILHA ESTIMATIVA
A2: Planilha de Custos e Formação de Preços para Serviços de Vigilância Ostensiva
A4: Nº do Processo: | B4: 35014.499513/2022-13
A5: Pregão Eletrônico nº | B5: ='Horas Extras'!B5:D5 -> 0
A6: Data: | B6: ='Horas Extras'!B6:D6 -> 0
A8: Discriminação dos Serviços (dados referentes à contratação)
A9: A – Data de apresentação da proposta (dia/mês/ano)
A10: B – Município/UF | B10: Acreúna - GO
A11: C – Ano Acordo, Convenção ou Sentença Normativa em Dissídio Coletivo | B11: 2021/2022
A12: D – Nº de meses de execução contratual | B12: 12
A14: Identificação do Serviço
A15: Tipo de Serviço | B15: Unid. de Medida | C15: Posto de 44 h semanais (Qtde) | D15: Quant. Total a Contratar (em função da un. de medida) para 12X36 Diurnas
A16: Contratação de serviços de segurança e vigilância orgânica e patrimonial desarmada, visando atender as demandas das Gerências Executivas de Goiânia, Anápolis e DF (unidades em Goiás), conforme condições, quantidades e exigências estabelecidas no instrumento convocatório. | B16: Serviço | C16: =Resumo!E31 -> 1 | D16: =Resumo!E30 -> 0
A19: Mão de obra vinculada à execução contratual
A20: Dados para composição dos custos referente à mão de obra
A21: 1 – Tipo de serviço (mesmo serviço com características distintas) | B21: Vigilância
A22: 2 – Classificação Brasileira de Ocupações (CBO) | B22: 517330
A23: 3 – Salário Normativo da Categoria Profissional (conforme Cláusula Terceira da CCT) | B23: =Jataí!B23 -> 1825
A24: 4 – Categoria profissional (vinculada à execução contratual) | B24: Vigilante
A25: 5 – Data base da categoria (dia/mês/ano) | B25: 01 de janeiro
A26: 6 – Numero de registro da convenção coletiva no MTE: | B26: GO000846/2022
A28: CUSTOS | B28: Percentuais e Valores de Referência | C28: 44 horas semanais diurnas | D28: 12X36 Diurnas
A29: MÓDULO 1: COMPOSIÇÃO DA REMUNERAÇÃO
A30: 1 - Composição da Remuneração | B30: Valores/ Percentuais | C30: Valor (R$) | D30: Valor (R$)
A31: A – Salário Base (conforme Cláusula Terceira da CCT) | B31: =B23 -> 1825 | C31: =B31 -> 1825 | D31: =B31 -> 1825
A32: B - Adicional de Periculosidade | B32: 0.3 | C32: =C31*B32 -> 547.5 | D32: =D31*B32 -> 547.5
A33: C - Adicional de Insalubridade
A34: D - Adicional Noturno | C34: 0 | D34: 0
A35: E - Adicional de Hora Noturna Reduzida | C35: 0 | D35: 0
A36: F - Penosidade | C36: 0 | D36: 0
A37: G - Outros | C37: 0 | D37: 0
A38: Total | C38: =SUM(C31:C37) -> 2372.5 | D38: =SUM(D31:D37) -> 2372.5
A40: MÓDULO 2: ENCARGOS E BENEFÍCIOS ANUAIS, MENSAIS E DIÁRIOS
A41: 2.1 - 13º Salário, Férias e Adicional de Férias | B41: Percentuais | C41: Valor (R$) | D41: Valor (R$)
A42: A - 13º salário | B42: =1/12 -> 0.083333333 | C42: =B42*C38 -> 197.70833 | D42: =B42*D38 -> 197.70833
A43: B - Férias e Adicional de Férias (O custo com o valor pago ao substituto durante as férias do empregado consta na letra "A" do submódulo 4.1), (custo não renovável). | B43: =B42/3 -> 0.027777778 | C43: =B43*C38 -> 65.902778 | D43: =B43*D38 -> 65.902778
A44: Total | B44: =SUM(B42:B43) -> 0.11111111 | C44: =SUM(C42:C43) -> 263.61111 | D44: =SUM(D42:D43) -> 263.61111
A45: 2.2 - GPS, FGTS e outras contribuições (Incide sobre os Módulos 1 e 2.1) | B45: Percentuais | C45: Valor (R$) | D45: Valor (R$)
A46: A - INSS | B46: 0.2 | C46: =B46*(C38+C44) -> 527.22222 | D46: =B46*(D38+D44) -> 527.22222
A47: B - Salário Educação | B47: 0.025 | C47: =B47*(C38+C44) -> 65.902778 | D47: =B47*(D38+D44) -> 65.902778
...

Sheet Anicuns
A1: PLANILHA ESTIMATIVA
A2: Planilha de Custos e Formação de Preços para Serviços de Vigilância Ostensiva
A4: Nº do Processo: | B4: 35014.499513/2022-13
A5: Pregão Eletrônico nº | B5: =Acreúna!B5 -> 0
A6: Data: | B6: =Acreúna!B6 -> 0
A8: Discriminação dos Serviços (dados referentes à contratação)
A9: A – Data de apresentação da proposta (dia/mês/ano)
A10: B – Município/UF | B10: Anicuns - GO
A11: C – Ano Acordo, Convenção ou Sentença Normativa em Dissídio Coletivo | B11: 2020/2021
A12: D – Nº de meses de execução contratual | B12: 12
A14: Identificação do Serviço
A15: Tipo de Serviço | B15: Unid. de Medida | C15: Posto de 44 h semanais (Qtde) | D15: Quant. Total a Contratar (em função da un. de medida) para 12X36 Diurnas
A16: Contratação de serviços de segurança e vigilância orgânica e patrimonial desarmada, visando atender as demandas das Gerências Executivas de Goiânia, Anápolis e DF (unidades em Goiás), conforme condições, quantidades e exigências estabelecidas no instrumento convocatório. | B16: Serviço | C16: =Resumo!E34 -> 2 | D16: =Resumo!E33 -> 0
A19: Mão de obra vinculada à execução contratual
A20: Dados para composição dos custos referente à mão de obra
A21: 1 – Tipo de serviço (mesmo serviço com características distintas) | B21: Vigilância
A22: 2 – Classificação Brasileira de Ocupações (CBO) | B22: 517330
A23: 3 – Salário Normativo da Categoria Profissional | B23: =Goiânia!B23 -> 1825
A24: 4 – Categoria profissional (vinculada à execução contratual) | B24: Vigilante
A25: 5 – Data base da categoria (dia/mês/ano) | B25: 01 de janeiro
A26: 6 – Numero de registro da convenção coletiva no MTE: | B26: SRT00035/2023
A28: CUSTOS | B28: Percentuais e Valores | C28: 44 horas semanais diurnas | D28: 12X36 Diurnas
A29: MÓDULO 1: COMPOSIÇÃO DA REMUNERAÇÃO
A30: 1 - Composição da Remuneração | B30: Valores/ Percentuais | C30: Valor (R$) | D30: Valor (R$)
A31: A – Salário Base (conforme Cláusula Terceira da CCT) | B31: =B23 -> 1825 | C31: =B31 -> 1825 | D31: =B31 -> 1825
A32: B - Adicional de Periculosidade | B32: 0.3 | C32: =C31*B32 -> 547.5 | D32: =D31*B32 -> 547.5
A33: C - Adicional de Insalubridade
A34: D - Adicional Noturno | C34: 0 | D34: 0
A35: E - Adicional de Hora Noturna Reduzida | C35: 0 | D35: 0
A36: F - Penosidade | C36: 0 | D36: 0
A37: G - Outros | C37: 0 | D37: 0
A38: Total | C38: =SUM(C31:C37) -> 2372.5 | D38: =SUM(D31:D37) -> 2372.5
A40: MÓDULO 2: ENCARGOS E BENEFÍCIOS ANUAIS, MENSAIS E DIÁRIOS
A41: 2.1 - 13º Salário, Férias e Adicional de Férias | B41: Percentuais | C41: Valor (R$) | D41: Valor (R$)
A42: A - 13º salário | B42: =1/12 -> 0.083333333 | C42: =B42*C38 -> 197.70833 | D42: =B42*D38 -> 197.70833
A43: B - Férias e Adicional de Férias (O custo com o valor pago ao substituto durante as férias do empregado consta na letra "A" do submódulo 4.1), (custo não renovável). | B43: =B42/3 -> 0.027777778 | C43: =B43*C38 -> 65.902778 | D43: =B43*D38 -> 65.902778
A44: Total | B44: =SUM(B42:B43) -> 0.11111111 | C44: =SUM(C42:C43) -> 263.61111 | D44: =SUM(D42:D43) -> 263.61111
A45: 2.2 - GPS, FGTS e outras contribuições (Incide sobre os Módulos 1 e 2.1) | B45: Percentuais | C45: Valor (R$) | D45: Valor (R$)
A46: A - INSS | B46: 0.2 | C46: =B46*(C38+C44) -> 527.22222 | D46: =B46*(D38+D44) -> 527.22222
A47: B - Salário Educação | B47: 0.025 | C47: =B47*(C38+C44) -> 65.902778 | D47: =B47*(D38+D44) -> 65.902778
...

Sheet Aparecida de Goiânia
A1: PLANILHA ESTIMATIVA
A2: Planilha de Custos e Formação de Preços para Serviços de Vigilância Ostensiva
A4: Nº do Processo: | B4: 35014.499513/2022-13
A5: Pregão Eletrônico nº | B5: =Anicuns!B5 -> 0
A6: Data: | B6: =Anicuns!B6 -> 0
A8: Discriminação dos Serviços (dados referentes à contratação)
A9: A – Data de apresentação da proposta (dia/mês/ano)
A10: B – Município/UF | B10: Aparecida de Goiânia - GO
A11: C – Ano Acordo, Convenção ou Sentença Normativa em Dissídio Coletivo | B11: 2021/2022
A12: D – Nº de meses de execução contratual | B12: 12
A14: Identificação do Serviço
A15: Tipo de Serviço | B15: Unid. de Medida | C15: Posto de 44 h semanais (Qtde) | D15: Quant. Total a Contratar (em função da un. de medida) para 12X36 Diurnas
A16: Contratação de serviços de segurança e vigilância orgânica e patrimonial desarmada, visando atender as demandas das Gerências Executivas de Goiânia, Anápolis e DF (unidades em Goiás), conforme condições, quantidades e exigências estabelecidas no instrumento convocatório. | B16: Serviço | C16: =Resumo!E37 -> 4 | D16: =Resumo!E36 -> 0
A19: Mão de obra vinculada à execução contratual
A20: Dados para composição dos custos referente à mão de obra
A21: 1 – Tipo de serviço (mesmo serviço com características distintas) | B21: Vigilância
A22: 2 – Classificação Brasileira de Ocupações (CBO) | B22: 517330
A23: 3 – Salário Normativo da Categoria Profissional (conforme Cláusula Terceira da CCT) | B23: 1825
A24: 4 – Categoria profissional (vinculada à execução contratual) | B24: Vigilante
A25: 5 – Data base da categoria (dia/mês/ano) | B25: 01 de janeiro
A26: 6 – Numero de registro da convenção coletiva no MTE: | B26: GO000843/2022
A28: CUSTOS | B28: Percentuais e Valores de Referência | C28: 44 horas semanais diurnas | D28: 12X36 Diurnas
A29: MÓDULO 1: COMPOSIÇÃO DA REMUNERAÇÃO
A30: 1 - Composição da Remuneração | B30: Valores/ Percentuais | C30: Valor (R$) | D30: Valor (R$)
A31: A – Salário Base (conforme Cláusula Terceira da CCT) | B31: =B23 -> 1825 | C31: =B31 -> 1825 | D31: =B31 -> 1825
A32: B - Adicional de Periculosidade | B32: 0.3 | C32: =C31*B32 -> 547.5 | D32: =D31*B32 -> 547.5
A33: C - Adicional de Insalubridade
A34: D - Adicional Noturno | C34: 0 | D34: 0
A35: E - Adicional de Hora Noturna Reduzida | C35: 0 | D35: 0
A36: F - Penosidade | C36: 0 | D36: 0
A37: G - Outros | C37: 0 | D37: 0
A38: Total | C38: =SUM(C31:C37) -> 2372.5 | D38: =SUM(D31:D37) -> 2372.5
A40: MÓDULO 2: ENCARGOS E BENEFÍCIOS ANUAIS, MENSAIS E DIÁRIOS
A41: 2.1 - 13º Salário, Férias e Adicional de Férias | B41: Percentuais | C41: Valor (R$) | D41: Valor (R$)
A42: A - 13º salário | B42: =1/12 -> 0.083333333 | C42: =B42*C38 -> 197.70833 | D42: =B42*D38 -> 197.70833
A43: B - Férias e Adicional de Férias (O custo com o valor pago ao substituto durante as férias do empregado consta na letra "A" do submódulo 4.1), (custo não renovável). | B43: =B42/3 -> 0.027777778 | C43: =B43*C38 -> 65.902778 | D43: =B43*D38 -> 65.902778
A44: Total | B44: =SUM(B42:B43) -> 0.11111111 | C44: =SUM(C42:C43) -> 263.61111 | D44: =SUM(D42:D43) -> 263.61111
A45: 2.2 - GPS, FGTS e outras contribuições (Incide sobre os Módulos 1 e 2.1) | B45: Percentuais | C45: Valor (R$) | D45: Valor (R$)
A46: A - INSS | B46: 0.2 | C46: =B46*(C38+C44) -> 527.22222 | D46: =B46*(D38+D44) -> 527.22222
A47: B - Salário Educação | B47: 0.025 | C47: =B47*(C38+C44) -> 65.902778 | D47: =B47*(D38+D44) -> 65.902778
...

Sheet Bela Vista de Goiás
A1: PLANILHA ESTIMATIVA
A2: Planilha de Custos e Formação de Preços para Serviços de Vigilância Ostensiva
A4: Nº do Processo: | B4: 35014.499513/2022-13
A5: Pregão Eletrônico nº | B5: ='Aparecida de Goiânia'!B5:D5 -> 0
A6: Data: | B6: ='Aparecida de Goiânia'!B6:D6 -> 0
A8: Discriminação dos Serviços (dados referentes à contratação)
A9: A – Data de apresentação da proposta (dia/mês/ano)
A10: B – Município/UF | B10: Bela Vista de Goiás- GO
A11: C – Ano Acordo, Convenção ou Sentença Normativa em Dissídio Coletivo | B11: 2020/2021
A12: D – Nº de meses de execução contratual | B12: 12
A14: Identificação do Serviço
A15: Tipo de Serviço | B15: Unid. de Medida | C15: Posto de 44 h semanais (Qtde) | D15: Quant. Total a Contratar (em função da un. de medida) para 12X36 Diurnas
A16: Contratação de serviços de segurança e vigilância orgânica e patrimonial desarmada, visando atender as demandas das Gerências Executivas de Goiânia, Anápolis e DF (unidades em Goiás), conforme condições, quantidades e exigências estabelecidas no instrumento convocatório. | B16: Serviço | C16: =Resumo!E40 -> 1 | D16: =Resumo!E39 -> 0
A19: Mão de obra vinculada à execução contratual
A20: Dados para composição dos custos referente à mão de obra
A21: 1 – Tipo de serviço (mesmo serviço com características distintas) | B21: Vigilância
A22: 2 – Classificação Brasileira de Ocupações (CBO) | B22: 517330
A23: 3 – Salário Normativo da Categoria Profissional (conforme Cláusula Terceira da CCT) | B23: =Goiânia!B23 -> 1825
A24: 4 – Categoria profissional (vinculada à execução contratual) | B24: Vigilante
A25: 5 – Data base da categoria (dia/mês/ano) | B25: 01 de janeiro
A26: 6 – Numero de registro da convenção coletiva no MTE: | B26: SRT00035/2023
A28: CUSTOS | B28: Percentuais e Valores de Referência | C28: 44 horas semanais diurnas | D28: 12X36 Diurnas
A29: MÓDULO 1: COMPOSIÇÃO DA REMUNERAÇÃO
A30: 1 - Composição da Remuneração | B30: Valores/ Percentuais | C30: Valor (R$) | D30: Valor (R$)
A31: A – Salário Base (conforme Cláusula Terceira da CCT) | B31: =B23 -> 1825 | C31: =B31 -> 1825 | D31: =B31 -> 1825
A32: B - Adicional de Periculosidade | B32: 0.3 | C32: =C31*B32 -> 547.5 | D32: =D31*B32 -> 547.5
A33: C - Adicional de Insalubridade
A34: D - Adicional Noturno | C34: 0 | D34: 0
A35: E - Adicional de Hora Noturna Reduzida | C35: 0 | D35: 0
A36: F - Penosidade | C36: 0 | D36: 0
A37: G - Outros | C37: 0 | D37: 0
A38: Total | C38: =SUM(C31:C37) -> 2372.5 | D38: =SUM(D31:D37) -> 2372.5
A40: MÓDULO 2: ENCARGOS E BENEFÍCIOS ANUAIS, MENSAIS E DIÁRIOS
A41: 2.1 - 13º Salário, Férias e Adicional de Férias | B41: Percentuais | C41: Valor (R$) | D41: Valor (R$)
A42: A - 13º salário | B42: =1/12 -> 0.083333333 | C42: =B42*C38 -> 197.70833 | D42: =B42*D38 -> 197.70833
A43: B - Férias e Adicional de Férias (O custo com o valor pago ao substituto durante as férias do empregado consta na letra "A" do submódulo 4.1), (custo não renovável). | B43: =B42/3 -> 0.027777778 | C43: =B43*C38 -> 65.902778 | D43: =B43*D38 -> 65.902778
A44: Total | B44: =SUM(B42:B43) -> 0.11111111 | C44: =SUM(C42:C43) -> 263.61111 | D44: =SUM(D42:D43) -> 263.61111
A45: 2.2 - GPS, FGTS e outras contribuições (Incide sobre os Módulos 1 e 2.1) | B45: Percentuais | C45: Valor (R$) | D45: Valor (R$)
A46: A - INSS | B46: 0.2 | C46: =B46*(C38+C44) -> 527.22222 | D46: =B46*(D38+D44) -> 527.22222
A47: B - Salário Educação | B47: 0.025 | C47: =B47*(C38+C44) -> 65.902778 | D47: =B47*(D38+D44) -> 65.902778
...

Sheet Caiapônia
A1: PLANILHA ESTIMATIVA
A2: Planilha de Custos e Formação de Preços para Serviços de Vigilância Ostensiva
A4: Nº do Processo: | B4: 35014.499513/2022-13
A5: Pregão Eletrônico nº | B5: ='Bela Vista de Goiás'!B5:D5 -> 0
A6: Data: | B6: ='Bela Vista de Goiás'!B6:D6 -> 0
A8: Discriminação dos Serviços (dados referentes à contratação)
A9: A – Data de apresentação da proposta (dia/mês/ano)
A10: B – Município/UF | B10: Caiapônia - GO
A11: C – Ano Acordo, Convenção ou Sentença Normativa em Dissídio Coletivo | B11: 2021/2022
A12: D – Nº de meses de execução contratual | B12: 12
A14: Identificação do Serviço
A15: Tipo de Serviço | B15: Unid. de Medida | C15: Posto de 44 h semanais (Qtde) | D15: Quant. Total a Contratar (em função da un. de medida) para 12X36 Diurnas
A16: Contratação de serviços de segurança e vigilância orgânica e patrimonial desarmada, visando atender as demandas das Gerências Executivas de Goiânia, Anápolis e DF (unidades em Goiás), conforme condições, quantidades e exigências estabelecidas no instrumento convocatório. | B16: Serviço | C16: =Resumo!E43 -> 1 | D16: =Resumo!E42 -> 0
A19: Mão de obra vinculada à execução contratual
A20: Dados para composição dos custos referente à mão de obra
A21: 1 – Tipo de serviço (mesmo serviço com características distintas) | B21: Vigilância
A22: 2 – Classificação Brasileira de Ocupações (CBO) | B22: 517330
A23: 3 – Salário Normativo da Categoria Profissional (conforme Cláusula Terceira da CCT) | B23: =Jataí!B23 -> 1825
A24: 4 – Categoria profissional (vinculada à execução contratual) | B24: Vigilante
A25: 5 – Data base da categoria (dia/mês/ano) | B25: 01 de janeiro
A26: 6 – Numero de registro da convenção coletiva no MTE: | B26: GO000846/2022
A28: CUSTOS | B28: Percentuais e Valores de Referência | C28: 44 horas semanais diurnas | D28: 12X36 Diurnas
A29: MÓDULO 1: COMPOSIÇÃO DA REMUNERAÇÃO
A30: 1 - Composição da Remuneração | B30: Valores/ Percentuais | C30: Valor (R$) | D30: Valor (R$)
A31: A – Salário Base (conforme Cláusula Terceira da CCT) | B31: =B23 -> 1825 | C31: =B31 -> 1825 | D31: =B31 -> 1825
A32: B - Adicional de Periculosidade | B32: 0.3 | C32: =C31*B32 -> 547.5 | D32: =D31*B32 -> 547.5
A33: C - Adicional de Insalubridade
A34: D - Adicional Noturno | C34: 0 | D34: 0
A35: E - Adicional de Hora Noturna Reduzida | C35: 0 | D35: 0
A36: F - Penosidade | C36: 0 | D36: 0
A37: G - Outros | C37: 0 | D37: 0
A38: Total | C38: =SUM(C31:C37) -> 2372.5 | D38: =SUM(D31:D37) -> 2372.5
A40: MÓDULO 2: ENCARGOS E BENEFÍCIOS ANUAIS, MENSAIS E DIÁRIOS
A41: 2.1 - 13º Salário, Férias e Adicional de Férias | B41: Percentuais | C41: Valor (R$) | D41: Valor (R$)
A42: A - 13º salário | B42: =1/12 -> 0.083333333 | C42: =B42*C38 -> 197.70833 | D42: =B42*D38 -> 197.70833
A43: B - Férias e Adicional de Férias (O custo com o valor pago ao substituto durante as férias do empregado consta na letra "A" do submódulo 4.1), (custo não renovável). | B43: =B42/3 -> 0.027777778 | C43: =B43*C38 -> 65.902778 | D43: =B43*D38 -> 65.902778
A44: Total | B44: =SUM(B42:B43) -> 0.11111111 | C44: =SUM(C42:C43) -> 263.61111 | D44: =SUM(D42:D43) -> 263.61111
A45: 2.2 - GPS, FGTS e outras contribuições (Incide sobre os Módulos 1 e 2.1) | B45: Percentuais | C45: Valor (R$) | D45: Valor (R$)
A46: A - INSS | B46: 0.2 | C46: =B46*(C38+C44) -> 527.22222 | D46: =B46*(D38+D44) -> 527.22222
A47: B - Salário Educação | B47: 0.025 | C47: =B47*(C38+C44) -> 65.902778 | D47: =B47*(D38+D44) -> 65.902778
...

Sheet Goiatuba
A1: PLANILHA ESTIMATIVA
A2: Planilha de Custos e Formação de Preços para Serviços de Vigilância Ostensiva
A4: Nº do Processo: | B4: 35014.499513/2022-13
A5: Pregão Eletrônico nº | B5: =Caiapônia!B5 -> 0
A6: Data: | B6: =Caiapônia!B6 -> 0
A8: Discriminação dos Serviços (dados referentes à contratação)
A9: A – Data de apresentação da proposta (dia/mês/ano)
A10: B – Município/UF | B10: Goiatuba - GO
A11: C – Ano Acordo, Convenção ou Sentença Normativa em Dissídio Coletivo | B11: 2020/2021
A12: D – Nº de meses de execução contratual | B12: 12
A14: Identificação do Serviço
A15: Tipo de Serviço | B15: Unid. de Medida | C15: Posto de 44 h semanais (Qtde) | D15: Quant. Total a Contratar (em função da un. de medida) para 12X36 Diurnas
A16: Contratação de serviços de segurança e vigilância orgânica e patrimonial desarmada, visando atender as demandas das Gerências Executivas de Goiânia, Anápolis e DF (unidades em Goiás), conforme condições, quantidades e exigências estabelecidas no instrumento convocatório. | B16: Serviço | C16: =Resumo!E46 -> 2 | D16: =Resumo!E45 -> 0
A19: Mão de obra vinculada à execução contratual
A20: Dados para composição dos custos referente à mão de obra
A21: 1 – Tipo de serviço (mesmo serviço com características distintas) | B21: Vigilância
A22: 2 – Classificação Brasileira de Ocupações (CBO) | B22: 517330
A23: 3 – Salário Normativo da Categoria Profissional (conforme Cláusula Terceira da CCT) | B23: =Goiânia!B23 -> 1825
A24: 4 – Categoria profissional (vinculada à execução contratual) | B24: Vigilante
A25: 5 – Data base da categoria (dia/mês/ano) | B25: 01 de janeiro
A26: 6 – Numero de registro da convenção coletiva no MTE: | B26: SRT00035/2023
A28: CUSTOS | B28: Percentuais e Valores de Referência | C28: 44 horas semanais diurnas | D28: 12X36 Diurnas
A29: MÓDULO 1: COMPOSIÇÃO DA REMUNERAÇÃO
A30: 1 - Composição da Remuneração | B30: Valores/ Percentuais | C30: Valor (R$) | D30: Valor (R$)
A31: A – Salário Base (conforme Cláusula Terceira da CCT) | B31: =B23 -> 1825 | C31: =B31 -> 1825 | D31: =B31 -> 1825
A32: B - Adicional de Periculosidade | B32: 0.3 | C32: =C31*B32 -> 547.5 | D32: =D31*B32 -> 547.5
A33: C - Adicional de Insalubridade
A34: D - Adicional Noturno | C34: 0 | D34: 0
A35: E - Adicional de Hora Noturna Reduzida | C35: 0 | D35: 0
A36: F - Penosidade | C36: 0 | D36: 0
A37: G - Outros | C37: 0 | D37: 0
A38: Total | C38: =SUM(C31:C37) -> 2372.5 | D38: =SUM(D31:D37) -> 2372.5
A40: MÓDULO 2: ENCARGOS E BENEFÍCIOS ANUAIS, MENSAIS E DIÁRIOS
A41: 2.1 - 13º Salário, Férias e Adicional de Férias | B41: Percentuais | C41: Valor (R$) | D41: Valor (R$)
A42: A - 13º salário | B42: =1/12 -> 0.083333333 | C42: =B42*C38 -> 197.70833 | D42: =B42*D38 -> 197.70833
A43: B - Férias e Adicional de Férias (O custo com o valor pago ao substituto durante as férias do empregado consta na letra "A" do submódulo 4.1), (custo não renovável). | B43: =B42/3 -> 0.027777778 | C43: =B43*C38 -> 65.902778 | D43: =B43*D38 -> 65.902778
A44: Total | B44: =SUM(B42:B43) -> 0.11111111 | C44: =SUM(C42:C43) -> 263.61111 | D44: =SUM(D42:D43) -> 263.61111
A45: 2.2 - GPS, FGTS e outras contribuições (Incide sobre os Módulos 1 e 2.1) | B45: Percentuais | C45: Valor (R$) | D45: Valor (R$)
A46: A - INSS | B46: 0.2 | C46: =B46*(C38+C44) -> 527.22222 | D46: =B46*(D38+D44) -> 527.22222
A47: B - Salário Educação | B47: 0.025 | C47: =B47*(C38+C44) -> 65.902778 | D47: =B47*(D38+D44) -> 65.902778
...

Sheet Iporá
A1: PLANILHA ESTIMATIVA
A2: Planilha de Custos e Formação de Preços para Serviços de Vigilância Ostensiva
A4: Nº do Processo: | B4: 35014.499513/2022-13
A5: Pregão Eletrônico nº | B5: =Goiatuba!B5 -> 0
A6: Data: | B6: =Goiatuba!B6 -> 0
A8: Discriminação dos Serviços (dados referentes à contratação)
A9: A – Data de apresentação da proposta (dia/mês/ano)
A10: B – Município/UF | B10: Iporá - GO
A11: C – Ano Acordo, Convenção ou Sentença Normativa em Dissídio Coletivo | B11: 2021/2022
A12: D – Nº de meses de execução contratual | B12: 12
A14: Identificação do Serviço
A15: Tipo de Serviço | B15: Unid. de Medida | C15: Posto de 44 h semanais (Qtde) | D15: Quant. Total a Contratar (em função da un. de medida) para 12X36 Diurnas
A16: Contratação de serviços de segurança e vigilância orgânica e patrimonial desarmada, visando atender as demandas das Gerências Executivas de Goiânia, Anápolis e DF (unidades em Goiás), conforme condições, quantidades e exigências estabelecidas no instrumento convocatório. | B16: Serviço | C16: =Resumo!E49 -> 2 | D16: =Resumo!E48 -> 0
A19: Mão de obra vinculada à execução contratual
A20: Dados para composição dos custos referente à mão de obra
A21: 1 – Tipo de serviço (mesmo serviço com características distintas) | B21: Vigilância
A22: 2 – Classificação Brasileira de Ocupações (CBO) | B22: 517330
A23: 3 – Salário Normativo da Categoria Profissional (conforme Cláusula Terceira da CCT) | B23: =Jataí!B23 -> 1825
A24: 4 – Categoria profissional (vinculada à execução contratual) | B24: Vigilante
A25: 5 – Data base da categoria (dia/mês/ano) | B25: 01 de janeiro
A26: 6 – Numero de registro da convenção coletiva no MTE: | B26: GO000846/2022
A28: CUSTOS | B28: Percentuais e Valores de Referência | C28: 44 horas semanais diurnas | D28: 12X36 Diurnas
A29: MÓDULO 1: COMPOSIÇÃO DA REMUNERAÇÃO
A30: 1 - Composição da Remuneração | B30: Valores/ Percentuais | C30: Valor (R$) | D30: Valor (R$)
A31: A – Salário Base (conforme Cláusula Terceira da CCT) | B31: =B23 -> 1825 | C31: =B31 -> 1825 | D31: =B31 -> 1825
A32: B - Adicional de Periculosidade | B32: 0.3 | C32: =C31*B32 -> 547.5 | D32: =D31*B32 -> 547.5
A33: C - Adicional de Insalubridade
A34: D - Adicional Noturno | C34: 0 | D34: 0
A35: E - Adicional de Hora Noturna Reduzida | C35: 0 | D35: 0
A36: F - Penosidade | C36: 0 | D36: 0
A37: G - Outros | C37: 0 | D37: 0
A38: Total | C38: =SUM(C31:C37) -> 2372.5 | D38: =SUM(D31:D37) -> 2372.5
A40: MÓDULO 2: ENCARGOS E BENEFÍCIOS ANUAIS, MENSAIS E DIÁRIOS
A41: 2.1 - 13º Salário, Férias e Adicional de Férias | B41: Percentuais | C41: Valor (R$) | D41: Valor (R$)
A42: A - 13º salário | B42: =1/12 -> 0.083333333 | C42: =B42*C38 -> 197.70833 | D42: =B42*D38 -> 197.70833
A43: B - Férias e Adicional de Férias (O custo com o valor pago ao substituto durante as férias do empregado consta na letra "A" do submódulo 4.1), (custo não renovável). | B43: =B42/3 -> 0.027777778 | C43: =B43*C38 -> 65.902778 | D43: =B43*D38 -> 65.902778
A44: Total | B44: =SUM(B42:B43) -> 0.11111111 | C44: =SUM(C42:C43) -> 263.61111 | D44: =SUM(D42:D43) -> 263.61111
A45: 2.2 - GPS, FGTS e outras contribuições (Incide sobre os Módulos 1 e 2.1) | B45: Percentuais | C45: Valor (R$) | D45: Valor (R$)
A46: A - INSS | B46: 0.2 | C46: =B46*(C38+C44) -> 527.22222 | D46: =B46*(D38+D44) -> 527.22222
A47: B - Salário Educação | B47: 0.025 | C47: =B47*(C38+C44) -> 65.902778 | D47: =B47*(D38+D44) -> 65.902778
...

Sheet Itumbiara
A1: PLANILHA ESTIMATIVA
A2: Planilha de Custos e Formação de Preços para Serviços de Vigilância Ostensiva
A4: Nº do Processo: | B4: 35014.499513/2022-13
A5: Pregão Eletrônico nº | B5: =Iporá!B5 -> 0
A6: Data: | B6: =Iporá!B6 -> 0
A8: Discriminação dos Serviços (dados referentes à contratação)
A9: A – Data de apresentação da proposta (dia/mês/ano)
A10: B – Município/UF | B10: Itumbiara - GO
A11: C – Ano Acordo, Convenção ou Sentença Normativa em Dissídio Coletivo | B11: 2020/2021
A12: D – Nº de meses de execução contratual | B12: 12
A14: Identificação do Serviço
A15: Tipo de Serviço | B15: Unid. de Medida | C15: Posto de 44 h semanais (Qtde) | D15: Quant. Total a Contratar (em função da un. de medida) para 12X36 Diurnas
A16: Contratação de serviços de segurança e vigilância orgânica e patrimonial desarmada, visando atender as demandas das Gerências Executivas de Goiânia, Anápolis e DF (unidades em Goiás), conforme condições, quantidades e exigências estabelecidas no instrumento convocatório. | B16: Serviço | C16: =Resumo!E52 -> 2 | D16: =Resumo!E51 -> 0
A19: Mão de obra vinculada à execução contratual
A20: Dados para composição dos custos referente à mão de obra
A21: 1 – Tipo de serviço (mesmo serviço com características distintas) | B21: Vigilância
A22: 2 – Classificação Brasileira de Ocupações (CBO) | B22: 517330
A23: 3 – Salário Normativo da Categoria Profissional (em 01/01/2021 o reajuste dos salários normativos é de 4,77%, conforme paragrafos quarto e quinto da Cláusula Terceira da CCT) | B23: =Goiânia!B23 -> 1825
A24: 4 – Categoria profissional (vinculada à execução contratual) | B24: Vigilante
A25: 5 – Data base da categoria (dia/mês/ano) | B25: 01 de janeiro
A26: 6 – Numero de registro da convenção coletiva no MTE: | B26: SRT00035/2023
A28: CUSTOS | B28: Percentuais e Valores de Referência | C28: 44 horas semanais diurnas | D28: 12X36 Diurnas
A29: MÓDULO 1: COMPOSIÇÃO DA REMUNERAÇÃO
A30: 1 - Composição da Remuneração | B30: Valores/ Percentuais | C30: Valor (R$) | D30: Valor (R$)
A31: A – Salário Base (conforme Cláusula Terceira da CCT) | B31: =B23 -> 1825 | C31: =B31 -> 1825 | D31: =B31 -> 1825
A32: B - Adicional de Periculosidade | B32: 0.3 | C32: =C31*B32 -> 547.5 | D32: =D31*B32 -> 547.5
A33: C - Adicional de Insalubridade
A34: D - Adicional Noturno | C34: 0 | D34: 0
A35: E - Adicional de Hora Noturna Reduzida | C35: 0 | D35: 0
A36: F - Penosidade | C36: 0 | D36: 0
A37: G - Outros | C37: 0 | D37: 0
A38: Total | C38: =SUM(C31:C37) -> 2372.5 | D38: =SUM(D31:D37) -> 2372.5
A40: MÓDULO 2: ENCARGOS E BENEFÍCIOS ANUAIS, MENSAIS E DIÁRIOS
A41: 2.1 - 13º Salário, Férias e Adicional de Férias | B41: Percentuais | C41: Valor (R$) | D41: Valor (R$)
A42: A - 13º salário | B42: =1/12 -> 0.083333333 | C42: =B42*C38 -> 197.70833 | D42: =B42*D38 -> 197.70833
A43: B - Férias e Adicional de Férias (O custo com o valor pago ao substituto durante as férias do empregado consta na letra "A" do submódulo 4.1), (custo não renovável). | B43: =B42/3 -> 0.027777778 | C43: =B43*C38 -> 65.902778 | D43: =B43*D38 -> 65.902778
A44: Total | B44: =SUM(B42:B43) -> 0.11111111 | C44: =SUM(C42:C43) -> 263.61111 | D44: =SUM(D42:D43) -> 263.61111
A45: 2.2 - GPS, FGTS e outras contribuições (Incide sobre os Módulos 1 e 2.1) | B45: Percentuais | C45: Valor (R$) | D45: Valor (R$)
A46: A - INSS | B46: 0.2 | C46: =B46*(C38+C44) -> 527.22222 | D46: =B46*(D38+D44) -> 527.22222
A47: B - Salário Educação | B47: 0.025 | C47: =B47*(C38+C44) -> 65.902778 | D47: =B47*(D38+D44) -> 65.902778
...

Sheet Jataí
A1: PLANILHA ESTIMATIVA
A2: Planilha de Custos e Formação de Preços para Serviços de Vigilância Ostensiva
A4: Nº do Processo: | B4: 35014.499513/2022-13
A5: Pregão Eletrônico nº | B5: =Itumbiara!B5 -> 0
A6: Data: | B6: =Itumbiara!B6 -> 0
A8: Discriminação dos Serviços (dados referentes à contratação)
A9: A – Data de apresentação da proposta (dia/mês/ano)
A10: B – Município/UF | B10: Jataí - GO
A11: C – Ano Acordo, Convenção ou Sentença Normativa em Dissídio Coletivo | B11: 2021/2022
A12: D – Nº de meses de execução contratual | B12: 12
A14: Identificação do Serviço
A15: Tipo de Serviço | B15: Unid. de Medida | C15: Posto de 44 h semanais (Qtde) | D15: Quant. Total a Contratar (em função da un. de medida) para 12X36 Diurnas
A16: Contratação de serviços de segurança e vigilância orgânica e patrimonial desarmada, visando atender as demandas das Gerências Executivas de Goiânia, Anápolis e DF (unidades em Goiás), conforme condições, quantidades e exigências estabelecidas no instrumento convocatório. | B16: Serviço | C16: =Resumo!E55 -> 2 | D16: =Resumo!E54 -> 0
A19: Mão de obra vinculada à execução contratual
A20: Dados para composição dos custos referente à mão de obra
A21: 1 – Tipo de serviço (mesmo serviço com características distintas) | B21: Vigilância
A22: 2 – Classificação Brasileira de Ocupações (CBO) | B22: 517330
A23: 3 – Salário Normativo da Categoria Profissional (conforme Cláusula Terceira da CCT) | B23: 1825
A24: 4 – Categoria profissional (vinculada à execução contratual) | B24: Vigilante
A25: 5 – Data base da categoria (dia/mês/ano) | B25: 01 de janeiro
A26: 6 – Numero de registro da convenção coletiva no MTE: | B26: GO000846/2022
A28: CUSTOS | B28: Percentuais e Valores de Referência | C28: 44 horas semanais diurnas | D28: 12X36 Diurnas
A29: MÓDULO 1: COMPOSIÇÃO DA REMUNERAÇÃO
A30: 1 - Composição da Remuneração | B30: Valores/ Percentuais | C30: Valor (R$) | D30: Valor (R$)
A31: A – Salário Base (conforme Cláusula Terceira da CCT) | B31: =B23 -> 1825 | C31: =B31 -> 1825 | D31: =B31 -> 1825
A32: B - Adicional de Periculosidade | B32: 0.3 | C32: =C31*B32 -> 547.5 | D32: =D31*B32 -> 547.5
A33: C - Adicional de Insalubridade
A34: D - Adicional Noturno | C34: 0 | D34: 0
A35: E - Adicional de Hora Noturna Reduzida | C35: 0 | D35: 0
A36: F - Penosidade | C36: 0 | D36: 0
A37: G - Outros | C37: 0 | D37: 0
A38: Total | C38: =SUM(C31:C37) -> 2372.5 | D38: =SUM(D31:D37) -> 2372.5
A40: MÓDULO 2: ENCARGOS E BENEFÍCIOS ANUAIS, MENSAIS E DIÁRIOS
A41: 2.1 - 13º Salário, Férias e Adicional de Férias | B41: Percentuais | C41: Valor (R$) | D41: Valor (R$)
A42: A - 13º salário | B42: =1/12 -> 0.083333333 | C42: =B42*C38 -> 197.70833 | D42: =B42*D38 -> 197.70833
A43: B - Férias e Adicional de Férias (O custo com o valor pago ao substituto durante as férias do empregado consta na letra "A" do submódulo 4.1), (custo não renovável). | B43: =B42/3 -> 0.027777778 | C43: =B43*C38 -> 65.902778 | D43: =B43*D38 -> 65.902778
A44: Total | B44: =SUM(B42:B43) -> 0.11111111 | C44: =SUM(C42:C43) -> 263.61111 | D44: =SUM(D42:D43) -> 263.61111
A45: 2.2 - GPS, FGTS e outras contribuições (Incide sobre os Módulos 1 e 2.1) | B45: Percentuais | C45: Valor (R$) | D45: Valor (R$)
A46: A - INSS | B46: 0.2 | C46: =B46*(C38+C44) -> 527.22222 | D46: =B46*(D38+D44) -> 527.22222
A47: B - Salário Educação | B47: 0.025 | C47: =B47*(C38+C44) -> 65.902778 | D47: =B47*(D38+D44) -> 65.902778
...

Sheet Mineiros
A1: PLANILHA ESTIMATIVA
A2: Planilha de Custos e Formação de Preços para Serviços de Vigilância Ostensiva
A4: Nº do Processo: | B4: 35014.499513/2022-13
A5: Pregão Eletrônico nº | B5: =Jataí!B5 -> 0
A6: Data: | B6: =Jataí!B6 -> 0
A8: Discriminação dos Serviços (dados referentes à contratação)
A9: A – Data de apresentação da proposta (dia/mês/ano)
A10: B – Município/UF | B10: Mineiros - GO
A11: C – Ano Acordo, Convenção ou Sentença Normativa em Dissídio Coletivo | B11: 2021/2022
A12: D – Nº de meses de execução contratual | B12: 12
A14: Identificação do Serviço
A15: Tipo de Serviço | B15: Unid. de Medida | C15: Posto de 44 h semanais (Qtde) | D15: Quant. Total a Contratar (em função da un. de medida) para 12X36 Diurnas
A16: Contratação de serviços de segurança e vigilância orgânica e patrimonial desarmada, visando atender as demandas das Gerências Executivas de Goiânia, Anápolis e DF (unidades em Goiás), conforme condições, quantidades e exigências estabelecidas no instrumento convocatório. | B16: Serviço | C16: =Resumo!E58 -> 1 | D16: =Resumo!E57 -> 0
A19: Mão de obra vinculada à execução contratual
A20: Dados para composição dos custos referente à mão de obra
A21: 1 – Tipo de serviço (mesmo serviço com características distintas) | B21: Vigilância
A22: 2 – Classificação Brasileira de Ocupações (CBO) | B22: 517330
A23: 3 – Salário Normativo da Categoria Profissional (conforme Cláusula Terceira da CCT) | B23: =Jataí!B23 -> 1825
A24: 4 – Categoria profissional (vinculada à execução contratual) | B24: Vigilante
A25: 5 – Data base da categoria (dia/mês/ano) | B25: 01 de janeiro
A26: 6 – Numero de registro da convenção coletiva no MTE: | B26: GO000846/2022
A28: CUSTOS | B28: Percentuais e Valores de Referência | C28: 44 horas semanais diurnas | D28: 12X36 Diurnas
A29: MÓDULO 1: COMPOSIÇÃO DA REMUNERAÇÃO
A30: 1 - Composição da Remuneração | B30: Valores/ Percentuais | C30: Valor (R$) | D30: Valor (R$)
A31: A – Salário Base (conforme Cláusula Terceira da CCT) | B31: =B23 -> 1825 | C31: =B31 -> 1825 | D31: =B31 -> 1825
A32: B - Adicional de Periculosidade | B32: 0.3 | C32: =C31*B32 -> 547.5 | D32: =D31*B32 -> 547.5
A33: C - Adicional de Insalubridade
A34: D - Adicional Noturno | C34: 0 | D34: 0
A35: E - Adicional de Hora Noturna Reduzida | C35: 0 | D35: 0
A36: F - Penosidade | C36: 0 | D36: 0
A37: G - Outros | C37: 0 | D37: 0
A38: Total | C38: =SUM(C31:C37) -> 2372.5 | D38: =SUM(D31:D37) -> 2372.5
A40: MÓDULO 2: ENCARGOS E BENEFÍCIOS ANUAIS, MENSAIS E DIÁRIOS
A41: 2.1 - 13º Salário, Férias e Adicional de Férias | B41: Percentuais | C41: Valor (R$) | D41: Valor (R$)
A42: A - 13º salário | B42: =1/12 -> 0.083333333 | C42: =B42*C38 -> 197.70833 | D42: =B42*D38 -> 197.70833
A43: B - Férias e Adicional de Férias (O custo com o valor pago ao substituto durante as férias do empregado consta na letra "A" do submódulo 4.1), (custo não renovável). | B43: =B42/3 -> 0.027777778 | C43: =B43*C38 -> 65.902778 | D43: =B43*D38 -> 65.902778
A44: Total | B44: =SUM(B42:B43) -> 0.11111111 | C44: =SUM(C42:C43) -> 263.61111 | D44: =SUM(D42:D43) -> 263.61111
A45: 2.2 - GPS, FGTS e outras contribuições (Incide sobre os Módulos 1 e 2.1) | B45: Percentuais | C45: Valor (R$) | D45: Valor (R$)
A46: A - INSS | B46: 0.2 | C46: =B46*(C38+C44) -> 527.22222 | D46: =B46*(D38+D44) -> 527.22222
A47: B - Salário Educação | B47: 0.025 | C47: =B47*(C38+C44) -> 65.902778 | D47: =B47*(D38+D44) -> 65.902778
...

Sheet Morrinhos
A1: PLANILHA ESTIMATIVA
A2: Planilha de Custos e Formação de Preços para Serviços de Vigilância Ostensiva
A4: Nº do Processo: | B4: 35014.499513/2022-13
A5: Pregão Eletrônico nº | B5: =Mineiros!B5 -> 0
A6: Data: | B6: =Mineiros!B6 -> 0
A8: Discriminação dos Serviços (dados referentes à contratação)
A9: A – Data de apresentação da proposta (dia/mês/ano)
A10: B – Município/UF | B10: Morrinhos - GO
A11: C – Ano Acordo, Convenção ou Sentença Normativa em Dissídio Coletivo | B11: 2020/2021
A12: D – Nº de meses de execução contratual | B12: 12
A14: Identificação do Serviço
A15: Tipo de Serviço | B15: Unid. de Medida | C15: Posto de 44 h semanais (Qtde) | D15: Quant. Total a Contratar (em função da un. de medida) para 12X36 Diurnas
A16: Contratação de serviços de segurança e vigilância orgânica e patrimonial desarmada, visando atender as demandas das Gerências Executivas de Goiânia, Anápolis e DF (unidades em Goiás), conforme condições, quantidades e exigências estabelecidas no instrumento convocatório. | B16: Serviço | C16: =Resumo!E61 -> 1 | D16: =Resumo!E60 -> 0
A19: Mão de obra vinculada à execução contratual
A20: Dados para composição dos custos referente à mão de obra
A21: 1 – Tipo de serviço (mesmo serviço com características distintas) | B21: Vigilância
A22: 2 – Classificação Brasileira de Ocupações (CBO) | B22: 517330
A23: 3 – Salário Normativo da Categoria Profissional (conforme Cláusula Terceira da CCT) | B23: =Goiânia!B23 -> 1825
A24: 4 – Categoria profissional (vinculada à execução contratual) | B24: Vigilante
A25: 5 – Data base da categoria (dia/mês/ano) | B25: 01 de janeiro
A26: 6 – Numero de registro da convenção coletiva no MTE: | B26: SRT00035/2023
A28: CUSTOS | B28: Percentuais e Valores de Referência | C28: 44 horas semanais diurnas | D28: 12X36 Diurnas
A29: MÓDULO 1: COMPOSIÇÃO DA REMUNERAÇÃO
A30: 1 - Composição da Remuneração | B30: Valores/ Percentuais | C30: Valor (R$) | D30: Valor (R$)
A31: A – Salário Base (conforme Cláusula Terceira da CCT) | B31: =B23 -> 1825 | C31: =B31 -> 1825 | D31: =B31 -> 1825
A32: B - Adicional de Periculosidade | B32: 0.3 | C32: =C31*B32 -> 547.5 | D32: =D31*B32 -> 547.5
A33: C - Adicional de Insalubridade
A34: D - Adicional Noturno | C34: 0 | D34: 0
A35: E - Adicional de Hora Noturna Reduzida | C35: 0 | D35: 0
A36: F - Penosidade | C36: 0 | D36: 0
A37: G - Outros | C37: 0 | D37: 0
A38: Total | C38: =SUM(C31:C37) -> 2372.5 | D38: =SUM(D31:D37) -> 2372.5
A40: MÓDULO 2: ENCARGOS E BENEFÍCIOS ANUAIS, MENSAIS E DIÁRIOS
A41: 2.1 - 13º Salário, Férias e Adicional de Férias | B41: Percentuais | C41: Valor (R$) | D41: Valor (R$)
A42: A - 13º salário | B42: =1/12 -> 0.083333333 | C42: =B42*C38 -> 197.70833 | D42: =B42*D38 -> 197.70833
A43: B - Férias e Adicional de Férias (O custo com o valor pago ao substituto durante as férias do empregado consta na letra "A" do submódulo 4.1), (custo não renovável). | B43: =B42/3 -> 0.027777778 | C43: =B43*C38 -> 65.902778 | D43: =B43*D38 -> 65.902778
A44: Total | B44: =SUM(B42:B43) -> 0.11111111 | C44: =SUM(C42:C43) -> 263.61111 | D44: =SUM(D42:D43) -> 263.61111
A45: 2.2 - GPS, FGTS e outras contribuições (Incide sobre os Módulos 1 e 2.1) | B45: Percentuais | C45: Valor (R$) | D45: Valor (R$)
A46: A - INSS | B46: 0.2 | C46: =B46*(C38+C44) -> 527.22222 | D46: =B46*(D38+D44) -> 527.22222
A47: B - Salário Educação | B47: 0.025 | C47: =B47*(C38+C44) -> 65.902778 | D47: =B47*(D38+D44) -> 65.902778
...

Sheet Palmeiras de Goiás
A1: PLANILHA ESTIMATIVA
A2: Planilha de Custos e Formação de Preços para Serviços de Vigilância Ostensiva
A4: Nº do Processo: | B4: 35014.499513/2022-13
A5: Pregão Eletrônico nº | B5: =Morrinhos!B5 -> 0
A6: Data: | B6: =Morrinhos!B6 -> 0
A8: Discriminação dos Serviços (dados referentes à contratação)
A9: A – Data de apresentação da proposta (dia/mês/ano)
A10: B – Município/UF | B10: Palmeira de Goiás - GO
A11: C – Ano Acordo, Convenção ou Sentença Normativa em Dissídio Coletivo | B11: 2020/2021
A12: D – Nº de meses de execução contratual | B12: 12
A14: Identificação do Serviço
A15: Tipo de Serviço | B15: Unid. de Medida | C15: Posto de 44 h semanais (Qtde) | D15: Quant. Total a Contratar (em função da un. de medida) para 12X36 Diurnas
A16: Contratação de serviços de segurança e vigilância orgânica e patrimonial desarmada, visando atender as demandas das Gerências Executivas de Goiânia, Anápolis e DF (unidades em Goiás), conforme condições, quantidades e exigências estabelecidas no instrumento convocatório. | B16: Serviço | C16: =Resumo!E64 -> 2 | D16: =Resumo!E63 -> 0
A19: Mão de obra vinculada à execução contratual
A20: Dados para composição dos custos referente à mão de obra
A21: 1 – Tipo de serviço (mesmo serviço com características distintas) | B21: Vigilância
A22: 2 – Classificação Brasileira de Ocupações (CBO) | B22: 517330
A23: 3 – Salário Normativo da Categoria Profissional (conforme Cláusula Terceira da CCT) | B23: =Goiânia!B23 -> 1825
A24: 4 – Categoria profissional (vinculada à execução contratual) | B24: Vigilante
A25: 5 – Data base da categoria (dia/mês/ano) | B25: 01 de janeiro
A26: 6 – Numero de registro da convenção coletiva no MTE: | B26: SRT00035/2023
A28: CUSTOS | B28: Percentuais e Valores de Referência | C28: 44 horas semanais diurnas | D28: 12X36 Diurnas
A29: MÓDULO 1: COMPOSIÇÃO DA REMUNERAÇÃO
A30: 1 - Composição da Remuneração | B30: Valores/ Percentuais | C30: Valor (R$) | D30: Valor (R$)
A31: A – Salário Base (conforme Cláusula Terceira da CCT) | B31: =B23 -> 1825 | C31: =B31 -> 1825 | D31: =B31 -> 1825
A32: B - Adicional de Periculosidade | B32: 0.3 | C32: =C31*B32 -> 547.5 | D32: =D31*B32 -> 547.5
A33: C - Adicional de Insalubridade
A34: D - Adicional Noturno | C34: 0 | D34: 0
A35: E - Adicional de Hora Noturna Reduzida | C35: 0 | D35: 0
A36: F - Penosidade | C36: 0 | D36: 0
A37: G - Outros | C37: 0 | D37: 0
A38: Total | C38: =SUM(C31:C37) -> 2372.5 | D38: =SUM(D31:D37) -> 2372.5
A40: MÓDULO 2: ENCARGOS E BENEFÍCIOS ANUAIS, MENSAIS E DIÁRIOS
A41: 2.1 - 13º Salário, Férias e Adicional de Férias | B41: Percentuais | C41: Valor (R$) | D41: Valor (R$)
A42: A - 13º salário | B42: =1/12 -> 0.083333333 | C42: =B42*C38 -> 197.70833 | D42: =B42*D38 -> 197.70833
A43: B - Férias e Adicional de Férias (O custo com o valor pago ao substituto durante as férias do empregado consta na letra "A" do submódulo 4.1), (custo não renovável). | B43: =B42/3 -> 0.027777778 | C43: =B43*C38 -> 65.902778 | D43: =B43*D38 -> 65.902778
A44: Total | B44: =SUM(B42:B43) -> 0.11111111 | C44: =SUM(C42:C43) -> 263.61111 | D44: =SUM(D42:D43) -> 263.61111
A45: 2.2 - GPS, FGTS e outras contribuições (Incide sobre os Módulos 1 e 2.1) | B45: Percentuais | C45: Valor (R$) | D45: Valor (R$)
A46: A - INSS | B46: 0.2 | C46: =B46*(C38+C44) -> 527.22222 | D46: =B46*(D38+D44) -> 527.22222
