BEGIN:VCALENDAR
PRODID:brasil.gov.agenda
VERSION:1.0
BEGIN:VEVENT
DTSTART:20230904T183000Z
DTEND:20230904T203000Z
DCREATED:20230904T194756Z
UID:Compromisso-695c36de0f7345baba3a7556e496e76c
SEQUENCE:0
LAST-MODIFIED:20230904T194756Z
SUMMARY:Reunião com DATAPREV
LOCATION:Videoconferência
PRIORITY:3
TRANSP:0
END:VEVENT
END:VCALENDAR
