BEGIN:VCALENDAR
PRODID:brasil.gov.agenda
VERSION:1.0
BEGIN:VEVENT
DTSTART:20240104T110000Z
DTEND:20240110T200000Z
DCREATED:20240109T204929Z
UID:Compromisso-eef0f08aa43d451a9c77729e375d1156
SEQUENCE:0
LAST-MODIFIED:20240109T204929Z
SUMMARY:Despachos administrativos internos.
PRIORITY:3
TRANSP:0
END:VEVENT
END:VCALENDAR
