BEGIN:VCALENDAR
PRODID:brasil.gov.agenda
VERSION:1.0
BEGIN:VEVENT
DTSTART:20230420T170000Z
DTEND:20230420T200000Z
DCREATED:20230428T202205Z
UID:Compromisso-59af530144554124a94331f47fd363e5
SEQUENCE:0
LAST-MODIFIED:20230428T202523Z
SUMMARY:Despachos administrativos Internos.
LOCATION:Direção-Geral do Instituto Nacional de Câncer (INCA) – Praça Cruz Vermelha\, 23 – 4º andar\, Centro - Rio de Janeiro – RJ.
PRIORITY:3
TRANSP:0
END:VEVENT
END:VCALENDAR
