BEGIN:VCALENDAR
PRODID:brasil.gov.agenda
VERSION:1.0
BEGIN:VEVENT
DTSTART:20230418T170000Z
DTEND:20230418T200000Z
DCREATED:20230428T200730Z
UID:Compromisso-91a5ba4ee08649e8a1ac66f5028b40bc
SEQUENCE:0
LAST-MODIFIED:20230428T200730Z
SUMMARY:Despachos administrativos Internos.
LOCATION:Direção-Geral do Instituto Nacional de Câncer (INCA) – Praça Cruz Vermelha\, 23 – 4º andar\, Centro - Rio de Janeiro – RJ.
PRIORITY:3
TRANSP:0
END:VEVENT
END:VCALENDAR
