Workbook

Sheet LEGENDA
A1: CONCEITOS DA MATRIZ DE MONITORIA
A6: Planejamento das ações Devem ser inseridos os dados da Matriz de Planejameno do PAN, informando o objetivo específico, a ação, o produto, os resultados esperados, o período (data de início e data de término), o articulador, o custo estimado, os colaboradores, a localização (localidades e área de relevância) e as observações da ação.
A7: Ação | B7: Representa o que deve ser feito para alcançar o Objetivo Específico, buscando reverter as ameaças a ele associadas. As ações devem ser específicas, mensuráveis, relevantes, exequíveis e ter efeito dentro do tempo determinado para o ciclo de gestão do PAN, e estar situadas dentro da esfera de atribuições e competências dos participantes da Oficina de Planejamento.
A8: Produto | B8: Aquilo que é obtido pela realização da ação. Deve ser mensurável, tangível, comprovar a execução da ação e estar situado dentro da esfera de atribuições e competências dos participantes da Oficina de Planejamento.
A9: Resultados esperados | B9: Indica qual resultado pretende-se alcançar com a execução da ação. Diferente do produto, este item pode estar fora da esfera de atribuições e competências dos participantes da oficina e não é de preenchimento obrigatório.
A10: Período | B10: Datas de início e término da implementação da ação, sendo que o término deve estar dentro do tempo determinado para o ciclo de gestão do PAN.
A11: Articulador | B11: Pessoa responsável por articular a implementação da ação e apresentar o produto obtido. No entanto, ele não é o único responsável pela execução da ação.
A12: Colaboradores | B12: Pessoas ou instituições corresponsáveis pela execução da ação, que auxiliam nas diferentes etapas de sua implementação.
A13: Custo estimado (R$) | B13: É um campo numérico com a estimativa dos recursos financeiros necessários para a implementação da ação.
A14: Localização (Localidade) | B14: Localização geográfica onde será executada a ação durante o ciclo de gestão vigente. Geralmente, a localidade possui menor escala e está relacionada com a área de atuação do articulador e colaboradores da ação, sendo a unidade geográfica mínima o município ou a bacia/tributário onde a ação será realizada.
A15: Localização (Área de Relevância) | B15: Localização geográfica de todas as áreas importantes para a execução da ação, independente da área de atuação do articulador e colaboradores. Assim, a Área de Relevância é aquela onde a execução da ação é necessária, ainda que não seja viável no atual ciclo de gestão.
A16: Observações | B16: Informações relevantes para a execução da ação.
A17: Linha Temática | B17: É um campo para a classificação temática da ação, a partir de uma lista suspensa pré-definida. (Definição de cada linha temática abaixo)
A18: Situação atual das ações Sinaliza a situação da ação no período relativo à monitoria informando se a ação está em andamento, concluída no prazo previsto ou com problemas de realização. Descreve o andamento da ação, o produto obtido (parcial ou final), os problemas enfrentados e a(s) pessoa(s) responsável(is) pela informação sobre o andamento da ação.
A19: Ação cujo início planejado é posterior ao período monitorado | B19: São ações que estão planejadas para iniciar em uma data futura à da monitoria, e que portanto não precisam ser analisadas detalhadamente. Elas são indicadas para permitir a visualização da situação do PAN como um todo.
A20: Ação não iniciada ou não concluída | B20: Gerencialmente, significa um alerta para compreender a razão do atraso e estabelecer medidas que favoreçam a boa execução do PAN. Tanto a situação da ação cujo prazo de conclusão expirou sem que tenha sido finalizada, quanto à ação que não foi iniciada na data planejada, devem ser tratadas com atenção, indicando a necessidade de uma reformulação ou reprogramação.
A21: Ação em andamento com problemas de realização | B21: É a ação que foi iniciada e cujo prazo de conclusão ainda não expirou, mas que, de acordo com o andamento de sua execução, provavelmente não será possível concluir no prazo estipulado. Em termos de cronograma, o GAT deve compreender os problemas e propor uma reprogramação de período, maior engajamento do articulador e colaboradores, ou outras soluções que possam melhorar a execução da ação.
A22: Ação em andamento no período previsto | B22: Ação iniciada cujo prazo de conclusão ainda não expirou e, considerando o grau de execução, provavelmente será finalizada dentro do prazo estipulado. Este tipo de ação não necessita de reprogramação significativa.
A23: Ação concluída | B23: Ação finalizada, com os produtos entregues. Mostra o quanto do PAN já está concluído. Neste caso, não importará, no gráfico, se a ação atrasou ou não para ser concluída, lembrando que a memória da execução nos anos anteriores
A24: Ação excluída ou agrupada | B24: Ações que foram excluídas do PAN ou agrupadas em outras ações cujo escopo é semelhante ou mais abrangente. As ações que se enquadram nesta categoria devem indicar, na aba da matriz de monitoria, a situação que se encontravam no momento da monitoria com as cores anteriormente citadas, além de serem marcadas no campo de agrupada ou excluída. No campo de observação da reprogramação deve ser informado o motivo da exclusão/agrupamento e em qual ação ela foi agrupada (no caso de agrupamento).
A25: Ação iniciada e não concluída no período previsto | B25: Essa categoria foi criada para diferenciar, na última monitoria, as ações não iniciadas (vermelhas) das iniciadas mas não concluídas (roxas). É utilizada para ações que foram iniciadas e tiveram bom andamento durante o PAN, com a entrega de produtos intermediários, mas que não foram totalmente concluídas (o produto final não foi obtido).
A26: Novas ações | B26: Ação que foi inserida no plano de ação no momento da monitoria. Essa ação deve ser analisada e validada com o GAT e ter todas as informações previtas na matriz de planejamento (produto, resultado esperado, período, articulador, custo estimado, colaboradores, localização, área de abrangência, observações)
A27: Descrição do andamento da ação | B27: Colocar as informações de andamento da ação, como foi feito, destaques da implementação, informações relevantes do andamento da ação. Observação: lembre-se que esse campo é importante para a análise das ações e servirá como um histórico de andamento da ação
A28: Produto obtido | B28: Citar os produtos que foram obtidos durante a execução da ação. Se o produto não for o planejado, justificar a integração ou ajustar o produto no campo de reprogramação. Observação: aqui não é para descrever o produto, somente citá-lo. Os produtos devem ser inseridos no SEI.
A29: Problemas enfrentados que justificam a não execução, a execução parcial da ação, a exclusão ou o agrupamento | B29: Registrar quais foram os problemas enfrentados para execução da ação. Caso já tenha alguma sugestão para soluciona-lo, colocar no campo Recomendações ou Observações.
A30: Responsável pela informação sobre o andamento da ação | B30: Inserir quem registrou as informações de descrição, produto, problemas e recomendações.
A31: Recomendações ou Observações | B31: Informações ou sugestões relevantes para a execução da ação.
A32: Reprogramação das ações Indica as reprogramações das ações relativas à revisão de: texto da ação, produto, resultado esperado, período (data de início e data de término), articulador, estimativa de custo, colaboradores, localização (localidades e área de relevância) e recomendações gerais/observações.
A33: Revisão do texto da ação | B33: Ajuste das informações referente ao texto da ação
A34: Revisão do produto da ação | B34: Ajuste das informações referente ao produto da ação
A35: Revisão do resultado esperado | B35: Ajuste das informações referente ao resultado esperado
A36: Revisão da data de início | B36: Ajuste referente a data de início da ação
A37: Revisão da data de término | B37: Ajuste referente a data final da ação
A38: Revisão do articulador da ação | B38: Ajuste referente ao articulador da ação
A39: Revisão do custo estimado | B39: Ajuste referente ao custo estimado da ação
A40: Revisão dos colaboradores | B40: Ajustes referente aos colaboradores da ação
A41: Revisão das localidades | B41: Ajuste referente a localidade da ação
A42: Revisão Área de Relevância | B42: Ajuste referente a área de abrangência da ação
A43: Revisão das Observações | B43: Ajuste referente às observações da ação
A44: Revisão da Linha Temática | B44: Ajuste referente à classificação temática da ação
...

Sheet Monitoria Anual - 1
A1: PLANO DE AÇÃO NACIONAL DE CONSERVAÇÃO DE ESPÉCIES AMEAÇADAS DE EXTINÇÃO - PAN
A2: "Plano de Ação Nacional para a Conservação dos Peixes Rivulídeos Ameaçados de Extinção - PAN Rivulídeos"
A4: Objetivo geral do PAN | B4: Consolidar e ampliar estratégias de conservação dos peixes rivulídeos ameaçados de extinção e dos seus ambientes, em cinco anos
A6: Data da monitoria | B6: 26/09/2023 - 28/09/2023 (presencial) | AQ6: Agrupada
AQ7: Excluída
A8: PLANEJAMENTO DO PAN | O8: SITUAÇÃO ATUAL | Z8: REPROGRAMAÇÃO DO PAN
A9: OBJETIVOS ESPECÍFICOS | B9: Nº | C9: Ação | D9: Produto | E9: Resultados esperados | F9: Período | H9: Articulador | I9: Custo estimado (R$) | J9: Colaboradores | K9: Localização | M9: Observações | N9: Linha Temática | O9: Ação cujo início planejado é posterior ao período monitorado | P9: Ação não iniciada ou não concluída | Q9: Ação em andamento com problemas de realização | R9: Ação em andamento no período previsto | S9: Ação concluída | T9: Ação excluída ou agrupada | U9: Descrição do andamento da ação | V9: Produto obtido | W9: Problemas enfrentados que justificam a não execução, a execução parcial da ação, a exclusão ou o agrupamento | X9: Responsável pela informação sobre o andamento da ação | Y9: Recomendações ou Observações | Z9: Revisão do texto da ação | AA9: Revisão do produto da ação | AB9: Revisão do resultado esperado | AC9: Revisão da data de início | AD9: Revisão da data de término | AE9: Revisão do articulador da ação | AF9: Revisão do custo estimado | AG9: Revisão dos colaboradores | AH9: Revisão das localidades | AI9: Revisão Área de Relevância | AJ9: Revisão das observações | AK9: Revisão da Linha Temática
F10: Início | G10: Fim | K10: Localidades | L10: Área de Relevância
A11: 1- AMPLIAÇÃO E DIVULGAÇÃO DO CONHECIMENTO, DE FORMA TRANSVERSAL, SOBRE PEIXES RIVULÍDEOS E SEUS AMBIENTES PARA TODA A SOCIEDADE | B11: 1.1 | C11: Criar e manter um núcleo de comunicação social do PAN para divulgação dos peixes rivulídeos e seus ambientes. | D11: Núcleo criado com diretrizes definidas. Perfil institucional criado em redes sociais e outros veículos de comunicação. Plano de comunicação elaborado. | E11: Criação de um plano básico de comunicação social; compilação e distribuição de conteúdo gerado pelo PAN e seus parceiros; divulgação de ações, eventos e políticas públicas ligadas a conservação das espécies de rivulídeos; padronização e monitoramento do alcance das ações do PAN nas redes sociais; e promover a interatividade entre a pesquisa e comunidade. | F11: 44774 | G11: 46569 | H11: Gustavo Arruda (Rastro - Ecologia Criativa) | I11: R$ 240.000,00 | J11: Anna Carolina Lins (WWF-Brasil), Paulo Gama (SEMAC-RJ), Matheus Volcan (Instituto Pró-Pampa), João Marins (INEA-RJ) , Werther Ramalho (Instituto Boitatá), Francisco Severo Neto (UFMS), Larissa França (SEMA-AM), Gustavo Fonseca (Rastro - Ecologia Criativa), Alany Gonçalves (INPA), Marco Aurélio Azevedo (SEMA-RS), Fábio Origuela de Lira (Meandros), Humberto de Mello (FPMZB), Telton Ramos (UEPB), Luciano Montag (UFPA), Domingos Garrone Neto (UNESP), Simone Mannheimer (MPRJ), Márcio Joaquim da Silva (UFPA), Mozart Lauxen (IBAMA), Francisco de Assis Néo (ICMBIO/CEPTA), Mariana Gutiérrez de Menezes (WWF-Brasil) | K11: Nacional | M11: (1) As informações serão fornecidas pelos parceiros do PAN, sendo necessário definir o fluxo de informações. (2) Avaliar no Plano de Comunicação uma estratégia para a divulgação de conteúdos de forma que possam engajar redes e público alvo. (3) Devido a ampla gama de parceiros que proporcionarão conteúdo, sugere-se aproveitar o máximo possível os canais de comunicação correspondentes e avaliar a criação de um perfil no Instagram ao invés de usar todas as redes sociais. (4) Estimou-se um custo de R$ 2.000,00/mês por 10 anos. | N11: Comunicação e Divulgação | R11: x | U11: A ação está acontecendo de forma natural. Vídeos, cartilhas, material de divulgação, músicas foram produzidos. Falta organizar melhor todo o material. Existe um núcleo de comunicação informal, falta formalizar. Fazer Plano de Comunicação de forma mais simplificada (5 páginas no máximo). Convidar mais pessoas. Sara vai passar o Plano de Comunicação do PAT Chapada Diamantina-Serra da Jiboia e PAT Campanha Sul e Serra do Sudeste como exemplos (aprovado no Pró-Espécies), com identidade visual, logo, etc. | X11: Gustavo Arruda (Rastro Ecologia Criativa) | Y11: Criar tabela no Google Docs, para o pessoal ir preenchendo conforme as atividades forem sendo realizadas. Entregar Plano de Comunicação em março de 2024. | AA11: Núcleo criado com diretrizes definidas. Plano de comunicação elaborado. | AG11: Retirar Francisco de Assis Néo (ICMBIO/CEPTA); Incluir Carlos Luz (Universidade Cidade de São Paulo); Alterar Insituição Telton Ramos (UFPB/Instituto Peixes da Caatinga) e João Marins (NGI ICMBio Trombetas)
B12: 1.2 | C12: Divulgar o PAN nos órgãos públicos de meio ambiente, órgãos licenciadores, MPF, MP Estaduais e conselhos ambientais com o objetivo de criar parcerias e sensibilizar para a importância dos peixes rivulídeos ameaçados e seus ambientes. | D12: Documentos oficiais (Oficios, Atas de reuniões, Relatórios) | E12: Instituições públicas cientificadas do PAN RIvulídeos | F12: 44774 | G12: 46569 | H12: Izabel Boock (ICMBio/CEPTA) | I12: 105000 | J12: Paulo Gama (SMAC-RJ), Werther Ramalho (Instituto Boitatá), Anna Carolina Lins (WWF/Brasil), Claudia Leite (SEAS-RJ), Alany Gonçalves (INPA), Marco Aurélio Azevedo (SEMA-RS), João Marins (INEA-RJ), Francisco de Assis Neo (ICMBio/CEPTA), Rogério Garcia Machado (ICMBio/CEPTA), Simone Mannheimer (MPRJ) | K12: Nacional | M12: (1) Reunião com servidores públicos nas áreas de ocorrência dos peixes rivulídeos ameaçados. (2) Verificar como funcionam os órgãos de justiça e segurança pública. (3) Enviar o Sumário Executivo. (4) O custo estimado envolve viagens (passagem e diárias) e impressão do Sumário. | N12: Comunicação e Divulgação | R12: x | U12: A ação está em andamento. Rastro realizou palestra sobre o PAN Rivulídeos para representantes de prefeituras, e diferentes governos do estado do Brasil. Em 2021 - Palestra sobre o PAN para o CONSELHO MUNICIPAL DE PROTEÇÃO AMBIENTAL DE PELOTAS, durante Reunião Ordinária do Conselho, em 03/05/2021;Atlas com registros por municipio finalizado, feito pela analista Sheila Rancura. Em agosto de 2024, reunião com o IMA/AL e a equipe CEPTA e apresentação sobre o PAN Rivulídeos e PAN São Francisco; integração com PAT Campanha Sul e Serra do Sudeste. Houve contato do ICMBio com APA CIP (Cananeia/Iguape/Peruíbe). | V12: 2021 - Palestra sobre o PAN para o CONSELHO MUNICIPAL DE PROTEÇÃO AMBIENTAL DE PELOTAS, durante Reunião Ordinária do Conselho, em 03/05/2021; Atlas com registros por municipio finalizado;reunião com o Instituto de Meio Ambiente de Alagoas - IMA/AL e a equipe CEPTA e apresentação do PAN Rivulídeos e PAN São Francisco (registro da reunião no relatório técnico), Palestra realizada em 10/02/2023, pela Rastro e coordenadora do PAN sobre Educomunicação “Diálogos: Educação Ambiental e a Comunicação Social no contexto da gestão ambiental e da conservação da biodiversidade” | W12: Aguardando a finalização do protocolo com as diretrizes básicas para o licenciamento ambiental, e sumário executivo do PAN. | X12: Izabel Boock (ICMBio/CEPTA); GAT PAN Rivulídeos | AG12: Retirar Francisco de Assis Neo (ICMBio/CEPTA) | AJ12: (1) Reunião com servidores públicos nas áreas de ocorrência dos peixes rivulídeos ameaçados. (2) Verificar como funcionam os órgãos de justiça e segurança pública. (3) Enviar o Sumário Executivo. (4) O custo estimado envolve viagens (passagem e diárias) e impressão do Sumário. (5) Incluir ABEMA e ANAMA.
B13: 1.3 | C13: Promover estudos voltados para taxonomia, genética, biologia, ecologia e limites de distribuição geográfica para conservação dos peixes rivulídeos ameaçados de extinção. | D13: Artigos, teses, dissertações | E13: Ampliação do conhecimento sobre as espécies e proposta de medidas para sua conservação | F13: 44774 | G13: 46569 | H13: Matheus Volcan (Instituto Pró-Pampa) | I13: 500000 | J13: Luis Estaban Lanés (Instituto Pró-Pampa), Werther Ramalho (Instituto Boitatá), Gustavo Fonseca (Rastro - Ecologia Criativa), Francisco Severo Neto (UFMS), Alany Gonçalves (INPA), Domingos Garrone Neto (UNESP), Luciano Montag (UFPA), Márcio Joaquim da Silva (UFPA), Telton Ramos (UEPB), Gabriel Cotrim (UniFG), Luisa Maria Sarmento Soares (Nossos Riachos) | K13: Áreas de ocorrência de peixes rivulídeos ameaçados extinção | L13: Amazônia, Cerrado/Pantanal | M13: Muitas áreas subamostradas, problemas taxonômicos, necessidade de realizar um levantamento das informações existentes. | N13: Pesquisa | R13: x | U13: Ação em andamento. Em 2022 - Expedição em Itaúnas/ES (espécie-alvo Xenurolebias myersi) - Luisa Sarmento, Ronaldo Pinheiro, Rodrigo Damasio; 2022 - Contratação de empresa de consultoria para excução da ação no RS; 2023 - 5 expedições realizadas (norte MG, Ceará, Oeste de MG, Pernambuco/Bahia, Planície Bragantina e Xingu/PA e MA); 6 PIBIC no CEPTA: 2020 - Ecologia reprodutiva do peixe anual Hypsolebias auratus (Cyprinidontiformes:Rivulidae) - Davi Hinncands de Oliveira (orient. Carla Natacha Marcolino Polaz); Otimização do uso do SISBio para sistematização de informações sobre as espécies de peixes rivulídeos ameaçadas de extinção - Gabrielli Furlan (orient. Luciana Carvalho Crema); Uso de geotecnologias para análise do uso e ocupação do solo em áreas úmidas com ocorrência de peixes rivulídeos ameaçados de extinção no Cerrado - Monique Priscila Bezerra (orient. Wellington Adriano Moreira Peres); 2021 - Avaliação do Banco de Ovos do Peixe-Anual Hypsolebias Auratus (Cyprinodontiformes: Rivulidae), uma Espécie Criticamente Ameaçada de Extinção - Talita Andrade Regiani Carleti (orient. Carla Polaz e Izabel Boock; Comunidade zooplanctônica de poças temporárias típicas de peixes-anuais ameaçados de extinção da mata atlântica, litoral sul de São Paulo - Nathália Cristina Soares (orient. Wellington Adriano Moreira Peres e Luciana Hitomi Hayashi Martins); 2022 - Caracterização do hábitat e área de distribuição do peixe rivulídeo Melanorivulus leali Costa, 2013 (Cyprinodontiformes: Rivulidae), uma espécie DD - Júlia Isabela da Silva Kohler (Orient. Luciana Carvalho Crema e Izabel Boock); Telton realizou expedição "Nuvens do Sertão" em abril de 2023, na bacia do rio São Francisco, trechos submédio e baixo, tendo como espécie-alvo a Hypsolebias flavicaudatus. Márcio realizou expedição em 2022, com financiamento da FAPESPA, sobre revisão do status de conservação de peixes rivulídeos amazônicos. Há outras coletas prevista para 2024, na mesma área coletada em 2022 (Márcio). Domingos realizou 14 expedições entre 2019 e 2022, com financiamento da FAPESP (Iniciação Científica) e Fundação OBoticário (apoio financeiro), sobre revisão do status de conservação de peixes rivulídeos do Vale do Ribeira e Litoral Sul de São Paulo. Inclusão dos rivulídeos do PELD Paisagens Fragmentadas do Sudoeste Goiano (Werther), financiado pela FAPEG. Livro publicado "Expansão urbana no Rio de Janeiro e o peixe das nuvens" do Fabio Origuela (Egler, C.; Nielsen, D.; Lira, F. O.; Gusmão, P. 2019, 1a Ediçao, 104 p., Editora Andrea Jakobsson) - versão impressa. Rita Barreto (ICMBio/CEPTA) está a frente, como representante do CEPTA, de projeto envolvendo identificação genômica dos peixes-anuais (Acordo de Cooperação entre ICMBio e ITV- Instituto Tecnologico Vale). | V13: Relatórios Técnicos das expedições financiadas pelo GEF Pró-Espécies, banco de fotos e vídeos das localidades visitadas) | X13: GAT PAN Rivulídeos | AA13: Artigos, teses, dissertações, relatórios técnicos, resumos em anais de congressos. | AG13: Incluir Carlos Luz (Universidade Cidade de São Paulo); Silvana Rodrigues (IF Goiano campus Rio Verde); Alterar instituição Telton Ramos (UFPB/Instituto Peixes da Caatinga)
B14: 1.4 | C14: Construir e executar estratégia de comunicação para conservação dos peixes rivulídeos ameaçados de extinção voltado para produtores rurais. | D14: Material didático sobre metodologia de escavação para construção de açudes com manejo de peixes rivulídeos ameaçados de extinção, vídeos educativos, cartilhas para diferentes públicos (grandes e pequenos produtores). Projeto de financiamento coletivo. | E14: Coscientização do público diretamente relacionado | F14: 44774 | G14: 46569 | H14: Gustavo Fonseca (Rastro - Ecologia Criativa) | I14: 200000 | J14: Gabriel Cotrim (UNIFG), Tiago Aquino (SEMAD-GO), Luis Estaban Lanés (Instituto Pró-Pampa), Rogério Garcia (ICMBio/CEPTA), Luciano Montag (UFPA), Márcio Joaquim da Silva (UFPA), Werther Ramalho (Instituto Boitatá), Anna Carolina Lins (WWF-Brasil), João Marins (INEA-RJ), Shayene Marzarotto (MAPA), Francisco Severo Neto (UFMS), Luisa Maria Sarmento Soares (Nossos Riachos) | K14: Caatinga (Guanambi), Pampas, Cerrado (Goiás), Tocantins, Mata Atlântica (RJ, RS e SC), Pará | L14: Amazônia | N14: Capacitação e EA | R14: x | U14: Primeiro piloto desenvolvido entre Rastro e Pampiana, no âmbito do contrato com o ICMBio/CEPTA (vídeos, cards, cartazes infográficos) e ações do Programa de Educação Ambiental do DNIT com produtores, condicionante do IBAMA para mitigação ambiental da duplicação da BR 116/RS trecho Pelotas-Guaíba. Em todas as expedições têm sido realizados diálogos com os produtores, informalmente. Produtos entregues pela Pampiana da ação 1.7, já constam na página do PAN no site do ICMBio. | V14: 2 Infográficos com ameaças aos peixes rivulídeos; 1 infográfico com o ciclo de vida dos peixes-anuais; 7 cards com informações sobre espécies ameaçadas do pampa; 1 cartaz sobre os peixes-anuais do pampa; 1 música sobre os peixes-anuais | X14: Gustavo Arruda (Rastro Ecologia Criativa) | Y14: Reforçar essa ação no Plano de Comunicação | AA14: Material didático sobre boas práticas de manejo para evitar e mitigar os possíveis impactos sobre os habitats de peixes rivulídeos ameaçados de extinção; vídeos educativos; cartilhas para diferentes públicos (grandes e pequenos produtores). | AG14: Retirar Shayene Marzarotto (MAPA); Alterar instituição João Marins (NGI ICMBio Trombetas)
B15: 1.5 | C15: Capacitar multiplicadores através de EAD, cursos presenciais e desenvolver material didático com foco nos peixes rivulídeos ameaçados e seus ambientes. | D15: Cursos realizados, planos de aula e materiais didáticos desenvolvidos. Oficinas realizadas, informações fornecidas (oficios) periodicamente aos agentes ambientais licenciadores das OEMAS quanto a ocorrência dos rivulídeos. Plataforma on line atualizada periodicamente. Plano de Redução de Impactos aos rivulídeos apresentado | E15: Curso dentro da plataforma EAD; Ciência do maior número de instituiçoes públicas sobre a problemática dos rivulídeos, possibilitando assim uma maior proteção dos seus ambientes. | F15: 44774 | G15: 46569 | H15: Rogerio Garcia (ICMBio/CEPTA) | I15: 500000 | J15: Fábio Origuela (Meandros), Paulo Gama (SMAC-RJ), Gustavo Arruda (Rastro - Ecologia Criativa), Helder Espirito Santo (UFPA), Telton Ramos (UEPB), Luciano Montag (UFPA), Márcio Joaquim da Silva (UFPA), Rogério Garcia (ICMBIO/CEPTA), Adriana Castilho (CESTESB), Werther Ramalho (Instituto Boitatá), Leonardo Urruth (UFRJ), Edgar Pereira (IBAMA/Sede), Daniel Raices (ICMBIO/COESP), Luisa Maria Sarmento Soares (Nossos Riachos) | K15: RS, RJ, MG, BA, PA (prioritários). Outros: CE, BSB, GO, MT. RS, RJ, MG, BA (PRIORITÁRIOS). Outros: CE, PA, BSB, GO, MT | M15: (1) Capacitar agentes ambientais licenciadores das OEMAS quanto a ocorrência dos rivulídeos. (2) Considerar o Pará como prioritário em virtude da expansão mineral. (3) Curso EAD (sugestão: AVA ICMBio). (4) Considerar as informações do manual que vai ser elaborado no objetivo 3. (5) Apresentar um Plano de Redução de Impacto para órgãos licenciadores federais, estaduais e municipais (sugestão: O Plano deve apresentar as diversas tipologias de empreendimentos que afetem rivulídeos e formas de mitigar os impactos). | N15: Capacitação e EA | Q15: x | U15: Foi feita uma consulta a ACADEBIO se poderiam dar suporte técnico. Troca de chefia prejudicou o andamento da ação. Plataforma SALVE foi divulgada online, mas ainda não está totalmente finalizada. Produto a ser entregue: Divulgação da Plataforma SALVE para membros do GAT e secretarias de meio ambiente estaduais e municípios-alvo. | W15: Devido ao atraso na publicação do 2o Ciclo do PAN, por mudanças ocorridas na ACADEBIO na gestão anterior e pelo fato de que nem todas as fichas dos rivulídeos ameaçados foram disponibilizadas na Plataforma Salve para divulgação. | X15: Rogério Garcia (ICMBio/CEPTA) | Y15: Atualizar o formato da ação na reunião de monitoria. Propor curso para gestores saberem manejar o SALVE. Gravação de conteudo com aulas (ICMBio/CEPTA) e disponibilização para secretarias estaduais/ municípios-alvo. Utilizar e organizar conteúdo já elaborado pelo GAT sobre a temática. Protocolo/Guia sobre rivulídeos pode ser uma alternativa, associando com apresentação e entrega qualificada (Sara) às OEMAs. Cursos online são oferecidos de maneira esporádica, sendo uma limitação, opção é realizar curso de fluxo contínuo, sem tutoria (AVA ICMBio ou ENAP), para progressão de carreira. Organizar caravanas nos municípios-alvo, divulgando o Atlas, presencialmente, de maneira bianual, lançamento regional (Denise). Realizar eventos online para cada município, com gravação do conteudo no YouTube para ser acessível. Sugestão de data: Semana do Meio Ambiente (Domingos). Exemplo: curso PAT Chapada Diamantina-Serra da Jiboia, duas aulas por semana, durante 4 semanas. | Z15: Capacitar multiplicadores com foco nos peixes rivulídeos ameaçados e seus ambientes. | AA15: Cursos e oficinas realizados. Plataforma on-line atualizada periodicamente (AVA ICMBio, Youtube). | AG15: Alterar instituição Telton Ramos (UFPB/Instituto Peixes da Caatinga) | AJ15: Incluir o combate à captura ilegal e o tráfico de ovos de peixes rivulídeos.
B16: 1.6 | C16: Identificar e propor mecanismos de financiamento para ações do PAN. | D16: Projetos submetidos a agentes financiadores | E16: Ações do PAN financiadas | F16: 44774 | G16: 46569 | H16: Izabel Boock (ICMBio/CEPTA) | I16: 0 | J16: Anna Carolina Lins (WWF-Brasil), Gustavo Arruda (Rastro - Ecologia Criativa), Márcio Joaquim da Silva (UFPA), Werther Ramalho (Instituto Boitatá), Francisco Severo Neto (UFMS), Matheus Volcan (Instituto Pró-Pampa), Denise Rambaldi (SMMADS-RJ) , Gustavo Fonseca (Rastro - Ecologia Criativa) | M16: (1) O MMA elaborou uma cartilha “fontes de financiamento para educação ambiental”. (2) Buscar recursos para execução de ações do PAN: projeto/financiamento coletivo (consultar os resultados da consultoria para tratar da sustentabilidade financeira dos PANs - Pro-espécies). | N16: Financiamento | R16: x | U16: Os projetos desenvolvidos em 2021 a 2023 foram financiados pelo Pró-Espécie. Márcio aprovou projeto FAPESPA intitulado "Revisão do status de conservação de peixes da família Rivulidae da Amazônia Brasileira", onde são previstas as expedições de campo Ecorregiões EADC e Xingu; Domingos também aprovou projeto Conservação de duas espécies de peixes anuais criticamente ameaçadas de extinção no Vale do Ribeira, estado de São Paulo, financiado pela Fundação OBoticário; Pampiana submeteu projeto Peixes anuais na área do PAT Campanha Sul e Serra do Sudeste (Fundo de Reposição Florestal); Instituto Boitatá/IF Rio Verde adequou projeto na FAPEG para amostragem de rivulídeos no sudoeste do estado do Goiás. Denise aprovou projeto na Câmara de Compensação Ambiental do estado do Rio de Janeiro (R$1.200.000,00). | V16: 7 propostas submetidas ao GEF Pró-Espécies em 2022 (chamada interna COPAN) Projeto enviado e aprovado na FAPESPA (Márcio Silva) Projeto enviado e aprovado pela Fundação OBoticário (Domingos Garrone) Projeto submetido ao Fundo de Reposição Florestal do RS (Esteban Lanés) Projeto submetido e aprovado pela FAPEG (Instituto Boitatá) Projeto submetido e aprovado na Camara de Compensação Ambiental do estado do RJ (prefeitura de Casimiro de Abreu) | X16: GAT PAN Rivulídeos | Y16: Outra possível fonte: Recursos de Conversão de Multas do IBAMA (Sara). | AG16: Alterar instituição Denise Rambaldi (INEA/RJ)
B17: 1.7 | C17: Subsidiar o desenvolvimento de iniciativas de educação ambiental para a conservação dos peixes rivulídeos ameaçados de extinção e seus ambientes. | D17: (1) Lista de instituições de ensino e pesquisa situadas em municípios que possuem espécies de rivulídeos registradas; (2) Material informativo e educativo produzido pelo PAN distribuídos para as instituições mapeadas; (3) Palestras em municípios considerados importantes para conservação dos rivulídeos (10 ações); (4) Animação que elucide para crianças e adolescentes a importância da conservação das espécies de peixes rivulídeos | E17: Tema peixes rivulídeos ameaçados de extinção incluídos nas políticas de educação ambiental | F17: 44774 | G17: 46569 | H17: Gustavo Arruda (Rastro - Ecologia Criativa) | I17: 100000 | J17: Helder Espírito Santo (UFPA), José Leonardo Mattos (UFRJ), Paulo Gama (SEMAC-RJ), Fabio Origuela (Meandros), Luciano Montag (UFPA), Márcio Joaquim da Silva (UFPA), Rogério Garcia (ICMBIO/CEPTA), Gustavo Fonseca (Rastro - Ecologia Criativa), Werther Ramalho (Instituto Boitatá), Luis Esteban Lanés (Instituto Pró-Pampa), Francisco Severo Neto (UFMS), João Rafael Marins (INEA-RJ), Humberto Espírito Santo de Mello (FZB-BH), Oscar Barroso Junior (Instituto Natureza do Tocantins), Luisa Maria Sarmento Soares (Nossos Riachos) | L17: Mata Atlântica, Pampa | M17: (1) Através de dados secundários, identificar escolas, universidades e secretarias de educação municipais e estaduais situadas em municípios que possuem espécies de rivulídeos registradas; (2) Distribuir o material informativo e educativo que já está sendo produzido pelo PAN para as instituições de ensino mapeadas; (3) Promover uma vez ao ano, de forma itinerante, palestras em cidades consideradas importantes para conservação dos rivulídeos - totalizando 10 ações; (4) Produzir uma animação com 3min. de duração que elucide para crianças e adolescentes a importância da conservação das espécies de peixes rivulídeos; (5) Integrar o produto com a ação do guia (1.8). (6) Material para escolas e outros públicos. (7) O custo estimado inclui uma consultoria para identificar e mapear as instituições, além do financiamento das palestras educativas (R$ 5.000,00 por palestra educativa, portanto R$ 50.000 ao todo). Uma animação 2D custa em média de R$ 2.000,00 a R$3.000,00 reais o minuto. | N17: Capacitação e EA | R17: x | U17: Palestras realizadas em alguns municípios; materiais com foto/vídeo obtido durante as expedições serão utilizados em ações de EA (Pampa, Xingu, Caatinga, Cerrado, Mata Atlântica). Em 2022 houve contratação de empresa de consultoria para execução da ação no RS. Lista com instituições está sendo elaborada. | V17: 2021 - ciclo de palestras Peixes-Anuais: Políticas Públicas, Pesquisa eEducação Brasil afora, que teve como tema: Qual o papel do Plano de Ação Nacional e do ProjetoPró-Espécies na conservação da biodiversidade brasileira?, que aconteceu no dia 06 de maio de2021, às 16:00h na modalidade online; 2022 - Divulgação da espécie Xenurolebias myersi na rádio Dunas de Itaúnas (Luisa Sarmento e equipe) - nov./2022; 2022 - Apresentação sobre a espécie Xenurolebias myersi na sede do Parque Estadual de Itaúnas/ES - nov/2022; 2023 - Diálogos: Educação Ambiental e Comunicação Social no contexto da Gestão Ambiental e da Conservação da Biodiversidade (IBAMA, ICMBio, Rastro, STE e Cais - Educação e Ambiente) - fev./2023. Intervenções e outras ações de sensibilização e disseminação de conteúdo relacionado a C. dorsimaculatus em Iguape – SP pela equipe coordenada pelo Domingos garrone (UNESP): – Oficinas com professores (2 remotas e 2 presencias); – 3 Encontros com estudantes de três escolas situadas nos arredores da localidade-tipo de C. dorsimaculatus; – 1 Encontro com estudantes do projeto “Agente Ambiental Mirim”; – Distribuição de banners, pôsteres e livreto + palestra; – 346 pessoas diretamente alcançadas; Livro publicado "Expansão urbana no Rio de Janeiro e o peixe das nuvens" do Fabio Origuela (Egler, C.; Nielsen, D.; Lira, F. O.; Gusmão, P. 2019, 1a Ediçao, 104 p., Editora Andrea Jakobsson) - versão impressa.; 4 Oficinas com professores (duas remotas e duas presenciais), 3 encontros com estudantes de escolas públicas, 1 encontro com estudantes de projeto específico (Agente Ambiental Mirim), com 346 participantes em Iguape/SP (Domingos). | X17: Izabel Boock (ICMBio/CEPTA); Gustavo Arruda (Rastro Ecologia Criativa); Márcio Joaquim da Silva (UFPA); Domingos Garrone (Unesp Registro) | AA17: (1) Lista de instituições de ensino e pesquisa situadas em municípios que possuem espécies de rivulídeos registradas; (2) Material informativo e educativo produzido pelo PAN distribuídos para as instituições mapeadas; (3) Palestras em municípios considerados importantes para conservação dos rivulídeos (10 ações); (4) Animação que elucide para crianças e adolescentes a importância da conservação das espécies de peixes rivulídeos (dependente de captação de recursos financeiros) | AG17: Incluir Carlos Luz (Universidade Cidade de São Paulo); Alterar instituição João Rafael Marins (NGI ICMBio Trombetas)
B18: 1.8 | C18: Criar um guia temático para gestão ambiental que oriente a conservação dos peixes rivulídeos ameaçados de extinção e seus ambientes. | D18: Guia elaborado, manual de boas práticas que oriente a conservação dos peixes rivulídeos e seus ambientes, especialmente nos processos de licenciamento municipais e estaduais | E18: Populações de rivulídeos e seus ambientes contemplados na gestão ambiental, especialmente nos processos de licenciamento ambiental | F18: 44774 | G18: 45108 | H18: Gustavo Arruda (Rastro - Ecologia Criativa) | I18: 100000 | J18: Paulo Gama (SMAC-RJ), Anna Carolina Lins (WWF-Brasil), Matheus Volcan, Werther (Instituto Boitatá), Lailton (SEAMA), Leonardo, Gustavo Fonseca, Esteban, Gabriel Cotrim (UNIFG), Marco, Alany Gonçalves (INPA), Fábio Origuela, Inácia e Bruno (MAPA), Márcio, Luciano Montag (UFPA), Telton Ramos (UEPB), Domingos Garrone Neto (UNESP) | K18: Nos estados e municípios de ocorrência dos peixes rivulídeos ameaçados. | M18: (1) Incluir informações dos mecanismos de incentivos tributários existentes; (2) Definir as informações entre os colaboradores do PAN, regionalizar, possibilidades de disponibilizar links, expandir o tema; (3) Elaborar uma lista de especialistas, núcleos de instituições que trabalham com rivulídeos; (4) Utilizar as informações do protocolo mínimo como base; (5) O custo estimado inclui: design gráfico, diagramação e impressão de 5.000 a 10.000 cartilhas - pensando num material com 10 páginas - tendo conteúdo adicional via QR Code. | P18: x | T18: Excluída | U18: Capítulo de livro aceito sobre licenciamento ambiental intitulado "Biodiversidade e Conservação de Ecossistemas Aquáticos do Sul do Brasil" da Prefeitura Municipal de Pelotas e proposta de projeto de qualificação de licenciamento ambiental do Rio Grande do Sul (Esteban). Ação contemplada nas ações 1.6 e 4.3 (Protocolo mínimo de licenciamento ambiental) | W18: A ação foi considerada como não concluída devido ao prazo curto para sua finalização (julho/2023), apesar de a ação estar sendo executada. | X18: Luis Esteban Lanés (Instituto Pró-Pampa) | AG18: Alterar instituição Matheus Volcan (Instituto Pró-Pampa), Leonardo Urruth (SEMA/RS), Gustavo Fonseca (Rastro Ecologia Criativa), Luis Esteban Lanés (Insituto Pró-Pampa), Fábio Origuela (Meandros), Telton Ramos (UFPB/Instituto Peixes da Caatinga), Marco Aurélio Azevedo (SEMA-RS) | AJ18: Ação excluída por estar contemplada nas ações 1.6 e 4.3
B19: 1.9 | C19: Propor ao ICMBIO a realização de um seminário nacional dos Planos de Ação Nacional para a conservação de espécies ameaçadas – Lições aprendidas, experiências partilhadas. | D19: Proposta encaminhada | E19: Seminário realizado | F19: 44774 | G19: 45109 | H19: Izabel Boock (ICMBio/CEPTA) | I19: 0 | J19: Carla Polaz (ICMBIO/CEPTA), Luciana Crema, Claudio Fabi (ICMBIO/CEPTA), Sara Brito Alves (INEMA-BA), Márcio Joaquim da Silva (UFPA), Oscar Barroso Junior (Instituto Natureza do Tocantins), Adriana Castilho (CETESB), Luciano Montag (UFPA), Telton Ramos (UEPB), Rogério Garcia (ICMBIO/CEPTA), Gustavo Arruda (Rastro - Ecologia Criativa), Anna Carolina Lins (WWF-Brasil), Joana Mendes Ferraz (COPAN/ICMBio), Marcelo Raseira (ICMBio/CEPAM) | K19: Brasília/DF | N19: Capacitação e EA | S19: x | U19: O GAT entendeu que a ação foi concluída. Apesar de não ter sido enviada uma proposta formal para COPAN, duas iniciativas foram realizadas: 1) Em 2021 a COPAN realizou diversas reuniões com os órgãos estaduais de meio ambiente com objetivo de nivelamento conceitual sobre PANs, aproximação e integração com o seguinte cronograma: PANs da região Sudeste: até 27/08/2021; PANs da região Centro-Oeste: 03/09/2021; PANs da região Nordeste: 10/09/2021; PANs da região Norte: 17/09/2021; PANS da região Sul: 24/09/2021. Além disso, em maio de 2022 foi realizado um evento sobre a Integração Centros de Pesquisa (ICMBIO) e Subgrupo Conservação (ABEMA). 2) Em 10 e 11 de outubro de 2022 foi realizado um evento sobre boas práticas para a Gestão de PANs o evento foi organizado pelo CEPTA e COPAN e contou com a participação de todos os CNPC do ICMBio que coordenam PANs. Além disso, as discussões contribuíram para o trabalho de conclusão do curso de Formação em Gestão para Resultados da servidora Luciana Carvalho Crema “Gestão de Stakeholders como chave para melhoria do alcance dos objetivos dos Planos de Ação Nacional para Espécies Ameaçadas de Extinção - PANs”. | V19: TAF Luciana Crema (ICMBio) | X19: Izabel Boock (ICMBio/CEPTA) | Y19: Inicialmente, as reuniões e encontros ocorreriam internamente (ICMBio). COPAN poderia ajudar na divulgação do PAN Rivulídeos para MPF, MP estaduais. | AG19: Alterar instituição Telton Ramos (UFPB/Instituto Peixes da Caatinga)
A20: 2- COMPATIBILIZAÇÃO DAS PRÁTICAS AGROPECUÁRIAS COM A CONSERVAÇÃO DOS PEIXES RIVULÍDEOS AMEAÇADOS DE EXTINÇÃO E SEUS AMBIENTES | B20: 2.1 | C20: Prospectar populações de peixes rivulídeos, principalmente em unidades de produção que estão em processo de certificação orgânica ou que tenham práticas agroecológicas. | D20: Lista das unidades de produção, mapas das populações de peixes rivulídeos, relatório de avaliação sobre a presença de rivulídeos e uso da área, mapa de densidade das espécies de rivulídeos | E20: Identificar possíveis produtores parceiros em áreas privadas para proteção dos rivulídeos | F20: 44774 | G20: 46569 | H20: Luis Esteban Lanés (Instituto Pró-Pampa) | I20: 500000 | J20: André Luiz de Oliveira (IRGA), Tiago Henrique de Aquino (SEMA-GO), João Rafael Marins (INEA-RJ), Sara Brito Alves (INEMA-BA), Oscar Barroso Junior (Instituto Natureza do Tocantins), Luciano Montag (UFPA), Márcio Joaquim da Silva (UFPA), Werther Ramalho (Instituto Boitatá), Claudia Leite (SEAS-RJ), Matheus Volcan (Instituto Pró-Pampa), Abílio Vinícius (WWF-Brasil), Kolbe Santos (WWF-Brasil) | K20: Pampa, Goiás, DF, Minas, Rio de Janeiro, Bahia, Tocantins, Pará | M20: (1) Entrar em contato com os estados com ocorrência de rivulídeos para expansão da ação. (2) Elaborar um protocolo de metodologia para prospecção e monitoramento dessas áreas.(3) Apesar do RJ ter sido listado como área prioritária, deve-se levar em conta que a maior parte das áreas de ocorrência são urbanas. | N20: Uso Sustentável | R20: x | U20: O articulador perdeu o contato com a empresa de certificação IRGA, problemas internos na empresa de certificação Ecovida. Projeto da Pampiana submetido para fundo RFO, no território PAT Campanha Sul - Serra do Sudeste (mapeamento e listagem das propriedades). | X20: Luis Esteban Lanés (Instituto Pró-Pampa) | Y20: Rio Grande do Sul será projeto piloto, para ser utilizado em outros estados de ocorrência dos rivulídeos. Verificar quais selos de certificação já existentes se enquadram nesta ação. | Z20: Prospectar possíveis parceiros em propriedades rurais que adotem boas práticas agropecuárias. | AG20: Alterar instituição João Rafael Marins (NGI ICMBio Trombetas)
B21: 2.2 | C21: Realizar levantamento de populações de rivulídeos em unidades de produção no entorno do Parque Estadual do Camaquã visando a identificação de áreas potenciais para criação de reserva legal e/ou a criação de RPPN. | D21: Mapa e relatório técnico do registro de ocorrência das espécies, com identificação de áreas para constituição de reserva legal | E21: Aumento de RL no entorno do Parque, RL como ambientes remanescentes de vegetação original | F21: 44774 | G21: 45108 | H21: Leonardo Urruth (SEMA-RS) | I21: 30000 | J21: Luis Esteban Lanés (Instituto Pró-Pampa), André Luiz de Oliveira (IRGA), Marco Aurélio Azevedo (SEMA-RS) | K21: Entorno do Parque Estadual do Camaquã/RS | M21: (1) A ação pretende dar subsídios para localização de áreas de reserva legal como instrumento de conservação de rivulídeos nas unidades de produção, cumprindo o papel de zona de amortecimento em torno do Parque. (2) Esta ação pode ser replicada para os Estados do Rio de Janeiro e Bahia (Guanambi) e em outros objetivos específicos. (3) Levantar as ameaças potenciais que justifique a ampliação da UC. (4) Vincular este mapeamento às ações de capacitação e selo (ação 2.3). | N21: Pesquisa | P21: x | U21: Ação não foi cocluída dentro do prazo. No entanto, Essta ação pode ser considerada como iniciada, pois a gestão do Parque Estadual do Camaquã (PEC) está em contato frequente com Luis Esteban Lanés (Instituto Pró-Pampa) e Marco Aurélio Azevedo (SEMA-RS), para agendamento de uma primeira visita técnica ao PEC prevista para o início da primavera de 2023. Tal visita técnica subsidiará o planejamento da execução da ação, incluindo a avaliação do custo logístico e financeiro para sua plena execução (Leonardo). Provavelmente esse prazo inicialmente estipulado para a visita técnica terá que ser adiado, porque eventos climáticos extremos, como ciclones, afetaram o PEC (Esteban). | W21: A ação foi considerada como não concluída devido ao prazo curto para sua finalização (julho/2023), apesar de a ação estar sendo executada. O prazo foi reprogramado para a próxima monitoria. | X21: Leonardo Urruth (SEMA-RS)/ Luís Esteban Lanés (Instituto Pró-Pampa) | Y21: Temos a expectativa de alocar recursos de medidas compensatórias da SEMA, regionalmente conhecida como Reposição Florestal Obrigatória, que é fonte de recursos que potencialmente pode incluir ações de conservação para peixes rivulídeos em Reservas Legais de unidades produtivas de propriedades rurais no entorno do PEC (Leonardo). | AD21: 45992
B22: 2.3 | C22: Construir uma identificação visual para produtores rurais “amigos” dos peixes rivulídeos chancelados pelo PAN. | D22: (1) Cadastro dos produtores rurais com práticas de conservação dos peixes rivulídeos; (2) projeto/financiamento coletivo para produção de conteúdo didático: Manual de Boas Práticas (3) criação do selo "amigo do rivulídeos” (4) encontros de diálogo com os produtores sobre importância da conservação dos peixes rivulídeos, divulgação do selo e do manual de boas práticas | E22: criação de rede de comunicação (uma associação) entre os produtores amigos dos peixes rivulídeos | F22: 44774 | G22: 46569 | H22: Gustavo Fonseca (Rastro - Ecologia Criativa) | I22: 100000 | J22: Luis Esteban Lanés (Instituto Pró-Pampa), Alany Gonçalves (INPA), Gabriel Cotrim (UNIFG), Telton Ramos (UEPB) | K22: Locais identificados na ação 2.1 | L22: Mata Atlântica | M22: Além da identificação sugere-se também promover encontros para lançamento do manual de boas práticas e do selo (sugestão de evento com divulgação de experiências práticas) | N22: Financiamento | R22: x | U22: Projeto da Pampiana submetido para fundo RFO, no território PAT Campanha Sul - Serra do Sudeste (mapeamento e listagem das propriedades). Metodologia está sendo desenvolvida pela Rastro Ecologia Criativa e pesquisadora Greice Maia (NUFRS/UFPEL). | X22: Luis Esteban Lanés (Instituto Pró-Pampa/ Gustavo Arruda (Rastro Ecologia Criativa) | AG22: Alterar instituição Telton Ramos (UFPB/Instituto Peixes da Caatinga)
B23: 2.4 | C23: Propor, aos órgãos estaduais de meio ambiente, a ocorrência de peixes rivulídeos ameaçados de extinção como critério para seleção de áreas de Reserva Legal no âmbito do CAR. | D23: (1) Documento com recomendação enviada a todos os órgãos estaduais e municipais de meio ambiente; (2) convite enviado a ABEMA para apoio a articulação com os Estados; (3) reuniões técnicas com OEMAS | E23: Áreas de rivulídeos em propriedades rurais demarcadas como reserva legal. | F23: 44774 | G23: 45474 | H23: Izabel Boock (ICMBio/CEPTA) | I23: 50000 | J23: Luciana Crema (ICMBIO/CEPTA), Francisco Neo (ICMBIO/CEPTA), Telton Ramos (UEPB), Márcio Joaquim da Silva (UFPA) | K23: Nacionalmente | M23: ICMBio e seus Centros – COPAN reunir com a ABEMA e ANAMA para inclusão das espécies ameaçadas no âmbito do CAR (a conversa já está sendo iniciada pelo projeto Pró-espécies). Documento de sensibilização e biologia dos rivulídeos (serão gerados em outras ações). | N23: Ordenamento e gestão territorial | P23: x | U23: Não iniciada. | W23: Falta de articulação. | X23: Izabel Boock (ICMBio/CEPTA); Denise Rambaldi (INEA/RJ); Sara Alves (INEMA/BA) | Y23: PAN poderia propor para que estados adotassem uma resolução CONAMA ou estaduais (conselhos de meio ambiente), reconhecendo como APP aquelas áreas de ocorrência comprovada de espécies de rivulídeos ameaçados de extinção. Priorizar a validação do CAR, incorporando como APP essas áreas de ocorrência. Sugestão: falar com Leonardo Urruth (SEMA/RS). Atualmente, está em vigor o segundo módulo do CAR (validação). O INEA/RJ está utilizando o sistema do INCRA. Áreas que tem ocorrência de rivulídeos confirmada, verificar se propriedade tem CAR, contatar município e solicitar a validação. Incluir área do ponto de ocorrência como RL, APP (locais de ocorrência de espécies ameaçadas) ou área de uso restrito (Denise). Conversa inicial com estados para cadastrar áreas de ocorrência de rivulídeos como áreas prioritárias para validação do CAR (Sara). Atrelar esta ação à ação de certificação (Edgar). Verificar se existe outros selos de certificação (Gustavo). | Z23: Propor, aos órgãos estaduais de meio ambiente, a ocorrência de peixes rivulídeos ameaçados de extinção como critério para seleção de áreas de Reserva Legal (RL) e Áreas de Proteção Permanente (APP) no âmbito do CAR. | AB23: Áreas de ocorrência de rivulídeos ameaçados de extinção demarcadas como Áreas de Proteção Permanente (APP) e Reservas Legais (RL) | AD23: 45839 | AG23: Retirar Luciana Crema (ICMBIO/CEPTA), Francisco Neo (ICMBIO/CEPTA); Incluir Denise Rambaldi (INEA/RJ), Sara Alves (INEMA/BA), Leonardo Urruth (SEMA/RS); Alterar insituição Telton Ramos (UFPB/Instituto Peixes da Caatinga)
B24: 2.5 | C24: Propor a inclusão de áreas de ocorrência de espécies de peixes rivulídeos ameaçados de extinção como importantes para serem contempladas em instrumentos de compensação ambiental (conversão de multas, supressão de habitats, Termo de Ajustamento de Conduta, transação penal, entre outros). | D24: Diagnostico do status legal dos instrumentos de compensação e uma proposta básica de inclusão dos peixes no processo de compensação | E24: (1) inserção efetiva do proprietário na conservação; (2) recursos de compensação ambiental alocados para conservação de biótopos marginais de rodovias | F24: 44774 | G24: 46569 | H24: Leonardo Urruth (SEMA-RS) | I24: 0 | J24: Marco Aurélio Azevedo (SEMA-RS), Denise Rambaldi (SMMADS-RJ), ABEMA e ANAMA, Mozart Lauxen (IBAMA), Adriana Castilho (CETESB), Simone Mannheimer (MPRJ) | K24: Mata Atlântica, Pampa (está começando no RS) | L24: Pampa | M24: Esta ação pode acompanhar a execução da ação 1.4. Existe uma IN SEMA 01/2018 no RS que deu a oportunidade de a compensação ser direcionada a compra e manutenção de área e não só a compra de mudas e está direcionada a Mata Atlântica e Pampa. | N24: Financiamento | R24: x | U24: A ação está em pleno andamento, visto que em articulação entre a Coordenação do PAT Campanha Sul e Serra do Sudeste (PAT CASSS) pela SEMA-RS, e os pesquisadores Luis Esteban Lanés e Mateus Volcan (Instituto Pró-Pampa), e Gustavo Arruda, e Gustavo Matos da Fonseca da empresa Rastro Selvagem Ltda, foi elaborado, submetido e aprovado pela SEMA-RS o projeto "CONSERVAÇÃO DE PEIXES-ANUAIS NO ÂMBITO DO PAT CAMPANHA SUL E SERRA DO SUDESTE". Tal projeto passou a estar apto para ser adotado por devedores de Reposição Florestal Obrigatória, nos termos da IN SEMA n. 01/2018, e está em etapa de firmatura de contrato entre a proponente e uma empresa de trasmissão de energia. Tal projeto objetiva resumidamente "prospectar novas áreas de ocorrência de peixes-anuais e mapear as populações das espécies-alvo do PAT CASSS; Identificar vetores de pressão e áreas relevantes para a conservação; Promover mobilização de proprietários rurais para sensibilização sobre conservação dos habitat de peixes-anuais em campos nativos do Pampa; Promover reuniões técnicas de nivelamento com profissionais responsáveis pelo licenciamento ambiental acerca dos peixes rivulídeos ameaçados, e alertar sobre a necessidade de incluir o grupo em análises do licenciamento ambiental; Produzir materiais expositivos e documentário para divulgação, sensibilização e popularização da temática dos peixes-anuais junto às comunidades dos municípios abrangidos pelo PAT". Com a efetivação dessa experiência se atingirá, ainda que de forma regional, os objetivos (2) recursos de compensação ambiental alocados para conservação de biótopos marginais de rodovias e (1) inserção efetiva do proprietário na conservação. As próximas etapas para cumprir a presente ação envolverão a realização do "Diagnóstico do status legal dos instrumentos de compensação", por meio da consulta a órgãos ambientais Estaduais do Brasil, sobre a existência de instrumentos de compensação ambiental análogos. E, posteriormente, se objetiva elaborar um documento de sensibilização para tais órgãos descrevendo a experiência da SEMA-RS com opera tal modalidade de compensação ambiental, as bases legais, e lógica adotadas, bem como relatar a experiência real com o citado projeto com peixes rivulídeos no Pampa. | X24: Leonardo Urruth (SEMA-RS) | AG24: Alterar instituição Denise Rambaldi (INEA/RJ)
B25: 2.6 | C25: Propor a inclusão da ocorrência de peixes rivulideos ameaçados de extinção como critério para inserção no programa “Produtor de Água”, da Agência Nacional de Águas (ANA), que contempla pagamento por serviços ambientais (PSA). | D25: Proposta de inclusão do critério (ocorrência de peixes rivulídeos ameaçados) enviado para a ANA | E25: inserção efetiva do produtor no programa de conservação | F25: 44774 | G25: 46569 | H25: Shayene Marzarotto (MAPA) | I25: 5000 | J25: Flavio da Costa Santos (MPGO), Edgar Pereira (IBAMA), Werther Ramalho (Instituto Boitatá) | K25: Brasília, Goiânia | L25: Cerrado/Pantanal | M25: Para se atingir esse produto, será necessário sensibilizar os Comitês de Bacia. Incluir esta ação no GEF Pró-Espécies. É necessário articular e sensibilizar os atores envolvidos ANTES do envio da proposta | N25: Financiamento | P25: x | U25: Sem andamento. Articuladora saiu do Ministério. Encaminhou e-mail à Diretora de Aquicultura Juliana Lopes Silva para indicação de outra pessoa. Entrar em contato com ANA para indicação de outra pessoa (Márcio Araujo/ ANA). | W25: Articuladora saiu da instituição. | X25: Shayenne Marzarotto (FAB) | Y25: Contatar Márcio Araújo ANA, para possibilidade de atuar como articulador da ação. | AE25: Izabel Boock (ICMBio/CEPTA)
B26: 2.7 | C26: Propor a ocorrência de peixes rivulídeos ameaçados de extinção como critério para desconto no Imposto Territorial Rural (ITR). | D26: Proposta enviada à Secretaria da Receita Federal do Brasil (RFB) | E26: inserção efetiva do proprietário na conservação | F26: 44774 | G26: 46569 | H26: Shayene Marzarotto (MAPA) | I26: 5000 | J26: Flavio da Costa Santos (MPGO) | K26: Brasília | M26: É necessário articular e sensibilizar os atores envolvidos antes do envio da proposta. | P26: x | T26: Excluída | U26: Sem andamento. Articuladora saiu do Ministério. Encaminhou e-mail à Diretora de Aquicultura Juliana Lopes Silva para indicação de outra pessoa. A ação não é prioritária, as outras ações já propostas são mais factíveis. O valor do ITR é muito baixo. | W26: Articuladora saiu da instituição. | X26: Shayenne Marzarotto (FAB) | AJ26: A ação foi excluída por não ser prioritária, e já ter outras ações na mesma linha que são mais factíveis.
B27: 2.8 | C27: Propor a ocorrência de peixes rivulídeos ameaçados de extinção como critério para obtenção de Imposto sobre Circulação de Mercadorias e Serviços - ICMS Ecológico. | D27: Proposta enviada aos órgãos competentes (Secretarias de Fazenda Estaduais e OEMAS) | E27: inserção efetiva do proprietário na conservação | F27: 44774 | G27: 46569 | H27: Tiago Aquino (SEMAD-GO) | I27: 5000 | J27: Flavio da Costa Santos (MPGO), Edgar Pereira (IBAMA) | K27: Estados e municípios com ocorrência de peixes rivulídeos ameaçados de extinção | M27: COPAN e MMA estão articulando a inclusão dos critérios dos PAN (espécies ameaçadas). É necessário articular e sensibilizar os atores envolvidos antes do envio da proposta. | N27: Financiamento | P27: x | U27: A Ação não teve andamento. | W27: Articulador foi apenas representar um colega da SEMAD-GO na oficina de Elaboração do PAN Rivulídeos em dezembro 2019, que não pôde ir. Articulador solicitou sua substituição e indicou possíveis contatos. | X27: Tiago Aquino (SEMAD-GO) | Y27: Contatos das pessoas sugeridas pelo Tiago está no e-mail que ele encaminhou ao NPAN (Caio, Flávio, pesquisadores da UEG). Tentar procurar estados para analisar a viabilidade do ICMS Ecológico. Denise fará uma consulta no estado do Rio de Janeiro. Cada estado define como será o repasse do ICMS para a qualidade ambiental (score dos municípios), o ICMS Ecológico varia ano a ano. Cobertura florestal no RS, RJ não abarcaria os rivulídeos. Tentar entender quais são os critérios dos estados. | AE27: Izabel Boock (ICMBio/CEPTA) | AG27: Incluir Denise Rambaldi (INEA/RJ).
B28: 2.9 | C28: Promover e estimular a criação de Reservas Particulares do Patrimônio Natural (RPPNs) em áreas de ocorrência confirmada de rivulídeos ameaçados de extinção. | D28: (1) Documento explicativo, voltado para o produtor rural, sobre os benefícios, oportunidades e ônus gerados pela criação de RPPN; (2) Rede de colaboradores criada para apoiar a criação de RPPNs (parceiros para gerar os mapas que os produtores rurais precisam, por exemplo) | E28: RPPNs criadas | F28: 45139 | G28: 46569 | H28: João Marins (INEA-RJ) | I28: 50000 | J28: Marco Aurélio Azevedo (SEMA-RS) | K28: Estados e municípios com ocorrência de peixes rivulídeos ameaçados de extinção | M28: Criação de parcerias. O INEA está realizando atividades para criação de RPPNs, como congressos. Esclarecer os produtores, pensar em estratégias para diminuir custos. Integrar com o núcleo de RPPNs do ICMBio. | N28: Unidade de Conservação | R28: x | U28: Segundo as informações do chefe do núcleo de RPPNs do INEA, ainda não foram atualizadas as áreas definidas como prioritárias para a criação de RPPNs estaduais do RJ, informação produzida em 2019, devido à demora na aprovação de Projeto para Fortalecimento do Serviço de Criação de RPPN. Essa atualização prevê a utilização de dados espacializados de ocorrência de espécies ameaçadas. Porém há expectativas de criação de duas RPPN em área com ocorrência comprovada de Rivulídeos, nos municípios de Maricá e Magé. Foi criado um grupo de Whatsapp, após a reunião do PAN, onde especialistas de Rivulídeos (ex.: Fábio Origuela) e pessoas com conhecimento sobre as espécies confeccionaram um mapa com a ocorrência das espécies do RJ, para servir como base para a sugestão de criação de áreas protegidas (particulares ou não). O mesmo mapa será encaminhado para a Diretoria de Licenciamento Ambiental do INEA. Produto a ser entregue: Mapeamento atualizado de áreas prioritárias para a criação de RPPNs, consideradas as áreas indicadas com a ocorrência dos rivulídeos ameaçados de extinção. | X28: João Rafael Marins (NGI ICMBio Trombetas) | Y28: No dia 12/09/23 foi aprovado o de Projeto para Fortalecimento do Serviço de Criação de RPPN, que entrará em licitação e posterior contratação da empresa selecionada e definição da equipe de terceirizados que irão atuar, no projeto. Fazer levantamento do que existe nos demais estados. | AA28: Rede de colaboradores criada para apoiar a criação de RPPNs (parceiros para gerar os mapas que os produtores rurais precisam, por exemplo) | AE28: Alterar instituição do articulador (ICMBio/NGI Trombetas)
A29: 3- INSERÇÃO DO TEMA PEIXES RIVULÍDEOS E SEUS AMBIENTES EM POLÍTICAS PÚBLICAS DE PLANEJAMENTO TERRITORIAL E CONTROLE AMBIENTAL EM ZONAS URBANAS | B29: 3.1 | C29: Oficiar periodicamente os órgãos públicos estaduais e municipais sobre a necessidade de inserção dos peixes rivulídeos ameaçados e seus ambientes no planejamento urbano e gestão ambiental das cidades. | D29: Ofícios encaminhados | E29: Populações de rivulídeos e seus ambientes sejam contemplados nos licenciamentos ambientais municipais | F29: 45139 | G29: 46569 | H29: Izabel Boock (ICMBio/CEPTA) | I29: 0 | J29: Paulo Gama (SMAC-RJ), Denise Rambaldi (SMMADS-RJ), Matheus Volcan (Instituto Pró-Pampa), João Rafael Marins (INEA-RJ), Leonardo Urruth (SEMA-RS), Gabriel Cotrim (UNIFG), Alany Gonçalves (INPA), Flavio da Costa Santos (MPGO), Simone Mannheimer (MPRJ) | K29: Estados e municípios com ocorrência de peixes rivulídeos ameaçados de extinção | L29: Amazônia, Cerrado/Pantanal | M29: O ofício deve ir minimamente para prefeituras e secretárias municipais e estaduais (meio ambiente, planejamento e urbanismo) e conselhos de meio ambiente. O guia elaborado no objetivo 5 será enviado juntamente com o ofício. Se possível, entrega física do produto por representantes regionais do PAN. Importante pautar diferentes temas anualmente como mecanismo de diálogo. Enviar juntamente ao ofício uma consulta de quais atividades o estado e município estão fazendo para a conservação dos rivulídeos ameçados | N29: Licenciamento | P29: x | U29: Não iniciada, aguardando a elaboração de guias/protocolos. Modelo do ofício já está pronto (do ciclo passado). | W29: A ação não foi iniciada, pois a articuladora está aguardando a elaboração de guias/protocolos para subsidiar o desenvolvimento desta ação. | X29: Izabel Boock (ICMBio/CEPTA) | Y29: Encaminhar sumário executivo do novo ciclo. | AG29: Alterar insituição Denise Rambaldi (INEA/RJ), João Rafael Marins (NGI ICMBio Trombetas)
