Workbook
Name Ação: 'Monitoria Anual - 1'!$C$9
Name Andamento: 'Monitoria Anual - 1'!$U$26
Name Início: 'Monitoria Anual - 1'!$F$10
Name Planejamento: 'Monitoria Anual - 1'!$A$8

Sheet LEGENDA
A1: CONCEITOS DA MATRIZ DE MONITORIA
A6: Planejamento das ações Devem ser inseridos os dados da Matriz de Planejameno do PAN, informando o objetivo específico, a ação, o produto, os resultados esperados, o período (data de início e data de término), o articulador, o custo estimado, os colaboradores, a localização (localidades e área de relevância) e as observações da ação.
A7: Ação | B7: Representa o que deve ser feito para alcançar o Objetivo Específico, buscando reverter as ameaças a ele associadas. As ações devem ser específicas, mensuráveis, relevantes, exequíveis e ter efeito dentro do tempo determinado para o ciclo de gestão do PAN, e estar situadas dentro da esfera de atribuições e competências dos participantes da Oficina de Planejamento.
A8: Produto | B8: Aquilo que é obtido pela realização da ação. Deve ser mensurável, tangível, comprovar a execução da ação e estar situado dentro da esfera de atribuições e competências dos participantes da Oficina de Planejamento.
A9: Resultados esperados | B9: Indica qual resultado pretende-se alcançar com a execução da ação. Diferente do produto, este item pode estar fora da esfera de atribuições e competências dos participantes da oficina e não é de preenchimento obrigatório.
A10: Período | B10: Datas de início e término da implementação da ação, sendo que o término deve estar dentro do tempo determinado para o ciclo de gestão do PAN.
A11: Articulador | B11: Pessoa responsável por articular a implementação da ação e apresentar o produto obtido. No entanto, ele não é o único responsável pela execução da ação.
A12: Colaboradores | B12: Pessoas ou instituições corresponsáveis pela execução da ação, que auxiliam nas diferentes etapas de sua implementação.
A13: Custo estimado (R$) | B13: É um campo numérico com a estimativa dos recursos financeiros necessários para a implementação da ação.
A14: Localização (Localidade) | B14: Localização geográfica onde será executada a ação durante o ciclo de gestão vigente. Geralmente, a localidade possui menor escala e está relacionada com a área de atuação do articulador e colaboradores da ação, sendo a unidade geográfica mínima o município ou a bacia/tributário onde a ação será realizada.
A15: Localização (Área de Relevância) | B15: Localização geográfica de todas as áreas importantes para a execução da ação, independente da área de atuação do articulador e colaboradores. Assim, a Área de Relevância é aquela onde a execução da ação é necessária, ainda que não seja viável no atual ciclo de gestão.
A16: Observações | B16: Informações relevantes para a execução da ação.
A17: Linha Temática | B17: É um campo para a classificação temática da ação, a partir de uma lista suspensa pré-definida. (Definição de cada linha temática abaixo)
A18: Situação atual das ações Sinaliza a situação da ação no período relativo à monitoria informando se a ação está em andamento, concluída no prazo previsto ou com problemas de realização. Descreve o andamento da ação, o produto obtido (parcial ou final), os problemas enfrentados e a(s) pessoa(s) responsável(is) pela informação sobre o andamento da ação.
A19: Ação cujo início planejado é posterior ao período monitorado | B19: São ações que estão planejadas para iniciar em uma data futura à da monitoria, e que portanto não precisam ser analisadas detalhadamente. Elas são indicadas para permitir a visualização da situação do PAN como um todo.
A20: Ação não iniciada ou não concluída | B20: Gerencialmente, significa um alerta para compreender a razão do atraso e estabelecer medidas que favoreçam a boa execução do PAN. Tanto a situação da ação cujo prazo de conclusão expirou sem que tenha sido finalizada, quanto à ação que não foi iniciada na data planejada, devem ser tratadas com atenção, indicando a necessidade de uma reformulação ou reprogramação.
A21: Ação em andamento com problemas de realização | B21: É a ação que foi iniciada e cujo prazo de conclusão ainda não expirou, mas que, de acordo com o andamento de sua execução, provavelmente não será possível concluir no prazo estipulado. Em termos de cronograma, o GAT deve compreender os problemas e propor uma reprogramação de período, maior engajamento do articulador e colaboradores, ou outras soluções que possam melhorar a execução da ação.
A22: Ação em andamento no período previsto | B22: Ação iniciada cujo prazo de conclusão ainda não expirou e, considerando o grau de execução, provavelmente será finalizada dentro do prazo estipulado. Este tipo de ação não necessita de reprogramação significativa.
A23: Ação concluída | B23: Ação finalizada, com os produtos entregues. Mostra o quanto do PAN já está concluído. Neste caso, não importará, no gráfico, se a ação atrasou ou não para ser concluída, lembrando que a memória da execução nos anos anteriores
A24: Ação excluída ou agrupada | B24: Ações que foram excluídas do PAN ou agrupadas em outras ações cujo escopo é semelhante ou mais abrangente. As ações que se enquadram nesta categoria devem indicar, na aba da matriz de monitoria, a situação que se encontravam no momento da monitoria com as cores anteriormente citadas, além de serem marcadas no campo de agrupada ou excluída. No campo de observação da reprogramação deve ser informado o motivo da exclusão/agrupamento e em qual ação ela foi agrupada (no caso de agrupamento).
A25: Ação iniciada e não concluída no período previsto | B25: Essa categoria foi criada para diferenciar, na última monitoria, as ações não iniciadas (vermelhas) das iniciadas mas não concluídas (roxas). É utilizada para ações que foram iniciadas e tiveram bom andamento durante o PAN, com a entrega de produtos intermediários, mas que não foram totalmente concluídas (o produto final não foi obtido).
A26: Novas ações | B26: Ação que foi inserida no plano de ação no momento da monitoria. Essa ação deve ser analisada e validada com o GAT e ter todas as informações previtas na matriz de planejamento (produto, resultado esperado, período, articulador, custo estimado, colaboradores, localização, área de abrangência, observações)
A27: Descrição do andamento da ação | B27: Colocar as informações de andamento da ação, como foi feito, destaques da implementação, informações relevantes do andamento da ação. Observação: lembre-se que esse campo é importante para a análise das ações e servirá como um histórico de andamento da ação
A28: Produto obtido | B28: Citar os produtos que foram obtidos durante a execução da ação. Se o produto não for o planejado, justificar a integração ou ajustar o produto no campo de reprogramação. Observação: aqui não é para descrever o produto, somente citá-lo. Os produtos devem ser inseridos no SEI.
A29: Problemas enfrentados que justificam a não execução, a execução parcial da ação, a exclusão ou o agrupamento | B29: Registrar quais foram os problemas enfrentados para execução da ação. Caso já tenha alguma sugestão para soluciona-lo, colocar no campo Recomendações ou Observações.
A30: Responsável pela informação sobre o andamento da ação | B30: Inserir quem registrou as informações de descrição, produto, problemas e recomendações.
A31: Recomendações ou Observações | B31: Informações ou sugestões relevantes para a execução da ação.
A32: Reprogramação das ações Indica as reprogramações das ações relativas à revisão de: texto da ação, produto, resultado esperado, período (data de início e data de término), articulador, estimativa de custo, colaboradores, localização (localidades e área de relevância) e recomendações gerais/observações.
A33: Revisão do texto da ação | B33: Ajuste das informações referente ao texto da ação
A34: Revisão do produto da ação | B34: Ajuste das informações referente ao produto da ação
A35: Revisão do resultado esperado | B35: Ajuste das informações referente ao resultado esperado
A36: Revisão da data de início | B36: Ajuste referente a data de início da ação
A37: Revisão da data de término | B37: Ajuste referente a data final da ação
A38: Revisão do articulador da ação | B38: Ajuste referente ao articulador da ação
A39: Revisão do custo estimado | B39: Ajuste referente ao custo estimado da ação
A40: Revisão dos colaboradores | B40: Ajustes referente aos colaboradores da ação
A41: Revisão das localidades | B41: Ajuste referente a localidade da ação
A42: Revisão Área de Relevância | B42: Ajuste referente a área de abrangência da ação
A43: Revisão das Observações | B43: Ajuste referente às observações da ação
A44: Revisão da Linha Temática | B44: Ajuste referente à classificação temática da ação
...

Sheet Monitoria Anual - 1
A1: PLANO DE AÇÃO NACIONAL DE CONSERVAÇÃO DE ESPÉCIES AMEAÇADAS DE EXTINÇÃO - PAN
A2: Plano de Ação Nacional para a Conservação dos Primatas da Mata Atlântica e das Preguiças-de-coleira - PAN Primatas da Mata Atlântica e das Preguiças-de-coleira
A4: Objetivo geral do PAN | B4: Intensificar a proteção e restauração de hábitats, reduzir o declínio de populações e envolver a sociedade na conservação de primatas e preguiças ameaçados da Mata Atlântica
A6: Data da monitoria | B6: Data da Monitoria 1 (11/08/2026) - Virtual | AQ6: Agrupada
AQ7: Excluída
A8: PLANEJAMENTO DO PAN | O8: SITUAÇÃO ATUAL | Z8: REPROGRAMAÇÃO DO PAN
A9: OBJETIVOS ESPECÍFICOS | B9: Nº | C9: Ação | D9: Produto | E9: Resultados esperados | F9: Período | H9: Articulador | I9: Custo estimado (R$) | J9: Colaboradores | K9: Localização | M9: Observações | N9: Linha Temática | O9: Ação cujo início planejado é posterior ao período monitorado | P9: Ação não iniciada ou não concluída no prazo previsto | Q9: Ação em andamento com problemas de realização | R9: Ação em andamento no período previsto | S9: Ação concluída | T9: Ação excluída ou agrupada | U9: Descrição do andamento da ação | V9: Produto obtido | W9: Problemas enfrentados que justificam a não execução, a execução parcial da ação, a exclusão ou o agrupamento | X9: Responsável pela informação sobre o andamento da ação | Y9: Recomendações ou Observações | Z9: Revisão do texto da ação | AA9: Revisão do produto da ação | AB9: Revisão do resultado esperado | AC9: Revisão da data de início | AD9: Revisão da data de término | AE9: Revisão do articulador da ação | AF9: Revisão do custo estimado | AG9: Revisão dos colaboradores | AH9: Revisão das localidades | AI9: Revisão Área de Relevância | AJ9: Revisão das observações | AK9: Revisão da Linha Temática
F10: Início | G10: Fim | K10: Localidades | L10: Área de Relevância
A11: 1. Manutenção e restauração de hábitats e sua conectividade para a conservação das espécies-alvo | B11: 1.1 | C11: Compilar, refinar e divulgar as áreas importantes para a conservação das espécies-alvo do PAN, inclusive para a restauração e a conectividade de hábitats | D11: Mapa das áreas importantes; Shapefiles disponíveis; Materiais publicados e disponibilizados no site do PAN. | E11: Ter as áreas importantes disponíveis para uso pelo PAN, por órgãos ambientais e pela sociedade | F11: 45839 | G11: 46569 | H11: Gaston Giné (UESC) | J11: Leonardo Oliveira (BMIP-UESC); Joanison Vicente (AMAP); Rodrigo Carvalho (PREA); Laila Mureb (AMLD); Robson Hack (NeoPrim); Márcia Jardim (SEMA-RS/Programa Macacos Urbanos) | L11: Área de abrangência do PAN | M11: Em 2 anos apresentar uma primeira versão e realizar os refinamentos até o final; Considerar as áreas que já foram identificadas para algumas das espécies. Divulgar por meio de reuniões. Considerar áreas afetadas por desastres ambientais | N11: Gestão da Informação | Q11: x | U11: 1. Paraná: nove áreas importantes para conservação dos muriquis-do-sul identificadas. 2. Dissertação da Andressa Zapaterra Bassalobre - fez um estudo de modelagem do habitat do Leontopithecus caissara (Análise ecológica e estratégias de conservação para o mico-leão-da-cara-preta (Leontopithecus caissara) - 2025. 2. Para Callithrix aurita e C. flaviceps: publicação dos Protocolos do PCSS em 2025; e o PCSS definiu áreas chave para levantamento de C. flaviceps baseadas em áreas prioritarias de levantamento do protocolo do PCSS e em modelos de adequabilidade ambiental feitos recentemente. 3. A partir da publicação Rezende et al., 2020, iniciamos avaliação das áreas importantes para conservação de mico-leão-preto. Em andamento: Avaliação da ESEC Mico-leão-preto, ESEC Caetetus e região de Lençóis Paulista, com o objetivo de identificar a presença ou ausência da espécie, e potenciais áreas para manejo populacional e de habitat. Resultados preliminares indicam a ausência da espécie em três dos quatro fragmentos da ESEC MLP, e baixa densidade populacional na ESEC Caetetus. Na região de Lençóis Paulista, dados ainda estão sendo triados. 4. Para o mico-leão-da-cara-dourada, está sendo feita uma modelagem para identificar essas áreas. 5. Modelagem para preguiça-de-coleira e outras 20 espécies de arborícolas da Mata Atlântica foram feitas, coordenadas pelo Gaston Gine (UESC e IPDC), e as publicações estão em andamento. 6. IAT realizou estudo da paisagem que resultou em 10 mapas temáticos sobre os usos, as áreas protegidas, o nível de conservação e o potencial de fluxo dos monos no Paraná. 7. Indicação de áreas e ações prioritárias para a conservação de Callithrix aurita, incluindo priorizações para a restauração de hábitats, para o manejo populacional e para novos levantamentos (Pacheco, 2024). 8. Indicação de áreas prioritárias para a conservação, incluindo priorizações para a restauração de hábitats, para o manejo populacional, para a mitigação da febre amarela, para a implementação de passagens de fauna e para novos levantamentos dos táxons com ocorrência na bacia do rio Doce: Alouatta guariba, Brachyteles hypoxanthus, Callithrix aurita, Callithrix flaviceps, Callithrix geoffroyi, Callicebus nigrifrons, Callicebus personatus, Sapajus nigritus e Sapajus robustus (Pacheco et al. – RENOVA e FUNBIO, que não foi publicado ainda) | W11: 1. Para Mico-leão-da-cara-dourada, a equipe que faria a modelagem mudou de assunto da tese. 2. Apesar da existência de diversos estudos voltados à identificação das áreas importantes, ainda se faz necessária a articulação com os colaboradores para a compilação dos dados e consolidação do produto | X11: Robson Hack (Neoprim); Rodrigo Carvalho (PREA); Gabriela Rezende (IPÊ); Leonardo Oliveira (BMIP); Gastón Giné (UESC); Elenise Sipinski (SPVS); Fabiano Melo (UFV) | Y11: 1. Para Mico-leão-da-cara-dourada, essa info deve estar disponível até o meio de 2027. 2. Paraná: nove áreas importantes para conservação dos muriquis-do-sul identificadas (solicitar as coordenadas geográficas ao Robson para auxiliar na elaboração dos mapas); 2. Os colaboradores devem encaminhar os shapes, mapas e artigos até dezembro/2026. Será marcada uma reunião para discutir a ação no primeiro trimestre de 2027. 3. Estudos indicados como subsídios para esta ação: PACHECO, F. S. Modelagens ecológicas para o sagui-da-serra-escuro, Callithrix aurita (É. Geoffroy Saint-Hilaire, 1812): implicações para a conservação deste primata ameaçado e endêmico da Mata Atlântica. Tese (Doutorado em Biologia Animal) Universidade Federal de Viçosa, Viçosa, MG. 2024. 121 f. PACHECO, F. S.; MIRANDA, C. L.; SARCINELLI, R. C.; CABRAL, P.; BRANDÃO, L.; SIQUEIRA, F. R.; MELO, F. R. Nicho ecológico e cenários futuros para a conservação do sagui-da-serra-escuro (Callithrix aurita) em São José dos Campos, SP. II SIMBA - Simpósio da Pós-Graduação em Biologia Animal, Universidade Federal de Viçosa, 2026. | AD11: 46722 | AG11: Incluir Janaína Aguiar (IEF-MG)
B12: 1.2 | C12: Propor a criação de Unidades de Conservação para a proteção de hábitats das espécies-alvo e auxiliar no processo de criação | D12: Propostas elaboradas e encaminhadas para as instâncias competentes | E12: Ter um maior número de populações das espécies-alvo protegidas em UCs | F12: 45839 | G12: 47665 | H12: Leandro Jerusalinsky (ICMBio/CPB) | J12: Leonardo C Oliveira (BMIP-UESC); Joanison Vicente (AMAP); Rodrigo Carvalho (PREA); Mariane Kaizer (INMA e EcoDiversa); Robson Hack (NeoPrim), Letícia Koproski (IAT), Edson Montilha (FF-SP). | L12: Área de abrangência do PAN | N12: Unidade de Conservação | R12: x | U12: 1. Criação da UC Municipal Parque Natural Municipal Dr. João Carlos Bello Lisboa em Rio Casca, MG, com aproximadamente 1000 hectares, em junho 2026. Ocorrência do sagui-da-serra-escuro (Callithrix aurita), sauá (Callicebus nigrifrons), e o macaco-prego-preto (Sapajus nigritus). 2. Em processo de criação da ARIE Monos de Castro, em Casto, junto às divisas com os municípios de Campo Largo, Itaperuçu e Rio Branco do Sul, na região do Vale do Ribeira Paranaense. A área proposta possui 6.282,52 hectares. O processo encontra-se em fase de georreferenciamento para delimitação da UC. 3. Em processo criação da ARIE dos Monos de Cerro Azul que se localiza majoritariamente na porção oeste do município de Cerro Azul, possuindo uma porção menor inserida no município de Castro, Paraná. A área proposta possui 5.097,17 hectares. O processo encontra-se em fase de consulta pública. 4. Instruído processo 02070.001604/2008-31 pelo ICMBio, para criação de duas Unidades de Conservação - APA e REVIS Mico-Leão-Preto, localizadas no Pontal do Paranapanema. Esta UC, caso criada, favorecerá a conservação do mico-leão-preto (Leontopithecus chrysopygus) e Bugio-ruivo (Alouatta guariba). 5. Criação de 3 RPPNs no município de Silva Jardim/RJ, na área de ocorrência do mico-leão-dourado (Leontopithecus rosalia), bugio-ruivo (Alouatta guariba) e preguiça-de-coleira-do-sudeste (Bradypus crinitus), totalizando 850 hectares. Pedido de desapropriação de Fazenda contígua à REBIO de Poço das Antas enviado, para ampliação da UC em 300 hectares. 6. Não foi feito para Mico-leão-da-cara-dourada. 7. Criação do Parque Estadual do Morro Grande-SP na região de Cotia; área para a manutenção de população de A. guariba. 8. O Instituto Preguiça-de-coleira (IPDC) está articulando/incentivando proposta para criação de 2 RPPNs no município de Mata de São João /BA e Itanagra, na área de ocorrência da preguiça-de-coleira-do-nordeste (Bradypus torquatus), totalizando 340 hectares. As propostas estão em processo de compra/avaliação. 9. No RJ em São Pedro da Aldeia, em andamento a criação de um REVIS da Ilha dos Macacos, para proteção de A. guariba e de um remanescente florestal. 10. Proposta de criação de Unidade de Proteção integral federal na Serra de Poncianos que abrange São Francisco Xavier, Sapucaí-Mirím e Camanducaia nos estados de São Paulo e Minas Gerais, que protege 5 espécies de primatas (muriqui-do-sul, sagui-da-serra-escuro, guigó, bugio ruivo e macaco-prego). Processo da proposta de UC federal de proteção integral na Serra de Poncianos 02070.002976/2009-65 11. Ampliação de área de UC. Decreto Estadual 12.402 de 12 de janeiro de 2026, amplia em 708 hectares a área do Parque Estadual Roberto Ribas Lange, no município de Antonina, Paraná, que é área de distribuição do bugio-ruivo, Alouatta guariba. | V12: 1. Estudo técnico da UC dos Monos de Castro - (https://www.iat.pr.gov.br/sites/agua-terra/arquivos_restritos/files/documento/2025-12/estudo_tecnico_muriquis_de_castro_09_12_2025.pdf) 2. Decreto Estadual 12.402 de 12 de janeiro de 2026, Ampliação do Parque Estadual Roberto Ribas Lange, Antonina/PR. 3. Decreto nº 70.046, de 04 de novembro de 2025 criação do Parque Estadual do Morro Grande-SP. 4. Processos Instruídos pelo ICMBio 02070.001604/2008-31; 02070.002976/2009-65 pelo ICMBio; 5. Processos Instruídos para criação da ARIE dos Monos de Cerro Azul e ARIE Monos de Castro. 6. Lei Municipal Nº 2.256, de 2025 do município de Rio Casca - MG que instituiu formalmente o Parque Natural Municipal Dr. João Carlos Bello Lisboa 7. Criação de 3 RPPNs no RJ. | W12: 1. Processo para criação do REVIS Mico-leão-preto enfrenta falta de apoio dos proprietários das áreas propostas de serem incluídas, o que poderia prejudicar os processos de restauração de habitat em andamento na região do Pontal do Paranapanema. 2. No RJ, a proposta da REVIS da Ilha dos Macacos está enfrentando alguns entraves com o INCRA. | X12: Fabiano Melo (UFV), Letícia Koproski (IAT), CPB/ICMBio, Laila Mureb (AMLD), Edson Montilha (FF-SP), Gastón Giné (UESC); Silvia Moreira (CPRJ/INEA-RJ), Letícia Brandão (ICMBio); | Y12: Para Mico-leão-da-cara-dourada, essa informação deve estar disponível até o meio de 2027.
B13: 1.3 | C13: Contribuir com a implementação e gestão de Unidades de Conservação | D13: Planos de Manejo utilizando informações geradas pelas ações do PAN; Conselhos de UCs com participação de colaboradores do PAN; Câmaras Técnicas Específicas com com participação de colaboradores do PAN | E13: UCs atuando mais/melhor para a conservação das espécies-alvo | F13: 45839 | G13: 47665 | H13: Robson Hack (NeoPrim) | J13: Mariane Kaizer (INMA e EcoDiversa), Marianna Pinho (INEMA-BA), Carlos Alvarenga (AMLD); Robson Hack (NeoPrim), Letícia Koproski (IAT); Elenise Sipinski (SPVS) | L13: Área de abrangência do PAN | M13: Pesquisas realizadas irão contribuir com as ações de manejo e gestão da UC | N13: Unidade de Conservação | R13: x | U13: 1. Conselho da NGI Guaraqueçaba (PARNA de Superagui, ESEC Guaraqueçaba, APA Guaraqueçaba e Rebio Bom Jesus) criado, cerimônia de posse do conselho ocorreu no dia 13/julho/2026 - SPVS tem cadeira titular. 2. CPB está na equipe de supervisão da revisão do Plano de Manejo e Plano de Gestão e Compatibilização de Direitos (PGDC) do Parque Nacional e Histórico do Monte Pascoal. Estes planejamentos estão na fase de consolidação. 3. CPB está na equipe de supervisão da revisão/elaboração dos Planos de Manejo das UC de Una: Parque Nacional Serra das Lontras (fase final para publicação), Reserva Biológica de Una (fase inicial com oficinas preparatórias) e Refúgio da Vida Silvestre de Una (fase inicial com oficinas preparatórias). 4. Associação Mico-leão-dourado (AMLD) atua nas CTs de Restauração Ecológica e Monitoramento e Pesquisa do Conselho da NGI Mico-Leão-Dourado (REBIO União, REBIO Poço das Antas, APA São João), na revisão do Plano de Manejo do Parque Municipal do Atalaia (Macaé, RJ), e nos CODEMAS de Silva Jardim (RJ) e Casimiro de Abreu (RJ). AMLD está construindo uma base ambiental em parceria com INEA para apoiar a fiscalização do Parque Estadual dos Três Picos. 5. Estudos de levantamento de fauna através de técnicas de monitoramento remoto (cameras e gravadores), com foco na confirmação de ocorrência do mico-leão-preto nos fragmentos da ESEC Mico-leão-preto. Resultados confirmaram extinção local da espécie em 3 dos 4 fragmentos e serão usados para orientar ações de manejo populacional. Também encaminhamos a lista de espécies registradas nas áreas à gestão da UC e estamos trabalhando na publicaçao dos resultados. 6. Monitoramento de mico-leão-preto na ESEC Caetetus indicou prioridade de manejo populacional nessa área. Articulações estão sendo feitas via PMP-Mico-leão-Preto para planejamento e execução do manejo. 7. IPÊ integra o Conselho Consultivo da FLONA Capão Bonito e a Câmara Técnica do Mico-leão-preto vinculada a esse conselho. A FLONA Capão está em processo de concessão florestal, no qual mais de 3000 ha de Pinus serão suprimidos, área essa ocupada atualmente pela espécie. Proposições de manejo estão em discussão no PMP-Mico-leão-Preto. 8. Bicho do Mato Instituto de Pesquisa está participando das reuniões do Conselho da Rebio e da Revis de Una sobre os planos de Manejo dessas áreas. | V13: 1. Participação no Conselho da NGI Guaraqueçaba (PARNA de Superagui, ESEC Guaraqueçaba, APA Guaraqueçaba e Rebio Bom Jesus) 2. Revisão do Plano de Manejo do Parque Nacional e Histórico do Monte Pascoal, UC de Una: Parque Nacional Serra das Lontras (fase final para publicação), Reserva Biológica de Una, Refúgio da Vida Silvestre de Una 3. Participação nas CTs de Restauração Ecológica e Monitoramento e Pesquisa do Conselho da NGI Mico-Leão-Dourado (REBIO União, REBIO Poço das Antas, APA São João), na revisão do Plano de Manejo do Parque Municipal do Atalaia (Macaé, RJ), e nos CODEMAS de Silva Jardim (RJ) e Casimiro de Abreu (RJ). 4. Participação do Conselho Consultivo da FLONA Capão Bonito e a Câmara Técnica do Mico-leão-preto 5. Participação do Conselho da Rebio e da Revis de Una. | X13: Elenise Sipinski (SPVS), Rafael Rossato (CPB), Laila Mureb (AMLD), Gabriela Rezende (IPÊ), Leonardo Oliveira (BMIP)
B14: 1.4 | C14: Ampliar o conhecimento sobre parâmetros ecológicos e preditores ambientais relacionados às espécies-alvo do PAN | D14: Relatórios e publicações técnico científicas | E14: Informações obtidas sendo utilizadas para propor melhores soluções de conectividade e restauração de hábitats | F14: 45839 | G14: 47665 | H14: Waldney Martins (UNIMONTES) | J14: Janaína Aguiar (IEF-MG), Gastón Giné (UESC), Leonardo Oliveira (BMIP-UESC); Rodrigo Carvalho (PREA); Carla Possamai (MIB); Robson Hack (NeoPrim); Márcia Jardim (SEMA-RS/Programa Macacos Urbanos); Elenise Sipinski (SPVS) | L14: Área de abrangência do PAN | M14: Identificar espécies ou regiões com maior carência de informações para direcionar os esforços de pesquisa áreas de vida, densidade, ocorrência e ocupação | N14: Pesquisa | R14: x | U14: 1. Estudo sobre área de vida, densidade, ocupação (SPVS) e uso de caixas instaladas para abrigo (PBIC/apoio Zoo SP) em Superagui, Leontopithecus caissara. 2. Avaliação da qualidade do habitat para mico-leão-preto, com foco em manejo (populacional e de habitat), na ESEC Mico-leão-preto, ESEC Catetus, RPPN Mosquito e região de Lençóis Paulista. Parâmetros ecológicos, como ocupação do habitat, presença de uma espécie competidora (Sapajus nigritus), comunidade de mamíferos simpátricos e uso e compartilhamento de recursos, também estão sendo avaliados nas áreas. 3. Monitoramento pós-translocação no fragmento da Fazenda San Maria, para avaliação de sucesso do manejo de dois grupos de micos-leões-pretos para suplementação populacional na área, inclui parâmetros de demografia, saúde, área de vida e uso do espaço. 4. Para MLCD, tivemos resultados importantes em relação às cabrucas com a identificação do número mínimo de árvores de sombra (100 árvores de sombra) para a ocorrência dos animais (Dekegel et al. 2025). 5. Contratação do Instituto Tamanduá, visando à execução do projeto “Ecologia e Conservação da Preguiça-de-Coleira-do-Nordeste (Bradypus torquatus) na Mata Atlântica da Bahia”, com recursos do TCSA Porto Sul. 6. Para B.torquatus, o LEAC-UESC e IPDC publicaram estudo mostrando um limiar de cobertura florestal alto (~50%) sobre a ocupação das preguiças-de-coleira-do-nordeste em matrizes urbanas e periurbanas (Giné et al. 2026), bem como tem gerado as primeiras estimativas de densidade da espécie com uso de drones termais (Santos et al. 2025), os quais servirão como marco zero para acompanhamento da população do litoral de Mata de São João ao longo do tempo, e comparação com outras regiões. Estudos similares (ocupação e densidade) estão sendo na região cacaueira do sul da Bahia pelo LEAC-UESC. 7. Contratação do Bicho do Mato Instituto de Pesquisa para o projeto monitoramento de Leontopithecus chrysomelas e outros primatas em duas UCs estaduais com recursos TCSA. 8. Inserido componente de monitoramento demográfico em um projeto em fase de licitação pelo IAT/PR e em processos de licenciamento, sendo dois com Brachyteles arachnoides e dois de Alouatta guariba. 9. Estudo com Callicebus sp., provavelmente Callicebus personatus, para ampliação da distribuição geográfica (UNIMONTES). 10. Análise de preditores de ocorrência de Callithrix aurita na Zona da Mata de Minas Gerais (Pacheco, 2024); Análise de preditores de ocorrência de Callithrix aurita em área urbana, em São José dos Campos, SP (Pacheco et al., 2026); Análise de preditores de ocorrência de Callithrix flaviceps (Pacheco et al. – FUNBIO, que não foi publicado ainda); Modelagem de nicho, considerando as mudanças climáticas, para Callithrix aurita (Pacheco, 2024); Modelagem de nicho, considerando as mudanças climáticas, para Callithrix flaviceps (Pacheco et al.– FUNBIO, que não foi publicado ainda) | V14: Artigos, Teses, Relatórios 1. GINÉ, Gastón Andrés Fernandez; VERÍSSIMO, Luciana Franco; SANTIAGO, Cidália Mayana Souza; PINHEIRO, Renata de Carvalho; SANTOS, Gabriel Nascimento dos; CASSANO, Camila Righetto. A call for urban greening: High forest thresholds for the endangered northern maned sloth in urbanized landscapes. Global Ecology and Conservation, v. 53, e03026, aug. 2026. Disponível em: https://www.sciencedirect.com/science/article/pii/S2351989426001551. Acesso em: 16 sep. 2026. 2. DEKEGEL, Steffi; VAN DEN BROECK, Goedele; OLIVEIRA, Leonardo; DE VLEESCHOUWER, Kristel. How many shade trees are enough? Identifying the threshold for golden-headed lion tamarin presence in cocoa agroforests of Southern Bahia, Brazil. Biological Conservation, v. 309, 111325, set. 2025. DOI: 10.1016/j.biocon.2025.111325. 3. PACHECO, F. S. Modelagens ecológicas para o sagui-da-serra-escuro, Callithrix aurita (É. Geoffroy Saint-Hilaire, 1812): implicações para a conservação deste primata ameaçado e endêmico da Mata Atlântica. Tese (Doutorado em Biologia Animal) Universidade Federal de Viçosa, Viçosa, MG. 2024. 121 f. 4. PACHECO, F. S.; MIRANDA, C. L.; SARCINELLI, R. C.; CABRAL, P.; BRANDÃO, L.; SIQUEIRA, F. R.; MELO, F. R. Nicho ecológico e cenários futuros para a conservação do sagui-da-serra-escuro (Callithrix aurita) em São José dos Campos, SP. II SIMBA - Simpósio da Pós-Graduação em Biologia Animal, Universidade Federal de Viçosa, 2026. | X14: Elenise Sipinski (SPVS), Gabriela Rezende (IPÊ), Leonardo Oliveira (BMIP), Marianna Pinho (INEMA-BA), Waldney Martins (UNIMONTES), Letícia Koproski (IAT), Fabiano Melo (UFV) | Y14: 1. Está sendo preparando um artigo com os preditores para floresta e cabrucas e da paisagem para a ocorrência dos Mico-leão-da-cara-dourada.
B15: 1.5 | C15: Implementar projetos de restauração ecológica para promover a conectividade de fragmentos ou a ampliação de área e/ou de qualidade de hábitat | D15: Projetos elaborados e/ou iniciados contemplando áreas de ocorrência das espécies-alvo; Relatórios dos projetos | E15: Aumento da área de hábitat disponível para as espécies-alvo | F15: 45839 | G15: 47665 | H15: Gabriela Rezende (IPÊ) | J15: Carla Possamai (MIB), Mariane Kaizer (INMA e EcoDiversa); Leonardo Oliveira (BMIP-UESC); Eduardo Ciriello (Futuro Florestal); Rodrigo Carvalho (PREA); Carlos Alvarenga (AMLD); Robson Hack (NeoPrim), Letícia Koproski (IAT); ICMBio/CBC | L15: Área de abrangência do PAN | M15: Considerar áreas afetadas por desastres ambientais | N15: Manejo de Habitat | R15: x | U15: 1. Entre julho de 2025 e julho de 2026, foram plantados pela AMLD 51 hectares na APA São João, em duas RPPNs e duas propriedades particulares, em duas áreas de conexão para populações de mico-leão-dourado (Leontopithecus rosalia). Foram garantidos recursos para o plantio de 86 hectares, que se iniciarão em novembro de 2026. A prefeitura de Casimiro de Abreu (RJ) aprovou o TAC Praião, para restauração de 5 hectares na restinga de Barra de São João, área de ocorrência de mico-leão-dourado, preguiça-de-coleira-do-sudeste (Bradypus crinitus) e bugio-ruivo (Alouatta guariba). 2. Entre julho de 2025 e julho de 2026, foram restaurados 1.668 hectares de corredores florestais no Pontal do Paranapanema, como parte do plano de conectividade estabelecido para a região, totalizando 7.857 hectares restaurados pelo IPÊ. | V15: 1. Projetos de restauração (AMLD) na APA São João (51 ha), em duas RPPNs e duas propriedades particulares no RJ 2. Projeto de restauração (IPÊ) de corredores florestais no Pontal do Paranapanema-SP | X15: Laila Mureb (AMLD), Gabriela Rezende (IPÊ), Rodrigo Carvalho (PREA), Leonardo Oliveira (BMIP), Fabiano Melo (UFV), Janaína Aguiar (IEF-MG), Letícia Koproski (IAT) | Y15: 1. Na regiao de São José dos Campos (SP) um estudo grande do CCSS em parceria com o Município e com o Ecomuseu vai dar base para avaliar a necessidade da promoção de conectividade entre fragmentos. E outro sendo iniciado pela articulação de um projeto de conservação a longo prazo para Callithrix aurita junto a COPEL, como condicionante ambiental. Em sua primeira etapa, o projeto prevê levantamento, caracterização e hierarquização de áreas e populaçoes da espécie na área de influência do empreendimento. Esse projeto prevê a avaliação de necessidades de implementação de corredores entre fragmentos. 2. Possibilidade de criação de corredores entre áreas dentro do escopo da ICMLB usando árvores-chave para o Leontopithecus chrysomelas em associação com Mogno Africano em um projeto para credito de carbono. 3. Corredor oficial para Muriqui do Norte em MG – Tem projeto de restauração, financiamento previsto, mas ainda não saiu. 4. Restauração na Bacia do Rio Doce – Projetos envolvem primatas da região. 5. Ação realizada pelo IAT de Criação do Corredor dos Monos entre as ARIES que estão em processo de criação no vale do rio Ribeira paranaense que vai beneficiar monos e guaribas. Está em fase de mapeamento
B16: 1.6 | C16: Articular a implementação de instrumentos para o pagamento de créditos de biodiversidade e serviços ambientais que contemplem áreas de ocorrência das espécies-alvo | D16: Documentos com subsídios para a criação de normas e editais; Pagamentos por seviços ambientais criados. | E16: Maior número de proprietários mantendo e conservando os hábitats das espécies-alvo | F16: 45839 | G16: 47665 | H16: Leticia Koproski (IAT) | J16: Robson Hack (NeoPrim), Laila Mureb (AMLD), Patricia Calderari (IAT) | L16: Área de abrangência do PAN | M16: Instrumentos: bolsa verde, SAF (Sistemas Agroflorestais) e demais listados no PSA (pagamento por serviços ambientais) | N16: Financiamento | R16: x | U16: 1. Foram publicadas 3 resoluções referentes as modalidades de PSA (Pagamentos por Serviços Ambientais) no estado do Paraná: PSA Biodiversidade (Resolução SEDEST 30/2026), Restauração (Resolução SEDEST 31/2026) e Unidades de Conservação (Resolução SEDEST 32/2026). Todas elas podem beneficiar espécies do PAN. 2. Parceria entre AMLD e SPVS para desenvolvimento de projeto de créditos de biodiversidade (metodologia Life) para propriedades rurais na APA Bacia do Rio São João/Mico-Leão-Dourado, e articulação com prefeituras de Casimiro de Abreu e Silva Jardim para implementação de Programas de PSA municipais para RPPNistas, focado em repasse de parte do ICMS Ecológico para gestão de UCs. 3. Divulgação das Cotas de Reserva Ambiental (CRA), PSA desenvolvido pelo SFB e implementado pelo INEA no estado do RJ, para RPPNistas da região. | V16: 1. Resoluções de Pagamentos por Serviços Ambientais no estado do Paraná: Resolução SEDEST 30/2026, Resolução SEDEST 31/2026, Resolução SEDEST 32/2026 2. PSA desenvolvido pelo SFB e implementado pelo INEA no estado do RJ. | X16: Letícia Koproski (IAT), Laila Mureb (AMLD)
B17: 1.7 | C17: Propor políticas públicas e iniciativas privadas de planejamento territorial para a proteção, restauração e conectividade de hábitats visando à conservação das espécies-alvo. | D17: Propostas de instrumentos legais (normas, INs), programas (ex. Refloresta e Nascentes em SP), reuniões realizadas, materiais produzidos | E17: Aumento da área de hábitat disponível para as espécies-alvo | F17: 45839 | G17: 47665 | H17: Fabiano Melo (UFV) | J17: Mariane Kaizer (INMA e EcoDiversa), Marianna Pinho (INEMA-BA), Carlos Alvarenga (AMLD), Letícia Koproski (IAT) | L17: Área de abrangência do PAN | M17: Subsidiar a elaboração de planos diretores municipais para a manutenção de hábitats e sua conectividade. Considerar atividades de agrossilvicultura. Subsidiar Zoneamento Ecológico-Econômico (ZEE) | N17: Ordenamento e gestão territorial | R17: x | U17: 1. Articulação com a Prefeitura Municipal de Curitiba sobre iniciativas para a proteção dos bugios de vida livre no município. 2. Participação da AMLD na revisão do Plano Diretor e no Plano Local de Ação Climática de Silva Jardim (RJ). 3. O IPDC está em negociação com a diretoria de licenciamento do INEMA/BA (2 reuniões já realizadas) para que condicionantes específicas de proteção à preguiça-de-coleira sejam inseridas nas autorizações de supressão de vegetação, bem como, seja usado o protocolo de manejo in situ elaborado pelo PAN e publicado pelo ICMBio no diagnóstico da presença e ações de resgate/afugentamento de fauna. Essa necessidade é subsidiada pelo trabalho técnico-científico de pesquisa e monitoramento que o Instituto desenvolve na região, voltado à qualificação de políticas públicas de conservação. Paralelamente, o IPDC atua por via judicial em Ação Civil Pública contra a concessionária Neoenergia Coelba devido às eletrocussões de preguiças-de-coleira na rede elétrica, processo que resultou na condenação da empresa, na suspensão temporária de novas expansões da rede e na imposição de um plano de adequação da rede, configurando medida mitigadora análoga às que se busca inserir nos processos de licenciamento, ainda que obtida por meio distinto. 4. Fund. Biodiversitas e gestão REBIO Mata Escura (ICMBio) estão em contato com proprietários rurais para criação de RPPNs na região do Médio Vale do Jequitinhonha, entre a REBIO e o PARNA do Alto Cariri. 5. Iniciativas da Prefeitura Municipal de São José dos Campos (SP) para políticas públicas voltadas para a conservação de Callithrix aurita no município. 6. Em Minas Gerais, está sendo implementado o projeto " Rio Doce Mais Vida" e PESQPROB que fazem parte do Acordo Judicial para reparação integral e definitiva relativa ao rompimento da barragem de Fundão e prevê que as espécies de primatas ameaçadas sejam consideradas na priorização de áreas a serem recuperadas. Os projetos estão em fase de elaboração dos editais. | V17: Reuniões realizadas com INEMA, Articulações com Prefeitura de Curitiba, Articulações com proprietários rurais para criação de RPPNs. | X17: Letícia Koproski (IAT), Laila Mureb (AMLD), Gastón Giné (UESC), Fabiano Melo (UFV), Janaina Aguiar (IEF-MG), Letícia Brandão (ICMBio)
B18: 1.8 | C18: Elaborar e articular a inclusão de diretrizes, protocolos e medidas mitigadoras dos impactos sobre os táxons alvo do PAN, nos processos de autorização e licenciamento ambiental | D18: Diretrizes e protocolos elaborados para os termos de referência e no plano básico ambiental (detecção, resgate, afugetamento e monitoramento específico); Documento com medidas preventivas e mitigadoras de impactos sobre as espécies-alvo no licenciamento e autorização de empreendimentos produzido e encaminhado para os órgãos do SISNAMA . | E18: Processos de licenciamento considerando medidas de mitigação de impactos mais direcionadas às espécies-alvo | F18: 45839 | G18: 47665 | H18: Leticia Koproski (IAT) | J18: Janaína Aguiar (IEF-MG), Maria Luiza De Deus (INEMA-BA), Thais Guimarães (SEMIL-SP), Gastón Giné (UESC); Elenise Sipinski (SPVS); Claudia Schaalmann (CETESB) | L18: Área de abrangência do PAN | M18: Considerar o licenciamento de empreendimentos em áreas urbanas. Subsidiar a elaboração de planos diretores municipais para a manutenção de hábitats e sua conectividade. Considerar atividades de agrossilvicultura. Subsidiar Zoneamento Ecológico-Econômico (ZEE). Prazo para elaborar as diretrizes e protocolos junho 2025 | N18: Licenciamento | R18: x | U18: 1. Resolução SEDEST 30/2026, prevê o PSA para a conservação de espécies ameaçadas de extinção no estado do Paraná e de seus habitats, em áreas estratégicas de sua ocorrência. 2. Foi encaminhado, pelo Instituto Preguiça-de-Coleira de Pesquisa e Conservação (IPDC) para equipe da Diretoria de Regulação do INEMA o artigo "Detection of South American porcupines (Rodentia: Erethizontidae) by thermal drones: A new opportunity for surveying and monitoring of elusive species" recomendando que o uso de drones com câmera térmica seja incorporado como um requisito nos estudos para Autorizações de Supressão de Vegetação. 3. Foi feita uma Nota Técnica, através da prefeitura de São José dos Campos, indicando protocolos específicos para monitoramento e manejo de saguis-da-serra-escuro (C. aurita), em empreendimentos imobiliários. 4. Foi elaborado um projeto de monitoramento de sagui-da-serra (C. flaviceps), como compensação de uma LT em construção, a pedido do IBAMA. O protocolo de áreas prioritárias foi utilizado para definir os fragmentos que serão monitorados, no ES e em MG. 5. A pedido da Engie, como compensação de outra LT, há uma previsão de repasse financeiro para um projeto de monitoramento de primatas ameaçados na região do vale Jequitinhonha, em especial a REBIO Mata Escura e o Parna do Alto Cariri. 6. Pesquisadores integrantes da câmara técnica do Mico-leão-preto, vinculada ao Conselho da FLONA Capão Bonito, apoiando a elaboração do termo de referência para a concessão florestal da FLONA de Capão de Bonito, em parceria com a UFSCar e o Serviço Florestal, para inclusão de um protocolo que oriente os monitoramentos de fauna que o concessionário terá que contemplar. 7. Inclusão de pontes copa-a-copa como medida mitigadora no processo de licenciamento de asfaltamento da RJ-162, que corta a REBIO União (Rio das Ostras - RJ), área de ocorrência do mico-leão-dourado (Leontopithecus rosalia), preguiça-de-coleira-do-sudeste (Bradypus crinitus) e bugio-ruivo (Alouatta guariba). | V18: Resolução SEDEST 30/2026, Nota Técnica, Inclusão de pontes copa-a-copa como medida mitigadora no processo de licenciamento de asfaltamento da RJ-162 | X18: Letícia Koproski (IAT), Marianna Pinho (INEMA-BA), Fabiano Melo (UFV), Gabriela Rezende (IPÊ), Laila Mureb (AMLD)
B19: 1.9 | C19: Incentivar junto a proprietários rurais o direcionamento da disposição de Reservas Legais para manter e restaurar a conectividade dos hábitats | D19: Reuniões com proprietários e órgãos fiscalizadores | E19: Manutenção/aumento da área de hábitat disponível para as espécies-alvo | F19: 45839 | G19: 47665 | H19: Leonardo C. Oliveira (UERJ) | J19: Marianna Pinho (INEMA-BA), Laila Mureb (AMLD) | L19: Área de abrangência do PAN | M19: Influenciar na disposição de Reservas Legais, visando manter a conectividade dos hábitats | N19: Ordenamento e gestão territorial | R19: x | U19: 1. Resolução SEDEST 32/2026 é a que utilizaremos para o PSA dos Monos nas UCs do Paraná. 2. Restauração de Reservas Legais em duas propriedades privadas em locais de conexão para populações de mico-leão-dourado (Leontopithecus rosalia), preguiça-de-coleira-do-sudeste (Bradypus crinitus) e bugio-ruivo (Alouatta guariba). 3. Áreas restauradas no Pontal do Paranapanema constituem Reservas Legais cuja localização na propriedade foi proposta e adequada visando restauração de conectividade entre as áreas de ocorrência de mico-leão-preto na região. 4. Essa é uma ação prevista para ser realizada dentro da Iniciativa para a Conservação do mico-leão baiano, mas que não foi realizada ainda por falta de recursos para o mapeamento da área. | W19: Falta de recurso para mapeamento. | X19: 1. Letícia Koproski (IAT); 2. Laila Mureb (AMLD); 3. Gabriela Rezende (IPÊ); Leonardo Oliveira (BMIP)
B20: 1.10 | C20: Incentivar alternativas de geração de renda para as comunidades locais, compatíveis com a manutenção e restauração de hábitats para as espécies-alvo | D20: Cursos/eventos realizados com comunidades locais sobre o tema | E20: Manutenção/aumento da área de hábitat disponível para as espécies-alvo | F20: 45839 | G20: 47665 | H20: Leonardo C. Oliveira (UERJ) | J20: Danilo Simonini (UESC) | L20: Área de abrangência do PAN | M20: Iniciativas realizadas em conformidade com as ditetrizes do PAN | N20: Manejo de Habitat | R20: x | U20: 1. Implementação de Trilha de Longo Curso Travessia Mico-Leão-Dourado na APA Bacia do Rio São João/Mico-Leão-Dourado, pela AMLD em parceria com NGI ICMBio Mico-Leão-Dourado, para fomentar turismo sustentável e ações de restauração ao longo do trajeto no território. 2. Micro-empresas envolvidas no plantio de áreas em restauração e viveiros para produção de mudas tem gerado renda, diretamente, para 365 pessoas da comunidade local no Pontal do Paranapanema. 3. Na região de Una, estamos trabalhando em parceria com a Futuro Florestal; 4. O projeto BioBrasil tem ações em relação a isso no município de Una e um projeto de trilha (de longo curso ) está em discussão na região com o escopo. 5. Foi implementado a trilha de uso público do Parque Nacional do Superagui/PR, a trilha da Ararapira, que apoia o turismo de base comunitária das comunidades do entorno do PARNA. 6. A ação avança por meio da consolidação do turismo de observação de preguiças-de-coleira pela da Aruá Observação de Vida Silvestre, iniciativa comunitária reconhecida pela UNESCO que está no litoral norte da Bahia, região de maior atuação do IPDC. Com base nos dados de mais de 2 anos de atividades de turismo de observação da preguiça-de-coleira, o IPDC aplicou a metodologia TEMPA identificando impactos econômicos e sociais muito positivos associados à atividade. Esses resultados vêm sendo utilizados, de forma ainda restrita a parceiros estratégicos, para subsidiar a replicação responsável da iniciativa em outras comunidades do Litoral Norte da Bahia, priorizando critérios de conservação e a prevenção do turismo predatório | X20: Laila Mureb (AMLD), Gabriela Rezende (IPÊ), Leonardo Oliveira (BMIP), Luciana Franco Verissimo (IPDC), Janaína Aguiar (IEF-MG), Elenise Sipinski (SPVS) | AG20: Incluir: Laila Mureb (AMLD); Gabriela Rezende (IPÊ); Leonardo Oliveira (BMIP); Luciana Franco Verissimo (IPDC); Janaína Aguiar (IEF-MG); Elenise Sipinski (SPVS)
A21: 2. Manejo de populações (in situ, ex situ ou de forma integrada) das espécies-alvo visando à sua viabilidade | B21: 2.1 | C21: Elaborar os Programas de Manejo Populacional para Callithrix aurita, Leontopithecus chrysomelas, Leontopithecus caissara e Brachyteles arachnoides | D21: Programas de Manejo Populacional (PMPs) oficialmente reconhecidos | E21: Atender às demandas do 10 ciclo do PAN em relação à criação de PMPs | F21: 45839 | G21: 46753 | H21: Mônica Montenegro (ICMBio/CPB) | J21: Robson Hack (NeoPrim), Gabriela Rezende (IPÊ), Cláudia Igayara (Zoo Guarulhos e AZAB), Zelinda Hirano (FURB), Mariane Kaizer (INMA e EcoDiversa), Elenise Sipinski (SPVS), Silvia Moreira (CPRJ), Thais Guimarães (SEMIL-SP), Cauê Monticelli (SEMIL-SP), Danila Veluza (SPVS), Fabiano Melo (UFV), Leonardo Oliveira (BMIP e UESC), Rodrigo Carvalho (PREA), Mara Marques (Zoo de São Paulo), Carlos Ruiz-Miranda (UENF), Giannina Piatto Clerici (SEMIL - SP), Edson Montilha (FF-SP) | L21: Área de abrangência do PAN | M21: 2025: C. aurita, L. chrysomelas 2025: B. arachnoides (incluindo reavaliação do objetivo do PMP) 2026: L. caissara 2025: L. caissara (Elaborar planejamento detalhado considerando todas informações e atividades necessárias antes, durante e após a captura dos primeiros fundadores, minimizando riscos para a população de vida livre e visando um bom início de estabelecimento da população de segurança; Elaborar rapidamente um Plano de Manejo Emergencial para resgate de indivíduos/grupos/populações que venham a ficar em risco iminente de extinção, principalmente devido à probabilidade de catástrofes (febre amarela, eventos climáticos) na área. A elaboração destes Programas são resultado do Relatório "Avaliação do Manejo ex situ para 15 primatas e a preguiça-de-coleira", disponível em https://www.gov.br/icmbio/pt-br/assuntos/biodiversidade/pan/pan-primatas-ma-e-preguica-de-coleira/1-ciclo/produtos/2024-pan-primatas-ma-e-preguica-de-coleira-relatorio-final-avaliacao-manejo-ex-situ-portugues.pdf | N21: Manejo integrado | R21: x | U21: Os Programas de Manejo Populacional de C. aurita, B. arachnoides e L. chrysomelas já foram elaborados e reconhecidos pelo ICMBio. Oficina de elaboração do PMP de Leontopithecus caissara prevista para ser realizada em novembro/2026. | V21: Declaração ICMBio/DIBIO de reconhecimento e documento do Programa com objetivos, ações, Grupo de Acompanhamento e principais diretrizes, publicados e disponíveis no site do ICMBio | X21: Mônica Montenegro (ICMBio/CPB), Elenise Sipinski (SPVS)
B22: 2.2 | C22: Implementar os Programas de Manejo Populacional oficialmente reconhecidos das espécies-alvo do PAN | D22: Relatórios anuais de implementação dos PMPs | E22: Populações das espécies-alvo sendo manejadas de acordo com diretrizes do PAN | F22: 45839 | G22: 47665 | H22: Rafael Rossato (ICMBio/CPB) | J22: Zelinda Hirano (FURB), Gabriela Rezende (IPÊ), Fabiana Voorwald (UFV), Carlos Ruiz-Miranda (UENF); Rodrigo Carvalho (PREA); Robson Hack (NeoPrim); Márcia Jardim (SEMA-RS/Programa Macacos Urbanos), Cauê Monticelli (SEMIL - SP), Giannina Piatto Clerici (SEMIL - SP), Edson Montilha (FF-SP) | L22: Área de abrangência do PAN | N22: Manejo integrado | R22: x | U22: PMP de Alouatta guariba (aprovado em fevereiro/2023): o CMAG tem realizado reuniões mensais para implementação do Programa. Atualmente existem quatro projetos em execução (reforço populacional no Parque Estadual da Cantareira/SP; reintrodução em Florianópolis/SC; reintrodução no Parque Nacional da Tijuca/RJ; reforço populacional em São Francisco Xavier/SP). Além disso, o CMAG tem apoiado o Programa de Manejo Populacional da Argentina. A população ex situ conhecida e cadastrada é de 300 indivíduos. PMP de Leontopithecus chrysopygus (aprovado em março/2024): nesse primeiro ano do PAN foi realizada uma oficina presencial em março/26, para monitoria das ações e implementação de ações do Programa. Até o momento, não foi submetido nenhum projeto ao PMP, mas há previsão de pelo menos um a ser iniciado até o primeiro semestre de 2027 (translocação de grupos da Flona Capão Bonito para a ESEC Caetetus). PMP de Leontopithecus rosalia (aprovado em outubro/2025): foi realizada uma primeira reunião em junho de 2026 para organização/planejamento do Grupo de Acompanhamento. PMP de Callithrix aurita (aprovado em janeiro/2026): o Grupo de Acompanhamento realiza reuniões bimestrais, sendo que a primeira reunião foi em abril de 2026 para estruturação do funcionamento do Grupo e do Programa. As instituições de manejo ex situ foram convidadas a aderir oficialmente ao Programa, sendo que três mandaram a documentação: CECFau, CCSS e Criadouro Arca de Noé. Atualmente, a população ex situ cadastrada é de 99 indivíduos. Destaca-se que um projeto de conservação a longo prazo está sendo articulado junto a COPEL, como condicionante ambiental. Esse projeto envolverá levantamento e caracterização de hábitat e populações na área de influência do empreendimento; análise de saúde e genética das populações; projetos de restauração populacional; e ações de educação ambiental. Estão ocorrendo ações preparatórias par o manejo de C. aurita em São José dos Campos (SP) Cordeiro (RJ) e na RPPN Chapadão da Serra Negra da Mantiqueira (MG), esse projetos precisa, se adequar às condições do PMP. PMP de Callithrix flaviceps (aprovado em janeiro/2026): o Grupo de Acompanhamento realiza reuniões bimestrais, sendo a primeira reunião em maio de 2026 para estruturação do funcionamento do Grupo e do Programa. A única instituição de manejo ex situ que atualmente detêm a espécie (CCSS), já encaminhou a documentação para adesão oficial. Atualmente, a população ex situ cadastrada é de 16 indivíduos. PMP de Brachyteles arachnoides (aprovado em janeiro/2026): foi criado um grupo zap onde houve a discussão de um caso, mas ainda não foi realizada nenhuma reunião. PMP de Brachyteles hypoxanthus (aprovado em janeiro/2026): foi realizada uma primeira reunião em maio de 2026 para organização/planejamento do Grupo de Acompanhamento e discussão de algumas ações de manejo que haviam sido acordadas e iniciadas antes do PMP (Ibitipoca e Peçanha). PMP de Leontopithecus chrysomelas (aprovado em abril/2026): foi criado um grupo zap onde houve a discussão de um caso de destinação, mas ainda não foi realizada nenhuma reunião. Ações de manejo iniciadas antes da oficialização/implementação dos Programas de Manejo Populacional: 1. Translocação de Muriquis em Peçanha MG realizado com apoio de transporte aereo e terrestre do IEF/MG. Animais translocados para região de Ibitipoca para reintrodução da espécie. 2. Realização de soltura de um indivíduo macho de MLCD em seu grupo de origem, e em fase de monitoramento de um segundo indivíduo (fêmea) que foi liberada no local de origem (onde foi encontrada) e já reintegrada ao grupo. 3. Captura dos 2 primeiros grupos de C. flaviceps para iniciar a população de segurança no CCSS; já houve reprodução. 4. Formação e reintrodução de 6 casais de MLD em Macaé, no segundo semestre de 2025 (casais formados por animais confiscados e repatriados - Suriname e Togo); 5. Monitoramento pós-translocação em andamento dos dois grupos de micos-leões-pretos translocados do Parque Estadual Morro do Diabo para a reserva legal da Fazenda San Maria em 2024 e 2025, incluindo monitoramento demográfico, mostrando formação de dois novos grupos misturando indivíduos de ambos os grupos translocados e da população residente e monitoramento de uso do espaço visando estabelecimento de área de vida. | V22: 1. Todos os PMPs, bem como protocolos relacionados, encontram-se na página: https://www.gov.br/icmbio/pt-br/assuntos/biodiversidade/programa-de-manejo-populacional 2. Memórias das reuniões realizadas 3. Relatórios anuais de execução do PMP de Alouatta guariba e Leontopithecus chrysopygus | W22: A adesão oficial das instituições de manejo ex situ aos Programas tem sido uma dificuldade para a implementação da maioria dos PMPs. | X22: Rafael Rossato (ICMBio/CPB), Mônica Montenegro (ICMBio/CPB), Danilo Simonini (UESC), Janaína Aguiar (IEF), Gabriela Rezende (IPÊ)
B23: 2.3 | C23: Realizar as recomendações de manejo da Oficina de Avaliação da Necessidade de Manejo Populacional para Bradypus, Sapajus e Callicebus | D23: Documentos com recomendações elaborados e publicados | E23: Recomendações realizadas e sendo aplicadas | F23: 45839 | G23: 46569 | H23: Mara Marques (AZAB) | J23: Gastón Giné (UESC), Waldney Martins (UNIMONTES), Mariane Kaizer (INMA e EcoDiversa), Cláudia Igayara (Zoo Guarulhos e AZAB), Silvia Moreira (CPRJ), Laila Mureb (AMLD), Paloma Marques (Instituto Tamanduá); Robson Hack (NeoPrim) | L23: Área de abrangência do PAN | M23: Recomendações de acordo com o Relatório "Avaliação do Manejo ex situ para 15 primatas e a preguiça-de-coleira", disponível em https://www.gov.br/icmbio/pt-br/assuntos/biodiversidade/pan/pan-primatas-ma-e-preguica-de-coleira/1-ciclo/produtos/2024-pan-primatas-ma-e-preguica-de-coleira-relatorio-final-avaliacao-manejo-ex-situ-portugues.pdf | N23: Manejo integrado | Q23: x | U23: Para as preguiças-de-coleira, em 2026, foi publicado os "Protocolos de Manejo das Preguiças-de-coleira (Bradypus torquatus e Bradypus crinitus)". | W23: Falta de articulação para realizar as recomendações sugeridas na oficina de avaliação | X23: ICMBio/CPB | Y23: Claúdia Igayara vai ajudar a fazer o levantamento do que existe de informação referente às recomendações que foram feitas. | AD23: 46935
