Workbook

Sheet LEGENDA
A1: CONCEITOS DA MATRIZ DE MONITORIA
A6: Planejamento das ações Devem ser inseridos os dados da Matriz de Planejameno do PAN, informando o objetivo específico, a ação, o produto, os resultados esperados, o período (data de início e data de término), o articulador, o custo estimado, os colaboradores, a localização (localidades e área de relevância) e as observações da ação.
A7: Ação | B7: Representa o que deve ser feito para alcançar o Objetivo Específico, buscando reverter as ameaças a ele associadas. As ações devem ser específicas, mensuráveis, relevantes, exequíveis e ter efeito dentro do tempo determinado para o ciclo de gestão do PAN, e estar situadas dentro da esfera de atribuições e competências dos participantes da Oficina de Planejamento.
A8: Produto | B8: Aquilo que é obtido pela realização da ação. Deve ser mensurável, tangível, comprovar a execução da ação e estar situado dentro da esfera de atribuições e competências dos participantes da Oficina de Planejamento.
A9: Resultados esperados | B9: Indica qual resultado pretende-se alcançar com a execução da ação. Diferente do produto, este item pode estar fora da esfera de atribuições e competências dos participantes da oficina e não é de preenchimento obrigatório.
A10: Período | B10: Datas de início e término da implementação da ação, sendo que o término deve estar dentro do tempo determinado para o ciclo de gestão do PAN.
A11: Articulador | B11: Pessoa responsável por articular a implementação da ação e apresentar o produto obtido. No entanto, ele não é o único responsável pela execução da ação.
A12: Colaboradores | B12: Pessoas ou instituições corresponsáveis pela execução da ação, que auxiliam nas diferentes etapas de sua implementação.
A13: Custo estimado (R$) | B13: É um campo numérico com a estimativa dos recursos financeiros necessários para a implementação da ação.
A14: Localização (Localidade) | B14: Localização geográfica onde será executada a ação durante o ciclo de gestão vigente. Geralmente, a localidade possui menor escala e está relacionada com a área de atuação do articulador e colaboradores da ação, sendo a unidade geográfica mínima o município ou a bacia/tributário onde a ação será realizada.
A15: Localização (Área de Relevância) | B15: Localização geográfica de todas as áreas importantes para a execução da ação, independente da área de atuação do articulador e colaboradores. Assim, a Área de Relevância é aquela onde a execução da ação é necessária, ainda que não seja viável no atual ciclo de gestão.
A16: Observações | B16: Informações relevantes para a execução da ação.
A17: Linha Temática | B17: É um campo para a classificação temática da ação, a partir de uma lista suspensa pré-definida. (Definição de cada linha temática abaixo)
A18: Situação atual das ações Sinaliza a situação da ação no período relativo à monitoria informando se a ação está em andamento, concluída no prazo previsto ou com problemas de realização. Descreve o andamento da ação, o produto obtido (parcial ou final), os problemas enfrentados e a(s) pessoa(s) responsável(is) pela informação sobre o andamento da ação.
A19: Ação cujo início planejado é posterior ao período monitorado | B19: São ações que estão planejadas para iniciar em uma data futura à da monitoria, e que portanto não precisam ser analisadas detalhadamente. Elas são indicadas para permitir a visualização da situação do PAN como um todo.
A20: Ação não iniciada ou não concluída | B20: Gerencialmente, significa um alerta para compreender a razão do atraso e estabelecer medidas que favoreçam a boa execução do PAN. Tanto a situação da ação cujo prazo de conclusão expirou sem que tenha sido finalizada, quanto à ação que não foi iniciada na data planejada, devem ser tratadas com atenção, indicando a necessidade de uma reformulação ou reprogramação.
A21: Ação em andamento com problemas de realização | B21: É a ação que foi iniciada e cujo prazo de conclusão ainda não expirou, mas que, de acordo com o andamento de sua execução, provavelmente não será possível concluir no prazo estipulado. Em termos de cronograma, o GAT deve compreender os problemas e propor uma reprogramação de período, maior engajamento do articulador e colaboradores, ou outras soluções que possam melhorar a execução da ação.
A22: Ação em andamento no período previsto | B22: Ação iniciada cujo prazo de conclusão ainda não expirou e, considerando o grau de execução, provavelmente será finalizada dentro do prazo estipulado. Este tipo de ação não necessita de reprogramação significativa.
A23: Ação concluída | B23: Ação finalizada, com os produtos entregues. Mostra o quanto do PAN já está concluído. Neste caso, não importará, no gráfico, se a ação atrasou ou não para ser concluída, lembrando que a memória da execução nos anos anteriores
A24: Ação excluída ou agrupada | B24: Ações que foram excluídas do PAN ou agrupadas em outras ações cujo escopo é semelhante ou mais abrangente. As ações que se enquadram nesta categoria devem indicar, na aba da matriz de monitoria, a situação que se encontravam no momento da monitoria com as cores anteriormente citadas, além de serem marcadas no campo de agrupada ou excluída. No campo de observação da reprogramação deve ser informado o motivo da exclusão/agrupamento e em qual ação ela foi agrupada (no caso de agrupamento).
A25: Ação iniciada e não concluída no período previsto | B25: Essa categoria foi criada para diferenciar, na última monitoria, as ações não iniciadas (vermelhas) das iniciadas mas não concluídas (roxas). É utilizada para ações que foram iniciadas e tiveram bom andamento durante o PAN, com a entrega de produtos intermediários, mas que não foram totalmente concluídas (o produto final não foi obtido).
A26: Novas ações | B26: Ação que foi inserida no plano de ação no momento da monitoria. Essa ação deve ser analisada e validada com o GAT e ter todas as informações previtas na matriz de planejamento (produto, resultado esperado, período, articulador, custo estimado, colaboradores, localização, área de abrangência, observações)
A27: Descrição do andamento da ação | B27: Colocar as informações de andamento da ação, como foi feito, destaques da implementação, informações relevantes do andamento da ação. Observação: lembre-se que esse campo é importante para a análise das ações e servirá como um histórico de andamento da ação
A28: Produto obtido | B28: Citar os produtos que foram obtidos durante a execução da ação. Se o produto não for o planejado, justificar a integração ou ajustar o produto no campo de reprogramação. Observação: aqui não é para descrever o produto, somente citá-lo. Os produtos devem ser inseridos no SEI.
A29: Problemas enfrentados que justificam a não execução, a execução parcial da ação, a exclusão ou o agrupamento | B29: Registrar quais foram os problemas enfrentados para execução da ação. Caso já tenha alguma sugestão para soluciona-lo, colocar no campo Recomendações ou Observações.
A30: Responsável pela informação sobre o andamento da ação | B30: Inserir quem registrou as informações de descrição, produto, problemas e recomendações.
A31: Recomendações ou Observações | B31: Informações ou sugestões relevantes para a execução da ação.
A32: Reprogramação das ações Indica as reprogramações das ações relativas à revisão de: texto da ação, produto, resultado esperado, período (data de início e data de término), articulador, estimativa de custo, colaboradores, localização (localidades e área de relevância) e recomendações gerais/observações.
A33: Revisão do texto da ação | B33: Ajuste das informações referente ao texto da ação
A34: Revisão do produto da ação | B34: Ajuste das informações referente ao produto da ação
A35: Revisão do resultado esperado | B35: Ajuste das informações referente ao resultado esperado
A36: Revisão da data de início | B36: Ajuste referente a data de início da ação
A37: Revisão da data de término | B37: Ajuste referente a data final da ação
A38: Revisão do articulador da ação | B38: Ajuste referente ao articulador da ação
A39: Revisão do custo estimado | B39: Ajuste referente ao custo estimado da ação
A40: Revisão dos colaboradores | B40: Ajustes referente aos colaboradores da ação
A41: Revisão das localidades | B41: Ajuste referente a localidade da ação
A42: Revisão Área de Relevância | B42: Ajuste referente a área de abrangência da ação
A43: Revisão das Observações | B43: Ajuste referente às observações da ação
A44: Revisão da Linha Temática | B44: Ajuste referente à classificação temática da ação
...

Sheet Monitoria Anual - 1
A1: PLANO DE AÇÃO NACIONAL DE CONSERVAÇÃO DE ESPÉCIES AMEAÇADAS DE EXTINÇÃO - PAN
A2: Plano de Ação Nacional para a Conservação dos Insetos Polinizadores Ameaçados de Extinção - PAN Insetos Polinizadores
A4: Objetivo geral do PAN | B4: Reduzir o risco de extinção dos insetos polinizadores, com ações integradas da sociedade civil e instituições governamentais, promovendo a conservação de seus habitats e a manutenção das funções e serviços ecossistêmicos de polinização
A6: Data da monitoria | B6: 04/03/2024 - 12/03/2024 (virtual) | AQ6: Agrupada
AQ7: Excluída
A8: PLANEJAMENTO DO PAN | O8: SITUAÇÃO ATUAL | Z8: REPROGRAMAÇÃO DO PAN
A9: OBJETIVOS ESPECÍFICOS | B9: Nº | C9: Ação | D9: Produto | E9: Resultados esperados | F9: Período | H9: Articulador | I9: Custo estimado (R$) | J9: Colaboradores | K9: Localização | M9: Observações | N9: Linha Temática | O9: Ação cujo início planejado é posterior ao período monitorado | P9: Ação não iniciada ou não concluída no prazo previsto | Q9: Ação em andamento com problemas de realização | R9: Ação em andamento no período previsto | S9: Ação concluída | T9: Ação excluída ou agrupada | U9: Descrição do andamento da ação | V9: Produto obtido | W9: Problemas enfrentados que justificam a não execução, a execução parcial da ação, a exclusão ou o agrupamento | X9: Responsável pela informação sobre o andamento da ação | Y9: Recomendações ou Observações | Z9: Revisão do texto da ação | AA9: Revisão do produto da ação | AB9: Revisão do resultado esperado | AC9: Revisão da data de início | AD9: Revisão da data de término | AE9: Revisão do articulador da ação | AF9: Revisão do custo estimado | AG9: Revisão dos colaboradores | AH9: Revisão das localidades | AI9: Revisão Área de Relevância | AJ9: Revisão das observações | AK9: Revisão da Linha Temática
F10: Início | G10: Fim | K10: Localidades | L10: Área de Relevância
A11: 1. Redução do uso e dos efeitos nocivos, diretos e indiretos, de agrotóxicos e de outras substâncias tóxicas sobre os insetos polinizadores e suas plantas associadas | B11: 1.1 | C11: Propor a inserção curricular de temas relacionados à proteção e manejo de insetos polinizadores, sua importância, melhores práticas agroambientais e uso sustentável nos cursos técnicos e superiores relacionados às ciências agrárias, da natureza, ambientais, medicina veterinária e de formação de professores | D11: Proposta encaminhada aos órgãos competentes | E11: As instituições incorporarem as temáticas relacionadas aos insetos polinizadores nos cursos técnicos e superiores | F11: 45292 | G11: 45809 | H11: André Rech (UFVJM) | I11: 0 | J11: Ponto focal NG4-Paula Calaça (FUNED); Maria Cristina Lorenzon (UFRRJ) | K11: Em todo país | L11: Todos os NGs | P11: x | AA11: Material formativo online / Módulo interdisciplinar de formação (disciplinas multiuniversidade) | AG11: Yasmine Antonini (UFOP) | AJ11: Roberta vai verificar a possibilidade de hospedar o curso na UFSCar; módulo online da A.B.E.L.H.A.?
B12: 1.2 | C12: Produzir e divulgar materiais sobre o papel dos polinizadores silvestres na agricultura, da diversificação de cultivos e a transição agroecológica, com foco na conservação dos polinizadores e na manutenção do serviço de polinização nos agroecossistemas | D12: Manual de boas práticas agroecológicas e produção orgânica; Materiais educativos, metodologias e conhecimento disponibilizados para as instituições e órgãos de ATER | E12: Maior disponibilização de informações que propiciem a conservação de polinizadores e o serviço de polinização na agricultura | F12: 44927 | G12: 45689 | H12: Kátia Braga (Embrapa Meio Ambiente) | I12: 70.000.00 | J12: Ana Luiza Bovoy (LERF-USP), Maria Cristina Lorenzon (UFRRJ) | K12: Áreas estratégicas para a conservação das espécies-alvo do PAN; SP, MG, RJ | L12: Todos os NGs | M12: Focar nas áreas prioritárias para conservação dos polinizadores (Priscilla); Auxilia a ação 1.3; O levantamento será realizado com agricultores familiares, na presença e participação de agentes de ATER, em oficinas-piloto presenciais, das quais também sairão propostas (protótipos) de materiais para sensibilização e capacitação de outros agentes das redes de ATER. Assim, a partir de demandas concretas de conhecimento sobre a temática, esses outros agentes uma vez sensibilizados e capacitados estarão aptos a sensibilizar e capacitar outros agricultores. De acordo com a natureza do conhecimento demandado, será possível definir as metodologias mais adequadas a serem empregadas para o uso dos materiais propostos pelos próprios agricultores, juntamente com os agentes de ATER. | R12: x | U12: Foram submetidos dois projeto (um em outubro de 2023 e outro em janeiro de 2024) visando a implementação desta ação. | X12: Kátia Braga | Y12: Caso nenhum dos dois projetos submetidos sejam aprovados, entendemos que não será possível a execução da ação 1.2 conforme planejada e definida inicialmente; contudo, talvez seja possível incluí-la, com alguns ajustes, junto a execução da ação 1.3, caso esta disponha de recursos que possam viabilizar pelo menos parte das "oficinas-piloto" (conforme descrito nas observações da ação 1.2). Sobre o auxilio desta ação à 1.3: o levantamento será realizado com agricultores familiares, na presença e participação de agentes de ATER, em oficinas-piloto presenciais, das quais também sairão propostas (protótipos) de materiais para sensibilização e capacitação de outros agentes das redes de ATER. Assim, a partir de demandas concretas de conhecimento sobre a temática, esses outros agentes uma vez sensibilizados e capacitados estarão aptos a sensibilizar e capacitar outros agricultores. De acordo com a natureza do conhecimento demandado, será possível definir as metodologias mais adequadas a serem empregadas para o uso dos materiais propostos pelos próprios agricultores, juntamente com os agentes de ATER. Focar nas áreas prioritárias para conservação dos polinizadores (Priscilla); O levantamento será realizado com agricultores familiares, na presença e participação de agentes de ATER, em oficinas-piloto presenciais, das quais também sairão propostas (protótipos) de materiais para sensibilização e capacitação de outros agentes das redes de ATER. Assim, a partir de demandas concretas de conhecimento sobre a temática, esses outros agentes uma vez sensibilizados e capacitados estarão aptos a sensibilizar e capacitar outros agricultores. De acordo com a natureza do conhecimento demandado, será possível definir as metodologias mais adequadas a serem empregadas para o uso dos materiais propostos pelos próprios agricultores, juntamente com os agentes de ATER. | AA12: Manual de boas práticas agroecológicas e produção orgânica associadas a conservação de polinizadores; Materiais educativos, metodologias e conhecimentos disponibilizados para as instituições e órgãos de ATER | AG12: Roberta Nocelli, Bruno Aranda (SEMIL - bharanda@sp.gov.br) | AJ12: IPESP
B13: 1.3 | C13: Apoiar a assistência técnica para capacitar os agricultores para manutenção do serviço de polinização e diminuição do uso de agrotóxicos incluindo: manejo integrado de pragas e doenças, diversificação de cultivos e a transição agroecológica | D13: Projetos de qualificação, sensibilização e capacitação de agentes de ATER; Curso de capacitação para pequenos produtores; Divulgação sobre a adoção de técnicas alternativas ao uso de agrotóxicos nos empreendimentos produtivos de larga escala, especialmente naqueles dependentes de polinizadores | E13: Diminuição do uso de agrotóxicos e utilização de práticas amigáveis aos polinizadores | F13: 45139 | G13: 46539 | H13: José Luis (Emater/MG) | I13: 150.000.00 | J13: Ponto focal NG5-Silvia Pizzol; Osmar Mosca (CATI/APAER-SP), Carolina Matos (CATI-CDRS/SAA-SP), Ana Assad (Associação A.B.E.L.H.A.), Carlos Morais (EMATER-DF) | K13: MG | L13: Todos os NGs | M13: Ver ação 1.2. Visar o aumento da rentabilidade; Colaborar com a elaboração da Política Nacional de Uso e Conservação dos Serviços de Polinização e dos Polinizadores; Capacitar também os técnicos das empresas de agrotóxicos, pois muitas vezes eles são os responsáveis pela assistência técnica aos chamados "produtores parceiros". APAER (Associação Paulista de Extensão Rural), faz parte da FASER (Federação Nacional dos Trabalhadores da Assistência Técnica, Extensão Rural e da Pesquisa do Setor Público Agrícola do Brasil); | P13: x | AG13: Trocar Osmar Mosca por Aline Bernardes Cândido dos Santos - alinebc@sp.gov.br | AJ13: Conversar com Ana Assad (projeto Observatório da Abelhas)
B14: 1.4 | C14: Incentivar estudos para proposição de zonas livres de agrotóxicos em áreas de ocorrência de insetos polinizadores ameaçados | D14: Projeto de pesquisas para definição de zonas de exclusão de agrotóxico; Editais e Chamadas para Pesquisa de zonas de exclusão de agrotóxico; | E14: Redução dos impactos causados pelos agrotóxicos | F14: 45078 | G14: 45505 | H14: Onildo Marini (CBC/ICMBio) | I14: 90.000.00 | J14: Ingrid Gruber (MAPA/SDI/CGPA) | K14: Áreas estratégicas para a conservação das espécies-alvo do PAN; Mosaicos de Unidades de Conservação da Serra do Cipó, do Quadrilátero Ferrífero e do Alto Jequitinhonha - Serra do Cabral | L14: Todos os NGs | M14: Incluir no texto da PL 6670/2016 que institui a Política Nacional de Redução de Agrotóxicos (PNARA) (prevê a criação de zonas de uso restrito e zonas livres de agrotóxicos, sobretudo perto de moradias, escolas, recursos hídricos e áreas ambientalmente protegidas), as áreas de ocorrência de insetos polinizadores ameaçados ou buscar formas para que as áreas de ocorrência de insetos polinizadores ameaçados fossem incluídas na(s) legislação(ões) pertinentes, como áreas ambientalmente protegidas; focar esforços nas classes de agrotóxicos comprovadamente danosas aos insetos polinizadores, como neonicotinóides (imidaclopride, thiametoxan, clotianidina e pirazóis (fipronil) | Q14: x | U14: A ação está sendo planejada e em breve começara execução apoiada pela bolsista do PAN, Priscilla | X14: Hannah | AD14: jan./2025 | AG14: Roberta Nocelli | AJ14: indicação de colaboração: Lídia Barreto (UNITAU); Ações envolvendo educação ambiental e comunicação, sugiro incluir o Bruno Aranda da Coordenadoria de Fauna Silvestre de SP (bharanda@sp.gob.br)
B15: 1.5 | C15: Propor e colaborar com a construção da Política Nacional de Uso e Conservação dos Serviços de Polinização e dos Polinizadores | D15: Proposta de projeto de lei com os dispositivos que foram feitos neste PAN | E15: Legilsação de proteção aos polinizadores implementada | F15: 45292 | G15: 45809 | H15: Kayna Agostini (REBIPP; UFSCAR) | I15: 0 | J15: Ponto focal NG4-André Rech (UFVJM); Ingrid Gruber (MAPA/SDI/CGPA), Marcella Teixeira (MAPA), Carolina Matos (SAA-SP), Leandro Freitas (JBRJ), Ana Assad (Associação A.B.E.L.H.A.), José Eustáquio dos Santos Júnior (AMPLO/UFMG), Tereza Cristina Giannini (Instituto Tecnológico Vale), Ana Luiza Bovoy (LERF-USP), Juliana Hipólito (UFBA) | K15: Em todo país | L15: Todos os NGs | M15: Ação transversal | R15: x | U15: Em contato com o MMA e MAPA para assinatura da Coalização do Promote Pollinators e tentando articular para marcar reuniões para tentar iniciar a articulação de uma Política Pública. Membros da REBIPP estão envolvidos nesta ação: Juliana Hipólito, Luisa Carvalheiro, Marcia Maues, Marina Wolowski e eu. | V15: Elaboração de uma carta para contato com MMA e MAPA para apresentar a importância da assinatura da Coalização do Promote Pollinator e de pensar em uma política pública | X15: Kayna Agostini | AA15: Workshop para discussão de PSA de polinização; Iniciativas oficiais direcionadas ao uso e conservação dos polinizadores (relatórios) | AG15: Silvana Back (SIMA-SP) | AJ15: Essa ação estaria "Em andamento"; a proposta já existe (REBIPP)
B16: 1.6 | C16: Incentivar estudos para proposição de parâmetros de toxicidade de metais pesados para polinizadores | D16: Relatórios com parâmetros de toxicidade de metais pesados para polinizadores definidos e encaminhados aos órgãos competentes | E16: Redução de substâncias tóxicas sobre os polinizadores | F16: 45139 | G16: 45474 | H16: Yasmine Antonini (UFOP) | I16: 0 | J16: José Eustáquio dos Santos Júnior (AMPLO/UFMG) | K16: Em todo país | L16: Todos os NGs | M16: https://br.boell.org/sites/default/files/agrotoxicos-no-brasil-mobile.pdf | R16: x | U16: Desenvolvimento de meta análises para avaliar as concentrações de metais pesados a que as abelhas estão sendo submetidas. Fase inicial, mas deverá ser desenvolvida uma primeira versão do manuscrito até setembro/2024. | X16: Yasmine Antonini | AJ16: Manuscrito esperado para setembro/outubro
B17: 1.7 | C17: Propor aos órgãos competentes um programa de monitoramento de resíduos de agrotóxicos em diferentes matrizes (solo, água, plantas) nas áreas de ocorrência das espécies focais do PAN | D17: Proposta de programa nacional de monitoramento dos acidentes de mortalidade de abelhas com análise de resíduos de agrotóxicos | E17: Programa de monitoramento implementado | F17: 44927 | G17: 45444 | H17: Roberta Nocelli (UFSCar) | I17: 0 | J17: José Eustáquio dos Santos Júnior (AMPLO/UFMG), Ana Assad (Associação A.B.E.L.H.A.), Andrigo Monroe Pereira (Eurofins), Roberto Araujo (CROPLIFE Brasil) | K17: Áreas estratégicas para a conservação das espécies-alvo do PAN | L17: Todos os NGs | M17: Colaborar com a elaboração da Política Nacional de Uso e Conservação dos Serviços de Polinização e dos Polinizadores | R17: x | X17: Roberta Nocelli | AA17: Levantamento de laboratórios para análise nos estados; elaboração de método simples de análise em campo nos estados | AD17: dez./2024 | AJ17: Roberta acredita que não consegue entregar o relatório até junho; "Em andamento". Problemas de fiscalização afeta as ações​. Para monitorar qualidade de água e ar, sugiro convidar técnicos da CETESB, pois eles já fazem esse monitoramento de rotina em algumas áreas. ​
B18: 1.8 | C18: Articular com órgãos e instituições de fomento o estímulo a editais/fontes para pesquisas científicas no campo de avaliação de impacto dos agrotóxicos e outras substâncias tóxicas sobre as populações de insetos polinizadores alvos do PAN e os recursos por eles explorados | D18: Proposta de editais de pesquisas sobre a avaliação de risco e padrões de segurança no uso de agrotóxicos, utilizando como parâmetro os efeitos letais e subletais em abelhas nativas em diversas fases de seu desenvolvimento | E18: Redução do impacto de agrotóxico sobre os insetos polinizadores | F18: 44958 | G18: 46539 | H18: Roberta Nocelli (UFSCar) | I18: 0 | J18: Pontos focais: NG3-Favízia Freitas de Oliveira (UFBA), NG4-André Rech (UFVJM), NG5-Leandro Freitas (JBRJ); Patricia Tavares (CPRH-PE), Ana Assad (Associação A.B.E.L.H.A.) | K18: Todos os NGs | L18: Todos os NGs | M18: Possíveis estudos a serem desenvolvidos: Lista dos produtos químicos mais agressivos para os insetos polinizadores para propor restrições nas áreas de ocorrência das espécies do PAN; Indicação das áreas de maior uso de agrotóxicos para propor restrições nas áreas de ocorrência das espécies do PAN; Articular o fomento a pesquisas para mapeamento da dinâmica da paisagem e do uso de agrotóxicos nas áreas de ocorrência dos insetos polinizadores alvo do PAN | Q18: x | X18: Roberta Nocelli | AA18: Levantamento e divulgação de editais abertos para proteção de insetos polinizadores; portifólio de produtos de controles biológicos e produtos menos tóxicos para controle da praga em questão | AJ18: "Em andamento"
B19: 1.9 | C19: Sistematizar as evidências de mortalidade de abelhas por agrotóxicos visando a proposição de ações de conservação | D19: Relatório com os efeitos dos agrotóxicos sobre os polinizadores | E19: Redução do uso de agrotóxicos | F19: 44927 | G19: 46054 | H19: Roberta Nocelli (UFSCar) | I19: 100.000.00 | J19: Ponto focal NG2-Favízia Freitas de Oliveira (UFBA); José Eustáquio dos Santos Júnior (AMPLO/UFMG), Alexandre Krob (Instituto Curicaca), Betina Blochtein (PUC-RS), Andrigo Monroe Pereira (Eurofins), Roberto Araujo (CROPLIFE Brasil), Carlos Morais (EMATER-DF) | K19: Em todo país | L19: Todos os NGs | M19: Produtos podem subsidiar a Política Nacional de Uso e Conservação dos Serviços de Polinização e dos Polinizadores; Compilação dos conhecimentos sobre o uso de medidas mitigadoras como o barreiramento efetivo para redução da deriva aérea de agrotóxicos (ver a lei estadual José Maria do Tomé - nº 16.820/19); Focar esforços nas classes de agrotóxicos comprovadamente danosas aos insetos polinizadores, como neonicotinóides (imidaclopride, thiametoxan, clotianidina e pirazóis (fipronil); Auxilia a ação 1.11; Subsídios para elaboração de normas para mitigação dos efeitos, a proibição ou a restrição da pulverização com agrotóxicos em áreas de interesse para a conservação e outras normas de restrição para produtos comprovados como danosos aos insetos polinizadores | Q19: x | X19: Roberta Nocelli | AA19: Observatório das abelhas do Brasil | AJ19: "Em andamento"
B20: 1.10 | C20: Avaliar as políticas atualmente existentes sobre polinizadores, serviço ecossistêmico de polinização e agrotóxicos | D20: Relatórios sobre a avaliação de eficácia das políticas existentes | F20: 44958 | G20: 45292 | H20: Ana Assad (Associação A.B.E.L.H.A.) | I20: 45.000.00 | J20: Ingrid Gruber (MAPA), Roberta Nocelli (UFSCar) | K20: Em todo país | L20: Todos os NGs | M20: Análise de impacto regulatório ex post (OCDE); análise posterior; Manual da Casa Civil | Q20: x | U20: Implantação do projeto “Observatório das Abelhas do Rio Grande do Sul”, uma parceria do Ministério Público com a ABELHA, Embrapa Meio Ambiente e empresas, por meio da assinatura de Termo de Cooperação, com o objetivo de adotar a Plataforma Oficial de Dados Agrotag-Abelhas/Embrapa como ferramenta para a mitigação de mortandades de abelhas no Estado do Rio Grande do Sul; proporcionar treinamento e apoio com infraestrutura aos órgãos de defesa agropecuária e ambiental do Estado do Rio Grande do Sul para o atendimento das ocorrências com abelhas, e o registro harmonizado das informações na Plataforma Agrotag-Abelhas; prospectar resíduos de agrotóxico (exclusivamente de Fipronil) em laboratório certificado, em casos de mortandades de abelhas no Estado do Rio Grande do Su; implementar ações de capacitação, treinamento, divulgação sobre boas práticas agrícolas e apícolas, e facilitar o diálogo entre os setores envolvidos no tema; subsidiar a formulação e ampliação de políticas públicas para conservação de abelhas no Estado do Rio Grande do Sul, a partir dos dados da Plataforma Oficial de Dados do Observatório; e fomentar e mediar a discussão com os setores envolvidos na temática, em prol da redução de mortandades de abelhas. Projeto em fase inicial de implantação. | X20: Ana Assad
B21: 1.11 | C21: Subsidiar os órgãos competentes com informações obtidas a partir das ações de pesquisa que contribuam na delimitação das áreas prioritárias e produtos para fiscalização do uso de agrotóxicos | D21: Cartilhas elaboradas; Relatórios elaborados e encaminhados aos órgãos competentes | E21: Maior proteção aos insetos polinizadores | F21: 45047 | G21: 45444 | H21: Roberta Nocelli (UFSCar) | I21: 60.000.00 | J21: Pontos focais: NG3-Favízia Freitas de Oliveira (UFBA), NG5-Leandro Freitas (JBRJ); Ingrid Gruber (MAPA), Maria Cristina Lorenzon (UFRRJ), Ana Assad (Associação A.B.E.L.H.A.) | K21: Áreas estratégicas para a conservação das espécies-alvo do PAN | L21: Todos os NGs | M21: Ver Ação 1.9; Observar que sejam atendidas as especificidades dos produtos conforme rótulo dos produtos, especialmente aquelas relacionadas ao tipo de lavoura, tipo de praga, período de aplicação (de preferência fora do período de floração da cultura), quantidade, horário e formas de aplicação | P21: x | AA21: Excluir Cartilhas elaboradas | AC21: mar./2024 | AD21: fev./2025 | AG21: Priscilla | AJ21: Articular com ação 1.4
A22: 2. Promoção da conectividade, melhoria da qualidade e restauração dos habitats, visando o aumento de populações de polinizadores e sua diversidade genética | B22: 2.1 | C22: Promover ações de educação ambiental sobre a importância da conservação dos insetos polinizadores, destacando sua função social, ambiental e econômica | D22: Relatório de Atividades de sensibilização desenvolvidas pelas Instituições proponentes da atividade; Vídeos educomunicativos; Catálogo de Conscientização sobre a importância dos polinizadores e indicação de atividades individuais: do setor produtivo e dos agentes de estado; Atividades educativas realizadas em escolas e com agentes do setor produtivo, e à distância; Documento elaborado e divulgado a respeito dos efeitos dos agrotóxicos sobre os polinizadores para quem utiliza, comercializa, prescreve e para agentes de órgãos regulatórios, fiscalizadores e conselhos profissionais); Cartilha e outros materiais técnicos pedagógicos elaborado em conjunto com as Instituições de cada Bioma de cada estado; | E22: População sensibilizada sobre a importância da conservação dos insetos polinizadores | F22: 44927 | G22: 46722 | H22: Alessandra Azevedo (SEMAS-PA) | I22: 230.000.00 | J22: Pontos focais: NG1-Marlúcia Martins (MPEG), NG4-Alexsander Azevedo (Instituto Biotrópicos), NG5-Cynira da Silva Gabriel (Consultora Independente), NG6-Kleber Del Claro (UFU); Gilson Miranda (Associação Caatinga), Aline Andrade (CEMAFAUNA/UNIVASF), Maria Cristina Vieira (Associação de RPPNs), Bruno Martins (IAT-PR), Nivia Pereira (IDEFLOR-Bio), Gustavo Feliciano (FF-SP), Carolina Matos (CATI-CDRS/SAA-SP), Alistair Campbell (Embrapa), Andressa Lima (JBRJ), Marianna Pinho (INEMA-BA), Augusto Ventura (FJPO-Campinas), Alexandre Krob (Instituto Curicaca), Amabílio Camargo (Embrapa Cerrados), Ana Claudia Silva (MPEG), Ana Luiza Bovoy (LERF-USP), Maíra Figueiredo Goulart (UFVJM), Ana Assad (Associação A.B.E.L.H.A.), Laura Braga (UFOP), Eliana Fontes (Embrapa), Carlos Morais (EMATER-DF), Felipe Saldanha (ABPEducom), Amabílio Camargo (Embrapa Cerrados), Helena Maura Torezan Silingardi (UFU), Márcia Ribeiro (Embrapa Semiárido), Karina Schmidt Furieri (UFES), Cristiano Krepsky (FJPO), Maristela Zamoner (ICTBIO/Museu Botânico Municipal de Curitiba), Carmem Pires (Embrapa) | K22: Áreas estratégicas para a conservação das espécies-alvo do PAN; PA; MG (municípios do planalto de Diamantina), Mosaico de Áreas Protegidas do Espinhaço: Alto Jequitinhonha-Serra do Cabral | L22: Todos os NGs | M22: Iniciativa Educação Ambiental; Campanhas por rádio (podcast) e redes sociais; Público alvo: produtores rurais e populações locais; considerar os PRADs e projetos de adequação ambiental das propriedades rurais; Trabalhar mídias gráficas com desenhos que facilitem a transmissão da mensagem; Catálogos digitais; campanhas no Dia mundial das abelhas; Projeto "Polinizadores do Brasil" produziu muitas informações, verificar o que pode ser divulgado; Considerar a necessidade de manter áreas livres de contaminantes nas áreas de ocorrência das espécies-alvo do PAN; Indicar o papel dos polinizadores e esclacecer sobre os estressores associados ao processo de ameaça às espécies. Discutir um canal de divulgação das leis num formato acessível e técnicas gerais, denúncias; Campanha de divulgação e integração de informações sobre práticas agroecológicas, enfatizando os benefícios da agricultura orgânica e de boas práticas agrícolas; Curso de educação ambiental, abordando a importância dos insetos polinizadores para a conservação ambiental e produção de alimentos; Campanha de reconhecimento do valor intrínseco dos polinizadores e da proteção dos serviços de polinização como um componente permanente do processo de produção agrícola; Divulgação de pesquisas sobre ganho de rendimento de culturas por insetos polinizadores na agricultura orgânica, de forma a viabilizar a produção e o consumo de seus produtos; Elaborar campanhas de informação sobre a fragilidade de restingas e manguezais e a importância desses ambientes para a qualidade de vida em cidades (NG3); Divulgação sobre a importância e o valor dos serviços ambientais associados aos insetos polinizadores e boas práticas de conservação (NG6); | R22: x | U22: 1) ações pontuais de educação ambiental, com a utilização de abordagens diversas (feira, seminário, instalação de meliponário na ARIE Mata Santa Genebra e outros abrigos individuais em diferentes áreas do município de Campinas). As ações buscam abordar sobre a importância da conservação dos insetos polinizadores, destacando sua função social, ambiental e econômica. (Augusto) 2) ações de educação ambiental sobre a importância da conservação dos insetos polinizadores (Laura) 3) apoio a clubes de ciências sobre polinizadores em escolas da rede pública (Maria Gaglianone). As ações que realizei estão ligadas diretamente às minhas atividades de pesquisa e extensão, que convergem com algumas ações do PAN (Maria G.) 4) a Secretaria de Estado onde atuo possui o programa chamado Poliniza Paraná, que visa sensibilizar e chamar a atenção da população para a importância dos insetos polinizadores (em especial das abelhas nativas sem ferrão), por meio da instalação de meliponários e jardins de mel ao redor do estado. Além disso, durante o verão são realizadas atividades educativo-ambientais com os veranistas que visitam o litoral paranaense. Parte dessas atividades envolvia a abordagem pontual de se falar sobre a importância da polinização e dos polinizadores. Esses dois exemplos podem, talvez, contribuir com o atendimento da ação 2.1 (Bruno) 5) Desenvolvemos ação de extensão através de um programa: Programa de Extensão “Nossa riqueza Natural com Ciência para Todos” envolvendo a comunidade do entorno do Pico do Jabre onde se encontra a espécie alvo do PAN no NG2, Heraclides himeros baia. Palestras, encontros para ouvir a comunidade e troca de saberes sobre polinizadores. Elaboração de cartazes de espécies polinizadoras importantes que foi afixado na casa de apoio do Pico do Jabre (Solange) | V22: 1) Educação ambiental - Heraclides himeros baia (Solange) | W22: Não consegui me envolver nas ações e também saber o que estavam sendo feitos! Posso ajudar na sensibilização sobre a importância dos insetos! Temos muitas pessoas que acompanham nosso trabalho nas redes (Gilson); As ações implementadas vieram de projetos "secundários" (não diretamente relacionados ao PAN) que conversam com as ações do PAN (Laura); Não há projeto institucional sério e nem recursos específicos para realização das ações (Augusto); Participei das reuniões iniciais, entretanto não recebi contato nem informações dos articuladores ou outros colaboradores sobre o andamento das ações e da articulação entre os atores do PAN. Coloco-me à disposição para colaborar (Maria G.) Não desenvolvi atividades diretamente relacionadas atividades relacionadas à este PAN (Bruno) A maior dificuldade é financeira. As ações que planejamos quer na área da extensão como na pesquisa esbarram na falta de dinheiro. Contamos com o transporte da universidade, o qual nem sempre é efetivo e com a parceria das prefeituras dentro de suas limitações. Mesmo assim, obtivemos ótimos resultados e resposta das comunidades. Temos a intenção de continuar com o Programa de Extensão, com a popularização da ciência e os projetos de pesquisa que nos dão subsídios para a conservação (Solange) | X22: Augusto Ventura; Gilson Miranda; Laura Braga; Maria Gaglianone; Bruno Martins; Solange Kerpel | AG22: Inserir Fabiana e Maria Gaglianone, | AJ22: Criar Formulário Online para inserção em tempo real de todas as atividades relaizadas pelos diversos colaboradores do PAN; Gustavo da APA do Carmo pediu para inserir os produtos na ação (cartilhas das espécies e outros); convidar Bruno Aranda (indicação Silvana Back)
B23: 2.2 | C23: Realizar levantamentos da ocorrência das espécies-alvo nas áreas de distribuição potencial visando sanar lacunas geográficas (identificação de novas populações) e identificar seus habitats e plantas associadas | D23: Expedições de busca de populações remanescentes de espécies ameaçadas; Relatórios sobre as expedições; Incorporação de dados obtidos pelo PAN à rede SpLink e à base de dados do PAN; Modelagem de habitat das espécies alvo do PAN | E23: Projetos de pesquisa em desenvolvimento; catálogos com mapas de distribuição das espécies | F23: 44927 | G23: 45992 | H23: Onildo Marini (CBC/ICMBio) | I23: 1.000.000.00 | J23: Pontos focais: NG1-Patricia Drumond (Embrapa); NG2-Solange Kerpel (UFCG); NG3-Helder Canto (UFV); NG4-Yasmine Antonini (UFOP); Cynira da Silva Gabriel (Consultora Independente), Fernando Dias (UEL), Fernando Silveira (UFMG), Cristiano Menezes (Embrapa), José Eustáquio (AMPLO/UFMG), Favízia Oliveira (UFBA), Bruno Martins (IAT-PR), Marlúcia Martins (MPEG), Eduarda Menezes (BOMA;UFRJ), Augusto Ventura (FJPO-Campinas), Adalberto Medeiros Dantas (LEIIC-UFCG), Jairo Lizandro Schmitt (Feevsle/Cesmac), Jessé Marques da Silva Junior Pavão (Cesmac), Aldenir Feitosa dos Santos (Cesmac), Clauton Fonseca Sampaio (IFMA), Rosileudo Guedes (UFCG), Dora Canhos (CRIA), Laura Braga (UFOP), Ana Assad (Associação A.B.E.L.H.A.), Debora Pires Paula (Embrapa Recursos Genéticos e Biotecnologia), Isabel Alencar (IFES) | K23: Áreas estratégicas para a conservação das espécies-alvo do PAN | L23: Todos os NGs | M23: Incorporação de dados obtidos pelo PAN à rede speciesLink (verificar interface API, https://api.splink.org.br) | R23: x | U23: Visita a diferentes Coleções Entomológicas da América Latina para atualização das listagens de espécies de abelhas do Brasil e atualização das informações sobre a faixa de distribuição geográfica das espécies, incluindo aquelas alvo do PAN (quais?) (Favízia); expedições em busca de espécies alvo do PAN (Joiceya praeclarus, Parides burchellanus) (Hannah); Fizemos monitoramento da população de borboletas de forma contínua em 2022, 2023 e continuamos 2024, monitorando inclusive H. himeros baia, no Pico do Jabre e em uma nova área. | W23: A maior dificuldade é financeira. As ações que planejamos quer na área da extensão como na pesquisa esbarram na falta de dinheiro. Contamos com o transporte da universidade, o qual nem sempre é efetivo e com a parceria das prefeituras dentro de suas limitações. Mesmo assim, obtivemos ótimos resultados e resposta das comunidades. Temos a intenção de continuar com o Programa de Extensão, com a popularização da ciência e os projetos de pesquisa que nos dão subsídios para a conservação (Solange) | X23: Favízia Oliveira; Hannah Cascelli; Solange Kerpel | AG23: Yasmine se propôs a colaborar com a triagem dos materiais; [Cintia Lepesqueur (ICMBio/COPAN); Neuza Silva (ICMBio/CGCON) - NG1 (DF)] | AJ23: Estamos disponíveis para apoiar pesquisadores que queriam fazer levantamentos de espécies na RPPN Reserva Natural Serra das Almas e região em Crateús CE. Disponibilizo alimentação e estadia na UC ou outras atividades que possam contribuir na região ( Gilson Miranda).
B24: 2.3 | C24: Estudar a dinâmica populacional, tamanho efetivo e genética de populações de espécies alvo do PAN visando a sua conservação | D24: Estudos de ecologia de populações de polinizadores nativos; Relatórios; Artigos | E24: Conhecimento das populações de polinizadores ameaçados | F24: 44927 | G24: 46539 | H24: José Eustáquio dos Santos Júnior (AMPLO/UFMG) | I24: 500.000.00 | J24: Fernando Dias (UEL), Aline Andrade (CEMAFAUNA/UNIVASF), Bruno Martins (IAT-PR), Andressa Lima (JBRJ) | K24: Áreas estratégicas para a conservação das espécies-alvo do PAN | L24: Todos os NGs | M24: Considerar UCs; incentivar estudos de história natural de lepidópteros para registros florais | R24: x | U24: Projeto com Parides burchellanus: amostragem do rio Maranhão. Projeto submetido e aprovado via GBB com as populações da Serra da Canastra e de Brumadinho. | X24: Onildo Marini
B25: 2.4 | C25: Identificar e mapear áreas estratégicas e monitorar a perda e alteração da qualidade de habitats para promoção da conectividade visando a manutenção de populações de insetos polinizadores | D25: Mapa com as áreas estratégicas para a conservação das espécies-alvo do PAN; Localização de áreas estratégicas para restauração ecológica objetivando a conservação das espécies alvo do PAN; Detalhamento dos mapeamentos existentes de áreas degradadas para priorização da restauração de habitats importantes para o aumento da conectividade da paisagem para as espécies de polinizadores; Relatório com as áreas importantes para monitoramento da perda e alteração da qualidade de habitats | E25: Incorporação das áreas priorizadas em políticas públicas para conservação das espécies do PAN | F25: 44927 | G25: 45261 | H25: Onildo Marini (CBC/ICMBio) | I25: 52.800.00 | J25: Aline Andrade (CEMAFAUNA/UNIVASF), Alexandre Krob (Instituto Curicaca), Kleber Del Claro (UFU), Milton Cesar Ribeiro (UNESP/Rio Claro), Fabiano Farah (Viveiro Bioflora), Marlúcia Martins (Aliança pela Restauração na Amazônia), Leandro Freitas (JBRJ;REBIPP;SPIN), Alexandre Sampaio (CBC/ICMBio), Rachel Prado (Embrapa), Julia Shimbo e Magaly Oliveira (MapBiomas) | K25: Áreas estratégicas para a conservação das espécies-alvo do PAN; região noroeste do RS; PA; PE; MG; SP | L25: Todos os NGs | M25: Considerar levantamentos florísticos de espécies melitófilas e que sejam usadas para nidificação de polinizadores nativos; Verificar MapBiomas - uso da terra e MapBiomas - Alerta | R25: x | U25: 1) Foram desenvolvidas atividades que envolveram uma oficina no Cemafauna - Universidade Federal do Vale do São Francisco, Petrolina - PE, para apresentação das ações que serão implementadas regionalmente. A oficina contou com a participação de pesquisadores nas áreas de abrangência dos estados da Bahia e Pernambuco, membros da academia científica das seguintes instituições: UNIVASF, UPE, UFRPE, UFBA e UNEB, produtores agrícolas das grandes empresas exportadoras de frutas, criadores de abelhas, gestores de unidades de conservação, analistas do ICMBio e integrantes de órgãos governamentais estaduais voltados a Fiscalização e Planos de Trabalho de Conservação. A oficina contou com a presença do coordenador do PAN Insetos Polinizadores, Dr. Onildo Marini do ICMBio. Discutidas as Unidades de Conservação que seriam contempladas e quais metodologias seriam utilizadas para o monitoramento das abelhas nestas áreas, iniciou-se a montagem do cronograma já previsto nos planos de trabalho para as ações 2.4 que versa sobre "Identificar e mapear áreas estratégicas e monitorar a perda e alteração da qualidade de habitats para promoção da conectividade visando à manutenção de populações de insetos polinizadores" e 8.5 "Estimular projetos para controle populacional das abelhas exóticas em áreas estratégicas para conservação das espécies alvo do PAN"; em que estou como articuladora regional. Entre as estratégias para execução dos trabalhos, foram solicitadas e acatadas duas bolsas de alunos PIBIC e quatro alunos como estagiários voluntários. A atividade começou a ser desenvolvida em novembro de 2023, com a presença dos alunos nas atividades realizadas em laboratório. Tais atividades envolveram a organização da coleção das abelhas do Museu de Fauna da Caatinga, tombamento do material, estudos de chaves taxonômicas, discussão de artigos sobre a Ecologia, Comportamento Animal, Efeitos da fragmentação de habitat, Morfologia e Morfofisiologia das abelhas. Neste mês vindouro, entre os dias 18 e 22 de dezembro/2023 estaremos realizando a nossa primeira expedição de campo que irá se estender até novembro de 2024. Para esta atividade contaremos com a presença de um dos integrantes do GAT e taxonomista de Abelhas, o Dr. José Eustáquio (Aline) 2) Mapas das áreas estratégicas para conservação dos insetos ameaçados de extinção foram elaborados a partir de modelos de distribuição de espécie e dados de uso do solo. Os mapas foram gerados a partir da priorização de áreas para conservação no software Zonation e os resultados foram apresentados na Oficina do GAT em maio de 2023 em Brasília. A partir das análises e discussões do grupo, os modelos e mapas foram ajustados dando origem ao resultado final. Também foram gerados mapas de áreas estratégicas para os estados parceiros do PAN: Bahia, Minas Gerais, Pará e São Paulo (Priscilla) | V25: 1) Relatório (Aline) 2) Relatório e mapas de áreas estratégicas para conservação de insetos polinizadores ameaçados de extinção - nacional e dos estados parceiros BA, MG, PA e SP (Priscilla) | W25: Alinhamento dos pedidos de materiais e diárias para início das atividades (Aline) | X25: Aline Andrade; Priscilla Barbosa | Y25: O mapa de áreas estratégicas deve ser revisado com alguma frequência (bianual), a fim de incorporar novos dados disponíveis no Salve ou nas bases de dados utilizadas nos modelos e refinar os resultados obtidos (Priscilla)
B26: 2.5 | C26: Propor a incorporação de estratégias para manutenção da conectividade de remanescentes de vegetação nativa nas paisagens agrícolas e urbanas no processo de licenciamento ambiental | D26: Proposta encaminhada aos órgãos competentes (CAR) | E26: Maior conectividade | F26: 45505 | G26: 45809 | H26: Onildo Marini (CBC/ICMBio) | I26: 0 | J26: Patrik de Oliveira Aprigio (FJPO), Marlúcia Martins (Aliança pela Restauração na Amazônia) | K26: Áreas estratégicas para a conservação das espécies-alvo do PAN; PA; SP | L26: Todos os NGs | O26: x
B27: 2.6 | C27: Propor aos órgãos competentes a adoção de medidas que possibilitem maior conectividade e diversidade de habitats para os polinizadores e a conservação de habitats nativos no licenciamento de novos empreendimentos agrícolas e na elaboração dos Zoneamentos Ecológicos Econômicos. | D27: Relatório com as áreas importantes para a manutenção da diversidade de habitats para os polinizadores alvo do PAN; Proposta encaminhada aos órgãos competentes | E27: Maior conectividade e qualidade de habitat | F27: 45292 | G27: 45627 | H27: Onildo Marini (CBC/ICMBio) | I27: 0 | J27: Marlúcia Martins (Aliança pela Restauração na Amazônia; MPEG) | K27: Áreas estratégicas para a conservação das espécies-alvo do PAN; PA; MA | L27: Todos os NGs | M27: Transversal; Essa ação depende dos produtos da 2.4; Produtos: Elaborar, articular e divulgar diretrizes para orientar o ZEE visando aumentar a conectividade entre áreas importantes para a conservação das espécies alvo; 1) Guia de Boas Práticas para planejamento territorial (orientações técnicas para o planejamento territoral) 2) Reuniões, adesões ao guia | R27: x | AC27: mar./2024 | AD27: dez./2024 | AG27: Priscilla | AJ27: Produto da ação 2.4 como base para indicação de áreas
B28: 2.7 | C28: Elaborar um programa de monitoramento populacional para espécies-alvo do PAN | D28: Programa de monitoramento elaborado (e.g. Nyceryx mielkei) | E28: Definição dos parâmetros populacionais das espécies alvo do PAN: distribuição, abundância, variação espaço/temporal nas áreas sugeridas para execução desta ação | F28: 44927 | G28: 46539 | H28: Onildo Marini (CBC/ICMBio) | I28: 1.200.000.00 | J28: Ponto focal NG2-Aline Andrade (CEMAFAUNA/UNIVASF); Fernando Dias (UEL), Fabiano Farah (Bioflora), Marlúcia Martins (MPEG) | K28: Áreas estratégicas para a conservação das espécies-alvo do PAN; NG2; Cerrado: sul do MA e sudoeste de MT. UCs: PN da Chapada das Mesas (MA), PN Iguaçú (PR), ESEC da Serra das Araras (MT); PA; PE; BA; PB; CE (Regiões do submédio São Francisco) | L28: Todos os NGs | M28: A questão da implementação deve ser reavaliada na primeira monitoria do PAN e sua forma (centralizada, descentralizada); Posteriormente, o monitoramento poderia ser realizado em áreas regeneradas | Q28: x | U28: Foram feitas duas propostas para editais de fomento para a ação. Em uma das propostas, foi sugerido um programas de monitoramento para ser executado por bolsistas e a população local, essa proposta não foi executada. Na segunda proposta, o monitoramento a ser feito seria através de técnicas moleculares de eDNA (proposta submetida, ainda não aprovada) | X28: Hannah
B29: 2.8 | C29: Desenvolver estudos para avaliar a necessidade de reintrodução nas áreas de ocupação de insetos polinizadores ameaçados | D29: Estudos realizados; Relatórios; Artigos publicados | F29: 45292 | G29: 45992 | H29: José Eustáquio dos Santos Júnior (AMPLO | UFMG) | I29: 100.000.00 | J29: Aline Andrade (CEMAFAUNA/UNIVASF) | K29: Áreas estratégicas para a conservação das espécies-alvo do PAN | L29: Todos os NGs | M29: IN. 05/2021/ - GABIN/ICMBio: Programas de Manejo Populacional de Espécies Ameaçadas da Fauna Brasileira; Melipona fuliginosa teve redução de extensão de ocorrência, com extinções locais em SP e MG, tornando-a uma potencial candidata a reintrodução nestes estados; | P29: x | AJ29: Foi indicado que essa ação comece a se desenvolver a partir da Borboleta ribeirinha (Parides burchellanus); avaliar com a Marina Beirão e o IEF-MG/Vale/ área brumadinho.
B30: 2.9 | C30: Articular o fomento para restauração de habitats das espécies alvo e beneficiadas do PAN nas áreas identificadas como importantes para sua conservação | D30: Proposta de fomento para restauração encaminhada | E30: Mais recursos disponíveis para a conservação das espécies do PAN | F30: 44927 | G30: 46478 | H30: Ana Assad (Associação A.B.E.L.H.A.) | I30: 0 | J30: Maria Cristina Vieira (Associação de RPPNs), Cynira da Silva Gabriel (Consultora Independente), Carolina Matos (CATI-CDRS/SAA-SP), Desireé SilvaKatia Torres e Alexandre Sampaio (CBC/ICMBio), Marlúcia Martins (Aliança pela Restauração na Amazônia; MPEG), Angela Podolsky e José Eduardo Testa (APAVIVA), SAA/DSMM | K30: Áreas estratégicas para a conservação das espécies-alvo do PAN; PA; SP; MG; | L30: Todos os NGs | M30: Associar ao processo de licenciamento/ compensação ambiental; ver ações 2.25 e 2.26; Utilizar na restauração espécies que forneçam recursos para os polinizadores | Q30: x | U30: Podemos iniciar a ação submetendo proposta para o banco de projetos PCMA | X30: Hannah | AC30: jan./2024 | AJ30: Ação em andamento com problemas de execução; tem projeto aceito da Patrícia em PE
B31: 2.10 | C31: Adequar os protocolos de recuperação de ambientes visando a conservação das espécies alvo do PAN | D31: Recomendações aos protocolos de restauração considerando os insetos polinizadores | E31: Melhoria da qualidade dos fragmentos de vegetação existentes | F31: 44927 | G31: 45261 | H31: Desireé Silva Katia Torres (CBC/ICMBio) | I31: 20.000.00 | J31: Maria Cristina Vieira (Associação de RPPNs), Cynira da Silva Gabriel (Consultora Independente), Carolina Matos (CATI-CDRS/SAA-SP), Ana Luiza Bovoy (LERF-USP), Patrik de Oliveira Aprigio (FJPO), Onildo Marini (CBC/ICMBio), Hannah Farinasso (CBC/ICMBio), Alexandre Sampaio (CBC/ICMBio) | K31: Áreas estratégicas para a conservação das espécies-alvo do PAN | L31: Todos os NGs | M31: Enriquecimento com espécies melitófilas/polinizadores e manejo do solo; ver Ação 2.12; Verificar diretrizes e o grupo que deve ser chamado; Avaliação da necessidade de manejo de habitat para a conservação adequada de solos, protegendo locais de nidificação de abelhas e plantas melitófilas | S31: x | U31: Ação concluída, com elaboração de calendário de floração e cartilha para conservação de insetos polinizadores. | V31: 1) Calendário de floração <https://www.gov.br/icmbio/pt-br/assuntos/biodiversidade/pan/pan-insetos-polinizadores/1-ciclo/produtos/20240327-pan-insetos-polinizadores-acao-2-10-calendario-de-floracao-cbc.pdf> 2) Cartilha de Recomendações para Conservação dos Insetos Polinizadores na Restauração do Cerrado <https://www.gov.br/icmbio/pt-br/assuntos/biodiversidade/pan/pan-insetos-polinizadores/1-ciclo/produtos/20240327-pan-insetos-polinizadores-acao-2-10-recomendacoes-conservacao-insetos-polinizadores-na-restauracao-do-cerrado.pdf>
B32: 2.11 | C32: Articular a restauração de áreas degradadas propiciando o aumento da conectividade ambiental em áreas estratégicas para conservação das espécies alvo do PAN, considerando os cenários climáticos atuais e futuros | D32: Oficina para articulação de ações de restauração ecológica com órgãos financiadores, setor produtivo atuante na conservação, pontos focais dos Estados/Municípios identificados, ONGs, Sociedade Civil; Ações de restauração promovidas nas áreas estratégicas para a conservação das espécies-alvo do PAN | E32: Ações de restauração implementadas | F32: 44927 | G32: 46539 | H32: Aline Andrade (CEMAFAUNA/UNIVASF) | I32: 8.000.000.00 | J32: Pontos focais: NG5 e NG6-Carolina Matos (SAA-SP), NG1-Marlúcia Martins (Aliança para Restauração); Josy Zarur Matos (SEMA-RS), Alexandre Krob (Instituto Curicaca), Guilherme Faganello (Embira Ambiental), Eduarda Menezes (BOMA/UFRJ), Laís Santos de Assis (FJPO), Rosana Singer (JB-SEMA/RS), Ana Luiza Bovoy (LERF-USP), Luiz Fernando Duarte de Moraes (Embrapa Agrobiologia), Gudryan Barônio (UFVJM), Leonardo Vieira (IEF-MG), Ana Rovedder (UFSM), Ana Assad (Associação A.B.E.L.H.A.), Desireé SilvaKatia Torres e Alexandre Sampaio (CBC/ICMBio) | K32: Áreas estratégicas para a conservação das espécies-alvo do PAN; PA; PE; BA; PB; CE (Regiões do submédio São Francisco); RJ; SP; MG; RS | L32: Todos os NGs | M32: Depende da ação 7.3; Ver Ações 2.4, 2.10, 2.12 e 3.3; Priorizar a utilização das espécies de flora nativa utilizadas pelos polinizadores; Colaborar com a elaboração da Política Nacional de Uso e Conservação dos Serviços de Polinização e dos Polinizadores; Incentivar práticas de restauração de ecossistemas que auxiliem na mitigação dos impactos causados pelas mudanças climáticas nos polinizadores e serviços ecossistêmicos associados (NG1, NG6); Considerar o PRA e os PRADAS ao longo do processo de adequação ambiental e o uso de espécies benéficas aos polinizadores | Q32: x | U32: Trazer o CBC para essa ação | X32: Hannah | AJ32: Ação em andamento com problemas de execução; tem projeto aceito da Patrícia em PE
B33: 2.12 | C33: Divulgar listas com as espécies nativas da flora associadas aos polinizadores e incentivar a produção destas espécies em viveiros, assim como a rede de coleta de sementes, para plantio nos projetos de restauração ecológica, formação de corredores ecológicos e uso em Sistemas Agroflorestais biodiversos | D33: Listas de espécies nativa da flora regionais recomendadas encaminhadas; Relatórios | E33: Melhoria da qualidade e restauração dos habitats; Viveiros produzindo espécies nativas; Espécies nativas sendo utilizadas em projeto de restauração ecológica, formação de corredores ecológicos e uso em sistemas agroflorestais biodiversos; | F33: 44927 | G33: 45444 | H33: Cynira da Silva Gabriel (Consultora Independente) | I33: 42.000.00 | J33: Thais de Faria e Sousa (IEF-MG), Rosana Singer (SEMA-RS), Kátia Braga (Embrapa Meio Ambiente), Laís Santos de Assis (FJPO), Fabiano Farah (Viveiro Bioflora), APAVIVA (Angela Podolsky e José Eduardo Testa), Ana Luiza Bovoy (LERF-USP), Marlúcia Martins (Aliança pela Restauração na Amazônia; MPEG) | K33: Áreas estratégicas para a conservação das espécies-alvo do PAN; NG5, NG6 | L33: Todos os NGs | M33: Ver Ação 2.10; Ver exemplo da listas de espécies regionais de SP, que permite filtros para seleção do mix de espécies mais adequado para a região; APAVIVA possui sistema de coleta de sementes a partir da matriz de FES Mata Ribeirão Cahoeira /Campinas/SP; Sistemas Agroflorestais biodiversos podem ser utilizados na Reserva Legal e na APP e que também são adotados em áreas comuns por agricultores familiares e que tem enorme potencial para manter a diversidade de polinizadores pela oferta diversificada de recursos ao longo do tempo; o plantio de muvuca de sementes também deve ser estimulado. | Q33: x | U33: A Ação 2.12 está em andamento. Ainda estamos dentro do prazo, sendo possível nos reunir virtualmente nesse ano de 2024 para traçar a melhor estratégia para elaborar a lista de espécies nativa da flora regionais recomendadas. Também seria importante buscar junto com os colaboradores para identificar e conversar com os viveiros dentro dos respectivos biomas para abraçar a ideia (Cynira); Encaminhei as demandas das ações para os gerentes do setor para que pudessem incluir as ações nas atividades do setor do IEF (Thais); tenho trabalhado em outros projetos com levantamento de espécies nativas da flora brasileira associadas aos polinizadores nativos (particularmente abelhas) e pretendo, ainda este ano, compilar e divulgar, pelo menos, parte desses dados (Kátia Braga) | W33: A Ação 2.12 está em andamento, mas não sei até onde caminhou, pois não consegui propor nenhuma reunião para o planejamento da ação para que os pontos focais e colaboradores pudessem informar o melhor caminho dentro das suas competências. Ainda estamos dentro do prazo, sendo possível nos reunir virtualmente nesse ano de 2024 para traçar a melhor estratégia para elaborar a lista de espécies nativa da flora regionais recomendadas. Também seria importante buscar junto com os colaboradores para identificar e conversar com os viveiros dentro dos respectivos biomas para abraçar a ideia. Na minha visão a ideia é que seja nacional e não apenas um ou outro estado, que cada bioma possa produzir as espécies para os projetos de restaurações, formação de corredores ecológicos e uso em sistemas agroflorestais biodiversos. (Cynira); preciso entrar em contato com os setores do IEF que poderiam me apoiar nas ações. Pois trabalho regionalmente, não estou centralizada na sede do órgão (Thais); Colocar em contato articuladores de ações que possam estão relacionadas ou podem se complementar ou possam resultar em um mesmo produto (Kátia) | X33: Cynira Gabriel; Thais Sousa; Kátia Braga | Y33: Outro produto importante e possível para esta ação seria um manual com informações sobre tais plantas (impresso e/ou virtual - compatível com o uso no celular) para agricultores e agentes de ATER que também pode ser um dos produtos da ação 1.2 da qual sou articuladora (Kátia) | AD33: mar./2025 | AG33: Ana Luiza Bovoy (mestrado); Rosana Faria Singer; Carolina Matos | AJ33: Betina e Sidia possuem a lista dos polinizadores do RS; falar com Decio Gazzoni (coordenador do livro da Embrapa de plantas escolhidas por polinizadores)
