BEGIN:VCALENDAR
VERSION:2.0
PRODID:-//Plone.org//NONSGML plone.app.event//EN
X-WR-TIMEZONE:America/Sao_Paulo
BEGIN:VEVENT
SUMMARY:Chamada de trabalhos aberta para o IV Encontro da Rede Brasileira 
 de Repositórios Digitais / dias 10 e 11 de junho de 2026\, em Florianópo
 lis (SC)
DTSTART;TZID=America/Sao_Paulo;VALUE=DATE-TIME:20260610T090000
DTEND;TZID=America/Sao_Paulo;VALUE=DATE-TIME:20260611T180000
DTSTAMP;VALUE=DATE-TIME:20260422T091331Z
UID:c20d0ffa5d764934964754775151b92b@127.0.0.1
CREATED;VALUE=DATE-TIME:20260122T132634Z
LAST-MODIFIED;VALUE=DATE-TIME:20260122T132725Z
URL:https://www.gov.br/ibict/pt-br/fique-por-dentro/eventos/chamada-de-tra
 balhos-aberta-para-o-iv-encontro-da-rede-brasileira-de-repositorios-digita
 is-evento-sera-realizado-nos-dias-10-e-11-de-junho-de-2026-em-florianopoli
 s-sc-e-convida-a-comunidade-academica-e-tecnica-a-contribuir-com-experienc
 ias-pesquisas-e
END:VEVENT
BEGIN:VTIMEZONE
TZID:America/Sao_Paulo
X-LIC-LOCATION:America/Sao_Paulo
BEGIN:STANDARD
DTSTART;VALUE=DATE-TIME:20260221T230000
TZNAME:BRT
TZOFFSETFROM:-0200
TZOFFSETTO:-0300
END:STANDARD
END:VTIMEZONE
END:VCALENDAR
