BEGIN:VCALENDAR
PRODID:brasil.gov.agenda
VERSION:1.0
BEGIN:VEVENT
DTSTART:20171009T110000Z
DTEND:20171009T150000Z
DCREATED:20200505T033404Z
UID:Compromisso-8024609be7376c8e1739d0255a88c70a530b7eca
SEQUENCE:0
LAST-MODIFIED:20200505T033405Z
SUMMARY:Reunião sobre a Portaria MMA nº 350/2017 (Regularização do acesso ao PG e ao CTA)
DESCRIPTION:Despachos Internos
PRIORITY:3
TRANSP:0
END:VEVENT
END:VCALENDAR
