BEGIN:VCALENDAR
PRODID:brasil.gov.agenda
VERSION:1.0
BEGIN:VEVENT
DTSTART:20180717T133000Z
DTEND:20180717T150000Z
DCREATED:20200505T033340Z
UID:Compromisso-6f4529b738f3cd6265b7ab5eaee2fd56b37780d5
SEQUENCE:0
LAST-MODIFIED:20200505T033341Z
SUMMARY:Reunião com representantes do Ministério dos Transportes e Dnit
DESCRIPTION:Pauta: Corredor Bioceánico (Campo Grande / MS – Portos 
 do Norte do Chile)Participam:Ministério das Relações ExterioresSr.J
 oão Parkinson\, Ministro do Ministério das Relações Exteriores\, C
 oordenação-Geral de Assuntos Econômicos da América do Sul\, Centra
 l e do Caribe (CGDECAS) -Ministério dos TransportesBruno Marques\, Di
 retorFrancisco Franciolo -CoordenadorAline Figueiredo - DiretoraDnitAn
 gela Parente\, DiretoraCarla SouzaFabrício\, Diretor substituto da An
 gelaIbamaRicardo Zoghbi\, Coordenador-Geral da CGLIN
PRIORITY:3
TRANSP:0
END:VEVENT
END:VCALENDAR
