{"text_format":"1","workbook":"xlsx","n_sheets":13,"sheets":["Janeiro","Fevereiro","Março","Abril","Maio","Junho","Julho","Agosto","Setembro","Outubro","Novembro","Dezembro","Tabelas"],"not_rendered":{"charts":0,"images":0,"macros":1,"external_links":0,"defined_names":36,"comments":1,"pivot_tables":0},"unopened":[],"bounds":{"document_bytes":16777216,"sheet_cells":100000,"rows_first":2000,"rows_last":500,"rows_between":2000,"halvings":0,"cell_chars":16384,"cell_head_chars":4096},"cells_cut":0,"cells_raw":0,"read":"whole","date_system":"1900"}

{"sheet":"Janeiro","index":0,"n_rows":52,"n_cols":82,"rows_kept":52,"cut":false,"hidden":false,"merged":[[42,20,42,26],[41,20,41,26],[40,20,40,26],[40,28,40,34],[41,28,41,34],[43,20,43,26],[5,3,7,3],[5,4,7,4],[5,5,7,5],[1,0,1,42],[2,0,2,42],[3,0,3,42],[4,1,4,20],[4,23,4,34],[4,37,4,42],[42,2,42,8],[41,2,41,8],[40,2,40,8],[37,0,37,11],[40,11,40,18],[41,11,41,18],[42,11,42,18],[40,9,40,10],[41,9,41,10],[42,9,42,10],[43,2,43,8],[43,9,43,10],[43,11,43,18],[35,78,37,78],[35,79,37,79],[35,80,37,80],[5,75,5,81],[6,75,7,75],[6,81,7,81],[6,80,7,80],[6,79,7,79],[6,78,7,78],[6,77,7,77],[6,76,7,76],[35,81,37,81],[35,75,37,75],[35,76,37,76],[35,77,37,77],[5,74,7,74],[35,74,37,74],[5,43,5,73],[6,7,7,7],[6,10,7,10],[6,8,7,8],[5,6,5,11],[5,12,5,42],[6,6,7,6],[6,9,7,9],[6,11,7,11],[36,0,36,11],[35,0,35,11],[5,0,7,0],[5,1,7,1],[5,2,7,2]]}
[]
[]
["NOME DO HU"]
["ESCALA MENSAL DE TRABALHO"]
["DIVISÃO /SETOR/UNIDADE:",null,null,null,null,null,null,null,null,null,null,null,null,null,null,null,null,null,null,null,null,"MÊS:",null,"Janeiro",null,null,null,null,null,null,null,null,null,null,null,"ANO:",null,2023]
["NOME COMPLETO","SIAPE","     Registro Conselho Classe","Cargo","Vínculo","    C.H Sem","INTERVALO",null,null,null,null,null,"DIAS DO MÊS",null,null,null,null,null,null,null,null,null,null,null,null,null,null,null,null,null,null,null,null,null,null,null,null,null,null,null,null,null,null,"CÁLCULO DAS HORAS",null,null,null,null,null,null,null,null,null,null,null,null,null,null,null,null,null,null,null,null,null,null,null,null,null,null,null,null,null,null,"CH Men.","Dias"]
[null,null,null,null,null,null,"15' M","15' T","15' N","1H D","1H N","2H",1,2,3,4,5,6,7,8,9,10,11,12,13,14,15,16,17,18,19,20,21,22,23,24,25,{"$f":"IF(DAY(DATE(AL5,VLOOKUP(X5,Tabelas!M:N,2,0)+1,1)-1)>=26,26,\"\")","v":26},{"$f":"IF(DAY(DATE(AL5,VLOOKUP(X5,Tabelas!M:N,2,0)+1,1)-1)>=27,27,\"\")","v":27},{"$f":"IF(DAY(DATE(AL5,VLOOKUP(X5,Tabelas!M:N,2,0)+1,1)-1)>=28,28,\"\")","v":28},{"$f":"IF(DAY(DATE(AL5,VLOOKUP(X5,Tabelas!M:N,2,0)+1,1)-1)>=29,29,\"\")","v":29},{"$f":"IF(DAY(DATE(AL5,VLOOKUP(X5,Tabelas!M:N,2,0)+1,1)-1)>=30,30,\"\")","v":30},{"$f":"IF(DAY(DATE(AL5,VLOOKUP(X5,Tabelas!M:N,2,0)+1,1)-1)>=31,31,\"\")","v":31},null,null,null,null,null,null,null,null,null,null,null,null,null,null,null,null,null,null,null,null,null,null,null,null,null,null,null,null,null,null,null,null,"LM/LP/L","AB","FE","LC","CH","AF  "," Total Afast."]
[null,null,null,null,null,null,null,null,null,null,null,null,{"$f":"IF(M7<>\"\",IFERROR(VLOOKUP(WEEKDAY(CONCATENATE(M7,$X$5,$AL$5)),Tabelas!$I:$J,2,0),\"\"),\"\")","v":"DOM"},{"$f":"IF(N7<>\"\",IFERROR(VLOOKUP(WEEKDAY(CONCATENATE(N7,$X$5,$AL$5)),Tabelas!$I:$J,2,0),\"\"),\"\")","v":"SEG"},{"$f":"IF(O7<>\"\",IFERROR(VLOOKUP(WEEKDAY(CONCATENATE(O7,$X$5,$AL$5)),Tabelas!$I:$J,2,0),\"\"),\"\")","v":"TER"},{"$f":"IF(P7<>\"\",IFERROR(VLOOKUP(WEEKDAY(CONCATENATE(P7,$X$5,$AL$5)),Tabelas!$I:$J,2,0),\"\"),\"\")","v":"QUA"},{"$f":"IF(Q7<>\"\",IFERROR(VLOOKUP(WEEKDAY(CONCATENATE(Q7,$X$5,$AL$5)),Tabelas!$I:$J,2,0),\"\"),\"\")","v":"QUI"},{"$f":"IF(R7<>\"\",IFERROR(VLOOKUP(WEEKDAY(CONCATENATE(R7,$X$5,$AL$5)),Tabelas!$I:$J,2,0),\"\"),\"\")","v":"SEX"},{"$f":"IF(S7<>\"\",IFERROR(VLOOKUP(WEEKDAY(CONCATENATE(S7,$X$5,$AL$5)),Tabelas!$I:$J,2,0),\"\"),\"\")","v":"SAB"},{"$f":"IF(T7<>\"\",IFERROR(VLOOKUP(WEEKDAY(CONCATENATE(T7,$X$5,$AL$5)),Tabelas!$I:$J,2,0),\"\"),\"\")","v":"DOM"},{"$f":"IF(U7<>\"\",IFERROR(VLOOKUP(WEEKDAY(CONCATENATE(U7,$X$5,$AL$5)),Tabelas!$I:$J,2,0),\"\"),\"\")","v":"SEG"},{"$f":"IF(V7<>\"\",IFERROR(VLOOKUP(WEEKDAY(CONCATENATE(V7,$X$5,$AL$5)),Tabelas!$I:$J,2,0),\"\"),\"\")","v":"TER"},{"$f":"IF(W7<>\"\",IFERROR(VLOOKUP(WEEKDAY(CONCATENATE(W7,$X$5,$AL$5)),Tabelas!$I:$J,2,0),\"\"),\"\")","v":"QUA"},{"$f":"IF(X7<>\"\",IFERROR(VLOOKUP(WEEKDAY(CONCATENATE(X7,$X$5,$AL$5)),Tabelas!$I:$J,2,0),\"\"),\"\")","v":"QUI"},{"$f":"IF(Y7<>\"\",IFERROR(VLOOKUP(WEEKDAY(CONCATENATE(Y7,$X$5,$AL$5)),Tabelas!$I:$J,2,0),\"\"),\"\")","v":"SEX"},{"$f":"IF(Z7<>\"\",IFERROR(VLOOKUP(WEEKDAY(CONCATENATE(Z7,$X$5,$AL$5)),Tabelas!$I:$J,2,0),\"\"),\"\")","v":"SAB"},{"$f":"IF(AA7<>\"\",IFERROR(VLOOKUP(WEEKDAY(CONCATENATE(AA7,$X$5,$AL$5)),Tabelas!$I:$J,2,0),\"\"),\"\")","v":"DOM"},{"$f":"IF(AB7<>\"\",IFERROR(VLOOKUP(WEEKDAY(CONCATENATE(AB7,$X$5,$AL$5)),Tabelas!$I:$J,2,0),\"\"),\"\")","v":"SEG"},{"$f":"IF(AC7<>\"\",IFERROR(VLOOKUP(WEEKDAY(CONCATENATE(AC7,$X$5,$AL$5)),Tabelas!$I:$J,2,0),\"\"),\"\")","v":"TER"},{"$f":"IF(AD7<>\"\",IFERROR(VLOOKUP(WEEKDAY(CONCATENATE(AD7,$X$5,$AL$5)),Tabelas!$I:$J,2,0),\"\"),\"\")","v":"QUA"},{"$f":"IF(AE7<>\"\",IFERROR(VLOOKUP(WEEKDAY(CONCATENATE(AE7,$X$5,$AL$5)),Tabelas!$I:$J,2,0),\"\"),\"\")","v":"QUI"},{"$f":"IF(AF7<>\"\",IFERROR(VLOOKUP(WEEKDAY(CONCATENATE(AF7,$X$5,$AL$5)),Tabelas!$I:$J,2,0),\"\"),\"\")","v":"SEX"},{"$f":"IF(AG7<>\"\",IFERROR(VLOOKUP(WEEKDAY(CONCATENATE(AG7,$X$5,$AL$5)),Tabelas!$I:$J,2,0),\"\"),\"\")","v":"SAB"},{"$f":"IF(AH7<>\"\",IFERROR(VLOOKUP(WEEKDAY(CONCATENATE(AH7,$X$5,$AL$5)),Tabelas!$I:$J,2,0),\"\"),\"\")","v":"DOM"},{"$f":"IF(AI7<>\"\",IFERROR(VLOOKUP(WEEKDAY(CONCATENATE(AI7,$X$5,$AL$5)),Tabelas!$I:$J,2,0),\"\"),\"\")","v":"SEG"},{"$f":"IF(AJ7<>\"\",IFERROR(VLOOKUP(WEEKDAY(CONCATENATE(AJ7,$X$5,$AL$5)),Tabelas!$I:$J,2,0),\"\"),\"\")","v":"TER"},{"$f":"IF(AK7<>\"\",IFERROR(VLOOKUP(WEEKDAY(CONCATENATE(AK7,$X$5,$AL$5)),Tabelas!$I:$J,2,0),\"\"),\"\")","v":"QUA"},{"$f":"IF(AL7<>\"\",IFERROR(VLOOKUP(WEEKDAY(CONCATENATE(AL7,$X$5,$AL$5)),Tabelas!$I:$J,2,0),\"\"),\"\")","v":"QUI"},{"$f":"IF(AM7<>\"\",IFERROR(VLOOKUP(WEEKDAY(CONCATENATE(AM7,$X$5,$AL$5)),Tabelas!$I:$J,2,0),\"\"),\"\")","v":"SEX"},{"$f":"IF(AN7<>\"\",IFERROR(VLOOKUP(WEEKDAY(CONCATENATE(AN7,$X$5,$AL$5)),Tabelas!$I:$J,2,0),\"\"),\"\")","v":"SAB"},{"$f":"IF(AO7<>\"\",IFERROR(VLOOKUP(WEEKDAY(CONCATENATE(AO7,$X$5,$AL$5)),Tabelas!$I:$J,2,0),\"\"),\"\")","v":"DOM"},{"$f":"IF(AP7<>\"\",IFERROR(VLOOKUP(WEEKDAY(CONCATENATE(AP7,$X$5,$AL$5)),Tabelas!$I:$J,2,0),\"\"),\"\")","v":"SEG"},{"$f":"IF(AQ7<>\"\",IFERROR(VLOOKUP(WEEKDAY(CONCATENATE(AQ7,$X$5,$AL$5)),Tabelas!$I:$J,2,0),\"\"),\"\")","v":"TER"},1,2,3,4,5,6,7,8,9,10,11,12,13,14,15,16,17,18,19,20,21,22,23,24,25,26,27,28,29,30,31]
["FULANO 1",1,null,null,null,null,null,null,null,null,null,null,null,null,null,null,null,null,null,null,null,null,null,null,null,null,null,null,null,null,null,null,null,null,null,null,null,null,null,null,null,null,null,{"$f":"IF(A9<>\"\",IFERROR(VLOOKUP(M9,Tabelas!B:D,3,0),0),\"\")","v":0},{"$f":"IF(A9<>\"\",IFERROR(VLOOKUP(N9,Tabelas!B:D,3,0),0),\"\")","v":0},{"$f":"IF(A9<>\"\",IFERROR(VLOOKUP(O9,Tabelas!B:D,3,0),0),\"\")","v":0},{"$f":"IF(A9<>\"\",IFERROR(VLOOKUP(P9,Tabelas!B:D,3,0),0),\"\")","v":0},{"$f":"IF(A9<>\"\",IFERROR(VLOOKUP(Q9,Tabelas!B:D,3,0),0),\"\")","v":0},{"$f":"IF(A9<>\"\",IFERROR(VLOOKUP(R9,Tabelas!B:D,3,0),0),\"\")","v":0},{"$f":"IF(A9<>\"\",IFERROR(VLOOKUP(S9,Tabelas!B:D,3,0),0),\"\")","v":0},{"$f":"IF(A9<>\"\",IFERROR(VLOOKUP(T9,Tabelas!B:D,3,0),0),\"\")","v":0},{"$f":"IF(A9<>\"\",IFERROR(VLOOKUP(U9,Tabelas!B:D,3,0),0),\"\")","v":0},{"$f":"IF(A9<>\"\",IFERROR(VLOOKUP(V9,Tabelas!B:D,3,0),0),\"\")","v":0},{"$f":"IF(A9<>\"\",IFERROR(VLOOKUP(W9,Tabelas!B:D,3,0),0),\"\")","v":0},{"$f":"IF(A9<>\"\",IFERROR(VLOOKUP(X9,Tabelas!B:D,3,0),0),\"\")","v":0},{"$f":"IF(A9<>\"\",IFERROR(VLOOKUP(Y9,Tabelas!B:D,3,0),0),\"\")","v":0},{"$f":"IF(A9<>\"\",IFERROR(VLOOKUP(Z9,Tabelas!B:D,3,0),0),\"\")","v":0},{"$f":"IF(A9<>\"\",IFERROR(VLOOKUP(AA9,Tabelas!B:D,3,0),0),\"\")","v":0},{"$f":"IF(A9<>\"\",IFERROR(VLOOKUP(AB9,Tabelas!B:D,3,0),0),\"\")","v":0},{"$f":"IF(A9<>\"\",IFERROR(VLOOKUP(AC9,Tabelas!B:D,3,0),0),\"\")","v":0},{"$f":"IF(A9<>\"\",IFERROR(VLOOKUP(AD9,Tabelas!B:D,3,0),0),\"\")","v":0},{"$f":"IF(A9<>\"\",IFERROR(VLOOKUP(AE9,Tabelas!B:D,3,0),0),\"\")","v":0},{"$f":"IF(A9<>\"\",IFERROR(VLOOKUP(AF9,Tabelas!B:D,3,0),0),\"\")","v":0},{"$f":"IF(A9<>\"\",IFERROR(VLOOKUP(AG9,Tabelas!B:D,3,0),0),\"\")","v":0},{"$f":"IF(A9<>\"\",IFERROR(VLOOKUP(AH9,Tabelas!B:D,3,0),0),\"\")","v":0},{"$f":"IF(A9<>\"\",IFERROR(VLOOKUP(AI9,Tabelas!B:D,3,0),0),\"\")","v":0},{"$f":"IF(A9<>\"\",IFERROR(VLOOKUP(AJ9,Tabelas!B:D,3,0),0),\"\")","v":0},{"$f":"IF(A9<>\"\",IFERROR(VLOOKUP(AK9,Tabelas!B:D,3,0),0),\"\")","v":0},{"$f":"IF(A9<>\"\",IFERROR(VLOOKUP(AL9,Tabelas!B:D,3,0),0),\"\")","v":0},{"$f":"IF(A9<>\"\",IFERROR(VLOOKUP(AM9,Tabelas!B:D,3,0),0),\"\")","v":0},{"$f":"IF(A9<>\"\",IFERROR(VLOOKUP(AN9,Tabelas!B:D,3,0),0),\"\")","v":0},{"$f":"IF(A9<>\"\",IFERROR(VLOOKUP(AO9,Tabelas!B:D,3,0),0),\"\")","v":0},{"$f":"IF(A9<>\"\",IFERROR(VLOOKUP(AP9,Tabelas!B:D,3,0),0),\"\")","v":0},{"$f":"IF(A9<>\"\",IFERROR(VLOOKUP(AQ9,Tabelas!B:D,3,0),0),\"\")","v":0},{"$f":"IF(AND(A9<>\"\",E9=\"Ebserh\"),SUM(AR9:BV9)+COUNTIF(M9:AQ9,\"N*\")+COUNTIF(M9:AQ9,\"DN*\"),IF(AND(A9<>\"\",E9<>\"Ebserh\"),SUM(AR9:BV9),\"\"))","v":0},{"$f":"IF(A9<>\"\",COUNTIF(M9:AQ9,\"LM\")+COUNTIF(M9:AQ9,\"L*\")+COUNTIF(M9:AQ9,\"LP\"),\"\")","v":0},{"$f":"IF(A9<>\"\",COUNTIF(M9:AQ9,\"AB*\"),\"\")","v":0},{"$f":"IF(A9<>\"\",COUNTIF(M9:AQ9,\"FE\"),\"\")","v":0},{"$f":"IF(A9<>\"\",COUNTIF(M9:AQ9,\"LC\"),\"\")","v":0},{"$f":"IF(A9<>\"\",COUNTIF(M9:AQ9,\"CH*\"),\"\")","v":0},{"$f":"IF(A9<>\"\",COUNTIF(M9:AQ9,\"AF1\")+COUNTIF(M9:AQ9,\"AF2\")+COUNTIF(M9:AQ9,\"AF3\")+COUNTIF(M9:AQ9,\"AF4\")+COUNTIF(M9:AQ9,\"AF5\")+COUNTIF(M9:AQ9,\"AF6\")+COUNTIF(M9:AQ9,\"AF7\")+COUNTIF(M9:AQ9,\"AF8\")+COUNTIF(M9:AQ9,\"AF9\")+COUNTIF(M9:AQ9,\"AF10\")+COUNTIF(M9:AQ9,\"AF11\")+COUNTIF(M9:AQ9,\"AF12\")+COUNTIF(M9:AQ9,\"AF13\")+COUNTIF(M9:AQ9,\"AF14\"),\"\")","v":0},{"$f":"IF(A9<>\"\",COUNTIF(M9:AQ9,\"CH*\")+COUNTIF(M9:AQ9,\"L*\")+COUNTIF(M9:AQ9,\"LM\")+COUNTIF(M9:AQ9,\"LP\")+COUNTIF(M9:AQ9,\"LC\")+COUNTIF(M9:AQ9,\"AB*\")+COUNTIF(M9:AQ9,\"AF1\")+COUNTIF(M9:AQ9,\"AF2\")+COUNTIF(M9:AQ9,\"AF3\")+COUNTIF(M9:AQ9,\"AF4\")+COUNTIF(M9:AQ9,\"AF5\")+COUNTIF(M9:AQ9,\"AF6\")+COUNTIF(M9:AQ9,\"AF7\")+COUNTIF(M9:AQ9,\"AF8\")+COUNTIF(M9:AQ9,\"AF9\")+COUNTIF(M9:AQ9,\"AF10\")+COUNTIF(M9:AQ9,\"AF11\")+COUNTIF(M9:AQ9,\"AF12\")+COUNTIF(M9:AQ9,\"AF13\")+COUNTIF(M9:AQ9,\"AF14\")+COUNTIF(M9:AQ9,\"RC\")+COUNTIF(M9:AQ9,\"FO\")+COUNTIF(M9:AQ9,\"FE\"),\"\")","v":0}]
["FULANO 2",2,null,null,null,null,null,null,null,null,null,null,null,null,null,null,null,null,null,null,null,null,null,null,null,null,null,null,null,null,null,null,null,null,null,null,null,null,null,null,null,null,null,{"$f":"IF(A10<>\"\",IFERROR(VLOOKUP(M10,Tabelas!B:D,3,0),0),\"\")","v":0},{"$f":"IF(A10<>\"\",IFERROR(VLOOKUP(N10,Tabelas!B:D,3,0),0),\"\")","v":0},{"$f":"IF(A10<>\"\",IFERROR(VLOOKUP(O10,Tabelas!B:D,3,0),0),\"\")","v":0},{"$f":"IF(A10<>\"\",IFERROR(VLOOKUP(P10,Tabelas!B:D,3,0),0),\"\")","v":0},{"$f":"IF(A10<>\"\",IFERROR(VLOOKUP(Q10,Tabelas!B:D,3,0),0),\"\")","v":0},{"$f":"IF(A10<>\"\",IFERROR(VLOOKUP(R10,Tabelas!B:D,3,0),0),\"\")","v":0},{"$f":"IF(A10<>\"\",IFERROR(VLOOKUP(S10,Tabelas!B:D,3,0),0),\"\")","v":0},{"$f":"IF(A10<>\"\",IFERROR(VLOOKUP(T10,Tabelas!B:D,3,0),0),\"\")","v":0},{"$f":"IF(A10<>\"\",IFERROR(VLOOKUP(U10,Tabelas!B:D,3,0),0),\"\")","v":0},{"$f":"IF(A10<>\"\",IFERROR(VLOOKUP(V10,Tabelas!B:D,3,0),0),\"\")","v":0},{"$f":"IF(A10<>\"\",IFERROR(VLOOKUP(W10,Tabelas!B:D,3,0),0),\"\")","v":0},{"$f":"IF(A10<>\"\",IFERROR(VLOOKUP(X10,Tabelas!B:D,3,0),0),\"\")","v":0},{"$f":"IF(A10<>\"\",IFERROR(VLOOKUP(Y10,Tabelas!B:D,3,0),0),\"\")","v":0},{"$f":"IF(A10<>\"\",IFERROR(VLOOKUP(Z10,Tabelas!B:D,3,0),0),\"\")","v":0},{"$f":"IF(A10<>\"\",IFERROR(VLOOKUP(AA10,Tabelas!B:D,3,0),0),\"\")","v":0},{"$f":"IF(A10<>\"\",IFERROR(VLOOKUP(AB10,Tabelas!B:D,3,0),0),\"\")","v":0},{"$f":"IF(A10<>\"\",IFERROR(VLOOKUP(AC10,Tabelas!B:D,3,0),0),\"\")","v":0},{"$f":"IF(A10<>\"\",IFERROR(VLOOKUP(AD10,Tabelas!B:D,3,0),0),\"\")","v":0},{"$f":"IF(A10<>\"\",IFERROR(VLOOKUP(AE10,Tabelas!B:D,3,0),0),\"\")","v":0},{"$f":"IF(A10<>\"\",IFERROR(VLOOKUP(AF10,Tabelas!B:D,3,0),0),\"\")","v":0},{"$f":"IF(A10<>\"\",IFERROR(VLOOKUP(AG10,Tabelas!B:D,3,0),0),\"\")","v":0},{"$f":"IF(A10<>\"\",IFERROR(VLOOKUP(AH10,Tabelas!B:D,3,0),0),\"\")","v":0},{"$f":"IF(A10<>\"\",IFERROR(VLOOKUP(AI10,Tabelas!B:D,3,0),0),\"\")","v":0},{"$f":"IF(A10<>\"\",IFERROR(VLOOKUP(AJ10,Tabelas!B:D,3,0),0),\"\")","v":0},{"$f":"IF(A10<>\"\",IFERROR(VLOOKUP(AK10,Tabelas!B:D,3,0),0),\"\")","v":0},{"$f":"IF(A10<>\"\",IFERROR(VLOOKUP(AL10,Tabelas!B:D,3,0),0),\"\")","v":0},{"$f":"IF(A10<>\"\",IFERROR(VLOOKUP(AM10,Tabelas!B:D,3,0),0),\"\")","v":0},{"$f":"IF(A10<>\"\",IFERROR(VLOOKUP(AN10,Tabelas!B:D,3,0),0),\"\")","v":0},{"$f":"IF(A10<>\"\",IFERROR(VLOOKUP(AO10,Tabelas!B:D,3,0),0),\"\")","v":0},{"$f":"IF(A10<>\"\",IFERROR(VLOOKUP(AP10,Tabelas!B:D,3,0),0),\"\")","v":0},{"$f":"IF(A10<>\"\",IFERROR(VLOOKUP(AQ10,Tabelas!B:D,3,0),0),\"\")","v":0},{"$f":"IF(AND(A10<>\"\",E10=\"Ebserh\"),SUM(AR10:BV10)+COUNTIF(M10:AQ10,\"N*\")+COUNTIF(M10:AQ10,\"DN*\"),IF(AND(A10<>\"\",E10<>\"Ebserh\"),SUM(AR10:BV10),\"\"))","v":0},{"$f":"IF(A10<>\"\",COUNTIF(M10:AQ10,\"LM\")+COUNTIF(M10:AQ10,\"L*\")+COUNTIF(M10:AQ10,\"LP\"),\"\")","v":0},{"$f":"IF(A10<>\"\",COUNTIF(M10:AQ10,\"AB*\"),\"\")","v":0},{"$f":"IF(A10<>\"\",COUNTIF(M10:AQ10,\"FE\"),\"\")","v":0},{"$f":"IF(A10<>\"\",COUNTIF(M10:AQ10,\"LC\"),\"\")","v":0},{"$f":"IF(A10<>\"\",COUNTIF(M10:AQ10,\"CH*\"),\"\")","v":0},{"$f":"IF(A10<>\"\",COUNTIF(M10:AQ10,\"AF1\")+COUNTIF(M10:AQ10,\"AF2\")+COUNTIF(M10:AQ10,\"AF3\")+COUNTIF(M10:AQ10,\"AF4\")+COUNTIF(M10:AQ10,\"AF5\")+COUNTIF(M10:AQ10,\"AF6\")+COUNTIF(M10:AQ10,\"AF7\")+COUNTIF(M10:AQ10,\"AF8\")+COUNTIF(M10:AQ10,\"AF9\")+COUNTIF(M10:AQ10,\"AF10\")+COUNTIF(M10:AQ10,\"AF11\")+COUNTIF(M10:AQ10,\"AF12\")+COUNTIF(M10:AQ10,\"AF13\")+COUNTIF(M10:AQ10,\"AF14\"),\"\")","v":0},{"$f":"IF(A10<>\"\",COUNTIF(M10:AQ10,\"CH*\")+COUNTIF(M10:AQ10,\"L*\")+COUNTIF(M10:AQ10,\"LM\")+COUNTIF(M10:AQ10,\"LP\")+COUNTIF(M10:AQ10,\"LC\")+COUNTIF(M10:AQ10,\"AB*\")+COUNTIF(M10:AQ10,\"AF1\")+COUNTIF(M10:AQ10,\"AF2\")+COUNTIF(M10:AQ10,\"AF3\")+COUNTIF(M10:AQ10,\"AF4\")+COUNTIF(M10:AQ10,\"AF5\")+COUNTIF(M10:AQ10,\"AF6\")+COUNTIF(M10:AQ10,\"AF7\")+COUNTIF(M10:AQ10,\"AF8\")+COUNTIF(M10:AQ10,\"AF9\")+COUNTIF(M10:AQ10,\"AF10\")+COUNTIF(M10:AQ10,\"AF11\")+COUNTIF(M10:AQ10,\"AF12\")+COUNTIF(M10:AQ10,\"AF13\")+COUNTIF(M10:AQ10,\"AF14\")+COUNTIF(M10:AQ10,\"RC\")+COUNTIF(M10:AQ10,\"FO\")+COUNTIF(M10:AQ10,\"FE\"),\"\")","v":0}]
["FULANO 3",3,null,null,null,null,null,null,null,null,null,null,null,null,null,null,null,null,null,null,null,null,null,null,null,null,null,null,null,null,null,null,null,null,null,null,null,null,null,null,null,null,null,{"$f":"IF(A11<>\"\",IFERROR(VLOOKUP(M11,Tabelas!B:D,3,0),0),\"\")","v":0},{"$f":"IF(A11<>\"\",IFERROR(VLOOKUP(N11,Tabelas!B:D,3,0),0),\"\")","v":0},{"$f":"IF(A11<>\"\",IFERROR(VLOOKUP(O11,Tabelas!B:D,3,0),0),\"\")","v":0},{"$f":"IF(A11<>\"\",IFERROR(VLOOKUP(P11,Tabelas!B:D,3,0),0),\"\")","v":0},{"$f":"IF(A11<>\"\",IFERROR(VLOOKUP(Q11,Tabelas!B:D,3,0),0),\"\")","v":0},{"$f":"IF(A11<>\"\",IFERROR(VLOOKUP(R11,Tabelas!B:D,3,0),0),\"\")","v":0},{"$f":"IF(A11<>\"\",IFERROR(VLOOKUP(S11,Tabelas!B:D,3,0),0),\"\")","v":0},{"$f":"IF(A11<>\"\",IFERROR(VLOOKUP(T11,Tabelas!B:D,3,0),0),\"\")","v":0},{"$f":"IF(A11<>\"\",IFERROR(VLOOKUP(U11,Tabelas!B:D,3,0),0),\"\")","v":0},{"$f":"IF(A11<>\"\",IFERROR(VLOOKUP(V11,Tabelas!B:D,3,0),0),\"\")","v":0},{"$f":"IF(A11<>\"\",IFERROR(VLOOKUP(W11,Tabelas!B:D,3,0),0),\"\")","v":0},{"$f":"IF(A11<>\"\",IFERROR(VLOOKUP(X11,Tabelas!B:D,3,0),0),\"\")","v":0},{"$f":"IF(A11<>\"\",IFERROR(VLOOKUP(Y11,Tabelas!B:D,3,0),0),\"\")","v":0},{"$f":"IF(A11<>\"\",IFERROR(VLOOKUP(Z11,Tabelas!B:D,3,0),0),\"\")","v":0},{"$f":"IF(A11<>\"\",IFERROR(VLOOKUP(AA11,Tabelas!B:D,3,0),0),\"\")","v":0},{"$f":"IF(A11<>\"\",IFERROR(VLOOKUP(AB11,Tabelas!B:D,3,0),0),\"\")","v":0},{"$f":"IF(A11<>\"\",IFERROR(VLOOKUP(AC11,Tabelas!B:D,3,0),0),\"\")","v":0},{"$f":"IF(A11<>\"\",IFERROR(VLOOKUP(AD11,Tabelas!B:D,3,0),0),\"\")","v":0},{"$f":"IF(A11<>\"\",IFERROR(VLOOKUP(AE11,Tabelas!B:D,3,0),0),\"\")","v":0},{"$f":"IF(A11<>\"\",IFERROR(VLOOKUP(AF11,Tabelas!B:D,3,0),0),\"\")","v":0},{"$f":"IF(A11<>\"\",IFERROR(VLOOKUP(AG11,Tabelas!B:D,3,0),0),\"\")","v":0},{"$f":"IF(A11<>\"\",IFERROR(VLOOKUP(AH11,Tabelas!B:D,3,0),0),\"\")","v":0},{"$f":"IF(A11<>\"\",IFERROR(VLOOKUP(AI11,Tabelas!B:D,3,0),0),\"\")","v":0},{"$f":"IF(A11<>\"\",IFERROR(VLOOKUP(AJ11,Tabelas!B:D,3,0),0),\"\")","v":0},{"$f":"IF(A11<>\"\",IFERROR(VLOOKUP(AK11,Tabelas!B:D,3,0),0),\"\")","v":0},{"$f":"IF(A11<>\"\",IFERROR(VLOOKUP(AL11,Tabelas!B:D,3,0),0),\"\")","v":0},{"$f":"IF(A11<>\"\",IFERROR(VLOOKUP(AM11,Tabelas!B:D,3,0),0),\"\")","v":0},{"$f":"IF(A11<>\"\",IFERROR(VLOOKUP(AN11,Tabelas!B:D,3,0),0),\"\")","v":0},{"$f":"IF(A11<>\"\",IFERROR(VLOOKUP(AO11,Tabelas!B:D,3,0),0),\"\")","v":0},{"$f":"IF(A11<>\"\",IFERROR(VLOOKUP(AP11,Tabelas!B:D,3,0),0),\"\")","v":0},{"$f":"IF(A11<>\"\",IFERROR(VLOOKUP(AQ11,Tabelas!B:D,3,0),0),\"\")","v":0},0,0,0,0,0,0,0,0]
["FULANO 4",4,null,null,null,null,null,null,null,null,null,null,null,null,null,null,null,null,null,null,null,null,null,null,null,null,null,null,null,null,null,null,null,null,null,null,null,null,null,null,null,null,null,{"$f":"IF(A12<>\"\",IFERROR(VLOOKUP(M12,Tabelas!B:D,3,0),0),\"\")","v":0},{"$f":"IF(A12<>\"\",IFERROR(VLOOKUP(N12,Tabelas!B:D,3,0),0),\"\")","v":0},{"$f":"IF(A12<>\"\",IFERROR(VLOOKUP(O12,Tabelas!B:D,3,0),0),\"\")","v":0},{"$f":"IF(A12<>\"\",IFERROR(VLOOKUP(P12,Tabelas!B:D,3,0),0),\"\")","v":0},{"$f":"IF(A12<>\"\",IFERROR(VLOOKUP(Q12,Tabelas!B:D,3,0),0),\"\")","v":0},{"$f":"IF(A12<>\"\",IFERROR(VLOOKUP(R12,Tabelas!B:D,3,0),0),\"\")","v":0},{"$f":"IF(A12<>\"\",IFERROR(VLOOKUP(S12,Tabelas!B:D,3,0),0),\"\")","v":0},{"$f":"IF(A12<>\"\",IFERROR(VLOOKUP(T12,Tabelas!B:D,3,0),0),\"\")","v":0},{"$f":"IF(A12<>\"\",IFERROR(VLOOKUP(U12,Tabelas!B:D,3,0),0),\"\")","v":0},{"$f":"IF(A12<>\"\",IFERROR(VLOOKUP(V12,Tabelas!B:D,3,0),0),\"\")","v":0},{"$f":"IF(A12<>\"\",IFERROR(VLOOKUP(W12,Tabelas!B:D,3,0),0),\"\")","v":0},{"$f":"IF(A12<>\"\",IFERROR(VLOOKUP(X12,Tabelas!B:D,3,0),0),\"\")","v":0},{"$f":"IF(A12<>\"\",IFERROR(VLOOKUP(Y12,Tabelas!B:D,3,0),0),\"\")","v":0},{"$f":"IF(A12<>\"\",IFERROR(VLOOKUP(Z12,Tabelas!B:D,3,0),0),\"\")","v":0},{"$f":"IF(A12<>\"\",IFERROR(VLOOKUP(AA12,Tabelas!B:D,3,0),0),\"\")","v":0},{"$f":"IF(A12<>\"\",IFERROR(VLOOKUP(AB12,Tabelas!B:D,3,0),0),\"\")","v":0},{"$f":"IF(A12<>\"\",IFERROR(VLOOKUP(AC12,Tabelas!B:D,3,0),0),\"\")","v":0},{"$f":"IF(A12<>\"\",IFERROR(VLOOKUP(AD12,Tabelas!B:D,3,0),0),\"\")","v":0},{"$f":"IF(A12<>\"\",IFERROR(VLOOKUP(AE12,Tabelas!B:D,3,0),0),\"\")","v":0},{"$f":"IF(A12<>\"\",IFERROR(VLOOKUP(AF12,Tabelas!B:D,3,0),0),\"\")","v":0},{"$f":"IF(A12<>\"\",IFERROR(VLOOKUP(AG12,Tabelas!B:D,3,0),0),\"\")","v":0},{"$f":"IF(A12<>\"\",IFERROR(VLOOKUP(AH12,Tabelas!B:D,3,0),0),\"\")","v":0},{"$f":"IF(A12<>\"\",IFERROR(VLOOKUP(AI12,Tabelas!B:D,3,0),0),\"\")","v":0},{"$f":"IF(A12<>\"\",IFERROR(VLOOKUP(AJ12,Tabelas!B:D,3,0),0),\"\")","v":0},{"$f":"IF(A12<>\"\",IFERROR(VLOOKUP(AK12,Tabelas!B:D,3,0),0),\"\")","v":0},{"$f":"IF(A12<>\"\",IFERROR(VLOOKUP(AL12,Tabelas!B:D,3,0),0),\"\")","v":0},{"$f":"IF(A12<>\"\",IFERROR(VLOOKUP(AM12,Tabelas!B:D,3,0),0),\"\")","v":0},{"$f":"IF(A12<>\"\",IFERROR(VLOOKUP(AN12,Tabelas!B:D,3,0),0),\"\")","v":0},{"$f":"IF(A12<>\"\",IFERROR(VLOOKUP(AO12,Tabelas!B:D,3,0),0),\"\")","v":0},{"$f":"IF(A12<>\"\",IFERROR(VLOOKUP(AP12,Tabelas!B:D,3,0),0),\"\")","v":0},{"$f":"IF(A12<>\"\",IFERROR(VLOOKUP(AQ12,Tabelas!B:D,3,0),0),\"\")","v":0},0,0,0,0,0,0,0,0]
["FULANO 5",5,null,null,null,null,null,null,null,null,null,null,null,null,null,null,null,null,null,null,null,null,null,null,null,null,null,null,null,null,null,null,null,null,null,null,null,null,null,null,null,null,null,{"$f":"IF(A13<>\"\",IFERROR(VLOOKUP(M13,Tabelas!B:D,3,0),0),\"\")","v":0},{"$f":"IF(A13<>\"\",IFERROR(VLOOKUP(N13,Tabelas!B:D,3,0),0),\"\")","v":0},{"$f":"IF(A13<>\"\",IFERROR(VLOOKUP(O13,Tabelas!B:D,3,0),0),\"\")","v":0},{"$f":"IF(A13<>\"\",IFERROR(VLOOKUP(P13,Tabelas!B:D,3,0),0),\"\")","v":0},{"$f":"IF(A13<>\"\",IFERROR(VLOOKUP(Q13,Tabelas!B:D,3,0),0),\"\")","v":0},{"$f":"IF(A13<>\"\",IFERROR(VLOOKUP(R13,Tabelas!B:D,3,0),0),\"\")","v":0},{"$f":"IF(A13<>\"\",IFERROR(VLOOKUP(S13,Tabelas!B:D,3,0),0),\"\")","v":0},{"$f":"IF(A13<>\"\",IFERROR(VLOOKUP(T13,Tabelas!B:D,3,0),0),\"\")","v":0},{"$f":"IF(A13<>\"\",IFERROR(VLOOKUP(U13,Tabelas!B:D,3,0),0),\"\")","v":0},{"$f":"IF(A13<>\"\",IFERROR(VLOOKUP(V13,Tabelas!B:D,3,0),0),\"\")","v":0},{"$f":"IF(A13<>\"\",IFERROR(VLOOKUP(W13,Tabelas!B:D,3,0),0),\"\")","v":0},{"$f":"IF(A13<>\"\",IFERROR(VLOOKUP(X13,Tabelas!B:D,3,0),0),\"\")","v":0},{"$f":"IF(A13<>\"\",IFERROR(VLOOKUP(Y13,Tabelas!B:D,3,0),0),\"\")","v":0},{"$f":"IF(A13<>\"\",IFERROR(VLOOKUP(Z13,Tabelas!B:D,3,0),0),\"\")","v":0},{"$f":"IF(A13<>\"\",IFERROR(VLOOKUP(AA13,Tabelas!B:D,3,0),0),\"\")","v":0},{"$f":"IF(A13<>\"\",IFERROR(VLOOKUP(AB13,Tabelas!B:D,3,0),0),\"\")","v":0},{"$f":"IF(A13<>\"\",IFERROR(VLOOKUP(AC13,Tabelas!B:D,3,0),0),\"\")","v":0},{"$f":"IF(A13<>\"\",IFERROR(VLOOKUP(AD13,Tabelas!B:D,3,0),0),\"\")","v":0},{"$f":"IF(A13<>\"\",IFERROR(VLOOKUP(AE13,Tabelas!B:D,3,0),0),\"\")","v":0},{"$f":"IF(A13<>\"\",IFERROR(VLOOKUP(AF13,Tabelas!B:D,3,0),0),\"\")","v":0},{"$f":"IF(A13<>\"\",IFERROR(VLOOKUP(AG13,Tabelas!B:D,3,0),0),\"\")","v":0},{"$f":"IF(A13<>\"\",IFERROR(VLOOKUP(AH13,Tabelas!B:D,3,0),0),\"\")","v":0},{"$f":"IF(A13<>\"\",IFERROR(VLOOKUP(AI13,Tabelas!B:D,3,0),0),\"\")","v":0},{"$f":"IF(A13<>\"\",IFERROR(VLOOKUP(AJ13,Tabelas!B:D,3,0),0),\"\")","v":0},{"$f":"IF(A13<>\"\",IFERROR(VLOOKUP(AK13,Tabelas!B:D,3,0),0),\"\")","v":0},{"$f":"IF(A13<>\"\",IFERROR(VLOOKUP(AL13,Tabelas!B:D,3,0),0),\"\")","v":0},{"$f":"IF(A13<>\"\",IFERROR(VLOOKUP(AM13,Tabelas!B:D,3,0),0),\"\")","v":0},{"$f":"IF(A13<>\"\",IFERROR(VLOOKUP(AN13,Tabelas!B:D,3,0),0),\"\")","v":0},{"$f":"IF(A13<>\"\",IFERROR(VLOOKUP(AO13,Tabelas!B:D,3,0),0),\"\")","v":0},{"$f":"IF(A13<>\"\",IFERROR(VLOOKUP(AP13,Tabelas!B:D,3,0),0),\"\")","v":0},{"$f":"IF(A13<>\"\",IFERROR(VLOOKUP(AQ13,Tabelas!B:D,3,0),0),\"\")","v":0},0,0,0,0,0,0,0,0]
["FULANO 6",6,null,null,null,null,null,null,null,null,null,null,null,null,null,null,null,null,null,null,null,null,null,null,null,null,null,null,null,null,null,null,null,null,null,null,null,null,null,null,null,null,null,{"$f":"IF(A14<>\"\",IFERROR(VLOOKUP(M14,Tabelas!B:D,3,0),0),\"\")","v":0},{"$f":"IF(A14<>\"\",IFERROR(VLOOKUP(N14,Tabelas!B:D,3,0),0),\"\")","v":0},{"$f":"IF(A14<>\"\",IFERROR(VLOOKUP(O14,Tabelas!B:D,3,0),0),\"\")","v":0},{"$f":"IF(A14<>\"\",IFERROR(VLOOKUP(P14,Tabelas!B:D,3,0),0),\"\")","v":0},{"$f":"IF(A14<>\"\",IFERROR(VLOOKUP(Q14,Tabelas!B:D,3,0),0),\"\")","v":0},{"$f":"IF(A14<>\"\",IFERROR(VLOOKUP(R14,Tabelas!B:D,3,0),0),\"\")","v":0},{"$f":"IF(A14<>\"\",IFERROR(VLOOKUP(S14,Tabelas!B:D,3,0),0),\"\")","v":0},{"$f":"IF(A14<>\"\",IFERROR(VLOOKUP(T14,Tabelas!B:D,3,0),0),\"\")","v":0},{"$f":"IF(A14<>\"\",IFERROR(VLOOKUP(U14,Tabelas!B:D,3,0),0),\"\")","v":0},{"$f":"IF(A14<>\"\",IFERROR(VLOOKUP(V14,Tabelas!B:D,3,0),0),\"\")","v":0},{"$f":"IF(A14<>\"\",IFERROR(VLOOKUP(W14,Tabelas!B:D,3,0),0),\"\")","v":0},{"$f":"IF(A14<>\"\",IFERROR(VLOOKUP(X14,Tabelas!B:D,3,0),0),\"\")","v":0},{"$f":"IF(A14<>\"\",IFERROR(VLOOKUP(Y14,Tabelas!B:D,3,0),0),\"\")","v":0},{"$f":"IF(A14<>\"\",IFERROR(VLOOKUP(Z14,Tabelas!B:D,3,0),0),\"\")","v":0},{"$f":"IF(A14<>\"\",IFERROR(VLOOKUP(AA14,Tabelas!B:D,3,0),0),\"\")","v":0},{"$f":"IF(A14<>\"\",IFERROR(VLOOKUP(AB14,Tabelas!B:D,3,0),0),\"\")","v":0},{"$f":"IF(A14<>\"\",IFERROR(VLOOKUP(AC14,Tabelas!B:D,3,0),0),\"\")","v":0},{"$f":"IF(A14<>\"\",IFERROR(VLOOKUP(AD14,Tabelas!B:D,3,0),0),\"\")","v":0},{"$f":"IF(A14<>\"\",IFERROR(VLOOKUP(AE14,Tabelas!B:D,3,0),0),\"\")","v":0},{"$f":"IF(A14<>\"\",IFERROR(VLOOKUP(AF14,Tabelas!B:D,3,0),0),\"\")","v":0},{"$f":"IF(A14<>\"\",IFERROR(VLOOKUP(AG14,Tabelas!B:D,3,0),0),\"\")","v":0},{"$f":"IF(A14<>\"\",IFERROR(VLOOKUP(AH14,Tabelas!B:D,3,0),0),\"\")","v":0},{"$f":"IF(A14<>\"\",IFERROR(VLOOKUP(AI14,Tabelas!B:D,3,0),0),\"\")","v":0},{"$f":"IF(A14<>\"\",IFERROR(VLOOKUP(AJ14,Tabelas!B:D,3,0),0),\"\")","v":0},{"$f":"IF(A14<>\"\",IFERROR(VLOOKUP(AK14,Tabelas!B:D,3,0),0),\"\")","v":0},{"$f":"IF(A14<>\"\",IFERROR(VLOOKUP(AL14,Tabelas!B:D,3,0),0),\"\")","v":0},{"$f":"IF(A14<>\"\",IFERROR(VLOOKUP(AM14,Tabelas!B:D,3,0),0),\"\")","v":0},{"$f":"IF(A14<>\"\",IFERROR(VLOOKUP(AN14,Tabelas!B:D,3,0),0),\"\")","v":0},{"$f":"IF(A14<>\"\",IFERROR(VLOOKUP(AO14,Tabelas!B:D,3,0),0),\"\")","v":0},{"$f":"IF(A14<>\"\",IFERROR(VLOOKUP(AP14,Tabelas!B:D,3,0),0),\"\")","v":0},{"$f":"IF(A14<>\"\",IFERROR(VLOOKUP(AQ14,Tabelas!B:D,3,0),0),\"\")","v":0},0,0,0,0,0,0,0,0]
["FULANO 7",7,null,null,null,null,null,null,null,null,null,null,null,null,null,null,null,null,null,null,null,null,null,null,null,null,null,null,null,null,null,null,null,null,null,null,null,null,null,null,null,null,null,{"$f":"IF(A15<>\"\",IFERROR(VLOOKUP(M15,Tabelas!B:D,3,0),0),\"\")","v":0},{"$f":"IF(A15<>\"\",IFERROR(VLOOKUP(N15,Tabelas!B:D,3,0),0),\"\")","v":0},{"$f":"IF(A15<>\"\",IFERROR(VLOOKUP(O15,Tabelas!B:D,3,0),0),\"\")","v":0},{"$f":"IF(A15<>\"\",IFERROR(VLOOKUP(P15,Tabelas!B:D,3,0),0),\"\")","v":0},{"$f":"IF(A15<>\"\",IFERROR(VLOOKUP(Q15,Tabelas!B:D,3,0),0),\"\")","v":0},{"$f":"IF(A15<>\"\",IFERROR(VLOOKUP(R15,Tabelas!B:D,3,0),0),\"\")","v":0},{"$f":"IF(A15<>\"\",IFERROR(VLOOKUP(S15,Tabelas!B:D,3,0),0),\"\")","v":0},{"$f":"IF(A15<>\"\",IFERROR(VLOOKUP(T15,Tabelas!B:D,3,0),0),\"\")","v":0},{"$f":"IF(A15<>\"\",IFERROR(VLOOKUP(U15,Tabelas!B:D,3,0),0),\"\")","v":0},{"$f":"IF(A15<>\"\",IFERROR(VLOOKUP(V15,Tabelas!B:D,3,0),0),\"\")","v":0},{"$f":"IF(A15<>\"\",IFERROR(VLOOKUP(W15,Tabelas!B:D,3,0),0),\"\")","v":0},{"$f":"IF(A15<>\"\",IFERROR(VLOOKUP(X15,Tabelas!B:D,3,0),0),\"\")","v":0},{"$f":"IF(A15<>\"\",IFERROR(VLOOKUP(Y15,Tabelas!B:D,3,0),0),\"\")","v":0},{"$f":"IF(A15<>\"\",IFERROR(VLOOKUP(Z15,Tabelas!B:D,3,0),0),\"\")","v":0},{"$f":"IF(A15<>\"\",IFERROR(VLOOKUP(AA15,Tabelas!B:D,3,0),0),\"\")","v":0},{"$f":"IF(A15<>\"\",IFERROR(VLOOKUP(AB15,Tabelas!B:D,3,0),0),\"\")","v":0},{"$f":"IF(A15<>\"\",IFERROR(VLOOKUP(AC15,Tabelas!B:D,3,0),0),\"\")","v":0},{"$f":"IF(A15<>\"\",IFERROR(VLOOKUP(AD15,Tabelas!B:D,3,0),0),\"\")","v":0},{"$f":"IF(A15<>\"\",IFERROR(VLOOKUP(AE15,Tabelas!B:D,3,0),0),\"\")","v":0},{"$f":"IF(A15<>\"\",IFERROR(VLOOKUP(AF15,Tabelas!B:D,3,0),0),\"\")","v":0},{"$f":"IF(A15<>\"\",IFERROR(VLOOKUP(AG15,Tabelas!B:D,3,0),0),\"\")","v":0},{"$f":"IF(A15<>\"\",IFERROR(VLOOKUP(AH15,Tabelas!B:D,3,0),0),\"\")","v":0},{"$f":"IF(A15<>\"\",IFERROR(VLOOKUP(AI15,Tabelas!B:D,3,0),0),\"\")","v":0},{"$f":"IF(A15<>\"\",IFERROR(VLOOKUP(AJ15,Tabelas!B:D,3,0),0),\"\")","v":0},{"$f":"IF(A15<>\"\",IFERROR(VLOOKUP(AK15,Tabelas!B:D,3,0),0),\"\")","v":0},{"$f":"IF(A15<>\"\",IFERROR(VLOOKUP(AL15,Tabelas!B:D,3,0),0),\"\")","v":0},{"$f":"IF(A15<>\"\",IFERROR(VLOOKUP(AM15,Tabelas!B:D,3,0),0),\"\")","v":0},{"$f":"IF(A15<>\"\",IFERROR(VLOOKUP(AN15,Tabelas!B:D,3,0),0),\"\")","v":0},{"$f":"IF(A15<>\"\",IFERROR(VLOOKUP(AO15,Tabelas!B:D,3,0),0),\"\")","v":0},{"$f":"IF(A15<>\"\",IFERROR(VLOOKUP(AP15,Tabelas!B:D,3,0),0),\"\")","v":0},{"$f":"IF(A15<>\"\",IFERROR(VLOOKUP(AQ15,Tabelas!B:D,3,0),0),\"\")","v":0},0,0,0,0,0,0,0,0]
["FULANO 8",8,null,null,null,null,null,null,null,null,null,null,null,null,null,null,null,null,null,null,null,null,null,null,null,null,null,null,null,null,null,null,null,null,null,null,null,null,null,null,null,null,null,{"$f":"IF(A16<>\"\",IFERROR(VLOOKUP(M16,Tabelas!B:D,3,0),0),\"\")","v":0},{"$f":"IF(A16<>\"\",IFERROR(VLOOKUP(N16,Tabelas!B:D,3,0),0),\"\")","v":0},{"$f":"IF(A16<>\"\",IFERROR(VLOOKUP(O16,Tabelas!B:D,3,0),0),\"\")","v":0},{"$f":"IF(A16<>\"\",IFERROR(VLOOKUP(P16,Tabelas!B:D,3,0),0),\"\")","v":0},{"$f":"IF(A16<>\"\",IFERROR(VLOOKUP(Q16,Tabelas!B:D,3,0),0),\"\")","v":0},{"$f":"IF(A16<>\"\",IFERROR(VLOOKUP(R16,Tabelas!B:D,3,0),0),\"\")","v":0},{"$f":"IF(A16<>\"\",IFERROR(VLOOKUP(S16,Tabelas!B:D,3,0),0),\"\")","v":0},{"$f":"IF(A16<>\"\",IFERROR(VLOOKUP(T16,Tabelas!B:D,3,0),0),\"\")","v":0},{"$f":"IF(A16<>\"\",IFERROR(VLOOKUP(U16,Tabelas!B:D,3,0),0),\"\")","v":0},{"$f":"IF(A16<>\"\",IFERROR(VLOOKUP(V16,Tabelas!B:D,3,0),0),\"\")","v":0},{"$f":"IF(A16<>\"\",IFERROR(VLOOKUP(W16,Tabelas!B:D,3,0),0),\"\")","v":0},{"$f":"IF(A16<>\"\",IFERROR(VLOOKUP(X16,Tabelas!B:D,3,0),0),\"\")","v":0},{"$f":"IF(A16<>\"\",IFERROR(VLOOKUP(Y16,Tabelas!B:D,3,0),0),\"\")","v":0},{"$f":"IF(A16<>\"\",IFERROR(VLOOKUP(Z16,Tabelas!B:D,3,0),0),\"\")","v":0},{"$f":"IF(A16<>\"\",IFERROR(VLOOKUP(AA16,Tabelas!B:D,3,0),0),\"\")","v":0},{"$f":"IF(A16<>\"\",IFERROR(VLOOKUP(AB16,Tabelas!B:D,3,0),0),\"\")","v":0},{"$f":"IF(A16<>\"\",IFERROR(VLOOKUP(AC16,Tabelas!B:D,3,0),0),\"\")","v":0},{"$f":"IF(A16<>\"\",IFERROR(VLOOKUP(AD16,Tabelas!B:D,3,0),0),\"\")","v":0},{"$f":"IF(A16<>\"\",IFERROR(VLOOKUP(AE16,Tabelas!B:D,3,0),0),\"\")","v":0},{"$f":"IF(A16<>\"\",IFERROR(VLOOKUP(AF16,Tabelas!B:D,3,0),0),\"\")","v":0},{"$f":"IF(A16<>\"\",IFERROR(VLOOKUP(AG16,Tabelas!B:D,3,0),0),\"\")","v":0},{"$f":"IF(A16<>\"\",IFERROR(VLOOKUP(AH16,Tabelas!B:D,3,0),0),\"\")","v":0},{"$f":"IF(A16<>\"\",IFERROR(VLOOKUP(AI16,Tabelas!B:D,3,0),0),\"\")","v":0},{"$f":"IF(A16<>\"\",IFERROR(VLOOKUP(AJ16,Tabelas!B:D,3,0),0),\"\")","v":0},{"$f":"IF(A16<>\"\",IFERROR(VLOOKUP(AK16,Tabelas!B:D,3,0),0),\"\")","v":0},{"$f":"IF(A16<>\"\",IFERROR(VLOOKUP(AL16,Tabelas!B:D,3,0),0),\"\")","v":0},{"$f":"IF(A16<>\"\",IFERROR(VLOOKUP(AM16,Tabelas!B:D,3,0),0),\"\")","v":0},{"$f":"IF(A16<>\"\",IFERROR(VLOOKUP(AN16,Tabelas!B:D,3,0),0),\"\")","v":0},{"$f":"IF(A16<>\"\",IFERROR(VLOOKUP(AO16,Tabelas!B:D,3,0),0),\"\")","v":0},{"$f":"IF(A16<>\"\",IFERROR(VLOOKUP(AP16,Tabelas!B:D,3,0),0),\"\")","v":0},{"$f":"IF(A16<>\"\",IFERROR(VLOOKUP(AQ16,Tabelas!B:D,3,0),0),\"\")","v":0},0,0,0,0,0,0,0,0]
["FULANO 9",9,null,null,null,null,null,null,null,null,null,null,null,null,null,null,null,null,null,null,null,null,null,null,null,null,null,null,null,null,null,null,null,null,null,null,null,null,null,null,null,null,null,{"$f":"IF(A17<>\"\",IFERROR(VLOOKUP(M17,Tabelas!B:D,3,0),0),\"\")","v":0},{"$f":"IF(A17<>\"\",IFERROR(VLOOKUP(N17,Tabelas!B:D,3,0),0),\"\")","v":0},{"$f":"IF(A17<>\"\",IFERROR(VLOOKUP(O17,Tabelas!B:D,3,0),0),\"\")","v":0},{"$f":"IF(A17<>\"\",IFERROR(VLOOKUP(P17,Tabelas!B:D,3,0),0),\"\")","v":0},{"$f":"IF(A17<>\"\",IFERROR(VLOOKUP(Q17,Tabelas!B:D,3,0),0),\"\")","v":0},{"$f":"IF(A17<>\"\",IFERROR(VLOOKUP(R17,Tabelas!B:D,3,0),0),\"\")","v":0},{"$f":"IF(A17<>\"\",IFERROR(VLOOKUP(S17,Tabelas!B:D,3,0),0),\"\")","v":0},{"$f":"IF(A17<>\"\",IFERROR(VLOOKUP(T17,Tabelas!B:D,3,0),0),\"\")","v":0},{"$f":"IF(A17<>\"\",IFERROR(VLOOKUP(U17,Tabelas!B:D,3,0),0),\"\")","v":0},{"$f":"IF(A17<>\"\",IFERROR(VLOOKUP(V17,Tabelas!B:D,3,0),0),\"\")","v":0},{"$f":"IF(A17<>\"\",IFERROR(VLOOKUP(W17,Tabelas!B:D,3,0),0),\"\")","v":0},{"$f":"IF(A17<>\"\",IFERROR(VLOOKUP(X17,Tabelas!B:D,3,0),0),\"\")","v":0},{"$f":"IF(A17<>\"\",IFERROR(VLOOKUP(Y17,Tabelas!B:D,3,0),0),\"\")","v":0},{"$f":"IF(A17<>\"\",IFERROR(VLOOKUP(Z17,Tabelas!B:D,3,0),0),\"\")","v":0},{"$f":"IF(A17<>\"\",IFERROR(VLOOKUP(AA17,Tabelas!B:D,3,0),0),\"\")","v":0},{"$f":"IF(A17<>\"\",IFERROR(VLOOKUP(AB17,Tabelas!B:D,3,0),0),\"\")","v":0},{"$f":"IF(A17<>\"\",IFERROR(VLOOKUP(AC17,Tabelas!B:D,3,0),0),\"\")","v":0},{"$f":"IF(A17<>\"\",IFERROR(VLOOKUP(AD17,Tabelas!B:D,3,0),0),\"\")","v":0},{"$f":"IF(A17<>\"\",IFERROR(VLOOKUP(AE17,Tabelas!B:D,3,0),0),\"\")","v":0},{"$f":"IF(A17<>\"\",IFERROR(VLOOKUP(AF17,Tabelas!B:D,3,0),0),\"\")","v":0},{"$f":"IF(A17<>\"\",IFERROR(VLOOKUP(AG17,Tabelas!B:D,3,0),0),\"\")","v":0},{"$f":"IF(A17<>\"\",IFERROR(VLOOKUP(AH17,Tabelas!B:D,3,0),0),\"\")","v":0},{"$f":"IF(A17<>\"\",IFERROR(VLOOKUP(AI17,Tabelas!B:D,3,0),0),\"\")","v":0},{"$f":"IF(A17<>\"\",IFERROR(VLOOKUP(AJ17,Tabelas!B:D,3,0),0),\"\")","v":0},{"$f":"IF(A17<>\"\",IFERROR(VLOOKUP(AK17,Tabelas!B:D,3,0),0),\"\")","v":0},{"$f":"IF(A17<>\"\",IFERROR(VLOOKUP(AL17,Tabelas!B:D,3,0),0),\"\")","v":0},{"$f":"IF(A17<>\"\",IFERROR(VLOOKUP(AM17,Tabelas!B:D,3,0),0),\"\")","v":0},{"$f":"IF(A17<>\"\",IFERROR(VLOOKUP(AN17,Tabelas!B:D,3,0),0),\"\")","v":0},{"$f":"IF(A17<>\"\",IFERROR(VLOOKUP(AO17,Tabelas!B:D,3,0),0),\"\")","v":0},{"$f":"IF(A17<>\"\",IFERROR(VLOOKUP(AP17,Tabelas!B:D,3,0),0),\"\")","v":0},{"$f":"IF(A17<>\"\",IFERROR(VLOOKUP(AQ17,Tabelas!B:D,3,0),0),\"\")","v":0},0,0,0,0,0,0,0,0]
["FULANO 10",10,null,null,null,null,null,null,null,null,null,null,null,null,null,null,null,null,null,null,null,null,null,null,null,null,null,null,null,null,null,null,null,null,null,null,null,null,null,null,null,null,null,{"$f":"IF(A18<>\"\",IFERROR(VLOOKUP(M18,Tabelas!B:D,3,0),0),\"\")","v":0},{"$f":"IF(A18<>\"\",IFERROR(VLOOKUP(N18,Tabelas!B:D,3,0),0),\"\")","v":0},{"$f":"IF(A18<>\"\",IFERROR(VLOOKUP(O18,Tabelas!B:D,3,0),0),\"\")","v":0},{"$f":"IF(A18<>\"\",IFERROR(VLOOKUP(P18,Tabelas!B:D,3,0),0),\"\")","v":0},{"$f":"IF(A18<>\"\",IFERROR(VLOOKUP(Q18,Tabelas!B:D,3,0),0),\"\")","v":0},{"$f":"IF(A18<>\"\",IFERROR(VLOOKUP(R18,Tabelas!B:D,3,0),0),\"\")","v":0},{"$f":"IF(A18<>\"\",IFERROR(VLOOKUP(S18,Tabelas!B:D,3,0),0),\"\")","v":0},{"$f":"IF(A18<>\"\",IFERROR(VLOOKUP(T18,Tabelas!B:D,3,0),0),\"\")","v":0},{"$f":"IF(A18<>\"\",IFERROR(VLOOKUP(U18,Tabelas!B:D,3,0),0),\"\")","v":0},{"$f":"IF(A18<>\"\",IFERROR(VLOOKUP(V18,Tabelas!B:D,3,0),0),\"\")","v":0},{"$f":"IF(A18<>\"\",IFERROR(VLOOKUP(W18,Tabelas!B:D,3,0),0),\"\")","v":0},{"$f":"IF(A18<>\"\",IFERROR(VLOOKUP(X18,Tabelas!B:D,3,0),0),\"\")","v":0},{"$f":"IF(A18<>\"\",IFERROR(VLOOKUP(Y18,Tabelas!B:D,3,0),0),\"\")","v":0},{"$f":"IF(A18<>\"\",IFERROR(VLOOKUP(Z18,Tabelas!B:D,3,0),0),\"\")","v":0},{"$f":"IF(A18<>\"\",IFERROR(VLOOKUP(AA18,Tabelas!B:D,3,0),0),\"\")","v":0},{"$f":"IF(A18<>\"\",IFERROR(VLOOKUP(AB18,Tabelas!B:D,3,0),0),\"\")","v":0},{"$f":"IF(A18<>\"\",IFERROR(VLOOKUP(AC18,Tabelas!B:D,3,0),0),\"\")","v":0},{"$f":"IF(A18<>\"\",IFERROR(VLOOKUP(AD18,Tabelas!B:D,3,0),0),\"\")","v":0},{"$f":"IF(A18<>\"\",IFERROR(VLOOKUP(AE18,Tabelas!B:D,3,0),0),\"\")","v":0},{"$f":"IF(A18<>\"\",IFERROR(VLOOKUP(AF18,Tabelas!B:D,3,0),0),\"\")","v":0},{"$f":"IF(A18<>\"\",IFERROR(VLOOKUP(AG18,Tabelas!B:D,3,0),0),\"\")","v":0},{"$f":"IF(A18<>\"\",IFERROR(VLOOKUP(AH18,Tabelas!B:D,3,0),0),\"\")","v":0},{"$f":"IF(A18<>\"\",IFERROR(VLOOKUP(AI18,Tabelas!B:D,3,0),0),\"\")","v":0},{"$f":"IF(A18<>\"\",IFERROR(VLOOKUP(AJ18,Tabelas!B:D,3,0),0),\"\")","v":0},{"$f":"IF(A18<>\"\",IFERROR(VLOOKUP(AK18,Tabelas!B:D,3,0),0),\"\")","v":0},{"$f":"IF(A18<>\"\",IFERROR(VLOOKUP(AL18,Tabelas!B:D,3,0),0),\"\")","v":0},{"$f":"IF(A18<>\"\",IFERROR(VLOOKUP(AM18,Tabelas!B:D,3,0),0),\"\")","v":0},{"$f":"IF(A18<>\"\",IFERROR(VLOOKUP(AN18,Tabelas!B:D,3,0),0),\"\")","v":0},{"$f":"IF(A18<>\"\",IFERROR(VLOOKUP(AO18,Tabelas!B:D,3,0),0),\"\")","v":0},{"$f":"IF(A18<>\"\",IFERROR(VLOOKUP(AP18,Tabelas!B:D,3,0),0),\"\")","v":0},{"$f":"IF(A18<>\"\",IFERROR(VLOOKUP(AQ18,Tabelas!B:D,3,0),0),\"\")","v":0},0,0,0,0,0,0,0,0]
["FULANO 11",11,null,null,null,null,null,null,null,null,null,null,null,null,null,null,null,null,null,null,null,null,null,null,null,null,null,null,null,null,null,null,null,null,null,null,null,null,null,null,null,null,null,{"$f":"IF(A19<>\"\",IFERROR(VLOOKUP(M19,Tabelas!B:D,3,0),0),\"\")","v":0},{"$f":"IF(A19<>\"\",IFERROR(VLOOKUP(N19,Tabelas!B:D,3,0),0),\"\")","v":0},{"$f":"IF(A19<>\"\",IFERROR(VLOOKUP(O19,Tabelas!B:D,3,0),0),\"\")","v":0},{"$f":"IF(A19<>\"\",IFERROR(VLOOKUP(P19,Tabelas!B:D,3,0),0),\"\")","v":0},{"$f":"IF(A19<>\"\",IFERROR(VLOOKUP(Q19,Tabelas!B:D,3,0),0),\"\")","v":0},{"$f":"IF(A19<>\"\",IFERROR(VLOOKUP(R19,Tabelas!B:D,3,0),0),\"\")","v":0},{"$f":"IF(A19<>\"\",IFERROR(VLOOKUP(S19,Tabelas!B:D,3,0),0),\"\")","v":0},{"$f":"IF(A19<>\"\",IFERROR(VLOOKUP(T19,Tabelas!B:D,3,0),0),\"\")","v":0},{"$f":"IF(A19<>\"\",IFERROR(VLOOKUP(U19,Tabelas!B:D,3,0),0),\"\")","v":0},{"$f":"IF(A19<>\"\",IFERROR(VLOOKUP(V19,Tabelas!B:D,3,0),0),\"\")","v":0},{"$f":"IF(A19<>\"\",IFERROR(VLOOKUP(W19,Tabelas!B:D,3,0),0),\"\")","v":0},{"$f":"IF(A19<>\"\",IFERROR(VLOOKUP(X19,Tabelas!B:D,3,0),0),\"\")","v":0},{"$f":"IF(A19<>\"\",IFERROR(VLOOKUP(Y19,Tabelas!B:D,3,0),0),\"\")","v":0},{"$f":"IF(A19<>\"\",IFERROR(VLOOKUP(Z19,Tabelas!B:D,3,0),0),\"\")","v":0},{"$f":"IF(A19<>\"\",IFERROR(VLOOKUP(AA19,Tabelas!B:D,3,0),0),\"\")","v":0},{"$f":"IF(A19<>\"\",IFERROR(VLOOKUP(AB19,Tabelas!B:D,3,0),0),\"\")","v":0},{"$f":"IF(A19<>\"\",IFERROR(VLOOKUP(AC19,Tabelas!B:D,3,0),0),\"\")","v":0},{"$f":"IF(A19<>\"\",IFERROR(VLOOKUP(AD19,Tabelas!B:D,3,0),0),\"\")","v":0},{"$f":"IF(A19<>\"\",IFERROR(VLOOKUP(AE19,Tabelas!B:D,3,0),0),\"\")","v":0},{"$f":"IF(A19<>\"\",IFERROR(VLOOKUP(AF19,Tabelas!B:D,3,0),0),\"\")","v":0},{"$f":"IF(A19<>\"\",IFERROR(VLOOKUP(AG19,Tabelas!B:D,3,0),0),\"\")","v":0},{"$f":"IF(A19<>\"\",IFERROR(VLOOKUP(AH19,Tabelas!B:D,3,0),0),\"\")","v":0},{"$f":"IF(A19<>\"\",IFERROR(VLOOKUP(AI19,Tabelas!B:D,3,0),0),\"\")","v":0},{"$f":"IF(A19<>\"\",IFERROR(VLOOKUP(AJ19,Tabelas!B:D,3,0),0),\"\")","v":0},{"$f":"IF(A19<>\"\",IFERROR(VLOOKUP(AK19,Tabelas!B:D,3,0),0),\"\")","v":0},{"$f":"IF(A19<>\"\",IFERROR(VLOOKUP(AL19,Tabelas!B:D,3,0),0),\"\")","v":0},{"$f":"IF(A19<>\"\",IFERROR(VLOOKUP(AM19,Tabelas!B:D,3,0),0),\"\")","v":0},{"$f":"IF(A19<>\"\",IFERROR(VLOOKUP(AN19,Tabelas!B:D,3,0),0),\"\")","v":0},{"$f":"IF(A19<>\"\",IFERROR(VLOOKUP(AO19,Tabelas!B:D,3,0),0),\"\")","v":0},{"$f":"IF(A19<>\"\",IFERROR(VLOOKUP(AP19,Tabelas!B:D,3,0),0),\"\")","v":0},{"$f":"IF(A19<>\"\",IFERROR(VLOOKUP(AQ19,Tabelas!B:D,3,0),0),\"\")","v":0},0,0,0,0,0,0,0,0]
["FULANO 12",12,null,null,null,null,null,null,null,null,null,null,null,null,null,null,null,null,null,null,null,null,null,null,null,null,null,null,null,null,null,null,null,null,null,null,null,null,null,null,null,null,null,{"$f":"IF(A20<>\"\",IFERROR(VLOOKUP(M20,Tabelas!B:D,3,0),0),\"\")","v":0},{"$f":"IF(A20<>\"\",IFERROR(VLOOKUP(N20,Tabelas!B:D,3,0),0),\"\")","v":0},{"$f":"IF(A20<>\"\",IFERROR(VLOOKUP(O20,Tabelas!B:D,3,0),0),\"\")","v":0},{"$f":"IF(A20<>\"\",IFERROR(VLOOKUP(P20,Tabelas!B:D,3,0),0),\"\")","v":0},{"$f":"IF(A20<>\"\",IFERROR(VLOOKUP(Q20,Tabelas!B:D,3,0),0),\"\")","v":0},{"$f":"IF(A20<>\"\",IFERROR(VLOOKUP(R20,Tabelas!B:D,3,0),0),\"\")","v":0},{"$f":"IF(A20<>\"\",IFERROR(VLOOKUP(S20,Tabelas!B:D,3,0),0),\"\")","v":0},{"$f":"IF(A20<>\"\",IFERROR(VLOOKUP(T20,Tabelas!B:D,3,0),0),\"\")","v":0},{"$f":"IF(A20<>\"\",IFERROR(VLOOKUP(U20,Tabelas!B:D,3,0),0),\"\")","v":0},{"$f":"IF(A20<>\"\",IFERROR(VLOOKUP(V20,Tabelas!B:D,3,0),0),\"\")","v":0},{"$f":"IF(A20<>\"\",IFERROR(VLOOKUP(W20,Tabelas!B:D,3,0),0),\"\")","v":0},{"$f":"IF(A20<>\"\",IFERROR(VLOOKUP(X20,Tabelas!B:D,3,0),0),\"\")","v":0},{"$f":"IF(A20<>\"\",IFERROR(VLOOKUP(Y20,Tabelas!B:D,3,0),0),\"\")","v":0},{"$f":"IF(A20<>\"\",IFERROR(VLOOKUP(Z20,Tabelas!B:D,3,0),0),\"\")","v":0},{"$f":"IF(A20<>\"\",IFERROR(VLOOKUP(AA20,Tabelas!B:D,3,0),0),\"\")","v":0},{"$f":"IF(A20<>\"\",IFERROR(VLOOKUP(AB20,Tabelas!B:D,3,0),0),\"\")","v":0},{"$f":"IF(A20<>\"\",IFERROR(VLOOKUP(AC20,Tabelas!B:D,3,0),0),\"\")","v":0},{"$f":"IF(A20<>\"\",IFERROR(VLOOKUP(AD20,Tabelas!B:D,3,0),0),\"\")","v":0},{"$f":"IF(A20<>\"\",IFERROR(VLOOKUP(AE20,Tabelas!B:D,3,0),0),\"\")","v":0},{"$f":"IF(A20<>\"\",IFERROR(VLOOKUP(AF20,Tabelas!B:D,3,0),0),\"\")","v":0},{"$f":"IF(A20<>\"\",IFERROR(VLOOKUP(AG20,Tabelas!B:D,3,0),0),\"\")","v":0},{"$f":"IF(A20<>\"\",IFERROR(VLOOKUP(AH20,Tabelas!B:D,3,0),0),\"\")","v":0},{"$f":"IF(A20<>\"\",IFERROR(VLOOKUP(AI20,Tabelas!B:D,3,0),0),\"\")","v":0},{"$f":"IF(A20<>\"\",IFERROR(VLOOKUP(AJ20,Tabelas!B:D,3,0),0),\"\")","v":0},{"$f":"IF(A20<>\"\",IFERROR(VLOOKUP(AK20,Tabelas!B:D,3,0),0),\"\")","v":0},{"$f":"IF(A20<>\"\",IFERROR(VLOOKUP(AL20,Tabelas!B:D,3,0),0),\"\")","v":0},{"$f":"IF(A20<>\"\",IFERROR(VLOOKUP(AM20,Tabelas!B:D,3,0),0),\"\")","v":0},{"$f":"IF(A20<>\"\",IFERROR(VLOOKUP(AN20,Tabelas!B:D,3,0),0),\"\")","v":0},{"$f":"IF(A20<>\"\",IFERROR(VLOOKUP(AO20,Tabelas!B:D,3,0),0),\"\")","v":0},{"$f":"IF(A20<>\"\",IFERROR(VLOOKUP(AP20,Tabelas!B:D,3,0),0),\"\")","v":0},{"$f":"IF(A20<>\"\",IFERROR(VLOOKUP(AQ20,Tabelas!B:D,3,0),0),\"\")","v":0},0,0,0,0,0,0,0,0]
["FULANO 13",13,null,null,null,null,null,null,null,null,null,null,null,null,null,null,null,null,null,null,null,null,null,null,null,null,null,null,null,null,null,null,null,null,null,null,null,null,null,null,null,null,null,{"$f":"IF(A21<>\"\",IFERROR(VLOOKUP(M21,Tabelas!B:D,3,0),0),\"\")","v":0},{"$f":"IF(A21<>\"\",IFERROR(VLOOKUP(N21,Tabelas!B:D,3,0),0),\"\")","v":0},{"$f":"IF(A21<>\"\",IFERROR(VLOOKUP(O21,Tabelas!B:D,3,0),0),\"\")","v":0},{"$f":"IF(A21<>\"\",IFERROR(VLOOKUP(P21,Tabelas!B:D,3,0),0),\"\")","v":0},{"$f":"IF(A21<>\"\",IFERROR(VLOOKUP(Q21,Tabelas!B:D,3,0),0),\"\")","v":0},{"$f":"IF(A21<>\"\",IFERROR(VLOOKUP(R21,Tabelas!B:D,3,0),0),\"\")","v":0},{"$f":"IF(A21<>\"\",IFERROR(VLOOKUP(S21,Tabelas!B:D,3,0),0),\"\")","v":0},{"$f":"IF(A21<>\"\",IFERROR(VLOOKUP(T21,Tabelas!B:D,3,0),0),\"\")","v":0},{"$f":"IF(A21<>\"\",IFERROR(VLOOKUP(U21,Tabelas!B:D,3,0),0),\"\")","v":0},{"$f":"IF(A21<>\"\",IFERROR(VLOOKUP(V21,Tabelas!B:D,3,0),0),\"\")","v":0},{"$f":"IF(A21<>\"\",IFERROR(VLOOKUP(W21,Tabelas!B:D,3,0),0),\"\")","v":0},{"$f":"IF(A21<>\"\",IFERROR(VLOOKUP(X21,Tabelas!B:D,3,0),0),\"\")","v":0},{"$f":"IF(A21<>\"\",IFERROR(VLOOKUP(Y21,Tabelas!B:D,3,0),0),\"\")","v":0},{"$f":"IF(A21<>\"\",IFERROR(VLOOKUP(Z21,Tabelas!B:D,3,0),0),\"\")","v":0},{"$f":"IF(A21<>\"\",IFERROR(VLOOKUP(AA21,Tabelas!B:D,3,0),0),\"\")","v":0},{"$f":"IF(A21<>\"\",IFERROR(VLOOKUP(AB21,Tabelas!B:D,3,0),0),\"\")","v":0},{"$f":"IF(A21<>\"\",IFERROR(VLOOKUP(AC21,Tabelas!B:D,3,0),0),\"\")","v":0},{"$f":"IF(A21<>\"\",IFERROR(VLOOKUP(AD21,Tabelas!B:D,3,0),0),\"\")","v":0},{"$f":"IF(A21<>\"\",IFERROR(VLOOKUP(AE21,Tabelas!B:D,3,0),0),\"\")","v":0},{"$f":"IF(A21<>\"\",IFERROR(VLOOKUP(AF21,Tabelas!B:D,3,0),0),\"\")","v":0},{"$f":"IF(A21<>\"\",IFERROR(VLOOKUP(AG21,Tabelas!B:D,3,0),0),\"\")","v":0},{"$f":"IF(A21<>\"\",IFERROR(VLOOKUP(AH21,Tabelas!B:D,3,0),0),\"\")","v":0},{"$f":"IF(A21<>\"\",IFERROR(VLOOKUP(AI21,Tabelas!B:D,3,0),0),\"\")","v":0},{"$f":"IF(A21<>\"\",IFERROR(VLOOKUP(AJ21,Tabelas!B:D,3,0),0),\"\")","v":0},{"$f":"IF(A21<>\"\",IFERROR(VLOOKUP(AK21,Tabelas!B:D,3,0),0),\"\")","v":0},{"$f":"IF(A21<>\"\",IFERROR(VLOOKUP(AL21,Tabelas!B:D,3,0),0),\"\")","v":0},{"$f":"IF(A21<>\"\",IFERROR(VLOOKUP(AM21,Tabelas!B:D,3,0),0),\"\")","v":0},{"$f":"IF(A21<>\"\",IFERROR(VLOOKUP(AN21,Tabelas!B:D,3,0),0),\"\")","v":0},{"$f":"IF(A21<>\"\",IFERROR(VLOOKUP(AO21,Tabelas!B:D,3,0),0),\"\")","v":0},{"$f":"IF(A21<>\"\",IFERROR(VLOOKUP(AP21,Tabelas!B:D,3,0),0),\"\")","v":0},{"$f":"IF(A21<>\"\",IFERROR(VLOOKUP(AQ21,Tabelas!B:D,3,0),0),\"\")","v":0},0,0,0,0,0,0,0,0]
["FULANO 14",14,null,null,null,null,null,null,null,null,null,null,null,null,null,null,null,null,null,null,null,null,null,null,null,null,null,null,null,null,null,null,null,null,null,null,null,null,null,null,null,null,null,{"$f":"IF(A22<>\"\",IFERROR(VLOOKUP(M22,Tabelas!B:D,3,0),0),\"\")","v":0},{"$f":"IF(A22<>\"\",IFERROR(VLOOKUP(N22,Tabelas!B:D,3,0),0),\"\")","v":0},{"$f":"IF(A22<>\"\",IFERROR(VLOOKUP(O22,Tabelas!B:D,3,0),0),\"\")","v":0},{"$f":"IF(A22<>\"\",IFERROR(VLOOKUP(P22,Tabelas!B:D,3,0),0),\"\")","v":0},{"$f":"IF(A22<>\"\",IFERROR(VLOOKUP(Q22,Tabelas!B:D,3,0),0),\"\")","v":0},{"$f":"IF(A22<>\"\",IFERROR(VLOOKUP(R22,Tabelas!B:D,3,0),0),\"\")","v":0},{"$f":"IF(A22<>\"\",IFERROR(VLOOKUP(S22,Tabelas!B:D,3,0),0),\"\")","v":0},{"$f":"IF(A22<>\"\",IFERROR(VLOOKUP(T22,Tabelas!B:D,3,0),0),\"\")","v":0},{"$f":"IF(A22<>\"\",IFERROR(VLOOKUP(U22,Tabelas!B:D,3,0),0),\"\")","v":0},{"$f":"IF(A22<>\"\",IFERROR(VLOOKUP(V22,Tabelas!B:D,3,0),0),\"\")","v":0},{"$f":"IF(A22<>\"\",IFERROR(VLOOKUP(W22,Tabelas!B:D,3,0),0),\"\")","v":0},{"$f":"IF(A22<>\"\",IFERROR(VLOOKUP(X22,Tabelas!B:D,3,0),0),\"\")","v":0},{"$f":"IF(A22<>\"\",IFERROR(VLOOKUP(Y22,Tabelas!B:D,3,0),0),\"\")","v":0},{"$f":"IF(A22<>\"\",IFERROR(VLOOKUP(Z22,Tabelas!B:D,3,0),0),\"\")","v":0},{"$f":"IF(A22<>\"\",IFERROR(VLOOKUP(AA22,Tabelas!B:D,3,0),0),\"\")","v":0},{"$f":"IF(A22<>\"\",IFERROR(VLOOKUP(AB22,Tabelas!B:D,3,0),0),\"\")","v":0},{"$f":"IF(A22<>\"\",IFERROR(VLOOKUP(AC22,Tabelas!B:D,3,0),0),\"\")","v":0},{"$f":"IF(A22<>\"\",IFERROR(VLOOKUP(AD22,Tabelas!B:D,3,0),0),\"\")","v":0},{"$f":"IF(A22<>\"\",IFERROR(VLOOKUP(AE22,Tabelas!B:D,3,0),0),\"\")","v":0},{"$f":"IF(A22<>\"\",IFERROR(VLOOKUP(AF22,Tabelas!B:D,3,0),0),\"\")","v":0},{"$f":"IF(A22<>\"\",IFERROR(VLOOKUP(AG22,Tabelas!B:D,3,0),0),\"\")","v":0},{"$f":"IF(A22<>\"\",IFERROR(VLOOKUP(AH22,Tabelas!B:D,3,0),0),\"\")","v":0},{"$f":"IF(A22<>\"\",IFERROR(VLOOKUP(AI22,Tabelas!B:D,3,0),0),\"\")","v":0},{"$f":"IF(A22<>\"\",IFERROR(VLOOKUP(AJ22,Tabelas!B:D,3,0),0),\"\")","v":0},{"$f":"IF(A22<>\"\",IFERROR(VLOOKUP(AK22,Tabelas!B:D,3,0),0),\"\")","v":0},{"$f":"IF(A22<>\"\",IFERROR(VLOOKUP(AL22,Tabelas!B:D,3,0),0),\"\")","v":0},{"$f":"IF(A22<>\"\",IFERROR(VLOOKUP(AM22,Tabelas!B:D,3,0),0),\"\")","v":0},{"$f":"IF(A22<>\"\",IFERROR(VLOOKUP(AN22,Tabelas!B:D,3,0),0),\"\")","v":0},{"$f":"IF(A22<>\"\",IFERROR(VLOOKUP(AO22,Tabelas!B:D,3,0),0),\"\")","v":0},{"$f":"IF(A22<>\"\",IFERROR(VLOOKUP(AP22,Tabelas!B:D,3,0),0),\"\")","v":0},{"$f":"IF(A22<>\"\",IFERROR(VLOOKUP(AQ22,Tabelas!B:D,3,0),0),\"\")","v":0},0,0,0,0,0,0,0,0]
["FULANO 15",15,null,null,null,null,null,null,null,null,null,null,null,null,null,null,null,null,null,null,null,null,"FE24",null,null,null,null,null,null,null,null,null,null,null,null,null,null,null,null,null,null,null,null,{"$f":"IF(A23<>\"\",IFERROR(VLOOKUP(M23,Tabelas!B:D,3,0),0),\"\")","v":0},{"$f":"IF(A23<>\"\",IFERROR(VLOOKUP(N23,Tabelas!B:D,3,0),0),\"\")","v":0},{"$f":"IF(A23<>\"\",IFERROR(VLOOKUP(O23,Tabelas!B:D,3,0),0),\"\")","v":0},{"$f":"IF(A23<>\"\",IFERROR(VLOOKUP(P23,Tabelas!B:D,3,0),0),\"\")","v":0},{"$f":"IF(A23<>\"\",IFERROR(VLOOKUP(Q23,Tabelas!B:D,3,0),0),\"\")","v":0},{"$f":"IF(A23<>\"\",IFERROR(VLOOKUP(R23,Tabelas!B:D,3,0),0),\"\")","v":0},{"$f":"IF(A23<>\"\",IFERROR(VLOOKUP(S23,Tabelas!B:D,3,0),0),\"\")","v":0},{"$f":"IF(A23<>\"\",IFERROR(VLOOKUP(T23,Tabelas!B:D,3,0),0),\"\")","v":0},{"$f":"IF(A23<>\"\",IFERROR(VLOOKUP(U23,Tabelas!B:D,3,0),0),\"\")","v":0},{"$f":"IF(A23<>\"\",IFERROR(VLOOKUP(V23,Tabelas!B:D,3,0),0),\"\")","v":0},{"$f":"IF(A23<>\"\",IFERROR(VLOOKUP(W23,Tabelas!B:D,3,0),0),\"\")","v":24},{"$f":"IF(A23<>\"\",IFERROR(VLOOKUP(X23,Tabelas!B:D,3,0),0),\"\")","v":0},{"$f":"IF(A23<>\"\",IFERROR(VLOOKUP(Y23,Tabelas!B:D,3,0),0),\"\")","v":0},{"$f":"IF(A23<>\"\",IFERROR(VLOOKUP(Z23,Tabelas!B:D,3,0),0),\"\")","v":0},{"$f":"IF(A23<>\"\",IFERROR(VLOOKUP(AA23,Tabelas!B:D,3,0),0),\"\")","v":0},{"$f":"IF(A23<>\"\",IFERROR(VLOOKUP(AB23,Tabelas!B:D,3,0),0),\"\")","v":0},{"$f":"IF(A23<>\"\",IFERROR(VLOOKUP(AC23,Tabelas!B:D,3,0),0),\"\")","v":0},{"$f":"IF(A23<>\"\",IFERROR(VLOOKUP(AD23,Tabelas!B:D,3,0),0),\"\")","v":0},{"$f":"IF(A23<>\"\",IFERROR(VLOOKUP(AE23,Tabelas!B:D,3,0),0),\"\")","v":0},{"$f":"IF(A23<>\"\",IFERROR(VLOOKUP(AF23,Tabelas!B:D,3,0),0),\"\")","v":0},{"$f":"IF(A23<>\"\",IFERROR(VLOOKUP(AG23,Tabelas!B:D,3,0),0),\"\")","v":0},{"$f":"IF(A23<>\"\",IFERROR(VLOOKUP(AH23,Tabelas!B:D,3,0),0),\"\")","v":0},{"$f":"IF(A23<>\"\",IFERROR(VLOOKUP(AI23,Tabelas!B:D,3,0),0),\"\")","v":0},{"$f":"IF(A23<>\"\",IFERROR(VLOOKUP(AJ23,Tabelas!B:D,3,0),0),\"\")","v":0},{"$f":"IF(A23<>\"\",IFERROR(VLOOKUP(AK23,Tabelas!B:D,3,0),0),\"\")","v":0},{"$f":"IF(A23<>\"\",IFERROR(VLOOKUP(AL23,Tabelas!B:D,3,0),0),\"\")","v":0},{"$f":"IF(A23<>\"\",IFERROR(VLOOKUP(AM23,Tabelas!B:D,3,0),0),\"\")","v":0},{"$f":"IF(A23<>\"\",IFERROR(VLOOKUP(AN23,Tabelas!B:D,3,0),0),\"\")","v":0},{"$f":"IF(A23<>\"\",IFERROR(VLOOKUP(AO23,Tabelas!B:D,3,0),0),\"\")","v":0},{"$f":"IF(A23<>\"\",IFERROR(VLOOKUP(AP23,Tabelas!B:D,3,0),0),\"\")","v":0},{"$f":"IF(A23<>\"\",IFERROR(VLOOKUP(AQ23,Tabelas!B:D,3,0),0),\"\")","v":0},24,0,0,0,0,0,0,0]
["FULANO 16",16,null,null,null,null,null,null,null,null,null,null,null,null,null,null,null,null,null,null,null,null,null,null,null,null,null,null,null,null,null,null,null,null,null,null,null,null,null,null,null,null,null,{"$f":"IF(A24<>\"\",IFERROR(VLOOKUP(M24,Tabelas!B:D,3,0),0),\"\")","v":0},{"$f":"IF(A24<>\"\",IFERROR(VLOOKUP(N24,Tabelas!B:D,3,0),0),\"\")","v":0},{"$f":"IF(A24<>\"\",IFERROR(VLOOKUP(O24,Tabelas!B:D,3,0),0),\"\")","v":0},{"$f":"IF(A24<>\"\",IFERROR(VLOOKUP(P24,Tabelas!B:D,3,0),0),\"\")","v":0},{"$f":"IF(A24<>\"\",IFERROR(VLOOKUP(Q24,Tabelas!B:D,3,0),0),\"\")","v":0},{"$f":"IF(A24<>\"\",IFERROR(VLOOKUP(R24,Tabelas!B:D,3,0),0),\"\")","v":0},{"$f":"IF(A24<>\"\",IFERROR(VLOOKUP(S24,Tabelas!B:D,3,0),0),\"\")","v":0},{"$f":"IF(A24<>\"\",IFERROR(VLOOKUP(T24,Tabelas!B:D,3,0),0),\"\")","v":0},{"$f":"IF(A24<>\"\",IFERROR(VLOOKUP(U24,Tabelas!B:D,3,0),0),\"\")","v":0},{"$f":"IF(A24<>\"\",IFERROR(VLOOKUP(V24,Tabelas!B:D,3,0),0),\"\")","v":0},{"$f":"IF(A24<>\"\",IFERROR(VLOOKUP(W24,Tabelas!B:D,3,0),0),\"\")","v":0},{"$f":"IF(A24<>\"\",IFERROR(VLOOKUP(X24,Tabelas!B:D,3,0),0),\"\")","v":0},{"$f":"IF(A24<>\"\",IFERROR(VLOOKUP(Y24,Tabelas!B:D,3,0),0),\"\")","v":0},{"$f":"IF(A24<>\"\",IFERROR(VLOOKUP(Z24,Tabelas!B:D,3,0),0),\"\")","v":0},{"$f":"IF(A24<>\"\",IFERROR(VLOOKUP(AA24,Tabelas!B:D,3,0),0),\"\")","v":0},{"$f":"IF(A24<>\"\",IFERROR(VLOOKUP(AB24,Tabelas!B:D,3,0),0),\"\")","v":0},{"$f":"IF(A24<>\"\",IFERROR(VLOOKUP(AC24,Tabelas!B:D,3,0),0),\"\")","v":0},{"$f":"IF(A24<>\"\",IFERROR(VLOOKUP(AD24,Tabelas!B:D,3,0),0),\"\")","v":0},{"$f":"IF(A24<>\"\",IFERROR(VLOOKUP(AE24,Tabelas!B:D,3,0),0),\"\")","v":0},{"$f":"IF(A24<>\"\",IFERROR(VLOOKUP(AF24,Tabelas!B:D,3,0),0),\"\")","v":0},{"$f":"IF(A24<>\"\",IFERROR(VLOOKUP(AG24,Tabelas!B:D,3,0),0),\"\")","v":0},{"$f":"IF(A24<>\"\",IFERROR(VLOOKUP(AH24,Tabelas!B:D,3,0),0),\"\")","v":0},{"$f":"IF(A24<>\"\",IFERROR(VLOOKUP(AI24,Tabelas!B:D,3,0),0),\"\")","v":0},{"$f":"IF(A24<>\"\",IFERROR(VLOOKUP(AJ24,Tabelas!B:D,3,0),0),\"\")","v":0},{"$f":"IF(A24<>\"\",IFERROR(VLOOKUP(AK24,Tabelas!B:D,3,0),0),\"\")","v":0},{"$f":"IF(A24<>\"\",IFERROR(VLOOKUP(AL24,Tabelas!B:D,3,0),0),\"\")","v":0},{"$f":"IF(A24<>\"\",IFERROR(VLOOKUP(AM24,Tabelas!B:D,3,0),0),\"\")","v":0},{"$f":"IF(A24<>\"\",IFERROR(VLOOKUP(AN24,Tabelas!B:D,3,0),0),\"\")","v":0},{"$f":"IF(A24<>\"\",IFERROR(VLOOKUP(AO24,Tabelas!B:D,3,0),0),\"\")","v":0},{"$f":"IF(A24<>\"\",IFERROR(VLOOKUP(AP24,Tabelas!B:D,3,0),0),\"\")","v":0},{"$f":"IF(A24<>\"\",IFERROR(VLOOKUP(AQ24,Tabelas!B:D,3,0),0),\"\")","v":0},0,0,0,0,0,0,0,0]
["FULANO 17",17,null,null,null,null,null,null,null,null,null,null,null,null,null,null,null,null,null,null,null,null,null,null,null,null,null,null,null,null,null,null,null,null,null,null,null,null,null,null,null,null,null,{"$f":"IF(A25<>\"\",IFERROR(VLOOKUP(M25,Tabelas!B:D,3,0),0),\"\")","v":0},{"$f":"IF(A25<>\"\",IFERROR(VLOOKUP(N25,Tabelas!B:D,3,0),0),\"\")","v":0},{"$f":"IF(A25<>\"\",IFERROR(VLOOKUP(O25,Tabelas!B:D,3,0),0),\"\")","v":0},{"$f":"IF(A25<>\"\",IFERROR(VLOOKUP(P25,Tabelas!B:D,3,0),0),\"\")","v":0},{"$f":"IF(A25<>\"\",IFERROR(VLOOKUP(Q25,Tabelas!B:D,3,0),0),\"\")","v":0},{"$f":"IF(A25<>\"\",IFERROR(VLOOKUP(R25,Tabelas!B:D,3,0),0),\"\")","v":0},{"$f":"IF(A25<>\"\",IFERROR(VLOOKUP(S25,Tabelas!B:D,3,0),0),\"\")","v":0},{"$f":"IF(A25<>\"\",IFERROR(VLOOKUP(T25,Tabelas!B:D,3,0),0),\"\")","v":0},{"$f":"IF(A25<>\"\",IFERROR(VLOOKUP(U25,Tabelas!B:D,3,0),0),\"\")","v":0},{"$f":"IF(A25<>\"\",IFERROR(VLOOKUP(V25,Tabelas!B:D,3,0),0),\"\")","v":0},{"$f":"IF(A25<>\"\",IFERROR(VLOOKUP(W25,Tabelas!B:D,3,0),0),\"\")","v":0},{"$f":"IF(A25<>\"\",IFERROR(VLOOKUP(X25,Tabelas!B:D,3,0),0),\"\")","v":0},{"$f":"IF(A25<>\"\",IFERROR(VLOOKUP(Y25,Tabelas!B:D,3,0),0),\"\")","v":0},{"$f":"IF(A25<>\"\",IFERROR(VLOOKUP(Z25,Tabelas!B:D,3,0),0),\"\")","v":0},{"$f":"IF(A25<>\"\",IFERROR(VLOOKUP(AA25,Tabelas!B:D,3,0),0),\"\")","v":0},{"$f":"IF(A25<>\"\",IFERROR(VLOOKUP(AB25,Tabelas!B:D,3,0),0),\"\")","v":0},{"$f":"IF(A25<>\"\",IFERROR(VLOOKUP(AC25,Tabelas!B:D,3,0),0),\"\")","v":0},{"$f":"IF(A25<>\"\",IFERROR(VLOOKUP(AD25,Tabelas!B:D,3,0),0),\"\")","v":0},{"$f":"IF(A25<>\"\",IFERROR(VLOOKUP(AE25,Tabelas!B:D,3,0),0),\"\")","v":0},{"$f":"IF(A25<>\"\",IFERROR(VLOOKUP(AF25,Tabelas!B:D,3,0),0),\"\")","v":0},{"$f":"IF(A25<>\"\",IFERROR(VLOOKUP(AG25,Tabelas!B:D,3,0),0),\"\")","v":0},{"$f":"IF(A25<>\"\",IFERROR(VLOOKUP(AH25,Tabelas!B:D,3,0),0),\"\")","v":0},{"$f":"IF(A25<>\"\",IFERROR(VLOOKUP(AI25,Tabelas!B:D,3,0),0),\"\")","v":0},{"$f":"IF(A25<>\"\",IFERROR(VLOOKUP(AJ25,Tabelas!B:D,3,0),0),\"\")","v":0},{"$f":"IF(A25<>\"\",IFERROR(VLOOKUP(AK25,Tabelas!B:D,3,0),0),\"\")","v":0},{"$f":"IF(A25<>\"\",IFERROR(VLOOKUP(AL25,Tabelas!B:D,3,0),0),\"\")","v":0},{"$f":"IF(A25<>\"\",IFERROR(VLOOKUP(AM25,Tabelas!B:D,3,0),0),\"\")","v":0},{"$f":"IF(A25<>\"\",IFERROR(VLOOKUP(AN25,Tabelas!B:D,3,0),0),\"\")","v":0},{"$f":"IF(A25<>\"\",IFERROR(VLOOKUP(AO25,Tabelas!B:D,3,0),0),\"\")","v":0},{"$f":"IF(A25<>\"\",IFERROR(VLOOKUP(AP25,Tabelas!B:D,3,0),0),\"\")","v":0},{"$f":"IF(A25<>\"\",IFERROR(VLOOKUP(AQ25,Tabelas!B:D,3,0),0),\"\")","v":0},0,0,0,0,0,0,0,0]
["FULANO 18",18,null,null,null,null,null,null,null,null,null,null,null,null,null,null,null,null,null,null,null,null,null,null,null,null,null,null,null,null,null,null,null,null,null,null,null,null,null,null,null,null,null,{"$f":"IF(A26<>\"\",IFERROR(VLOOKUP(M26,Tabelas!B:D,3,0),0),\"\")","v":0},{"$f":"IF(A26<>\"\",IFERROR(VLOOKUP(N26,Tabelas!B:D,3,0),0),\"\")","v":0},{"$f":"IF(A26<>\"\",IFERROR(VLOOKUP(O26,Tabelas!B:D,3,0),0),\"\")","v":0},{"$f":"IF(A26<>\"\",IFERROR(VLOOKUP(P26,Tabelas!B:D,3,0),0),\"\")","v":0},{"$f":"IF(A26<>\"\",IFERROR(VLOOKUP(Q26,Tabelas!B:D,3,0),0),\"\")","v":0},{"$f":"IF(A26<>\"\",IFERROR(VLOOKUP(R26,Tabelas!B:D,3,0),0),\"\")","v":0},{"$f":"IF(A26<>\"\",IFERROR(VLOOKUP(S26,Tabelas!B:D,3,0),0),\"\")","v":0},{"$f":"IF(A26<>\"\",IFERROR(VLOOKUP(T26,Tabelas!B:D,3,0),0),\"\")","v":0},{"$f":"IF(A26<>\"\",IFERROR(VLOOKUP(U26,Tabelas!B:D,3,0),0),\"\")","v":0},{"$f":"IF(A26<>\"\",IFERROR(VLOOKUP(V26,Tabelas!B:D,3,0),0),\"\")","v":0},{"$f":"IF(A26<>\"\",IFERROR(VLOOKUP(W26,Tabelas!B:D,3,0),0),\"\")","v":0},{"$f":"IF(A26<>\"\",IFERROR(VLOOKUP(X26,Tabelas!B:D,3,0),0),\"\")","v":0},{"$f":"IF(A26<>\"\",IFERROR(VLOOKUP(Y26,Tabelas!B:D,3,0),0),\"\")","v":0},{"$f":"IF(A26<>\"\",IFERROR(VLOOKUP(Z26,Tabelas!B:D,3,0),0),\"\")","v":0},{"$f":"IF(A26<>\"\",IFERROR(VLOOKUP(AA26,Tabelas!B:D,3,0),0),\"\")","v":0},{"$f":"IF(A26<>\"\",IFERROR(VLOOKUP(AB26,Tabelas!B:D,3,0),0),\"\")","v":0},{"$f":"IF(A26<>\"\",IFERROR(VLOOKUP(AC26,Tabelas!B:D,3,0),0),\"\")","v":0},{"$f":"IF(A26<>\"\",IFERROR(VLOOKUP(AD26,Tabelas!B:D,3,0),0),\"\")","v":0},{"$f":"IF(A26<>\"\",IFERROR(VLOOKUP(AE26,Tabelas!B:D,3,0),0),\"\")","v":0},{"$f":"IF(A26<>\"\",IFERROR(VLOOKUP(AF26,Tabelas!B:D,3,0),0),\"\")","v":0},{"$f":"IF(A26<>\"\",IFERROR(VLOOKUP(AG26,Tabelas!B:D,3,0),0),\"\")","v":0},{"$f":"IF(A26<>\"\",IFERROR(VLOOKUP(AH26,Tabelas!B:D,3,0),0),\"\")","v":0},{"$f":"IF(A26<>\"\",IFERROR(VLOOKUP(AI26,Tabelas!B:D,3,0),0),\"\")","v":0},{"$f":"IF(A26<>\"\",IFERROR(VLOOKUP(AJ26,Tabelas!B:D,3,0),0),\"\")","v":0},{"$f":"IF(A26<>\"\",IFERROR(VLOOKUP(AK26,Tabelas!B:D,3,0),0),\"\")","v":0},{"$f":"IF(A26<>\"\",IFERROR(VLOOKUP(AL26,Tabelas!B:D,3,0),0),\"\")","v":0},{"$f":"IF(A26<>\"\",IFERROR(VLOOKUP(AM26,Tabelas!B:D,3,0),0),\"\")","v":0},{"$f":"IF(A26<>\"\",IFERROR(VLOOKUP(AN26,Tabelas!B:D,3,0),0),\"\")","v":0},{"$f":"IF(A26<>\"\",IFERROR(VLOOKUP(AO26,Tabelas!B:D,3,0),0),\"\")","v":0},{"$f":"IF(A26<>\"\",IFERROR(VLOOKUP(AP26,Tabelas!B:D,3,0),0),\"\")","v":0},{"$f":"IF(A26<>\"\",IFERROR(VLOOKUP(AQ26,Tabelas!B:D,3,0),0),\"\")","v":0},0,0,0,0,0,0,0,0]
["FULANO 19",19,null,null,null,null,null,null,null,null,null,null,null,null,null,null,null,null,null,null,null,null,null,null,null,null,null,null,null,null,null,null,null,null,null,null,null,null,null,null,null,null,null,{"$f":"IF(A27<>\"\",IFERROR(VLOOKUP(M27,Tabelas!B:D,3,0),0),\"\")","v":0},{"$f":"IF(A27<>\"\",IFERROR(VLOOKUP(N27,Tabelas!B:D,3,0),0),\"\")","v":0},{"$f":"IF(A27<>\"\",IFERROR(VLOOKUP(O27,Tabelas!B:D,3,0),0),\"\")","v":0},{"$f":"IF(A27<>\"\",IFERROR(VLOOKUP(P27,Tabelas!B:D,3,0),0),\"\")","v":0},{"$f":"IF(A27<>\"\",IFERROR(VLOOKUP(Q27,Tabelas!B:D,3,0),0),\"\")","v":0},{"$f":"IF(A27<>\"\",IFERROR(VLOOKUP(R27,Tabelas!B:D,3,0),0),\"\")","v":0},{"$f":"IF(A27<>\"\",IFERROR(VLOOKUP(S27,Tabelas!B:D,3,0),0),\"\")","v":0},{"$f":"IF(A27<>\"\",IFERROR(VLOOKUP(T27,Tabelas!B:D,3,0),0),\"\")","v":0},{"$f":"IF(A27<>\"\",IFERROR(VLOOKUP(U27,Tabelas!B:D,3,0),0),\"\")","v":0},{"$f":"IF(A27<>\"\",IFERROR(VLOOKUP(V27,Tabelas!B:D,3,0),0),\"\")","v":0},{"$f":"IF(A27<>\"\",IFERROR(VLOOKUP(W27,Tabelas!B:D,3,0),0),\"\")","v":0},{"$f":"IF(A27<>\"\",IFERROR(VLOOKUP(X27,Tabelas!B:D,3,0),0),\"\")","v":0},{"$f":"IF(A27<>\"\",IFERROR(VLOOKUP(Y27,Tabelas!B:D,3,0),0),\"\")","v":0},{"$f":"IF(A27<>\"\",IFERROR(VLOOKUP(Z27,Tabelas!B:D,3,0),0),\"\")","v":0},{"$f":"IF(A27<>\"\",IFERROR(VLOOKUP(AA27,Tabelas!B:D,3,0),0),\"\")","v":0},{"$f":"IF(A27<>\"\",IFERROR(VLOOKUP(AB27,Tabelas!B:D,3,0),0),\"\")","v":0},{"$f":"IF(A27<>\"\",IFERROR(VLOOKUP(AC27,Tabelas!B:D,3,0),0),\"\")","v":0},{"$f":"IF(A27<>\"\",IFERROR(VLOOKUP(AD27,Tabelas!B:D,3,0),0),\"\")","v":0},{"$f":"IF(A27<>\"\",IFERROR(VLOOKUP(AE27,Tabelas!B:D,3,0),0),\"\")","v":0},{"$f":"IF(A27<>\"\",IFERROR(VLOOKUP(AF27,Tabelas!B:D,3,0),0),\"\")","v":0},{"$f":"IF(A27<>\"\",IFERROR(VLOOKUP(AG27,Tabelas!B:D,3,0),0),\"\")","v":0},{"$f":"IF(A27<>\"\",IFERROR(VLOOKUP(AH27,Tabelas!B:D,3,0),0),\"\")","v":0},{"$f":"IF(A27<>\"\",IFERROR(VLOOKUP(AI27,Tabelas!B:D,3,0),0),\"\")","v":0},{"$f":"IF(A27<>\"\",IFERROR(VLOOKUP(AJ27,Tabelas!B:D,3,0),0),\"\")","v":0},{"$f":"IF(A27<>\"\",IFERROR(VLOOKUP(AK27,Tabelas!B:D,3,0),0),\"\")","v":0},{"$f":"IF(A27<>\"\",IFERROR(VLOOKUP(AL27,Tabelas!B:D,3,0),0),\"\")","v":0},{"$f":"IF(A27<>\"\",IFERROR(VLOOKUP(AM27,Tabelas!B:D,3,0),0),\"\")","v":0},{"$f":"IF(A27<>\"\",IFERROR(VLOOKUP(AN27,Tabelas!B:D,3,0),0),\"\")","v":0},{"$f":"IF(A27<>\"\",IFERROR(VLOOKUP(AO27,Tabelas!B:D,3,0),0),\"\")","v":0},{"$f":"IF(A27<>\"\",IFERROR(VLOOKUP(AP27,Tabelas!B:D,3,0),0),\"\")","v":0},{"$f":"IF(A27<>\"\",IFERROR(VLOOKUP(AQ27,Tabelas!B:D,3,0),0),\"\")","v":0},0,0,0,0,0,0,0,0]
["FULANO 20",20,null,null,null,null,null,null,null,null,null,null,null,null,null,null,null,null,null,null,null,null,null,null,null,null,null,null,null,null,null,null,null,null,null,null,null,null,null,null,null,null,null,{"$f":"IF(A28<>\"\",IFERROR(VLOOKUP(M28,Tabelas!B:D,3,0),0),\"\")","v":0},{"$f":"IF(A28<>\"\",IFERROR(VLOOKUP(N28,Tabelas!B:D,3,0),0),\"\")","v":0},{"$f":"IF(A28<>\"\",IFERROR(VLOOKUP(O28,Tabelas!B:D,3,0),0),\"\")","v":0},{"$f":"IF(A28<>\"\",IFERROR(VLOOKUP(P28,Tabelas!B:D,3,0),0),\"\")","v":0},{"$f":"IF(A28<>\"\",IFERROR(VLOOKUP(Q28,Tabelas!B:D,3,0),0),\"\")","v":0},{"$f":"IF(A28<>\"\",IFERROR(VLOOKUP(R28,Tabelas!B:D,3,0),0),\"\")","v":0},{"$f":"IF(A28<>\"\",IFERROR(VLOOKUP(S28,Tabelas!B:D,3,0),0),\"\")","v":0},{"$f":"IF(A28<>\"\",IFERROR(VLOOKUP(T28,Tabelas!B:D,3,0),0),\"\")","v":0},{"$f":"IF(A28<>\"\",IFERROR(VLOOKUP(U28,Tabelas!B:D,3,0),0),\"\")","v":0},{"$f":"IF(A28<>\"\",IFERROR(VLOOKUP(V28,Tabelas!B:D,3,0),0),\"\")","v":0},{"$f":"IF(A28<>\"\",IFERROR(VLOOKUP(W28,Tabelas!B:D,3,0),0),\"\")","v":0},{"$f":"IF(A28<>\"\",IFERROR(VLOOKUP(X28,Tabelas!B:D,3,0),0),\"\")","v":0},{"$f":"IF(A28<>\"\",IFERROR(VLOOKUP(Y28,Tabelas!B:D,3,0),0),\"\")","v":0},{"$f":"IF(A28<>\"\",IFERROR(VLOOKUP(Z28,Tabelas!B:D,3,0),0),\"\")","v":0},{"$f":"IF(A28<>\"\",IFERROR(VLOOKUP(AA28,Tabelas!B:D,3,0),0),\"\")","v":0},{"$f":"IF(A28<>\"\",IFERROR(VLOOKUP(AB28,Tabelas!B:D,3,0),0),\"\")","v":0},{"$f":"IF(A28<>\"\",IFERROR(VLOOKUP(AC28,Tabelas!B:D,3,0),0),\"\")","v":0},{"$f":"IF(A28<>\"\",IFERROR(VLOOKUP(AD28,Tabelas!B:D,3,0),0),\"\")","v":0},{"$f":"IF(A28<>\"\",IFERROR(VLOOKUP(AE28,Tabelas!B:D,3,0),0),\"\")","v":0},{"$f":"IF(A28<>\"\",IFERROR(VLOOKUP(AF28,Tabelas!B:D,3,0),0),\"\")","v":0},{"$f":"IF(A28<>\"\",IFERROR(VLOOKUP(AG28,Tabelas!B:D,3,0),0),\"\")","v":0},{"$f":"IF(A28<>\"\",IFERROR(VLOOKUP(AH28,Tabelas!B:D,3,0),0),\"\")","v":0},{"$f":"IF(A28<>\"\",IFERROR(VLOOKUP(AI28,Tabelas!B:D,3,0),0),\"\")","v":0},{"$f":"IF(A28<>\"\",IFERROR(VLOOKUP(AJ28,Tabelas!B:D,3,0),0),\"\")","v":0},{"$f":"IF(A28<>\"\",IFERROR(VLOOKUP(AK28,Tabelas!B:D,3,0),0),\"\")","v":0},{"$f":"IF(A28<>\"\",IFERROR(VLOOKUP(AL28,Tabelas!B:D,3,0),0),\"\")","v":0},{"$f":"IF(A28<>\"\",IFERROR(VLOOKUP(AM28,Tabelas!B:D,3,0),0),\"\")","v":0},{"$f":"IF(A28<>\"\",IFERROR(VLOOKUP(AN28,Tabelas!B:D,3,0),0),\"\")","v":0},{"$f":"IF(A28<>\"\",IFERROR(VLOOKUP(AO28,Tabelas!B:D,3,0),0),\"\")","v":0},{"$f":"IF(A28<>\"\",IFERROR(VLOOKUP(AP28,Tabelas!B:D,3,0),0),\"\")","v":0},{"$f":"IF(A28<>\"\",IFERROR(VLOOKUP(AQ28,Tabelas!B:D,3,0),0),\"\")","v":0},0,0,0,0,0,0,0,0]
["FULANO 21",21,null,null,null,null,null,null,null,null,null,null,null,null,null,null,null,null,null,null,null,null,null,null,null,null,null,null,null,null,null,null,null,null,null,null,null,null,null,null,null,null,null,{"$f":"IF(A29<>\"\",IFERROR(VLOOKUP(M29,Tabelas!B:D,3,0),0),\"\")","v":0},{"$f":"IF(A29<>\"\",IFERROR(VLOOKUP(N29,Tabelas!B:D,3,0),0),\"\")","v":0},{"$f":"IF(A29<>\"\",IFERROR(VLOOKUP(O29,Tabelas!B:D,3,0),0),\"\")","v":0},{"$f":"IF(A29<>\"\",IFERROR(VLOOKUP(P29,Tabelas!B:D,3,0),0),\"\")","v":0},{"$f":"IF(A29<>\"\",IFERROR(VLOOKUP(Q29,Tabelas!B:D,3,0),0),\"\")","v":0},{"$f":"IF(A29<>\"\",IFERROR(VLOOKUP(R29,Tabelas!B:D,3,0),0),\"\")","v":0},{"$f":"IF(A29<>\"\",IFERROR(VLOOKUP(S29,Tabelas!B:D,3,0),0),\"\")","v":0},{"$f":"IF(A29<>\"\",IFERROR(VLOOKUP(T29,Tabelas!B:D,3,0),0),\"\")","v":0},{"$f":"IF(A29<>\"\",IFERROR(VLOOKUP(U29,Tabelas!B:D,3,0),0),\"\")","v":0},{"$f":"IF(A29<>\"\",IFERROR(VLOOKUP(V29,Tabelas!B:D,3,0),0),\"\")","v":0},{"$f":"IF(A29<>\"\",IFERROR(VLOOKUP(W29,Tabelas!B:D,3,0),0),\"\")","v":0},{"$f":"IF(A29<>\"\",IFERROR(VLOOKUP(X29,Tabelas!B:D,3,0),0),\"\")","v":0},{"$f":"IF(A29<>\"\",IFERROR(VLOOKUP(Y29,Tabelas!B:D,3,0),0),\"\")","v":0},{"$f":"IF(A29<>\"\",IFERROR(VLOOKUP(Z29,Tabelas!B:D,3,0),0),\"\")","v":0},{"$f":"IF(A29<>\"\",IFERROR(VLOOKUP(AA29,Tabelas!B:D,3,0),0),\"\")","v":0},{"$f":"IF(A29<>\"\",IFERROR(VLOOKUP(AB29,Tabelas!B:D,3,0),0),\"\")","v":0},{"$f":"IF(A29<>\"\",IFERROR(VLOOKUP(AC29,Tabelas!B:D,3,0),0),\"\")","v":0},{"$f":"IF(A29<>\"\",IFERROR(VLOOKUP(AD29,Tabelas!B:D,3,0),0),\"\")","v":0},{"$f":"IF(A29<>\"\",IFERROR(VLOOKUP(AE29,Tabelas!B:D,3,0),0),\"\")","v":0},{"$f":"IF(A29<>\"\",IFERROR(VLOOKUP(AF29,Tabelas!B:D,3,0),0),\"\")","v":0},{"$f":"IF(A29<>\"\",IFERROR(VLOOKUP(AG29,Tabelas!B:D,3,0),0),\"\")","v":0},{"$f":"IF(A29<>\"\",IFERROR(VLOOKUP(AH29,Tabelas!B:D,3,0),0),\"\")","v":0},{"$f":"IF(A29<>\"\",IFERROR(VLOOKUP(AI29,Tabelas!B:D,3,0),0),\"\")","v":0},{"$f":"IF(A29<>\"\",IFERROR(VLOOKUP(AJ29,Tabelas!B:D,3,0),0),\"\")","v":0},{"$f":"IF(A29<>\"\",IFERROR(VLOOKUP(AK29,Tabelas!B:D,3,0),0),\"\")","v":0},{"$f":"IF(A29<>\"\",IFERROR(VLOOKUP(AL29,Tabelas!B:D,3,0),0),\"\")","v":0},{"$f":"IF(A29<>\"\",IFERROR(VLOOKUP(AM29,Tabelas!B:D,3,0),0),\"\")","v":0},{"$f":"IF(A29<>\"\",IFERROR(VLOOKUP(AN29,Tabelas!B:D,3,0),0),\"\")","v":0},{"$f":"IF(A29<>\"\",IFERROR(VLOOKUP(AO29,Tabelas!B:D,3,0),0),\"\")","v":0},{"$f":"IF(A29<>\"\",IFERROR(VLOOKUP(AP29,Tabelas!B:D,3,0),0),\"\")","v":0},{"$f":"IF(A29<>\"\",IFERROR(VLOOKUP(AQ29,Tabelas!B:D,3,0),0),\"\")","v":0},0,0,0,0,0,0,0,0]
["FULANO 22",22,null,null,null,null,null,null,null,null,null,null,null,null,null,null,null,null,null,null,null,null,null,null,null,null,null,null,null,null,null,null,null,null,null,null,null,null,null,null,null,null,null,{"$f":"IF(A30<>\"\",IFERROR(VLOOKUP(M30,Tabelas!B:D,3,0),0),\"\")","v":0},{"$f":"IF(A30<>\"\",IFERROR(VLOOKUP(N30,Tabelas!B:D,3,0),0),\"\")","v":0},{"$f":"IF(A30<>\"\",IFERROR(VLOOKUP(O30,Tabelas!B:D,3,0),0),\"\")","v":0},{"$f":"IF(A30<>\"\",IFERROR(VLOOKUP(P30,Tabelas!B:D,3,0),0),\"\")","v":0},{"$f":"IF(A30<>\"\",IFERROR(VLOOKUP(Q30,Tabelas!B:D,3,0),0),\"\")","v":0},{"$f":"IF(A30<>\"\",IFERROR(VLOOKUP(R30,Tabelas!B:D,3,0),0),\"\")","v":0},{"$f":"IF(A30<>\"\",IFERROR(VLOOKUP(S30,Tabelas!B:D,3,0),0),\"\")","v":0},{"$f":"IF(A30<>\"\",IFERROR(VLOOKUP(T30,Tabelas!B:D,3,0),0),\"\")","v":0},{"$f":"IF(A30<>\"\",IFERROR(VLOOKUP(U30,Tabelas!B:D,3,0),0),\"\")","v":0},{"$f":"IF(A30<>\"\",IFERROR(VLOOKUP(V30,Tabelas!B:D,3,0),0),\"\")","v":0},{"$f":"IF(A30<>\"\",IFERROR(VLOOKUP(W30,Tabelas!B:D,3,0),0),\"\")","v":0},{"$f":"IF(A30<>\"\",IFERROR(VLOOKUP(X30,Tabelas!B:D,3,0),0),\"\")","v":0},{"$f":"IF(A30<>\"\",IFERROR(VLOOKUP(Y30,Tabelas!B:D,3,0),0),\"\")","v":0},{"$f":"IF(A30<>\"\",IFERROR(VLOOKUP(Z30,Tabelas!B:D,3,0),0),\"\")","v":0},{"$f":"IF(A30<>\"\",IFERROR(VLOOKUP(AA30,Tabelas!B:D,3,0),0),\"\")","v":0},{"$f":"IF(A30<>\"\",IFERROR(VLOOKUP(AB30,Tabelas!B:D,3,0),0),\"\")","v":0},{"$f":"IF(A30<>\"\",IFERROR(VLOOKUP(AC30,Tabelas!B:D,3,0),0),\"\")","v":0},{"$f":"IF(A30<>\"\",IFERROR(VLOOKUP(AD30,Tabelas!B:D,3,0),0),\"\")","v":0},{"$f":"IF(A30<>\"\",IFERROR(VLOOKUP(AE30,Tabelas!B:D,3,0),0),\"\")","v":0},{"$f":"IF(A30<>\"\",IFERROR(VLOOKUP(AF30,Tabelas!B:D,3,0),0),\"\")","v":0},{"$f":"IF(A30<>\"\",IFERROR(VLOOKUP(AG30,Tabelas!B:D,3,0),0),\"\")","v":0},{"$f":"IF(A30<>\"\",IFERROR(VLOOKUP(AH30,Tabelas!B:D,3,0),0),\"\")","v":0},{"$f":"IF(A30<>\"\",IFERROR(VLOOKUP(AI30,Tabelas!B:D,3,0),0),\"\")","v":0},{"$f":"IF(A30<>\"\",IFERROR(VLOOKUP(AJ30,Tabelas!B:D,3,0),0),\"\")","v":0},{"$f":"IF(A30<>\"\",IFERROR(VLOOKUP(AK30,Tabelas!B:D,3,0),0),\"\")","v":0},{"$f":"IF(A30<>\"\",IFERROR(VLOOKUP(AL30,Tabelas!B:D,3,0),0),\"\")","v":0},{"$f":"IF(A30<>\"\",IFERROR(VLOOKUP(AM30,Tabelas!B:D,3,0),0),\"\")","v":0},{"$f":"IF(A30<>\"\",IFERROR(VLOOKUP(AN30,Tabelas!B:D,3,0),0),\"\")","v":0},{"$f":"IF(A30<>\"\",IFERROR(VLOOKUP(AO30,Tabelas!B:D,3,0),0),\"\")","v":0},{"$f":"IF(A30<>\"\",IFERROR(VLOOKUP(AP30,Tabelas!B:D,3,0),0),\"\")","v":0},{"$f":"IF(A30<>\"\",IFERROR(VLOOKUP(AQ30,Tabelas!B:D,3,0),0),\"\")","v":0},0,0,0,0,0,0,0,0]
["FULANO 23",23,null,null,null,null,null,null,null,null,null,null,null,null,null,null,null,null,null,null,null,null,null,null,null,null,null,null,null,null,null,null,null,null,null,null,null,null,null,null,null,null,null,{"$f":"IF(A31<>\"\",IFERROR(VLOOKUP(M31,Tabelas!B:D,3,0),0),\"\")","v":0},{"$f":"IF(A31<>\"\",IFERROR(VLOOKUP(N31,Tabelas!B:D,3,0),0),\"\")","v":0},{"$f":"IF(A31<>\"\",IFERROR(VLOOKUP(O31,Tabelas!B:D,3,0),0),\"\")","v":0},{"$f":"IF(A31<>\"\",IFERROR(VLOOKUP(P31,Tabelas!B:D,3,0),0),\"\")","v":0},{"$f":"IF(A31<>\"\",IFERROR(VLOOKUP(Q31,Tabelas!B:D,3,0),0),\"\")","v":0},{"$f":"IF(A31<>\"\",IFERROR(VLOOKUP(R31,Tabelas!B:D,3,0),0),\"\")","v":0},{"$f":"IF(A31<>\"\",IFERROR(VLOOKUP(S31,Tabelas!B:D,3,0),0),\"\")","v":0},{"$f":"IF(A31<>\"\",IFERROR(VLOOKUP(T31,Tabelas!B:D,3,0),0),\"\")","v":0},{"$f":"IF(A31<>\"\",IFERROR(VLOOKUP(U31,Tabelas!B:D,3,0),0),\"\")","v":0},{"$f":"IF(A31<>\"\",IFERROR(VLOOKUP(V31,Tabelas!B:D,3,0),0),\"\")","v":0},{"$f":"IF(A31<>\"\",IFERROR(VLOOKUP(W31,Tabelas!B:D,3,0),0),\"\")","v":0},{"$f":"IF(A31<>\"\",IFERROR(VLOOKUP(X31,Tabelas!B:D,3,0),0),\"\")","v":0},{"$f":"IF(A31<>\"\",IFERROR(VLOOKUP(Y31,Tabelas!B:D,3,0),0),\"\")","v":0},{"$f":"IF(A31<>\"\",IFERROR(VLOOKUP(Z31,Tabelas!B:D,3,0),0),\"\")","v":0},{"$f":"IF(A31<>\"\",IFERROR(VLOOKUP(AA31,Tabelas!B:D,3,0),0),\"\")","v":0},{"$f":"IF(A31<>\"\",IFERROR(VLOOKUP(AB31,Tabelas!B:D,3,0),0),\"\")","v":0},{"$f":"IF(A31<>\"\",IFERROR(VLOOKUP(AC31,Tabelas!B:D,3,0),0),\"\")","v":0},{"$f":"IF(A31<>\"\",IFERROR(VLOOKUP(AD31,Tabelas!B:D,3,0),0),\"\")","v":0},{"$f":"IF(A31<>\"\",IFERROR(VLOOKUP(AE31,Tabelas!B:D,3,0),0),\"\")","v":0},{"$f":"IF(A31<>\"\",IFERROR(VLOOKUP(AF31,Tabelas!B:D,3,0),0),\"\")","v":0},{"$f":"IF(A31<>\"\",IFERROR(VLOOKUP(AG31,Tabelas!B:D,3,0),0),\"\")","v":0},{"$f":"IF(A31<>\"\",IFERROR(VLOOKUP(AH31,Tabelas!B:D,3,0),0),\"\")","v":0},{"$f":"IF(A31<>\"\",IFERROR(VLOOKUP(AI31,Tabelas!B:D,3,0),0),\"\")","v":0},{"$f":"IF(A31<>\"\",IFERROR(VLOOKUP(AJ31,Tabelas!B:D,3,0),0),\"\")","v":0},{"$f":"IF(A31<>\"\",IFERROR(VLOOKUP(AK31,Tabelas!B:D,3,0),0),\"\")","v":0},{"$f":"IF(A31<>\"\",IFERROR(VLOOKUP(AL31,Tabelas!B:D,3,0),0),\"\")","v":0},{"$f":"IF(A31<>\"\",IFERROR(VLOOKUP(AM31,Tabelas!B:D,3,0),0),\"\")","v":0},{"$f":"IF(A31<>\"\",IFERROR(VLOOKUP(AN31,Tabelas!B:D,3,0),0),\"\")","v":0},{"$f":"IF(A31<>\"\",IFERROR(VLOOKUP(AO31,Tabelas!B:D,3,0),0),\"\")","v":0},{"$f":"IF(A31<>\"\",IFERROR(VLOOKUP(AP31,Tabelas!B:D,3,0),0),\"\")","v":0},{"$f":"IF(A31<>\"\",IFERROR(VLOOKUP(AQ31,Tabelas!B:D,3,0),0),\"\")","v":0},0,0,0,0,0,0,0,0]
["FULANO 24",24,null,null,null,null,null,null,null,null,null,null,null,null,null,null,null,null,null,null,null,null,null,"N8",null,null,null,null,null,null,null,null,null,null,null,null,null,null,null,null,null,null,null,{"$f":"IF(A32<>\"\",IFERROR(VLOOKUP(M32,Tabelas!B:D,3,0),0),\"\")","v":0},{"$f":"IF(A32<>\"\",IFERROR(VLOOKUP(N32,Tabelas!B:D,3,0),0),\"\")","v":0},{"$f":"IF(A32<>\"\",IFERROR(VLOOKUP(O32,Tabelas!B:D,3,0),0),\"\")","v":0},{"$f":"IF(A32<>\"\",IFERROR(VLOOKUP(P32,Tabelas!B:D,3,0),0),\"\")","v":0},{"$f":"IF(A32<>\"\",IFERROR(VLOOKUP(Q32,Tabelas!B:D,3,0),0),\"\")","v":0},{"$f":"IF(A32<>\"\",IFERROR(VLOOKUP(R32,Tabelas!B:D,3,0),0),\"\")","v":0},{"$f":"IF(A32<>\"\",IFERROR(VLOOKUP(S32,Tabelas!B:D,3,0),0),\"\")","v":0},{"$f":"IF(A32<>\"\",IFERROR(VLOOKUP(T32,Tabelas!B:D,3,0),0),\"\")","v":0},{"$f":"IF(A32<>\"\",IFERROR(VLOOKUP(U32,Tabelas!B:D,3,0),0),\"\")","v":0},{"$f":"IF(A32<>\"\",IFERROR(VLOOKUP(V32,Tabelas!B:D,3,0),0),\"\")","v":0},{"$f":"IF(A32<>\"\",IFERROR(VLOOKUP(W32,Tabelas!B:D,3,0),0),\"\")","v":0},{"$f":"IF(A32<>\"\",IFERROR(VLOOKUP(X32,Tabelas!B:D,3,0),0),\"\")","v":12},{"$f":"IF(A32<>\"\",IFERROR(VLOOKUP(Y32,Tabelas!B:D,3,0),0),\"\")","v":0},{"$f":"IF(A32<>\"\",IFERROR(VLOOKUP(Z32,Tabelas!B:D,3,0),0),\"\")","v":0},{"$f":"IF(A32<>\"\",IFERROR(VLOOKUP(AA32,Tabelas!B:D,3,0),0),\"\")","v":0},{"$f":"IF(A32<>\"\",IFERROR(VLOOKUP(AB32,Tabelas!B:D,3,0),0),\"\")","v":0},{"$f":"IF(A32<>\"\",IFERROR(VLOOKUP(AC32,Tabelas!B:D,3,0),0),\"\")","v":0},{"$f":"IF(A32<>\"\",IFERROR(VLOOKUP(AD32,Tabelas!B:D,3,0),0),\"\")","v":0},{"$f":"IF(A32<>\"\",IFERROR(VLOOKUP(AE32,Tabelas!B:D,3,0),0),\"\")","v":0},{"$f":"IF(A32<>\"\",IFERROR(VLOOKUP(AF32,Tabelas!B:D,3,0),0),\"\")","v":0},{"$f":"IF(A32<>\"\",IFERROR(VLOOKUP(AG32,Tabelas!B:D,3,0),0),\"\")","v":0},{"$f":"IF(A32<>\"\",IFERROR(VLOOKUP(AH32,Tabelas!B:D,3,0),0),\"\")","v":0},{"$f":"IF(A32<>\"\",IFERROR(VLOOKUP(AI32,Tabelas!B:D,3,0),0),\"\")","v":0},{"$f":"IF(A32<>\"\",IFERROR(VLOOKUP(AJ32,Tabelas!B:D,3,0),0),\"\")","v":0},{"$f":"IF(A32<>\"\",IFERROR(VLOOKUP(AK32,Tabelas!B:D,3,0),0),\"\")","v":0},{"$f":"IF(A32<>\"\",IFERROR(VLOOKUP(AL32,Tabelas!B:D,3,0),0),\"\")","v":0},{"$f":"IF(A32<>\"\",IFERROR(VLOOKUP(AM32,Tabelas!B:D,3,0),0),\"\")","v":0},{"$f":"IF(A32<>\"\",IFERROR(VLOOKUP(AN32,Tabelas!B:D,3,0),0),\"\")","v":0},{"$f":"IF(A32<>\"\",IFERROR(VLOOKUP(AO32,Tabelas!B:D,3,0),0),\"\")","v":0},{"$f":"IF(A32<>\"\",IFERROR(VLOOKUP(AP32,Tabelas!B:D,3,0),0),\"\")","v":0},{"$f":"IF(A32<>\"\",IFERROR(VLOOKUP(AQ32,Tabelas!B:D,3,0),0),\"\")","v":0},12,0,0,0,0,0,0,0]
["FULANO 25",25,null,null,null,null,null,null,null,null,null,null,null,null,null,null,null,null,null,null,null,null,null,null,null,null,null,null,null,null,null,null,null,null,null,null,null,null,null,null,null,null,null,{"$f":"IF(A33<>\"\",IFERROR(VLOOKUP(M33,Tabelas!B:D,3,0),0),\"\")","v":0},{"$f":"IF(A33<>\"\",IFERROR(VLOOKUP(N33,Tabelas!B:D,3,0),0),\"\")","v":0},{"$f":"IF(A33<>\"\",IFERROR(VLOOKUP(O33,Tabelas!B:D,3,0),0),\"\")","v":0},{"$f":"IF(A33<>\"\",IFERROR(VLOOKUP(P33,Tabelas!B:D,3,0),0),\"\")","v":0},{"$f":"IF(A33<>\"\",IFERROR(VLOOKUP(Q33,Tabelas!B:D,3,0),0),\"\")","v":0},{"$f":"IF(A33<>\"\",IFERROR(VLOOKUP(R33,Tabelas!B:D,3,0),0),\"\")","v":0},{"$f":"IF(A33<>\"\",IFERROR(VLOOKUP(S33,Tabelas!B:D,3,0),0),\"\")","v":0},{"$f":"IF(A33<>\"\",IFERROR(VLOOKUP(T33,Tabelas!B:D,3,0),0),\"\")","v":0},{"$f":"IF(A33<>\"\",IFERROR(VLOOKUP(U33,Tabelas!B:D,3,0),0),\"\")","v":0},{"$f":"IF(A33<>\"\",IFERROR(VLOOKUP(V33,Tabelas!B:D,3,0),0),\"\")","v":0},{"$f":"IF(A33<>\"\",IFERROR(VLOOKUP(W33,Tabelas!B:D,3,0),0),\"\")","v":0},{"$f":"IF(A33<>\"\",IFERROR(VLOOKUP(X33,Tabelas!B:D,3,0),0),\"\")","v":0},{"$f":"IF(A33<>\"\",IFERROR(VLOOKUP(Y33,Tabelas!B:D,3,0),0),\"\")","v":0},{"$f":"IF(A33<>\"\",IFERROR(VLOOKUP(Z33,Tabelas!B:D,3,0),0),\"\")","v":0},{"$f":"IF(A33<>\"\",IFERROR(VLOOKUP(AA33,Tabelas!B:D,3,0),0),\"\")","v":0},{"$f":"IF(A33<>\"\",IFERROR(VLOOKUP(AB33,Tabelas!B:D,3,0),0),\"\")","v":0},{"$f":"IF(A33<>\"\",IFERROR(VLOOKUP(AC33,Tabelas!B:D,3,0),0),\"\")","v":0},{"$f":"IF(A33<>\"\",IFERROR(VLOOKUP(AD33,Tabelas!B:D,3,0),0),\"\")","v":0},{"$f":"IF(A33<>\"\",IFERROR(VLOOKUP(AE33,Tabelas!B:D,3,0),0),\"\")","v":0},{"$f":"IF(A33<>\"\",IFERROR(VLOOKUP(AF33,Tabelas!B:D,3,0),0),\"\")","v":0},{"$f":"IF(A33<>\"\",IFERROR(VLOOKUP(AG33,Tabelas!B:D,3,0),0),\"\")","v":0},{"$f":"IF(A33<>\"\",IFERROR(VLOOKUP(AH33,Tabelas!B:D,3,0),0),\"\")","v":0},{"$f":"IF(A33<>\"\",IFERROR(VLOOKUP(AI33,Tabelas!B:D,3,0),0),\"\")","v":0},{"$f":"IF(A33<>\"\",IFERROR(VLOOKUP(AJ33,Tabelas!B:D,3,0),0),\"\")","v":0},{"$f":"IF(A33<>\"\",IFERROR(VLOOKUP(AK33,Tabelas!B:D,3,0),0),\"\")","v":0},{"$f":"IF(A33<>\"\",IFERROR(VLOOKUP(AL33,Tabelas!B:D,3,0),0),\"\")","v":0},{"$f":"IF(A33<>\"\",IFERROR(VLOOKUP(AM33,Tabelas!B:D,3,0),0),\"\")","v":0},{"$f":"IF(A33<>\"\",IFERROR(VLOOKUP(AN33,Tabelas!B:D,3,0),0),\"\")","v":0},{"$f":"IF(A33<>\"\",IFERROR(VLOOKUP(AO33,Tabelas!B:D,3,0),0),\"\")","v":0},{"$f":"IF(A33<>\"\",IFERROR(VLOOKUP(AP33,Tabelas!B:D,3,0),0),\"\")","v":0},{"$f":"IF(A33<>\"\",IFERROR(VLOOKUP(AQ33,Tabelas!B:D,3,0),0),\"\")","v":0},0,0,0,0,0,0,0,0]
["FULANO 26",26,null,null,null,null,null,null,null,null,null,null,"FE12","FE12",null,null,null,null,null,null,null,null,null,null,null,null,null,null,null,null,null,null,null,null,null,null,null,null,null,null,null,null,null,{"$f":"IF(A34<>\"\",IFERROR(VLOOKUP(M34,Tabelas!B:D,3,0),0),\"\")","v":12},{"$f":"IF(A34<>\"\",IFERROR(VLOOKUP(N34,Tabelas!B:D,3,0),0),\"\")","v":12},{"$f":"IF(A34<>\"\",IFERROR(VLOOKUP(O34,Tabelas!B:D,3,0),0),\"\")","v":0},{"$f":"IF(A34<>\"\",IFERROR(VLOOKUP(P34,Tabelas!B:D,3,0),0),\"\")","v":0},{"$f":"IF(A34<>\"\",IFERROR(VLOOKUP(Q34,Tabelas!B:D,3,0),0),\"\")","v":0},{"$f":"IF(A34<>\"\",IFERROR(VLOOKUP(R34,Tabelas!B:D,3,0),0),\"\")","v":0},{"$f":"IF(A34<>\"\",IFERROR(VLOOKUP(S34,Tabelas!B:D,3,0),0),\"\")","v":0},{"$f":"IF(A34<>\"\",IFERROR(VLOOKUP(T34,Tabelas!B:D,3,0),0),\"\")","v":0},{"$f":"IF(A34<>\"\",IFERROR(VLOOKUP(U34,Tabelas!B:D,3,0),0),\"\")","v":0},{"$f":"IF(A34<>\"\",IFERROR(VLOOKUP(V34,Tabelas!B:D,3,0),0),\"\")","v":0},{"$f":"IF(A34<>\"\",IFERROR(VLOOKUP(W34,Tabelas!B:D,3,0),0),\"\")","v":0},{"$f":"IF(A34<>\"\",IFERROR(VLOOKUP(X34,Tabelas!B:D,3,0),0),\"\")","v":0},{"$f":"IF(A34<>\"\",IFERROR(VLOOKUP(Y34,Tabelas!B:D,3,0),0),\"\")","v":0},{"$f":"IF(A34<>\"\",IFERROR(VLOOKUP(Z34,Tabelas!B:D,3,0),0),\"\")","v":0},{"$f":"IF(A34<>\"\",IFERROR(VLOOKUP(AA34,Tabelas!B:D,3,0),0),\"\")","v":0},{"$f":"IF(A34<>\"\",IFERROR(VLOOKUP(AB34,Tabelas!B:D,3,0),0),\"\")","v":0},{"$f":"IF(A34<>\"\",IFERROR(VLOOKUP(AC34,Tabelas!B:D,3,0),0),\"\")","v":0},{"$f":"IF(A34<>\"\",IFERROR(VLOOKUP(AD34,Tabelas!B:D,3,0),0),\"\")","v":0},{"$f":"IF(A34<>\"\",IFERROR(VLOOKUP(AE34,Tabelas!B:D,3,0),0),\"\")","v":0},{"$f":"IF(A34<>\"\",IFERROR(VLOOKUP(AF34,Tabelas!B:D,3,0),0),\"\")","v":0},{"$f":"IF(A34<>\"\",IFERROR(VLOOKUP(AG34,Tabelas!B:D,3,0),0),\"\")","v":0},{"$f":"IF(A34<>\"\",IFERROR(VLOOKUP(AH34,Tabelas!B:D,3,0),0),\"\")","v":0},{"$f":"IF(A34<>\"\",IFERROR(VLOOKUP(AI34,Tabelas!B:D,3,0),0),\"\")","v":0},{"$f":"IF(A34<>\"\",IFERROR(VLOOKUP(AJ34,Tabelas!B:D,3,0),0),\"\")","v":0},{"$f":"IF(A34<>\"\",IFERROR(VLOOKUP(AK34,Tabelas!B:D,3,0),0),\"\")","v":0},{"$f":"IF(A34<>\"\",IFERROR(VLOOKUP(AL34,Tabelas!B:D,3,0),0),\"\")","v":0},{"$f":"IF(A34<>\"\",IFERROR(VLOOKUP(AM34,Tabelas!B:D,3,0),0),\"\")","v":0},{"$f":"IF(A34<>\"\",IFERROR(VLOOKUP(AN34,Tabelas!B:D,3,0),0),\"\")","v":0},{"$f":"IF(A34<>\"\",IFERROR(VLOOKUP(AO34,Tabelas!B:D,3,0),0),\"\")","v":0},{"$f":"IF(A34<>\"\",IFERROR(VLOOKUP(AP34,Tabelas!B:D,3,0),0),\"\")","v":0},{"$f":"IF(A34<>\"\",IFERROR(VLOOKUP(AQ34,Tabelas!B:D,3,0),0),\"\")","v":0},24,0,0,0,0,0,0,0]
["FULANO 27",27,null,null,null,null,null,null,null,null,null,null,null,null,null,null,null,null,null,null,null,null,null,null,null,null,null,null,null,null,null,null,null,null,null,null,null,null,null,null,null,null,null,{"$f":"IF(A35<>\"\",IFERROR(VLOOKUP(M35,Tabelas!B:D,3,0),0),\"\")","v":0},{"$f":"IF(A35<>\"\",IFERROR(VLOOKUP(N35,Tabelas!B:D,3,0),0),\"\")","v":0},{"$f":"IF(A35<>\"\",IFERROR(VLOOKUP(O35,Tabelas!B:D,3,0),0),\"\")","v":0},{"$f":"IF(A35<>\"\",IFERROR(VLOOKUP(P35,Tabelas!B:D,3,0),0),\"\")","v":0},{"$f":"IF(A35<>\"\",IFERROR(VLOOKUP(Q35,Tabelas!B:D,3,0),0),\"\")","v":0},{"$f":"IF(A35<>\"\",IFERROR(VLOOKUP(R35,Tabelas!B:D,3,0),0),\"\")","v":0},{"$f":"IF(A35<>\"\",IFERROR(VLOOKUP(S35,Tabelas!B:D,3,0),0),\"\")","v":0},{"$f":"IF(A35<>\"\",IFERROR(VLOOKUP(T35,Tabelas!B:D,3,0),0),\"\")","v":0},{"$f":"IF(A35<>\"\",IFERROR(VLOOKUP(U35,Tabelas!B:D,3,0),0),\"\")","v":0},{"$f":"IF(A35<>\"\",IFERROR(VLOOKUP(V35,Tabelas!B:D,3,0),0),\"\")","v":0},{"$f":"IF(A35<>\"\",IFERROR(VLOOKUP(W35,Tabelas!B:D,3,0),0),\"\")","v":0},{"$f":"IF(A35<>\"\",IFERROR(VLOOKUP(X35,Tabelas!B:D,3,0),0),\"\")","v":0},{"$f":"IF(A35<>\"\",IFERROR(VLOOKUP(Y35,Tabelas!B:D,3,0),0),\"\")","v":0},{"$f":"IF(A35<>\"\",IFERROR(VLOOKUP(Z35,Tabelas!B:D,3,0),0),\"\")","v":0},{"$f":"IF(A35<>\"\",IFERROR(VLOOKUP(AA35,Tabelas!B:D,3,0),0),\"\")","v":0},{"$f":"IF(A35<>\"\",IFERROR(VLOOKUP(AB35,Tabelas!B:D,3,0),0),\"\")","v":0},{"$f":"IF(A35<>\"\",IFERROR(VLOOKUP(AC35,Tabelas!B:D,3,0),0),\"\")","v":0},{"$f":"IF(A35<>\"\",IFERROR(VLOOKUP(AD35,Tabelas!B:D,3,0),0),\"\")","v":0},{"$f":"IF(A35<>\"\",IFERROR(VLOOKUP(AE35,Tabelas!B:D,3,0),0),\"\")","v":0},{"$f":"IF(A35<>\"\",IFERROR(VLOOKUP(AF35,Tabelas!B:D,3,0),0),\"\")","v":0},{"$f":"IF(A35<>\"\",IFERROR(VLOOKUP(AG35,Tabelas!B:D,3,0),0),\"\")","v":0},{"$f":"IF(A35<>\"\",IFERROR(VLOOKUP(AH35,Tabelas!B:D,3,0),0),\"\")","v":0},{"$f":"IF(A35<>\"\",IFERROR(VLOOKUP(AI35,Tabelas!B:D,3,0),0),\"\")","v":0},{"$f":"IF(A35<>\"\",IFERROR(VLOOKUP(AJ35,Tabelas!B:D,3,0),0),\"\")","v":0},{"$f":"IF(A35<>\"\",IFERROR(VLOOKUP(AK35,Tabelas!B:D,3,0),0),\"\")","v":0},{"$f":"IF(A35<>\"\",IFERROR(VLOOKUP(AL35,Tabelas!B:D,3,0),0),\"\")","v":0},{"$f":"IF(A35<>\"\",IFERROR(VLOOKUP(AM35,Tabelas!B:D,3,0),0),\"\")","v":0},{"$f":"IF(A35<>\"\",IFERROR(VLOOKUP(AN35,Tabelas!B:D,3,0),0),\"\")","v":0},{"$f":"IF(A35<>\"\",IFERROR(VLOOKUP(AO35,Tabelas!B:D,3,0),0),\"\")","v":0},{"$f":"IF(A35<>\"\",IFERROR(VLOOKUP(AP35,Tabelas!B:D,3,0),0),\"\")","v":0},{"$f":"IF(A35<>\"\",IFERROR(VLOOKUP(AQ35,Tabelas!B:D,3,0),0),\"\")","v":0},0,0,0,0,0,0,0,0]
["TOTAL PROFISSIONAIS MATUTINO",null,null,null,null,null,null,null,null,null,null,null,{"$f":"IF(COUNTIF(Dezembro!AQ9:AQ35,\"PR5\")+COUNTIF(Dezembro!AQ9:AQ35,\"PR6\")+COUNTIF(Dezembro!AQ9:AQ35,\"PR7\")+COUNTIF(Dezembro!AQ9:AQ35,\"PR8\")+COUNTIF(Dezembro!AQ9:AQ35,\"PR9\")+COUNTIF(M9:M35,\"M*\")+ COUNTIF(M9:M35, \"D*\")-COUNTIF(M9:M35,\"DSR\")+COUNTIF(M9:M35,\"PR1\")+COUNTIF(M9:M35,\"PR2\")+COUNTIF(M9:M35,\"PR3\")+COUNTIF(M9:M35,\"PR4\")<>0,COUNTIF(Dezembro!AQ9:AQ35,\"PR5\")+COUNTIF(Dezembro!AQ9:AQ35,\"PR6\")+COUNTIF(Dezembro!AQ9:AQ35,\"PR7\")+COUNTIF(Dezembro!AQ9:AQ35,\"PR8\")+COUNTIF(Dezembro!AQ9:AQ35,\"PR9\")+COUNTIF(M9:M35,\"M*\")+ COUNTIF(M9:M35, \"D*\")-COUNTIF(M9:M35,\"DSR\")+COUNTIF(M9:M35,\"PR1\")+COUNTIF(M9:M35,\"PR2\")+COUNTIF(M9:M35,\"PR3\")+COUNTIF(M9:M35,\"PR4\"),\"\")","v":""},{"$f":"IF(COUNTIF(N9:N35,\"M*\")+ COUNTIF(N9:N35, \"D*\")-COUNTIF(N9:N35,\"DSR\")+COUNTIF(M9:M35,\"PR5\")+COUNTIF(M9:M35,\"PR6\")+COUNTIF(M9:M35,\"PR7\")+COUNTIF(M9:M35,\"PR8\")+COUNTIF(M9:M35,\"PR9\")+COUNTIF(N9:N35,\"PR1\")+COUNTIF(N9:N35,\"PR2\")+COUNTIF(N9:N35,\"PR3\")+COUNTIF(N9:N35,\"PR4\")<>0,COUNTIF(N9:N35,\"M*\")+ COUNTIF(N9:N35, \"D*\")-COUNTIF(N9:N35,\"DSR\")+COUNTIF(M9:M35,\"PR5\")+COUNTIF(M9:M35,\"PR6\")+COUNTIF(M9:M35,\"PR7\")+COUNTIF(M9:M35,\"PR8\")+COUNTIF(M9:M35,\"PR9\")+COUNTIF(N9:N35,\"PR1\")+COUNTIF(N9:N35,\"PR2\")+COUNTIF(N9:N35,\"PR3\")+COUNTIF(N9:N35,\"PR4\"),\"\")","v":""},{"$f":"IF(COUNTIF(O9:O35,\"M*\")+ COUNTIF(O9:O35, \"D*\")-COUNTIF(O9:O35,\"DSR\")+COUNTIF(N9:N35,\"PR5\")+COUNTIF(N9:N35,\"PR6\")+COUNTIF(N9:N35,\"PR7\")+COUNTIF(N9:N35,\"PR8\")+COUNTIF(N9:N35,\"PR9\")+COUNTIF(O9:O35,\"PR1\")+COUNTIF(O9:O35,\"PR2\")+COUNTIF(O9:O35,\"PR3\")+COUNTIF(O9:O35,\"PR4\")<>0,COUNTIF(O9:O35,\"M*\")+ COUNTIF(O9:O35, \"D*\")-COUNTIF(O9:O35,\"DSR\")+COUNTIF(N9:N35,\"PR5\")+COUNTIF(N9:N35,\"PR6\")+COUNTIF(N9:N35,\"PR7\")+COUNTIF(N9:N35,\"PR8\")+COUNTIF(N9:N35,\"PR9\")+COUNTIF(O9:O35,\"PR1\")+COUNTIF(O9:O35,\"PR2\")+COUNTIF(O9:O35,\"PR3\")+COUNTIF(O9:O35,\"PR4\"),\"\")","v":""},"","","","","","","","","","","","","","","","","","","","","","","","","","","","",null,null,null,null,null,null,null,null,null,null,null,null,null,null,null,null,null,null,null,null,null,null,null,null,null,null,null,null,null,null,null,{"$f":"SUM(BW9:BW35)","v":60},{"$f":"SUM(BX9:BX35)","v":0},0,0,0,0,0,0]
["TOTAL DE PROFISSIONAIS VESPERTINO",null,null,null,null,null,null,null,null,null,null,null,{"$f":"IF(COUNTIF(Dezembro!AQ9:AQ35,\"PR5\")+COUNTIF(Dezembro!AQ9:AQ35,\"PR6\")+COUNTIF(Dezembro!AQ9:AQ35,\"PR7\")+COUNTIF(Dezembro!AQ9:AQ35,\"PR8\")+COUNTIF(Dezembro!AQ9:AQ35,\"PR9\")+COUNTIF(M9:M35,\"MT*\") + COUNTIF(M9:M35, \"D*\") + COUNTIF(M9:M35,\"T*\")-COUNTIF(M9:M35,\"DSR\")+COUNTIF(M9:M35,\"PR1\")+COUNTIF(M9:M35,\"PR2\")+COUNTIF(M9:M35,\"PR3\")+COUNTIF(M9:M35,\"PR4\")<>0,COUNTIF(Dezembro!AQ9:AQ35,\"PR5\")+COUNTIF(Dezembro!AQ9:AQ35,\"PR6\")+COUNTIF(Dezembro!AQ9:AQ35,\"PR7\")+COUNTIF(Dezembro!AQ9:AQ35,\"PR8\")+COUNTIF(Dezembro!AQ9:AQ35,\"PR9\")+COUNTIF(M9:M35,\"MT*\") + COUNTIF(M9:M35, \"D*\") + COUNTIF(M9:M35,\"T*\")+COUNTIF(M9:M35,\"PR1\")+COUNTIF(M9:M35,\"PR2\")+COUNTIF(M9:M35,\"PR3\")+COUNTIF(M9:M35,\"PR4\")-COUNTIF(M9:M35,\"DSR\"),\"\")","v":""},{"$f":"IF(COUNTIF(N9:N35,\"MT*\") + COUNTIF(N9:N35, \"D*\") + COUNTIF(N9:N35,\"T*\")-COUNTIF(N9:N35,\"DSR\")+COUNTIF(M9:M35,\"PR5\")+COUNTIF(M9:M35,\"PR6\")+COUNTIF(M9:M35,\"PR7\")+COUNTIF(M9:M35,\"PR8\")+COUNTIF(M9:M35,\"PR9\")+COUNTIF(N9:N35,\"PR1\")+COUNTIF(N9:N35,\"PR2\")+COUNTIF(N9:N35,\"PR3\")+COUNTIF(N9:N35,\"PR4\")<>0,COUNTIF(N9:N35,\"MT*\") + COUNTIF(N9:N35, \"D*\") + COUNTIF(N9:N35,\"T*\")+COUNTIF(M9:M35,\"PR5\")+COUNTIF(M9:M35,\"PR6\")+COUNTIF(M9:M35,\"PR7\")+COUNTIF(M9:M35,\"PR8\")+COUNTIF(M9:M35,\"PR9\")+COUNTIF(N9:N35,\"PR1\")+COUNTIF(N9:N35,\"PR2\")+COUNTIF(N9:N35,\"PR3\")+COUNTIF(N9:N35,\"PR4\")-COUNTIF(N9:N35,\"DSR\"),\"\")","v":""},{"$f":"IF(COUNTIF(O9:O35,\"MT*\") + COUNTIF(O9:O35, \"D*\") + COUNTIF(O9:O35,\"T*\")-COUNTIF(O9:O35,\"DSR\")+COUNTIF(N9:N35,\"PR5\")+COUNTIF(N9:N35,\"PR6\")+COUNTIF(N9:N35,\"PR7\")+COUNTIF(N9:N35,\"PR8\")+COUNTIF(N9:N35,\"PR9\")+COUNTIF(O9:O35,\"PR1\")+COUNTIF(O9:O35,\"PR2\")+COUNTIF(O9:O35,\"PR3\")+COUNTIF(O9:O35,\"PR4\")<>0,COUNTIF(O9:O35,\"MT*\") + COUNTIF(O9:O35, \"D*\") + COUNTIF(O9:O35,\"T*\")+COUNTIF(N9:N35,\"PR5\")+COUNTIF(N9:N35,\"PR6\")+COUNTIF(N9:N35,\"PR7\")+COUNTIF(N9:N35,\"PR8\")+COUNTIF(N9:N35,\"PR9\")+COUNTIF(O9:O35,\"PR1\")+COUNTIF(O9:O35,\"PR2\")+COUNTIF(O9:O35,\"PR3\")+COUNTIF(O9:O35,\"PR4\")-COUNTIF(O9:O35,\"DSR\"),\"\")","v":""},"","","","","","","","","","","","","","","","","","","","","","","","","","","","",{"$f":"IF(A37<>\"\",IFERROR(VLOOKUP(M37,Tabelas!B:D,3,0),0),\"\")","v":0},{"$f":"IF(A37<>\"\",IFERROR(VLOOKUP(N37,Tabelas!B:D,3,0),0),\"\")","v":0},{"$f":"IF(A37<>\"\",IFERROR(VLOOKUP(O37,Tabelas!B:D,3,0),0),\"\")","v":0},{"$f":"IF(A37<>\"\",IFERROR(VLOOKUP(P37,Tabelas!B:D,3,0),0),\"\")","v":0},{"$f":"IF(A37<>\"\",IFERROR(VLOOKUP(Q37,Tabelas!B:D,3,0),0),\"\")","v":0},{"$f":"IF(A37<>\"\",IFERROR(VLOOKUP(R37,Tabelas!B:D,3,0),0),\"\")","v":0},{"$f":"IF(A37<>\"\",IFERROR(VLOOKUP(S37,Tabelas!B:D,3,0),0),\"\")","v":0},{"$f":"IF(A37<>\"\",IFERROR(VLOOKUP(T37,Tabelas!B:D,3,0),0),\"\")","v":0},{"$f":"IF(A37<>\"\",IFERROR(VLOOKUP(U37,Tabelas!B:D,3,0),0),\"\")","v":0},{"$f":"IF(A37<>\"\",IFERROR(VLOOKUP(V37,Tabelas!B:D,3,0),0),\"\")","v":0},{"$f":"IF(A37<>\"\",IFERROR(VLOOKUP(W37,Tabelas!B:D,3,0),0),\"\")","v":0},{"$f":"IF(A37<>\"\",IFERROR(VLOOKUP(X37,Tabelas!B:D,3,0),0),\"\")","v":0},{"$f":"IF(A37<>\"\",IFERROR(VLOOKUP(Y37,Tabelas!B:D,3,0),0),\"\")","v":0},{"$f":"IF(A37<>\"\",IFERROR(VLOOKUP(Z37,Tabelas!B:D,3,0),0),\"\")","v":0},{"$f":"IF(A37<>\"\",IFERROR(VLOOKUP(AA37,Tabelas!B:D,3,0),0),\"\")","v":0},{"$f":"IF(A37<>\"\",IFERROR(VLOOKUP(AB37,Tabelas!B:D,3,0),0),\"\")","v":0},{"$f":"IF(A37<>\"\",IFERROR(VLOOKUP(AC37,Tabelas!B:D,3,0),0),\"\")","v":0},{"$f":"IF(A37<>\"\",IFERROR(VLOOKUP(AD37,Tabelas!B:D,3,0),0),\"\")","v":0},{"$f":"IF(A37<>\"\",IFERROR(VLOOKUP(AE37,Tabelas!B:D,3,0),0),\"\")","v":0},{"$f":"IF(A37<>\"\",IFERROR(VLOOKUP(AF37,Tabelas!B:D,3,0),0),\"\")","v":0},{"$f":"IF(A37<>\"\",IFERROR(VLOOKUP(AG37,Tabelas!B:D,3,0),0),\"\")","v":0},{"$f":"IF(A37<>\"\",IFERROR(VLOOKUP(AH37,Tabelas!B:D,3,0),0),\"\")","v":0},{"$f":"IF(A37<>\"\",IFERROR(VLOOKUP(AI37,Tabelas!B:D,3,0),0),\"\")","v":0},{"$f":"IF(A37<>\"\",IFERROR(VLOOKUP(AJ37,Tabelas!B:D,3,0),0),\"\")","v":0},{"$f":"IF(A37<>\"\",IFERROR(VLOOKUP(AK37,Tabelas!B:D,3,0),0),\"\")","v":0},{"$f":"IF(A37<>\"\",IFERROR(VLOOKUP(AL37,Tabelas!B:D,3,0),0),\"\")","v":0},{"$f":"IF(A37<>\"\",IFERROR(VLOOKUP(AM37,Tabelas!B:D,3,0),0),\"\")","v":0},{"$f":"IF(A37<>\"\",IFERROR(VLOOKUP(AN37,Tabelas!B:D,3,0),0),\"\")","v":0},{"$f":"IF(A37<>\"\",IFERROR(VLOOKUP(AO37,Tabelas!B:D,3,0),0),\"\")","v":0},{"$f":"IF(A37<>\"\",IFERROR(VLOOKUP(AP37,Tabelas!B:D,3,0),0),\"\")","v":0},{"$f":"IF(A37<>\"\",IFERROR(VLOOKUP(AQ37,Tabelas!B:D,3,0),0),\"\")","v":0}]
["TOTAL DE PROFISSIONAIS NOTURNO",null,null,null,null,null,null,null,null,null,null,null,{"$f":"IF(COUNTIF(M9:M37,\"N?*\") + COUNTIF(M9:M37, \"DN*\")+COUNTIF(M9:M35,\"PR*\")<>0,COUNTIF(M9:M37,\"N?*\") + COUNTIF(M9:M37, \"DN*\")+COUNTIF(M9:M35,\"PR*\"),\"\")","v":""},{"$f":"IF(COUNTIF(N9:N37,\"N?*\") + COUNTIF(N9:N37, \"DN*\")+COUNTIF(N9:N35,\"PR*\")<>0,COUNTIF(N9:N37,\"N?*\") + COUNTIF(N9:N37, \"DN*\")+COUNTIF(N9:N35,\"PR*\"),\"\")","v":""},"","","","","","","","","",1,"","","","","","","","","","","","","","","","","","","",{"$f":"IF(A38<>\"\",IFERROR(VLOOKUP(M38,Tabelas!B:D,3,0),0),\"\")","v":0},{"$f":"IF(A38<>\"\",IFERROR(VLOOKUP(N38,Tabelas!B:D,3,0),0),\"\")","v":0},{"$f":"IF(A38<>\"\",IFERROR(VLOOKUP(O38,Tabelas!B:D,3,0),0),\"\")","v":0},{"$f":"IF(A38<>\"\",IFERROR(VLOOKUP(P38,Tabelas!B:D,3,0),0),\"\")","v":0},{"$f":"IF(A38<>\"\",IFERROR(VLOOKUP(Q38,Tabelas!B:D,3,0),0),\"\")","v":0},{"$f":"IF(A38<>\"\",IFERROR(VLOOKUP(R38,Tabelas!B:D,3,0),0),\"\")","v":0},{"$f":"IF(A38<>\"\",IFERROR(VLOOKUP(S38,Tabelas!B:D,3,0),0),\"\")","v":0},{"$f":"IF(A38<>\"\",IFERROR(VLOOKUP(T38,Tabelas!B:D,3,0),0),\"\")","v":0},{"$f":"IF(A38<>\"\",IFERROR(VLOOKUP(U38,Tabelas!B:D,3,0),0),\"\")","v":0},{"$f":"IF(A38<>\"\",IFERROR(VLOOKUP(V38,Tabelas!B:D,3,0),0),\"\")","v":0},{"$f":"IF(A38<>\"\",IFERROR(VLOOKUP(W38,Tabelas!B:D,3,0),0),\"\")","v":0},{"$f":"IF(A38<>\"\",IFERROR(VLOOKUP(X38,Tabelas!B:D,3,0),0),\"\")","v":0},{"$f":"IF(A38<>\"\",IFERROR(VLOOKUP(Y38,Tabelas!B:D,3,0),0),\"\")","v":0},{"$f":"IF(A38<>\"\",IFERROR(VLOOKUP(Z38,Tabelas!B:D,3,0),0),\"\")","v":0},{"$f":"IF(A38<>\"\",IFERROR(VLOOKUP(AA38,Tabelas!B:D,3,0),0),\"\")","v":0},{"$f":"IF(A38<>\"\",IFERROR(VLOOKUP(AB38,Tabelas!B:D,3,0),0),\"\")","v":0},{"$f":"IF(A38<>\"\",IFERROR(VLOOKUP(AC38,Tabelas!B:D,3,0),0),\"\")","v":0},{"$f":"IF(A38<>\"\",IFERROR(VLOOKUP(AD38,Tabelas!B:D,3,0),0),\"\")","v":0},{"$f":"IF(A38<>\"\",IFERROR(VLOOKUP(AE38,Tabelas!B:D,3,0),0),\"\")","v":0},{"$f":"IF(A38<>\"\",IFERROR(VLOOKUP(AF38,Tabelas!B:D,3,0),0),\"\")","v":0},{"$f":"IF(A38<>\"\",IFERROR(VLOOKUP(AG38,Tabelas!B:D,3,0),0),\"\")","v":0},{"$f":"IF(A38<>\"\",IFERROR(VLOOKUP(AH38,Tabelas!B:D,3,0),0),\"\")","v":0},{"$f":"IF(A38<>\"\",IFERROR(VLOOKUP(AI38,Tabelas!B:D,3,0),0),\"\")","v":0},{"$f":"IF(A38<>\"\",IFERROR(VLOOKUP(AJ38,Tabelas!B:D,3,0),0),\"\")","v":0},{"$f":"IF(A38<>\"\",IFERROR(VLOOKUP(AK38,Tabelas!B:D,3,0),0),\"\")","v":0},{"$f":"IF(A38<>\"\",IFERROR(VLOOKUP(AL38,Tabelas!B:D,3,0),0),\"\")","v":0},{"$f":"IF(A38<>\"\",IFERROR(VLOOKUP(AM38,Tabelas!B:D,3,0),0),\"\")","v":0},{"$f":"IF(A38<>\"\",IFERROR(VLOOKUP(AN38,Tabelas!B:D,3,0),0),\"\")","v":0},{"$f":"IF(A38<>\"\",IFERROR(VLOOKUP(AO38,Tabelas!B:D,3,0),0),\"\")","v":0},{"$f":"IF(A38<>\"\",IFERROR(VLOOKUP(AP38,Tabelas!B:D,3,0),0),\"\")","v":0},{"$f":"IF(A38<>\"\",IFERROR(VLOOKUP(AQ38,Tabelas!B:D,3,0),0),\"\")","v":0}]
[null,null,null,null,null,null,null,null,null,null,null,null,null,null,null,null,null,null,null,null,null,null,null,null,null,null,null,null,null,null,null,null,null,null,null,null,null,null,null,null,null,null,null,{"$f":"IF(A39<>\"\",IFERROR(VLOOKUP(M39,Tabelas!B:D,3,0),0),\"\")","v":""},{"$f":"IF(A39<>\"\",IFERROR(VLOOKUP(N39,Tabelas!B:D,3,0),0),\"\")","v":""},{"$f":"IF(A39<>\"\",IFERROR(VLOOKUP(O39,Tabelas!B:D,3,0),0),\"\")","v":""},{"$f":"IF(A39<>\"\",IFERROR(VLOOKUP(P39,Tabelas!B:D,3,0),0),\"\")","v":""},{"$f":"IF(A39<>\"\",IFERROR(VLOOKUP(Q39,Tabelas!B:D,3,0),0),\"\")","v":""},{"$f":"IF(A39<>\"\",IFERROR(VLOOKUP(R39,Tabelas!B:D,3,0),0),\"\")","v":""},{"$f":"IF(A39<>\"\",IFERROR(VLOOKUP(S39,Tabelas!B:D,3,0),0),\"\")","v":""},{"$f":"IF(A39<>\"\",IFERROR(VLOOKUP(T39,Tabelas!B:D,3,0),0),\"\")","v":""},{"$f":"IF(A39<>\"\",IFERROR(VLOOKUP(U39,Tabelas!B:D,3,0),0),\"\")","v":""},{"$f":"IF(A39<>\"\",IFERROR(VLOOKUP(V39,Tabelas!B:D,3,0),0),\"\")","v":""},{"$f":"IF(A39<>\"\",IFERROR(VLOOKUP(W39,Tabelas!B:D,3,0),0),\"\")","v":""},{"$f":"IF(A39<>\"\",IFERROR(VLOOKUP(X39,Tabelas!B:D,3,0),0),\"\")","v":""},{"$f":"IF(A39<>\"\",IFERROR(VLOOKUP(Y39,Tabelas!B:D,3,0),0),\"\")","v":""},{"$f":"IF(A39<>\"\",IFERROR(VLOOKUP(Z39,Tabelas!B:D,3,0),0),\"\")","v":""},{"$f":"IF(A39<>\"\",IFERROR(VLOOKUP(AA39,Tabelas!B:D,3,0),0),\"\")","v":""},{"$f":"IF(A39<>\"\",IFERROR(VLOOKUP(AB39,Tabelas!B:D,3,0),0),\"\")","v":""},{"$f":"IF(A39<>\"\",IFERROR(VLOOKUP(AC39,Tabelas!B:D,3,0),0),\"\")","v":""},{"$f":"IF(A39<>\"\",IFERROR(VLOOKUP(AD39,Tabelas!B:D,3,0),0),\"\")","v":""},{"$f":"IF(A39<>\"\",IFERROR(VLOOKUP(AE39,Tabelas!B:D,3,0),0),\"\")","v":""},{"$f":"IF(A39<>\"\",IFERROR(VLOOKUP(AF39,Tabelas!B:D,3,0),0),\"\")","v":""},{"$f":"IF(A39<>\"\",IFERROR(VLOOKUP(AG39,Tabelas!B:D,3,0),0),\"\")","v":""},{"$f":"IF(A39<>\"\",IFERROR(VLOOKUP(AH39,Tabelas!B:D,3,0),0),\"\")","v":""},{"$f":"IF(A39<>\"\",IFERROR(VLOOKUP(AI39,Tabelas!B:D,3,0),0),\"\")","v":""},{"$f":"IF(A39<>\"\",IFERROR(VLOOKUP(AJ39,Tabelas!B:D,3,0),0),\"\")","v":""},{"$f":"IF(A39<>\"\",IFERROR(VLOOKUP(AK39,Tabelas!B:D,3,0),0),\"\")","v":""},{"$f":"IF(A39<>\"\",IFERROR(VLOOKUP(AL39,Tabelas!B:D,3,0),0),\"\")","v":""},{"$f":"IF(A39<>\"\",IFERROR(VLOOKUP(AM39,Tabelas!B:D,3,0),0),\"\")","v":""},{"$f":"IF(A39<>\"\",IFERROR(VLOOKUP(AN39,Tabelas!B:D,3,0),0),\"\")","v":""},{"$f":"IF(A39<>\"\",IFERROR(VLOOKUP(AO39,Tabelas!B:D,3,0),0),\"\")","v":""},{"$f":"IF(A39<>\"\",IFERROR(VLOOKUP(AP39,Tabelas!B:D,3,0),0),\"\")","v":""},{"$f":"IF(A39<>\"\",IFERROR(VLOOKUP(AQ39,Tabelas!B:D,3,0),0),\"\")","v":""}]
["Legenda:"]
["Licença Maternidade","LM","Férias",null,null,null,null,null,null,"FE",null,"Ponto Facultativo",null,null,null,null,null,null,null,"PF","Manhã *",null,null,null,null,null,null,"M","Diurno (8 hrs) *",null,null,null,null,null,null,"MT"]
["Licença Paternidade","LP","Feriado",null,null,null,null,null,null,"FD",null,"Abono **",null,null,null,null,null,null,null,"AB","Tarde *",null,null,null,null,null,null,"T","Dia/ noite (24 hrs) *",null,null,null,null,null,null,"DN"]
["Licença Médica/Odontológica","L","Descanso Semanal Remunerado",null,null,null,null,null,null,"DSR",null,"Compensação de Horas",null,null,null,null,null,null,null,"CH","Plantão Dia (12 hrs) *",null,null,null,null,null,null,"D"]
["Licença Capacitação","LC","Recesso",null,null,null,null,null,null,"RC",null,"Afastamento**",null,null,null,null,null,null,null,"AF","Plantão Noite (12 hrs) *",null,null,null,null,null,null,"N"]
[]
[]
[]
[]
[]
["OBSERVAÇÕES:"]
["* Para inserção das legendas referentes às jornadas de trabalho, verificar a Tabela 1 do Anexo 12629162 do Ofício-Circular - SEI nº 9/2021/SDR/CAP/DGP-EBSERH."]
["** Para inserção das legendas referentes aos Afastamentos previstos em lei e às Compensações de horas, verificar a Tabela 2 do Anexo 12629162 do Ofício-Circular - SEI nº 9/2021/SDR/CAP/DGP-EBSERH."]

{"sheet":"Fevereiro","index":1,"n_rows":52,"n_cols":82,"rows_kept":52,"cut":false,"hidden":false,"merged":[[43,2,43,8],[43,9,43,10],[43,11,43,18],[43,20,43,26],[40,11,40,18],[40,20,40,26],[40,28,40,34],[41,28,41,34],[42,2,42,8],[42,9,42,10],[42,11,42,18],[42,20,42,26],[41,2,41,8],[41,9,41,10],[41,11,41,18],[41,20,41,26],[5,2,7,2],[5,3,7,3],[5,4,7,4],[40,2,40,8],[40,9,40,10],[6,81,7,81],[6,77,7,77],[6,78,7,78],[36,0,36,11],[37,0,37,11],[35,78,37,78],[35,79,37,79],[35,80,37,80],[35,0,35,11],[35,74,37,74],[35,75,37,75],[35,76,37,76],[35,77,37,77],[5,5,7,5],[5,0,7,0],[5,1,7,1],[35,81,37,81],[5,6,5,11],[5,12,5,42],[6,79,7,79],[6,11,7,11],[6,75,7,75],[6,76,7,76],[6,6,7,6],[6,7,7,7],[6,8,7,8],[6,9,7,9],[6,10,7,10],[5,43,5,73],[5,74,7,74],[5,75,5,81],[6,80,7,80],[1,0,1,42],[2,0,2,42],[3,0,3,42],[4,1,4,20],[4,23,4,34],[4,37,4,42]]}
[]
[]
["NOME DO HU"]
["ESCALA MENSAL DE TRABALHO"]
["DIVISÃO /SETOR/UNIDADE:",null,null,null,null,null,null,null,null,null,null,null,null,null,null,null,null,null,null,null,null,"MÊS:",null,"Fevereiro",null,null,null,null,null,null,null,null,null,null,null,"ANO:",null,2023]
["NOME COMPLETO","SIAPE","     Registro Conselho Classe","Cargo","Vínculo","    C.H Sem","INTERVALO",null,null,null,null,null,"DIAS DO MÊS",null,null,null,null,null,null,null,null,null,null,null,null,null,null,null,null,null,null,null,null,null,null,null,null,null,null,null,null,null,null,"CÁLCULO DAS HORAS",null,null,null,null,null,null,null,null,null,null,null,null,null,null,null,null,null,null,null,null,null,null,null,null,null,null,null,null,null,null,"CH Men.","Dias"]
[null,null,null,null,null,null,"15' M","15' T","15' N","1H D","1H N","2H",1,2,3,4,5,6,7,8,9,10,11,12,13,14,15,16,17,18,19,20,21,22,23,24,25,{"$f":"IF(DAY(DATE(AL5,VLOOKUP(X5,Tabelas!M:N,2,0)+1,1)-1)>=26,26,\"\")","v":26},{"$f":"IF(DAY(DATE(AL5,VLOOKUP(X5,Tabelas!M:N,2,0)+1,1)-1)>=27,27,\"\")","v":27},{"$f":"IF(DAY(DATE(AL5,VLOOKUP(X5,Tabelas!M:N,2,0)+1,1)-1)>=28,28,\"\")","v":28},{"$f":"IF(DAY(DATE(AL5,VLOOKUP(X5,Tabelas!M:N,2,0)+1,1)-1)>=29,29,\"\")","v":""},{"$f":"IF(DAY(DATE(AL5,VLOOKUP(X5,Tabelas!M:N,2,0)+1,1)-1)>=30,30,\"\")","v":""},{"$f":"IF(DAY(DATE(AL5,VLOOKUP(X5,Tabelas!M:N,2,0)+1,1)-1)>=31,31,\"\")","v":""},null,null,null,null,null,null,null,null,null,null,null,null,null,null,null,null,null,null,null,null,null,null,null,null,null,null,null,null,null,null,null,null,"LM/LP/L","AB","FE","LC","CH","AF  "," Total Afast."]
[null,null,null,null,null,null,null,null,null,null,null,null,{"$f":"IF(M7<>\"\",IFERROR(VLOOKUP(WEEKDAY(CONCATENATE(M7,$X$5,$AL$5)),Tabelas!$I:$J,2,0),\"\"),\"\")","v":"QUA"},{"$f":"IF(N7<>\"\",IFERROR(VLOOKUP(WEEKDAY(CONCATENATE(N7,$X$5,$AL$5)),Tabelas!$I:$J,2,0),\"\"),\"\")","v":"QUI"},{"$f":"IF(O7<>\"\",IFERROR(VLOOKUP(WEEKDAY(CONCATENATE(O7,$X$5,$AL$5)),Tabelas!$I:$J,2,0),\"\"),\"\")","v":"SEX"},{"$f":"IF(P7<>\"\",IFERROR(VLOOKUP(WEEKDAY(CONCATENATE(P7,$X$5,$AL$5)),Tabelas!$I:$J,2,0),\"\"),\"\")","v":"SAB"},{"$f":"IF(Q7<>\"\",IFERROR(VLOOKUP(WEEKDAY(CONCATENATE(Q7,$X$5,$AL$5)),Tabelas!$I:$J,2,0),\"\"),\"\")","v":"DOM"},{"$f":"IF(R7<>\"\",IFERROR(VLOOKUP(WEEKDAY(CONCATENATE(R7,$X$5,$AL$5)),Tabelas!$I:$J,2,0),\"\"),\"\")","v":"SEG"},{"$f":"IF(S7<>\"\",IFERROR(VLOOKUP(WEEKDAY(CONCATENATE(S7,$X$5,$AL$5)),Tabelas!$I:$J,2,0),\"\"),\"\")","v":"TER"},{"$f":"IF(T7<>\"\",IFERROR(VLOOKUP(WEEKDAY(CONCATENATE(T7,$X$5,$AL$5)),Tabelas!$I:$J,2,0),\"\"),\"\")","v":"QUA"},{"$f":"IF(U7<>\"\",IFERROR(VLOOKUP(WEEKDAY(CONCATENATE(U7,$X$5,$AL$5)),Tabelas!$I:$J,2,0),\"\"),\"\")","v":"QUI"},{"$f":"IF(V7<>\"\",IFERROR(VLOOKUP(WEEKDAY(CONCATENATE(V7,$X$5,$AL$5)),Tabelas!$I:$J,2,0),\"\"),\"\")","v":"SEX"},{"$f":"IF(W7<>\"\",IFERROR(VLOOKUP(WEEKDAY(CONCATENATE(W7,$X$5,$AL$5)),Tabelas!$I:$J,2,0),\"\"),\"\")","v":"SAB"},{"$f":"IF(X7<>\"\",IFERROR(VLOOKUP(WEEKDAY(CONCATENATE(X7,$X$5,$AL$5)),Tabelas!$I:$J,2,0),\"\"),\"\")","v":"DOM"},{"$f":"IF(Y7<>\"\",IFERROR(VLOOKUP(WEEKDAY(CONCATENATE(Y7,$X$5,$AL$5)),Tabelas!$I:$J,2,0),\"\"),\"\")","v":"SEG"},{"$f":"IF(Z7<>\"\",IFERROR(VLOOKUP(WEEKDAY(CONCATENATE(Z7,$X$5,$AL$5)),Tabelas!$I:$J,2,0),\"\"),\"\")","v":"TER"},{"$f":"IF(AA7<>\"\",IFERROR(VLOOKUP(WEEKDAY(CONCATENATE(AA7,$X$5,$AL$5)),Tabelas!$I:$J,2,0),\"\"),\"\")","v":"QUA"},{"$f":"IF(AB7<>\"\",IFERROR(VLOOKUP(WEEKDAY(CONCATENATE(AB7,$X$5,$AL$5)),Tabelas!$I:$J,2,0),\"\"),\"\")","v":"QUI"},{"$f":"IF(AC7<>\"\",IFERROR(VLOOKUP(WEEKDAY(CONCATENATE(AC7,$X$5,$AL$5)),Tabelas!$I:$J,2,0),\"\"),\"\")","v":"SEX"},{"$f":"IF(AD7<>\"\",IFERROR(VLOOKUP(WEEKDAY(CONCATENATE(AD7,$X$5,$AL$5)),Tabelas!$I:$J,2,0),\"\"),\"\")","v":"SAB"},{"$f":"IF(AE7<>\"\",IFERROR(VLOOKUP(WEEKDAY(CONCATENATE(AE7,$X$5,$AL$5)),Tabelas!$I:$J,2,0),\"\"),\"\")","v":"DOM"},{"$f":"IF(AF7<>\"\",IFERROR(VLOOKUP(WEEKDAY(CONCATENATE(AF7,$X$5,$AL$5)),Tabelas!$I:$J,2,0),\"\"),\"\")","v":"SEG"},{"$f":"IF(AG7<>\"\",IFERROR(VLOOKUP(WEEKDAY(CONCATENATE(AG7,$X$5,$AL$5)),Tabelas!$I:$J,2,0),\"\"),\"\")","v":"TER"},{"$f":"IF(AH7<>\"\",IFERROR(VLOOKUP(WEEKDAY(CONCATENATE(AH7,$X$5,$AL$5)),Tabelas!$I:$J,2,0),\"\"),\"\")","v":"QUA"},{"$f":"IF(AI7<>\"\",IFERROR(VLOOKUP(WEEKDAY(CONCATENATE(AI7,$X$5,$AL$5)),Tabelas!$I:$J,2,0),\"\"),\"\")","v":"QUI"},{"$f":"IF(AJ7<>\"\",IFERROR(VLOOKUP(WEEKDAY(CONCATENATE(AJ7,$X$5,$AL$5)),Tabelas!$I:$J,2,0),\"\"),\"\")","v":"SEX"},{"$f":"IF(AK7<>\"\",IFERROR(VLOOKUP(WEEKDAY(CONCATENATE(AK7,$X$5,$AL$5)),Tabelas!$I:$J,2,0),\"\"),\"\")","v":"SAB"},{"$f":"IF(AL7<>\"\",IFERROR(VLOOKUP(WEEKDAY(CONCATENATE(AL7,$X$5,$AL$5)),Tabelas!$I:$J,2,0),\"\"),\"\")","v":"DOM"},{"$f":"IF(AM7<>\"\",IFERROR(VLOOKUP(WEEKDAY(CONCATENATE(AM7,$X$5,$AL$5)),Tabelas!$I:$J,2,0),\"\"),\"\")","v":"SEG"},{"$f":"IF(AN7<>\"\",IFERROR(VLOOKUP(WEEKDAY(CONCATENATE(AN7,$X$5,$AL$5)),Tabelas!$I:$J,2,0),\"\"),\"\")","v":"TER"},{"$f":"IF(AO7<>\"\",IFERROR(VLOOKUP(WEEKDAY(CONCATENATE(AO7,$X$5,$AL$5)),Tabelas!$I:$J,2,0),\"\"),\"\")","v":""},{"$f":"IF(AP7<>\"\",IFERROR(VLOOKUP(WEEKDAY(CONCATENATE(AP7,$X$5,$AL$5)),Tabelas!$I:$J,2,0),\"\"),\"\")","v":""},{"$f":"IF(AQ7<>\"\",IFERROR(VLOOKUP(WEEKDAY(CONCATENATE(AQ7,$X$5,$AL$5)),Tabelas!$I:$J,2,0),\"\"),\"\")","v":""},1,2,3,4,5,6,7,8,9,10,11,12,13,14,15,16,17,18,19,20,21,22,23,24,25,26,27,28,29,30,31]
["FULANO 1",1,null,null,null,null,null,null,null,null,null,null,null,null,null,null,null,null,null,null,null,null,null,null,null,null,null,null,null,null,null,null,null,null,null,null,null,null,null,null,null,null,null,{"$f":"IF(A9<>\"\",IFERROR(VLOOKUP(M9,Tabelas!B:D,3,0),0),\"\")","v":0},{"$f":"IF(A9<>\"\",IFERROR(VLOOKUP(N9,Tabelas!B:D,3,0),0),\"\")","v":0},{"$f":"IF(A9<>\"\",IFERROR(VLOOKUP(O9,Tabelas!B:D,3,0),0),\"\")","v":0},{"$f":"IF(A9<>\"\",IFERROR(VLOOKUP(P9,Tabelas!B:D,3,0),0),\"\")","v":0},{"$f":"IF(A9<>\"\",IFERROR(VLOOKUP(Q9,Tabelas!B:D,3,0),0),\"\")","v":0},{"$f":"IF(A9<>\"\",IFERROR(VLOOKUP(R9,Tabelas!B:D,3,0),0),\"\")","v":0},{"$f":"IF(A9<>\"\",IFERROR(VLOOKUP(S9,Tabelas!B:D,3,0),0),\"\")","v":0},{"$f":"IF(A9<>\"\",IFERROR(VLOOKUP(T9,Tabelas!B:D,3,0),0),\"\")","v":0},{"$f":"IF(A9<>\"\",IFERROR(VLOOKUP(U9,Tabelas!B:D,3,0),0),\"\")","v":0},{"$f":"IF(A9<>\"\",IFERROR(VLOOKUP(V9,Tabelas!B:D,3,0),0),\"\")","v":0},{"$f":"IF(A9<>\"\",IFERROR(VLOOKUP(W9,Tabelas!B:D,3,0),0),\"\")","v":0},{"$f":"IF(A9<>\"\",IFERROR(VLOOKUP(X9,Tabelas!B:D,3,0),0),\"\")","v":0},{"$f":"IF(A9<>\"\",IFERROR(VLOOKUP(Y9,Tabelas!B:D,3,0),0),\"\")","v":0},{"$f":"IF(A9<>\"\",IFERROR(VLOOKUP(Z9,Tabelas!B:D,3,0),0),\"\")","v":0},{"$f":"IF(A9<>\"\",IFERROR(VLOOKUP(AA9,Tabelas!B:D,3,0),0),\"\")","v":0},{"$f":"IF(A9<>\"\",IFERROR(VLOOKUP(AB9,Tabelas!B:D,3,0),0),\"\")","v":0},{"$f":"IF(A9<>\"\",IFERROR(VLOOKUP(AC9,Tabelas!B:D,3,0),0),\"\")","v":0},{"$f":"IF(A9<>\"\",IFERROR(VLOOKUP(AD9,Tabelas!B:D,3,0),0),\"\")","v":0},{"$f":"IF(A9<>\"\",IFERROR(VLOOKUP(AE9,Tabelas!B:D,3,0),0),\"\")","v":0},{"$f":"IF(A9<>\"\",IFERROR(VLOOKUP(AF9,Tabelas!B:D,3,0),0),\"\")","v":0},{"$f":"IF(A9<>\"\",IFERROR(VLOOKUP(AG9,Tabelas!B:D,3,0),0),\"\")","v":0},{"$f":"IF(A9<>\"\",IFERROR(VLOOKUP(AH9,Tabelas!B:D,3,0),0),\"\")","v":0},{"$f":"IF(A9<>\"\",IFERROR(VLOOKUP(AI9,Tabelas!B:D,3,0),0),\"\")","v":0},{"$f":"IF(A9<>\"\",IFERROR(VLOOKUP(AJ9,Tabelas!B:D,3,0),0),\"\")","v":0},{"$f":"IF(A9<>\"\",IFERROR(VLOOKUP(AK9,Tabelas!B:D,3,0),0),\"\")","v":0},{"$f":"IF(A9<>\"\",IFERROR(VLOOKUP(AL9,Tabelas!B:D,3,0),0),\"\")","v":0},{"$f":"IF(A9<>\"\",IFERROR(VLOOKUP(AM9,Tabelas!B:D,3,0),0),\"\")","v":0},{"$f":"IF(A9<>\"\",IFERROR(VLOOKUP(AN9,Tabelas!B:D,3,0),0),\"\")","v":0},{"$f":"IF(A9<>\"\",IFERROR(VLOOKUP(AO9,Tabelas!B:D,3,0),0),\"\")","v":0},{"$f":"IF(A9<>\"\",IFERROR(VLOOKUP(AP9,Tabelas!B:D,3,0),0),\"\")","v":0},{"$f":"IF(A9<>\"\",IFERROR(VLOOKUP(AQ9,Tabelas!B:D,3,0),0),\"\")","v":0},{"$f":"IF(AND(A9<>\"\",E9=\"Ebserh\"),SUM(AR9:BV9)+COUNTIF(M9:AQ9,\"N*\")+COUNTIF(M9:AQ9,\"DN*\"),IF(AND(A9<>\"\",E9<>\"Ebserh\"),SUM(AR9:BV9),\"\"))","v":0},{"$f":"IF(A9<>\"\",COUNTIF(M9:AQ9,\"LM\")+COUNTIF(M9:AQ9,\"L*\")+COUNTIF(M9:AQ9,\"LP\"),\"\")","v":0},{"$f":"IF(A9<>\"\",COUNTIF(M9:AQ9,\"AB*\"),\"\")","v":0},{"$f":"IF(A9<>\"\",COUNTIF(M9:AQ9,\"FE\"),\"\")","v":0},{"$f":"IF(A9<>\"\",COUNTIF(M9:AQ9,\"LC\"),\"\")","v":0},{"$f":"IF(A9<>\"\",COUNTIF(M9:AQ9,\"CH*\"),\"\")","v":0},{"$f":"IF(A9<>\"\",COUNTIF(M9:AQ9,\"AF1\")+COUNTIF(M9:AQ9,\"AF2\")+COUNTIF(M9:AQ9,\"AF3\")+COUNTIF(M9:AQ9,\"AF4\")+COUNTIF(M9:AQ9,\"AF5\")+COUNTIF(M9:AQ9,\"AF6\")+COUNTIF(M9:AQ9,\"AF7\")+COUNTIF(M9:AQ9,\"AF8\")+COUNTIF(M9:AQ9,\"AF9\")+COUNTIF(M9:AQ9,\"AF10\")+COUNTIF(M9:AQ9,\"AF11\")+COUNTIF(M9:AQ9,\"AF12\")+COUNTIF(M9:AQ9,\"AF13\")+COUNTIF(M9:AQ9,\"AF14\"),\"\")","v":0},{"$f":"IF(A9<>\"\",COUNTIF(M9:AQ9,\"CH*\")+COUNTIF(M9:AQ9,\"L*\")+COUNTIF(M9:AQ9,\"LM\")+COUNTIF(M9:AQ9,\"LP\")+COUNTIF(M9:AQ9,\"LC\")+COUNTIF(M9:AQ9,\"AB*\")+COUNTIF(M9:AQ9,\"AF1\")+COUNTIF(M9:AQ9,\"AF2\")+COUNTIF(M9:AQ9,\"AF3\")+COUNTIF(M9:AQ9,\"AF4\")+COUNTIF(M9:AQ9,\"AF5\")+COUNTIF(M9:AQ9,\"AF6\")+COUNTIF(M9:AQ9,\"AF7\")+COUNTIF(M9:AQ9,\"AF8\")+COUNTIF(M9:AQ9,\"AF9\")+COUNTIF(M9:AQ9,\"AF10\")+COUNTIF(M9:AQ9,\"AF11\")+COUNTIF(M9:AQ9,\"AF12\")+COUNTIF(M9:AQ9,\"AF13\")+COUNTIF(M9:AQ9,\"AF14\")+COUNTIF(M9:AQ9,\"RC\")+COUNTIF(M9:AQ9,\"FO\")+COUNTIF(M9:AQ9,\"FE\"),\"\")","v":0}]
["FULANO 2",2,null,null,null,null,null,null,null,null,null,null,null,null,null,null,null,null,null,null,null,null,null,null,null,null,null,null,null,null,null,null,null,null,null,null,null,null,null,null,null,null,null,{"$f":"IF(A10<>\"\",IFERROR(VLOOKUP(M10,Tabelas!B:D,3,0),0),\"\")","v":0},{"$f":"IF(A10<>\"\",IFERROR(VLOOKUP(N10,Tabelas!B:D,3,0),0),\"\")","v":0},{"$f":"IF(A10<>\"\",IFERROR(VLOOKUP(O10,Tabelas!B:D,3,0),0),\"\")","v":0},{"$f":"IF(A10<>\"\",IFERROR(VLOOKUP(P10,Tabelas!B:D,3,0),0),\"\")","v":0},{"$f":"IF(A10<>\"\",IFERROR(VLOOKUP(Q10,Tabelas!B:D,3,0),0),\"\")","v":0},{"$f":"IF(A10<>\"\",IFERROR(VLOOKUP(R10,Tabelas!B:D,3,0),0),\"\")","v":0},{"$f":"IF(A10<>\"\",IFERROR(VLOOKUP(S10,Tabelas!B:D,3,0),0),\"\")","v":0},{"$f":"IF(A10<>\"\",IFERROR(VLOOKUP(T10,Tabelas!B:D,3,0),0),\"\")","v":0},{"$f":"IF(A10<>\"\",IFERROR(VLOOKUP(U10,Tabelas!B:D,3,0),0),\"\")","v":0},{"$f":"IF(A10<>\"\",IFERROR(VLOOKUP(V10,Tabelas!B:D,3,0),0),\"\")","v":0},{"$f":"IF(A10<>\"\",IFERROR(VLOOKUP(W10,Tabelas!B:D,3,0),0),\"\")","v":0},{"$f":"IF(A10<>\"\",IFERROR(VLOOKUP(X10,Tabelas!B:D,3,0),0),\"\")","v":0},{"$f":"IF(A10<>\"\",IFERROR(VLOOKUP(Y10,Tabelas!B:D,3,0),0),\"\")","v":0},{"$f":"IF(A10<>\"\",IFERROR(VLOOKUP(Z10,Tabelas!B:D,3,0),0),\"\")","v":0},{"$f":"IF(A10<>\"\",IFERROR(VLOOKUP(AA10,Tabelas!B:D,3,0),0),\"\")","v":0},{"$f":"IF(A10<>\"\",IFERROR(VLOOKUP(AB10,Tabelas!B:D,3,0),0),\"\")","v":0},{"$f":"IF(A10<>\"\",IFERROR(VLOOKUP(AC10,Tabelas!B:D,3,0),0),\"\")","v":0},{"$f":"IF(A10<>\"\",IFERROR(VLOOKUP(AD10,Tabelas!B:D,3,0),0),\"\")","v":0},{"$f":"IF(A10<>\"\",IFERROR(VLOOKUP(AE10,Tabelas!B:D,3,0),0),\"\")","v":0},{"$f":"IF(A10<>\"\",IFERROR(VLOOKUP(AF10,Tabelas!B:D,3,0),0),\"\")","v":0},{"$f":"IF(A10<>\"\",IFERROR(VLOOKUP(AG10,Tabelas!B:D,3,0),0),\"\")","v":0},{"$f":"IF(A10<>\"\",IFERROR(VLOOKUP(AH10,Tabelas!B:D,3,0),0),\"\")","v":0},{"$f":"IF(A10<>\"\",IFERROR(VLOOKUP(AI10,Tabelas!B:D,3,0),0),\"\")","v":0},{"$f":"IF(A10<>\"\",IFERROR(VLOOKUP(AJ10,Tabelas!B:D,3,0),0),\"\")","v":0},{"$f":"IF(A10<>\"\",IFERROR(VLOOKUP(AK10,Tabelas!B:D,3,0),0),\"\")","v":0},{"$f":"IF(A10<>\"\",IFERROR(VLOOKUP(AL10,Tabelas!B:D,3,0),0),\"\")","v":0},{"$f":"IF(A10<>\"\",IFERROR(VLOOKUP(AM10,Tabelas!B:D,3,0),0),\"\")","v":0},{"$f":"IF(A10<>\"\",IFERROR(VLOOKUP(AN10,Tabelas!B:D,3,0),0),\"\")","v":0},{"$f":"IF(A10<>\"\",IFERROR(VLOOKUP(AO10,Tabelas!B:D,3,0),0),\"\")","v":0},{"$f":"IF(A10<>\"\",IFERROR(VLOOKUP(AP10,Tabelas!B:D,3,0),0),\"\")","v":0},{"$f":"IF(A10<>\"\",IFERROR(VLOOKUP(AQ10,Tabelas!B:D,3,0),0),\"\")","v":0},{"$f":"IF(AND(A10<>\"\",E10=\"Ebserh\"),SUM(AR10:BV10)+COUNTIF(M10:AQ10,\"N*\")+COUNTIF(M10:AQ10,\"DN*\"),IF(AND(A10<>\"\",E10<>\"Ebserh\"),SUM(AR10:BV10),\"\"))","v":0},{"$f":"IF(A10<>\"\",COUNTIF(M10:AQ10,\"LM\")+COUNTIF(M10:AQ10,\"L*\")+COUNTIF(M10:AQ10,\"LP\"),\"\")","v":0},{"$f":"IF(A10<>\"\",COUNTIF(M10:AQ10,\"AB*\"),\"\")","v":0},{"$f":"IF(A10<>\"\",COUNTIF(M10:AQ10,\"FE\"),\"\")","v":0},{"$f":"IF(A10<>\"\",COUNTIF(M10:AQ10,\"LC\"),\"\")","v":0},{"$f":"IF(A10<>\"\",COUNTIF(M10:AQ10,\"CH*\"),\"\")","v":0},{"$f":"IF(A10<>\"\",COUNTIF(M10:AQ10,\"AF1\")+COUNTIF(M10:AQ10,\"AF2\")+COUNTIF(M10:AQ10,\"AF3\")+COUNTIF(M10:AQ10,\"AF4\")+COUNTIF(M10:AQ10,\"AF5\")+COUNTIF(M10:AQ10,\"AF6\")+COUNTIF(M10:AQ10,\"AF7\")+COUNTIF(M10:AQ10,\"AF8\")+COUNTIF(M10:AQ10,\"AF9\")+COUNTIF(M10:AQ10,\"AF10\")+COUNTIF(M10:AQ10,\"AF11\")+COUNTIF(M10:AQ10,\"AF12\")+COUNTIF(M10:AQ10,\"AF13\")+COUNTIF(M10:AQ10,\"AF14\"),\"\")","v":0},{"$f":"IF(A10<>\"\",COUNTIF(M10:AQ10,\"CH*\")+COUNTIF(M10:AQ10,\"L*\")+COUNTIF(M10:AQ10,\"LM\")+COUNTIF(M10:AQ10,\"LP\")+COUNTIF(M10:AQ10,\"LC\")+COUNTIF(M10:AQ10,\"AB*\")+COUNTIF(M10:AQ10,\"AF1\")+COUNTIF(M10:AQ10,\"AF2\")+COUNTIF(M10:AQ10,\"AF3\")+COUNTIF(M10:AQ10,\"AF4\")+COUNTIF(M10:AQ10,\"AF5\")+COUNTIF(M10:AQ10,\"AF6\")+COUNTIF(M10:AQ10,\"AF7\")+COUNTIF(M10:AQ10,\"AF8\")+COUNTIF(M10:AQ10,\"AF9\")+COUNTIF(M10:AQ10,\"AF10\")+COUNTIF(M10:AQ10,\"AF11\")+COUNTIF(M10:AQ10,\"AF12\")+COUNTIF(M10:AQ10,\"AF13\")+COUNTIF(M10:AQ10,\"AF14\")+COUNTIF(M10:AQ10,\"RC\")+COUNTIF(M10:AQ10,\"FO\")+COUNTIF(M10:AQ10,\"FE\"),\"\")","v":0}]
["FULANO 3",3,null,null,null,null,null,null,null,null,null,null,null,null,null,null,null,null,null,null,null,null,null,null,null,null,null,null,null,null,null,null,null,null,null,null,null,null,null,null,null,null,null,{"$f":"IF(A11<>\"\",IFERROR(VLOOKUP(M11,Tabelas!B:D,3,0),0),\"\")","v":0},{"$f":"IF(A11<>\"\",IFERROR(VLOOKUP(N11,Tabelas!B:D,3,0),0),\"\")","v":0},{"$f":"IF(A11<>\"\",IFERROR(VLOOKUP(O11,Tabelas!B:D,3,0),0),\"\")","v":0},{"$f":"IF(A11<>\"\",IFERROR(VLOOKUP(P11,Tabelas!B:D,3,0),0),\"\")","v":0},{"$f":"IF(A11<>\"\",IFERROR(VLOOKUP(Q11,Tabelas!B:D,3,0),0),\"\")","v":0},{"$f":"IF(A11<>\"\",IFERROR(VLOOKUP(R11,Tabelas!B:D,3,0),0),\"\")","v":0},{"$f":"IF(A11<>\"\",IFERROR(VLOOKUP(S11,Tabelas!B:D,3,0),0),\"\")","v":0},{"$f":"IF(A11<>\"\",IFERROR(VLOOKUP(T11,Tabelas!B:D,3,0),0),\"\")","v":0},{"$f":"IF(A11<>\"\",IFERROR(VLOOKUP(U11,Tabelas!B:D,3,0),0),\"\")","v":0},{"$f":"IF(A11<>\"\",IFERROR(VLOOKUP(V11,Tabelas!B:D,3,0),0),\"\")","v":0},{"$f":"IF(A11<>\"\",IFERROR(VLOOKUP(W11,Tabelas!B:D,3,0),0),\"\")","v":0},{"$f":"IF(A11<>\"\",IFERROR(VLOOKUP(X11,Tabelas!B:D,3,0),0),\"\")","v":0},{"$f":"IF(A11<>\"\",IFERROR(VLOOKUP(Y11,Tabelas!B:D,3,0),0),\"\")","v":0},{"$f":"IF(A11<>\"\",IFERROR(VLOOKUP(Z11,Tabelas!B:D,3,0),0),\"\")","v":0},{"$f":"IF(A11<>\"\",IFERROR(VLOOKUP(AA11,Tabelas!B:D,3,0),0),\"\")","v":0},{"$f":"IF(A11<>\"\",IFERROR(VLOOKUP(AB11,Tabelas!B:D,3,0),0),\"\")","v":0},{"$f":"IF(A11<>\"\",IFERROR(VLOOKUP(AC11,Tabelas!B:D,3,0),0),\"\")","v":0},{"$f":"IF(A11<>\"\",IFERROR(VLOOKUP(AD11,Tabelas!B:D,3,0),0),\"\")","v":0},{"$f":"IF(A11<>\"\",IFERROR(VLOOKUP(AE11,Tabelas!B:D,3,0),0),\"\")","v":0},{"$f":"IF(A11<>\"\",IFERROR(VLOOKUP(AF11,Tabelas!B:D,3,0),0),\"\")","v":0},{"$f":"IF(A11<>\"\",IFERROR(VLOOKUP(AG11,Tabelas!B:D,3,0),0),\"\")","v":0},{"$f":"IF(A11<>\"\",IFERROR(VLOOKUP(AH11,Tabelas!B:D,3,0),0),\"\")","v":0},{"$f":"IF(A11<>\"\",IFERROR(VLOOKUP(AI11,Tabelas!B:D,3,0),0),\"\")","v":0},{"$f":"IF(A11<>\"\",IFERROR(VLOOKUP(AJ11,Tabelas!B:D,3,0),0),\"\")","v":0},{"$f":"IF(A11<>\"\",IFERROR(VLOOKUP(AK11,Tabelas!B:D,3,0),0),\"\")","v":0},{"$f":"IF(A11<>\"\",IFERROR(VLOOKUP(AL11,Tabelas!B:D,3,0),0),\"\")","v":0},{"$f":"IF(A11<>\"\",IFERROR(VLOOKUP(AM11,Tabelas!B:D,3,0),0),\"\")","v":0},{"$f":"IF(A11<>\"\",IFERROR(VLOOKUP(AN11,Tabelas!B:D,3,0),0),\"\")","v":0},{"$f":"IF(A11<>\"\",IFERROR(VLOOKUP(AO11,Tabelas!B:D,3,0),0),\"\")","v":0},{"$f":"IF(A11<>\"\",IFERROR(VLOOKUP(AP11,Tabelas!B:D,3,0),0),\"\")","v":0},{"$f":"IF(A11<>\"\",IFERROR(VLOOKUP(AQ11,Tabelas!B:D,3,0),0),\"\")","v":0},0,0,0,0,0,0,0,0]
["FULANO 4",4,null,null,null,null,null,null,null,null,null,null,null,null,null,null,null,null,null,null,null,null,null,null,null,null,null,null,null,null,null,null,null,null,null,null,null,null,null,null,null,null,null,{"$f":"IF(A12<>\"\",IFERROR(VLOOKUP(M12,Tabelas!B:D,3,0),0),\"\")","v":0},{"$f":"IF(A12<>\"\",IFERROR(VLOOKUP(N12,Tabelas!B:D,3,0),0),\"\")","v":0},{"$f":"IF(A12<>\"\",IFERROR(VLOOKUP(O12,Tabelas!B:D,3,0),0),\"\")","v":0},{"$f":"IF(A12<>\"\",IFERROR(VLOOKUP(P12,Tabelas!B:D,3,0),0),\"\")","v":0},{"$f":"IF(A12<>\"\",IFERROR(VLOOKUP(Q12,Tabelas!B:D,3,0),0),\"\")","v":0},{"$f":"IF(A12<>\"\",IFERROR(VLOOKUP(R12,Tabelas!B:D,3,0),0),\"\")","v":0},{"$f":"IF(A12<>\"\",IFERROR(VLOOKUP(S12,Tabelas!B:D,3,0),0),\"\")","v":0},{"$f":"IF(A12<>\"\",IFERROR(VLOOKUP(T12,Tabelas!B:D,3,0),0),\"\")","v":0},{"$f":"IF(A12<>\"\",IFERROR(VLOOKUP(U12,Tabelas!B:D,3,0),0),\"\")","v":0},{"$f":"IF(A12<>\"\",IFERROR(VLOOKUP(V12,Tabelas!B:D,3,0),0),\"\")","v":0},{"$f":"IF(A12<>\"\",IFERROR(VLOOKUP(W12,Tabelas!B:D,3,0),0),\"\")","v":0},{"$f":"IF(A12<>\"\",IFERROR(VLOOKUP(X12,Tabelas!B:D,3,0),0),\"\")","v":0},{"$f":"IF(A12<>\"\",IFERROR(VLOOKUP(Y12,Tabelas!B:D,3,0),0),\"\")","v":0},{"$f":"IF(A12<>\"\",IFERROR(VLOOKUP(Z12,Tabelas!B:D,3,0),0),\"\")","v":0},{"$f":"IF(A12<>\"\",IFERROR(VLOOKUP(AA12,Tabelas!B:D,3,0),0),\"\")","v":0},{"$f":"IF(A12<>\"\",IFERROR(VLOOKUP(AB12,Tabelas!B:D,3,0),0),\"\")","v":0},{"$f":"IF(A12<>\"\",IFERROR(VLOOKUP(AC12,Tabelas!B:D,3,0),0),\"\")","v":0},{"$f":"IF(A12<>\"\",IFERROR(VLOOKUP(AD12,Tabelas!B:D,3,0),0),\"\")","v":0},{"$f":"IF(A12<>\"\",IFERROR(VLOOKUP(AE12,Tabelas!B:D,3,0),0),\"\")","v":0},{"$f":"IF(A12<>\"\",IFERROR(VLOOKUP(AF12,Tabelas!B:D,3,0),0),\"\")","v":0},{"$f":"IF(A12<>\"\",IFERROR(VLOOKUP(AG12,Tabelas!B:D,3,0),0),\"\")","v":0},{"$f":"IF(A12<>\"\",IFERROR(VLOOKUP(AH12,Tabelas!B:D,3,0),0),\"\")","v":0},{"$f":"IF(A12<>\"\",IFERROR(VLOOKUP(AI12,Tabelas!B:D,3,0),0),\"\")","v":0},{"$f":"IF(A12<>\"\",IFERROR(VLOOKUP(AJ12,Tabelas!B:D,3,0),0),\"\")","v":0},{"$f":"IF(A12<>\"\",IFERROR(VLOOKUP(AK12,Tabelas!B:D,3,0),0),\"\")","v":0},{"$f":"IF(A12<>\"\",IFERROR(VLOOKUP(AL12,Tabelas!B:D,3,0),0),\"\")","v":0},{"$f":"IF(A12<>\"\",IFERROR(VLOOKUP(AM12,Tabelas!B:D,3,0),0),\"\")","v":0},{"$f":"IF(A12<>\"\",IFERROR(VLOOKUP(AN12,Tabelas!B:D,3,0),0),\"\")","v":0},{"$f":"IF(A12<>\"\",IFERROR(VLOOKUP(AO12,Tabelas!B:D,3,0),0),\"\")","v":0},{"$f":"IF(A12<>\"\",IFERROR(VLOOKUP(AP12,Tabelas!B:D,3,0),0),\"\")","v":0},{"$f":"IF(A12<>\"\",IFERROR(VLOOKUP(AQ12,Tabelas!B:D,3,0),0),\"\")","v":0},0,0,0,0,0,0,0,0]
["FULANO 5",5,null,null,null,null,null,null,null,null,null,null,null,null,null,null,null,null,null,null,null,null,null,null,null,null,null,null,null,null,null,null,null,null,null,null,null,null,null,null,null,null,null,{"$f":"IF(A13<>\"\",IFERROR(VLOOKUP(M13,Tabelas!B:D,3,0),0),\"\")","v":0},{"$f":"IF(A13<>\"\",IFERROR(VLOOKUP(N13,Tabelas!B:D,3,0),0),\"\")","v":0},{"$f":"IF(A13<>\"\",IFERROR(VLOOKUP(O13,Tabelas!B:D,3,0),0),\"\")","v":0},{"$f":"IF(A13<>\"\",IFERROR(VLOOKUP(P13,Tabelas!B:D,3,0),0),\"\")","v":0},{"$f":"IF(A13<>\"\",IFERROR(VLOOKUP(Q13,Tabelas!B:D,3,0),0),\"\")","v":0},{"$f":"IF(A13<>\"\",IFERROR(VLOOKUP(R13,Tabelas!B:D,3,0),0),\"\")","v":0},{"$f":"IF(A13<>\"\",IFERROR(VLOOKUP(S13,Tabelas!B:D,3,0),0),\"\")","v":0},{"$f":"IF(A13<>\"\",IFERROR(VLOOKUP(T13,Tabelas!B:D,3,0),0),\"\")","v":0},{"$f":"IF(A13<>\"\",IFERROR(VLOOKUP(U13,Tabelas!B:D,3,0),0),\"\")","v":0},{"$f":"IF(A13<>\"\",IFERROR(VLOOKUP(V13,Tabelas!B:D,3,0),0),\"\")","v":0},{"$f":"IF(A13<>\"\",IFERROR(VLOOKUP(W13,Tabelas!B:D,3,0),0),\"\")","v":0},{"$f":"IF(A13<>\"\",IFERROR(VLOOKUP(X13,Tabelas!B:D,3,0),0),\"\")","v":0},{"$f":"IF(A13<>\"\",IFERROR(VLOOKUP(Y13,Tabelas!B:D,3,0),0),\"\")","v":0},{"$f":"IF(A13<>\"\",IFERROR(VLOOKUP(Z13,Tabelas!B:D,3,0),0),\"\")","v":0},{"$f":"IF(A13<>\"\",IFERROR(VLOOKUP(AA13,Tabelas!B:D,3,0),0),\"\")","v":0},{"$f":"IF(A13<>\"\",IFERROR(VLOOKUP(AB13,Tabelas!B:D,3,0),0),\"\")","v":0},{"$f":"IF(A13<>\"\",IFERROR(VLOOKUP(AC13,Tabelas!B:D,3,0),0),\"\")","v":0},{"$f":"IF(A13<>\"\",IFERROR(VLOOKUP(AD13,Tabelas!B:D,3,0),0),\"\")","v":0},{"$f":"IF(A13<>\"\",IFERROR(VLOOKUP(AE13,Tabelas!B:D,3,0),0),\"\")","v":0},{"$f":"IF(A13<>\"\",IFERROR(VLOOKUP(AF13,Tabelas!B:D,3,0),0),\"\")","v":0},{"$f":"IF(A13<>\"\",IFERROR(VLOOKUP(AG13,Tabelas!B:D,3,0),0),\"\")","v":0},{"$f":"IF(A13<>\"\",IFERROR(VLOOKUP(AH13,Tabelas!B:D,3,0),0),\"\")","v":0},{"$f":"IF(A13<>\"\",IFERROR(VLOOKUP(AI13,Tabelas!B:D,3,0),0),\"\")","v":0},{"$f":"IF(A13<>\"\",IFERROR(VLOOKUP(AJ13,Tabelas!B:D,3,0),0),\"\")","v":0},{"$f":"IF(A13<>\"\",IFERROR(VLOOKUP(AK13,Tabelas!B:D,3,0),0),\"\")","v":0},{"$f":"IF(A13<>\"\",IFERROR(VLOOKUP(AL13,Tabelas!B:D,3,0),0),\"\")","v":0},{"$f":"IF(A13<>\"\",IFERROR(VLOOKUP(AM13,Tabelas!B:D,3,0),0),\"\")","v":0},{"$f":"IF(A13<>\"\",IFERROR(VLOOKUP(AN13,Tabelas!B:D,3,0),0),\"\")","v":0},{"$f":"IF(A13<>\"\",IFERROR(VLOOKUP(AO13,Tabelas!B:D,3,0),0),\"\")","v":0},{"$f":"IF(A13<>\"\",IFERROR(VLOOKUP(AP13,Tabelas!B:D,3,0),0),\"\")","v":0},{"$f":"IF(A13<>\"\",IFERROR(VLOOKUP(AQ13,Tabelas!B:D,3,0),0),\"\")","v":0},0,0,0,0,0,0,0,0]
["FULANO 6",6,null,null,null,null,null,null,null,null,null,null,null,null,null,null,null,null,null,null,null,null,null,null,null,null,null,null,null,null,null,null,null,null,null,null,null,null,null,null,null,null,null,{"$f":"IF(A14<>\"\",IFERROR(VLOOKUP(M14,Tabelas!B:D,3,0),0),\"\")","v":0},{"$f":"IF(A14<>\"\",IFERROR(VLOOKUP(N14,Tabelas!B:D,3,0),0),\"\")","v":0},{"$f":"IF(A14<>\"\",IFERROR(VLOOKUP(O14,Tabelas!B:D,3,0),0),\"\")","v":0},{"$f":"IF(A14<>\"\",IFERROR(VLOOKUP(P14,Tabelas!B:D,3,0),0),\"\")","v":0},{"$f":"IF(A14<>\"\",IFERROR(VLOOKUP(Q14,Tabelas!B:D,3,0),0),\"\")","v":0},{"$f":"IF(A14<>\"\",IFERROR(VLOOKUP(R14,Tabelas!B:D,3,0),0),\"\")","v":0},{"$f":"IF(A14<>\"\",IFERROR(VLOOKUP(S14,Tabelas!B:D,3,0),0),\"\")","v":0},{"$f":"IF(A14<>\"\",IFERROR(VLOOKUP(T14,Tabelas!B:D,3,0),0),\"\")","v":0},{"$f":"IF(A14<>\"\",IFERROR(VLOOKUP(U14,Tabelas!B:D,3,0),0),\"\")","v":0},{"$f":"IF(A14<>\"\",IFERROR(VLOOKUP(V14,Tabelas!B:D,3,0),0),\"\")","v":0},{"$f":"IF(A14<>\"\",IFERROR(VLOOKUP(W14,Tabelas!B:D,3,0),0),\"\")","v":0},{"$f":"IF(A14<>\"\",IFERROR(VLOOKUP(X14,Tabelas!B:D,3,0),0),\"\")","v":0},{"$f":"IF(A14<>\"\",IFERROR(VLOOKUP(Y14,Tabelas!B:D,3,0),0),\"\")","v":0},{"$f":"IF(A14<>\"\",IFERROR(VLOOKUP(Z14,Tabelas!B:D,3,0),0),\"\")","v":0},{"$f":"IF(A14<>\"\",IFERROR(VLOOKUP(AA14,Tabelas!B:D,3,0),0),\"\")","v":0},{"$f":"IF(A14<>\"\",IFERROR(VLOOKUP(AB14,Tabelas!B:D,3,0),0),\"\")","v":0},{"$f":"IF(A14<>\"\",IFERROR(VLOOKUP(AC14,Tabelas!B:D,3,0),0),\"\")","v":0},{"$f":"IF(A14<>\"\",IFERROR(VLOOKUP(AD14,Tabelas!B:D,3,0),0),\"\")","v":0},{"$f":"IF(A14<>\"\",IFERROR(VLOOKUP(AE14,Tabelas!B:D,3,0),0),\"\")","v":0},{"$f":"IF(A14<>\"\",IFERROR(VLOOKUP(AF14,Tabelas!B:D,3,0),0),\"\")","v":0},{"$f":"IF(A14<>\"\",IFERROR(VLOOKUP(AG14,Tabelas!B:D,3,0),0),\"\")","v":0},{"$f":"IF(A14<>\"\",IFERROR(VLOOKUP(AH14,Tabelas!B:D,3,0),0),\"\")","v":0},{"$f":"IF(A14<>\"\",IFERROR(VLOOKUP(AI14,Tabelas!B:D,3,0),0),\"\")","v":0},{"$f":"IF(A14<>\"\",IFERROR(VLOOKUP(AJ14,Tabelas!B:D,3,0),0),\"\")","v":0},{"$f":"IF(A14<>\"\",IFERROR(VLOOKUP(AK14,Tabelas!B:D,3,0),0),\"\")","v":0},{"$f":"IF(A14<>\"\",IFERROR(VLOOKUP(AL14,Tabelas!B:D,3,0),0),\"\")","v":0},{"$f":"IF(A14<>\"\",IFERROR(VLOOKUP(AM14,Tabelas!B:D,3,0),0),\"\")","v":0},{"$f":"IF(A14<>\"\",IFERROR(VLOOKUP(AN14,Tabelas!B:D,3,0),0),\"\")","v":0},{"$f":"IF(A14<>\"\",IFERROR(VLOOKUP(AO14,Tabelas!B:D,3,0),0),\"\")","v":0},{"$f":"IF(A14<>\"\",IFERROR(VLOOKUP(AP14,Tabelas!B:D,3,0),0),\"\")","v":0},{"$f":"IF(A14<>\"\",IFERROR(VLOOKUP(AQ14,Tabelas!B:D,3,0),0),\"\")","v":0},0,0,0,0,0,0,0,0]
["FULANO 7",7,null,null,null,null,null,null,null,null,null,null,null,null,null,null,null,null,null,null,null,null,null,null,null,null,null,null,null,null,null,null,null,null,null,null,null,null,null,null,null,null,null,{"$f":"IF(A15<>\"\",IFERROR(VLOOKUP(M15,Tabelas!B:D,3,0),0),\"\")","v":0},{"$f":"IF(A15<>\"\",IFERROR(VLOOKUP(N15,Tabelas!B:D,3,0),0),\"\")","v":0},{"$f":"IF(A15<>\"\",IFERROR(VLOOKUP(O15,Tabelas!B:D,3,0),0),\"\")","v":0},{"$f":"IF(A15<>\"\",IFERROR(VLOOKUP(P15,Tabelas!B:D,3,0),0),\"\")","v":0},{"$f":"IF(A15<>\"\",IFERROR(VLOOKUP(Q15,Tabelas!B:D,3,0),0),\"\")","v":0},{"$f":"IF(A15<>\"\",IFERROR(VLOOKUP(R15,Tabelas!B:D,3,0),0),\"\")","v":0},{"$f":"IF(A15<>\"\",IFERROR(VLOOKUP(S15,Tabelas!B:D,3,0),0),\"\")","v":0},{"$f":"IF(A15<>\"\",IFERROR(VLOOKUP(T15,Tabelas!B:D,3,0),0),\"\")","v":0},{"$f":"IF(A15<>\"\",IFERROR(VLOOKUP(U15,Tabelas!B:D,3,0),0),\"\")","v":0},{"$f":"IF(A15<>\"\",IFERROR(VLOOKUP(V15,Tabelas!B:D,3,0),0),\"\")","v":0},{"$f":"IF(A15<>\"\",IFERROR(VLOOKUP(W15,Tabelas!B:D,3,0),0),\"\")","v":0},{"$f":"IF(A15<>\"\",IFERROR(VLOOKUP(X15,Tabelas!B:D,3,0),0),\"\")","v":0},{"$f":"IF(A15<>\"\",IFERROR(VLOOKUP(Y15,Tabelas!B:D,3,0),0),\"\")","v":0},{"$f":"IF(A15<>\"\",IFERROR(VLOOKUP(Z15,Tabelas!B:D,3,0),0),\"\")","v":0},{"$f":"IF(A15<>\"\",IFERROR(VLOOKUP(AA15,Tabelas!B:D,3,0),0),\"\")","v":0},{"$f":"IF(A15<>\"\",IFERROR(VLOOKUP(AB15,Tabelas!B:D,3,0),0),\"\")","v":0},{"$f":"IF(A15<>\"\",IFERROR(VLOOKUP(AC15,Tabelas!B:D,3,0),0),\"\")","v":0},{"$f":"IF(A15<>\"\",IFERROR(VLOOKUP(AD15,Tabelas!B:D,3,0),0),\"\")","v":0},{"$f":"IF(A15<>\"\",IFERROR(VLOOKUP(AE15,Tabelas!B:D,3,0),0),\"\")","v":0},{"$f":"IF(A15<>\"\",IFERROR(VLOOKUP(AF15,Tabelas!B:D,3,0),0),\"\")","v":0},{"$f":"IF(A15<>\"\",IFERROR(VLOOKUP(AG15,Tabelas!B:D,3,0),0),\"\")","v":0},{"$f":"IF(A15<>\"\",IFERROR(VLOOKUP(AH15,Tabelas!B:D,3,0),0),\"\")","v":0},{"$f":"IF(A15<>\"\",IFERROR(VLOOKUP(AI15,Tabelas!B:D,3,0),0),\"\")","v":0},{"$f":"IF(A15<>\"\",IFERROR(VLOOKUP(AJ15,Tabelas!B:D,3,0),0),\"\")","v":0},{"$f":"IF(A15<>\"\",IFERROR(VLOOKUP(AK15,Tabelas!B:D,3,0),0),\"\")","v":0},{"$f":"IF(A15<>\"\",IFERROR(VLOOKUP(AL15,Tabelas!B:D,3,0),0),\"\")","v":0},{"$f":"IF(A15<>\"\",IFERROR(VLOOKUP(AM15,Tabelas!B:D,3,0),0),\"\")","v":0},{"$f":"IF(A15<>\"\",IFERROR(VLOOKUP(AN15,Tabelas!B:D,3,0),0),\"\")","v":0},{"$f":"IF(A15<>\"\",IFERROR(VLOOKUP(AO15,Tabelas!B:D,3,0),0),\"\")","v":0},{"$f":"IF(A15<>\"\",IFERROR(VLOOKUP(AP15,Tabelas!B:D,3,0),0),\"\")","v":0},{"$f":"IF(A15<>\"\",IFERROR(VLOOKUP(AQ15,Tabelas!B:D,3,0),0),\"\")","v":0},0,0,0,0,0,0,0,0]
["FULANO 8",8,null,null,null,null,null,null,null,null,null,null,null,null,null,null,null,null,null,null,null,null,null,null,null,null,null,null,null,null,null,null,null,null,null,null,null,null,null,null,null,null,null,{"$f":"IF(A16<>\"\",IFERROR(VLOOKUP(M16,Tabelas!B:D,3,0),0),\"\")","v":0},{"$f":"IF(A16<>\"\",IFERROR(VLOOKUP(N16,Tabelas!B:D,3,0),0),\"\")","v":0},{"$f":"IF(A16<>\"\",IFERROR(VLOOKUP(O16,Tabelas!B:D,3,0),0),\"\")","v":0},{"$f":"IF(A16<>\"\",IFERROR(VLOOKUP(P16,Tabelas!B:D,3,0),0),\"\")","v":0},{"$f":"IF(A16<>\"\",IFERROR(VLOOKUP(Q16,Tabelas!B:D,3,0),0),\"\")","v":0},{"$f":"IF(A16<>\"\",IFERROR(VLOOKUP(R16,Tabelas!B:D,3,0),0),\"\")","v":0},{"$f":"IF(A16<>\"\",IFERROR(VLOOKUP(S16,Tabelas!B:D,3,0),0),\"\")","v":0},{"$f":"IF(A16<>\"\",IFERROR(VLOOKUP(T16,Tabelas!B:D,3,0),0),\"\")","v":0},{"$f":"IF(A16<>\"\",IFERROR(VLOOKUP(U16,Tabelas!B:D,3,0),0),\"\")","v":0},{"$f":"IF(A16<>\"\",IFERROR(VLOOKUP(V16,Tabelas!B:D,3,0),0),\"\")","v":0},{"$f":"IF(A16<>\"\",IFERROR(VLOOKUP(W16,Tabelas!B:D,3,0),0),\"\")","v":0},{"$f":"IF(A16<>\"\",IFERROR(VLOOKUP(X16,Tabelas!B:D,3,0),0),\"\")","v":0},{"$f":"IF(A16<>\"\",IFERROR(VLOOKUP(Y16,Tabelas!B:D,3,0),0),\"\")","v":0},{"$f":"IF(A16<>\"\",IFERROR(VLOOKUP(Z16,Tabelas!B:D,3,0),0),\"\")","v":0},{"$f":"IF(A16<>\"\",IFERROR(VLOOKUP(AA16,Tabelas!B:D,3,0),0),\"\")","v":0},{"$f":"IF(A16<>\"\",IFERROR(VLOOKUP(AB16,Tabelas!B:D,3,0),0),\"\")","v":0},{"$f":"IF(A16<>\"\",IFERROR(VLOOKUP(AC16,Tabelas!B:D,3,0),0),\"\")","v":0},{"$f":"IF(A16<>\"\",IFERROR(VLOOKUP(AD16,Tabelas!B:D,3,0),0),\"\")","v":0},{"$f":"IF(A16<>\"\",IFERROR(VLOOKUP(AE16,Tabelas!B:D,3,0),0),\"\")","v":0},{"$f":"IF(A16<>\"\",IFERROR(VLOOKUP(AF16,Tabelas!B:D,3,0),0),\"\")","v":0},{"$f":"IF(A16<>\"\",IFERROR(VLOOKUP(AG16,Tabelas!B:D,3,0),0),\"\")","v":0},{"$f":"IF(A16<>\"\",IFERROR(VLOOKUP(AH16,Tabelas!B:D,3,0),0),\"\")","v":0},{"$f":"IF(A16<>\"\",IFERROR(VLOOKUP(AI16,Tabelas!B:D,3,0),0),\"\")","v":0},{"$f":"IF(A16<>\"\",IFERROR(VLOOKUP(AJ16,Tabelas!B:D,3,0),0),\"\")","v":0},{"$f":"IF(A16<>\"\",IFERROR(VLOOKUP(AK16,Tabelas!B:D,3,0),0),\"\")","v":0},{"$f":"IF(A16<>\"\",IFERROR(VLOOKUP(AL16,Tabelas!B:D,3,0),0),\"\")","v":0},{"$f":"IF(A16<>\"\",IFERROR(VLOOKUP(AM16,Tabelas!B:D,3,0),0),\"\")","v":0},{"$f":"IF(A16<>\"\",IFERROR(VLOOKUP(AN16,Tabelas!B:D,3,0),0),\"\")","v":0},{"$f":"IF(A16<>\"\",IFERROR(VLOOKUP(AO16,Tabelas!B:D,3,0),0),\"\")","v":0},{"$f":"IF(A16<>\"\",IFERROR(VLOOKUP(AP16,Tabelas!B:D,3,0),0),\"\")","v":0},{"$f":"IF(A16<>\"\",IFERROR(VLOOKUP(AQ16,Tabelas!B:D,3,0),0),\"\")","v":0},0,0,0,0,0,0,0,0]
["FULANO 9",9,null,null,null,null,null,null,null,null,null,null,null,null,null,null,null,null,null,null,null,null,null,null,null,null,null,null,null,null,null,null,null,null,null,null,null,null,null,null,null,null,null,{"$f":"IF(A17<>\"\",IFERROR(VLOOKUP(M17,Tabelas!B:D,3,0),0),\"\")","v":0},{"$f":"IF(A17<>\"\",IFERROR(VLOOKUP(N17,Tabelas!B:D,3,0),0),\"\")","v":0},{"$f":"IF(A17<>\"\",IFERROR(VLOOKUP(O17,Tabelas!B:D,3,0),0),\"\")","v":0},{"$f":"IF(A17<>\"\",IFERROR(VLOOKUP(P17,Tabelas!B:D,3,0),0),\"\")","v":0},{"$f":"IF(A17<>\"\",IFERROR(VLOOKUP(Q17,Tabelas!B:D,3,0),0),\"\")","v":0},{"$f":"IF(A17<>\"\",IFERROR(VLOOKUP(R17,Tabelas!B:D,3,0),0),\"\")","v":0},{"$f":"IF(A17<>\"\",IFERROR(VLOOKUP(S17,Tabelas!B:D,3,0),0),\"\")","v":0},{"$f":"IF(A17<>\"\",IFERROR(VLOOKUP(T17,Tabelas!B:D,3,0),0),\"\")","v":0},{"$f":"IF(A17<>\"\",IFERROR(VLOOKUP(U17,Tabelas!B:D,3,0),0),\"\")","v":0},{"$f":"IF(A17<>\"\",IFERROR(VLOOKUP(V17,Tabelas!B:D,3,0),0),\"\")","v":0},{"$f":"IF(A17<>\"\",IFERROR(VLOOKUP(W17,Tabelas!B:D,3,0),0),\"\")","v":0},{"$f":"IF(A17<>\"\",IFERROR(VLOOKUP(X17,Tabelas!B:D,3,0),0),\"\")","v":0},{"$f":"IF(A17<>\"\",IFERROR(VLOOKUP(Y17,Tabelas!B:D,3,0),0),\"\")","v":0},{"$f":"IF(A17<>\"\",IFERROR(VLOOKUP(Z17,Tabelas!B:D,3,0),0),\"\")","v":0},{"$f":"IF(A17<>\"\",IFERROR(VLOOKUP(AA17,Tabelas!B:D,3,0),0),\"\")","v":0},{"$f":"IF(A17<>\"\",IFERROR(VLOOKUP(AB17,Tabelas!B:D,3,0),0),\"\")","v":0},{"$f":"IF(A17<>\"\",IFERROR(VLOOKUP(AC17,Tabelas!B:D,3,0),0),\"\")","v":0},{"$f":"IF(A17<>\"\",IFERROR(VLOOKUP(AD17,Tabelas!B:D,3,0),0),\"\")","v":0},{"$f":"IF(A17<>\"\",IFERROR(VLOOKUP(AE17,Tabelas!B:D,3,0),0),\"\")","v":0},{"$f":"IF(A17<>\"\",IFERROR(VLOOKUP(AF17,Tabelas!B:D,3,0),0),\"\")","v":0},{"$f":"IF(A17<>\"\",IFERROR(VLOOKUP(AG17,Tabelas!B:D,3,0),0),\"\")","v":0},{"$f":"IF(A17<>\"\",IFERROR(VLOOKUP(AH17,Tabelas!B:D,3,0),0),\"\")","v":0},{"$f":"IF(A17<>\"\",IFERROR(VLOOKUP(AI17,Tabelas!B:D,3,0),0),\"\")","v":0},{"$f":"IF(A17<>\"\",IFERROR(VLOOKUP(AJ17,Tabelas!B:D,3,0),0),\"\")","v":0},{"$f":"IF(A17<>\"\",IFERROR(VLOOKUP(AK17,Tabelas!B:D,3,0),0),\"\")","v":0},{"$f":"IF(A17<>\"\",IFERROR(VLOOKUP(AL17,Tabelas!B:D,3,0),0),\"\")","v":0},{"$f":"IF(A17<>\"\",IFERROR(VLOOKUP(AM17,Tabelas!B:D,3,0),0),\"\")","v":0},{"$f":"IF(A17<>\"\",IFERROR(VLOOKUP(AN17,Tabelas!B:D,3,0),0),\"\")","v":0},{"$f":"IF(A17<>\"\",IFERROR(VLOOKUP(AO17,Tabelas!B:D,3,0),0),\"\")","v":0},{"$f":"IF(A17<>\"\",IFERROR(VLOOKUP(AP17,Tabelas!B:D,3,0),0),\"\")","v":0},{"$f":"IF(A17<>\"\",IFERROR(VLOOKUP(AQ17,Tabelas!B:D,3,0),0),\"\")","v":0},0,0,0,0,0,0,0,0]
["FULANO 10",10,null,null,null,null,null,null,null,null,null,null,null,null,null,null,null,null,null,null,null,null,null,null,null,null,null,null,null,null,null,null,null,null,null,null,null,null,null,null,null,null,null,{"$f":"IF(A18<>\"\",IFERROR(VLOOKUP(M18,Tabelas!B:D,3,0),0),\"\")","v":0},{"$f":"IF(A18<>\"\",IFERROR(VLOOKUP(N18,Tabelas!B:D,3,0),0),\"\")","v":0},{"$f":"IF(A18<>\"\",IFERROR(VLOOKUP(O18,Tabelas!B:D,3,0),0),\"\")","v":0},{"$f":"IF(A18<>\"\",IFERROR(VLOOKUP(P18,Tabelas!B:D,3,0),0),\"\")","v":0},{"$f":"IF(A18<>\"\",IFERROR(VLOOKUP(Q18,Tabelas!B:D,3,0),0),\"\")","v":0},{"$f":"IF(A18<>\"\",IFERROR(VLOOKUP(R18,Tabelas!B:D,3,0),0),\"\")","v":0},{"$f":"IF(A18<>\"\",IFERROR(VLOOKUP(S18,Tabelas!B:D,3,0),0),\"\")","v":0},{"$f":"IF(A18<>\"\",IFERROR(VLOOKUP(T18,Tabelas!B:D,3,0),0),\"\")","v":0},{"$f":"IF(A18<>\"\",IFERROR(VLOOKUP(U18,Tabelas!B:D,3,0),0),\"\")","v":0},{"$f":"IF(A18<>\"\",IFERROR(VLOOKUP(V18,Tabelas!B:D,3,0),0),\"\")","v":0},{"$f":"IF(A18<>\"\",IFERROR(VLOOKUP(W18,Tabelas!B:D,3,0),0),\"\")","v":0},{"$f":"IF(A18<>\"\",IFERROR(VLOOKUP(X18,Tabelas!B:D,3,0),0),\"\")","v":0},{"$f":"IF(A18<>\"\",IFERROR(VLOOKUP(Y18,Tabelas!B:D,3,0),0),\"\")","v":0},{"$f":"IF(A18<>\"\",IFERROR(VLOOKUP(Z18,Tabelas!B:D,3,0),0),\"\")","v":0},{"$f":"IF(A18<>\"\",IFERROR(VLOOKUP(AA18,Tabelas!B:D,3,0),0),\"\")","v":0},{"$f":"IF(A18<>\"\",IFERROR(VLOOKUP(AB18,Tabelas!B:D,3,0),0),\"\")","v":0},{"$f":"IF(A18<>\"\",IFERROR(VLOOKUP(AC18,Tabelas!B:D,3,0),0),\"\")","v":0},{"$f":"IF(A18<>\"\",IFERROR(VLOOKUP(AD18,Tabelas!B:D,3,0),0),\"\")","v":0},{"$f":"IF(A18<>\"\",IFERROR(VLOOKUP(AE18,Tabelas!B:D,3,0),0),\"\")","v":0},{"$f":"IF(A18<>\"\",IFERROR(VLOOKUP(AF18,Tabelas!B:D,3,0),0),\"\")","v":0},{"$f":"IF(A18<>\"\",IFERROR(VLOOKUP(AG18,Tabelas!B:D,3,0),0),\"\")","v":0},{"$f":"IF(A18<>\"\",IFERROR(VLOOKUP(AH18,Tabelas!B:D,3,0),0),\"\")","v":0},{"$f":"IF(A18<>\"\",IFERROR(VLOOKUP(AI18,Tabelas!B:D,3,0),0),\"\")","v":0},{"$f":"IF(A18<>\"\",IFERROR(VLOOKUP(AJ18,Tabelas!B:D,3,0),0),\"\")","v":0},{"$f":"IF(A18<>\"\",IFERROR(VLOOKUP(AK18,Tabelas!B:D,3,0),0),\"\")","v":0},{"$f":"IF(A18<>\"\",IFERROR(VLOOKUP(AL18,Tabelas!B:D,3,0),0),\"\")","v":0},{"$f":"IF(A18<>\"\",IFERROR(VLOOKUP(AM18,Tabelas!B:D,3,0),0),\"\")","v":0},{"$f":"IF(A18<>\"\",IFERROR(VLOOKUP(AN18,Tabelas!B:D,3,0),0),\"\")","v":0},{"$f":"IF(A18<>\"\",IFERROR(VLOOKUP(AO18,Tabelas!B:D,3,0),0),\"\")","v":0},{"$f":"IF(A18<>\"\",IFERROR(VLOOKUP(AP18,Tabelas!B:D,3,0),0),\"\")","v":0},{"$f":"IF(A18<>\"\",IFERROR(VLOOKUP(AQ18,Tabelas!B:D,3,0),0),\"\")","v":0},0,0,0,0,0,0,0,0]
["FULANO 11",11,null,null,null,null,null,null,null,null,null,null,null,null,null,null,null,null,null,null,null,null,null,null,null,null,null,null,null,null,null,null,null,null,null,null,null,null,null,null,null,null,null,{"$f":"IF(A19<>\"\",IFERROR(VLOOKUP(M19,Tabelas!B:D,3,0),0),\"\")","v":0},{"$f":"IF(A19<>\"\",IFERROR(VLOOKUP(N19,Tabelas!B:D,3,0),0),\"\")","v":0},{"$f":"IF(A19<>\"\",IFERROR(VLOOKUP(O19,Tabelas!B:D,3,0),0),\"\")","v":0},{"$f":"IF(A19<>\"\",IFERROR(VLOOKUP(P19,Tabelas!B:D,3,0),0),\"\")","v":0},{"$f":"IF(A19<>\"\",IFERROR(VLOOKUP(Q19,Tabelas!B:D,3,0),0),\"\")","v":0},{"$f":"IF(A19<>\"\",IFERROR(VLOOKUP(R19,Tabelas!B:D,3,0),0),\"\")","v":0},{"$f":"IF(A19<>\"\",IFERROR(VLOOKUP(S19,Tabelas!B:D,3,0),0),\"\")","v":0},{"$f":"IF(A19<>\"\",IFERROR(VLOOKUP(T19,Tabelas!B:D,3,0),0),\"\")","v":0},{"$f":"IF(A19<>\"\",IFERROR(VLOOKUP(U19,Tabelas!B:D,3,0),0),\"\")","v":0},{"$f":"IF(A19<>\"\",IFERROR(VLOOKUP(V19,Tabelas!B:D,3,0),0),\"\")","v":0},{"$f":"IF(A19<>\"\",IFERROR(VLOOKUP(W19,Tabelas!B:D,3,0),0),\"\")","v":0},{"$f":"IF(A19<>\"\",IFERROR(VLOOKUP(X19,Tabelas!B:D,3,0),0),\"\")","v":0},{"$f":"IF(A19<>\"\",IFERROR(VLOOKUP(Y19,Tabelas!B:D,3,0),0),\"\")","v":0},{"$f":"IF(A19<>\"\",IFERROR(VLOOKUP(Z19,Tabelas!B:D,3,0),0),\"\")","v":0},{"$f":"IF(A19<>\"\",IFERROR(VLOOKUP(AA19,Tabelas!B:D,3,0),0),\"\")","v":0},{"$f":"IF(A19<>\"\",IFERROR(VLOOKUP(AB19,Tabelas!B:D,3,0),0),\"\")","v":0},{"$f":"IF(A19<>\"\",IFERROR(VLOOKUP(AC19,Tabelas!B:D,3,0),0),\"\")","v":0},{"$f":"IF(A19<>\"\",IFERROR(VLOOKUP(AD19,Tabelas!B:D,3,0),0),\"\")","v":0},{"$f":"IF(A19<>\"\",IFERROR(VLOOKUP(AE19,Tabelas!B:D,3,0),0),\"\")","v":0},{"$f":"IF(A19<>\"\",IFERROR(VLOOKUP(AF19,Tabelas!B:D,3,0),0),\"\")","v":0},{"$f":"IF(A19<>\"\",IFERROR(VLOOKUP(AG19,Tabelas!B:D,3,0),0),\"\")","v":0},{"$f":"IF(A19<>\"\",IFERROR(VLOOKUP(AH19,Tabelas!B:D,3,0),0),\"\")","v":0},{"$f":"IF(A19<>\"\",IFERROR(VLOOKUP(AI19,Tabelas!B:D,3,0),0),\"\")","v":0},{"$f":"IF(A19<>\"\",IFERROR(VLOOKUP(AJ19,Tabelas!B:D,3,0),0),\"\")","v":0},{"$f":"IF(A19<>\"\",IFERROR(VLOOKUP(AK19,Tabelas!B:D,3,0),0),\"\")","v":0},{"$f":"IF(A19<>\"\",IFERROR(VLOOKUP(AL19,Tabelas!B:D,3,0),0),\"\")","v":0},{"$f":"IF(A19<>\"\",IFERROR(VLOOKUP(AM19,Tabelas!B:D,3,0),0),\"\")","v":0},{"$f":"IF(A19<>\"\",IFERROR(VLOOKUP(AN19,Tabelas!B:D,3,0),0),\"\")","v":0},{"$f":"IF(A19<>\"\",IFERROR(VLOOKUP(AO19,Tabelas!B:D,3,0),0),\"\")","v":0},{"$f":"IF(A19<>\"\",IFERROR(VLOOKUP(AP19,Tabelas!B:D,3,0),0),\"\")","v":0},{"$f":"IF(A19<>\"\",IFERROR(VLOOKUP(AQ19,Tabelas!B:D,3,0),0),\"\")","v":0},0,0,0,0,0,0,0,0]
["FULANO 12",12,null,null,null,null,null,null,null,null,null,null,null,null,null,null,null,null,null,null,null,null,null,null,null,null,null,null,null,null,null,null,null,null,null,null,null,null,null,null,null,null,null,{"$f":"IF(A20<>\"\",IFERROR(VLOOKUP(M20,Tabelas!B:D,3,0),0),\"\")","v":0},{"$f":"IF(A20<>\"\",IFERROR(VLOOKUP(N20,Tabelas!B:D,3,0),0),\"\")","v":0},{"$f":"IF(A20<>\"\",IFERROR(VLOOKUP(O20,Tabelas!B:D,3,0),0),\"\")","v":0},{"$f":"IF(A20<>\"\",IFERROR(VLOOKUP(P20,Tabelas!B:D,3,0),0),\"\")","v":0},{"$f":"IF(A20<>\"\",IFERROR(VLOOKUP(Q20,Tabelas!B:D,3,0),0),\"\")","v":0},{"$f":"IF(A20<>\"\",IFERROR(VLOOKUP(R20,Tabelas!B:D,3,0),0),\"\")","v":0},{"$f":"IF(A20<>\"\",IFERROR(VLOOKUP(S20,Tabelas!B:D,3,0),0),\"\")","v":0},{"$f":"IF(A20<>\"\",IFERROR(VLOOKUP(T20,Tabelas!B:D,3,0),0),\"\")","v":0},{"$f":"IF(A20<>\"\",IFERROR(VLOOKUP(U20,Tabelas!B:D,3,0),0),\"\")","v":0},{"$f":"IF(A20<>\"\",IFERROR(VLOOKUP(V20,Tabelas!B:D,3,0),0),\"\")","v":0},{"$f":"IF(A20<>\"\",IFERROR(VLOOKUP(W20,Tabelas!B:D,3,0),0),\"\")","v":0},{"$f":"IF(A20<>\"\",IFERROR(VLOOKUP(X20,Tabelas!B:D,3,0),0),\"\")","v":0},{"$f":"IF(A20<>\"\",IFERROR(VLOOKUP(Y20,Tabelas!B:D,3,0),0),\"\")","v":0},{"$f":"IF(A20<>\"\",IFERROR(VLOOKUP(Z20,Tabelas!B:D,3,0),0),\"\")","v":0},{"$f":"IF(A20<>\"\",IFERROR(VLOOKUP(AA20,Tabelas!B:D,3,0),0),\"\")","v":0},{"$f":"IF(A20<>\"\",IFERROR(VLOOKUP(AB20,Tabelas!B:D,3,0),0),\"\")","v":0},{"$f":"IF(A20<>\"\",IFERROR(VLOOKUP(AC20,Tabelas!B:D,3,0),0),\"\")","v":0},{"$f":"IF(A20<>\"\",IFERROR(VLOOKUP(AD20,Tabelas!B:D,3,0),0),\"\")","v":0},{"$f":"IF(A20<>\"\",IFERROR(VLOOKUP(AE20,Tabelas!B:D,3,0),0),\"\")","v":0},{"$f":"IF(A20<>\"\",IFERROR(VLOOKUP(AF20,Tabelas!B:D,3,0),0),\"\")","v":0},{"$f":"IF(A20<>\"\",IFERROR(VLOOKUP(AG20,Tabelas!B:D,3,0),0),\"\")","v":0},{"$f":"IF(A20<>\"\",IFERROR(VLOOKUP(AH20,Tabelas!B:D,3,0),0),\"\")","v":0},{"$f":"IF(A20<>\"\",IFERROR(VLOOKUP(AI20,Tabelas!B:D,3,0),0),\"\")","v":0},{"$f":"IF(A20<>\"\",IFERROR(VLOOKUP(AJ20,Tabelas!B:D,3,0),0),\"\")","v":0},{"$f":"IF(A20<>\"\",IFERROR(VLOOKUP(AK20,Tabelas!B:D,3,0),0),\"\")","v":0},{"$f":"IF(A20<>\"\",IFERROR(VLOOKUP(AL20,Tabelas!B:D,3,0),0),\"\")","v":0},{"$f":"IF(A20<>\"\",IFERROR(VLOOKUP(AM20,Tabelas!B:D,3,0),0),\"\")","v":0},{"$f":"IF(A20<>\"\",IFERROR(VLOOKUP(AN20,Tabelas!B:D,3,0),0),\"\")","v":0},{"$f":"IF(A20<>\"\",IFERROR(VLOOKUP(AO20,Tabelas!B:D,3,0),0),\"\")","v":0},{"$f":"IF(A20<>\"\",IFERROR(VLOOKUP(AP20,Tabelas!B:D,3,0),0),\"\")","v":0},{"$f":"IF(A20<>\"\",IFERROR(VLOOKUP(AQ20,Tabelas!B:D,3,0),0),\"\")","v":0},0,0,0,0,0,0,0,0]
["FULANO 13",13,null,null,null,null,null,null,null,null,null,null,null,null,null,null,null,null,null,null,null,null,null,null,null,null,null,null,null,null,null,null,null,null,null,null,null,null,null,null,null,null,null,{"$f":"IF(A21<>\"\",IFERROR(VLOOKUP(M21,Tabelas!B:D,3,0),0),\"\")","v":0},{"$f":"IF(A21<>\"\",IFERROR(VLOOKUP(N21,Tabelas!B:D,3,0),0),\"\")","v":0},{"$f":"IF(A21<>\"\",IFERROR(VLOOKUP(O21,Tabelas!B:D,3,0),0),\"\")","v":0},{"$f":"IF(A21<>\"\",IFERROR(VLOOKUP(P21,Tabelas!B:D,3,0),0),\"\")","v":0},{"$f":"IF(A21<>\"\",IFERROR(VLOOKUP(Q21,Tabelas!B:D,3,0),0),\"\")","v":0},{"$f":"IF(A21<>\"\",IFERROR(VLOOKUP(R21,Tabelas!B:D,3,0),0),\"\")","v":0},{"$f":"IF(A21<>\"\",IFERROR(VLOOKUP(S21,Tabelas!B:D,3,0),0),\"\")","v":0},{"$f":"IF(A21<>\"\",IFERROR(VLOOKUP(T21,Tabelas!B:D,3,0),0),\"\")","v":0},{"$f":"IF(A21<>\"\",IFERROR(VLOOKUP(U21,Tabelas!B:D,3,0),0),\"\")","v":0},{"$f":"IF(A21<>\"\",IFERROR(VLOOKUP(V21,Tabelas!B:D,3,0),0),\"\")","v":0},{"$f":"IF(A21<>\"\",IFERROR(VLOOKUP(W21,Tabelas!B:D,3,0),0),\"\")","v":0},{"$f":"IF(A21<>\"\",IFERROR(VLOOKUP(X21,Tabelas!B:D,3,0),0),\"\")","v":0},{"$f":"IF(A21<>\"\",IFERROR(VLOOKUP(Y21,Tabelas!B:D,3,0),0),\"\")","v":0},{"$f":"IF(A21<>\"\",IFERROR(VLOOKUP(Z21,Tabelas!B:D,3,0),0),\"\")","v":0},{"$f":"IF(A21<>\"\",IFERROR(VLOOKUP(AA21,Tabelas!B:D,3,0),0),\"\")","v":0},{"$f":"IF(A21<>\"\",IFERROR(VLOOKUP(AB21,Tabelas!B:D,3,0),0),\"\")","v":0},{"$f":"IF(A21<>\"\",IFERROR(VLOOKUP(AC21,Tabelas!B:D,3,0),0),\"\")","v":0},{"$f":"IF(A21<>\"\",IFERROR(VLOOKUP(AD21,Tabelas!B:D,3,0),0),\"\")","v":0},{"$f":"IF(A21<>\"\",IFERROR(VLOOKUP(AE21,Tabelas!B:D,3,0),0),\"\")","v":0},{"$f":"IF(A21<>\"\",IFERROR(VLOOKUP(AF21,Tabelas!B:D,3,0),0),\"\")","v":0},{"$f":"IF(A21<>\"\",IFERROR(VLOOKUP(AG21,Tabelas!B:D,3,0),0),\"\")","v":0},{"$f":"IF(A21<>\"\",IFERROR(VLOOKUP(AH21,Tabelas!B:D,3,0),0),\"\")","v":0},{"$f":"IF(A21<>\"\",IFERROR(VLOOKUP(AI21,Tabelas!B:D,3,0),0),\"\")","v":0},{"$f":"IF(A21<>\"\",IFERROR(VLOOKUP(AJ21,Tabelas!B:D,3,0),0),\"\")","v":0},{"$f":"IF(A21<>\"\",IFERROR(VLOOKUP(AK21,Tabelas!B:D,3,0),0),\"\")","v":0},{"$f":"IF(A21<>\"\",IFERROR(VLOOKUP(AL21,Tabelas!B:D,3,0),0),\"\")","v":0},{"$f":"IF(A21<>\"\",IFERROR(VLOOKUP(AM21,Tabelas!B:D,3,0),0),\"\")","v":0},{"$f":"IF(A21<>\"\",IFERROR(VLOOKUP(AN21,Tabelas!B:D,3,0),0),\"\")","v":0},{"$f":"IF(A21<>\"\",IFERROR(VLOOKUP(AO21,Tabelas!B:D,3,0),0),\"\")","v":0},{"$f":"IF(A21<>\"\",IFERROR(VLOOKUP(AP21,Tabelas!B:D,3,0),0),\"\")","v":0},{"$f":"IF(A21<>\"\",IFERROR(VLOOKUP(AQ21,Tabelas!B:D,3,0),0),\"\")","v":0},0,0,0,0,0,0,0,0]
["FULANO 14",14,null,null,null,null,null,null,null,null,null,null,null,null,null,null,null,null,null,null,null,null,null,null,null,null,null,null,null,null,null,null,null,null,null,null,null,null,null,null,null,null,null,{"$f":"IF(A22<>\"\",IFERROR(VLOOKUP(M22,Tabelas!B:D,3,0),0),\"\")","v":0},{"$f":"IF(A22<>\"\",IFERROR(VLOOKUP(N22,Tabelas!B:D,3,0),0),\"\")","v":0},{"$f":"IF(A22<>\"\",IFERROR(VLOOKUP(O22,Tabelas!B:D,3,0),0),\"\")","v":0},{"$f":"IF(A22<>\"\",IFERROR(VLOOKUP(P22,Tabelas!B:D,3,0),0),\"\")","v":0},{"$f":"IF(A22<>\"\",IFERROR(VLOOKUP(Q22,Tabelas!B:D,3,0),0),\"\")","v":0},{"$f":"IF(A22<>\"\",IFERROR(VLOOKUP(R22,Tabelas!B:D,3,0),0),\"\")","v":0},{"$f":"IF(A22<>\"\",IFERROR(VLOOKUP(S22,Tabelas!B:D,3,0),0),\"\")","v":0},{"$f":"IF(A22<>\"\",IFERROR(VLOOKUP(T22,Tabelas!B:D,3,0),0),\"\")","v":0},{"$f":"IF(A22<>\"\",IFERROR(VLOOKUP(U22,Tabelas!B:D,3,0),0),\"\")","v":0},{"$f":"IF(A22<>\"\",IFERROR(VLOOKUP(V22,Tabelas!B:D,3,0),0),\"\")","v":0},{"$f":"IF(A22<>\"\",IFERROR(VLOOKUP(W22,Tabelas!B:D,3,0),0),\"\")","v":0},{"$f":"IF(A22<>\"\",IFERROR(VLOOKUP(X22,Tabelas!B:D,3,0),0),\"\")","v":0},{"$f":"IF(A22<>\"\",IFERROR(VLOOKUP(Y22,Tabelas!B:D,3,0),0),\"\")","v":0},{"$f":"IF(A22<>\"\",IFERROR(VLOOKUP(Z22,Tabelas!B:D,3,0),0),\"\")","v":0},{"$f":"IF(A22<>\"\",IFERROR(VLOOKUP(AA22,Tabelas!B:D,3,0),0),\"\")","v":0},{"$f":"IF(A22<>\"\",IFERROR(VLOOKUP(AB22,Tabelas!B:D,3,0),0),\"\")","v":0},{"$f":"IF(A22<>\"\",IFERROR(VLOOKUP(AC22,Tabelas!B:D,3,0),0),\"\")","v":0},{"$f":"IF(A22<>\"\",IFERROR(VLOOKUP(AD22,Tabelas!B:D,3,0),0),\"\")","v":0},{"$f":"IF(A22<>\"\",IFERROR(VLOOKUP(AE22,Tabelas!B:D,3,0),0),\"\")","v":0},{"$f":"IF(A22<>\"\",IFERROR(VLOOKUP(AF22,Tabelas!B:D,3,0),0),\"\")","v":0},{"$f":"IF(A22<>\"\",IFERROR(VLOOKUP(AG22,Tabelas!B:D,3,0),0),\"\")","v":0},{"$f":"IF(A22<>\"\",IFERROR(VLOOKUP(AH22,Tabelas!B:D,3,0),0),\"\")","v":0},{"$f":"IF(A22<>\"\",IFERROR(VLOOKUP(AI22,Tabelas!B:D,3,0),0),\"\")","v":0},{"$f":"IF(A22<>\"\",IFERROR(VLOOKUP(AJ22,Tabelas!B:D,3,0),0),\"\")","v":0},{"$f":"IF(A22<>\"\",IFERROR(VLOOKUP(AK22,Tabelas!B:D,3,0),0),\"\")","v":0},{"$f":"IF(A22<>\"\",IFERROR(VLOOKUP(AL22,Tabelas!B:D,3,0),0),\"\")","v":0},{"$f":"IF(A22<>\"\",IFERROR(VLOOKUP(AM22,Tabelas!B:D,3,0),0),\"\")","v":0},{"$f":"IF(A22<>\"\",IFERROR(VLOOKUP(AN22,Tabelas!B:D,3,0),0),\"\")","v":0},{"$f":"IF(A22<>\"\",IFERROR(VLOOKUP(AO22,Tabelas!B:D,3,0),0),\"\")","v":0},{"$f":"IF(A22<>\"\",IFERROR(VLOOKUP(AP22,Tabelas!B:D,3,0),0),\"\")","v":0},{"$f":"IF(A22<>\"\",IFERROR(VLOOKUP(AQ22,Tabelas!B:D,3,0),0),\"\")","v":0},0,0,0,0,0,0,0,0]
["FULANO 15",15,null,null,null,null,null,null,null,null,null,null,null,null,null,null,null,null,null,null,null,null,null,null,null,null,null,null,null,null,null,null,null,null,null,null,null,null,null,null,null,null,null,{"$f":"IF(A23<>\"\",IFERROR(VLOOKUP(M23,Tabelas!B:D,3,0),0),\"\")","v":0},{"$f":"IF(A23<>\"\",IFERROR(VLOOKUP(N23,Tabelas!B:D,3,0),0),\"\")","v":0},{"$f":"IF(A23<>\"\",IFERROR(VLOOKUP(O23,Tabelas!B:D,3,0),0),\"\")","v":0},{"$f":"IF(A23<>\"\",IFERROR(VLOOKUP(P23,Tabelas!B:D,3,0),0),\"\")","v":0},{"$f":"IF(A23<>\"\",IFERROR(VLOOKUP(Q23,Tabelas!B:D,3,0),0),\"\")","v":0},{"$f":"IF(A23<>\"\",IFERROR(VLOOKUP(R23,Tabelas!B:D,3,0),0),\"\")","v":0},{"$f":"IF(A23<>\"\",IFERROR(VLOOKUP(S23,Tabelas!B:D,3,0),0),\"\")","v":0},{"$f":"IF(A23<>\"\",IFERROR(VLOOKUP(T23,Tabelas!B:D,3,0),0),\"\")","v":0},{"$f":"IF(A23<>\"\",IFERROR(VLOOKUP(U23,Tabelas!B:D,3,0),0),\"\")","v":0},{"$f":"IF(A23<>\"\",IFERROR(VLOOKUP(V23,Tabelas!B:D,3,0),0),\"\")","v":0},{"$f":"IF(A23<>\"\",IFERROR(VLOOKUP(W23,Tabelas!B:D,3,0),0),\"\")","v":0},{"$f":"IF(A23<>\"\",IFERROR(VLOOKUP(X23,Tabelas!B:D,3,0),0),\"\")","v":0},{"$f":"IF(A23<>\"\",IFERROR(VLOOKUP(Y23,Tabelas!B:D,3,0),0),\"\")","v":0},{"$f":"IF(A23<>\"\",IFERROR(VLOOKUP(Z23,Tabelas!B:D,3,0),0),\"\")","v":0},{"$f":"IF(A23<>\"\",IFERROR(VLOOKUP(AA23,Tabelas!B:D,3,0),0),\"\")","v":0},{"$f":"IF(A23<>\"\",IFERROR(VLOOKUP(AB23,Tabelas!B:D,3,0),0),\"\")","v":0},{"$f":"IF(A23<>\"\",IFERROR(VLOOKUP(AC23,Tabelas!B:D,3,0),0),\"\")","v":0},{"$f":"IF(A23<>\"\",IFERROR(VLOOKUP(AD23,Tabelas!B:D,3,0),0),\"\")","v":0},{"$f":"IF(A23<>\"\",IFERROR(VLOOKUP(AE23,Tabelas!B:D,3,0),0),\"\")","v":0},{"$f":"IF(A23<>\"\",IFERROR(VLOOKUP(AF23,Tabelas!B:D,3,0),0),\"\")","v":0},{"$f":"IF(A23<>\"\",IFERROR(VLOOKUP(AG23,Tabelas!B:D,3,0),0),\"\")","v":0},{"$f":"IF(A23<>\"\",IFERROR(VLOOKUP(AH23,Tabelas!B:D,3,0),0),\"\")","v":0},{"$f":"IF(A23<>\"\",IFERROR(VLOOKUP(AI23,Tabelas!B:D,3,0),0),\"\")","v":0},{"$f":"IF(A23<>\"\",IFERROR(VLOOKUP(AJ23,Tabelas!B:D,3,0),0),\"\")","v":0},{"$f":"IF(A23<>\"\",IFERROR(VLOOKUP(AK23,Tabelas!B:D,3,0),0),\"\")","v":0},{"$f":"IF(A23<>\"\",IFERROR(VLOOKUP(AL23,Tabelas!B:D,3,0),0),\"\")","v":0},{"$f":"IF(A23<>\"\",IFERROR(VLOOKUP(AM23,Tabelas!B:D,3,0),0),\"\")","v":0},{"$f":"IF(A23<>\"\",IFERROR(VLOOKUP(AN23,Tabelas!B:D,3,0),0),\"\")","v":0},{"$f":"IF(A23<>\"\",IFERROR(VLOOKUP(AO23,Tabelas!B:D,3,0),0),\"\")","v":0},{"$f":"IF(A23<>\"\",IFERROR(VLOOKUP(AP23,Tabelas!B:D,3,0),0),\"\")","v":0},{"$f":"IF(A23<>\"\",IFERROR(VLOOKUP(AQ23,Tabelas!B:D,3,0),0),\"\")","v":0},0,0,0,0,0,0,0,0]
["FULANO 16",16,null,null,null,null,null,null,null,null,null,null,null,null,null,null,null,null,null,null,null,null,null,null,null,null,null,null,null,null,null,null,null,null,null,null,null,null,null,null,null,null,null,{"$f":"IF(A24<>\"\",IFERROR(VLOOKUP(M24,Tabelas!B:D,3,0),0),\"\")","v":0},{"$f":"IF(A24<>\"\",IFERROR(VLOOKUP(N24,Tabelas!B:D,3,0),0),\"\")","v":0},{"$f":"IF(A24<>\"\",IFERROR(VLOOKUP(O24,Tabelas!B:D,3,0),0),\"\")","v":0},{"$f":"IF(A24<>\"\",IFERROR(VLOOKUP(P24,Tabelas!B:D,3,0),0),\"\")","v":0},{"$f":"IF(A24<>\"\",IFERROR(VLOOKUP(Q24,Tabelas!B:D,3,0),0),\"\")","v":0},{"$f":"IF(A24<>\"\",IFERROR(VLOOKUP(R24,Tabelas!B:D,3,0),0),\"\")","v":0},{"$f":"IF(A24<>\"\",IFERROR(VLOOKUP(S24,Tabelas!B:D,3,0),0),\"\")","v":0},{"$f":"IF(A24<>\"\",IFERROR(VLOOKUP(T24,Tabelas!B:D,3,0),0),\"\")","v":0},{"$f":"IF(A24<>\"\",IFERROR(VLOOKUP(U24,Tabelas!B:D,3,0),0),\"\")","v":0},{"$f":"IF(A24<>\"\",IFERROR(VLOOKUP(V24,Tabelas!B:D,3,0),0),\"\")","v":0},{"$f":"IF(A24<>\"\",IFERROR(VLOOKUP(W24,Tabelas!B:D,3,0),0),\"\")","v":0},{"$f":"IF(A24<>\"\",IFERROR(VLOOKUP(X24,Tabelas!B:D,3,0),0),\"\")","v":0},{"$f":"IF(A24<>\"\",IFERROR(VLOOKUP(Y24,Tabelas!B:D,3,0),0),\"\")","v":0},{"$f":"IF(A24<>\"\",IFERROR(VLOOKUP(Z24,Tabelas!B:D,3,0),0),\"\")","v":0},{"$f":"IF(A24<>\"\",IFERROR(VLOOKUP(AA24,Tabelas!B:D,3,0),0),\"\")","v":0},{"$f":"IF(A24<>\"\",IFERROR(VLOOKUP(AB24,Tabelas!B:D,3,0),0),\"\")","v":0},{"$f":"IF(A24<>\"\",IFERROR(VLOOKUP(AC24,Tabelas!B:D,3,0),0),\"\")","v":0},{"$f":"IF(A24<>\"\",IFERROR(VLOOKUP(AD24,Tabelas!B:D,3,0),0),\"\")","v":0},{"$f":"IF(A24<>\"\",IFERROR(VLOOKUP(AE24,Tabelas!B:D,3,0),0),\"\")","v":0},{"$f":"IF(A24<>\"\",IFERROR(VLOOKUP(AF24,Tabelas!B:D,3,0),0),\"\")","v":0},{"$f":"IF(A24<>\"\",IFERROR(VLOOKUP(AG24,Tabelas!B:D,3,0),0),\"\")","v":0},{"$f":"IF(A24<>\"\",IFERROR(VLOOKUP(AH24,Tabelas!B:D,3,0),0),\"\")","v":0},{"$f":"IF(A24<>\"\",IFERROR(VLOOKUP(AI24,Tabelas!B:D,3,0),0),\"\")","v":0},{"$f":"IF(A24<>\"\",IFERROR(VLOOKUP(AJ24,Tabelas!B:D,3,0),0),\"\")","v":0},{"$f":"IF(A24<>\"\",IFERROR(VLOOKUP(AK24,Tabelas!B:D,3,0),0),\"\")","v":0},{"$f":"IF(A24<>\"\",IFERROR(VLOOKUP(AL24,Tabelas!B:D,3,0),0),\"\")","v":0},{"$f":"IF(A24<>\"\",IFERROR(VLOOKUP(AM24,Tabelas!B:D,3,0),0),\"\")","v":0},{"$f":"IF(A24<>\"\",IFERROR(VLOOKUP(AN24,Tabelas!B:D,3,0),0),\"\")","v":0},{"$f":"IF(A24<>\"\",IFERROR(VLOOKUP(AO24,Tabelas!B:D,3,0),0),\"\")","v":0},{"$f":"IF(A24<>\"\",IFERROR(VLOOKUP(AP24,Tabelas!B:D,3,0),0),\"\")","v":0},{"$f":"IF(A24<>\"\",IFERROR(VLOOKUP(AQ24,Tabelas!B:D,3,0),0),\"\")","v":0},0,0,0,0,0,0,0,0]
["FULANO 17",17,null,null,null,null,null,null,null,null,null,null,null,null,null,null,null,null,null,null,null,null,null,null,null,null,null,null,null,null,null,null,null,null,null,null,null,null,null,null,null,null,null,{"$f":"IF(A25<>\"\",IFERROR(VLOOKUP(M25,Tabelas!B:D,3,0),0),\"\")","v":0},{"$f":"IF(A25<>\"\",IFERROR(VLOOKUP(N25,Tabelas!B:D,3,0),0),\"\")","v":0},{"$f":"IF(A25<>\"\",IFERROR(VLOOKUP(O25,Tabelas!B:D,3,0),0),\"\")","v":0},{"$f":"IF(A25<>\"\",IFERROR(VLOOKUP(P25,Tabelas!B:D,3,0),0),\"\")","v":0},{"$f":"IF(A25<>\"\",IFERROR(VLOOKUP(Q25,Tabelas!B:D,3,0),0),\"\")","v":0},{"$f":"IF(A25<>\"\",IFERROR(VLOOKUP(R25,Tabelas!B:D,3,0),0),\"\")","v":0},{"$f":"IF(A25<>\"\",IFERROR(VLOOKUP(S25,Tabelas!B:D,3,0),0),\"\")","v":0},{"$f":"IF(A25<>\"\",IFERROR(VLOOKUP(T25,Tabelas!B:D,3,0),0),\"\")","v":0},{"$f":"IF(A25<>\"\",IFERROR(VLOOKUP(U25,Tabelas!B:D,3,0),0),\"\")","v":0},{"$f":"IF(A25<>\"\",IFERROR(VLOOKUP(V25,Tabelas!B:D,3,0),0),\"\")","v":0},{"$f":"IF(A25<>\"\",IFERROR(VLOOKUP(W25,Tabelas!B:D,3,0),0),\"\")","v":0},{"$f":"IF(A25<>\"\",IFERROR(VLOOKUP(X25,Tabelas!B:D,3,0),0),\"\")","v":0},{"$f":"IF(A25<>\"\",IFERROR(VLOOKUP(Y25,Tabelas!B:D,3,0),0),\"\")","v":0},{"$f":"IF(A25<>\"\",IFERROR(VLOOKUP(Z25,Tabelas!B:D,3,0),0),\"\")","v":0},{"$f":"IF(A25<>\"\",IFERROR(VLOOKUP(AA25,Tabelas!B:D,3,0),0),\"\")","v":0},{"$f":"IF(A25<>\"\",IFERROR(VLOOKUP(AB25,Tabelas!B:D,3,0),0),\"\")","v":0},{"$f":"IF(A25<>\"\",IFERROR(VLOOKUP(AC25,Tabelas!B:D,3,0),0),\"\")","v":0},{"$f":"IF(A25<>\"\",IFERROR(VLOOKUP(AD25,Tabelas!B:D,3,0),0),\"\")","v":0},{"$f":"IF(A25<>\"\",IFERROR(VLOOKUP(AE25,Tabelas!B:D,3,0),0),\"\")","v":0},{"$f":"IF(A25<>\"\",IFERROR(VLOOKUP(AF25,Tabelas!B:D,3,0),0),\"\")","v":0},{"$f":"IF(A25<>\"\",IFERROR(VLOOKUP(AG25,Tabelas!B:D,3,0),0),\"\")","v":0},{"$f":"IF(A25<>\"\",IFERROR(VLOOKUP(AH25,Tabelas!B:D,3,0),0),\"\")","v":0},{"$f":"IF(A25<>\"\",IFERROR(VLOOKUP(AI25,Tabelas!B:D,3,0),0),\"\")","v":0},{"$f":"IF(A25<>\"\",IFERROR(VLOOKUP(AJ25,Tabelas!B:D,3,0),0),\"\")","v":0},{"$f":"IF(A25<>\"\",IFERROR(VLOOKUP(AK25,Tabelas!B:D,3,0),0),\"\")","v":0},{"$f":"IF(A25<>\"\",IFERROR(VLOOKUP(AL25,Tabelas!B:D,3,0),0),\"\")","v":0},{"$f":"IF(A25<>\"\",IFERROR(VLOOKUP(AM25,Tabelas!B:D,3,0),0),\"\")","v":0},{"$f":"IF(A25<>\"\",IFERROR(VLOOKUP(AN25,Tabelas!B:D,3,0),0),\"\")","v":0},{"$f":"IF(A25<>\"\",IFERROR(VLOOKUP(AO25,Tabelas!B:D,3,0),0),\"\")","v":0},{"$f":"IF(A25<>\"\",IFERROR(VLOOKUP(AP25,Tabelas!B:D,3,0),0),\"\")","v":0},{"$f":"IF(A25<>\"\",IFERROR(VLOOKUP(AQ25,Tabelas!B:D,3,0),0),\"\")","v":0},0,0,0,0,0,0,0,0]
["FULANO 18",18,null,null,null,null,null,null,null,null,null,null,null,null,null,null,null,null,null,null,null,null,null,null,null,null,null,null,null,null,null,null,null,null,null,null,null,null,null,null,null,null,null,{"$f":"IF(A26<>\"\",IFERROR(VLOOKUP(M26,Tabelas!B:D,3,0),0),\"\")","v":0},{"$f":"IF(A26<>\"\",IFERROR(VLOOKUP(N26,Tabelas!B:D,3,0),0),\"\")","v":0},{"$f":"IF(A26<>\"\",IFERROR(VLOOKUP(O26,Tabelas!B:D,3,0),0),\"\")","v":0},{"$f":"IF(A26<>\"\",IFERROR(VLOOKUP(P26,Tabelas!B:D,3,0),0),\"\")","v":0},{"$f":"IF(A26<>\"\",IFERROR(VLOOKUP(Q26,Tabelas!B:D,3,0),0),\"\")","v":0},{"$f":"IF(A26<>\"\",IFERROR(VLOOKUP(R26,Tabelas!B:D,3,0),0),\"\")","v":0},{"$f":"IF(A26<>\"\",IFERROR(VLOOKUP(S26,Tabelas!B:D,3,0),0),\"\")","v":0},{"$f":"IF(A26<>\"\",IFERROR(VLOOKUP(T26,Tabelas!B:D,3,0),0),\"\")","v":0},{"$f":"IF(A26<>\"\",IFERROR(VLOOKUP(U26,Tabelas!B:D,3,0),0),\"\")","v":0},{"$f":"IF(A26<>\"\",IFERROR(VLOOKUP(V26,Tabelas!B:D,3,0),0),\"\")","v":0},{"$f":"IF(A26<>\"\",IFERROR(VLOOKUP(W26,Tabelas!B:D,3,0),0),\"\")","v":0},{"$f":"IF(A26<>\"\",IFERROR(VLOOKUP(X26,Tabelas!B:D,3,0),0),\"\")","v":0},{"$f":"IF(A26<>\"\",IFERROR(VLOOKUP(Y26,Tabelas!B:D,3,0),0),\"\")","v":0},{"$f":"IF(A26<>\"\",IFERROR(VLOOKUP(Z26,Tabelas!B:D,3,0),0),\"\")","v":0},{"$f":"IF(A26<>\"\",IFERROR(VLOOKUP(AA26,Tabelas!B:D,3,0),0),\"\")","v":0},{"$f":"IF(A26<>\"\",IFERROR(VLOOKUP(AB26,Tabelas!B:D,3,0),0),\"\")","v":0},{"$f":"IF(A26<>\"\",IFERROR(VLOOKUP(AC26,Tabelas!B:D,3,0),0),\"\")","v":0},{"$f":"IF(A26<>\"\",IFERROR(VLOOKUP(AD26,Tabelas!B:D,3,0),0),\"\")","v":0},{"$f":"IF(A26<>\"\",IFERROR(VLOOKUP(AE26,Tabelas!B:D,3,0),0),\"\")","v":0},{"$f":"IF(A26<>\"\",IFERROR(VLOOKUP(AF26,Tabelas!B:D,3,0),0),\"\")","v":0},{"$f":"IF(A26<>\"\",IFERROR(VLOOKUP(AG26,Tabelas!B:D,3,0),0),\"\")","v":0},{"$f":"IF(A26<>\"\",IFERROR(VLOOKUP(AH26,Tabelas!B:D,3,0),0),\"\")","v":0},{"$f":"IF(A26<>\"\",IFERROR(VLOOKUP(AI26,Tabelas!B:D,3,0),0),\"\")","v":0},{"$f":"IF(A26<>\"\",IFERROR(VLOOKUP(AJ26,Tabelas!B:D,3,0),0),\"\")","v":0},{"$f":"IF(A26<>\"\",IFERROR(VLOOKUP(AK26,Tabelas!B:D,3,0),0),\"\")","v":0},{"$f":"IF(A26<>\"\",IFERROR(VLOOKUP(AL26,Tabelas!B:D,3,0),0),\"\")","v":0},{"$f":"IF(A26<>\"\",IFERROR(VLOOKUP(AM26,Tabelas!B:D,3,0),0),\"\")","v":0},{"$f":"IF(A26<>\"\",IFERROR(VLOOKUP(AN26,Tabelas!B:D,3,0),0),\"\")","v":0},{"$f":"IF(A26<>\"\",IFERROR(VLOOKUP(AO26,Tabelas!B:D,3,0),0),\"\")","v":0},{"$f":"IF(A26<>\"\",IFERROR(VLOOKUP(AP26,Tabelas!B:D,3,0),0),\"\")","v":0},{"$f":"IF(A26<>\"\",IFERROR(VLOOKUP(AQ26,Tabelas!B:D,3,0),0),\"\")","v":0},0,0,0,0,0,0,0,0]
["FULANO 19",19,null,null,null,null,null,null,null,null,null,null,null,null,null,null,null,null,null,null,null,null,null,null,null,null,null,null,null,null,null,null,null,null,null,null,null,null,null,null,null,null,null,{"$f":"IF(A27<>\"\",IFERROR(VLOOKUP(M27,Tabelas!B:D,3,0),0),\"\")","v":0},{"$f":"IF(A27<>\"\",IFERROR(VLOOKUP(N27,Tabelas!B:D,3,0),0),\"\")","v":0},{"$f":"IF(A27<>\"\",IFERROR(VLOOKUP(O27,Tabelas!B:D,3,0),0),\"\")","v":0},{"$f":"IF(A27<>\"\",IFERROR(VLOOKUP(P27,Tabelas!B:D,3,0),0),\"\")","v":0},{"$f":"IF(A27<>\"\",IFERROR(VLOOKUP(Q27,Tabelas!B:D,3,0),0),\"\")","v":0},{"$f":"IF(A27<>\"\",IFERROR(VLOOKUP(R27,Tabelas!B:D,3,0),0),\"\")","v":0},{"$f":"IF(A27<>\"\",IFERROR(VLOOKUP(S27,Tabelas!B:D,3,0),0),\"\")","v":0},{"$f":"IF(A27<>\"\",IFERROR(VLOOKUP(T27,Tabelas!B:D,3,0),0),\"\")","v":0},{"$f":"IF(A27<>\"\",IFERROR(VLOOKUP(U27,Tabelas!B:D,3,0),0),\"\")","v":0},{"$f":"IF(A27<>\"\",IFERROR(VLOOKUP(V27,Tabelas!B:D,3,0),0),\"\")","v":0},{"$f":"IF(A27<>\"\",IFERROR(VLOOKUP(W27,Tabelas!B:D,3,0),0),\"\")","v":0},{"$f":"IF(A27<>\"\",IFERROR(VLOOKUP(X27,Tabelas!B:D,3,0),0),\"\")","v":0},{"$f":"IF(A27<>\"\",IFERROR(VLOOKUP(Y27,Tabelas!B:D,3,0),0),\"\")","v":0},{"$f":"IF(A27<>\"\",IFERROR(VLOOKUP(Z27,Tabelas!B:D,3,0),0),\"\")","v":0},{"$f":"IF(A27<>\"\",IFERROR(VLOOKUP(AA27,Tabelas!B:D,3,0),0),\"\")","v":0},{"$f":"IF(A27<>\"\",IFERROR(VLOOKUP(AB27,Tabelas!B:D,3,0),0),\"\")","v":0},{"$f":"IF(A27<>\"\",IFERROR(VLOOKUP(AC27,Tabelas!B:D,3,0),0),\"\")","v":0},{"$f":"IF(A27<>\"\",IFERROR(VLOOKUP(AD27,Tabelas!B:D,3,0),0),\"\")","v":0},{"$f":"IF(A27<>\"\",IFERROR(VLOOKUP(AE27,Tabelas!B:D,3,0),0),\"\")","v":0},{"$f":"IF(A27<>\"\",IFERROR(VLOOKUP(AF27,Tabelas!B:D,3,0),0),\"\")","v":0},{"$f":"IF(A27<>\"\",IFERROR(VLOOKUP(AG27,Tabelas!B:D,3,0),0),\"\")","v":0},{"$f":"IF(A27<>\"\",IFERROR(VLOOKUP(AH27,Tabelas!B:D,3,0),0),\"\")","v":0},{"$f":"IF(A27<>\"\",IFERROR(VLOOKUP(AI27,Tabelas!B:D,3,0),0),\"\")","v":0},{"$f":"IF(A27<>\"\",IFERROR(VLOOKUP(AJ27,Tabelas!B:D,3,0),0),\"\")","v":0},{"$f":"IF(A27<>\"\",IFERROR(VLOOKUP(AK27,Tabelas!B:D,3,0),0),\"\")","v":0},{"$f":"IF(A27<>\"\",IFERROR(VLOOKUP(AL27,Tabelas!B:D,3,0),0),\"\")","v":0},{"$f":"IF(A27<>\"\",IFERROR(VLOOKUP(AM27,Tabelas!B:D,3,0),0),\"\")","v":0},{"$f":"IF(A27<>\"\",IFERROR(VLOOKUP(AN27,Tabelas!B:D,3,0),0),\"\")","v":0},{"$f":"IF(A27<>\"\",IFERROR(VLOOKUP(AO27,Tabelas!B:D,3,0),0),\"\")","v":0},{"$f":"IF(A27<>\"\",IFERROR(VLOOKUP(AP27,Tabelas!B:D,3,0),0),\"\")","v":0},{"$f":"IF(A27<>\"\",IFERROR(VLOOKUP(AQ27,Tabelas!B:D,3,0),0),\"\")","v":0},0,0,0,0,0,0,0,0]
["FULANO 20",20,null,null,null,null,null,null,null,null,null,null,null,null,null,null,null,null,null,null,null,null,null,null,null,null,null,null,null,null,null,null,null,null,null,null,null,null,null,null,null,null,null,{"$f":"IF(A28<>\"\",IFERROR(VLOOKUP(M28,Tabelas!B:D,3,0),0),\"\")","v":0},{"$f":"IF(A28<>\"\",IFERROR(VLOOKUP(N28,Tabelas!B:D,3,0),0),\"\")","v":0},{"$f":"IF(A28<>\"\",IFERROR(VLOOKUP(O28,Tabelas!B:D,3,0),0),\"\")","v":0},{"$f":"IF(A28<>\"\",IFERROR(VLOOKUP(P28,Tabelas!B:D,3,0),0),\"\")","v":0},{"$f":"IF(A28<>\"\",IFERROR(VLOOKUP(Q28,Tabelas!B:D,3,0),0),\"\")","v":0},{"$f":"IF(A28<>\"\",IFERROR(VLOOKUP(R28,Tabelas!B:D,3,0),0),\"\")","v":0},{"$f":"IF(A28<>\"\",IFERROR(VLOOKUP(S28,Tabelas!B:D,3,0),0),\"\")","v":0},{"$f":"IF(A28<>\"\",IFERROR(VLOOKUP(T28,Tabelas!B:D,3,0),0),\"\")","v":0},{"$f":"IF(A28<>\"\",IFERROR(VLOOKUP(U28,Tabelas!B:D,3,0),0),\"\")","v":0},{"$f":"IF(A28<>\"\",IFERROR(VLOOKUP(V28,Tabelas!B:D,3,0),0),\"\")","v":0},{"$f":"IF(A28<>\"\",IFERROR(VLOOKUP(W28,Tabelas!B:D,3,0),0),\"\")","v":0},{"$f":"IF(A28<>\"\",IFERROR(VLOOKUP(X28,Tabelas!B:D,3,0),0),\"\")","v":0},{"$f":"IF(A28<>\"\",IFERROR(VLOOKUP(Y28,Tabelas!B:D,3,0),0),\"\")","v":0},{"$f":"IF(A28<>\"\",IFERROR(VLOOKUP(Z28,Tabelas!B:D,3,0),0),\"\")","v":0},{"$f":"IF(A28<>\"\",IFERROR(VLOOKUP(AA28,Tabelas!B:D,3,0),0),\"\")","v":0},{"$f":"IF(A28<>\"\",IFERROR(VLOOKUP(AB28,Tabelas!B:D,3,0),0),\"\")","v":0},{"$f":"IF(A28<>\"\",IFERROR(VLOOKUP(AC28,Tabelas!B:D,3,0),0),\"\")","v":0},{"$f":"IF(A28<>\"\",IFERROR(VLOOKUP(AD28,Tabelas!B:D,3,0),0),\"\")","v":0},{"$f":"IF(A28<>\"\",IFERROR(VLOOKUP(AE28,Tabelas!B:D,3,0),0),\"\")","v":0},{"$f":"IF(A28<>\"\",IFERROR(VLOOKUP(AF28,Tabelas!B:D,3,0),0),\"\")","v":0},{"$f":"IF(A28<>\"\",IFERROR(VLOOKUP(AG28,Tabelas!B:D,3,0),0),\"\")","v":0},{"$f":"IF(A28<>\"\",IFERROR(VLOOKUP(AH28,Tabelas!B:D,3,0),0),\"\")","v":0},{"$f":"IF(A28<>\"\",IFERROR(VLOOKUP(AI28,Tabelas!B:D,3,0),0),\"\")","v":0},{"$f":"IF(A28<>\"\",IFERROR(VLOOKUP(AJ28,Tabelas!B:D,3,0),0),\"\")","v":0},{"$f":"IF(A28<>\"\",IFERROR(VLOOKUP(AK28,Tabelas!B:D,3,0),0),\"\")","v":0},{"$f":"IF(A28<>\"\",IFERROR(VLOOKUP(AL28,Tabelas!B:D,3,0),0),\"\")","v":0},{"$f":"IF(A28<>\"\",IFERROR(VLOOKUP(AM28,Tabelas!B:D,3,0),0),\"\")","v":0},{"$f":"IF(A28<>\"\",IFERROR(VLOOKUP(AN28,Tabelas!B:D,3,0),0),\"\")","v":0},{"$f":"IF(A28<>\"\",IFERROR(VLOOKUP(AO28,Tabelas!B:D,3,0),0),\"\")","v":0},{"$f":"IF(A28<>\"\",IFERROR(VLOOKUP(AP28,Tabelas!B:D,3,0),0),\"\")","v":0},{"$f":"IF(A28<>\"\",IFERROR(VLOOKUP(AQ28,Tabelas!B:D,3,0),0),\"\")","v":0},0,0,0,0,0,0,0,0]
["FULANO 21",21,null,null,null,null,null,null,null,null,null,null,null,null,null,null,null,null,null,null,null,null,null,null,null,null,null,null,null,null,null,null,null,null,null,null,null,null,null,null,null,null,null,{"$f":"IF(A29<>\"\",IFERROR(VLOOKUP(M29,Tabelas!B:D,3,0),0),\"\")","v":0},{"$f":"IF(A29<>\"\",IFERROR(VLOOKUP(N29,Tabelas!B:D,3,0),0),\"\")","v":0},{"$f":"IF(A29<>\"\",IFERROR(VLOOKUP(O29,Tabelas!B:D,3,0),0),\"\")","v":0},{"$f":"IF(A29<>\"\",IFERROR(VLOOKUP(P29,Tabelas!B:D,3,0),0),\"\")","v":0},{"$f":"IF(A29<>\"\",IFERROR(VLOOKUP(Q29,Tabelas!B:D,3,0),0),\"\")","v":0},{"$f":"IF(A29<>\"\",IFERROR(VLOOKUP(R29,Tabelas!B:D,3,0),0),\"\")","v":0},{"$f":"IF(A29<>\"\",IFERROR(VLOOKUP(S29,Tabelas!B:D,3,0),0),\"\")","v":0},{"$f":"IF(A29<>\"\",IFERROR(VLOOKUP(T29,Tabelas!B:D,3,0),0),\"\")","v":0},{"$f":"IF(A29<>\"\",IFERROR(VLOOKUP(U29,Tabelas!B:D,3,0),0),\"\")","v":0},{"$f":"IF(A29<>\"\",IFERROR(VLOOKUP(V29,Tabelas!B:D,3,0),0),\"\")","v":0},{"$f":"IF(A29<>\"\",IFERROR(VLOOKUP(W29,Tabelas!B:D,3,0),0),\"\")","v":0},{"$f":"IF(A29<>\"\",IFERROR(VLOOKUP(X29,Tabelas!B:D,3,0),0),\"\")","v":0},{"$f":"IF(A29<>\"\",IFERROR(VLOOKUP(Y29,Tabelas!B:D,3,0),0),\"\")","v":0},{"$f":"IF(A29<>\"\",IFERROR(VLOOKUP(Z29,Tabelas!B:D,3,0),0),\"\")","v":0},{"$f":"IF(A29<>\"\",IFERROR(VLOOKUP(AA29,Tabelas!B:D,3,0),0),\"\")","v":0},{"$f":"IF(A29<>\"\",IFERROR(VLOOKUP(AB29,Tabelas!B:D,3,0),0),\"\")","v":0},{"$f":"IF(A29<>\"\",IFERROR(VLOOKUP(AC29,Tabelas!B:D,3,0),0),\"\")","v":0},{"$f":"IF(A29<>\"\",IFERROR(VLOOKUP(AD29,Tabelas!B:D,3,0),0),\"\")","v":0},{"$f":"IF(A29<>\"\",IFERROR(VLOOKUP(AE29,Tabelas!B:D,3,0),0),\"\")","v":0},{"$f":"IF(A29<>\"\",IFERROR(VLOOKUP(AF29,Tabelas!B:D,3,0),0),\"\")","v":0},{"$f":"IF(A29<>\"\",IFERROR(VLOOKUP(AG29,Tabelas!B:D,3,0),0),\"\")","v":0},{"$f":"IF(A29<>\"\",IFERROR(VLOOKUP(AH29,Tabelas!B:D,3,0),0),\"\")","v":0},{"$f":"IF(A29<>\"\",IFERROR(VLOOKUP(AI29,Tabelas!B:D,3,0),0),\"\")","v":0},{"$f":"IF(A29<>\"\",IFERROR(VLOOKUP(AJ29,Tabelas!B:D,3,0),0),\"\")","v":0},{"$f":"IF(A29<>\"\",IFERROR(VLOOKUP(AK29,Tabelas!B:D,3,0),0),\"\")","v":0},{"$f":"IF(A29<>\"\",IFERROR(VLOOKUP(AL29,Tabelas!B:D,3,0),0),\"\")","v":0},{"$f":"IF(A29<>\"\",IFERROR(VLOOKUP(AM29,Tabelas!B:D,3,0),0),\"\")","v":0},{"$f":"IF(A29<>\"\",IFERROR(VLOOKUP(AN29,Tabelas!B:D,3,0),0),\"\")","v":0},{"$f":"IF(A29<>\"\",IFERROR(VLOOKUP(AO29,Tabelas!B:D,3,0),0),\"\")","v":0},{"$f":"IF(A29<>\"\",IFERROR(VLOOKUP(AP29,Tabelas!B:D,3,0),0),\"\")","v":0},{"$f":"IF(A29<>\"\",IFERROR(VLOOKUP(AQ29,Tabelas!B:D,3,0),0),\"\")","v":0},0,0,0,0,0,0,0,0]
["FULANO 22",22,null,null,null,null,null,null,null,null,null,null,null,null,null,null,null,null,null,null,null,null,null,null,null,null,null,null,null,null,null,null,null,null,null,null,null,null,null,null,null,null,null,{"$f":"IF(A30<>\"\",IFERROR(VLOOKUP(M30,Tabelas!B:D,3,0),0),\"\")","v":0},{"$f":"IF(A30<>\"\",IFERROR(VLOOKUP(N30,Tabelas!B:D,3,0),0),\"\")","v":0},{"$f":"IF(A30<>\"\",IFERROR(VLOOKUP(O30,Tabelas!B:D,3,0),0),\"\")","v":0},{"$f":"IF(A30<>\"\",IFERROR(VLOOKUP(P30,Tabelas!B:D,3,0),0),\"\")","v":0},{"$f":"IF(A30<>\"\",IFERROR(VLOOKUP(Q30,Tabelas!B:D,3,0),0),\"\")","v":0},{"$f":"IF(A30<>\"\",IFERROR(VLOOKUP(R30,Tabelas!B:D,3,0),0),\"\")","v":0},{"$f":"IF(A30<>\"\",IFERROR(VLOOKUP(S30,Tabelas!B:D,3,0),0),\"\")","v":0},{"$f":"IF(A30<>\"\",IFERROR(VLOOKUP(T30,Tabelas!B:D,3,0),0),\"\")","v":0},{"$f":"IF(A30<>\"\",IFERROR(VLOOKUP(U30,Tabelas!B:D,3,0),0),\"\")","v":0},{"$f":"IF(A30<>\"\",IFERROR(VLOOKUP(V30,Tabelas!B:D,3,0),0),\"\")","v":0},{"$f":"IF(A30<>\"\",IFERROR(VLOOKUP(W30,Tabelas!B:D,3,0),0),\"\")","v":0},{"$f":"IF(A30<>\"\",IFERROR(VLOOKUP(X30,Tabelas!B:D,3,0),0),\"\")","v":0},{"$f":"IF(A30<>\"\",IFERROR(VLOOKUP(Y30,Tabelas!B:D,3,0),0),\"\")","v":0},{"$f":"IF(A30<>\"\",IFERROR(VLOOKUP(Z30,Tabelas!B:D,3,0),0),\"\")","v":0},{"$f":"IF(A30<>\"\",IFERROR(VLOOKUP(AA30,Tabelas!B:D,3,0),0),\"\")","v":0},{"$f":"IF(A30<>\"\",IFERROR(VLOOKUP(AB30,Tabelas!B:D,3,0),0),\"\")","v":0},{"$f":"IF(A30<>\"\",IFERROR(VLOOKUP(AC30,Tabelas!B:D,3,0),0),\"\")","v":0},{"$f":"IF(A30<>\"\",IFERROR(VLOOKUP(AD30,Tabelas!B:D,3,0),0),\"\")","v":0},{"$f":"IF(A30<>\"\",IFERROR(VLOOKUP(AE30,Tabelas!B:D,3,0),0),\"\")","v":0},{"$f":"IF(A30<>\"\",IFERROR(VLOOKUP(AF30,Tabelas!B:D,3,0),0),\"\")","v":0},{"$f":"IF(A30<>\"\",IFERROR(VLOOKUP(AG30,Tabelas!B:D,3,0),0),\"\")","v":0},{"$f":"IF(A30<>\"\",IFERROR(VLOOKUP(AH30,Tabelas!B:D,3,0),0),\"\")","v":0},{"$f":"IF(A30<>\"\",IFERROR(VLOOKUP(AI30,Tabelas!B:D,3,0),0),\"\")","v":0},{"$f":"IF(A30<>\"\",IFERROR(VLOOKUP(AJ30,Tabelas!B:D,3,0),0),\"\")","v":0},{"$f":"IF(A30<>\"\",IFERROR(VLOOKUP(AK30,Tabelas!B:D,3,0),0),\"\")","v":0},{"$f":"IF(A30<>\"\",IFERROR(VLOOKUP(AL30,Tabelas!B:D,3,0),0),\"\")","v":0},{"$f":"IF(A30<>\"\",IFERROR(VLOOKUP(AM30,Tabelas!B:D,3,0),0),\"\")","v":0},{"$f":"IF(A30<>\"\",IFERROR(VLOOKUP(AN30,Tabelas!B:D,3,0),0),\"\")","v":0},{"$f":"IF(A30<>\"\",IFERROR(VLOOKUP(AO30,Tabelas!B:D,3,0),0),\"\")","v":0},{"$f":"IF(A30<>\"\",IFERROR(VLOOKUP(AP30,Tabelas!B:D,3,0),0),\"\")","v":0},{"$f":"IF(A30<>\"\",IFERROR(VLOOKUP(AQ30,Tabelas!B:D,3,0),0),\"\")","v":0},0,0,0,0,0,0,0,0]
["FULANO 23",23,null,null,null,null,null,null,null,null,null,null,null,null,null,null,null,null,null,null,null,null,null,null,null,null,null,null,null,null,null,null,null,null,null,null,null,null,null,null,null,null,null,{"$f":"IF(A31<>\"\",IFERROR(VLOOKUP(M31,Tabelas!B:D,3,0),0),\"\")","v":0},{"$f":"IF(A31<>\"\",IFERROR(VLOOKUP(N31,Tabelas!B:D,3,0),0),\"\")","v":0},{"$f":"IF(A31<>\"\",IFERROR(VLOOKUP(O31,Tabelas!B:D,3,0),0),\"\")","v":0},{"$f":"IF(A31<>\"\",IFERROR(VLOOKUP(P31,Tabelas!B:D,3,0),0),\"\")","v":0},{"$f":"IF(A31<>\"\",IFERROR(VLOOKUP(Q31,Tabelas!B:D,3,0),0),\"\")","v":0},{"$f":"IF(A31<>\"\",IFERROR(VLOOKUP(R31,Tabelas!B:D,3,0),0),\"\")","v":0},{"$f":"IF(A31<>\"\",IFERROR(VLOOKUP(S31,Tabelas!B:D,3,0),0),\"\")","v":0},{"$f":"IF(A31<>\"\",IFERROR(VLOOKUP(T31,Tabelas!B:D,3,0),0),\"\")","v":0},{"$f":"IF(A31<>\"\",IFERROR(VLOOKUP(U31,Tabelas!B:D,3,0),0),\"\")","v":0},{"$f":"IF(A31<>\"\",IFERROR(VLOOKUP(V31,Tabelas!B:D,3,0),0),\"\")","v":0},{"$f":"IF(A31<>\"\",IFERROR(VLOOKUP(W31,Tabelas!B:D,3,0),0),\"\")","v":0},{"$f":"IF(A31<>\"\",IFERROR(VLOOKUP(X31,Tabelas!B:D,3,0),0),\"\")","v":0},{"$f":"IF(A31<>\"\",IFERROR(VLOOKUP(Y31,Tabelas!B:D,3,0),0),\"\")","v":0},{"$f":"IF(A31<>\"\",IFERROR(VLOOKUP(Z31,Tabelas!B:D,3,0),0),\"\")","v":0},{"$f":"IF(A31<>\"\",IFERROR(VLOOKUP(AA31,Tabelas!B:D,3,0),0),\"\")","v":0},{"$f":"IF(A31<>\"\",IFERROR(VLOOKUP(AB31,Tabelas!B:D,3,0),0),\"\")","v":0},{"$f":"IF(A31<>\"\",IFERROR(VLOOKUP(AC31,Tabelas!B:D,3,0),0),\"\")","v":0},{"$f":"IF(A31<>\"\",IFERROR(VLOOKUP(AD31,Tabelas!B:D,3,0),0),\"\")","v":0},{"$f":"IF(A31<>\"\",IFERROR(VLOOKUP(AE31,Tabelas!B:D,3,0),0),\"\")","v":0},{"$f":"IF(A31<>\"\",IFERROR(VLOOKUP(AF31,Tabelas!B:D,3,0),0),\"\")","v":0},{"$f":"IF(A31<>\"\",IFERROR(VLOOKUP(AG31,Tabelas!B:D,3,0),0),\"\")","v":0},{"$f":"IF(A31<>\"\",IFERROR(VLOOKUP(AH31,Tabelas!B:D,3,0),0),\"\")","v":0},{"$f":"IF(A31<>\"\",IFERROR(VLOOKUP(AI31,Tabelas!B:D,3,0),0),\"\")","v":0},{"$f":"IF(A31<>\"\",IFERROR(VLOOKUP(AJ31,Tabelas!B:D,3,0),0),\"\")","v":0},{"$f":"IF(A31<>\"\",IFERROR(VLOOKUP(AK31,Tabelas!B:D,3,0),0),\"\")","v":0},{"$f":"IF(A31<>\"\",IFERROR(VLOOKUP(AL31,Tabelas!B:D,3,0),0),\"\")","v":0},{"$f":"IF(A31<>\"\",IFERROR(VLOOKUP(AM31,Tabelas!B:D,3,0),0),\"\")","v":0},{"$f":"IF(A31<>\"\",IFERROR(VLOOKUP(AN31,Tabelas!B:D,3,0),0),\"\")","v":0},{"$f":"IF(A31<>\"\",IFERROR(VLOOKUP(AO31,Tabelas!B:D,3,0),0),\"\")","v":0},{"$f":"IF(A31<>\"\",IFERROR(VLOOKUP(AP31,Tabelas!B:D,3,0),0),\"\")","v":0},{"$f":"IF(A31<>\"\",IFERROR(VLOOKUP(AQ31,Tabelas!B:D,3,0),0),\"\")","v":0},0,0,0,0,0,0,0,0]
["FULANO 24",24,null,null,null,null,null,null,null,null,null,null,null,null,null,null,null,null,null,null,null,null,null,null,null,null,null,null,null,null,null,null,null,null,null,null,null,null,null,null,null,null,null,{"$f":"IF(A32<>\"\",IFERROR(VLOOKUP(M32,Tabelas!B:D,3,0),0),\"\")","v":0},{"$f":"IF(A32<>\"\",IFERROR(VLOOKUP(N32,Tabelas!B:D,3,0),0),\"\")","v":0},{"$f":"IF(A32<>\"\",IFERROR(VLOOKUP(O32,Tabelas!B:D,3,0),0),\"\")","v":0},{"$f":"IF(A32<>\"\",IFERROR(VLOOKUP(P32,Tabelas!B:D,3,0),0),\"\")","v":0},{"$f":"IF(A32<>\"\",IFERROR(VLOOKUP(Q32,Tabelas!B:D,3,0),0),\"\")","v":0},{"$f":"IF(A32<>\"\",IFERROR(VLOOKUP(R32,Tabelas!B:D,3,0),0),\"\")","v":0},{"$f":"IF(A32<>\"\",IFERROR(VLOOKUP(S32,Tabelas!B:D,3,0),0),\"\")","v":0},{"$f":"IF(A32<>\"\",IFERROR(VLOOKUP(T32,Tabelas!B:D,3,0),0),\"\")","v":0},{"$f":"IF(A32<>\"\",IFERROR(VLOOKUP(U32,Tabelas!B:D,3,0),0),\"\")","v":0},{"$f":"IF(A32<>\"\",IFERROR(VLOOKUP(V32,Tabelas!B:D,3,0),0),\"\")","v":0},{"$f":"IF(A32<>\"\",IFERROR(VLOOKUP(W32,Tabelas!B:D,3,0),0),\"\")","v":0},{"$f":"IF(A32<>\"\",IFERROR(VLOOKUP(X32,Tabelas!B:D,3,0),0),\"\")","v":0},{"$f":"IF(A32<>\"\",IFERROR(VLOOKUP(Y32,Tabelas!B:D,3,0),0),\"\")","v":0},{"$f":"IF(A32<>\"\",IFERROR(VLOOKUP(Z32,Tabelas!B:D,3,0),0),\"\")","v":0},{"$f":"IF(A32<>\"\",IFERROR(VLOOKUP(AA32,Tabelas!B:D,3,0),0),\"\")","v":0},{"$f":"IF(A32<>\"\",IFERROR(VLOOKUP(AB32,Tabelas!B:D,3,0),0),\"\")","v":0},{"$f":"IF(A32<>\"\",IFERROR(VLOOKUP(AC32,Tabelas!B:D,3,0),0),\"\")","v":0},{"$f":"IF(A32<>\"\",IFERROR(VLOOKUP(AD32,Tabelas!B:D,3,0),0),\"\")","v":0},{"$f":"IF(A32<>\"\",IFERROR(VLOOKUP(AE32,Tabelas!B:D,3,0),0),\"\")","v":0},{"$f":"IF(A32<>\"\",IFERROR(VLOOKUP(AF32,Tabelas!B:D,3,0),0),\"\")","v":0},{"$f":"IF(A32<>\"\",IFERROR(VLOOKUP(AG32,Tabelas!B:D,3,0),0),\"\")","v":0},{"$f":"IF(A32<>\"\",IFERROR(VLOOKUP(AH32,Tabelas!B:D,3,0),0),\"\")","v":0},{"$f":"IF(A32<>\"\",IFERROR(VLOOKUP(AI32,Tabelas!B:D,3,0),0),\"\")","v":0},{"$f":"IF(A32<>\"\",IFERROR(VLOOKUP(AJ32,Tabelas!B:D,3,0),0),\"\")","v":0},{"$f":"IF(A32<>\"\",IFERROR(VLOOKUP(AK32,Tabelas!B:D,3,0),0),\"\")","v":0},{"$f":"IF(A32<>\"\",IFERROR(VLOOKUP(AL32,Tabelas!B:D,3,0),0),\"\")","v":0},{"$f":"IF(A32<>\"\",IFERROR(VLOOKUP(AM32,Tabelas!B:D,3,0),0),\"\")","v":0},{"$f":"IF(A32<>\"\",IFERROR(VLOOKUP(AN32,Tabelas!B:D,3,0),0),\"\")","v":0},{"$f":"IF(A32<>\"\",IFERROR(VLOOKUP(AO32,Tabelas!B:D,3,0),0),\"\")","v":0},{"$f":"IF(A32<>\"\",IFERROR(VLOOKUP(AP32,Tabelas!B:D,3,0),0),\"\")","v":0},{"$f":"IF(A32<>\"\",IFERROR(VLOOKUP(AQ32,Tabelas!B:D,3,0),0),\"\")","v":0},0,0,0,0,0,0,0,0]
["FULANO 25",25,null,null,null,null,null,null,null,null,null,null,null,null,null,null,null,null,null,null,null,null,null,null,null,null,null,null,null,null,null,null,null,null,null,null,null,null,null,null,null,null,null,{"$f":"IF(A33<>\"\",IFERROR(VLOOKUP(M33,Tabelas!B:D,3,0),0),\"\")","v":0},{"$f":"IF(A33<>\"\",IFERROR(VLOOKUP(N33,Tabelas!B:D,3,0),0),\"\")","v":0},{"$f":"IF(A33<>\"\",IFERROR(VLOOKUP(O33,Tabelas!B:D,3,0),0),\"\")","v":0},{"$f":"IF(A33<>\"\",IFERROR(VLOOKUP(P33,Tabelas!B:D,3,0),0),\"\")","v":0},{"$f":"IF(A33<>\"\",IFERROR(VLOOKUP(Q33,Tabelas!B:D,3,0),0),\"\")","v":0},{"$f":"IF(A33<>\"\",IFERROR(VLOOKUP(R33,Tabelas!B:D,3,0),0),\"\")","v":0},{"$f":"IF(A33<>\"\",IFERROR(VLOOKUP(S33,Tabelas!B:D,3,0),0),\"\")","v":0},{"$f":"IF(A33<>\"\",IFERROR(VLOOKUP(T33,Tabelas!B:D,3,0),0),\"\")","v":0},{"$f":"IF(A33<>\"\",IFERROR(VLOOKUP(U33,Tabelas!B:D,3,0),0),\"\")","v":0},{"$f":"IF(A33<>\"\",IFERROR(VLOOKUP(V33,Tabelas!B:D,3,0),0),\"\")","v":0},{"$f":"IF(A33<>\"\",IFERROR(VLOOKUP(W33,Tabelas!B:D,3,0),0),\"\")","v":0},{"$f":"IF(A33<>\"\",IFERROR(VLOOKUP(X33,Tabelas!B:D,3,0),0),\"\")","v":0},{"$f":"IF(A33<>\"\",IFERROR(VLOOKUP(Y33,Tabelas!B:D,3,0),0),\"\")","v":0},{"$f":"IF(A33<>\"\",IFERROR(VLOOKUP(Z33,Tabelas!B:D,3,0),0),\"\")","v":0},{"$f":"IF(A33<>\"\",IFERROR(VLOOKUP(AA33,Tabelas!B:D,3,0),0),\"\")","v":0},{"$f":"IF(A33<>\"\",IFERROR(VLOOKUP(AB33,Tabelas!B:D,3,0),0),\"\")","v":0},{"$f":"IF(A33<>\"\",IFERROR(VLOOKUP(AC33,Tabelas!B:D,3,0),0),\"\")","v":0},{"$f":"IF(A33<>\"\",IFERROR(VLOOKUP(AD33,Tabelas!B:D,3,0),0),\"\")","v":0},{"$f":"IF(A33<>\"\",IFERROR(VLOOKUP(AE33,Tabelas!B:D,3,0),0),\"\")","v":0},{"$f":"IF(A33<>\"\",IFERROR(VLOOKUP(AF33,Tabelas!B:D,3,0),0),\"\")","v":0},{"$f":"IF(A33<>\"\",IFERROR(VLOOKUP(AG33,Tabelas!B:D,3,0),0),\"\")","v":0},{"$f":"IF(A33<>\"\",IFERROR(VLOOKUP(AH33,Tabelas!B:D,3,0),0),\"\")","v":0},{"$f":"IF(A33<>\"\",IFERROR(VLOOKUP(AI33,Tabelas!B:D,3,0),0),\"\")","v":0},{"$f":"IF(A33<>\"\",IFERROR(VLOOKUP(AJ33,Tabelas!B:D,3,0),0),\"\")","v":0},{"$f":"IF(A33<>\"\",IFERROR(VLOOKUP(AK33,Tabelas!B:D,3,0),0),\"\")","v":0},{"$f":"IF(A33<>\"\",IFERROR(VLOOKUP(AL33,Tabelas!B:D,3,0),0),\"\")","v":0},{"$f":"IF(A33<>\"\",IFERROR(VLOOKUP(AM33,Tabelas!B:D,3,0),0),\"\")","v":0},{"$f":"IF(A33<>\"\",IFERROR(VLOOKUP(AN33,Tabelas!B:D,3,0),0),\"\")","v":0},{"$f":"IF(A33<>\"\",IFERROR(VLOOKUP(AO33,Tabelas!B:D,3,0),0),\"\")","v":0},{"$f":"IF(A33<>\"\",IFERROR(VLOOKUP(AP33,Tabelas!B:D,3,0),0),\"\")","v":0},{"$f":"IF(A33<>\"\",IFERROR(VLOOKUP(AQ33,Tabelas!B:D,3,0),0),\"\")","v":0},0,0,0,0,0,0,0,0]
["FULANO 26",26,null,null,null,null,null,null,null,null,null,null,null,null,null,null,null,null,null,null,null,null,null,null,null,null,null,null,null,null,null,null,null,null,null,null,null,null,null,null,null,null,null,{"$f":"IF(A34<>\"\",IFERROR(VLOOKUP(M34,Tabelas!B:D,3,0),0),\"\")","v":0},{"$f":"IF(A34<>\"\",IFERROR(VLOOKUP(N34,Tabelas!B:D,3,0),0),\"\")","v":0},{"$f":"IF(A34<>\"\",IFERROR(VLOOKUP(O34,Tabelas!B:D,3,0),0),\"\")","v":0},{"$f":"IF(A34<>\"\",IFERROR(VLOOKUP(P34,Tabelas!B:D,3,0),0),\"\")","v":0},{"$f":"IF(A34<>\"\",IFERROR(VLOOKUP(Q34,Tabelas!B:D,3,0),0),\"\")","v":0},{"$f":"IF(A34<>\"\",IFERROR(VLOOKUP(R34,Tabelas!B:D,3,0),0),\"\")","v":0},{"$f":"IF(A34<>\"\",IFERROR(VLOOKUP(S34,Tabelas!B:D,3,0),0),\"\")","v":0},{"$f":"IF(A34<>\"\",IFERROR(VLOOKUP(T34,Tabelas!B:D,3,0),0),\"\")","v":0},{"$f":"IF(A34<>\"\",IFERROR(VLOOKUP(U34,Tabelas!B:D,3,0),0),\"\")","v":0},{"$f":"IF(A34<>\"\",IFERROR(VLOOKUP(V34,Tabelas!B:D,3,0),0),\"\")","v":0},{"$f":"IF(A34<>\"\",IFERROR(VLOOKUP(W34,Tabelas!B:D,3,0),0),\"\")","v":0},{"$f":"IF(A34<>\"\",IFERROR(VLOOKUP(X34,Tabelas!B:D,3,0),0),\"\")","v":0},{"$f":"IF(A34<>\"\",IFERROR(VLOOKUP(Y34,Tabelas!B:D,3,0),0),\"\")","v":0},{"$f":"IF(A34<>\"\",IFERROR(VLOOKUP(Z34,Tabelas!B:D,3,0),0),\"\")","v":0},{"$f":"IF(A34<>\"\",IFERROR(VLOOKUP(AA34,Tabelas!B:D,3,0),0),\"\")","v":0},{"$f":"IF(A34<>\"\",IFERROR(VLOOKUP(AB34,Tabelas!B:D,3,0),0),\"\")","v":0},{"$f":"IF(A34<>\"\",IFERROR(VLOOKUP(AC34,Tabelas!B:D,3,0),0),\"\")","v":0},{"$f":"IF(A34<>\"\",IFERROR(VLOOKUP(AD34,Tabelas!B:D,3,0),0),\"\")","v":0},{"$f":"IF(A34<>\"\",IFERROR(VLOOKUP(AE34,Tabelas!B:D,3,0),0),\"\")","v":0},{"$f":"IF(A34<>\"\",IFERROR(VLOOKUP(AF34,Tabelas!B:D,3,0),0),\"\")","v":0},{"$f":"IF(A34<>\"\",IFERROR(VLOOKUP(AG34,Tabelas!B:D,3,0),0),\"\")","v":0},{"$f":"IF(A34<>\"\",IFERROR(VLOOKUP(AH34,Tabelas!B:D,3,0),0),\"\")","v":0},{"$f":"IF(A34<>\"\",IFERROR(VLOOKUP(AI34,Tabelas!B:D,3,0),0),\"\")","v":0},{"$f":"IF(A34<>\"\",IFERROR(VLOOKUP(AJ34,Tabelas!B:D,3,0),0),\"\")","v":0},{"$f":"IF(A34<>\"\",IFERROR(VLOOKUP(AK34,Tabelas!B:D,3,0),0),\"\")","v":0},{"$f":"IF(A34<>\"\",IFERROR(VLOOKUP(AL34,Tabelas!B:D,3,0),0),\"\")","v":0},{"$f":"IF(A34<>\"\",IFERROR(VLOOKUP(AM34,Tabelas!B:D,3,0),0),\"\")","v":0},{"$f":"IF(A34<>\"\",IFERROR(VLOOKUP(AN34,Tabelas!B:D,3,0),0),\"\")","v":0},{"$f":"IF(A34<>\"\",IFERROR(VLOOKUP(AO34,Tabelas!B:D,3,0),0),\"\")","v":0},{"$f":"IF(A34<>\"\",IFERROR(VLOOKUP(AP34,Tabelas!B:D,3,0),0),\"\")","v":0},{"$f":"IF(A34<>\"\",IFERROR(VLOOKUP(AQ34,Tabelas!B:D,3,0),0),\"\")","v":0},0,0,0,0,0,0,0,0]
["FULANO 27",27,null,null,null,null,null,null,null,null,null,null,null,null,null,null,null,null,null,null,null,null,null,null,null,null,null,null,null,null,null,null,null,null,null,null,null,null,null,null,null,null,null,{"$f":"IF(A35<>\"\",IFERROR(VLOOKUP(M35,Tabelas!B:D,3,0),0),\"\")","v":0},{"$f":"IF(A35<>\"\",IFERROR(VLOOKUP(N35,Tabelas!B:D,3,0),0),\"\")","v":0},{"$f":"IF(A35<>\"\",IFERROR(VLOOKUP(O35,Tabelas!B:D,3,0),0),\"\")","v":0},{"$f":"IF(A35<>\"\",IFERROR(VLOOKUP(P35,Tabelas!B:D,3,0),0),\"\")","v":0},{"$f":"IF(A35<>\"\",IFERROR(VLOOKUP(Q35,Tabelas!B:D,3,0),0),\"\")","v":0},{"$f":"IF(A35<>\"\",IFERROR(VLOOKUP(R35,Tabelas!B:D,3,0),0),\"\")","v":0},{"$f":"IF(A35<>\"\",IFERROR(VLOOKUP(S35,Tabelas!B:D,3,0),0),\"\")","v":0},{"$f":"IF(A35<>\"\",IFERROR(VLOOKUP(T35,Tabelas!B:D,3,0),0),\"\")","v":0},{"$f":"IF(A35<>\"\",IFERROR(VLOOKUP(U35,Tabelas!B:D,3,0),0),\"\")","v":0},{"$f":"IF(A35<>\"\",IFERROR(VLOOKUP(V35,Tabelas!B:D,3,0),0),\"\")","v":0},{"$f":"IF(A35<>\"\",IFERROR(VLOOKUP(W35,Tabelas!B:D,3,0),0),\"\")","v":0},{"$f":"IF(A35<>\"\",IFERROR(VLOOKUP(X35,Tabelas!B:D,3,0),0),\"\")","v":0},{"$f":"IF(A35<>\"\",IFERROR(VLOOKUP(Y35,Tabelas!B:D,3,0),0),\"\")","v":0},{"$f":"IF(A35<>\"\",IFERROR(VLOOKUP(Z35,Tabelas!B:D,3,0),0),\"\")","v":0},{"$f":"IF(A35<>\"\",IFERROR(VLOOKUP(AA35,Tabelas!B:D,3,0),0),\"\")","v":0},{"$f":"IF(A35<>\"\",IFERROR(VLOOKUP(AB35,Tabelas!B:D,3,0),0),\"\")","v":0},{"$f":"IF(A35<>\"\",IFERROR(VLOOKUP(AC35,Tabelas!B:D,3,0),0),\"\")","v":0},{"$f":"IF(A35<>\"\",IFERROR(VLOOKUP(AD35,Tabelas!B:D,3,0),0),\"\")","v":0},{"$f":"IF(A35<>\"\",IFERROR(VLOOKUP(AE35,Tabelas!B:D,3,0),0),\"\")","v":0},{"$f":"IF(A35<>\"\",IFERROR(VLOOKUP(AF35,Tabelas!B:D,3,0),0),\"\")","v":0},{"$f":"IF(A35<>\"\",IFERROR(VLOOKUP(AG35,Tabelas!B:D,3,0),0),\"\")","v":0},{"$f":"IF(A35<>\"\",IFERROR(VLOOKUP(AH35,Tabelas!B:D,3,0),0),\"\")","v":0},{"$f":"IF(A35<>\"\",IFERROR(VLOOKUP(AI35,Tabelas!B:D,3,0),0),\"\")","v":0},{"$f":"IF(A35<>\"\",IFERROR(VLOOKUP(AJ35,Tabelas!B:D,3,0),0),\"\")","v":0},{"$f":"IF(A35<>\"\",IFERROR(VLOOKUP(AK35,Tabelas!B:D,3,0),0),\"\")","v":0},{"$f":"IF(A35<>\"\",IFERROR(VLOOKUP(AL35,Tabelas!B:D,3,0),0),\"\")","v":0},{"$f":"IF(A35<>\"\",IFERROR(VLOOKUP(AM35,Tabelas!B:D,3,0),0),\"\")","v":0},{"$f":"IF(A35<>\"\",IFERROR(VLOOKUP(AN35,Tabelas!B:D,3,0),0),\"\")","v":0},{"$f":"IF(A35<>\"\",IFERROR(VLOOKUP(AO35,Tabelas!B:D,3,0),0),\"\")","v":0},{"$f":"IF(A35<>\"\",IFERROR(VLOOKUP(AP35,Tabelas!B:D,3,0),0),\"\")","v":0},{"$f":"IF(A35<>\"\",IFERROR(VLOOKUP(AQ35,Tabelas!B:D,3,0),0),\"\")","v":0},0,0,0,0,0,0,{"$f":"IF(A35<>\"\",COUNTIF(M35:AQ35,\"AF1\")+COUNTIF(M35:AQ35,\"AF2\")+COUNTIF(M35:AQ35,\"AF3\")+COUNTIF(M35:AQ35,\"AF4\")+COUNTIF(M35:AQ35,\"AF5\")+COUNTIF(M35:AQ35,\"AF6\")+COUNTIF(M35:AQ35,\"AF7\")+COUNTIF(M35:AQ35,\"AF8\")+COUNTIF(M35:AQ35,\"AF9\")+COUNTIF(M35:AQ35,\"AF10\")+COUNTIF(M35:AQ35,\"AF11\")+COUNTIF(M35:AQ35,\"AF12\")+COUNTIF(M35:AQ35,\"AF13\")+COUNTIF(M35:AQ35,\"AF14\"),\"\")","v":0},0]
["TOTAL PROFISSIONAIS MATUTINO",null,null,null,null,null,null,null,null,null,null,null,{"$f":"IF(COUNTIF(Janeiro!AQ9:AQ35,\"PR5\")+COUNTIF(Janeiro!AQ9:AQ35,\"PR6\")+COUNTIF(Janeiro!AQ9:AQ35,\"PR7\")+COUNTIF(Janeiro!AQ9:AQ35,\"PR8\")+COUNTIF(Janeiro!AQ9:AQ35,\"PR9\")+COUNTIF(M9:M35,\"M*\")+ COUNTIF(M9:M35, \"D*\")-COUNTIF(M9:M35,\"DSR\")+COUNTIF(M9:M35,\"PR1\")+COUNTIF(M9:M35,\"PR2\")+COUNTIF(M9:M35,\"PR3\")+COUNTIF(M9:M35,\"PR4\")<>0,COUNTIF(Janeiro!AQ9:AQ35,\"PR5\")+COUNTIF(Janeiro!AQ9:AQ35,\"PR6\")+COUNTIF(Janeiro!AQ9:AQ35,\"PR7\")+COUNTIF(Janeiro!AQ9:AQ35,\"PR8\")+COUNTIF(Janeiro!AQ9:AQ35,\"PR9\")+COUNTIF(M9:M35,\"M*\")+ COUNTIF(M9:M35, \"D*\")-COUNTIF(M9:M35,\"DSR\")+COUNTIF(M9:M35,\"PR1\")+COUNTIF(M9:M35,\"PR2\")+COUNTIF(M9:M35,\"PR3\")+COUNTIF(M9:M35,\"PR4\"),\"\")","v":""},{"$f":"IF(COUNTIF(N9:N35,\"M*\")+ COUNTIF(N9:N35, \"D*\")-COUNTIF(N9:N35,\"DSR\")+COUNTIF(M9:M35,\"PR5\")+COUNTIF(M9:M35,\"PR6\")+COUNTIF(M9:M35,\"PR7\")+COUNTIF(M9:M35,\"PR8\")+COUNTIF(M9:M35,\"PR9\")+COUNTIF(N9:N35,\"PR1\")+COUNTIF(N9:N35,\"PR2\")+COUNTIF(N9:N35,\"PR3\")+COUNTIF(N9:N35,\"PR4\")<>0,COUNTIF(N9:N35,\"M*\")+ COUNTIF(N9:N35, \"D*\")-COUNTIF(N9:N35,\"DSR\")+COUNTIF(M9:M35,\"PR5\")+COUNTIF(M9:M35,\"PR6\")+COUNTIF(M9:M35,\"PR7\")+COUNTIF(M9:M35,\"PR8\")+COUNTIF(M9:M35,\"PR9\")+COUNTIF(N9:N35,\"PR1\")+COUNTIF(N9:N35,\"PR2\")+COUNTIF(N9:N35,\"PR3\")+COUNTIF(N9:N35,\"PR4\"),\"\")","v":""},{"$f":"IF(COUNTIF(O9:O35,\"M*\")+ COUNTIF(O9:O35, \"D*\")-COUNTIF(O9:O35,\"DSR\")+COUNTIF(N9:N35,\"PR5\")+COUNTIF(N9:N35,\"PR6\")+COUNTIF(N9:N35,\"PR7\")+COUNTIF(N9:N35,\"PR8\")+COUNTIF(N9:N35,\"PR9\")+COUNTIF(O9:O35,\"PR1\")+COUNTIF(O9:O35,\"PR2\")+COUNTIF(O9:O35,\"PR3\")+COUNTIF(O9:O35,\"PR4\")<>0,COUNTIF(O9:O35,\"M*\")+ COUNTIF(O9:O35, \"D*\")-COUNTIF(O9:O35,\"DSR\")+COUNTIF(N9:N35,\"PR5\")+COUNTIF(N9:N35,\"PR6\")+COUNTIF(N9:N35,\"PR7\")+COUNTIF(N9:N35,\"PR8\")+COUNTIF(N9:N35,\"PR9\")+COUNTIF(O9:O35,\"PR1\")+COUNTIF(O9:O35,\"PR2\")+COUNTIF(O9:O35,\"PR3\")+COUNTIF(O9:O35,\"PR4\"),\"\")","v":""},"","","","","","","","","","","","","","","","","","","","","","","","","",{"$f":"IF(AO7=\"\",\"\",IF(COUNTIF(AO9:AO35,\"M*\")+COUNTIF(AO9:AO35,\"D*\")-COUNTIF(AO9:AO35,\"DSR\")+COUNTIF(AN9:AN35,\"PR5\")+COUNTIF(AN9:AN35,\"PR6\")+COUNTIF(AN9:AN35,\"PR7\")+COUNTIF(AN9:AN35,\"PR8\")+COUNTIF(AN9:AN35,\"PR9\")+COUNTIF(AO9:AO35,\"PR1\")+COUNTIF(AO9:AO35,\"PR2\")+COUNTIF(AO9:AO35,\"PR3\")+COUNTIF(AO9:AO35,\"PR4\")<>0,COUNTIF(AO9:AO35,\"M*\")+COUNTIF(AO9:AO35,\"D*\")-COUNTIF(AO9:AO35,\"DSR\")+COUNTIF(AN9:AN35,\"PR5\")+COUNTIF(AN9:AN35,\"PR6\")+COUNTIF(AN9:AN35,\"PR7\")+COUNTIF(AN9:AN35,\"PR8\")+COUNTIF(AN9:AN35,\"PR9\")+COUNTIF(AO9:AO35,\"PR1\")+COUNTIF(AO9:AO35,\"PR2\")+COUNTIF(AO9:AO35,\"PR3\")+COUNTIF(AO9:AO35,\"PR4\"),\"\"))","v":""},null,null,null,null,null,null,null,null,null,null,null,null,null,null,null,null,null,null,null,null,null,null,null,null,null,null,null,null,null,null,null,null,null,{"$f":"SUM(BW9:BW35)","v":0},{"$f":"SUM(BX9:BX35)","v":0},0,0,0,0,0,0]
["TOTAL DE PROFISSIONAIS VESPERTINO",null,null,null,null,null,null,null,null,null,null,null,{"$f":"IF(COUNTIF(Janeiro!AQ9:AQ35,\"PR5\")+COUNTIF(Janeiro!AQ9:AQ35,\"PR6\")+COUNTIF(Janeiro!AQ9:AQ35,\"PR7\")+COUNTIF(Janeiro!AQ9:AQ35,\"PR8\")+COUNTIF(Janeiro!AQ9:AQ35,\"PR9\")+COUNTIF(M9:M35,\"MT*\") + COUNTIF(M9:M35, \"D*\") + COUNTIF(M9:M35,\"T*\")-COUNTIF(M9:M35,\"DSR\")+COUNTIF(M9:M35,\"PR1\")+COUNTIF(M9:M35,\"PR2\")+COUNTIF(M9:M35,\"PR3\")+COUNTIF(M9:M35,\"PR4\")<>0,COUNTIF(Janeiro!AQ9:AQ35,\"PR5\")+COUNTIF(Janeiro!AQ9:AQ35,\"PR6\")+COUNTIF(Janeiro!AQ9:AQ35,\"PR7\")+COUNTIF(Janeiro!AQ9:AQ35,\"PR8\")+COUNTIF(Janeiro!AQ9:AQ35,\"PR9\")+COUNTIF(M9:M35,\"MT*\") + COUNTIF(M9:M35, \"D*\") + COUNTIF(M9:M35,\"T*\")+COUNTIF(M9:M35,\"PR1\")+COUNTIF(M9:M35,\"PR2\")+COUNTIF(M9:M35,\"PR3\")+COUNTIF(M9:M35,\"PR4\")-COUNTIF(M9:M35,\"DSR\"),\"\")","v":""},{"$f":"IF(COUNTIF(N9:N35,\"MT*\") + COUNTIF(N9:N35, \"D*\") + COUNTIF(N9:N35,\"T*\")-COUNTIF(N9:N35,\"DSR\")+COUNTIF(M9:M35,\"PR5\")+COUNTIF(M9:M35,\"PR6\")+COUNTIF(M9:M35,\"PR7\")+COUNTIF(M9:M35,\"PR8\")+COUNTIF(M9:M35,\"PR9\")+COUNTIF(N9:N35,\"PR1\")+COUNTIF(N9:N35,\"PR2\")+COUNTIF(N9:N35,\"PR3\")+COUNTIF(N9:N35,\"PR4\")<>0,COUNTIF(N9:N35,\"MT*\") + COUNTIF(N9:N35, \"D*\") + COUNTIF(N9:N35,\"T*\")+COUNTIF(M9:M35,\"PR5\")+COUNTIF(M9:M35,\"PR6\")+COUNTIF(M9:M35,\"PR7\")+COUNTIF(M9:M35,\"PR8\")+COUNTIF(M9:M35,\"PR9\")+COUNTIF(N9:N35,\"PR1\")+COUNTIF(N9:N35,\"PR2\")+COUNTIF(N9:N35,\"PR3\")+COUNTIF(N9:N35,\"PR4\")-COUNTIF(N9:N35,\"DSR\"),\"\")","v":""},{"$f":"IF(COUNTIF(O9:O35,\"MT*\") + COUNTIF(O9:O35, \"D*\") + COUNTIF(O9:O35,\"T*\")-COUNTIF(O9:O35,\"DSR\")+COUNTIF(N9:N35,\"PR5\")+COUNTIF(N9:N35,\"PR6\")+COUNTIF(N9:N35,\"PR7\")+COUNTIF(N9:N35,\"PR8\")+COUNTIF(N9:N35,\"PR9\")+COUNTIF(O9:O35,\"PR1\")+COUNTIF(O9:O35,\"PR2\")+COUNTIF(O9:O35,\"PR3\")+COUNTIF(O9:O35,\"PR4\")<>0,COUNTIF(O9:O35,\"MT*\") + COUNTIF(O9:O35, \"D*\") + COUNTIF(O9:O35,\"T*\")+COUNTIF(N9:N35,\"PR5\")+COUNTIF(N9:N35,\"PR6\")+COUNTIF(N9:N35,\"PR7\")+COUNTIF(N9:N35,\"PR8\")+COUNTIF(N9:N35,\"PR9\")+COUNTIF(O9:O35,\"PR1\")+COUNTIF(O9:O35,\"PR2\")+COUNTIF(O9:O35,\"PR3\")+COUNTIF(O9:O35,\"PR4\")-COUNTIF(O9:O35,\"DSR\"),\"\")","v":""},"","","","","","","","","","","","","","","","","","","","","","","","","",{"$f":"IF(AO7=\"\",\"\",IF(COUNTIF(AO9:AO35,\"MT*\")+COUNTIF(AO9:AO35,\"D*\")+COUNTIF(AO9:AO35,\"T*\")-COUNTIF(AO9:AO35,\"DSR\")+COUNTIF(AN9:AN35,\"PR5\")+COUNTIF(AN9:AN35,\"PR6\")+COUNTIF(AN9:AN35,\"PR7\")+COUNTIF(AN9:AN35,\"PR8\")+COUNTIF(AN9:AN35,\"PR9\")+COUNTIF(AO9:AO35,\"PR1\")+COUNTIF(AO9:AO35,\"PR2\")+COUNTIF(AO9:AO35,\"PR3\")+COUNTIF(AO9:AO35,\"PR4\")<>0,COUNTIF(AO9:AO35,\"MT*\")+COUNTIF(AO9:AO35,\"D*\")+COUNTIF(AO9:AO35,\"T*\")+COUNTIF(AN9:AN35,\"PR5\")+COUNTIF(AN9:AN35,\"PR6\")+COUNTIF(AN9:AN35,\"PR7\")+COUNTIF(AN9:AN35,\"PR8\")+COUNTIF(AN9:AN35,\"PR9\")+COUNTIF(AO9:AO35,\"PR1\")+COUNTIF(AO9:AO35,\"PR2\")+COUNTIF(AO9:AO35,\"PR3\")+COUNTIF(AO9:AO35,\"PR4\")-COUNTIF(AO9:AO35,\"DSR\"),\"\"))","v":""},null,null,{"$f":"IF(A37<>\"\",IFERROR(VLOOKUP(M37,Tabelas!B:D,3,0),0),\"\")","v":0},{"$f":"IF(A37<>\"\",IFERROR(VLOOKUP(N37,Tabelas!B:D,3,0),0),\"\")","v":0},{"$f":"IF(A37<>\"\",IFERROR(VLOOKUP(O37,Tabelas!B:D,3,0),0),\"\")","v":0},{"$f":"IF(A37<>\"\",IFERROR(VLOOKUP(P37,Tabelas!B:D,3,0),0),\"\")","v":0},{"$f":"IF(A37<>\"\",IFERROR(VLOOKUP(Q37,Tabelas!B:D,3,0),0),\"\")","v":0},{"$f":"IF(A37<>\"\",IFERROR(VLOOKUP(R37,Tabelas!B:D,3,0),0),\"\")","v":0},{"$f":"IF(A37<>\"\",IFERROR(VLOOKUP(S37,Tabelas!B:D,3,0),0),\"\")","v":0},{"$f":"IF(A37<>\"\",IFERROR(VLOOKUP(T37,Tabelas!B:D,3,0),0),\"\")","v":0},{"$f":"IF(A37<>\"\",IFERROR(VLOOKUP(U37,Tabelas!B:D,3,0),0),\"\")","v":0},{"$f":"IF(A37<>\"\",IFERROR(VLOOKUP(V37,Tabelas!B:D,3,0),0),\"\")","v":0},{"$f":"IF(A37<>\"\",IFERROR(VLOOKUP(W37,Tabelas!B:D,3,0),0),\"\")","v":0},{"$f":"IF(A37<>\"\",IFERROR(VLOOKUP(X37,Tabelas!B:D,3,0),0),\"\")","v":0},{"$f":"IF(A37<>\"\",IFERROR(VLOOKUP(Y37,Tabelas!B:D,3,0),0),\"\")","v":0},{"$f":"IF(A37<>\"\",IFERROR(VLOOKUP(Z37,Tabelas!B:D,3,0),0),\"\")","v":0},{"$f":"IF(A37<>\"\",IFERROR(VLOOKUP(AA37,Tabelas!B:D,3,0),0),\"\")","v":0},{"$f":"IF(A37<>\"\",IFERROR(VLOOKUP(AB37,Tabelas!B:D,3,0),0),\"\")","v":0},{"$f":"IF(A37<>\"\",IFERROR(VLOOKUP(AC37,Tabelas!B:D,3,0),0),\"\")","v":0},{"$f":"IF(A37<>\"\",IFERROR(VLOOKUP(AD37,Tabelas!B:D,3,0),0),\"\")","v":0},{"$f":"IF(A37<>\"\",IFERROR(VLOOKUP(AE37,Tabelas!B:D,3,0),0),\"\")","v":0},{"$f":"IF(A37<>\"\",IFERROR(VLOOKUP(AF37,Tabelas!B:D,3,0),0),\"\")","v":0},{"$f":"IF(A37<>\"\",IFERROR(VLOOKUP(AG37,Tabelas!B:D,3,0),0),\"\")","v":0},{"$f":"IF(A37<>\"\",IFERROR(VLOOKUP(AH37,Tabelas!B:D,3,0),0),\"\")","v":0},{"$f":"IF(A37<>\"\",IFERROR(VLOOKUP(AI37,Tabelas!B:D,3,0),0),\"\")","v":0},{"$f":"IF(A37<>\"\",IFERROR(VLOOKUP(AJ37,Tabelas!B:D,3,0),0),\"\")","v":0},{"$f":"IF(A37<>\"\",IFERROR(VLOOKUP(AK37,Tabelas!B:D,3,0),0),\"\")","v":0},{"$f":"IF(A37<>\"\",IFERROR(VLOOKUP(AL37,Tabelas!B:D,3,0),0),\"\")","v":0},{"$f":"IF(A37<>\"\",IFERROR(VLOOKUP(AM37,Tabelas!B:D,3,0),0),\"\")","v":0},{"$f":"IF(A37<>\"\",IFERROR(VLOOKUP(AN37,Tabelas!B:D,3,0),0),\"\")","v":0},{"$f":"IF(A37<>\"\",IFERROR(VLOOKUP(AO37,Tabelas!B:D,3,0),0),\"\")","v":0},{"$f":"IF(A37<>\"\",IFERROR(VLOOKUP(AP37,Tabelas!B:D,3,0),0),\"\")","v":0},{"$f":"IF(A37<>\"\",IFERROR(VLOOKUP(AQ37,Tabelas!B:D,3,0),0),\"\")","v":0}]
["TOTAL DE PROFISSIONAIS NOTURNO",null,null,null,null,null,null,null,null,null,null,null,{"$f":"IF(COUNTIF(M9:M37,\"N?*\") + COUNTIF(M9:M37, \"DN*\")+COUNTIF(M9:M35,\"PR*\")<>0,COUNTIF(M9:M37,\"N?*\") + COUNTIF(M9:M37, \"DN*\")+COUNTIF(M9:M35,\"PR*\"),\"\")","v":""},{"$f":"IF(COUNTIF(N9:N37,\"N?*\") + COUNTIF(N9:N37, \"DN*\")+COUNTIF(N9:N35,\"PR*\")<>0,COUNTIF(N9:N37,\"N?*\") + COUNTIF(N9:N37, \"DN*\")+COUNTIF(N9:N35,\"PR*\"),\"\")","v":""},"","","","","","","","","","","","","","","","","","","","","","","","","","","",null,null,{"$f":"IF(A38<>\"\",IFERROR(VLOOKUP(M38,Tabelas!B:D,3,0),0),\"\")","v":0},{"$f":"IF(A38<>\"\",IFERROR(VLOOKUP(N38,Tabelas!B:D,3,0),0),\"\")","v":0},{"$f":"IF(A38<>\"\",IFERROR(VLOOKUP(O38,Tabelas!B:D,3,0),0),\"\")","v":0},{"$f":"IF(A38<>\"\",IFERROR(VLOOKUP(P38,Tabelas!B:D,3,0),0),\"\")","v":0},{"$f":"IF(A38<>\"\",IFERROR(VLOOKUP(Q38,Tabelas!B:D,3,0),0),\"\")","v":0},{"$f":"IF(A38<>\"\",IFERROR(VLOOKUP(R38,Tabelas!B:D,3,0),0),\"\")","v":0},{"$f":"IF(A38<>\"\",IFERROR(VLOOKUP(S38,Tabelas!B:D,3,0),0),\"\")","v":0},{"$f":"IF(A38<>\"\",IFERROR(VLOOKUP(T38,Tabelas!B:D,3,0),0),\"\")","v":0},{"$f":"IF(A38<>\"\",IFERROR(VLOOKUP(U38,Tabelas!B:D,3,0),0),\"\")","v":0},{"$f":"IF(A38<>\"\",IFERROR(VLOOKUP(V38,Tabelas!B:D,3,0),0),\"\")","v":0},{"$f":"IF(A38<>\"\",IFERROR(VLOOKUP(W38,Tabelas!B:D,3,0),0),\"\")","v":0},{"$f":"IF(A38<>\"\",IFERROR(VLOOKUP(X38,Tabelas!B:D,3,0),0),\"\")","v":0},{"$f":"IF(A38<>\"\",IFERROR(VLOOKUP(Y38,Tabelas!B:D,3,0),0),\"\")","v":0},{"$f":"IF(A38<>\"\",IFERROR(VLOOKUP(Z38,Tabelas!B:D,3,0),0),\"\")","v":0},{"$f":"IF(A38<>\"\",IFERROR(VLOOKUP(AA38,Tabelas!B:D,3,0),0),\"\")","v":0},{"$f":"IF(A38<>\"\",IFERROR(VLOOKUP(AB38,Tabelas!B:D,3,0),0),\"\")","v":0},{"$f":"IF(A38<>\"\",IFERROR(VLOOKUP(AC38,Tabelas!B:D,3,0),0),\"\")","v":0},{"$f":"IF(A38<>\"\",IFERROR(VLOOKUP(AD38,Tabelas!B:D,3,0),0),\"\")","v":0},{"$f":"IF(A38<>\"\",IFERROR(VLOOKUP(AE38,Tabelas!B:D,3,0),0),\"\")","v":0},{"$f":"IF(A38<>\"\",IFERROR(VLOOKUP(AF38,Tabelas!B:D,3,0),0),\"\")","v":0},{"$f":"IF(A38<>\"\",IFERROR(VLOOKUP(AG38,Tabelas!B:D,3,0),0),\"\")","v":0},{"$f":"IF(A38<>\"\",IFERROR(VLOOKUP(AH38,Tabelas!B:D,3,0),0),\"\")","v":0},{"$f":"IF(A38<>\"\",IFERROR(VLOOKUP(AI38,Tabelas!B:D,3,0),0),\"\")","v":0},{"$f":"IF(A38<>\"\",IFERROR(VLOOKUP(AJ38,Tabelas!B:D,3,0),0),\"\")","v":0},{"$f":"IF(A38<>\"\",IFERROR(VLOOKUP(AK38,Tabelas!B:D,3,0),0),\"\")","v":0},{"$f":"IF(A38<>\"\",IFERROR(VLOOKUP(AL38,Tabelas!B:D,3,0),0),\"\")","v":0},{"$f":"IF(A38<>\"\",IFERROR(VLOOKUP(AM38,Tabelas!B:D,3,0),0),\"\")","v":0},{"$f":"IF(A38<>\"\",IFERROR(VLOOKUP(AN38,Tabelas!B:D,3,0),0),\"\")","v":0},{"$f":"IF(A38<>\"\",IFERROR(VLOOKUP(AO38,Tabelas!B:D,3,0),0),\"\")","v":0},{"$f":"IF(A38<>\"\",IFERROR(VLOOKUP(AP38,Tabelas!B:D,3,0),0),\"\")","v":0},{"$f":"IF(A38<>\"\",IFERROR(VLOOKUP(AQ38,Tabelas!B:D,3,0),0),\"\")","v":0}]
[null,null,null,null,null,null,null,null,null,null,null,null,null,null,null,null,null,null,null,null,null,null,null,null,null,null,null,null,null,null,null,null,null,null,null,null,null,null,null,null,null,null,null,{"$f":"IF(A39<>\"\",IFERROR(VLOOKUP(M39,Tabelas!B:D,3,0),0),\"\")","v":""},{"$f":"IF(A39<>\"\",IFERROR(VLOOKUP(N39,Tabelas!B:D,3,0),0),\"\")","v":""},{"$f":"IF(A39<>\"\",IFERROR(VLOOKUP(O39,Tabelas!B:D,3,0),0),\"\")","v":""},{"$f":"IF(A39<>\"\",IFERROR(VLOOKUP(P39,Tabelas!B:D,3,0),0),\"\")","v":""},{"$f":"IF(A39<>\"\",IFERROR(VLOOKUP(Q39,Tabelas!B:D,3,0),0),\"\")","v":""},{"$f":"IF(A39<>\"\",IFERROR(VLOOKUP(R39,Tabelas!B:D,3,0),0),\"\")","v":""},{"$f":"IF(A39<>\"\",IFERROR(VLOOKUP(S39,Tabelas!B:D,3,0),0),\"\")","v":""},{"$f":"IF(A39<>\"\",IFERROR(VLOOKUP(T39,Tabelas!B:D,3,0),0),\"\")","v":""},{"$f":"IF(A39<>\"\",IFERROR(VLOOKUP(U39,Tabelas!B:D,3,0),0),\"\")","v":""},{"$f":"IF(A39<>\"\",IFERROR(VLOOKUP(V39,Tabelas!B:D,3,0),0),\"\")","v":""},{"$f":"IF(A39<>\"\",IFERROR(VLOOKUP(W39,Tabelas!B:D,3,0),0),\"\")","v":""},{"$f":"IF(A39<>\"\",IFERROR(VLOOKUP(X39,Tabelas!B:D,3,0),0),\"\")","v":""},{"$f":"IF(A39<>\"\",IFERROR(VLOOKUP(Y39,Tabelas!B:D,3,0),0),\"\")","v":""},{"$f":"IF(A39<>\"\",IFERROR(VLOOKUP(Z39,Tabelas!B:D,3,0),0),\"\")","v":""},{"$f":"IF(A39<>\"\",IFERROR(VLOOKUP(AA39,Tabelas!B:D,3,0),0),\"\")","v":""},{"$f":"IF(A39<>\"\",IFERROR(VLOOKUP(AB39,Tabelas!B:D,3,0),0),\"\")","v":""},{"$f":"IF(A39<>\"\",IFERROR(VLOOKUP(AC39,Tabelas!B:D,3,0),0),\"\")","v":""},{"$f":"IF(A39<>\"\",IFERROR(VLOOKUP(AD39,Tabelas!B:D,3,0),0),\"\")","v":""},{"$f":"IF(A39<>\"\",IFERROR(VLOOKUP(AE39,Tabelas!B:D,3,0),0),\"\")","v":""},{"$f":"IF(A39<>\"\",IFERROR(VLOOKUP(AF39,Tabelas!B:D,3,0),0),\"\")","v":""},{"$f":"IF(A39<>\"\",IFERROR(VLOOKUP(AG39,Tabelas!B:D,3,0),0),\"\")","v":""},{"$f":"IF(A39<>\"\",IFERROR(VLOOKUP(AH39,Tabelas!B:D,3,0),0),\"\")","v":""},{"$f":"IF(A39<>\"\",IFERROR(VLOOKUP(AI39,Tabelas!B:D,3,0),0),\"\")","v":""},{"$f":"IF(A39<>\"\",IFERROR(VLOOKUP(AJ39,Tabelas!B:D,3,0),0),\"\")","v":""},{"$f":"IF(A39<>\"\",IFERROR(VLOOKUP(AK39,Tabelas!B:D,3,0),0),\"\")","v":""},{"$f":"IF(A39<>\"\",IFERROR(VLOOKUP(AL39,Tabelas!B:D,3,0),0),\"\")","v":""},{"$f":"IF(A39<>\"\",IFERROR(VLOOKUP(AM39,Tabelas!B:D,3,0),0),\"\")","v":""},{"$f":"IF(A39<>\"\",IFERROR(VLOOKUP(AN39,Tabelas!B:D,3,0),0),\"\")","v":""},{"$f":"IF(A39<>\"\",IFERROR(VLOOKUP(AO39,Tabelas!B:D,3,0),0),\"\")","v":""},{"$f":"IF(A39<>\"\",IFERROR(VLOOKUP(AP39,Tabelas!B:D,3,0),0),\"\")","v":""},{"$f":"IF(A39<>\"\",IFERROR(VLOOKUP(AQ39,Tabelas!B:D,3,0),0),\"\")","v":""}]
["Legenda:"]
["Licença Maternidade","LM","Férias",null,null,null,null,null,null,"FE",null,"Ponto Facultativo",null,null,null,null,null,null,null,"PF","Manhã *",null,null,null,null,null,null,"M","Diurno (8 hrs) *",null,null,null,null,null,null,"MT"]
["Licença Paternidade","LP","Feriado",null,null,null,null,null,null,"FD",null,"Abono **",null,null,null,null,null,null,null,"AB","Tarde *",null,null,null,null,null,null,"T","Dia/ noite (24 hrs) *",null,null,null,null,null,null,"DN"]
["Licença Médica/Odontológica","L","Descanso Semanal Remunerado",null,null,null,null,null,null,"DSR",null,"Compensação de Horas",null,null,null,null,null,null,null,"CH","Plantão Dia (12 hrs) *",null,null,null,null,null,null,"D"]
["Licença Capacitação","LC","Recesso",null,null,null,null,null,null,"RC",null,"Afastamento**",null,null,null,null,null,null,null,"AF","Plantão Noite (12 hrs) *",null,null,null,null,null,null,"N"]
[]
[]
[]
[]
[]
["OBSERVAÇÕES:"]
["* Para inserção das legendas referentes às jornadas de trabalho, verificar a Tabela 1 do Anexo 12629162 do Ofício-Circular - SEI nº 9/2021/SDR/CAP/DGP-EBSERH."]
["** Para inserção das legendas referentes aos Afastamentos previstos em lei e às Compensações de horas, verificar a Tabela 2 do Anexo 12629162 do Ofício-Circular - SEI nº 9/2021/SDR/CAP/DGP-EBSERH."]

{"sheet":"Março","index":2,"n_rows":52,"n_cols":82,"rows_kept":52,"cut":false,"hidden":false,"merged":[[43,2,43,8],[43,9,43,10],[43,11,43,18],[43,20,43,26],[40,11,40,18],[40,20,40,26],[40,28,40,34],[41,28,41,34],[42,2,42,8],[42,9,42,10],[42,11,42,18],[42,20,42,26],[41,2,41,8],[41,9,41,10],[41,11,41,18],[41,20,41,26],[5,2,7,2],[5,3,7,3],[5,4,7,4],[40,2,40,8],[40,9,40,10],[6,81,7,81],[6,77,7,77],[6,78,7,78],[36,0,36,11],[37,0,37,11],[35,78,37,78],[35,79,37,79],[35,80,37,80],[35,0,35,11],[35,74,37,74],[35,75,37,75],[35,76,37,76],[35,77,37,77],[5,5,7,5],[5,0,7,0],[5,1,7,1],[35,81,37,81],[5,6,5,11],[5,12,5,42],[6,79,7,79],[6,11,7,11],[6,75,7,75],[6,76,7,76],[6,6,7,6],[6,7,7,7],[6,8,7,8],[6,9,7,9],[6,10,7,10],[5,43,5,73],[5,74,7,74],[5,75,5,81],[6,80,7,80],[1,0,1,42],[2,0,2,42],[3,0,3,42],[4,1,4,20],[4,23,4,34],[4,37,4,42]]}
[]
[]
["NOME DO HU"]
["ESCALA MENSAL DE TRABALHO"]
["DIVISÃO /SETOR/UNIDADE:",null,null,null,null,null,null,null,null,null,null,null,null,null,null,null,null,null,null,null,null,"MÊS:",null,"Março",null,null,null,null,null,null,null,null,null,null,null,"ANO:",null,2023]
["NOME COMPLETO","SIAPE","     Registro Conselho Classe","Cargo","Vínculo","    C.H Sem","INTERVALO",null,null,null,null,null,"DIAS DO MÊS",null,null,null,null,null,null,null,null,null,null,null,null,null,null,null,null,null,null,null,null,null,null,null,null,null,null,null,null,null,null,"CÁLCULO DAS HORAS",null,null,null,null,null,null,null,null,null,null,null,null,null,null,null,null,null,null,null,null,null,null,null,null,null,null,null,null,null,null,"CH Men.","Dias"]
[null,null,null,null,null,null,"15' M","15' T","15' N","1H D","1H N","2H",1,2,3,4,5,6,7,8,9,10,11,12,13,14,15,16,17,18,19,20,21,22,23,24,25,{"$f":"IF(DAY(DATE(AL5,VLOOKUP(X5,Tabelas!M:N,2,0)+1,1)-1)>=26,26,\"\")","v":26},{"$f":"IF(DAY(DATE(AL5,VLOOKUP(X5,Tabelas!M:N,2,0)+1,1)-1)>=27,27,\"\")","v":27},{"$f":"IF(DAY(DATE(AL5,VLOOKUP(X5,Tabelas!M:N,2,0)+1,1)-1)>=28,28,\"\")","v":28},{"$f":"IF(DAY(DATE(AL5,VLOOKUP(X5,Tabelas!M:N,2,0)+1,1)-1)>=29,29,\"\")","v":29},{"$f":"IF(DAY(DATE(AL5,VLOOKUP(X5,Tabelas!M:N,2,0)+1,1)-1)>=30,30,\"\")","v":30},{"$f":"IF(DAY(DATE(AL5,VLOOKUP(X5,Tabelas!M:N,2,0)+1,1)-1)>=31,31,\"\")","v":31},null,null,null,null,null,null,null,null,null,null,null,null,null,null,null,null,null,null,null,null,null,null,null,null,null,null,null,null,null,null,null,null,"LM/LP/L","AB","FE","LC","CH","AF  "," Total Afast."]
[null,null,null,null,null,null,null,null,null,null,null,null,{"$f":"IF(M7<>\"\",IFERROR(VLOOKUP(WEEKDAY(CONCATENATE(M7,$X$5,$AL$5)),Tabelas!$I:$J,2,0),\"\"),\"\")","v":"QUA"},{"$f":"IF(N7<>\"\",IFERROR(VLOOKUP(WEEKDAY(CONCATENATE(N7,$X$5,$AL$5)),Tabelas!$I:$J,2,0),\"\"),\"\")","v":"QUI"},{"$f":"IF(O7<>\"\",IFERROR(VLOOKUP(WEEKDAY(CONCATENATE(O7,$X$5,$AL$5)),Tabelas!$I:$J,2,0),\"\"),\"\")","v":"SEX"},{"$f":"IF(P7<>\"\",IFERROR(VLOOKUP(WEEKDAY(CONCATENATE(P7,$X$5,$AL$5)),Tabelas!$I:$J,2,0),\"\"),\"\")","v":"SAB"},{"$f":"IF(Q7<>\"\",IFERROR(VLOOKUP(WEEKDAY(CONCATENATE(Q7,$X$5,$AL$5)),Tabelas!$I:$J,2,0),\"\"),\"\")","v":"DOM"},{"$f":"IF(R7<>\"\",IFERROR(VLOOKUP(WEEKDAY(CONCATENATE(R7,$X$5,$AL$5)),Tabelas!$I:$J,2,0),\"\"),\"\")","v":"SEG"},{"$f":"IF(S7<>\"\",IFERROR(VLOOKUP(WEEKDAY(CONCATENATE(S7,$X$5,$AL$5)),Tabelas!$I:$J,2,0),\"\"),\"\")","v":"TER"},{"$f":"IF(T7<>\"\",IFERROR(VLOOKUP(WEEKDAY(CONCATENATE(T7,$X$5,$AL$5)),Tabelas!$I:$J,2,0),\"\"),\"\")","v":"QUA"},{"$f":"IF(U7<>\"\",IFERROR(VLOOKUP(WEEKDAY(CONCATENATE(U7,$X$5,$AL$5)),Tabelas!$I:$J,2,0),\"\"),\"\")","v":"QUI"},{"$f":"IF(V7<>\"\",IFERROR(VLOOKUP(WEEKDAY(CONCATENATE(V7,$X$5,$AL$5)),Tabelas!$I:$J,2,0),\"\"),\"\")","v":"SEX"},{"$f":"IF(W7<>\"\",IFERROR(VLOOKUP(WEEKDAY(CONCATENATE(W7,$X$5,$AL$5)),Tabelas!$I:$J,2,0),\"\"),\"\")","v":"SAB"},{"$f":"IF(X7<>\"\",IFERROR(VLOOKUP(WEEKDAY(CONCATENATE(X7,$X$5,$AL$5)),Tabelas!$I:$J,2,0),\"\"),\"\")","v":"DOM"},{"$f":"IF(Y7<>\"\",IFERROR(VLOOKUP(WEEKDAY(CONCATENATE(Y7,$X$5,$AL$5)),Tabelas!$I:$J,2,0),\"\"),\"\")","v":"SEG"},{"$f":"IF(Z7<>\"\",IFERROR(VLOOKUP(WEEKDAY(CONCATENATE(Z7,$X$5,$AL$5)),Tabelas!$I:$J,2,0),\"\"),\"\")","v":"TER"},{"$f":"IF(AA7<>\"\",IFERROR(VLOOKUP(WEEKDAY(CONCATENATE(AA7,$X$5,$AL$5)),Tabelas!$I:$J,2,0),\"\"),\"\")","v":"QUA"},{"$f":"IF(AB7<>\"\",IFERROR(VLOOKUP(WEEKDAY(CONCATENATE(AB7,$X$5,$AL$5)),Tabelas!$I:$J,2,0),\"\"),\"\")","v":"QUI"},{"$f":"IF(AC7<>\"\",IFERROR(VLOOKUP(WEEKDAY(CONCATENATE(AC7,$X$5,$AL$5)),Tabelas!$I:$J,2,0),\"\"),\"\")","v":"SEX"},{"$f":"IF(AD7<>\"\",IFERROR(VLOOKUP(WEEKDAY(CONCATENATE(AD7,$X$5,$AL$5)),Tabelas!$I:$J,2,0),\"\"),\"\")","v":"SAB"},{"$f":"IF(AE7<>\"\",IFERROR(VLOOKUP(WEEKDAY(CONCATENATE(AE7,$X$5,$AL$5)),Tabelas!$I:$J,2,0),\"\"),\"\")","v":"DOM"},{"$f":"IF(AF7<>\"\",IFERROR(VLOOKUP(WEEKDAY(CONCATENATE(AF7,$X$5,$AL$5)),Tabelas!$I:$J,2,0),\"\"),\"\")","v":"SEG"},{"$f":"IF(AG7<>\"\",IFERROR(VLOOKUP(WEEKDAY(CONCATENATE(AG7,$X$5,$AL$5)),Tabelas!$I:$J,2,0),\"\"),\"\")","v":"TER"},{"$f":"IF(AH7<>\"\",IFERROR(VLOOKUP(WEEKDAY(CONCATENATE(AH7,$X$5,$AL$5)),Tabelas!$I:$J,2,0),\"\"),\"\")","v":"QUA"},{"$f":"IF(AI7<>\"\",IFERROR(VLOOKUP(WEEKDAY(CONCATENATE(AI7,$X$5,$AL$5)),Tabelas!$I:$J,2,0),\"\"),\"\")","v":"QUI"},{"$f":"IF(AJ7<>\"\",IFERROR(VLOOKUP(WEEKDAY(CONCATENATE(AJ7,$X$5,$AL$5)),Tabelas!$I:$J,2,0),\"\"),\"\")","v":"SEX"},{"$f":"IF(AK7<>\"\",IFERROR(VLOOKUP(WEEKDAY(CONCATENATE(AK7,$X$5,$AL$5)),Tabelas!$I:$J,2,0),\"\"),\"\")","v":"SAB"},{"$f":"IF(AL7<>\"\",IFERROR(VLOOKUP(WEEKDAY(CONCATENATE(AL7,$X$5,$AL$5)),Tabelas!$I:$J,2,0),\"\"),\"\")","v":"DOM"},{"$f":"IF(AM7<>\"\",IFERROR(VLOOKUP(WEEKDAY(CONCATENATE(AM7,$X$5,$AL$5)),Tabelas!$I:$J,2,0),\"\"),\"\")","v":"SEG"},{"$f":"IF(AN7<>\"\",IFERROR(VLOOKUP(WEEKDAY(CONCATENATE(AN7,$X$5,$AL$5)),Tabelas!$I:$J,2,0),\"\"),\"\")","v":"TER"},{"$f":"IF(AO7<>\"\",IFERROR(VLOOKUP(WEEKDAY(CONCATENATE(AO7,$X$5,$AL$5)),Tabelas!$I:$J,2,0),\"\"),\"\")","v":"QUA"},{"$f":"IF(AP7<>\"\",IFERROR(VLOOKUP(WEEKDAY(CONCATENATE(AP7,$X$5,$AL$5)),Tabelas!$I:$J,2,0),\"\"),\"\")","v":"QUI"},{"$f":"IF(AQ7<>\"\",IFERROR(VLOOKUP(WEEKDAY(CONCATENATE(AQ7,$X$5,$AL$5)),Tabelas!$I:$J,2,0),\"\"),\"\")","v":"SEX"},1,2,3,4,5,6,7,8,9,10,11,12,13,14,15,16,17,18,19,20,21,22,23,24,25,26,27,28,29,30,31]
["FULANO 1",1,null,null,null,null,null,null,null,null,null,null,null,null,null,null,null,null,null,null,null,null,null,null,null,null,null,null,null,null,null,null,null,null,null,null,null,null,null,null,null,null,null,{"$f":"IF(A9<>\"\",IFERROR(VLOOKUP(M9,Tabelas!B:D,3,0),0),\"\")","v":0},{"$f":"IF(A9<>\"\",IFERROR(VLOOKUP(N9,Tabelas!B:D,3,0),0),\"\")","v":0},{"$f":"IF(A9<>\"\",IFERROR(VLOOKUP(O9,Tabelas!B:D,3,0),0),\"\")","v":0},{"$f":"IF(A9<>\"\",IFERROR(VLOOKUP(P9,Tabelas!B:D,3,0),0),\"\")","v":0},{"$f":"IF(A9<>\"\",IFERROR(VLOOKUP(Q9,Tabelas!B:D,3,0),0),\"\")","v":0},{"$f":"IF(A9<>\"\",IFERROR(VLOOKUP(R9,Tabelas!B:D,3,0),0),\"\")","v":0},{"$f":"IF(A9<>\"\",IFERROR(VLOOKUP(S9,Tabelas!B:D,3,0),0),\"\")","v":0},{"$f":"IF(A9<>\"\",IFERROR(VLOOKUP(T9,Tabelas!B:D,3,0),0),\"\")","v":0},{"$f":"IF(A9<>\"\",IFERROR(VLOOKUP(U9,Tabelas!B:D,3,0),0),\"\")","v":0},{"$f":"IF(A9<>\"\",IFERROR(VLOOKUP(V9,Tabelas!B:D,3,0),0),\"\")","v":0},{"$f":"IF(A9<>\"\",IFERROR(VLOOKUP(W9,Tabelas!B:D,3,0),0),\"\")","v":0},{"$f":"IF(A9<>\"\",IFERROR(VLOOKUP(X9,Tabelas!B:D,3,0),0),\"\")","v":0},{"$f":"IF(A9<>\"\",IFERROR(VLOOKUP(Y9,Tabelas!B:D,3,0),0),\"\")","v":0},{"$f":"IF(A9<>\"\",IFERROR(VLOOKUP(Z9,Tabelas!B:D,3,0),0),\"\")","v":0},{"$f":"IF(A9<>\"\",IFERROR(VLOOKUP(AA9,Tabelas!B:D,3,0),0),\"\")","v":0},{"$f":"IF(A9<>\"\",IFERROR(VLOOKUP(AB9,Tabelas!B:D,3,0),0),\"\")","v":0},{"$f":"IF(A9<>\"\",IFERROR(VLOOKUP(AC9,Tabelas!B:D,3,0),0),\"\")","v":0},{"$f":"IF(A9<>\"\",IFERROR(VLOOKUP(AD9,Tabelas!B:D,3,0),0),\"\")","v":0},{"$f":"IF(A9<>\"\",IFERROR(VLOOKUP(AE9,Tabelas!B:D,3,0),0),\"\")","v":0},{"$f":"IF(A9<>\"\",IFERROR(VLOOKUP(AF9,Tabelas!B:D,3,0),0),\"\")","v":0},{"$f":"IF(A9<>\"\",IFERROR(VLOOKUP(AG9,Tabelas!B:D,3,0),0),\"\")","v":0},{"$f":"IF(A9<>\"\",IFERROR(VLOOKUP(AH9,Tabelas!B:D,3,0),0),\"\")","v":0},{"$f":"IF(A9<>\"\",IFERROR(VLOOKUP(AI9,Tabelas!B:D,3,0),0),\"\")","v":0},{"$f":"IF(A9<>\"\",IFERROR(VLOOKUP(AJ9,Tabelas!B:D,3,0),0),\"\")","v":0},{"$f":"IF(A9<>\"\",IFERROR(VLOOKUP(AK9,Tabelas!B:D,3,0),0),\"\")","v":0},{"$f":"IF(A9<>\"\",IFERROR(VLOOKUP(AL9,Tabelas!B:D,3,0),0),\"\")","v":0},{"$f":"IF(A9<>\"\",IFERROR(VLOOKUP(AM9,Tabelas!B:D,3,0),0),\"\")","v":0},{"$f":"IF(A9<>\"\",IFERROR(VLOOKUP(AN9,Tabelas!B:D,3,0),0),\"\")","v":0},{"$f":"IF(A9<>\"\",IFERROR(VLOOKUP(AO9,Tabelas!B:D,3,0),0),\"\")","v":0},{"$f":"IF(A9<>\"\",IFERROR(VLOOKUP(AP9,Tabelas!B:D,3,0),0),\"\")","v":0},{"$f":"IF(A9<>\"\",IFERROR(VLOOKUP(AQ9,Tabelas!B:D,3,0),0),\"\")","v":0},{"$f":"IF(AND(A9<>\"\",E9=\"Ebserh\"),SUM(AR9:BV9)+COUNTIF(M9:AQ9,\"N*\")+COUNTIF(M9:AQ9,\"DN*\"),IF(AND(A9<>\"\",E9<>\"Ebserh\"),SUM(AR9:BV9),\"\"))","v":0},{"$f":"IF(A9<>\"\",COUNTIF(M9:AQ9,\"LM\")+COUNTIF(M9:AQ9,\"L*\")+COUNTIF(M9:AQ9,\"LP\"),\"\")","v":0},{"$f":"IF(A9<>\"\",COUNTIF(M9:AQ9,\"AB*\"),\"\")","v":0},{"$f":"IF(A9<>\"\",COUNTIF(M9:AQ9,\"FE\"),\"\")","v":0},{"$f":"IF(A9<>\"\",COUNTIF(M9:AQ9,\"LC\"),\"\")","v":0},{"$f":"IF(A9<>\"\",COUNTIF(M9:AQ9,\"CH*\"),\"\")","v":0},{"$f":"IF(A9<>\"\",COUNTIF(M9:AQ9,\"AF1\")+COUNTIF(M9:AQ9,\"AF2\")+COUNTIF(M9:AQ9,\"AF3\")+COUNTIF(M9:AQ9,\"AF4\")+COUNTIF(M9:AQ9,\"AF5\")+COUNTIF(M9:AQ9,\"AF6\")+COUNTIF(M9:AQ9,\"AF7\")+COUNTIF(M9:AQ9,\"AF8\")+COUNTIF(M9:AQ9,\"AF9\")+COUNTIF(M9:AQ9,\"AF10\")+COUNTIF(M9:AQ9,\"AF11\")+COUNTIF(M9:AQ9,\"AF12\")+COUNTIF(M9:AQ9,\"AF13\")+COUNTIF(M9:AQ9,\"AF14\"),\"\")","v":0},{"$f":"IF(A9<>\"\",COUNTIF(M9:AQ9,\"CH*\")+COUNTIF(M9:AQ9,\"L*\")+COUNTIF(M9:AQ9,\"LM\")+COUNTIF(M9:AQ9,\"LP\")+COUNTIF(M9:AQ9,\"LC\")+COUNTIF(M9:AQ9,\"AB*\")+COUNTIF(M9:AQ9,\"AF1\")+COUNTIF(M9:AQ9,\"AF2\")+COUNTIF(M9:AQ9,\"AF3\")+COUNTIF(M9:AQ9,\"AF4\")+COUNTIF(M9:AQ9,\"AF5\")+COUNTIF(M9:AQ9,\"AF6\")+COUNTIF(M9:AQ9,\"AF7\")+COUNTIF(M9:AQ9,\"AF8\")+COUNTIF(M9:AQ9,\"AF9\")+COUNTIF(M9:AQ9,\"AF10\")+COUNTIF(M9:AQ9,\"AF11\")+COUNTIF(M9:AQ9,\"AF12\")+COUNTIF(M9:AQ9,\"AF13\")+COUNTIF(M9:AQ9,\"AF14\")+COUNTIF(M9:AQ9,\"RC\")+COUNTIF(M9:AQ9,\"FO\")+COUNTIF(M9:AQ9,\"FE\"),\"\")","v":0}]
["FULANO 2",2,null,null,null,null,null,null,null,null,null,null,null,null,null,null,null,null,null,null,null,null,null,null,null,null,null,null,null,null,null,null,null,null,null,null,null,null,null,null,null,null,null,{"$f":"IF(A10<>\"\",IFERROR(VLOOKUP(M10,Tabelas!B:D,3,0),0),\"\")","v":0},{"$f":"IF(A10<>\"\",IFERROR(VLOOKUP(N10,Tabelas!B:D,3,0),0),\"\")","v":0},{"$f":"IF(A10<>\"\",IFERROR(VLOOKUP(O10,Tabelas!B:D,3,0),0),\"\")","v":0},{"$f":"IF(A10<>\"\",IFERROR(VLOOKUP(P10,Tabelas!B:D,3,0),0),\"\")","v":0},{"$f":"IF(A10<>\"\",IFERROR(VLOOKUP(Q10,Tabelas!B:D,3,0),0),\"\")","v":0},{"$f":"IF(A10<>\"\",IFERROR(VLOOKUP(R10,Tabelas!B:D,3,0),0),\"\")","v":0},{"$f":"IF(A10<>\"\",IFERROR(VLOOKUP(S10,Tabelas!B:D,3,0),0),\"\")","v":0},{"$f":"IF(A10<>\"\",IFERROR(VLOOKUP(T10,Tabelas!B:D,3,0),0),\"\")","v":0},{"$f":"IF(A10<>\"\",IFERROR(VLOOKUP(U10,Tabelas!B:D,3,0),0),\"\")","v":0},{"$f":"IF(A10<>\"\",IFERROR(VLOOKUP(V10,Tabelas!B:D,3,0),0),\"\")","v":0},{"$f":"IF(A10<>\"\",IFERROR(VLOOKUP(W10,Tabelas!B:D,3,0),0),\"\")","v":0},{"$f":"IF(A10<>\"\",IFERROR(VLOOKUP(X10,Tabelas!B:D,3,0),0),\"\")","v":0},{"$f":"IF(A10<>\"\",IFERROR(VLOOKUP(Y10,Tabelas!B:D,3,0),0),\"\")","v":0},{"$f":"IF(A10<>\"\",IFERROR(VLOOKUP(Z10,Tabelas!B:D,3,0),0),\"\")","v":0},{"$f":"IF(A10<>\"\",IFERROR(VLOOKUP(AA10,Tabelas!B:D,3,0),0),\"\")","v":0},{"$f":"IF(A10<>\"\",IFERROR(VLOOKUP(AB10,Tabelas!B:D,3,0),0),\"\")","v":0},{"$f":"IF(A10<>\"\",IFERROR(VLOOKUP(AC10,Tabelas!B:D,3,0),0),\"\")","v":0},{"$f":"IF(A10<>\"\",IFERROR(VLOOKUP(AD10,Tabelas!B:D,3,0),0),\"\")","v":0},{"$f":"IF(A10<>\"\",IFERROR(VLOOKUP(AE10,Tabelas!B:D,3,0),0),\"\")","v":0},{"$f":"IF(A10<>\"\",IFERROR(VLOOKUP(AF10,Tabelas!B:D,3,0),0),\"\")","v":0},{"$f":"IF(A10<>\"\",IFERROR(VLOOKUP(AG10,Tabelas!B:D,3,0),0),\"\")","v":0},{"$f":"IF(A10<>\"\",IFERROR(VLOOKUP(AH10,Tabelas!B:D,3,0),0),\"\")","v":0},{"$f":"IF(A10<>\"\",IFERROR(VLOOKUP(AI10,Tabelas!B:D,3,0),0),\"\")","v":0},{"$f":"IF(A10<>\"\",IFERROR(VLOOKUP(AJ10,Tabelas!B:D,3,0),0),\"\")","v":0},{"$f":"IF(A10<>\"\",IFERROR(VLOOKUP(AK10,Tabelas!B:D,3,0),0),\"\")","v":0},{"$f":"IF(A10<>\"\",IFERROR(VLOOKUP(AL10,Tabelas!B:D,3,0),0),\"\")","v":0},{"$f":"IF(A10<>\"\",IFERROR(VLOOKUP(AM10,Tabelas!B:D,3,0),0),\"\")","v":0},{"$f":"IF(A10<>\"\",IFERROR(VLOOKUP(AN10,Tabelas!B:D,3,0),0),\"\")","v":0},{"$f":"IF(A10<>\"\",IFERROR(VLOOKUP(AO10,Tabelas!B:D,3,0),0),\"\")","v":0},{"$f":"IF(A10<>\"\",IFERROR(VLOOKUP(AP10,Tabelas!B:D,3,0),0),\"\")","v":0},{"$f":"IF(A10<>\"\",IFERROR(VLOOKUP(AQ10,Tabelas!B:D,3,0),0),\"\")","v":0},{"$f":"IF(AND(A10<>\"\",E10=\"Ebserh\"),SUM(AR10:BV10)+COUNTIF(M10:AQ10,\"N*\")+COUNTIF(M10:AQ10,\"DN*\"),IF(AND(A10<>\"\",E10<>\"Ebserh\"),SUM(AR10:BV10),\"\"))","v":0},{"$f":"IF(A10<>\"\",COUNTIF(M10:AQ10,\"LM\")+COUNTIF(M10:AQ10,\"L*\")+COUNTIF(M10:AQ10,\"LP\"),\"\")","v":0},{"$f":"IF(A10<>\"\",COUNTIF(M10:AQ10,\"AB*\"),\"\")","v":0},{"$f":"IF(A10<>\"\",COUNTIF(M10:AQ10,\"FE\"),\"\")","v":0},{"$f":"IF(A10<>\"\",COUNTIF(M10:AQ10,\"LC\"),\"\")","v":0},{"$f":"IF(A10<>\"\",COUNTIF(M10:AQ10,\"CH*\"),\"\")","v":0},{"$f":"IF(A10<>\"\",COUNTIF(M10:AQ10,\"AF1\")+COUNTIF(M10:AQ10,\"AF2\")+COUNTIF(M10:AQ10,\"AF3\")+COUNTIF(M10:AQ10,\"AF4\")+COUNTIF(M10:AQ10,\"AF5\")+COUNTIF(M10:AQ10,\"AF6\")+COUNTIF(M10:AQ10,\"AF7\")+COUNTIF(M10:AQ10,\"AF8\")+COUNTIF(M10:AQ10,\"AF9\")+COUNTIF(M10:AQ10,\"AF10\")+COUNTIF(M10:AQ10,\"AF11\")+COUNTIF(M10:AQ10,\"AF12\")+COUNTIF(M10:AQ10,\"AF13\")+COUNTIF(M10:AQ10,\"AF14\"),\"\")","v":0},{"$f":"IF(A10<>\"\",COUNTIF(M10:AQ10,\"CH*\")+COUNTIF(M10:AQ10,\"L*\")+COUNTIF(M10:AQ10,\"LM\")+COUNTIF(M10:AQ10,\"LP\")+COUNTIF(M10:AQ10,\"LC\")+COUNTIF(M10:AQ10,\"AB*\")+COUNTIF(M10:AQ10,\"AF1\")+COUNTIF(M10:AQ10,\"AF2\")+COUNTIF(M10:AQ10,\"AF3\")+COUNTIF(M10:AQ10,\"AF4\")+COUNTIF(M10:AQ10,\"AF5\")+COUNTIF(M10:AQ10,\"AF6\")+COUNTIF(M10:AQ10,\"AF7\")+COUNTIF(M10:AQ10,\"AF8\")+COUNTIF(M10:AQ10,\"AF9\")+COUNTIF(M10:AQ10,\"AF10\")+COUNTIF(M10:AQ10,\"AF11\")+COUNTIF(M10:AQ10,\"AF12\")+COUNTIF(M10:AQ10,\"AF13\")+COUNTIF(M10:AQ10,\"AF14\")+COUNTIF(M10:AQ10,\"RC\")+COUNTIF(M10:AQ10,\"FO\")+COUNTIF(M10:AQ10,\"FE\"),\"\")","v":0}]
["FULANO 3",3,null,null,null,null,null,null,null,null,null,null,null,null,null,null,null,null,null,null,null,null,null,null,null,null,null,null,null,null,null,null,null,null,null,null,null,null,null,null,null,null,null,{"$f":"IF(A11<>\"\",IFERROR(VLOOKUP(M11,Tabelas!B:D,3,0),0),\"\")","v":0},{"$f":"IF(A11<>\"\",IFERROR(VLOOKUP(N11,Tabelas!B:D,3,0),0),\"\")","v":0},{"$f":"IF(A11<>\"\",IFERROR(VLOOKUP(O11,Tabelas!B:D,3,0),0),\"\")","v":0},{"$f":"IF(A11<>\"\",IFERROR(VLOOKUP(P11,Tabelas!B:D,3,0),0),\"\")","v":0},{"$f":"IF(A11<>\"\",IFERROR(VLOOKUP(Q11,Tabelas!B:D,3,0),0),\"\")","v":0},{"$f":"IF(A11<>\"\",IFERROR(VLOOKUP(R11,Tabelas!B:D,3,0),0),\"\")","v":0},{"$f":"IF(A11<>\"\",IFERROR(VLOOKUP(S11,Tabelas!B:D,3,0),0),\"\")","v":0},{"$f":"IF(A11<>\"\",IFERROR(VLOOKUP(T11,Tabelas!B:D,3,0),0),\"\")","v":0},{"$f":"IF(A11<>\"\",IFERROR(VLOOKUP(U11,Tabelas!B:D,3,0),0),\"\")","v":0},{"$f":"IF(A11<>\"\",IFERROR(VLOOKUP(V11,Tabelas!B:D,3,0),0),\"\")","v":0},{"$f":"IF(A11<>\"\",IFERROR(VLOOKUP(W11,Tabelas!B:D,3,0),0),\"\")","v":0},{"$f":"IF(A11<>\"\",IFERROR(VLOOKUP(X11,Tabelas!B:D,3,0),0),\"\")","v":0},{"$f":"IF(A11<>\"\",IFERROR(VLOOKUP(Y11,Tabelas!B:D,3,0),0),\"\")","v":0},{"$f":"IF(A11<>\"\",IFERROR(VLOOKUP(Z11,Tabelas!B:D,3,0),0),\"\")","v":0},{"$f":"IF(A11<>\"\",IFERROR(VLOOKUP(AA11,Tabelas!B:D,3,0),0),\"\")","v":0},{"$f":"IF(A11<>\"\",IFERROR(VLOOKUP(AB11,Tabelas!B:D,3,0),0),\"\")","v":0},{"$f":"IF(A11<>\"\",IFERROR(VLOOKUP(AC11,Tabelas!B:D,3,0),0),\"\")","v":0},{"$f":"IF(A11<>\"\",IFERROR(VLOOKUP(AD11,Tabelas!B:D,3,0),0),\"\")","v":0},{"$f":"IF(A11<>\"\",IFERROR(VLOOKUP(AE11,Tabelas!B:D,3,0),0),\"\")","v":0},{"$f":"IF(A11<>\"\",IFERROR(VLOOKUP(AF11,Tabelas!B:D,3,0),0),\"\")","v":0},{"$f":"IF(A11<>\"\",IFERROR(VLOOKUP(AG11,Tabelas!B:D,3,0),0),\"\")","v":0},{"$f":"IF(A11<>\"\",IFERROR(VLOOKUP(AH11,Tabelas!B:D,3,0),0),\"\")","v":0},{"$f":"IF(A11<>\"\",IFERROR(VLOOKUP(AI11,Tabelas!B:D,3,0),0),\"\")","v":0},{"$f":"IF(A11<>\"\",IFERROR(VLOOKUP(AJ11,Tabelas!B:D,3,0),0),\"\")","v":0},{"$f":"IF(A11<>\"\",IFERROR(VLOOKUP(AK11,Tabelas!B:D,3,0),0),\"\")","v":0},{"$f":"IF(A11<>\"\",IFERROR(VLOOKUP(AL11,Tabelas!B:D,3,0),0),\"\")","v":0},{"$f":"IF(A11<>\"\",IFERROR(VLOOKUP(AM11,Tabelas!B:D,3,0),0),\"\")","v":0},{"$f":"IF(A11<>\"\",IFERROR(VLOOKUP(AN11,Tabelas!B:D,3,0),0),\"\")","v":0},{"$f":"IF(A11<>\"\",IFERROR(VLOOKUP(AO11,Tabelas!B:D,3,0),0),\"\")","v":0},{"$f":"IF(A11<>\"\",IFERROR(VLOOKUP(AP11,Tabelas!B:D,3,0),0),\"\")","v":0},{"$f":"IF(A11<>\"\",IFERROR(VLOOKUP(AQ11,Tabelas!B:D,3,0),0),\"\")","v":0},0,0,0,0,0,0,0,0]
["FULANO 4",4,null,null,null,null,null,null,null,null,null,null,null,null,null,null,null,null,null,null,null,null,null,null,null,null,null,null,null,null,null,null,null,null,null,null,null,null,null,null,null,null,null,{"$f":"IF(A12<>\"\",IFERROR(VLOOKUP(M12,Tabelas!B:D,3,0),0),\"\")","v":0},{"$f":"IF(A12<>\"\",IFERROR(VLOOKUP(N12,Tabelas!B:D,3,0),0),\"\")","v":0},{"$f":"IF(A12<>\"\",IFERROR(VLOOKUP(O12,Tabelas!B:D,3,0),0),\"\")","v":0},{"$f":"IF(A12<>\"\",IFERROR(VLOOKUP(P12,Tabelas!B:D,3,0),0),\"\")","v":0},{"$f":"IF(A12<>\"\",IFERROR(VLOOKUP(Q12,Tabelas!B:D,3,0),0),\"\")","v":0},{"$f":"IF(A12<>\"\",IFERROR(VLOOKUP(R12,Tabelas!B:D,3,0),0),\"\")","v":0},{"$f":"IF(A12<>\"\",IFERROR(VLOOKUP(S12,Tabelas!B:D,3,0),0),\"\")","v":0},{"$f":"IF(A12<>\"\",IFERROR(VLOOKUP(T12,Tabelas!B:D,3,0),0),\"\")","v":0},{"$f":"IF(A12<>\"\",IFERROR(VLOOKUP(U12,Tabelas!B:D,3,0),0),\"\")","v":0},{"$f":"IF(A12<>\"\",IFERROR(VLOOKUP(V12,Tabelas!B:D,3,0),0),\"\")","v":0},{"$f":"IF(A12<>\"\",IFERROR(VLOOKUP(W12,Tabelas!B:D,3,0),0),\"\")","v":0},{"$f":"IF(A12<>\"\",IFERROR(VLOOKUP(X12,Tabelas!B:D,3,0),0),\"\")","v":0},{"$f":"IF(A12<>\"\",IFERROR(VLOOKUP(Y12,Tabelas!B:D,3,0),0),\"\")","v":0},{"$f":"IF(A12<>\"\",IFERROR(VLOOKUP(Z12,Tabelas!B:D,3,0),0),\"\")","v":0},{"$f":"IF(A12<>\"\",IFERROR(VLOOKUP(AA12,Tabelas!B:D,3,0),0),\"\")","v":0},{"$f":"IF(A12<>\"\",IFERROR(VLOOKUP(AB12,Tabelas!B:D,3,0),0),\"\")","v":0},{"$f":"IF(A12<>\"\",IFERROR(VLOOKUP(AC12,Tabelas!B:D,3,0),0),\"\")","v":0},{"$f":"IF(A12<>\"\",IFERROR(VLOOKUP(AD12,Tabelas!B:D,3,0),0),\"\")","v":0},{"$f":"IF(A12<>\"\",IFERROR(VLOOKUP(AE12,Tabelas!B:D,3,0),0),\"\")","v":0},{"$f":"IF(A12<>\"\",IFERROR(VLOOKUP(AF12,Tabelas!B:D,3,0),0),\"\")","v":0},{"$f":"IF(A12<>\"\",IFERROR(VLOOKUP(AG12,Tabelas!B:D,3,0),0),\"\")","v":0},{"$f":"IF(A12<>\"\",IFERROR(VLOOKUP(AH12,Tabelas!B:D,3,0),0),\"\")","v":0},{"$f":"IF(A12<>\"\",IFERROR(VLOOKUP(AI12,Tabelas!B:D,3,0),0),\"\")","v":0},{"$f":"IF(A12<>\"\",IFERROR(VLOOKUP(AJ12,Tabelas!B:D,3,0),0),\"\")","v":0},{"$f":"IF(A12<>\"\",IFERROR(VLOOKUP(AK12,Tabelas!B:D,3,0),0),\"\")","v":0},{"$f":"IF(A12<>\"\",IFERROR(VLOOKUP(AL12,Tabelas!B:D,3,0),0),\"\")","v":0},{"$f":"IF(A12<>\"\",IFERROR(VLOOKUP(AM12,Tabelas!B:D,3,0),0),\"\")","v":0},{"$f":"IF(A12<>\"\",IFERROR(VLOOKUP(AN12,Tabelas!B:D,3,0),0),\"\")","v":0},{"$f":"IF(A12<>\"\",IFERROR(VLOOKUP(AO12,Tabelas!B:D,3,0),0),\"\")","v":0},{"$f":"IF(A12<>\"\",IFERROR(VLOOKUP(AP12,Tabelas!B:D,3,0),0),\"\")","v":0},{"$f":"IF(A12<>\"\",IFERROR(VLOOKUP(AQ12,Tabelas!B:D,3,0),0),\"\")","v":0},0,0,0,0,0,0,0,0]
["FULANO 5",5,null,null,null,null,null,null,null,null,null,null,null,null,null,null,null,null,null,null,null,null,null,null,null,null,null,null,null,null,null,null,null,null,null,null,null,null,null,null,null,null,null,{"$f":"IF(A13<>\"\",IFERROR(VLOOKUP(M13,Tabelas!B:D,3,0),0),\"\")","v":0},{"$f":"IF(A13<>\"\",IFERROR(VLOOKUP(N13,Tabelas!B:D,3,0),0),\"\")","v":0},{"$f":"IF(A13<>\"\",IFERROR(VLOOKUP(O13,Tabelas!B:D,3,0),0),\"\")","v":0},{"$f":"IF(A13<>\"\",IFERROR(VLOOKUP(P13,Tabelas!B:D,3,0),0),\"\")","v":0},{"$f":"IF(A13<>\"\",IFERROR(VLOOKUP(Q13,Tabelas!B:D,3,0),0),\"\")","v":0},{"$f":"IF(A13<>\"\",IFERROR(VLOOKUP(R13,Tabelas!B:D,3,0),0),\"\")","v":0},{"$f":"IF(A13<>\"\",IFERROR(VLOOKUP(S13,Tabelas!B:D,3,0),0),\"\")","v":0},{"$f":"IF(A13<>\"\",IFERROR(VLOOKUP(T13,Tabelas!B:D,3,0),0),\"\")","v":0},{"$f":"IF(A13<>\"\",IFERROR(VLOOKUP(U13,Tabelas!B:D,3,0),0),\"\")","v":0},{"$f":"IF(A13<>\"\",IFERROR(VLOOKUP(V13,Tabelas!B:D,3,0),0),\"\")","v":0},{"$f":"IF(A13<>\"\",IFERROR(VLOOKUP(W13,Tabelas!B:D,3,0),0),\"\")","v":0},{"$f":"IF(A13<>\"\",IFERROR(VLOOKUP(X13,Tabelas!B:D,3,0),0),\"\")","v":0},{"$f":"IF(A13<>\"\",IFERROR(VLOOKUP(Y13,Tabelas!B:D,3,0),0),\"\")","v":0},{"$f":"IF(A13<>\"\",IFERROR(VLOOKUP(Z13,Tabelas!B:D,3,0),0),\"\")","v":0},{"$f":"IF(A13<>\"\",IFERROR(VLOOKUP(AA13,Tabelas!B:D,3,0),0),\"\")","v":0},{"$f":"IF(A13<>\"\",IFERROR(VLOOKUP(AB13,Tabelas!B:D,3,0),0),\"\")","v":0},{"$f":"IF(A13<>\"\",IFERROR(VLOOKUP(AC13,Tabelas!B:D,3,0),0),\"\")","v":0},{"$f":"IF(A13<>\"\",IFERROR(VLOOKUP(AD13,Tabelas!B:D,3,0),0),\"\")","v":0},{"$f":"IF(A13<>\"\",IFERROR(VLOOKUP(AE13,Tabelas!B:D,3,0),0),\"\")","v":0},{"$f":"IF(A13<>\"\",IFERROR(VLOOKUP(AF13,Tabelas!B:D,3,0),0),\"\")","v":0},{"$f":"IF(A13<>\"\",IFERROR(VLOOKUP(AG13,Tabelas!B:D,3,0),0),\"\")","v":0},{"$f":"IF(A13<>\"\",IFERROR(VLOOKUP(AH13,Tabelas!B:D,3,0),0),\"\")","v":0},{"$f":"IF(A13<>\"\",IFERROR(VLOOKUP(AI13,Tabelas!B:D,3,0),0),\"\")","v":0},{"$f":"IF(A13<>\"\",IFERROR(VLOOKUP(AJ13,Tabelas!B:D,3,0),0),\"\")","v":0},{"$f":"IF(A13<>\"\",IFERROR(VLOOKUP(AK13,Tabelas!B:D,3,0),0),\"\")","v":0},{"$f":"IF(A13<>\"\",IFERROR(VLOOKUP(AL13,Tabelas!B:D,3,0),0),\"\")","v":0},{"$f":"IF(A13<>\"\",IFERROR(VLOOKUP(AM13,Tabelas!B:D,3,0),0),\"\")","v":0},{"$f":"IF(A13<>\"\",IFERROR(VLOOKUP(AN13,Tabelas!B:D,3,0),0),\"\")","v":0},{"$f":"IF(A13<>\"\",IFERROR(VLOOKUP(AO13,Tabelas!B:D,3,0),0),\"\")","v":0},{"$f":"IF(A13<>\"\",IFERROR(VLOOKUP(AP13,Tabelas!B:D,3,0),0),\"\")","v":0},{"$f":"IF(A13<>\"\",IFERROR(VLOOKUP(AQ13,Tabelas!B:D,3,0),0),\"\")","v":0},0,0,0,0,0,0,0,0]
["FULANO 6",6,null,null,null,null,null,null,null,null,null,null,null,null,null,null,null,null,null,null,null,null,null,null,null,null,null,null,null,null,null,null,null,null,null,null,null,null,null,null,null,null,null,{"$f":"IF(A14<>\"\",IFERROR(VLOOKUP(M14,Tabelas!B:D,3,0),0),\"\")","v":0},{"$f":"IF(A14<>\"\",IFERROR(VLOOKUP(N14,Tabelas!B:D,3,0),0),\"\")","v":0},{"$f":"IF(A14<>\"\",IFERROR(VLOOKUP(O14,Tabelas!B:D,3,0),0),\"\")","v":0},{"$f":"IF(A14<>\"\",IFERROR(VLOOKUP(P14,Tabelas!B:D,3,0),0),\"\")","v":0},{"$f":"IF(A14<>\"\",IFERROR(VLOOKUP(Q14,Tabelas!B:D,3,0),0),\"\")","v":0},{"$f":"IF(A14<>\"\",IFERROR(VLOOKUP(R14,Tabelas!B:D,3,0),0),\"\")","v":0},{"$f":"IF(A14<>\"\",IFERROR(VLOOKUP(S14,Tabelas!B:D,3,0),0),\"\")","v":0},{"$f":"IF(A14<>\"\",IFERROR(VLOOKUP(T14,Tabelas!B:D,3,0),0),\"\")","v":0},{"$f":"IF(A14<>\"\",IFERROR(VLOOKUP(U14,Tabelas!B:D,3,0),0),\"\")","v":0},{"$f":"IF(A14<>\"\",IFERROR(VLOOKUP(V14,Tabelas!B:D,3,0),0),\"\")","v":0},{"$f":"IF(A14<>\"\",IFERROR(VLOOKUP(W14,Tabelas!B:D,3,0),0),\"\")","v":0},{"$f":"IF(A14<>\"\",IFERROR(VLOOKUP(X14,Tabelas!B:D,3,0),0),\"\")","v":0},{"$f":"IF(A14<>\"\",IFERROR(VLOOKUP(Y14,Tabelas!B:D,3,0),0),\"\")","v":0},{"$f":"IF(A14<>\"\",IFERROR(VLOOKUP(Z14,Tabelas!B:D,3,0),0),\"\")","v":0},{"$f":"IF(A14<>\"\",IFERROR(VLOOKUP(AA14,Tabelas!B:D,3,0),0),\"\")","v":0},{"$f":"IF(A14<>\"\",IFERROR(VLOOKUP(AB14,Tabelas!B:D,3,0),0),\"\")","v":0},{"$f":"IF(A14<>\"\",IFERROR(VLOOKUP(AC14,Tabelas!B:D,3,0),0),\"\")","v":0},{"$f":"IF(A14<>\"\",IFERROR(VLOOKUP(AD14,Tabelas!B:D,3,0),0),\"\")","v":0},{"$f":"IF(A14<>\"\",IFERROR(VLOOKUP(AE14,Tabelas!B:D,3,0),0),\"\")","v":0},{"$f":"IF(A14<>\"\",IFERROR(VLOOKUP(AF14,Tabelas!B:D,3,0),0),\"\")","v":0},{"$f":"IF(A14<>\"\",IFERROR(VLOOKUP(AG14,Tabelas!B:D,3,0),0),\"\")","v":0},{"$f":"IF(A14<>\"\",IFERROR(VLOOKUP(AH14,Tabelas!B:D,3,0),0),\"\")","v":0},{"$f":"IF(A14<>\"\",IFERROR(VLOOKUP(AI14,Tabelas!B:D,3,0),0),\"\")","v":0},{"$f":"IF(A14<>\"\",IFERROR(VLOOKUP(AJ14,Tabelas!B:D,3,0),0),\"\")","v":0},{"$f":"IF(A14<>\"\",IFERROR(VLOOKUP(AK14,Tabelas!B:D,3,0),0),\"\")","v":0},{"$f":"IF(A14<>\"\",IFERROR(VLOOKUP(AL14,Tabelas!B:D,3,0),0),\"\")","v":0},{"$f":"IF(A14<>\"\",IFERROR(VLOOKUP(AM14,Tabelas!B:D,3,0),0),\"\")","v":0},{"$f":"IF(A14<>\"\",IFERROR(VLOOKUP(AN14,Tabelas!B:D,3,0),0),\"\")","v":0},{"$f":"IF(A14<>\"\",IFERROR(VLOOKUP(AO14,Tabelas!B:D,3,0),0),\"\")","v":0},{"$f":"IF(A14<>\"\",IFERROR(VLOOKUP(AP14,Tabelas!B:D,3,0),0),\"\")","v":0},{"$f":"IF(A14<>\"\",IFERROR(VLOOKUP(AQ14,Tabelas!B:D,3,0),0),\"\")","v":0},0,0,0,0,0,0,0,0]
["FULANO 7",7,null,null,null,null,null,null,null,null,null,null,null,null,null,null,null,null,null,null,null,null,null,null,null,null,null,null,null,null,null,null,null,null,null,null,null,null,null,null,null,null,null,{"$f":"IF(A15<>\"\",IFERROR(VLOOKUP(M15,Tabelas!B:D,3,0),0),\"\")","v":0},{"$f":"IF(A15<>\"\",IFERROR(VLOOKUP(N15,Tabelas!B:D,3,0),0),\"\")","v":0},{"$f":"IF(A15<>\"\",IFERROR(VLOOKUP(O15,Tabelas!B:D,3,0),0),\"\")","v":0},{"$f":"IF(A15<>\"\",IFERROR(VLOOKUP(P15,Tabelas!B:D,3,0),0),\"\")","v":0},{"$f":"IF(A15<>\"\",IFERROR(VLOOKUP(Q15,Tabelas!B:D,3,0),0),\"\")","v":0},{"$f":"IF(A15<>\"\",IFERROR(VLOOKUP(R15,Tabelas!B:D,3,0),0),\"\")","v":0},{"$f":"IF(A15<>\"\",IFERROR(VLOOKUP(S15,Tabelas!B:D,3,0),0),\"\")","v":0},{"$f":"IF(A15<>\"\",IFERROR(VLOOKUP(T15,Tabelas!B:D,3,0),0),\"\")","v":0},{"$f":"IF(A15<>\"\",IFERROR(VLOOKUP(U15,Tabelas!B:D,3,0),0),\"\")","v":0},{"$f":"IF(A15<>\"\",IFERROR(VLOOKUP(V15,Tabelas!B:D,3,0),0),\"\")","v":0},{"$f":"IF(A15<>\"\",IFERROR(VLOOKUP(W15,Tabelas!B:D,3,0),0),\"\")","v":0},{"$f":"IF(A15<>\"\",IFERROR(VLOOKUP(X15,Tabelas!B:D,3,0),0),\"\")","v":0},{"$f":"IF(A15<>\"\",IFERROR(VLOOKUP(Y15,Tabelas!B:D,3,0),0),\"\")","v":0},{"$f":"IF(A15<>\"\",IFERROR(VLOOKUP(Z15,Tabelas!B:D,3,0),0),\"\")","v":0},{"$f":"IF(A15<>\"\",IFERROR(VLOOKUP(AA15,Tabelas!B:D,3,0),0),\"\")","v":0},{"$f":"IF(A15<>\"\",IFERROR(VLOOKUP(AB15,Tabelas!B:D,3,0),0),\"\")","v":0},{"$f":"IF(A15<>\"\",IFERROR(VLOOKUP(AC15,Tabelas!B:D,3,0),0),\"\")","v":0},{"$f":"IF(A15<>\"\",IFERROR(VLOOKUP(AD15,Tabelas!B:D,3,0),0),\"\")","v":0},{"$f":"IF(A15<>\"\",IFERROR(VLOOKUP(AE15,Tabelas!B:D,3,0),0),\"\")","v":0},{"$f":"IF(A15<>\"\",IFERROR(VLOOKUP(AF15,Tabelas!B:D,3,0),0),\"\")","v":0},{"$f":"IF(A15<>\"\",IFERROR(VLOOKUP(AG15,Tabelas!B:D,3,0),0),\"\")","v":0},{"$f":"IF(A15<>\"\",IFERROR(VLOOKUP(AH15,Tabelas!B:D,3,0),0),\"\")","v":0},{"$f":"IF(A15<>\"\",IFERROR(VLOOKUP(AI15,Tabelas!B:D,3,0),0),\"\")","v":0},{"$f":"IF(A15<>\"\",IFERROR(VLOOKUP(AJ15,Tabelas!B:D,3,0),0),\"\")","v":0},{"$f":"IF(A15<>\"\",IFERROR(VLOOKUP(AK15,Tabelas!B:D,3,0),0),\"\")","v":0},{"$f":"IF(A15<>\"\",IFERROR(VLOOKUP(AL15,Tabelas!B:D,3,0),0),\"\")","v":0},{"$f":"IF(A15<>\"\",IFERROR(VLOOKUP(AM15,Tabelas!B:D,3,0),0),\"\")","v":0},{"$f":"IF(A15<>\"\",IFERROR(VLOOKUP(AN15,Tabelas!B:D,3,0),0),\"\")","v":0},{"$f":"IF(A15<>\"\",IFERROR(VLOOKUP(AO15,Tabelas!B:D,3,0),0),\"\")","v":0},{"$f":"IF(A15<>\"\",IFERROR(VLOOKUP(AP15,Tabelas!B:D,3,0),0),\"\")","v":0},{"$f":"IF(A15<>\"\",IFERROR(VLOOKUP(AQ15,Tabelas!B:D,3,0),0),\"\")","v":0},0,0,0,0,0,0,0,0]
["FULANO 8",8,null,null,null,null,null,null,null,null,null,null,null,null,null,null,null,null,null,null,null,null,null,null,null,null,null,null,null,null,null,null,null,null,null,null,null,null,null,null,null,null,null,{"$f":"IF(A16<>\"\",IFERROR(VLOOKUP(M16,Tabelas!B:D,3,0),0),\"\")","v":0},{"$f":"IF(A16<>\"\",IFERROR(VLOOKUP(N16,Tabelas!B:D,3,0),0),\"\")","v":0},{"$f":"IF(A16<>\"\",IFERROR(VLOOKUP(O16,Tabelas!B:D,3,0),0),\"\")","v":0},{"$f":"IF(A16<>\"\",IFERROR(VLOOKUP(P16,Tabelas!B:D,3,0),0),\"\")","v":0},{"$f":"IF(A16<>\"\",IFERROR(VLOOKUP(Q16,Tabelas!B:D,3,0),0),\"\")","v":0},{"$f":"IF(A16<>\"\",IFERROR(VLOOKUP(R16,Tabelas!B:D,3,0),0),\"\")","v":0},{"$f":"IF(A16<>\"\",IFERROR(VLOOKUP(S16,Tabelas!B:D,3,0),0),\"\")","v":0},{"$f":"IF(A16<>\"\",IFERROR(VLOOKUP(T16,Tabelas!B:D,3,0),0),\"\")","v":0},{"$f":"IF(A16<>\"\",IFERROR(VLOOKUP(U16,Tabelas!B:D,3,0),0),\"\")","v":0},{"$f":"IF(A16<>\"\",IFERROR(VLOOKUP(V16,Tabelas!B:D,3,0),0),\"\")","v":0},{"$f":"IF(A16<>\"\",IFERROR(VLOOKUP(W16,Tabelas!B:D,3,0),0),\"\")","v":0},{"$f":"IF(A16<>\"\",IFERROR(VLOOKUP(X16,Tabelas!B:D,3,0),0),\"\")","v":0},{"$f":"IF(A16<>\"\",IFERROR(VLOOKUP(Y16,Tabelas!B:D,3,0),0),\"\")","v":0},{"$f":"IF(A16<>\"\",IFERROR(VLOOKUP(Z16,Tabelas!B:D,3,0),0),\"\")","v":0},{"$f":"IF(A16<>\"\",IFERROR(VLOOKUP(AA16,Tabelas!B:D,3,0),0),\"\")","v":0},{"$f":"IF(A16<>\"\",IFERROR(VLOOKUP(AB16,Tabelas!B:D,3,0),0),\"\")","v":0},{"$f":"IF(A16<>\"\",IFERROR(VLOOKUP(AC16,Tabelas!B:D,3,0),0),\"\")","v":0},{"$f":"IF(A16<>\"\",IFERROR(VLOOKUP(AD16,Tabelas!B:D,3,0),0),\"\")","v":0},{"$f":"IF(A16<>\"\",IFERROR(VLOOKUP(AE16,Tabelas!B:D,3,0),0),\"\")","v":0},{"$f":"IF(A16<>\"\",IFERROR(VLOOKUP(AF16,Tabelas!B:D,3,0),0),\"\")","v":0},{"$f":"IF(A16<>\"\",IFERROR(VLOOKUP(AG16,Tabelas!B:D,3,0),0),\"\")","v":0},{"$f":"IF(A16<>\"\",IFERROR(VLOOKUP(AH16,Tabelas!B:D,3,0),0),\"\")","v":0},{"$f":"IF(A16<>\"\",IFERROR(VLOOKUP(AI16,Tabelas!B:D,3,0),0),\"\")","v":0},{"$f":"IF(A16<>\"\",IFERROR(VLOOKUP(AJ16,Tabelas!B:D,3,0),0),\"\")","v":0},{"$f":"IF(A16<>\"\",IFERROR(VLOOKUP(AK16,Tabelas!B:D,3,0),0),\"\")","v":0},{"$f":"IF(A16<>\"\",IFERROR(VLOOKUP(AL16,Tabelas!B:D,3,0),0),\"\")","v":0},{"$f":"IF(A16<>\"\",IFERROR(VLOOKUP(AM16,Tabelas!B:D,3,0),0),\"\")","v":0},{"$f":"IF(A16<>\"\",IFERROR(VLOOKUP(AN16,Tabelas!B:D,3,0),0),\"\")","v":0},{"$f":"IF(A16<>\"\",IFERROR(VLOOKUP(AO16,Tabelas!B:D,3,0),0),\"\")","v":0},{"$f":"IF(A16<>\"\",IFERROR(VLOOKUP(AP16,Tabelas!B:D,3,0),0),\"\")","v":0},{"$f":"IF(A16<>\"\",IFERROR(VLOOKUP(AQ16,Tabelas!B:D,3,0),0),\"\")","v":0},0,0,0,0,0,0,0,0]
["FULANO 9",9,null,null,null,null,null,null,null,null,null,null,null,null,null,null,null,null,null,null,null,null,null,null,null,null,null,null,null,null,null,null,null,null,null,null,null,null,null,null,null,null,null,{"$f":"IF(A17<>\"\",IFERROR(VLOOKUP(M17,Tabelas!B:D,3,0),0),\"\")","v":0},{"$f":"IF(A17<>\"\",IFERROR(VLOOKUP(N17,Tabelas!B:D,3,0),0),\"\")","v":0},{"$f":"IF(A17<>\"\",IFERROR(VLOOKUP(O17,Tabelas!B:D,3,0),0),\"\")","v":0},{"$f":"IF(A17<>\"\",IFERROR(VLOOKUP(P17,Tabelas!B:D,3,0),0),\"\")","v":0},{"$f":"IF(A17<>\"\",IFERROR(VLOOKUP(Q17,Tabelas!B:D,3,0),0),\"\")","v":0},{"$f":"IF(A17<>\"\",IFERROR(VLOOKUP(R17,Tabelas!B:D,3,0),0),\"\")","v":0},{"$f":"IF(A17<>\"\",IFERROR(VLOOKUP(S17,Tabelas!B:D,3,0),0),\"\")","v":0},{"$f":"IF(A17<>\"\",IFERROR(VLOOKUP(T17,Tabelas!B:D,3,0),0),\"\")","v":0},{"$f":"IF(A17<>\"\",IFERROR(VLOOKUP(U17,Tabelas!B:D,3,0),0),\"\")","v":0},{"$f":"IF(A17<>\"\",IFERROR(VLOOKUP(V17,Tabelas!B:D,3,0),0),\"\")","v":0},{"$f":"IF(A17<>\"\",IFERROR(VLOOKUP(W17,Tabelas!B:D,3,0),0),\"\")","v":0},{"$f":"IF(A17<>\"\",IFERROR(VLOOKUP(X17,Tabelas!B:D,3,0),0),\"\")","v":0},{"$f":"IF(A17<>\"\",IFERROR(VLOOKUP(Y17,Tabelas!B:D,3,0),0),\"\")","v":0},{"$f":"IF(A17<>\"\",IFERROR(VLOOKUP(Z17,Tabelas!B:D,3,0),0),\"\")","v":0},{"$f":"IF(A17<>\"\",IFERROR(VLOOKUP(AA17,Tabelas!B:D,3,0),0),\"\")","v":0},{"$f":"IF(A17<>\"\",IFERROR(VLOOKUP(AB17,Tabelas!B:D,3,0),0),\"\")","v":0},{"$f":"IF(A17<>\"\",IFERROR(VLOOKUP(AC17,Tabelas!B:D,3,0),0),\"\")","v":0},{"$f":"IF(A17<>\"\",IFERROR(VLOOKUP(AD17,Tabelas!B:D,3,0),0),\"\")","v":0},{"$f":"IF(A17<>\"\",IFERROR(VLOOKUP(AE17,Tabelas!B:D,3,0),0),\"\")","v":0},{"$f":"IF(A17<>\"\",IFERROR(VLOOKUP(AF17,Tabelas!B:D,3,0),0),\"\")","v":0},{"$f":"IF(A17<>\"\",IFERROR(VLOOKUP(AG17,Tabelas!B:D,3,0),0),\"\")","v":0},{"$f":"IF(A17<>\"\",IFERROR(VLOOKUP(AH17,Tabelas!B:D,3,0),0),\"\")","v":0},{"$f":"IF(A17<>\"\",IFERROR(VLOOKUP(AI17,Tabelas!B:D,3,0),0),\"\")","v":0},{"$f":"IF(A17<>\"\",IFERROR(VLOOKUP(AJ17,Tabelas!B:D,3,0),0),\"\")","v":0},{"$f":"IF(A17<>\"\",IFERROR(VLOOKUP(AK17,Tabelas!B:D,3,0),0),\"\")","v":0},{"$f":"IF(A17<>\"\",IFERROR(VLOOKUP(AL17,Tabelas!B:D,3,0),0),\"\")","v":0},{"$f":"IF(A17<>\"\",IFERROR(VLOOKUP(AM17,Tabelas!B:D,3,0),0),\"\")","v":0},{"$f":"IF(A17<>\"\",IFERROR(VLOOKUP(AN17,Tabelas!B:D,3,0),0),\"\")","v":0},{"$f":"IF(A17<>\"\",IFERROR(VLOOKUP(AO17,Tabelas!B:D,3,0),0),\"\")","v":0},{"$f":"IF(A17<>\"\",IFERROR(VLOOKUP(AP17,Tabelas!B:D,3,0),0),\"\")","v":0},{"$f":"IF(A17<>\"\",IFERROR(VLOOKUP(AQ17,Tabelas!B:D,3,0),0),\"\")","v":0},0,0,0,0,0,0,0,0]
["FULANO 10",10,null,null,null,null,null,null,null,null,null,null,null,null,null,null,null,null,null,null,null,null,null,null,null,null,null,null,null,null,null,null,null,null,null,null,null,null,null,null,null,null,null,{"$f":"IF(A18<>\"\",IFERROR(VLOOKUP(M18,Tabelas!B:D,3,0),0),\"\")","v":0},{"$f":"IF(A18<>\"\",IFERROR(VLOOKUP(N18,Tabelas!B:D,3,0),0),\"\")","v":0},{"$f":"IF(A18<>\"\",IFERROR(VLOOKUP(O18,Tabelas!B:D,3,0),0),\"\")","v":0},{"$f":"IF(A18<>\"\",IFERROR(VLOOKUP(P18,Tabelas!B:D,3,0),0),\"\")","v":0},{"$f":"IF(A18<>\"\",IFERROR(VLOOKUP(Q18,Tabelas!B:D,3,0),0),\"\")","v":0},{"$f":"IF(A18<>\"\",IFERROR(VLOOKUP(R18,Tabelas!B:D,3,0),0),\"\")","v":0},{"$f":"IF(A18<>\"\",IFERROR(VLOOKUP(S18,Tabelas!B:D,3,0),0),\"\")","v":0},{"$f":"IF(A18<>\"\",IFERROR(VLOOKUP(T18,Tabelas!B:D,3,0),0),\"\")","v":0},{"$f":"IF(A18<>\"\",IFERROR(VLOOKUP(U18,Tabelas!B:D,3,0),0),\"\")","v":0},{"$f":"IF(A18<>\"\",IFERROR(VLOOKUP(V18,Tabelas!B:D,3,0),0),\"\")","v":0},{"$f":"IF(A18<>\"\",IFERROR(VLOOKUP(W18,Tabelas!B:D,3,0),0),\"\")","v":0},{"$f":"IF(A18<>\"\",IFERROR(VLOOKUP(X18,Tabelas!B:D,3,0),0),\"\")","v":0},{"$f":"IF(A18<>\"\",IFERROR(VLOOKUP(Y18,Tabelas!B:D,3,0),0),\"\")","v":0},{"$f":"IF(A18<>\"\",IFERROR(VLOOKUP(Z18,Tabelas!B:D,3,0),0),\"\")","v":0},{"$f":"IF(A18<>\"\",IFERROR(VLOOKUP(AA18,Tabelas!B:D,3,0),0),\"\")","v":0},{"$f":"IF(A18<>\"\",IFERROR(VLOOKUP(AB18,Tabelas!B:D,3,0),0),\"\")","v":0},{"$f":"IF(A18<>\"\",IFERROR(VLOOKUP(AC18,Tabelas!B:D,3,0),0),\"\")","v":0},{"$f":"IF(A18<>\"\",IFERROR(VLOOKUP(AD18,Tabelas!B:D,3,0),0),\"\")","v":0},{"$f":"IF(A18<>\"\",IFERROR(VLOOKUP(AE18,Tabelas!B:D,3,0),0),\"\")","v":0},{"$f":"IF(A18<>\"\",IFERROR(VLOOKUP(AF18,Tabelas!B:D,3,0),0),\"\")","v":0},{"$f":"IF(A18<>\"\",IFERROR(VLOOKUP(AG18,Tabelas!B:D,3,0),0),\"\")","v":0},{"$f":"IF(A18<>\"\",IFERROR(VLOOKUP(AH18,Tabelas!B:D,3,0),0),\"\")","v":0},{"$f":"IF(A18<>\"\",IFERROR(VLOOKUP(AI18,Tabelas!B:D,3,0),0),\"\")","v":0},{"$f":"IF(A18<>\"\",IFERROR(VLOOKUP(AJ18,Tabelas!B:D,3,0),0),\"\")","v":0},{"$f":"IF(A18<>\"\",IFERROR(VLOOKUP(AK18,Tabelas!B:D,3,0),0),\"\")","v":0},{"$f":"IF(A18<>\"\",IFERROR(VLOOKUP(AL18,Tabelas!B:D,3,0),0),\"\")","v":0},{"$f":"IF(A18<>\"\",IFERROR(VLOOKUP(AM18,Tabelas!B:D,3,0),0),\"\")","v":0},{"$f":"IF(A18<>\"\",IFERROR(VLOOKUP(AN18,Tabelas!B:D,3,0),0),\"\")","v":0},{"$f":"IF(A18<>\"\",IFERROR(VLOOKUP(AO18,Tabelas!B:D,3,0),0),\"\")","v":0},{"$f":"IF(A18<>\"\",IFERROR(VLOOKUP(AP18,Tabelas!B:D,3,0),0),\"\")","v":0},{"$f":"IF(A18<>\"\",IFERROR(VLOOKUP(AQ18,Tabelas!B:D,3,0),0),\"\")","v":0},0,0,0,0,0,0,0,0]
["FULANO 11",11,null,null,null,null,null,null,null,null,null,null,null,null,null,null,null,null,null,null,null,null,null,null,null,null,null,null,null,null,null,null,null,null,null,null,null,null,null,null,null,null,null,{"$f":"IF(A19<>\"\",IFERROR(VLOOKUP(M19,Tabelas!B:D,3,0),0),\"\")","v":0},{"$f":"IF(A19<>\"\",IFERROR(VLOOKUP(N19,Tabelas!B:D,3,0),0),\"\")","v":0},{"$f":"IF(A19<>\"\",IFERROR(VLOOKUP(O19,Tabelas!B:D,3,0),0),\"\")","v":0},{"$f":"IF(A19<>\"\",IFERROR(VLOOKUP(P19,Tabelas!B:D,3,0),0),\"\")","v":0},{"$f":"IF(A19<>\"\",IFERROR(VLOOKUP(Q19,Tabelas!B:D,3,0),0),\"\")","v":0},{"$f":"IF(A19<>\"\",IFERROR(VLOOKUP(R19,Tabelas!B:D,3,0),0),\"\")","v":0},{"$f":"IF(A19<>\"\",IFERROR(VLOOKUP(S19,Tabelas!B:D,3,0),0),\"\")","v":0},{"$f":"IF(A19<>\"\",IFERROR(VLOOKUP(T19,Tabelas!B:D,3,0),0),\"\")","v":0},{"$f":"IF(A19<>\"\",IFERROR(VLOOKUP(U19,Tabelas!B:D,3,0),0),\"\")","v":0},{"$f":"IF(A19<>\"\",IFERROR(VLOOKUP(V19,Tabelas!B:D,3,0),0),\"\")","v":0},{"$f":"IF(A19<>\"\",IFERROR(VLOOKUP(W19,Tabelas!B:D,3,0),0),\"\")","v":0},{"$f":"IF(A19<>\"\",IFERROR(VLOOKUP(X19,Tabelas!B:D,3,0),0),\"\")","v":0},{"$f":"IF(A19<>\"\",IFERROR(VLOOKUP(Y19,Tabelas!B:D,3,0),0),\"\")","v":0},{"$f":"IF(A19<>\"\",IFERROR(VLOOKUP(Z19,Tabelas!B:D,3,0),0),\"\")","v":0},{"$f":"IF(A19<>\"\",IFERROR(VLOOKUP(AA19,Tabelas!B:D,3,0),0),\"\")","v":0},{"$f":"IF(A19<>\"\",IFERROR(VLOOKUP(AB19,Tabelas!B:D,3,0),0),\"\")","v":0},{"$f":"IF(A19<>\"\",IFERROR(VLOOKUP(AC19,Tabelas!B:D,3,0),0),\"\")","v":0},{"$f":"IF(A19<>\"\",IFERROR(VLOOKUP(AD19,Tabelas!B:D,3,0),0),\"\")","v":0},{"$f":"IF(A19<>\"\",IFERROR(VLOOKUP(AE19,Tabelas!B:D,3,0),0),\"\")","v":0},{"$f":"IF(A19<>\"\",IFERROR(VLOOKUP(AF19,Tabelas!B:D,3,0),0),\"\")","v":0},{"$f":"IF(A19<>\"\",IFERROR(VLOOKUP(AG19,Tabelas!B:D,3,0),0),\"\")","v":0},{"$f":"IF(A19<>\"\",IFERROR(VLOOKUP(AH19,Tabelas!B:D,3,0),0),\"\")","v":0},{"$f":"IF(A19<>\"\",IFERROR(VLOOKUP(AI19,Tabelas!B:D,3,0),0),\"\")","v":0},{"$f":"IF(A19<>\"\",IFERROR(VLOOKUP(AJ19,Tabelas!B:D,3,0),0),\"\")","v":0},{"$f":"IF(A19<>\"\",IFERROR(VLOOKUP(AK19,Tabelas!B:D,3,0),0),\"\")","v":0},{"$f":"IF(A19<>\"\",IFERROR(VLOOKUP(AL19,Tabelas!B:D,3,0),0),\"\")","v":0},{"$f":"IF(A19<>\"\",IFERROR(VLOOKUP(AM19,Tabelas!B:D,3,0),0),\"\")","v":0},{"$f":"IF(A19<>\"\",IFERROR(VLOOKUP(AN19,Tabelas!B:D,3,0),0),\"\")","v":0},{"$f":"IF(A19<>\"\",IFERROR(VLOOKUP(AO19,Tabelas!B:D,3,0),0),\"\")","v":0},{"$f":"IF(A19<>\"\",IFERROR(VLOOKUP(AP19,Tabelas!B:D,3,0),0),\"\")","v":0},{"$f":"IF(A19<>\"\",IFERROR(VLOOKUP(AQ19,Tabelas!B:D,3,0),0),\"\")","v":0},0,0,0,0,0,0,0,0]
["FULANO 12",12,null,null,null,null,null,null,null,null,null,null,null,null,null,null,null,null,null,null,null,null,null,null,null,null,null,null,null,null,null,null,null,null,null,null,null,null,null,null,null,null,null,{"$f":"IF(A20<>\"\",IFERROR(VLOOKUP(M20,Tabelas!B:D,3,0),0),\"\")","v":0},{"$f":"IF(A20<>\"\",IFERROR(VLOOKUP(N20,Tabelas!B:D,3,0),0),\"\")","v":0},{"$f":"IF(A20<>\"\",IFERROR(VLOOKUP(O20,Tabelas!B:D,3,0),0),\"\")","v":0},{"$f":"IF(A20<>\"\",IFERROR(VLOOKUP(P20,Tabelas!B:D,3,0),0),\"\")","v":0},{"$f":"IF(A20<>\"\",IFERROR(VLOOKUP(Q20,Tabelas!B:D,3,0),0),\"\")","v":0},{"$f":"IF(A20<>\"\",IFERROR(VLOOKUP(R20,Tabelas!B:D,3,0),0),\"\")","v":0},{"$f":"IF(A20<>\"\",IFERROR(VLOOKUP(S20,Tabelas!B:D,3,0),0),\"\")","v":0},{"$f":"IF(A20<>\"\",IFERROR(VLOOKUP(T20,Tabelas!B:D,3,0),0),\"\")","v":0},{"$f":"IF(A20<>\"\",IFERROR(VLOOKUP(U20,Tabelas!B:D,3,0),0),\"\")","v":0},{"$f":"IF(A20<>\"\",IFERROR(VLOOKUP(V20,Tabelas!B:D,3,0),0),\"\")","v":0},{"$f":"IF(A20<>\"\",IFERROR(VLOOKUP(W20,Tabelas!B:D,3,0),0),\"\")","v":0},{"$f":"IF(A20<>\"\",IFERROR(VLOOKUP(X20,Tabelas!B:D,3,0),0),\"\")","v":0},{"$f":"IF(A20<>\"\",IFERROR(VLOOKUP(Y20,Tabelas!B:D,3,0),0),\"\")","v":0},{"$f":"IF(A20<>\"\",IFERROR(VLOOKUP(Z20,Tabelas!B:D,3,0),0),\"\")","v":0},{"$f":"IF(A20<>\"\",IFERROR(VLOOKUP(AA20,Tabelas!B:D,3,0),0),\"\")","v":0},{"$f":"IF(A20<>\"\",IFERROR(VLOOKUP(AB20,Tabelas!B:D,3,0),0),\"\")","v":0},{"$f":"IF(A20<>\"\",IFERROR(VLOOKUP(AC20,Tabelas!B:D,3,0),0),\"\")","v":0},{"$f":"IF(A20<>\"\",IFERROR(VLOOKUP(AD20,Tabelas!B:D,3,0),0),\"\")","v":0},{"$f":"IF(A20<>\"\",IFERROR(VLOOKUP(AE20,Tabelas!B:D,3,0),0),\"\")","v":0},{"$f":"IF(A20<>\"\",IFERROR(VLOOKUP(AF20,Tabelas!B:D,3,0),0),\"\")","v":0},{"$f":"IF(A20<>\"\",IFERROR(VLOOKUP(AG20,Tabelas!B:D,3,0),0),\"\")","v":0},{"$f":"IF(A20<>\"\",IFERROR(VLOOKUP(AH20,Tabelas!B:D,3,0),0),\"\")","v":0},{"$f":"IF(A20<>\"\",IFERROR(VLOOKUP(AI20,Tabelas!B:D,3,0),0),\"\")","v":0},{"$f":"IF(A20<>\"\",IFERROR(VLOOKUP(AJ20,Tabelas!B:D,3,0),0),\"\")","v":0},{"$f":"IF(A20<>\"\",IFERROR(VLOOKUP(AK20,Tabelas!B:D,3,0),0),\"\")","v":0},{"$f":"IF(A20<>\"\",IFERROR(VLOOKUP(AL20,Tabelas!B:D,3,0),0),\"\")","v":0},{"$f":"IF(A20<>\"\",IFERROR(VLOOKUP(AM20,Tabelas!B:D,3,0),0),\"\")","v":0},{"$f":"IF(A20<>\"\",IFERROR(VLOOKUP(AN20,Tabelas!B:D,3,0),0),\"\")","v":0},{"$f":"IF(A20<>\"\",IFERROR(VLOOKUP(AO20,Tabelas!B:D,3,0),0),\"\")","v":0},{"$f":"IF(A20<>\"\",IFERROR(VLOOKUP(AP20,Tabelas!B:D,3,0),0),\"\")","v":0},{"$f":"IF(A20<>\"\",IFERROR(VLOOKUP(AQ20,Tabelas!B:D,3,0),0),\"\")","v":0},0,0,0,0,0,0,0,0]
["FULANO 13",13,null,null,null,null,null,null,null,null,null,null,null,null,null,null,null,null,null,null,null,null,null,null,null,null,null,null,null,null,null,null,null,null,null,null,null,null,null,null,null,null,null,{"$f":"IF(A21<>\"\",IFERROR(VLOOKUP(M21,Tabelas!B:D,3,0),0),\"\")","v":0},{"$f":"IF(A21<>\"\",IFERROR(VLOOKUP(N21,Tabelas!B:D,3,0),0),\"\")","v":0},{"$f":"IF(A21<>\"\",IFERROR(VLOOKUP(O21,Tabelas!B:D,3,0),0),\"\")","v":0},{"$f":"IF(A21<>\"\",IFERROR(VLOOKUP(P21,Tabelas!B:D,3,0),0),\"\")","v":0},{"$f":"IF(A21<>\"\",IFERROR(VLOOKUP(Q21,Tabelas!B:D,3,0),0),\"\")","v":0},{"$f":"IF(A21<>\"\",IFERROR(VLOOKUP(R21,Tabelas!B:D,3,0),0),\"\")","v":0},{"$f":"IF(A21<>\"\",IFERROR(VLOOKUP(S21,Tabelas!B:D,3,0),0),\"\")","v":0},{"$f":"IF(A21<>\"\",IFERROR(VLOOKUP(T21,Tabelas!B:D,3,0),0),\"\")","v":0},{"$f":"IF(A21<>\"\",IFERROR(VLOOKUP(U21,Tabelas!B:D,3,0),0),\"\")","v":0},{"$f":"IF(A21<>\"\",IFERROR(VLOOKUP(V21,Tabelas!B:D,3,0),0),\"\")","v":0},{"$f":"IF(A21<>\"\",IFERROR(VLOOKUP(W21,Tabelas!B:D,3,0),0),\"\")","v":0},{"$f":"IF(A21<>\"\",IFERROR(VLOOKUP(X21,Tabelas!B:D,3,0),0),\"\")","v":0},{"$f":"IF(A21<>\"\",IFERROR(VLOOKUP(Y21,Tabelas!B:D,3,0),0),\"\")","v":0},{"$f":"IF(A21<>\"\",IFERROR(VLOOKUP(Z21,Tabelas!B:D,3,0),0),\"\")","v":0},{"$f":"IF(A21<>\"\",IFERROR(VLOOKUP(AA21,Tabelas!B:D,3,0),0),\"\")","v":0},{"$f":"IF(A21<>\"\",IFERROR(VLOOKUP(AB21,Tabelas!B:D,3,0),0),\"\")","v":0},{"$f":"IF(A21<>\"\",IFERROR(VLOOKUP(AC21,Tabelas!B:D,3,0),0),\"\")","v":0},{"$f":"IF(A21<>\"\",IFERROR(VLOOKUP(AD21,Tabelas!B:D,3,0),0),\"\")","v":0},{"$f":"IF(A21<>\"\",IFERROR(VLOOKUP(AE21,Tabelas!B:D,3,0),0),\"\")","v":0},{"$f":"IF(A21<>\"\",IFERROR(VLOOKUP(AF21,Tabelas!B:D,3,0),0),\"\")","v":0},{"$f":"IF(A21<>\"\",IFERROR(VLOOKUP(AG21,Tabelas!B:D,3,0),0),\"\")","v":0},{"$f":"IF(A21<>\"\",IFERROR(VLOOKUP(AH21,Tabelas!B:D,3,0),0),\"\")","v":0},{"$f":"IF(A21<>\"\",IFERROR(VLOOKUP(AI21,Tabelas!B:D,3,0),0),\"\")","v":0},{"$f":"IF(A21<>\"\",IFERROR(VLOOKUP(AJ21,Tabelas!B:D,3,0),0),\"\")","v":0},{"$f":"IF(A21<>\"\",IFERROR(VLOOKUP(AK21,Tabelas!B:D,3,0),0),\"\")","v":0},{"$f":"IF(A21<>\"\",IFERROR(VLOOKUP(AL21,Tabelas!B:D,3,0),0),\"\")","v":0},{"$f":"IF(A21<>\"\",IFERROR(VLOOKUP(AM21,Tabelas!B:D,3,0),0),\"\")","v":0},{"$f":"IF(A21<>\"\",IFERROR(VLOOKUP(AN21,Tabelas!B:D,3,0),0),\"\")","v":0},{"$f":"IF(A21<>\"\",IFERROR(VLOOKUP(AO21,Tabelas!B:D,3,0),0),\"\")","v":0},{"$f":"IF(A21<>\"\",IFERROR(VLOOKUP(AP21,Tabelas!B:D,3,0),0),\"\")","v":0},{"$f":"IF(A21<>\"\",IFERROR(VLOOKUP(AQ21,Tabelas!B:D,3,0),0),\"\")","v":0},0,0,0,0,0,0,0,0]
["FULANO 14",14,null,null,null,null,null,null,null,null,null,null,null,null,null,null,null,null,null,null,null,null,null,null,null,null,null,null,null,null,null,null,null,null,null,null,null,null,null,null,null,null,null,{"$f":"IF(A22<>\"\",IFERROR(VLOOKUP(M22,Tabelas!B:D,3,0),0),\"\")","v":0},{"$f":"IF(A22<>\"\",IFERROR(VLOOKUP(N22,Tabelas!B:D,3,0),0),\"\")","v":0},{"$f":"IF(A22<>\"\",IFERROR(VLOOKUP(O22,Tabelas!B:D,3,0),0),\"\")","v":0},{"$f":"IF(A22<>\"\",IFERROR(VLOOKUP(P22,Tabelas!B:D,3,0),0),\"\")","v":0},{"$f":"IF(A22<>\"\",IFERROR(VLOOKUP(Q22,Tabelas!B:D,3,0),0),\"\")","v":0},{"$f":"IF(A22<>\"\",IFERROR(VLOOKUP(R22,Tabelas!B:D,3,0),0),\"\")","v":0},{"$f":"IF(A22<>\"\",IFERROR(VLOOKUP(S22,Tabelas!B:D,3,0),0),\"\")","v":0},{"$f":"IF(A22<>\"\",IFERROR(VLOOKUP(T22,Tabelas!B:D,3,0),0),\"\")","v":0},{"$f":"IF(A22<>\"\",IFERROR(VLOOKUP(U22,Tabelas!B:D,3,0),0),\"\")","v":0},{"$f":"IF(A22<>\"\",IFERROR(VLOOKUP(V22,Tabelas!B:D,3,0),0),\"\")","v":0},{"$f":"IF(A22<>\"\",IFERROR(VLOOKUP(W22,Tabelas!B:D,3,0),0),\"\")","v":0},{"$f":"IF(A22<>\"\",IFERROR(VLOOKUP(X22,Tabelas!B:D,3,0),0),\"\")","v":0},{"$f":"IF(A22<>\"\",IFERROR(VLOOKUP(Y22,Tabelas!B:D,3,0),0),\"\")","v":0},{"$f":"IF(A22<>\"\",IFERROR(VLOOKUP(Z22,Tabelas!B:D,3,0),0),\"\")","v":0},{"$f":"IF(A22<>\"\",IFERROR(VLOOKUP(AA22,Tabelas!B:D,3,0),0),\"\")","v":0},{"$f":"IF(A22<>\"\",IFERROR(VLOOKUP(AB22,Tabelas!B:D,3,0),0),\"\")","v":0},{"$f":"IF(A22<>\"\",IFERROR(VLOOKUP(AC22,Tabelas!B:D,3,0),0),\"\")","v":0},{"$f":"IF(A22<>\"\",IFERROR(VLOOKUP(AD22,Tabelas!B:D,3,0),0),\"\")","v":0},{"$f":"IF(A22<>\"\",IFERROR(VLOOKUP(AE22,Tabelas!B:D,3,0),0),\"\")","v":0},{"$f":"IF(A22<>\"\",IFERROR(VLOOKUP(AF22,Tabelas!B:D,3,0),0),\"\")","v":0},{"$f":"IF(A22<>\"\",IFERROR(VLOOKUP(AG22,Tabelas!B:D,3,0),0),\"\")","v":0},{"$f":"IF(A22<>\"\",IFERROR(VLOOKUP(AH22,Tabelas!B:D,3,0),0),\"\")","v":0},{"$f":"IF(A22<>\"\",IFERROR(VLOOKUP(AI22,Tabelas!B:D,3,0),0),\"\")","v":0},{"$f":"IF(A22<>\"\",IFERROR(VLOOKUP(AJ22,Tabelas!B:D,3,0),0),\"\")","v":0},{"$f":"IF(A22<>\"\",IFERROR(VLOOKUP(AK22,Tabelas!B:D,3,0),0),\"\")","v":0},{"$f":"IF(A22<>\"\",IFERROR(VLOOKUP(AL22,Tabelas!B:D,3,0),0),\"\")","v":0},{"$f":"IF(A22<>\"\",IFERROR(VLOOKUP(AM22,Tabelas!B:D,3,0),0),\"\")","v":0},{"$f":"IF(A22<>\"\",IFERROR(VLOOKUP(AN22,Tabelas!B:D,3,0),0),\"\")","v":0},{"$f":"IF(A22<>\"\",IFERROR(VLOOKUP(AO22,Tabelas!B:D,3,0),0),\"\")","v":0},{"$f":"IF(A22<>\"\",IFERROR(VLOOKUP(AP22,Tabelas!B:D,3,0),0),\"\")","v":0},{"$f":"IF(A22<>\"\",IFERROR(VLOOKUP(AQ22,Tabelas!B:D,3,0),0),\"\")","v":0},0,0,0,0,0,0,0,0]
["FULANO 15",15,null,null,null,null,null,null,null,null,null,null,null,null,null,null,null,null,null,null,null,null,null,null,null,null,null,null,null,null,null,null,null,null,null,null,null,null,null,null,null,null,null,{"$f":"IF(A23<>\"\",IFERROR(VLOOKUP(M23,Tabelas!B:D,3,0),0),\"\")","v":0},{"$f":"IF(A23<>\"\",IFERROR(VLOOKUP(N23,Tabelas!B:D,3,0),0),\"\")","v":0},{"$f":"IF(A23<>\"\",IFERROR(VLOOKUP(O23,Tabelas!B:D,3,0),0),\"\")","v":0},{"$f":"IF(A23<>\"\",IFERROR(VLOOKUP(P23,Tabelas!B:D,3,0),0),\"\")","v":0},{"$f":"IF(A23<>\"\",IFERROR(VLOOKUP(Q23,Tabelas!B:D,3,0),0),\"\")","v":0},{"$f":"IF(A23<>\"\",IFERROR(VLOOKUP(R23,Tabelas!B:D,3,0),0),\"\")","v":0},{"$f":"IF(A23<>\"\",IFERROR(VLOOKUP(S23,Tabelas!B:D,3,0),0),\"\")","v":0},{"$f":"IF(A23<>\"\",IFERROR(VLOOKUP(T23,Tabelas!B:D,3,0),0),\"\")","v":0},{"$f":"IF(A23<>\"\",IFERROR(VLOOKUP(U23,Tabelas!B:D,3,0),0),\"\")","v":0},{"$f":"IF(A23<>\"\",IFERROR(VLOOKUP(V23,Tabelas!B:D,3,0),0),\"\")","v":0},{"$f":"IF(A23<>\"\",IFERROR(VLOOKUP(W23,Tabelas!B:D,3,0),0),\"\")","v":0},{"$f":"IF(A23<>\"\",IFERROR(VLOOKUP(X23,Tabelas!B:D,3,0),0),\"\")","v":0},{"$f":"IF(A23<>\"\",IFERROR(VLOOKUP(Y23,Tabelas!B:D,3,0),0),\"\")","v":0},{"$f":"IF(A23<>\"\",IFERROR(VLOOKUP(Z23,Tabelas!B:D,3,0),0),\"\")","v":0},{"$f":"IF(A23<>\"\",IFERROR(VLOOKUP(AA23,Tabelas!B:D,3,0),0),\"\")","v":0},{"$f":"IF(A23<>\"\",IFERROR(VLOOKUP(AB23,Tabelas!B:D,3,0),0),\"\")","v":0},{"$f":"IF(A23<>\"\",IFERROR(VLOOKUP(AC23,Tabelas!B:D,3,0),0),\"\")","v":0},{"$f":"IF(A23<>\"\",IFERROR(VLOOKUP(AD23,Tabelas!B:D,3,0),0),\"\")","v":0},{"$f":"IF(A23<>\"\",IFERROR(VLOOKUP(AE23,Tabelas!B:D,3,0),0),\"\")","v":0},{"$f":"IF(A23<>\"\",IFERROR(VLOOKUP(AF23,Tabelas!B:D,3,0),0),\"\")","v":0},{"$f":"IF(A23<>\"\",IFERROR(VLOOKUP(AG23,Tabelas!B:D,3,0),0),\"\")","v":0},{"$f":"IF(A23<>\"\",IFERROR(VLOOKUP(AH23,Tabelas!B:D,3,0),0),\"\")","v":0},{"$f":"IF(A23<>\"\",IFERROR(VLOOKUP(AI23,Tabelas!B:D,3,0),0),\"\")","v":0},{"$f":"IF(A23<>\"\",IFERROR(VLOOKUP(AJ23,Tabelas!B:D,3,0),0),\"\")","v":0},{"$f":"IF(A23<>\"\",IFERROR(VLOOKUP(AK23,Tabelas!B:D,3,0),0),\"\")","v":0},{"$f":"IF(A23<>\"\",IFERROR(VLOOKUP(AL23,Tabelas!B:D,3,0),0),\"\")","v":0},{"$f":"IF(A23<>\"\",IFERROR(VLOOKUP(AM23,Tabelas!B:D,3,0),0),\"\")","v":0},{"$f":"IF(A23<>\"\",IFERROR(VLOOKUP(AN23,Tabelas!B:D,3,0),0),\"\")","v":0},{"$f":"IF(A23<>\"\",IFERROR(VLOOKUP(AO23,Tabelas!B:D,3,0),0),\"\")","v":0},{"$f":"IF(A23<>\"\",IFERROR(VLOOKUP(AP23,Tabelas!B:D,3,0),0),\"\")","v":0},{"$f":"IF(A23<>\"\",IFERROR(VLOOKUP(AQ23,Tabelas!B:D,3,0),0),\"\")","v":0},0,0,0,0,0,0,0,0]
["FULANO 16",16,null,null,null,null,null,null,null,null,null,null,null,null,null,null,null,null,null,null,null,null,null,null,null,null,null,null,null,null,null,null,null,null,null,null,null,null,null,null,null,null,null,{"$f":"IF(A24<>\"\",IFERROR(VLOOKUP(M24,Tabelas!B:D,3,0),0),\"\")","v":0},{"$f":"IF(A24<>\"\",IFERROR(VLOOKUP(N24,Tabelas!B:D,3,0),0),\"\")","v":0},{"$f":"IF(A24<>\"\",IFERROR(VLOOKUP(O24,Tabelas!B:D,3,0),0),\"\")","v":0},{"$f":"IF(A24<>\"\",IFERROR(VLOOKUP(P24,Tabelas!B:D,3,0),0),\"\")","v":0},{"$f":"IF(A24<>\"\",IFERROR(VLOOKUP(Q24,Tabelas!B:D,3,0),0),\"\")","v":0},{"$f":"IF(A24<>\"\",IFERROR(VLOOKUP(R24,Tabelas!B:D,3,0),0),\"\")","v":0},{"$f":"IF(A24<>\"\",IFERROR(VLOOKUP(S24,Tabelas!B:D,3,0),0),\"\")","v":0},{"$f":"IF(A24<>\"\",IFERROR(VLOOKUP(T24,Tabelas!B:D,3,0),0),\"\")","v":0},{"$f":"IF(A24<>\"\",IFERROR(VLOOKUP(U24,Tabelas!B:D,3,0),0),\"\")","v":0},{"$f":"IF(A24<>\"\",IFERROR(VLOOKUP(V24,Tabelas!B:D,3,0),0),\"\")","v":0},{"$f":"IF(A24<>\"\",IFERROR(VLOOKUP(W24,Tabelas!B:D,3,0),0),\"\")","v":0},{"$f":"IF(A24<>\"\",IFERROR(VLOOKUP(X24,Tabelas!B:D,3,0),0),\"\")","v":0},{"$f":"IF(A24<>\"\",IFERROR(VLOOKUP(Y24,Tabelas!B:D,3,0),0),\"\")","v":0},{"$f":"IF(A24<>\"\",IFERROR(VLOOKUP(Z24,Tabelas!B:D,3,0),0),\"\")","v":0},{"$f":"IF(A24<>\"\",IFERROR(VLOOKUP(AA24,Tabelas!B:D,3,0),0),\"\")","v":0},{"$f":"IF(A24<>\"\",IFERROR(VLOOKUP(AB24,Tabelas!B:D,3,0),0),\"\")","v":0},{"$f":"IF(A24<>\"\",IFERROR(VLOOKUP(AC24,Tabelas!B:D,3,0),0),\"\")","v":0},{"$f":"IF(A24<>\"\",IFERROR(VLOOKUP(AD24,Tabelas!B:D,3,0),0),\"\")","v":0},{"$f":"IF(A24<>\"\",IFERROR(VLOOKUP(AE24,Tabelas!B:D,3,0),0),\"\")","v":0},{"$f":"IF(A24<>\"\",IFERROR(VLOOKUP(AF24,Tabelas!B:D,3,0),0),\"\")","v":0},{"$f":"IF(A24<>\"\",IFERROR(VLOOKUP(AG24,Tabelas!B:D,3,0),0),\"\")","v":0},{"$f":"IF(A24<>\"\",IFERROR(VLOOKUP(AH24,Tabelas!B:D,3,0),0),\"\")","v":0},{"$f":"IF(A24<>\"\",IFERROR(VLOOKUP(AI24,Tabelas!B:D,3,0),0),\"\")","v":0},{"$f":"IF(A24<>\"\",IFERROR(VLOOKUP(AJ24,Tabelas!B:D,3,0),0),\"\")","v":0},{"$f":"IF(A24<>\"\",IFERROR(VLOOKUP(AK24,Tabelas!B:D,3,0),0),\"\")","v":0},{"$f":"IF(A24<>\"\",IFERROR(VLOOKUP(AL24,Tabelas!B:D,3,0),0),\"\")","v":0},{"$f":"IF(A24<>\"\",IFERROR(VLOOKUP(AM24,Tabelas!B:D,3,0),0),\"\")","v":0},{"$f":"IF(A24<>\"\",IFERROR(VLOOKUP(AN24,Tabelas!B:D,3,0),0),\"\")","v":0},{"$f":"IF(A24<>\"\",IFERROR(VLOOKUP(AO24,Tabelas!B:D,3,0),0),\"\")","v":0},{"$f":"IF(A24<>\"\",IFERROR(VLOOKUP(AP24,Tabelas!B:D,3,0),0),\"\")","v":0},{"$f":"IF(A24<>\"\",IFERROR(VLOOKUP(AQ24,Tabelas!B:D,3,0),0),\"\")","v":0},0,0,0,0,0,0,0,0]
["FULANO 17",17,null,null,null,null,null,null,null,null,null,null,null,null,null,null,null,null,null,null,null,null,null,null,null,null,null,null,null,null,null,null,null,null,null,null,null,null,null,null,null,null,null,{"$f":"IF(A25<>\"\",IFERROR(VLOOKUP(M25,Tabelas!B:D,3,0),0),\"\")","v":0},{"$f":"IF(A25<>\"\",IFERROR(VLOOKUP(N25,Tabelas!B:D,3,0),0),\"\")","v":0},{"$f":"IF(A25<>\"\",IFERROR(VLOOKUP(O25,Tabelas!B:D,3,0),0),\"\")","v":0},{"$f":"IF(A25<>\"\",IFERROR(VLOOKUP(P25,Tabelas!B:D,3,0),0),\"\")","v":0},{"$f":"IF(A25<>\"\",IFERROR(VLOOKUP(Q25,Tabelas!B:D,3,0),0),\"\")","v":0},{"$f":"IF(A25<>\"\",IFERROR(VLOOKUP(R25,Tabelas!B:D,3,0),0),\"\")","v":0},{"$f":"IF(A25<>\"\",IFERROR(VLOOKUP(S25,Tabelas!B:D,3,0),0),\"\")","v":0},{"$f":"IF(A25<>\"\",IFERROR(VLOOKUP(T25,Tabelas!B:D,3,0),0),\"\")","v":0},{"$f":"IF(A25<>\"\",IFERROR(VLOOKUP(U25,Tabelas!B:D,3,0),0),\"\")","v":0},{"$f":"IF(A25<>\"\",IFERROR(VLOOKUP(V25,Tabelas!B:D,3,0),0),\"\")","v":0},{"$f":"IF(A25<>\"\",IFERROR(VLOOKUP(W25,Tabelas!B:D,3,0),0),\"\")","v":0},{"$f":"IF(A25<>\"\",IFERROR(VLOOKUP(X25,Tabelas!B:D,3,0),0),\"\")","v":0},{"$f":"IF(A25<>\"\",IFERROR(VLOOKUP(Y25,Tabelas!B:D,3,0),0),\"\")","v":0},{"$f":"IF(A25<>\"\",IFERROR(VLOOKUP(Z25,Tabelas!B:D,3,0),0),\"\")","v":0},{"$f":"IF(A25<>\"\",IFERROR(VLOOKUP(AA25,Tabelas!B:D,3,0),0),\"\")","v":0},{"$f":"IF(A25<>\"\",IFERROR(VLOOKUP(AB25,Tabelas!B:D,3,0),0),\"\")","v":0},{"$f":"IF(A25<>\"\",IFERROR(VLOOKUP(AC25,Tabelas!B:D,3,0),0),\"\")","v":0},{"$f":"IF(A25<>\"\",IFERROR(VLOOKUP(AD25,Tabelas!B:D,3,0),0),\"\")","v":0},{"$f":"IF(A25<>\"\",IFERROR(VLOOKUP(AE25,Tabelas!B:D,3,0),0),\"\")","v":0},{"$f":"IF(A25<>\"\",IFERROR(VLOOKUP(AF25,Tabelas!B:D,3,0),0),\"\")","v":0},{"$f":"IF(A25<>\"\",IFERROR(VLOOKUP(AG25,Tabelas!B:D,3,0),0),\"\")","v":0},{"$f":"IF(A25<>\"\",IFERROR(VLOOKUP(AH25,Tabelas!B:D,3,0),0),\"\")","v":0},{"$f":"IF(A25<>\"\",IFERROR(VLOOKUP(AI25,Tabelas!B:D,3,0),0),\"\")","v":0},{"$f":"IF(A25<>\"\",IFERROR(VLOOKUP(AJ25,Tabelas!B:D,3,0),0),\"\")","v":0},{"$f":"IF(A25<>\"\",IFERROR(VLOOKUP(AK25,Tabelas!B:D,3,0),0),\"\")","v":0},{"$f":"IF(A25<>\"\",IFERROR(VLOOKUP(AL25,Tabelas!B:D,3,0),0),\"\")","v":0},{"$f":"IF(A25<>\"\",IFERROR(VLOOKUP(AM25,Tabelas!B:D,3,0),0),\"\")","v":0},{"$f":"IF(A25<>\"\",IFERROR(VLOOKUP(AN25,Tabelas!B:D,3,0),0),\"\")","v":0},{"$f":"IF(A25<>\"\",IFERROR(VLOOKUP(AO25,Tabelas!B:D,3,0),0),\"\")","v":0},{"$f":"IF(A25<>\"\",IFERROR(VLOOKUP(AP25,Tabelas!B:D,3,0),0),\"\")","v":0},{"$f":"IF(A25<>\"\",IFERROR(VLOOKUP(AQ25,Tabelas!B:D,3,0),0),\"\")","v":0},0,0,0,0,0,0,0,0]
["FULANO 18",18,null,null,null,null,null,null,null,null,null,null,null,null,null,null,null,null,null,null,null,null,null,null,null,null,null,null,null,null,null,null,null,null,null,null,null,null,null,null,null,null,null,{"$f":"IF(A26<>\"\",IFERROR(VLOOKUP(M26,Tabelas!B:D,3,0),0),\"\")","v":0},{"$f":"IF(A26<>\"\",IFERROR(VLOOKUP(N26,Tabelas!B:D,3,0),0),\"\")","v":0},{"$f":"IF(A26<>\"\",IFERROR(VLOOKUP(O26,Tabelas!B:D,3,0),0),\"\")","v":0},{"$f":"IF(A26<>\"\",IFERROR(VLOOKUP(P26,Tabelas!B:D,3,0),0),\"\")","v":0},{"$f":"IF(A26<>\"\",IFERROR(VLOOKUP(Q26,Tabelas!B:D,3,0),0),\"\")","v":0},{"$f":"IF(A26<>\"\",IFERROR(VLOOKUP(R26,Tabelas!B:D,3,0),0),\"\")","v":0},{"$f":"IF(A26<>\"\",IFERROR(VLOOKUP(S26,Tabelas!B:D,3,0),0),\"\")","v":0},{"$f":"IF(A26<>\"\",IFERROR(VLOOKUP(T26,Tabelas!B:D,3,0),0),\"\")","v":0},{"$f":"IF(A26<>\"\",IFERROR(VLOOKUP(U26,Tabelas!B:D,3,0),0),\"\")","v":0},{"$f":"IF(A26<>\"\",IFERROR(VLOOKUP(V26,Tabelas!B:D,3,0),0),\"\")","v":0},{"$f":"IF(A26<>\"\",IFERROR(VLOOKUP(W26,Tabelas!B:D,3,0),0),\"\")","v":0},{"$f":"IF(A26<>\"\",IFERROR(VLOOKUP(X26,Tabelas!B:D,3,0),0),\"\")","v":0},{"$f":"IF(A26<>\"\",IFERROR(VLOOKUP(Y26,Tabelas!B:D,3,0),0),\"\")","v":0},{"$f":"IF(A26<>\"\",IFERROR(VLOOKUP(Z26,Tabelas!B:D,3,0),0),\"\")","v":0},{"$f":"IF(A26<>\"\",IFERROR(VLOOKUP(AA26,Tabelas!B:D,3,0),0),\"\")","v":0},{"$f":"IF(A26<>\"\",IFERROR(VLOOKUP(AB26,Tabelas!B:D,3,0),0),\"\")","v":0},{"$f":"IF(A26<>\"\",IFERROR(VLOOKUP(AC26,Tabelas!B:D,3,0),0),\"\")","v":0},{"$f":"IF(A26<>\"\",IFERROR(VLOOKUP(AD26,Tabelas!B:D,3,0),0),\"\")","v":0},{"$f":"IF(A26<>\"\",IFERROR(VLOOKUP(AE26,Tabelas!B:D,3,0),0),\"\")","v":0},{"$f":"IF(A26<>\"\",IFERROR(VLOOKUP(AF26,Tabelas!B:D,3,0),0),\"\")","v":0},{"$f":"IF(A26<>\"\",IFERROR(VLOOKUP(AG26,Tabelas!B:D,3,0),0),\"\")","v":0},{"$f":"IF(A26<>\"\",IFERROR(VLOOKUP(AH26,Tabelas!B:D,3,0),0),\"\")","v":0},{"$f":"IF(A26<>\"\",IFERROR(VLOOKUP(AI26,Tabelas!B:D,3,0),0),\"\")","v":0},{"$f":"IF(A26<>\"\",IFERROR(VLOOKUP(AJ26,Tabelas!B:D,3,0),0),\"\")","v":0},{"$f":"IF(A26<>\"\",IFERROR(VLOOKUP(AK26,Tabelas!B:D,3,0),0),\"\")","v":0},{"$f":"IF(A26<>\"\",IFERROR(VLOOKUP(AL26,Tabelas!B:D,3,0),0),\"\")","v":0},{"$f":"IF(A26<>\"\",IFERROR(VLOOKUP(AM26,Tabelas!B:D,3,0),0),\"\")","v":0},{"$f":"IF(A26<>\"\",IFERROR(VLOOKUP(AN26,Tabelas!B:D,3,0),0),\"\")","v":0},{"$f":"IF(A26<>\"\",IFERROR(VLOOKUP(AO26,Tabelas!B:D,3,0),0),\"\")","v":0},{"$f":"IF(A26<>\"\",IFERROR(VLOOKUP(AP26,Tabelas!B:D,3,0),0),\"\")","v":0},{"$f":"IF(A26<>\"\",IFERROR(VLOOKUP(AQ26,Tabelas!B:D,3,0),0),\"\")","v":0},0,0,0,0,0,0,0,0]
["FULANO 19",19,null,null,null,null,null,null,null,null,null,null,null,null,null,null,null,null,null,null,null,null,null,null,null,null,null,null,null,null,null,null,null,null,null,null,null,null,null,null,null,null,null,{"$f":"IF(A27<>\"\",IFERROR(VLOOKUP(M27,Tabelas!B:D,3,0),0),\"\")","v":0},{"$f":"IF(A27<>\"\",IFERROR(VLOOKUP(N27,Tabelas!B:D,3,0),0),\"\")","v":0},{"$f":"IF(A27<>\"\",IFERROR(VLOOKUP(O27,Tabelas!B:D,3,0),0),\"\")","v":0},{"$f":"IF(A27<>\"\",IFERROR(VLOOKUP(P27,Tabelas!B:D,3,0),0),\"\")","v":0},{"$f":"IF(A27<>\"\",IFERROR(VLOOKUP(Q27,Tabelas!B:D,3,0),0),\"\")","v":0},{"$f":"IF(A27<>\"\",IFERROR(VLOOKUP(R27,Tabelas!B:D,3,0),0),\"\")","v":0},{"$f":"IF(A27<>\"\",IFERROR(VLOOKUP(S27,Tabelas!B:D,3,0),0),\"\")","v":0},{"$f":"IF(A27<>\"\",IFERROR(VLOOKUP(T27,Tabelas!B:D,3,0),0),\"\")","v":0},{"$f":"IF(A27<>\"\",IFERROR(VLOOKUP(U27,Tabelas!B:D,3,0),0),\"\")","v":0},{"$f":"IF(A27<>\"\",IFERROR(VLOOKUP(V27,Tabelas!B:D,3,0),0),\"\")","v":0},{"$f":"IF(A27<>\"\",IFERROR(VLOOKUP(W27,Tabelas!B:D,3,0),0),\"\")","v":0},{"$f":"IF(A27<>\"\",IFERROR(VLOOKUP(X27,Tabelas!B:D,3,0),0),\"\")","v":0},{"$f":"IF(A27<>\"\",IFERROR(VLOOKUP(Y27,Tabelas!B:D,3,0),0),\"\")","v":0},{"$f":"IF(A27<>\"\",IFERROR(VLOOKUP(Z27,Tabelas!B:D,3,0),0),\"\")","v":0},{"$f":"IF(A27<>\"\",IFERROR(VLOOKUP(AA27,Tabelas!B:D,3,0),0),\"\")","v":0},{"$f":"IF(A27<>\"\",IFERROR(VLOOKUP(AB27,Tabelas!B:D,3,0),0),\"\")","v":0},{"$f":"IF(A27<>\"\",IFERROR(VLOOKUP(AC27,Tabelas!B:D,3,0),0),\"\")","v":0},{"$f":"IF(A27<>\"\",IFERROR(VLOOKUP(AD27,Tabelas!B:D,3,0),0),\"\")","v":0},{"$f":"IF(A27<>\"\",IFERROR(VLOOKUP(AE27,Tabelas!B:D,3,0),0),\"\")","v":0},{"$f":"IF(A27<>\"\",IFERROR(VLOOKUP(AF27,Tabelas!B:D,3,0),0),\"\")","v":0},{"$f":"IF(A27<>\"\",IFERROR(VLOOKUP(AG27,Tabelas!B:D,3,0),0),\"\")","v":0},{"$f":"IF(A27<>\"\",IFERROR(VLOOKUP(AH27,Tabelas!B:D,3,0),0),\"\")","v":0},{"$f":"IF(A27<>\"\",IFERROR(VLOOKUP(AI27,Tabelas!B:D,3,0),0),\"\")","v":0},{"$f":"IF(A27<>\"\",IFERROR(VLOOKUP(AJ27,Tabelas!B:D,3,0),0),\"\")","v":0},{"$f":"IF(A27<>\"\",IFERROR(VLOOKUP(AK27,Tabelas!B:D,3,0),0),\"\")","v":0},{"$f":"IF(A27<>\"\",IFERROR(VLOOKUP(AL27,Tabelas!B:D,3,0),0),\"\")","v":0},{"$f":"IF(A27<>\"\",IFERROR(VLOOKUP(AM27,Tabelas!B:D,3,0),0),\"\")","v":0},{"$f":"IF(A27<>\"\",IFERROR(VLOOKUP(AN27,Tabelas!B:D,3,0),0),\"\")","v":0},{"$f":"IF(A27<>\"\",IFERROR(VLOOKUP(AO27,Tabelas!B:D,3,0),0),\"\")","v":0},{"$f":"IF(A27<>\"\",IFERROR(VLOOKUP(AP27,Tabelas!B:D,3,0),0),\"\")","v":0},{"$f":"IF(A27<>\"\",IFERROR(VLOOKUP(AQ27,Tabelas!B:D,3,0),0),\"\")","v":0},0,0,0,0,0,0,0,0]
["FULANO 20",20,null,null,null,null,null,null,null,null,null,null,null,null,null,null,null,null,null,null,null,null,null,null,null,null,null,null,null,null,null,null,null,null,null,null,null,null,null,null,null,null,null,{"$f":"IF(A28<>\"\",IFERROR(VLOOKUP(M28,Tabelas!B:D,3,0),0),\"\")","v":0},{"$f":"IF(A28<>\"\",IFERROR(VLOOKUP(N28,Tabelas!B:D,3,0),0),\"\")","v":0},{"$f":"IF(A28<>\"\",IFERROR(VLOOKUP(O28,Tabelas!B:D,3,0),0),\"\")","v":0},{"$f":"IF(A28<>\"\",IFERROR(VLOOKUP(P28,Tabelas!B:D,3,0),0),\"\")","v":0},{"$f":"IF(A28<>\"\",IFERROR(VLOOKUP(Q28,Tabelas!B:D,3,0),0),\"\")","v":0},{"$f":"IF(A28<>\"\",IFERROR(VLOOKUP(R28,Tabelas!B:D,3,0),0),\"\")","v":0},{"$f":"IF(A28<>\"\",IFERROR(VLOOKUP(S28,Tabelas!B:D,3,0),0),\"\")","v":0},{"$f":"IF(A28<>\"\",IFERROR(VLOOKUP(T28,Tabelas!B:D,3,0),0),\"\")","v":0},{"$f":"IF(A28<>\"\",IFERROR(VLOOKUP(U28,Tabelas!B:D,3,0),0),\"\")","v":0},{"$f":"IF(A28<>\"\",IFERROR(VLOOKUP(V28,Tabelas!B:D,3,0),0),\"\")","v":0},{"$f":"IF(A28<>\"\",IFERROR(VLOOKUP(W28,Tabelas!B:D,3,0),0),\"\")","v":0},{"$f":"IF(A28<>\"\",IFERROR(VLOOKUP(X28,Tabelas!B:D,3,0),0),\"\")","v":0},{"$f":"IF(A28<>\"\",IFERROR(VLOOKUP(Y28,Tabelas!B:D,3,0),0),\"\")","v":0},{"$f":"IF(A28<>\"\",IFERROR(VLOOKUP(Z28,Tabelas!B:D,3,0),0),\"\")","v":0},{"$f":"IF(A28<>\"\",IFERROR(VLOOKUP(AA28,Tabelas!B:D,3,0),0),\"\")","v":0},{"$f":"IF(A28<>\"\",IFERROR(VLOOKUP(AB28,Tabelas!B:D,3,0),0),\"\")","v":0},{"$f":"IF(A28<>\"\",IFERROR(VLOOKUP(AC28,Tabelas!B:D,3,0),0),\"\")","v":0},{"$f":"IF(A28<>\"\",IFERROR(VLOOKUP(AD28,Tabelas!B:D,3,0),0),\"\")","v":0},{"$f":"IF(A28<>\"\",IFERROR(VLOOKUP(AE28,Tabelas!B:D,3,0),0),\"\")","v":0},{"$f":"IF(A28<>\"\",IFERROR(VLOOKUP(AF28,Tabelas!B:D,3,0),0),\"\")","v":0},{"$f":"IF(A28<>\"\",IFERROR(VLOOKUP(AG28,Tabelas!B:D,3,0),0),\"\")","v":0},{"$f":"IF(A28<>\"\",IFERROR(VLOOKUP(AH28,Tabelas!B:D,3,0),0),\"\")","v":0},{"$f":"IF(A28<>\"\",IFERROR(VLOOKUP(AI28,Tabelas!B:D,3,0),0),\"\")","v":0},{"$f":"IF(A28<>\"\",IFERROR(VLOOKUP(AJ28,Tabelas!B:D,3,0),0),\"\")","v":0},{"$f":"IF(A28<>\"\",IFERROR(VLOOKUP(AK28,Tabelas!B:D,3,0),0),\"\")","v":0},{"$f":"IF(A28<>\"\",IFERROR(VLOOKUP(AL28,Tabelas!B:D,3,0),0),\"\")","v":0},{"$f":"IF(A28<>\"\",IFERROR(VLOOKUP(AM28,Tabelas!B:D,3,0),0),\"\")","v":0},{"$f":"IF(A28<>\"\",IFERROR(VLOOKUP(AN28,Tabelas!B:D,3,0),0),\"\")","v":0},{"$f":"IF(A28<>\"\",IFERROR(VLOOKUP(AO28,Tabelas!B:D,3,0),0),\"\")","v":0},{"$f":"IF(A28<>\"\",IFERROR(VLOOKUP(AP28,Tabelas!B:D,3,0),0),\"\")","v":0},{"$f":"IF(A28<>\"\",IFERROR(VLOOKUP(AQ28,Tabelas!B:D,3,0),0),\"\")","v":0},0,0,0,0,0,0,0,0]
["FULANO 21",21,null,null,null,null,null,null,null,null,null,null,null,null,null,null,null,null,null,null,null,null,null,null,null,null,null,null,null,null,null,null,null,null,null,null,null,null,null,null,null,null,null,{"$f":"IF(A29<>\"\",IFERROR(VLOOKUP(M29,Tabelas!B:D,3,0),0),\"\")","v":0},{"$f":"IF(A29<>\"\",IFERROR(VLOOKUP(N29,Tabelas!B:D,3,0),0),\"\")","v":0},{"$f":"IF(A29<>\"\",IFERROR(VLOOKUP(O29,Tabelas!B:D,3,0),0),\"\")","v":0},{"$f":"IF(A29<>\"\",IFERROR(VLOOKUP(P29,Tabelas!B:D,3,0),0),\"\")","v":0},{"$f":"IF(A29<>\"\",IFERROR(VLOOKUP(Q29,Tabelas!B:D,3,0),0),\"\")","v":0},{"$f":"IF(A29<>\"\",IFERROR(VLOOKUP(R29,Tabelas!B:D,3,0),0),\"\")","v":0},{"$f":"IF(A29<>\"\",IFERROR(VLOOKUP(S29,Tabelas!B:D,3,0),0),\"\")","v":0},{"$f":"IF(A29<>\"\",IFERROR(VLOOKUP(T29,Tabelas!B:D,3,0),0),\"\")","v":0},{"$f":"IF(A29<>\"\",IFERROR(VLOOKUP(U29,Tabelas!B:D,3,0),0),\"\")","v":0},{"$f":"IF(A29<>\"\",IFERROR(VLOOKUP(V29,Tabelas!B:D,3,0),0),\"\")","v":0},{"$f":"IF(A29<>\"\",IFERROR(VLOOKUP(W29,Tabelas!B:D,3,0),0),\"\")","v":0},{"$f":"IF(A29<>\"\",IFERROR(VLOOKUP(X29,Tabelas!B:D,3,0),0),\"\")","v":0},{"$f":"IF(A29<>\"\",IFERROR(VLOOKUP(Y29,Tabelas!B:D,3,0),0),\"\")","v":0},{"$f":"IF(A29<>\"\",IFERROR(VLOOKUP(Z29,Tabelas!B:D,3,0),0),\"\")","v":0},{"$f":"IF(A29<>\"\",IFERROR(VLOOKUP(AA29,Tabelas!B:D,3,0),0),\"\")","v":0},{"$f":"IF(A29<>\"\",IFERROR(VLOOKUP(AB29,Tabelas!B:D,3,0),0),\"\")","v":0},{"$f":"IF(A29<>\"\",IFERROR(VLOOKUP(AC29,Tabelas!B:D,3,0),0),\"\")","v":0},{"$f":"IF(A29<>\"\",IFERROR(VLOOKUP(AD29,Tabelas!B:D,3,0),0),\"\")","v":0},{"$f":"IF(A29<>\"\",IFERROR(VLOOKUP(AE29,Tabelas!B:D,3,0),0),\"\")","v":0},{"$f":"IF(A29<>\"\",IFERROR(VLOOKUP(AF29,Tabelas!B:D,3,0),0),\"\")","v":0},{"$f":"IF(A29<>\"\",IFERROR(VLOOKUP(AG29,Tabelas!B:D,3,0),0),\"\")","v":0},{"$f":"IF(A29<>\"\",IFERROR(VLOOKUP(AH29,Tabelas!B:D,3,0),0),\"\")","v":0},{"$f":"IF(A29<>\"\",IFERROR(VLOOKUP(AI29,Tabelas!B:D,3,0),0),\"\")","v":0},{"$f":"IF(A29<>\"\",IFERROR(VLOOKUP(AJ29,Tabelas!B:D,3,0),0),\"\")","v":0},{"$f":"IF(A29<>\"\",IFERROR(VLOOKUP(AK29,Tabelas!B:D,3,0),0),\"\")","v":0},{"$f":"IF(A29<>\"\",IFERROR(VLOOKUP(AL29,Tabelas!B:D,3,0),0),\"\")","v":0},{"$f":"IF(A29<>\"\",IFERROR(VLOOKUP(AM29,Tabelas!B:D,3,0),0),\"\")","v":0},{"$f":"IF(A29<>\"\",IFERROR(VLOOKUP(AN29,Tabelas!B:D,3,0),0),\"\")","v":0},{"$f":"IF(A29<>\"\",IFERROR(VLOOKUP(AO29,Tabelas!B:D,3,0),0),\"\")","v":0},{"$f":"IF(A29<>\"\",IFERROR(VLOOKUP(AP29,Tabelas!B:D,3,0),0),\"\")","v":0},{"$f":"IF(A29<>\"\",IFERROR(VLOOKUP(AQ29,Tabelas!B:D,3,0),0),\"\")","v":0},0,0,0,0,0,0,0,0]
["FULANO 22",22,null,null,null,null,null,null,null,null,null,null,null,null,null,null,null,null,null,null,null,null,null,null,null,null,null,null,null,null,null,null,null,null,null,null,null,null,null,null,null,null,null,{"$f":"IF(A30<>\"\",IFERROR(VLOOKUP(M30,Tabelas!B:D,3,0),0),\"\")","v":0},{"$f":"IF(A30<>\"\",IFERROR(VLOOKUP(N30,Tabelas!B:D,3,0),0),\"\")","v":0},{"$f":"IF(A30<>\"\",IFERROR(VLOOKUP(O30,Tabelas!B:D,3,0),0),\"\")","v":0},{"$f":"IF(A30<>\"\",IFERROR(VLOOKUP(P30,Tabelas!B:D,3,0),0),\"\")","v":0},{"$f":"IF(A30<>\"\",IFERROR(VLOOKUP(Q30,Tabelas!B:D,3,0),0),\"\")","v":0},{"$f":"IF(A30<>\"\",IFERROR(VLOOKUP(R30,Tabelas!B:D,3,0),0),\"\")","v":0},{"$f":"IF(A30<>\"\",IFERROR(VLOOKUP(S30,Tabelas!B:D,3,0),0),\"\")","v":0},{"$f":"IF(A30<>\"\",IFERROR(VLOOKUP(T30,Tabelas!B:D,3,0),0),\"\")","v":0},{"$f":"IF(A30<>\"\",IFERROR(VLOOKUP(U30,Tabelas!B:D,3,0),0),\"\")","v":0},{"$f":"IF(A30<>\"\",IFERROR(VLOOKUP(V30,Tabelas!B:D,3,0),0),\"\")","v":0},{"$f":"IF(A30<>\"\",IFERROR(VLOOKUP(W30,Tabelas!B:D,3,0),0),\"\")","v":0},{"$f":"IF(A30<>\"\",IFERROR(VLOOKUP(X30,Tabelas!B:D,3,0),0),\"\")","v":0},{"$f":"IF(A30<>\"\",IFERROR(VLOOKUP(Y30,Tabelas!B:D,3,0),0),\"\")","v":0},{"$f":"IF(A30<>\"\",IFERROR(VLOOKUP(Z30,Tabelas!B:D,3,0),0),\"\")","v":0},{"$f":"IF(A30<>\"\",IFERROR(VLOOKUP(AA30,Tabelas!B:D,3,0),0),\"\")","v":0},{"$f":"IF(A30<>\"\",IFERROR(VLOOKUP(AB30,Tabelas!B:D,3,0),0),\"\")","v":0},{"$f":"IF(A30<>\"\",IFERROR(VLOOKUP(AC30,Tabelas!B:D,3,0),0),\"\")","v":0},{"$f":"IF(A30<>\"\",IFERROR(VLOOKUP(AD30,Tabelas!B:D,3,0),0),\"\")","v":0},{"$f":"IF(A30<>\"\",IFERROR(VLOOKUP(AE30,Tabelas!B:D,3,0),0),\"\")","v":0},{"$f":"IF(A30<>\"\",IFERROR(VLOOKUP(AF30,Tabelas!B:D,3,0),0),\"\")","v":0},{"$f":"IF(A30<>\"\",IFERROR(VLOOKUP(AG30,Tabelas!B:D,3,0),0),\"\")","v":0},{"$f":"IF(A30<>\"\",IFERROR(VLOOKUP(AH30,Tabelas!B:D,3,0),0),\"\")","v":0},{"$f":"IF(A30<>\"\",IFERROR(VLOOKUP(AI30,Tabelas!B:D,3,0),0),\"\")","v":0},{"$f":"IF(A30<>\"\",IFERROR(VLOOKUP(AJ30,Tabelas!B:D,3,0),0),\"\")","v":0},{"$f":"IF(A30<>\"\",IFERROR(VLOOKUP(AK30,Tabelas!B:D,3,0),0),\"\")","v":0},{"$f":"IF(A30<>\"\",IFERROR(VLOOKUP(AL30,Tabelas!B:D,3,0),0),\"\")","v":0},{"$f":"IF(A30<>\"\",IFERROR(VLOOKUP(AM30,Tabelas!B:D,3,0),0),\"\")","v":0},{"$f":"IF(A30<>\"\",IFERROR(VLOOKUP(AN30,Tabelas!B:D,3,0),0),\"\")","v":0},{"$f":"IF(A30<>\"\",IFERROR(VLOOKUP(AO30,Tabelas!B:D,3,0),0),\"\")","v":0},{"$f":"IF(A30<>\"\",IFERROR(VLOOKUP(AP30,Tabelas!B:D,3,0),0),\"\")","v":0},{"$f":"IF(A30<>\"\",IFERROR(VLOOKUP(AQ30,Tabelas!B:D,3,0),0),\"\")","v":0},0,0,0,0,0,0,0,0]
["FULANO 23",23,null,null,null,null,null,null,null,null,null,null,null,null,null,null,null,null,null,null,null,null,null,null,null,null,null,null,null,null,null,null,null,null,null,null,null,null,null,null,null,null,null,{"$f":"IF(A31<>\"\",IFERROR(VLOOKUP(M31,Tabelas!B:D,3,0),0),\"\")","v":0},{"$f":"IF(A31<>\"\",IFERROR(VLOOKUP(N31,Tabelas!B:D,3,0),0),\"\")","v":0},{"$f":"IF(A31<>\"\",IFERROR(VLOOKUP(O31,Tabelas!B:D,3,0),0),\"\")","v":0},{"$f":"IF(A31<>\"\",IFERROR(VLOOKUP(P31,Tabelas!B:D,3,0),0),\"\")","v":0},{"$f":"IF(A31<>\"\",IFERROR(VLOOKUP(Q31,Tabelas!B:D,3,0),0),\"\")","v":0},{"$f":"IF(A31<>\"\",IFERROR(VLOOKUP(R31,Tabelas!B:D,3,0),0),\"\")","v":0},{"$f":"IF(A31<>\"\",IFERROR(VLOOKUP(S31,Tabelas!B:D,3,0),0),\"\")","v":0},{"$f":"IF(A31<>\"\",IFERROR(VLOOKUP(T31,Tabelas!B:D,3,0),0),\"\")","v":0},{"$f":"IF(A31<>\"\",IFERROR(VLOOKUP(U31,Tabelas!B:D,3,0),0),\"\")","v":0},{"$f":"IF(A31<>\"\",IFERROR(VLOOKUP(V31,Tabelas!B:D,3,0),0),\"\")","v":0},{"$f":"IF(A31<>\"\",IFERROR(VLOOKUP(W31,Tabelas!B:D,3,0),0),\"\")","v":0},{"$f":"IF(A31<>\"\",IFERROR(VLOOKUP(X31,Tabelas!B:D,3,0),0),\"\")","v":0},{"$f":"IF(A31<>\"\",IFERROR(VLOOKUP(Y31,Tabelas!B:D,3,0),0),\"\")","v":0},{"$f":"IF(A31<>\"\",IFERROR(VLOOKUP(Z31,Tabelas!B:D,3,0),0),\"\")","v":0},{"$f":"IF(A31<>\"\",IFERROR(VLOOKUP(AA31,Tabelas!B:D,3,0),0),\"\")","v":0},{"$f":"IF(A31<>\"\",IFERROR(VLOOKUP(AB31,Tabelas!B:D,3,0),0),\"\")","v":0},{"$f":"IF(A31<>\"\",IFERROR(VLOOKUP(AC31,Tabelas!B:D,3,0),0),\"\")","v":0},{"$f":"IF(A31<>\"\",IFERROR(VLOOKUP(AD31,Tabelas!B:D,3,0),0),\"\")","v":0},{"$f":"IF(A31<>\"\",IFERROR(VLOOKUP(AE31,Tabelas!B:D,3,0),0),\"\")","v":0},{"$f":"IF(A31<>\"\",IFERROR(VLOOKUP(AF31,Tabelas!B:D,3,0),0),\"\")","v":0},{"$f":"IF(A31<>\"\",IFERROR(VLOOKUP(AG31,Tabelas!B:D,3,0),0),\"\")","v":0},{"$f":"IF(A31<>\"\",IFERROR(VLOOKUP(AH31,Tabelas!B:D,3,0),0),\"\")","v":0},{"$f":"IF(A31<>\"\",IFERROR(VLOOKUP(AI31,Tabelas!B:D,3,0),0),\"\")","v":0},{"$f":"IF(A31<>\"\",IFERROR(VLOOKUP(AJ31,Tabelas!B:D,3,0),0),\"\")","v":0},{"$f":"IF(A31<>\"\",IFERROR(VLOOKUP(AK31,Tabelas!B:D,3,0),0),\"\")","v":0},{"$f":"IF(A31<>\"\",IFERROR(VLOOKUP(AL31,Tabelas!B:D,3,0),0),\"\")","v":0},{"$f":"IF(A31<>\"\",IFERROR(VLOOKUP(AM31,Tabelas!B:D,3,0),0),\"\")","v":0},{"$f":"IF(A31<>\"\",IFERROR(VLOOKUP(AN31,Tabelas!B:D,3,0),0),\"\")","v":0},{"$f":"IF(A31<>\"\",IFERROR(VLOOKUP(AO31,Tabelas!B:D,3,0),0),\"\")","v":0},{"$f":"IF(A31<>\"\",IFERROR(VLOOKUP(AP31,Tabelas!B:D,3,0),0),\"\")","v":0},{"$f":"IF(A31<>\"\",IFERROR(VLOOKUP(AQ31,Tabelas!B:D,3,0),0),\"\")","v":0},0,0,0,0,0,0,0,0]
["FULANO 24",24,null,null,null,null,null,null,null,null,null,null,null,null,null,null,null,null,null,null,null,null,null,null,null,null,null,null,null,null,null,null,null,null,null,null,null,null,null,null,null,null,null,{"$f":"IF(A32<>\"\",IFERROR(VLOOKUP(M32,Tabelas!B:D,3,0),0),\"\")","v":0},{"$f":"IF(A32<>\"\",IFERROR(VLOOKUP(N32,Tabelas!B:D,3,0),0),\"\")","v":0},{"$f":"IF(A32<>\"\",IFERROR(VLOOKUP(O32,Tabelas!B:D,3,0),0),\"\")","v":0},{"$f":"IF(A32<>\"\",IFERROR(VLOOKUP(P32,Tabelas!B:D,3,0),0),\"\")","v":0},{"$f":"IF(A32<>\"\",IFERROR(VLOOKUP(Q32,Tabelas!B:D,3,0),0),\"\")","v":0},{"$f":"IF(A32<>\"\",IFERROR(VLOOKUP(R32,Tabelas!B:D,3,0),0),\"\")","v":0},{"$f":"IF(A32<>\"\",IFERROR(VLOOKUP(S32,Tabelas!B:D,3,0),0),\"\")","v":0},{"$f":"IF(A32<>\"\",IFERROR(VLOOKUP(T32,Tabelas!B:D,3,0),0),\"\")","v":0},{"$f":"IF(A32<>\"\",IFERROR(VLOOKUP(U32,Tabelas!B:D,3,0),0),\"\")","v":0},{"$f":"IF(A32<>\"\",IFERROR(VLOOKUP(V32,Tabelas!B:D,3,0),0),\"\")","v":0},{"$f":"IF(A32<>\"\",IFERROR(VLOOKUP(W32,Tabelas!B:D,3,0),0),\"\")","v":0},{"$f":"IF(A32<>\"\",IFERROR(VLOOKUP(X32,Tabelas!B:D,3,0),0),\"\")","v":0},{"$f":"IF(A32<>\"\",IFERROR(VLOOKUP(Y32,Tabelas!B:D,3,0),0),\"\")","v":0},{"$f":"IF(A32<>\"\",IFERROR(VLOOKUP(Z32,Tabelas!B:D,3,0),0),\"\")","v":0},{"$f":"IF(A32<>\"\",IFERROR(VLOOKUP(AA32,Tabelas!B:D,3,0),0),\"\")","v":0},{"$f":"IF(A32<>\"\",IFERROR(VLOOKUP(AB32,Tabelas!B:D,3,0),0),\"\")","v":0},{"$f":"IF(A32<>\"\",IFERROR(VLOOKUP(AC32,Tabelas!B:D,3,0),0),\"\")","v":0},{"$f":"IF(A32<>\"\",IFERROR(VLOOKUP(AD32,Tabelas!B:D,3,0),0),\"\")","v":0},{"$f":"IF(A32<>\"\",IFERROR(VLOOKUP(AE32,Tabelas!B:D,3,0),0),\"\")","v":0},{"$f":"IF(A32<>\"\",IFERROR(VLOOKUP(AF32,Tabelas!B:D,3,0),0),\"\")","v":0},{"$f":"IF(A32<>\"\",IFERROR(VLOOKUP(AG32,Tabelas!B:D,3,0),0),\"\")","v":0},{"$f":"IF(A32<>\"\",IFERROR(VLOOKUP(AH32,Tabelas!B:D,3,0),0),\"\")","v":0},{"$f":"IF(A32<>\"\",IFERROR(VLOOKUP(AI32,Tabelas!B:D,3,0),0),\"\")","v":0},{"$f":"IF(A32<>\"\",IFERROR(VLOOKUP(AJ32,Tabelas!B:D,3,0),0),\"\")","v":0},{"$f":"IF(A32<>\"\",IFERROR(VLOOKUP(AK32,Tabelas!B:D,3,0),0),\"\")","v":0},{"$f":"IF(A32<>\"\",IFERROR(VLOOKUP(AL32,Tabelas!B:D,3,0),0),\"\")","v":0},{"$f":"IF(A32<>\"\",IFERROR(VLOOKUP(AM32,Tabelas!B:D,3,0),0),\"\")","v":0},{"$f":"IF(A32<>\"\",IFERROR(VLOOKUP(AN32,Tabelas!B:D,3,0),0),\"\")","v":0},{"$f":"IF(A32<>\"\",IFERROR(VLOOKUP(AO32,Tabelas!B:D,3,0),0),\"\")","v":0},{"$f":"IF(A32<>\"\",IFERROR(VLOOKUP(AP32,Tabelas!B:D,3,0),0),\"\")","v":0},{"$f":"IF(A32<>\"\",IFERROR(VLOOKUP(AQ32,Tabelas!B:D,3,0),0),\"\")","v":0},0,0,0,0,0,0,0,0]
["FULANO 25",25,null,null,null,null,null,null,null,null,null,null,null,null,null,null,null,null,null,null,null,null,null,null,null,null,null,null,null,null,null,null,null,null,null,null,null,null,null,null,null,null,null,{"$f":"IF(A33<>\"\",IFERROR(VLOOKUP(M33,Tabelas!B:D,3,0),0),\"\")","v":0},{"$f":"IF(A33<>\"\",IFERROR(VLOOKUP(N33,Tabelas!B:D,3,0),0),\"\")","v":0},{"$f":"IF(A33<>\"\",IFERROR(VLOOKUP(O33,Tabelas!B:D,3,0),0),\"\")","v":0},{"$f":"IF(A33<>\"\",IFERROR(VLOOKUP(P33,Tabelas!B:D,3,0),0),\"\")","v":0},{"$f":"IF(A33<>\"\",IFERROR(VLOOKUP(Q33,Tabelas!B:D,3,0),0),\"\")","v":0},{"$f":"IF(A33<>\"\",IFERROR(VLOOKUP(R33,Tabelas!B:D,3,0),0),\"\")","v":0},{"$f":"IF(A33<>\"\",IFERROR(VLOOKUP(S33,Tabelas!B:D,3,0),0),\"\")","v":0},{"$f":"IF(A33<>\"\",IFERROR(VLOOKUP(T33,Tabelas!B:D,3,0),0),\"\")","v":0},{"$f":"IF(A33<>\"\",IFERROR(VLOOKUP(U33,Tabelas!B:D,3,0),0),\"\")","v":0},{"$f":"IF(A33<>\"\",IFERROR(VLOOKUP(V33,Tabelas!B:D,3,0),0),\"\")","v":0},{"$f":"IF(A33<>\"\",IFERROR(VLOOKUP(W33,Tabelas!B:D,3,0),0),\"\")","v":0},{"$f":"IF(A33<>\"\",IFERROR(VLOOKUP(X33,Tabelas!B:D,3,0),0),\"\")","v":0},{"$f":"IF(A33<>\"\",IFERROR(VLOOKUP(Y33,Tabelas!B:D,3,0),0),\"\")","v":0},{"$f":"IF(A33<>\"\",IFERROR(VLOOKUP(Z33,Tabelas!B:D,3,0),0),\"\")","v":0},{"$f":"IF(A33<>\"\",IFERROR(VLOOKUP(AA33,Tabelas!B:D,3,0),0),\"\")","v":0},{"$f":"IF(A33<>\"\",IFERROR(VLOOKUP(AB33,Tabelas!B:D,3,0),0),\"\")","v":0},{"$f":"IF(A33<>\"\",IFERROR(VLOOKUP(AC33,Tabelas!B:D,3,0),0),\"\")","v":0},{"$f":"IF(A33<>\"\",IFERROR(VLOOKUP(AD33,Tabelas!B:D,3,0),0),\"\")","v":0},{"$f":"IF(A33<>\"\",IFERROR(VLOOKUP(AE33,Tabelas!B:D,3,0),0),\"\")","v":0},{"$f":"IF(A33<>\"\",IFERROR(VLOOKUP(AF33,Tabelas!B:D,3,0),0),\"\")","v":0},{"$f":"IF(A33<>\"\",IFERROR(VLOOKUP(AG33,Tabelas!B:D,3,0),0),\"\")","v":0},{"$f":"IF(A33<>\"\",IFERROR(VLOOKUP(AH33,Tabelas!B:D,3,0),0),\"\")","v":0},{"$f":"IF(A33<>\"\",IFERROR(VLOOKUP(AI33,Tabelas!B:D,3,0),0),\"\")","v":0},{"$f":"IF(A33<>\"\",IFERROR(VLOOKUP(AJ33,Tabelas!B:D,3,0),0),\"\")","v":0},{"$f":"IF(A33<>\"\",IFERROR(VLOOKUP(AK33,Tabelas!B:D,3,0),0),\"\")","v":0},{"$f":"IF(A33<>\"\",IFERROR(VLOOKUP(AL33,Tabelas!B:D,3,0),0),\"\")","v":0},{"$f":"IF(A33<>\"\",IFERROR(VLOOKUP(AM33,Tabelas!B:D,3,0),0),\"\")","v":0},{"$f":"IF(A33<>\"\",IFERROR(VLOOKUP(AN33,Tabelas!B:D,3,0),0),\"\")","v":0},{"$f":"IF(A33<>\"\",IFERROR(VLOOKUP(AO33,Tabelas!B:D,3,0),0),\"\")","v":0},{"$f":"IF(A33<>\"\",IFERROR(VLOOKUP(AP33,Tabelas!B:D,3,0),0),\"\")","v":0},{"$f":"IF(A33<>\"\",IFERROR(VLOOKUP(AQ33,Tabelas!B:D,3,0),0),\"\")","v":0},0,0,0,0,0,0,0,0]
["FULANO 26",26,null,null,null,null,null,null,null,null,null,null,null,null,null,null,null,null,null,null,null,null,null,null,null,null,null,null,null,null,null,null,null,null,null,null,null,null,null,null,null,null,null,{"$f":"IF(A34<>\"\",IFERROR(VLOOKUP(M34,Tabelas!B:D,3,0),0),\"\")","v":0},{"$f":"IF(A34<>\"\",IFERROR(VLOOKUP(N34,Tabelas!B:D,3,0),0),\"\")","v":0},{"$f":"IF(A34<>\"\",IFERROR(VLOOKUP(O34,Tabelas!B:D,3,0),0),\"\")","v":0},{"$f":"IF(A34<>\"\",IFERROR(VLOOKUP(P34,Tabelas!B:D,3,0),0),\"\")","v":0},{"$f":"IF(A34<>\"\",IFERROR(VLOOKUP(Q34,Tabelas!B:D,3,0),0),\"\")","v":0},{"$f":"IF(A34<>\"\",IFERROR(VLOOKUP(R34,Tabelas!B:D,3,0),0),\"\")","v":0},{"$f":"IF(A34<>\"\",IFERROR(VLOOKUP(S34,Tabelas!B:D,3,0),0),\"\")","v":0},{"$f":"IF(A34<>\"\",IFERROR(VLOOKUP(T34,Tabelas!B:D,3,0),0),\"\")","v":0},{"$f":"IF(A34<>\"\",IFERROR(VLOOKUP(U34,Tabelas!B:D,3,0),0),\"\")","v":0},{"$f":"IF(A34<>\"\",IFERROR(VLOOKUP(V34,Tabelas!B:D,3,0),0),\"\")","v":0},{"$f":"IF(A34<>\"\",IFERROR(VLOOKUP(W34,Tabelas!B:D,3,0),0),\"\")","v":0},{"$f":"IF(A34<>\"\",IFERROR(VLOOKUP(X34,Tabelas!B:D,3,0),0),\"\")","v":0},{"$f":"IF(A34<>\"\",IFERROR(VLOOKUP(Y34,Tabelas!B:D,3,0),0),\"\")","v":0},{"$f":"IF(A34<>\"\",IFERROR(VLOOKUP(Z34,Tabelas!B:D,3,0),0),\"\")","v":0},{"$f":"IF(A34<>\"\",IFERROR(VLOOKUP(AA34,Tabelas!B:D,3,0),0),\"\")","v":0},{"$f":"IF(A34<>\"\",IFERROR(VLOOKUP(AB34,Tabelas!B:D,3,0),0),\"\")","v":0},{"$f":"IF(A34<>\"\",IFERROR(VLOOKUP(AC34,Tabelas!B:D,3,0),0),\"\")","v":0},{"$f":"IF(A34<>\"\",IFERROR(VLOOKUP(AD34,Tabelas!B:D,3,0),0),\"\")","v":0},{"$f":"IF(A34<>\"\",IFERROR(VLOOKUP(AE34,Tabelas!B:D,3,0),0),\"\")","v":0},{"$f":"IF(A34<>\"\",IFERROR(VLOOKUP(AF34,Tabelas!B:D,3,0),0),\"\")","v":0},{"$f":"IF(A34<>\"\",IFERROR(VLOOKUP(AG34,Tabelas!B:D,3,0),0),\"\")","v":0},{"$f":"IF(A34<>\"\",IFERROR(VLOOKUP(AH34,Tabelas!B:D,3,0),0),\"\")","v":0},{"$f":"IF(A34<>\"\",IFERROR(VLOOKUP(AI34,Tabelas!B:D,3,0),0),\"\")","v":0},{"$f":"IF(A34<>\"\",IFERROR(VLOOKUP(AJ34,Tabelas!B:D,3,0),0),\"\")","v":0},{"$f":"IF(A34<>\"\",IFERROR(VLOOKUP(AK34,Tabelas!B:D,3,0),0),\"\")","v":0},{"$f":"IF(A34<>\"\",IFERROR(VLOOKUP(AL34,Tabelas!B:D,3,0),0),\"\")","v":0},{"$f":"IF(A34<>\"\",IFERROR(VLOOKUP(AM34,Tabelas!B:D,3,0),0),\"\")","v":0},{"$f":"IF(A34<>\"\",IFERROR(VLOOKUP(AN34,Tabelas!B:D,3,0),0),\"\")","v":0},{"$f":"IF(A34<>\"\",IFERROR(VLOOKUP(AO34,Tabelas!B:D,3,0),0),\"\")","v":0},{"$f":"IF(A34<>\"\",IFERROR(VLOOKUP(AP34,Tabelas!B:D,3,0),0),\"\")","v":0},{"$f":"IF(A34<>\"\",IFERROR(VLOOKUP(AQ34,Tabelas!B:D,3,0),0),\"\")","v":0},0,0,0,0,0,0,0,0]
["FULANO 27",27,null,null,null,null,null,null,null,null,null,null,null,null,null,null,null,null,null,null,null,null,null,null,null,null,null,null,null,null,null,null,null,null,null,null,null,null,null,null,null,null,null,{"$f":"IF(A35<>\"\",IFERROR(VLOOKUP(M35,Tabelas!B:D,3,0),0),\"\")","v":0},{"$f":"IF(A35<>\"\",IFERROR(VLOOKUP(N35,Tabelas!B:D,3,0),0),\"\")","v":0},{"$f":"IF(A35<>\"\",IFERROR(VLOOKUP(O35,Tabelas!B:D,3,0),0),\"\")","v":0},{"$f":"IF(A35<>\"\",IFERROR(VLOOKUP(P35,Tabelas!B:D,3,0),0),\"\")","v":0},{"$f":"IF(A35<>\"\",IFERROR(VLOOKUP(Q35,Tabelas!B:D,3,0),0),\"\")","v":0},{"$f":"IF(A35<>\"\",IFERROR(VLOOKUP(R35,Tabelas!B:D,3,0),0),\"\")","v":0},{"$f":"IF(A35<>\"\",IFERROR(VLOOKUP(S35,Tabelas!B:D,3,0),0),\"\")","v":0},{"$f":"IF(A35<>\"\",IFERROR(VLOOKUP(T35,Tabelas!B:D,3,0),0),\"\")","v":0},{"$f":"IF(A35<>\"\",IFERROR(VLOOKUP(U35,Tabelas!B:D,3,0),0),\"\")","v":0},{"$f":"IF(A35<>\"\",IFERROR(VLOOKUP(V35,Tabelas!B:D,3,0),0),\"\")","v":0},{"$f":"IF(A35<>\"\",IFERROR(VLOOKUP(W35,Tabelas!B:D,3,0),0),\"\")","v":0},{"$f":"IF(A35<>\"\",IFERROR(VLOOKUP(X35,Tabelas!B:D,3,0),0),\"\")","v":0},{"$f":"IF(A35<>\"\",IFERROR(VLOOKUP(Y35,Tabelas!B:D,3,0),0),\"\")","v":0},{"$f":"IF(A35<>\"\",IFERROR(VLOOKUP(Z35,Tabelas!B:D,3,0),0),\"\")","v":0},{"$f":"IF(A35<>\"\",IFERROR(VLOOKUP(AA35,Tabelas!B:D,3,0),0),\"\")","v":0},{"$f":"IF(A35<>\"\",IFERROR(VLOOKUP(AB35,Tabelas!B:D,3,0),0),\"\")","v":0},{"$f":"IF(A35<>\"\",IFERROR(VLOOKUP(AC35,Tabelas!B:D,3,0),0),\"\")","v":0},{"$f":"IF(A35<>\"\",IFERROR(VLOOKUP(AD35,Tabelas!B:D,3,0),0),\"\")","v":0},{"$f":"IF(A35<>\"\",IFERROR(VLOOKUP(AE35,Tabelas!B:D,3,0),0),\"\")","v":0},{"$f":"IF(A35<>\"\",IFERROR(VLOOKUP(AF35,Tabelas!B:D,3,0),0),\"\")","v":0},{"$f":"IF(A35<>\"\",IFERROR(VLOOKUP(AG35,Tabelas!B:D,3,0),0),\"\")","v":0},{"$f":"IF(A35<>\"\",IFERROR(VLOOKUP(AH35,Tabelas!B:D,3,0),0),\"\")","v":0},{"$f":"IF(A35<>\"\",IFERROR(VLOOKUP(AI35,Tabelas!B:D,3,0),0),\"\")","v":0},{"$f":"IF(A35<>\"\",IFERROR(VLOOKUP(AJ35,Tabelas!B:D,3,0),0),\"\")","v":0},{"$f":"IF(A35<>\"\",IFERROR(VLOOKUP(AK35,Tabelas!B:D,3,0),0),\"\")","v":0},{"$f":"IF(A35<>\"\",IFERROR(VLOOKUP(AL35,Tabelas!B:D,3,0),0),\"\")","v":0},{"$f":"IF(A35<>\"\",IFERROR(VLOOKUP(AM35,Tabelas!B:D,3,0),0),\"\")","v":0},{"$f":"IF(A35<>\"\",IFERROR(VLOOKUP(AN35,Tabelas!B:D,3,0),0),\"\")","v":0},{"$f":"IF(A35<>\"\",IFERROR(VLOOKUP(AO35,Tabelas!B:D,3,0),0),\"\")","v":0},{"$f":"IF(A35<>\"\",IFERROR(VLOOKUP(AP35,Tabelas!B:D,3,0),0),\"\")","v":0},{"$f":"IF(A35<>\"\",IFERROR(VLOOKUP(AQ35,Tabelas!B:D,3,0),0),\"\")","v":0},0,0,0,0,0,0,0,0]
["TOTAL PROFISSIONAIS MATUTINO",null,null,null,null,null,null,null,null,null,null,null,{"$f":"IF(AND(Fevereiro!AO7=\"\",COUNTIF(Fevereiro!AN9:AN35,\"PR5\")+COUNTIF(Fevereiro!AN9:AN35,\"PR6\")+COUNTIF(Fevereiro!AN9:AN35,\"PR7\")+COUNTIF(Fevereiro!AN9:AN35,\"PR8\")+COUNTIF(Fevereiro!AN9:AN35,\"PR9\")+COUNTIF(M9:M35,\"M*\")+ COUNTIF(M9:M35, \"D*\")-COUNTIF(M9:M35,\"DSR\")+COUNTIF(M9:M35,\"PR1\")+COUNTIF(M9:M35,\"PR2\")+COUNTIF(M9:M35,\"PR3\")+COUNTIF(M9:M35,\"PR4\")<>0),COUNTIF(Fevereiro!AN9:AN35,\"PR5\")+COUNTIF(Fevereiro!AN9:AN35,\"PR6\")+COUNTIF(Fevereiro!AN9:AN35,\"PR7\")+COUNTIF(Fevereiro!AN9:AN35,\"PR8\")+COUNTIF(Fevereiro!AN9:AN35,\"PR9\")+COUNTIF(M9:M35,\"M*\")+ COUNTIF(M9:M35, \"D*\")-COUNTIF(M9:M35,\"DSR\")+COUNTIF(M9:M35,\"PR1\")+COUNTIF(M9:M35,\"PR2\")+COUNTIF(M9:M35,\"PR3\")+COUNTIF(M9:M35,\"PR4\"),IF(AND(Fevereiro!AP7=\"\",COUNTIF(Fevereiro!AO9:AO35,\"PR5\")+COUNTIF(Fevereiro!AO9:AO35,\"PR6\")+COUNTIF(Fevereiro!AO9:AO35,\"PR7\")+COUNTIF(Fevereiro!AO9:AO35,\"PR8\")+COUNTIF(Fevereiro!AO9:AO35,\"PR9\")+COUNTIF(M9:M35,\"M*\")+ COUNTIF(M9:M35, \"D*\")-COUNTIF(M9:M35,\"DSR\")+COUNTIF(M9:M35,\"PR1\")+COUNTIF(M9:M35,\"PR2\")+COUNTIF(M9:M35,\"PR3\")+COUNTIF(M9:M35,\"PR4\")<>0),COUNTIF(Fevereiro!AO9:AO35,\"PR5\")+COUNTIF(Fevereiro!AO9:AO35,\"PR6\")+COUNTIF(Fevereiro!AO9:AO35,\"PR7\")+COUNTIF(Fevereiro!AO9:AO35,\"PR8\")+COUNTIF(Fevereiro!AO9:AO35,\"PR9\")+COUNTIF(M9:M35,\"M*\")+ COUNTIF(M9:M35, \"D*\")-COUNTIF(M9:M35,\"DSR\")+COUNTIF(M9:M35,\"PR1\")+COUNTIF(M9:M35,\"PR2\")+COUNTIF(M9:M35,\"PR3\")+COUNTIF(M9:M35,\"PR4\"),\"\"))","v":""},{"$f":"IF(COUNTIF(N9:N35,\"M*\")+ COUNTIF(N9:N35, \"D*\")-COUNTIF(N9:N35,\"DSR\")+COUNTIF(M9:M35,\"PR5\")+COUNTIF(M9:M35,\"PR6\")+COUNTIF(M9:M35,\"PR7\")+COUNTIF(M9:M35,\"PR8\")+COUNTIF(M9:M35,\"PR9\")+COUNTIF(N9:N35,\"PR1\")+COUNTIF(N9:N35,\"PR2\")+COUNTIF(N9:N35,\"PR3\")+COUNTIF(N9:N35,\"PR4\")<>0,COUNTIF(N9:N35,\"M*\")+ COUNTIF(N9:N35, \"D*\")-COUNTIF(N9:N35,\"DSR\")+COUNTIF(M9:M35,\"PR5\")+COUNTIF(M9:M35,\"PR6\")+COUNTIF(M9:M35,\"PR7\")+COUNTIF(M9:M35,\"PR8\")+COUNTIF(M9:M35,\"PR9\")+COUNTIF(N9:N35,\"PR1\")+COUNTIF(N9:N35,\"PR2\")+COUNTIF(N9:N35,\"PR3\")+COUNTIF(N9:N35,\"PR4\"),\"\")","v":""},{"$f":"IF(COUNTIF(O9:O35,\"M*\")+ COUNTIF(O9:O35, \"D*\")-COUNTIF(O9:O35,\"DSR\")+COUNTIF(N9:N35,\"PR5\")+COUNTIF(N9:N35,\"PR6\")+COUNTIF(N9:N35,\"PR7\")+COUNTIF(N9:N35,\"PR8\")+COUNTIF(N9:N35,\"PR9\")+COUNTIF(O9:O35,\"PR1\")+COUNTIF(O9:O35,\"PR2\")+COUNTIF(O9:O35,\"PR3\")+COUNTIF(O9:O35,\"PR4\")<>0,COUNTIF(O9:O35,\"M*\")+ COUNTIF(O9:O35, \"D*\")-COUNTIF(O9:O35,\"DSR\")+COUNTIF(N9:N35,\"PR5\")+COUNTIF(N9:N35,\"PR6\")+COUNTIF(N9:N35,\"PR7\")+COUNTIF(N9:N35,\"PR8\")+COUNTIF(N9:N35,\"PR9\")+COUNTIF(O9:O35,\"PR1\")+COUNTIF(O9:O35,\"PR2\")+COUNTIF(O9:O35,\"PR3\")+COUNTIF(O9:O35,\"PR4\"),\"\")","v":""},"","","","","","","","","","","","","","","","","","","","","","","","","","","","",null,null,null,null,null,null,null,null,null,null,null,null,null,null,null,null,null,null,null,null,null,null,null,null,null,null,null,null,null,null,null,{"$f":"SUM(BW9:BW35)","v":0},{"$f":"SUM(BX9:BX35)","v":0},0,0,0,0,0,0]
["TOTAL DE PROFISSIONAIS VESPERTINO",null,null,null,null,null,null,null,null,null,null,null,{"$f":"IF(AND(Fevereiro!AO7=\"\",COUNTIF(Fevereiro!AN9:AN35,\"PR5\")+COUNTIF(Fevereiro!AN9:AN35,\"PR6\")+COUNTIF(Fevereiro!AN9:AN35,\"PR7\")+COUNTIF(Fevereiro!AN9:AN35,\"PR8\")+COUNTIF(Fevereiro!AN9:AN35,\"PR9\")+COUNTIF(M9:M35,\"MT*\")+COUNTIF(M9:M35,\"D*\")+COUNTIF(M9:M35,\"T*\")-COUNTIF(M9:M35,\"DSR\")+COUNTIF(M9:M35,\"PR1\")+COUNTIF(M9:M35,\"PR2\")+COUNTIF(M9:M35,\"PR3\")+COUNTIF(M9:M35,\"PR4\")<>0),COUNTIF(Fevereiro!AN9:AN35,\"PR5\")+COUNTIF(Fevereiro!AN9:AN35,\"PR6\")+COUNTIF(Fevereiro!AN9:AN35,\"PR7\")+COUNTIF(Fevereiro!AN9:AN35,\"PR8\")+COUNTIF(Fevereiro!AN9:AN35,\"PR9\")+COUNTIF(M9:M35,\"MT*\")+COUNTIF(M9:M35,\"D*\")+COUNTIF(M9:M35,\"T*\")+COUNTIF(M9:M35,\"PR1\")+COUNTIF(M9:M35,\"PR2\")+COUNTIF(M9:M35,\"PR3\")+COUNTIF(M9:M35,\"PR4\")-COUNTIF(M9:M35,\"DSR\"),IF(AND(Fevereiro!AP7=\"\",COUNTIF(Fevereiro!AO9:AO35,\"PR5\")+COUNTIF(Fevereiro!AO9:AO35,\"PR6\")+COUNTIF(Fevereiro!AO9:AO35,\"PR7\")+COUNTIF(Fevereiro!AO9:AO35,\"PR8\")+COUNTIF(Fevereiro!AO9:AO35,\"PR9\")+COUNTIF(M9:M35,\"MT*\")+COUNTIF(M9:M35,\"D*\")+COUNTIF(M9:M35,\"T*\")-COUNTIF(M9:M35,\"DSR\")+COUNTIF(M9:M35,\"PR1\")+COUNTIF(M9:M35,\"PR2\")+COUNTIF(M9:M35,\"PR3\")+COUNTIF(M9:M35,\"PR4\")<>0),COUNTIF(Fevereiro!AO9:AO35,\"PR5\")+COUNTIF(Fevereiro!AO9:AO35,\"PR6\")+COUNTIF(Fevereiro!AO9:AO35,\"PR7\")+COUNTIF(Fevereiro!AO9:AO35,\"PR8\")+COUNTIF(Fevereiro!AO9:AO35,\"PR9\")+COUNTIF(M9:M35,\"MT*\")+COUNTIF(M9:M35,\"D*\")+COUNTIF(M9:M35,\"T*\")+COUNTIF(M9:M35,\"PR1\")+COUNTIF(M9:M35,\"PR2\")+COUNTIF(M9:M35,\"PR3\")+COUNTIF(M9:M35,\"PR4\")-COUNTIF(M9:M35,\"DSR\"),\"\"))","v":""},{"$f":"IF(COUNTIF(N9:N35,\"MT*\") + COUNTIF(N9:N35, \"D*\") + COUNTIF(N9:N35,\"T*\")-COUNTIF(N9:N35,\"DSR\")+COUNTIF(M9:M35,\"PR5\")+COUNTIF(M9:M35,\"PR6\")+COUNTIF(M9:M35,\"PR7\")+COUNTIF(M9:M35,\"PR8\")+COUNTIF(M9:M35,\"PR9\")+COUNTIF(N9:N35,\"PR1\")+COUNTIF(N9:N35,\"PR2\")+COUNTIF(N9:N35,\"PR3\")+COUNTIF(N9:N35,\"PR4\")<>0,COUNTIF(N9:N35,\"MT*\") + COUNTIF(N9:N35, \"D*\") + COUNTIF(N9:N35,\"T*\")+COUNTIF(M9:M35,\"PR5\")+COUNTIF(M9:M35,\"PR6\")+COUNTIF(M9:M35,\"PR7\")+COUNTIF(M9:M35,\"PR8\")+COUNTIF(M9:M35,\"PR9\")+COUNTIF(N9:N35,\"PR1\")+COUNTIF(N9:N35,\"PR2\")+COUNTIF(N9:N35,\"PR3\")+COUNTIF(N9:N35,\"PR4\")-COUNTIF(N9:N35,\"DSR\"),\"\")","v":""},{"$f":"IF(COUNTIF(O9:O35,\"MT*\") + COUNTIF(O9:O35, \"D*\") + COUNTIF(O9:O35,\"T*\")-COUNTIF(O9:O35,\"DSR\")+COUNTIF(N9:N35,\"PR5\")+COUNTIF(N9:N35,\"PR6\")+COUNTIF(N9:N35,\"PR7\")+COUNTIF(N9:N35,\"PR8\")+COUNTIF(N9:N35,\"PR9\")+COUNTIF(O9:O35,\"PR1\")+COUNTIF(O9:O35,\"PR2\")+COUNTIF(O9:O35,\"PR3\")+COUNTIF(O9:O35,\"PR4\")<>0,COUNTIF(O9:O35,\"MT*\") + COUNTIF(O9:O35, \"D*\") + COUNTIF(O9:O35,\"T*\")+COUNTIF(N9:N35,\"PR5\")+COUNTIF(N9:N35,\"PR6\")+COUNTIF(N9:N35,\"PR7\")+COUNTIF(N9:N35,\"PR8\")+COUNTIF(N9:N35,\"PR9\")+COUNTIF(O9:O35,\"PR1\")+COUNTIF(O9:O35,\"PR2\")+COUNTIF(O9:O35,\"PR3\")+COUNTIF(O9:O35,\"PR4\")-COUNTIF(O9:O35,\"DSR\"),\"\")","v":""},"","","","","","","","","","","","","","","","","","","","","","","","","","","","",{"$f":"IF(A37<>\"\",IFERROR(VLOOKUP(M37,Tabelas!B:D,3,0),0),\"\")","v":0},{"$f":"IF(A37<>\"\",IFERROR(VLOOKUP(N37,Tabelas!B:D,3,0),0),\"\")","v":0},{"$f":"IF(A37<>\"\",IFERROR(VLOOKUP(O37,Tabelas!B:D,3,0),0),\"\")","v":0},{"$f":"IF(A37<>\"\",IFERROR(VLOOKUP(P37,Tabelas!B:D,3,0),0),\"\")","v":0},{"$f":"IF(A37<>\"\",IFERROR(VLOOKUP(Q37,Tabelas!B:D,3,0),0),\"\")","v":0},{"$f":"IF(A37<>\"\",IFERROR(VLOOKUP(R37,Tabelas!B:D,3,0),0),\"\")","v":0},{"$f":"IF(A37<>\"\",IFERROR(VLOOKUP(S37,Tabelas!B:D,3,0),0),\"\")","v":0},{"$f":"IF(A37<>\"\",IFERROR(VLOOKUP(T37,Tabelas!B:D,3,0),0),\"\")","v":0},{"$f":"IF(A37<>\"\",IFERROR(VLOOKUP(U37,Tabelas!B:D,3,0),0),\"\")","v":0},{"$f":"IF(A37<>\"\",IFERROR(VLOOKUP(V37,Tabelas!B:D,3,0),0),\"\")","v":0},{"$f":"IF(A37<>\"\",IFERROR(VLOOKUP(W37,Tabelas!B:D,3,0),0),\"\")","v":0},{"$f":"IF(A37<>\"\",IFERROR(VLOOKUP(X37,Tabelas!B:D,3,0),0),\"\")","v":0},{"$f":"IF(A37<>\"\",IFERROR(VLOOKUP(Y37,Tabelas!B:D,3,0),0),\"\")","v":0},{"$f":"IF(A37<>\"\",IFERROR(VLOOKUP(Z37,Tabelas!B:D,3,0),0),\"\")","v":0},{"$f":"IF(A37<>\"\",IFERROR(VLOOKUP(AA37,Tabelas!B:D,3,0),0),\"\")","v":0},{"$f":"IF(A37<>\"\",IFERROR(VLOOKUP(AB37,Tabelas!B:D,3,0),0),\"\")","v":0},{"$f":"IF(A37<>\"\",IFERROR(VLOOKUP(AC37,Tabelas!B:D,3,0),0),\"\")","v":0},{"$f":"IF(A37<>\"\",IFERROR(VLOOKUP(AD37,Tabelas!B:D,3,0),0),\"\")","v":0},{"$f":"IF(A37<>\"\",IFERROR(VLOOKUP(AE37,Tabelas!B:D,3,0),0),\"\")","v":0},{"$f":"IF(A37<>\"\",IFERROR(VLOOKUP(AF37,Tabelas!B:D,3,0),0),\"\")","v":0},{"$f":"IF(A37<>\"\",IFERROR(VLOOKUP(AG37,Tabelas!B:D,3,0),0),\"\")","v":0},{"$f":"IF(A37<>\"\",IFERROR(VLOOKUP(AH37,Tabelas!B:D,3,0),0),\"\")","v":0},{"$f":"IF(A37<>\"\",IFERROR(VLOOKUP(AI37,Tabelas!B:D,3,0),0),\"\")","v":0},{"$f":"IF(A37<>\"\",IFERROR(VLOOKUP(AJ37,Tabelas!B:D,3,0),0),\"\")","v":0},{"$f":"IF(A37<>\"\",IFERROR(VLOOKUP(AK37,Tabelas!B:D,3,0),0),\"\")","v":0},{"$f":"IF(A37<>\"\",IFERROR(VLOOKUP(AL37,Tabelas!B:D,3,0),0),\"\")","v":0},{"$f":"IF(A37<>\"\",IFERROR(VLOOKUP(AM37,Tabelas!B:D,3,0),0),\"\")","v":0},{"$f":"IF(A37<>\"\",IFERROR(VLOOKUP(AN37,Tabelas!B:D,3,0),0),\"\")","v":0},{"$f":"IF(A37<>\"\",IFERROR(VLOOKUP(AO37,Tabelas!B:D,3,0),0),\"\")","v":0},{"$f":"IF(A37<>\"\",IFERROR(VLOOKUP(AP37,Tabelas!B:D,3,0),0),\"\")","v":0},{"$f":"IF(A37<>\"\",IFERROR(VLOOKUP(AQ37,Tabelas!B:D,3,0),0),\"\")","v":0}]
["TOTAL DE PROFISSIONAIS NOTURNO",null,null,null,null,null,null,null,null,null,null,null,{"$f":"IF(COUNTIF(M9:M37,\"N?*\") + COUNTIF(M9:M37, \"DN*\")+COUNTIF(M9:M35,\"PR*\")<>0,COUNTIF(M9:M37,\"N?*\") + COUNTIF(M9:M37, \"DN*\")+COUNTIF(M9:M35,\"PR*\"),\"\")","v":""},{"$f":"IF(COUNTIF(N9:N37,\"N?*\") + COUNTIF(N9:N37, \"DN*\")+COUNTIF(N9:N35,\"PR*\")<>0,COUNTIF(N9:N37,\"N?*\") + COUNTIF(N9:N37, \"DN*\")+COUNTIF(N9:N35,\"PR*\"),\"\")","v":""},"","","","","","","","","","","","","","","","","","","","","","","","","","","","","",{"$f":"IF(A38<>\"\",IFERROR(VLOOKUP(M38,Tabelas!B:D,3,0),0),\"\")","v":0},{"$f":"IF(A38<>\"\",IFERROR(VLOOKUP(N38,Tabelas!B:D,3,0),0),\"\")","v":0},{"$f":"IF(A38<>\"\",IFERROR(VLOOKUP(O38,Tabelas!B:D,3,0),0),\"\")","v":0},{"$f":"IF(A38<>\"\",IFERROR(VLOOKUP(P38,Tabelas!B:D,3,0),0),\"\")","v":0},{"$f":"IF(A38<>\"\",IFERROR(VLOOKUP(Q38,Tabelas!B:D,3,0),0),\"\")","v":0},{"$f":"IF(A38<>\"\",IFERROR(VLOOKUP(R38,Tabelas!B:D,3,0),0),\"\")","v":0},{"$f":"IF(A38<>\"\",IFERROR(VLOOKUP(S38,Tabelas!B:D,3,0),0),\"\")","v":0},{"$f":"IF(A38<>\"\",IFERROR(VLOOKUP(T38,Tabelas!B:D,3,0),0),\"\")","v":0},{"$f":"IF(A38<>\"\",IFERROR(VLOOKUP(U38,Tabelas!B:D,3,0),0),\"\")","v":0},{"$f":"IF(A38<>\"\",IFERROR(VLOOKUP(V38,Tabelas!B:D,3,0),0),\"\")","v":0},{"$f":"IF(A38<>\"\",IFERROR(VLOOKUP(W38,Tabelas!B:D,3,0),0),\"\")","v":0},{"$f":"IF(A38<>\"\",IFERROR(VLOOKUP(X38,Tabelas!B:D,3,0),0),\"\")","v":0},{"$f":"IF(A38<>\"\",IFERROR(VLOOKUP(Y38,Tabelas!B:D,3,0),0),\"\")","v":0},{"$f":"IF(A38<>\"\",IFERROR(VLOOKUP(Z38,Tabelas!B:D,3,0),0),\"\")","v":0},{"$f":"IF(A38<>\"\",IFERROR(VLOOKUP(AA38,Tabelas!B:D,3,0),0),\"\")","v":0},{"$f":"IF(A38<>\"\",IFERROR(VLOOKUP(AB38,Tabelas!B:D,3,0),0),\"\")","v":0},{"$f":"IF(A38<>\"\",IFERROR(VLOOKUP(AC38,Tabelas!B:D,3,0),0),\"\")","v":0},{"$f":"IF(A38<>\"\",IFERROR(VLOOKUP(AD38,Tabelas!B:D,3,0),0),\"\")","v":0},{"$f":"IF(A38<>\"\",IFERROR(VLOOKUP(AE38,Tabelas!B:D,3,0),0),\"\")","v":0},{"$f":"IF(A38<>\"\",IFERROR(VLOOKUP(AF38,Tabelas!B:D,3,0),0),\"\")","v":0},{"$f":"IF(A38<>\"\",IFERROR(VLOOKUP(AG38,Tabelas!B:D,3,0),0),\"\")","v":0},{"$f":"IF(A38<>\"\",IFERROR(VLOOKUP(AH38,Tabelas!B:D,3,0),0),\"\")","v":0},{"$f":"IF(A38<>\"\",IFERROR(VLOOKUP(AI38,Tabelas!B:D,3,0),0),\"\")","v":0},{"$f":"IF(A38<>\"\",IFERROR(VLOOKUP(AJ38,Tabelas!B:D,3,0),0),\"\")","v":0},{"$f":"IF(A38<>\"\",IFERROR(VLOOKUP(AK38,Tabelas!B:D,3,0),0),\"\")","v":0},{"$f":"IF(A38<>\"\",IFERROR(VLOOKUP(AL38,Tabelas!B:D,3,0),0),\"\")","v":0},{"$f":"IF(A38<>\"\",IFERROR(VLOOKUP(AM38,Tabelas!B:D,3,0),0),\"\")","v":0},{"$f":"IF(A38<>\"\",IFERROR(VLOOKUP(AN38,Tabelas!B:D,3,0),0),\"\")","v":0},{"$f":"IF(A38<>\"\",IFERROR(VLOOKUP(AO38,Tabelas!B:D,3,0),0),\"\")","v":0},{"$f":"IF(A38<>\"\",IFERROR(VLOOKUP(AP38,Tabelas!B:D,3,0),0),\"\")","v":0},{"$f":"IF(A38<>\"\",IFERROR(VLOOKUP(AQ38,Tabelas!B:D,3,0),0),\"\")","v":0}]
[null,null,null,null,null,null,null,null,null,null,null,null,null,null,null,null,null,null,null,null,null,null,null,null,null,null,null,null,null,null,null,null,null,null,null,null,null,null,null,null,null,null,null,{"$f":"IF(A39<>\"\",IFERROR(VLOOKUP(M39,Tabelas!B:D,3,0),0),\"\")","v":""},{"$f":"IF(A39<>\"\",IFERROR(VLOOKUP(N39,Tabelas!B:D,3,0),0),\"\")","v":""},{"$f":"IF(A39<>\"\",IFERROR(VLOOKUP(O39,Tabelas!B:D,3,0),0),\"\")","v":""},{"$f":"IF(A39<>\"\",IFERROR(VLOOKUP(P39,Tabelas!B:D,3,0),0),\"\")","v":""},{"$f":"IF(A39<>\"\",IFERROR(VLOOKUP(Q39,Tabelas!B:D,3,0),0),\"\")","v":""},{"$f":"IF(A39<>\"\",IFERROR(VLOOKUP(R39,Tabelas!B:D,3,0),0),\"\")","v":""},{"$f":"IF(A39<>\"\",IFERROR(VLOOKUP(S39,Tabelas!B:D,3,0),0),\"\")","v":""},{"$f":"IF(A39<>\"\",IFERROR(VLOOKUP(T39,Tabelas!B:D,3,0),0),\"\")","v":""},{"$f":"IF(A39<>\"\",IFERROR(VLOOKUP(U39,Tabelas!B:D,3,0),0),\"\")","v":""},{"$f":"IF(A39<>\"\",IFERROR(VLOOKUP(V39,Tabelas!B:D,3,0),0),\"\")","v":""},{"$f":"IF(A39<>\"\",IFERROR(VLOOKUP(W39,Tabelas!B:D,3,0),0),\"\")","v":""},{"$f":"IF(A39<>\"\",IFERROR(VLOOKUP(X39,Tabelas!B:D,3,0),0),\"\")","v":""},{"$f":"IF(A39<>\"\",IFERROR(VLOOKUP(Y39,Tabelas!B:D,3,0),0),\"\")","v":""},{"$f":"IF(A39<>\"\",IFERROR(VLOOKUP(Z39,Tabelas!B:D,3,0),0),\"\")","v":""},{"$f":"IF(A39<>\"\",IFERROR(VLOOKUP(AA39,Tabelas!B:D,3,0),0),\"\")","v":""},{"$f":"IF(A39<>\"\",IFERROR(VLOOKUP(AB39,Tabelas!B:D,3,0),0),\"\")","v":""},{"$f":"IF(A39<>\"\",IFERROR(VLOOKUP(AC39,Tabelas!B:D,3,0),0),\"\")","v":""},{"$f":"IF(A39<>\"\",IFERROR(VLOOKUP(AD39,Tabelas!B:D,3,0),0),\"\")","v":""},{"$f":"IF(A39<>\"\",IFERROR(VLOOKUP(AE39,Tabelas!B:D,3,0),0),\"\")","v":""},{"$f":"IF(A39<>\"\",IFERROR(VLOOKUP(AF39,Tabelas!B:D,3,0),0),\"\")","v":""},{"$f":"IF(A39<>\"\",IFERROR(VLOOKUP(AG39,Tabelas!B:D,3,0),0),\"\")","v":""},{"$f":"IF(A39<>\"\",IFERROR(VLOOKUP(AH39,Tabelas!B:D,3,0),0),\"\")","v":""},{"$f":"IF(A39<>\"\",IFERROR(VLOOKUP(AI39,Tabelas!B:D,3,0),0),\"\")","v":""},{"$f":"IF(A39<>\"\",IFERROR(VLOOKUP(AJ39,Tabelas!B:D,3,0),0),\"\")","v":""},{"$f":"IF(A39<>\"\",IFERROR(VLOOKUP(AK39,Tabelas!B:D,3,0),0),\"\")","v":""},{"$f":"IF(A39<>\"\",IFERROR(VLOOKUP(AL39,Tabelas!B:D,3,0),0),\"\")","v":""},{"$f":"IF(A39<>\"\",IFERROR(VLOOKUP(AM39,Tabelas!B:D,3,0),0),\"\")","v":""},{"$f":"IF(A39<>\"\",IFERROR(VLOOKUP(AN39,Tabelas!B:D,3,0),0),\"\")","v":""},{"$f":"IF(A39<>\"\",IFERROR(VLOOKUP(AO39,Tabelas!B:D,3,0),0),\"\")","v":""},{"$f":"IF(A39<>\"\",IFERROR(VLOOKUP(AP39,Tabelas!B:D,3,0),0),\"\")","v":""},{"$f":"IF(A39<>\"\",IFERROR(VLOOKUP(AQ39,Tabelas!B:D,3,0),0),\"\")","v":""}]
["Legenda:"]
["Licença Maternidade","LM","Férias",null,null,null,null,null,null,"FE",null,"Ponto Facultativo",null,null,null,null,null,null,null,"PF","Manhã *",null,null,null,null,null,null,"M","Diurno (8 hrs) *",null,null,null,null,null,null,"MT"]
["Licença Paternidade","LP","Feriado",null,null,null,null,null,null,"FD",null,"Abono **",null,null,null,null,null,null,null,"AB","Tarde *",null,null,null,null,null,null,"T","Dia/ noite (24 hrs) *",null,null,null,null,null,null,"DN"]
["Licença Médica/Odontológica","L","Descanso Semanal Remunerado",null,null,null,null,null,null,"DSR",null,"Compensação de Horas",null,null,null,null,null,null,null,"CH","Plantão Dia (12 hrs) *",null,null,null,null,null,null,"D"]
["Licença Capacitação","LC","Recesso",null,null,null,null,null,null,"RC",null,"Afastamento**",null,null,null,null,null,null,null,"AF","Plantão Noite (12 hrs) *",null,null,null,null,null,null,"N"]
[]
[]
[]
[]
[]
["OBSERVAÇÕES:"]
["* Para inserção das legendas referentes às jornadas de trabalho, verificar a Tabela 1 do Anexo 12629162 do Ofício-Circular - SEI nº 9/2021/SDR/CAP/DGP-EBSERH."]
["** Para inserção das legendas referentes aos Afastamentos previstos em lei e às Compensações de horas, verificar a Tabela 2 do Anexo 12629162 do Ofício-Circular - SEI nº 9/2021/SDR/CAP/DGP-EBSERH."]

{"sheet":"Abril","index":3,"n_rows":52,"n_cols":82,"rows_kept":52,"cut":false,"hidden":false,"merged":[[43,2,43,8],[43,9,43,10],[43,11,43,18],[43,20,43,26],[40,11,40,18],[40,20,40,26],[40,28,40,34],[41,28,41,34],[42,2,42,8],[42,9,42,10],[42,11,42,18],[42,20,42,26],[41,2,41,8],[41,9,41,10],[41,11,41,18],[41,20,41,26],[5,2,7,2],[5,3,7,3],[5,4,7,4],[40,2,40,8],[40,9,40,10],[6,81,7,81],[6,77,7,77],[6,78,7,78],[36,0,36,11],[37,0,37,11],[35,78,37,78],[35,79,37,79],[35,80,37,80],[35,0,35,11],[35,74,37,74],[35,75,37,75],[35,76,37,76],[35,77,37,77],[5,5,7,5],[5,0,7,0],[5,1,7,1],[35,81,37,81],[5,6,5,11],[5,12,5,42],[6,79,7,79],[6,11,7,11],[6,75,7,75],[6,76,7,76],[6,6,7,6],[6,7,7,7],[6,8,7,8],[6,9,7,9],[6,10,7,10],[5,43,5,73],[5,74,7,74],[5,75,5,81],[6,80,7,80],[1,0,1,42],[2,0,2,42],[3,0,3,42],[4,1,4,20],[4,23,4,34],[4,37,4,42]]}
[]
[]
["NOME DO HU"]
["ESCALA MENSAL DE TRABALHO"]
["DIVISÃO /SETOR/UNIDADE:",null,null,null,null,null,null,null,null,null,null,null,null,null,null,null,null,null,null,null,null,"MÊS:",null,"Abril",null,null,null,null,null,null,null,null,null,null,null,"ANO:",null,2023]
["NOME COMPLETO","SIAPE","     Registro Conselho Classe","Cargo","Vínculo","    C.H Sem","INTERVALO",null,null,null,null,null,"DIAS DO MÊS",null,null,null,null,null,null,null,null,null,null,null,null,null,null,null,null,null,null,null,null,null,null,null,null,null,null,null,null,null,null,"CÁLCULO DAS HORAS",null,null,null,null,null,null,null,null,null,null,null,null,null,null,null,null,null,null,null,null,null,null,null,null,null,null,null,null,null,null,"CH Men.","Dias"]
[null,null,null,null,null,null,"15' M","15' T","15' N","1H D","1H N","2H",1,2,3,4,5,6,7,8,9,10,11,12,13,14,15,16,17,18,19,20,21,22,23,24,25,{"$f":"IF(DAY(DATE(AL5,VLOOKUP(X5,Tabelas!M:N,2,0)+1,1)-1)>=26,26,\"\")","v":26},{"$f":"IF(DAY(DATE(AL5,VLOOKUP(X5,Tabelas!M:N,2,0)+1,1)-1)>=27,27,\"\")","v":27},{"$f":"IF(DAY(DATE(AL5,VLOOKUP(X5,Tabelas!M:N,2,0)+1,1)-1)>=28,28,\"\")","v":28},{"$f":"IF(DAY(DATE(AL5,VLOOKUP(X5,Tabelas!M:N,2,0)+1,1)-1)>=29,29,\"\")","v":29},{"$f":"IF(DAY(DATE(AL5,VLOOKUP(X5,Tabelas!M:N,2,0)+1,1)-1)>=30,30,\"\")","v":30},{"$f":"IF(DAY(DATE(AL5,VLOOKUP(X5,Tabelas!M:N,2,0)+1,1)-1)>=31,31,\"\")","v":""},null,null,null,null,null,null,null,null,null,null,null,null,null,null,null,null,null,null,null,null,null,null,null,null,null,null,null,null,null,null,null,null,"LM/LP/L","AB","FE","LC","CH","AF  "," Total Afast."]
[null,null,null,null,null,null,null,null,null,null,null,null,{"$f":"IF(M7<>\"\",IFERROR(VLOOKUP(WEEKDAY(CONCATENATE(M7,$X$5,$AL$5)),Tabelas!$I:$J,2,0),\"\"),\"\")","v":"SAB"},{"$f":"IF(N7<>\"\",IFERROR(VLOOKUP(WEEKDAY(CONCATENATE(N7,$X$5,$AL$5)),Tabelas!$I:$J,2,0),\"\"),\"\")","v":"DOM"},{"$f":"IF(O7<>\"\",IFERROR(VLOOKUP(WEEKDAY(CONCATENATE(O7,$X$5,$AL$5)),Tabelas!$I:$J,2,0),\"\"),\"\")","v":"SEG"},{"$f":"IF(P7<>\"\",IFERROR(VLOOKUP(WEEKDAY(CONCATENATE(P7,$X$5,$AL$5)),Tabelas!$I:$J,2,0),\"\"),\"\")","v":"TER"},{"$f":"IF(Q7<>\"\",IFERROR(VLOOKUP(WEEKDAY(CONCATENATE(Q7,$X$5,$AL$5)),Tabelas!$I:$J,2,0),\"\"),\"\")","v":"QUA"},{"$f":"IF(R7<>\"\",IFERROR(VLOOKUP(WEEKDAY(CONCATENATE(R7,$X$5,$AL$5)),Tabelas!$I:$J,2,0),\"\"),\"\")","v":"QUI"},{"$f":"IF(S7<>\"\",IFERROR(VLOOKUP(WEEKDAY(CONCATENATE(S7,$X$5,$AL$5)),Tabelas!$I:$J,2,0),\"\"),\"\")","v":"SEX"},{"$f":"IF(T7<>\"\",IFERROR(VLOOKUP(WEEKDAY(CONCATENATE(T7,$X$5,$AL$5)),Tabelas!$I:$J,2,0),\"\"),\"\")","v":"SAB"},{"$f":"IF(U7<>\"\",IFERROR(VLOOKUP(WEEKDAY(CONCATENATE(U7,$X$5,$AL$5)),Tabelas!$I:$J,2,0),\"\"),\"\")","v":"DOM"},{"$f":"IF(V7<>\"\",IFERROR(VLOOKUP(WEEKDAY(CONCATENATE(V7,$X$5,$AL$5)),Tabelas!$I:$J,2,0),\"\"),\"\")","v":"SEG"},{"$f":"IF(W7<>\"\",IFERROR(VLOOKUP(WEEKDAY(CONCATENATE(W7,$X$5,$AL$5)),Tabelas!$I:$J,2,0),\"\"),\"\")","v":"TER"},{"$f":"IF(X7<>\"\",IFERROR(VLOOKUP(WEEKDAY(CONCATENATE(X7,$X$5,$AL$5)),Tabelas!$I:$J,2,0),\"\"),\"\")","v":"QUA"},{"$f":"IF(Y7<>\"\",IFERROR(VLOOKUP(WEEKDAY(CONCATENATE(Y7,$X$5,$AL$5)),Tabelas!$I:$J,2,0),\"\"),\"\")","v":"QUI"},{"$f":"IF(Z7<>\"\",IFERROR(VLOOKUP(WEEKDAY(CONCATENATE(Z7,$X$5,$AL$5)),Tabelas!$I:$J,2,0),\"\"),\"\")","v":"SEX"},{"$f":"IF(AA7<>\"\",IFERROR(VLOOKUP(WEEKDAY(CONCATENATE(AA7,$X$5,$AL$5)),Tabelas!$I:$J,2,0),\"\"),\"\")","v":"SAB"},{"$f":"IF(AB7<>\"\",IFERROR(VLOOKUP(WEEKDAY(CONCATENATE(AB7,$X$5,$AL$5)),Tabelas!$I:$J,2,0),\"\"),\"\")","v":"DOM"},{"$f":"IF(AC7<>\"\",IFERROR(VLOOKUP(WEEKDAY(CONCATENATE(AC7,$X$5,$AL$5)),Tabelas!$I:$J,2,0),\"\"),\"\")","v":"SEG"},{"$f":"IF(AD7<>\"\",IFERROR(VLOOKUP(WEEKDAY(CONCATENATE(AD7,$X$5,$AL$5)),Tabelas!$I:$J,2,0),\"\"),\"\")","v":"TER"},{"$f":"IF(AE7<>\"\",IFERROR(VLOOKUP(WEEKDAY(CONCATENATE(AE7,$X$5,$AL$5)),Tabelas!$I:$J,2,0),\"\"),\"\")","v":"QUA"},{"$f":"IF(AF7<>\"\",IFERROR(VLOOKUP(WEEKDAY(CONCATENATE(AF7,$X$5,$AL$5)),Tabelas!$I:$J,2,0),\"\"),\"\")","v":"QUI"},{"$f":"IF(AG7<>\"\",IFERROR(VLOOKUP(WEEKDAY(CONCATENATE(AG7,$X$5,$AL$5)),Tabelas!$I:$J,2,0),\"\"),\"\")","v":"SEX"},{"$f":"IF(AH7<>\"\",IFERROR(VLOOKUP(WEEKDAY(CONCATENATE(AH7,$X$5,$AL$5)),Tabelas!$I:$J,2,0),\"\"),\"\")","v":"SAB"},{"$f":"IF(AI7<>\"\",IFERROR(VLOOKUP(WEEKDAY(CONCATENATE(AI7,$X$5,$AL$5)),Tabelas!$I:$J,2,0),\"\"),\"\")","v":"DOM"},{"$f":"IF(AJ7<>\"\",IFERROR(VLOOKUP(WEEKDAY(CONCATENATE(AJ7,$X$5,$AL$5)),Tabelas!$I:$J,2,0),\"\"),\"\")","v":"SEG"},{"$f":"IF(AK7<>\"\",IFERROR(VLOOKUP(WEEKDAY(CONCATENATE(AK7,$X$5,$AL$5)),Tabelas!$I:$J,2,0),\"\"),\"\")","v":"TER"},{"$f":"IF(AL7<>\"\",IFERROR(VLOOKUP(WEEKDAY(CONCATENATE(AL7,$X$5,$AL$5)),Tabelas!$I:$J,2,0),\"\"),\"\")","v":"QUA"},{"$f":"IF(AM7<>\"\",IFERROR(VLOOKUP(WEEKDAY(CONCATENATE(AM7,$X$5,$AL$5)),Tabelas!$I:$J,2,0),\"\"),\"\")","v":"QUI"},{"$f":"IF(AN7<>\"\",IFERROR(VLOOKUP(WEEKDAY(CONCATENATE(AN7,$X$5,$AL$5)),Tabelas!$I:$J,2,0),\"\"),\"\")","v":"SEX"},{"$f":"IF(AO7<>\"\",IFERROR(VLOOKUP(WEEKDAY(CONCATENATE(AO7,$X$5,$AL$5)),Tabelas!$I:$J,2,0),\"\"),\"\")","v":"SAB"},{"$f":"IF(AP7<>\"\",IFERROR(VLOOKUP(WEEKDAY(CONCATENATE(AP7,$X$5,$AL$5)),Tabelas!$I:$J,2,0),\"\"),\"\")","v":"DOM"},{"$f":"IF(AQ7<>\"\",IFERROR(VLOOKUP(WEEKDAY(CONCATENATE(AQ7,$X$5,$AL$5)),Tabelas!$I:$J,2,0),\"\"),\"\")","v":""},1,2,3,4,5,6,7,8,9,10,11,12,13,14,15,16,17,18,19,20,21,22,23,24,25,26,27,28,29,30,31]
["FULANO 1",1,null,null,null,null,null,null,null,null,null,null,null,null,null,null,null,null,null,null,null,null,null,null,null,null,null,null,null,null,null,null,null,null,null,null,null,null,null,null,null,null,null,{"$f":"IF(A9<>\"\",IFERROR(VLOOKUP(M9,Tabelas!B:D,3,0),0),\"\")","v":0},{"$f":"IF(A9<>\"\",IFERROR(VLOOKUP(N9,Tabelas!B:D,3,0),0),\"\")","v":0},{"$f":"IF(A9<>\"\",IFERROR(VLOOKUP(O9,Tabelas!B:D,3,0),0),\"\")","v":0},{"$f":"IF(A9<>\"\",IFERROR(VLOOKUP(P9,Tabelas!B:D,3,0),0),\"\")","v":0},{"$f":"IF(A9<>\"\",IFERROR(VLOOKUP(Q9,Tabelas!B:D,3,0),0),\"\")","v":0},{"$f":"IF(A9<>\"\",IFERROR(VLOOKUP(R9,Tabelas!B:D,3,0),0),\"\")","v":0},{"$f":"IF(A9<>\"\",IFERROR(VLOOKUP(S9,Tabelas!B:D,3,0),0),\"\")","v":0},{"$f":"IF(A9<>\"\",IFERROR(VLOOKUP(T9,Tabelas!B:D,3,0),0),\"\")","v":0},{"$f":"IF(A9<>\"\",IFERROR(VLOOKUP(U9,Tabelas!B:D,3,0),0),\"\")","v":0},{"$f":"IF(A9<>\"\",IFERROR(VLOOKUP(V9,Tabelas!B:D,3,0),0),\"\")","v":0},{"$f":"IF(A9<>\"\",IFERROR(VLOOKUP(W9,Tabelas!B:D,3,0),0),\"\")","v":0},{"$f":"IF(A9<>\"\",IFERROR(VLOOKUP(X9,Tabelas!B:D,3,0),0),\"\")","v":0},{"$f":"IF(A9<>\"\",IFERROR(VLOOKUP(Y9,Tabelas!B:D,3,0),0),\"\")","v":0},{"$f":"IF(A9<>\"\",IFERROR(VLOOKUP(Z9,Tabelas!B:D,3,0),0),\"\")","v":0},{"$f":"IF(A9<>\"\",IFERROR(VLOOKUP(AA9,Tabelas!B:D,3,0),0),\"\")","v":0},{"$f":"IF(A9<>\"\",IFERROR(VLOOKUP(AB9,Tabelas!B:D,3,0),0),\"\")","v":0},{"$f":"IF(A9<>\"\",IFERROR(VLOOKUP(AC9,Tabelas!B:D,3,0),0),\"\")","v":0},{"$f":"IF(A9<>\"\",IFERROR(VLOOKUP(AD9,Tabelas!B:D,3,0),0),\"\")","v":0},{"$f":"IF(A9<>\"\",IFERROR(VLOOKUP(AE9,Tabelas!B:D,3,0),0),\"\")","v":0},{"$f":"IF(A9<>\"\",IFERROR(VLOOKUP(AF9,Tabelas!B:D,3,0),0),\"\")","v":0},{"$f":"IF(A9<>\"\",IFERROR(VLOOKUP(AG9,Tabelas!B:D,3,0),0),\"\")","v":0},{"$f":"IF(A9<>\"\",IFERROR(VLOOKUP(AH9,Tabelas!B:D,3,0),0),\"\")","v":0},{"$f":"IF(A9<>\"\",IFERROR(VLOOKUP(AI9,Tabelas!B:D,3,0),0),\"\")","v":0},{"$f":"IF(A9<>\"\",IFERROR(VLOOKUP(AJ9,Tabelas!B:D,3,0),0),\"\")","v":0},{"$f":"IF(A9<>\"\",IFERROR(VLOOKUP(AK9,Tabelas!B:D,3,0),0),\"\")","v":0},{"$f":"IF(A9<>\"\",IFERROR(VLOOKUP(AL9,Tabelas!B:D,3,0),0),\"\")","v":0},{"$f":"IF(A9<>\"\",IFERROR(VLOOKUP(AM9,Tabelas!B:D,3,0),0),\"\")","v":0},{"$f":"IF(A9<>\"\",IFERROR(VLOOKUP(AN9,Tabelas!B:D,3,0),0),\"\")","v":0},{"$f":"IF(A9<>\"\",IFERROR(VLOOKUP(AO9,Tabelas!B:D,3,0),0),\"\")","v":0},{"$f":"IF(A9<>\"\",IFERROR(VLOOKUP(AP9,Tabelas!B:D,3,0),0),\"\")","v":0},{"$f":"IF(A9<>\"\",IFERROR(VLOOKUP(AQ9,Tabelas!B:D,3,0),0),\"\")","v":0},{"$f":"IF(AND(A9<>\"\",E9=\"Ebserh\"),SUM(AR9:BV9)+COUNTIF(M9:AQ9,\"N*\")+COUNTIF(M9:AQ9,\"DN*\"),IF(AND(A9<>\"\",E9<>\"Ebserh\"),SUM(AR9:BV9),\"\"))","v":0},{"$f":"IF(A9<>\"\",COUNTIF(M9:AQ9,\"LM\")+COUNTIF(M9:AQ9,\"L*\")+COUNTIF(M9:AQ9,\"LP\"),\"\")","v":0},{"$f":"IF(A9<>\"\",COUNTIF(M9:AQ9,\"AB*\"),\"\")","v":0},{"$f":"IF(A9<>\"\",COUNTIF(M9:AQ9,\"FE\"),\"\")","v":0},{"$f":"IF(A9<>\"\",COUNTIF(M9:AQ9,\"LC\"),\"\")","v":0},{"$f":"IF(A9<>\"\",COUNTIF(M9:AQ9,\"CH*\"),\"\")","v":0},{"$f":"IF(A9<>\"\",COUNTIF(M9:AQ9,\"AF1\")+COUNTIF(M9:AQ9,\"AF2\")+COUNTIF(M9:AQ9,\"AF3\")+COUNTIF(M9:AQ9,\"AF4\")+COUNTIF(M9:AQ9,\"AF5\")+COUNTIF(M9:AQ9,\"AF6\")+COUNTIF(M9:AQ9,\"AF7\")+COUNTIF(M9:AQ9,\"AF8\")+COUNTIF(M9:AQ9,\"AF9\")+COUNTIF(M9:AQ9,\"AF10\")+COUNTIF(M9:AQ9,\"AF11\")+COUNTIF(M9:AQ9,\"AF12\")+COUNTIF(M9:AQ9,\"AF13\")+COUNTIF(M9:AQ9,\"AF14\"),\"\")","v":0},{"$f":"IF(A9<>\"\",COUNTIF(M9:AQ9,\"CH*\")+COUNTIF(M9:AQ9,\"L*\")+COUNTIF(M9:AQ9,\"LM\")+COUNTIF(M9:AQ9,\"LP\")+COUNTIF(M9:AQ9,\"LC\")+COUNTIF(M9:AQ9,\"AB*\")+COUNTIF(M9:AQ9,\"AF1\")+COUNTIF(M9:AQ9,\"AF2\")+COUNTIF(M9:AQ9,\"AF3\")+COUNTIF(M9:AQ9,\"AF4\")+COUNTIF(M9:AQ9,\"AF5\")+COUNTIF(M9:AQ9,\"AF6\")+COUNTIF(M9:AQ9,\"AF7\")+COUNTIF(M9:AQ9,\"AF8\")+COUNTIF(M9:AQ9,\"AF9\")+COUNTIF(M9:AQ9,\"AF10\")+COUNTIF(M9:AQ9,\"AF11\")+COUNTIF(M9:AQ9,\"AF12\")+COUNTIF(M9:AQ9,\"AF13\")+COUNTIF(M9:AQ9,\"AF14\")+COUNTIF(M9:AQ9,\"RC\")+COUNTIF(M9:AQ9,\"FO\")+COUNTIF(M9:AQ9,\"FE\"),\"\")","v":0}]
["FULANO 2",2,null,null,null,null,null,null,null,null,null,null,null,null,null,null,null,null,null,null,null,null,null,null,null,null,null,null,null,null,null,null,null,null,null,null,null,null,null,null,null,null,null,{"$f":"IF(A10<>\"\",IFERROR(VLOOKUP(M10,Tabelas!B:D,3,0),0),\"\")","v":0},{"$f":"IF(A10<>\"\",IFERROR(VLOOKUP(N10,Tabelas!B:D,3,0),0),\"\")","v":0},{"$f":"IF(A10<>\"\",IFERROR(VLOOKUP(O10,Tabelas!B:D,3,0),0),\"\")","v":0},{"$f":"IF(A10<>\"\",IFERROR(VLOOKUP(P10,Tabelas!B:D,3,0),0),\"\")","v":0},{"$f":"IF(A10<>\"\",IFERROR(VLOOKUP(Q10,Tabelas!B:D,3,0),0),\"\")","v":0},{"$f":"IF(A10<>\"\",IFERROR(VLOOKUP(R10,Tabelas!B:D,3,0),0),\"\")","v":0},{"$f":"IF(A10<>\"\",IFERROR(VLOOKUP(S10,Tabelas!B:D,3,0),0),\"\")","v":0},{"$f":"IF(A10<>\"\",IFERROR(VLOOKUP(T10,Tabelas!B:D,3,0),0),\"\")","v":0},{"$f":"IF(A10<>\"\",IFERROR(VLOOKUP(U10,Tabelas!B:D,3,0),0),\"\")","v":0},{"$f":"IF(A10<>\"\",IFERROR(VLOOKUP(V10,Tabelas!B:D,3,0),0),\"\")","v":0},{"$f":"IF(A10<>\"\",IFERROR(VLOOKUP(W10,Tabelas!B:D,3,0),0),\"\")","v":0},{"$f":"IF(A10<>\"\",IFERROR(VLOOKUP(X10,Tabelas!B:D,3,0),0),\"\")","v":0},{"$f":"IF(A10<>\"\",IFERROR(VLOOKUP(Y10,Tabelas!B:D,3,0),0),\"\")","v":0},{"$f":"IF(A10<>\"\",IFERROR(VLOOKUP(Z10,Tabelas!B:D,3,0),0),\"\")","v":0},{"$f":"IF(A10<>\"\",IFERROR(VLOOKUP(AA10,Tabelas!B:D,3,0),0),\"\")","v":0},{"$f":"IF(A10<>\"\",IFERROR(VLOOKUP(AB10,Tabelas!B:D,3,0),0),\"\")","v":0},{"$f":"IF(A10<>\"\",IFERROR(VLOOKUP(AC10,Tabelas!B:D,3,0),0),\"\")","v":0},{"$f":"IF(A10<>\"\",IFERROR(VLOOKUP(AD10,Tabelas!B:D,3,0),0),\"\")","v":0},{"$f":"IF(A10<>\"\",IFERROR(VLOOKUP(AE10,Tabelas!B:D,3,0),0),\"\")","v":0},{"$f":"IF(A10<>\"\",IFERROR(VLOOKUP(AF10,Tabelas!B:D,3,0),0),\"\")","v":0},{"$f":"IF(A10<>\"\",IFERROR(VLOOKUP(AG10,Tabelas!B:D,3,0),0),\"\")","v":0},{"$f":"IF(A10<>\"\",IFERROR(VLOOKUP(AH10,Tabelas!B:D,3,0),0),\"\")","v":0},{"$f":"IF(A10<>\"\",IFERROR(VLOOKUP(AI10,Tabelas!B:D,3,0),0),\"\")","v":0},{"$f":"IF(A10<>\"\",IFERROR(VLOOKUP(AJ10,Tabelas!B:D,3,0),0),\"\")","v":0},{"$f":"IF(A10<>\"\",IFERROR(VLOOKUP(AK10,Tabelas!B:D,3,0),0),\"\")","v":0},{"$f":"IF(A10<>\"\",IFERROR(VLOOKUP(AL10,Tabelas!B:D,3,0),0),\"\")","v":0},{"$f":"IF(A10<>\"\",IFERROR(VLOOKUP(AM10,Tabelas!B:D,3,0),0),\"\")","v":0},{"$f":"IF(A10<>\"\",IFERROR(VLOOKUP(AN10,Tabelas!B:D,3,0),0),\"\")","v":0},{"$f":"IF(A10<>\"\",IFERROR(VLOOKUP(AO10,Tabelas!B:D,3,0),0),\"\")","v":0},{"$f":"IF(A10<>\"\",IFERROR(VLOOKUP(AP10,Tabelas!B:D,3,0),0),\"\")","v":0},{"$f":"IF(A10<>\"\",IFERROR(VLOOKUP(AQ10,Tabelas!B:D,3,0),0),\"\")","v":0},{"$f":"IF(AND(A10<>\"\",E10=\"Ebserh\"),SUM(AR10:BV10)+COUNTIF(M10:AQ10,\"N*\")+COUNTIF(M10:AQ10,\"DN*\"),IF(AND(A10<>\"\",E10<>\"Ebserh\"),SUM(AR10:BV10),\"\"))","v":0},{"$f":"IF(A10<>\"\",COUNTIF(M10:AQ10,\"LM\")+COUNTIF(M10:AQ10,\"L*\")+COUNTIF(M10:AQ10,\"LP\"),\"\")","v":0},{"$f":"IF(A10<>\"\",COUNTIF(M10:AQ10,\"AB*\"),\"\")","v":0},{"$f":"IF(A10<>\"\",COUNTIF(M10:AQ10,\"FE\"),\"\")","v":0},{"$f":"IF(A10<>\"\",COUNTIF(M10:AQ10,\"LC\"),\"\")","v":0},{"$f":"IF(A10<>\"\",COUNTIF(M10:AQ10,\"CH*\"),\"\")","v":0},{"$f":"IF(A10<>\"\",COUNTIF(M10:AQ10,\"AF1\")+COUNTIF(M10:AQ10,\"AF2\")+COUNTIF(M10:AQ10,\"AF3\")+COUNTIF(M10:AQ10,\"AF4\")+COUNTIF(M10:AQ10,\"AF5\")+COUNTIF(M10:AQ10,\"AF6\")+COUNTIF(M10:AQ10,\"AF7\")+COUNTIF(M10:AQ10,\"AF8\")+COUNTIF(M10:AQ10,\"AF9\")+COUNTIF(M10:AQ10,\"AF10\")+COUNTIF(M10:AQ10,\"AF11\")+COUNTIF(M10:AQ10,\"AF12\")+COUNTIF(M10:AQ10,\"AF13\")+COUNTIF(M10:AQ10,\"AF14\"),\"\")","v":0},{"$f":"IF(A10<>\"\",COUNTIF(M10:AQ10,\"CH*\")+COUNTIF(M10:AQ10,\"L*\")+COUNTIF(M10:AQ10,\"LM\")+COUNTIF(M10:AQ10,\"LP\")+COUNTIF(M10:AQ10,\"LC\")+COUNTIF(M10:AQ10,\"AB*\")+COUNTIF(M10:AQ10,\"AF1\")+COUNTIF(M10:AQ10,\"AF2\")+COUNTIF(M10:AQ10,\"AF3\")+COUNTIF(M10:AQ10,\"AF4\")+COUNTIF(M10:AQ10,\"AF5\")+COUNTIF(M10:AQ10,\"AF6\")+COUNTIF(M10:AQ10,\"AF7\")+COUNTIF(M10:AQ10,\"AF8\")+COUNTIF(M10:AQ10,\"AF9\")+COUNTIF(M10:AQ10,\"AF10\")+COUNTIF(M10:AQ10,\"AF11\")+COUNTIF(M10:AQ10,\"AF12\")+COUNTIF(M10:AQ10,\"AF13\")+COUNTIF(M10:AQ10,\"AF14\")+COUNTIF(M10:AQ10,\"RC\")+COUNTIF(M10:AQ10,\"FO\")+COUNTIF(M10:AQ10,\"FE\"),\"\")","v":0}]
["FULANO 3",3,null,null,null,null,null,null,null,null,null,null,null,null,null,null,null,null,null,null,null,null,null,null,null,null,null,null,null,null,null,null,null,null,null,null,null,null,null,null,null,null,null,{"$f":"IF(A11<>\"\",IFERROR(VLOOKUP(M11,Tabelas!B:D,3,0),0),\"\")","v":0},{"$f":"IF(A11<>\"\",IFERROR(VLOOKUP(N11,Tabelas!B:D,3,0),0),\"\")","v":0},{"$f":"IF(A11<>\"\",IFERROR(VLOOKUP(O11,Tabelas!B:D,3,0),0),\"\")","v":0},{"$f":"IF(A11<>\"\",IFERROR(VLOOKUP(P11,Tabelas!B:D,3,0),0),\"\")","v":0},{"$f":"IF(A11<>\"\",IFERROR(VLOOKUP(Q11,Tabelas!B:D,3,0),0),\"\")","v":0},{"$f":"IF(A11<>\"\",IFERROR(VLOOKUP(R11,Tabelas!B:D,3,0),0),\"\")","v":0},{"$f":"IF(A11<>\"\",IFERROR(VLOOKUP(S11,Tabelas!B:D,3,0),0),\"\")","v":0},{"$f":"IF(A11<>\"\",IFERROR(VLOOKUP(T11,Tabelas!B:D,3,0),0),\"\")","v":0},{"$f":"IF(A11<>\"\",IFERROR(VLOOKUP(U11,Tabelas!B:D,3,0),0),\"\")","v":0},{"$f":"IF(A11<>\"\",IFERROR(VLOOKUP(V11,Tabelas!B:D,3,0),0),\"\")","v":0},{"$f":"IF(A11<>\"\",IFERROR(VLOOKUP(W11,Tabelas!B:D,3,0),0),\"\")","v":0},{"$f":"IF(A11<>\"\",IFERROR(VLOOKUP(X11,Tabelas!B:D,3,0),0),\"\")","v":0},{"$f":"IF(A11<>\"\",IFERROR(VLOOKUP(Y11,Tabelas!B:D,3,0),0),\"\")","v":0},{"$f":"IF(A11<>\"\",IFERROR(VLOOKUP(Z11,Tabelas!B:D,3,0),0),\"\")","v":0},{"$f":"IF(A11<>\"\",IFERROR(VLOOKUP(AA11,Tabelas!B:D,3,0),0),\"\")","v":0},{"$f":"IF(A11<>\"\",IFERROR(VLOOKUP(AB11,Tabelas!B:D,3,0),0),\"\")","v":0},{"$f":"IF(A11<>\"\",IFERROR(VLOOKUP(AC11,Tabelas!B:D,3,0),0),\"\")","v":0},{"$f":"IF(A11<>\"\",IFERROR(VLOOKUP(AD11,Tabelas!B:D,3,0),0),\"\")","v":0},{"$f":"IF(A11<>\"\",IFERROR(VLOOKUP(AE11,Tabelas!B:D,3,0),0),\"\")","v":0},{"$f":"IF(A11<>\"\",IFERROR(VLOOKUP(AF11,Tabelas!B:D,3,0),0),\"\")","v":0},{"$f":"IF(A11<>\"\",IFERROR(VLOOKUP(AG11,Tabelas!B:D,3,0),0),\"\")","v":0},{"$f":"IF(A11<>\"\",IFERROR(VLOOKUP(AH11,Tabelas!B:D,3,0),0),\"\")","v":0},{"$f":"IF(A11<>\"\",IFERROR(VLOOKUP(AI11,Tabelas!B:D,3,0),0),\"\")","v":0},{"$f":"IF(A11<>\"\",IFERROR(VLOOKUP(AJ11,Tabelas!B:D,3,0),0),\"\")","v":0},{"$f":"IF(A11<>\"\",IFERROR(VLOOKUP(AK11,Tabelas!B:D,3,0),0),\"\")","v":0},{"$f":"IF(A11<>\"\",IFERROR(VLOOKUP(AL11,Tabelas!B:D,3,0),0),\"\")","v":0},{"$f":"IF(A11<>\"\",IFERROR(VLOOKUP(AM11,Tabelas!B:D,3,0),0),\"\")","v":0},{"$f":"IF(A11<>\"\",IFERROR(VLOOKUP(AN11,Tabelas!B:D,3,0),0),\"\")","v":0},{"$f":"IF(A11<>\"\",IFERROR(VLOOKUP(AO11,Tabelas!B:D,3,0),0),\"\")","v":0},{"$f":"IF(A11<>\"\",IFERROR(VLOOKUP(AP11,Tabelas!B:D,3,0),0),\"\")","v":0},{"$f":"IF(A11<>\"\",IFERROR(VLOOKUP(AQ11,Tabelas!B:D,3,0),0),\"\")","v":0},0,0,0,0,0,0,0,0]
["FULANO 4",4,null,null,null,null,null,null,null,null,null,null,null,null,null,null,null,null,null,null,null,null,null,null,null,null,null,null,null,null,null,null,null,null,null,null,null,null,null,null,null,null,null,{"$f":"IF(A12<>\"\",IFERROR(VLOOKUP(M12,Tabelas!B:D,3,0),0),\"\")","v":0},{"$f":"IF(A12<>\"\",IFERROR(VLOOKUP(N12,Tabelas!B:D,3,0),0),\"\")","v":0},{"$f":"IF(A12<>\"\",IFERROR(VLOOKUP(O12,Tabelas!B:D,3,0),0),\"\")","v":0},{"$f":"IF(A12<>\"\",IFERROR(VLOOKUP(P12,Tabelas!B:D,3,0),0),\"\")","v":0},{"$f":"IF(A12<>\"\",IFERROR(VLOOKUP(Q12,Tabelas!B:D,3,0),0),\"\")","v":0},{"$f":"IF(A12<>\"\",IFERROR(VLOOKUP(R12,Tabelas!B:D,3,0),0),\"\")","v":0},{"$f":"IF(A12<>\"\",IFERROR(VLOOKUP(S12,Tabelas!B:D,3,0),0),\"\")","v":0},{"$f":"IF(A12<>\"\",IFERROR(VLOOKUP(T12,Tabelas!B:D,3,0),0),\"\")","v":0},{"$f":"IF(A12<>\"\",IFERROR(VLOOKUP(U12,Tabelas!B:D,3,0),0),\"\")","v":0},{"$f":"IF(A12<>\"\",IFERROR(VLOOKUP(V12,Tabelas!B:D,3,0),0),\"\")","v":0},{"$f":"IF(A12<>\"\",IFERROR(VLOOKUP(W12,Tabelas!B:D,3,0),0),\"\")","v":0},{"$f":"IF(A12<>\"\",IFERROR(VLOOKUP(X12,Tabelas!B:D,3,0),0),\"\")","v":0},{"$f":"IF(A12<>\"\",IFERROR(VLOOKUP(Y12,Tabelas!B:D,3,0),0),\"\")","v":0},{"$f":"IF(A12<>\"\",IFERROR(VLOOKUP(Z12,Tabelas!B:D,3,0),0),\"\")","v":0},{"$f":"IF(A12<>\"\",IFERROR(VLOOKUP(AA12,Tabelas!B:D,3,0),0),\"\")","v":0},{"$f":"IF(A12<>\"\",IFERROR(VLOOKUP(AB12,Tabelas!B:D,3,0),0),\"\")","v":0},{"$f":"IF(A12<>\"\",IFERROR(VLOOKUP(AC12,Tabelas!B:D,3,0),0),\"\")","v":0},{"$f":"IF(A12<>\"\",IFERROR(VLOOKUP(AD12,Tabelas!B:D,3,0),0),\"\")","v":0},{"$f":"IF(A12<>\"\",IFERROR(VLOOKUP(AE12,Tabelas!B:D,3,0),0),\"\")","v":0},{"$f":"IF(A12<>\"\",IFERROR(VLOOKUP(AF12,Tabelas!B:D,3,0),0),\"\")","v":0},{"$f":"IF(A12<>\"\",IFERROR(VLOOKUP(AG12,Tabelas!B:D,3,0),0),\"\")","v":0},{"$f":"IF(A12<>\"\",IFERROR(VLOOKUP(AH12,Tabelas!B:D,3,0),0),\"\")","v":0},{"$f":"IF(A12<>\"\",IFERROR(VLOOKUP(AI12,Tabelas!B:D,3,0),0),\"\")","v":0},{"$f":"IF(A12<>\"\",IFERROR(VLOOKUP(AJ12,Tabelas!B:D,3,0),0),\"\")","v":0},{"$f":"IF(A12<>\"\",IFERROR(VLOOKUP(AK12,Tabelas!B:D,3,0),0),\"\")","v":0},{"$f":"IF(A12<>\"\",IFERROR(VLOOKUP(AL12,Tabelas!B:D,3,0),0),\"\")","v":0},{"$f":"IF(A12<>\"\",IFERROR(VLOOKUP(AM12,Tabelas!B:D,3,0),0),\"\")","v":0},{"$f":"IF(A12<>\"\",IFERROR(VLOOKUP(AN12,Tabelas!B:D,3,0),0),\"\")","v":0},{"$f":"IF(A12<>\"\",IFERROR(VLOOKUP(AO12,Tabelas!B:D,3,0),0),\"\")","v":0},{"$f":"IF(A12<>\"\",IFERROR(VLOOKUP(AP12,Tabelas!B:D,3,0),0),\"\")","v":0},{"$f":"IF(A12<>\"\",IFERROR(VLOOKUP(AQ12,Tabelas!B:D,3,0),0),\"\")","v":0},0,0,0,0,0,0,0,0]
["FULANO 5",5,null,null,null,null,null,null,null,null,null,null,null,null,null,null,null,null,null,null,null,null,null,null,null,null,null,null,null,null,null,null,null,null,null,null,null,null,null,null,null,null,null,{"$f":"IF(A13<>\"\",IFERROR(VLOOKUP(M13,Tabelas!B:D,3,0),0),\"\")","v":0},{"$f":"IF(A13<>\"\",IFERROR(VLOOKUP(N13,Tabelas!B:D,3,0),0),\"\")","v":0},{"$f":"IF(A13<>\"\",IFERROR(VLOOKUP(O13,Tabelas!B:D,3,0),0),\"\")","v":0},{"$f":"IF(A13<>\"\",IFERROR(VLOOKUP(P13,Tabelas!B:D,3,0),0),\"\")","v":0},{"$f":"IF(A13<>\"\",IFERROR(VLOOKUP(Q13,Tabelas!B:D,3,0),0),\"\")","v":0},{"$f":"IF(A13<>\"\",IFERROR(VLOOKUP(R13,Tabelas!B:D,3,0),0),\"\")","v":0},{"$f":"IF(A13<>\"\",IFERROR(VLOOKUP(S13,Tabelas!B:D,3,0),0),\"\")","v":0},{"$f":"IF(A13<>\"\",IFERROR(VLOOKUP(T13,Tabelas!B:D,3,0),0),\"\")","v":0},{"$f":"IF(A13<>\"\",IFERROR(VLOOKUP(U13,Tabelas!B:D,3,0),0),\"\")","v":0},{"$f":"IF(A13<>\"\",IFERROR(VLOOKUP(V13,Tabelas!B:D,3,0),0),\"\")","v":0},{"$f":"IF(A13<>\"\",IFERROR(VLOOKUP(W13,Tabelas!B:D,3,0),0),\"\")","v":0},{"$f":"IF(A13<>\"\",IFERROR(VLOOKUP(X13,Tabelas!B:D,3,0),0),\"\")","v":0},{"$f":"IF(A13<>\"\",IFERROR(VLOOKUP(Y13,Tabelas!B:D,3,0),0),\"\")","v":0},{"$f":"IF(A13<>\"\",IFERROR(VLOOKUP(Z13,Tabelas!B:D,3,0),0),\"\")","v":0},{"$f":"IF(A13<>\"\",IFERROR(VLOOKUP(AA13,Tabelas!B:D,3,0),0),\"\")","v":0},{"$f":"IF(A13<>\"\",IFERROR(VLOOKUP(AB13,Tabelas!B:D,3,0),0),\"\")","v":0},{"$f":"IF(A13<>\"\",IFERROR(VLOOKUP(AC13,Tabelas!B:D,3,0),0),\"\")","v":0},{"$f":"IF(A13<>\"\",IFERROR(VLOOKUP(AD13,Tabelas!B:D,3,0),0),\"\")","v":0},{"$f":"IF(A13<>\"\",IFERROR(VLOOKUP(AE13,Tabelas!B:D,3,0),0),\"\")","v":0},{"$f":"IF(A13<>\"\",IFERROR(VLOOKUP(AF13,Tabelas!B:D,3,0),0),\"\")","v":0},{"$f":"IF(A13<>\"\",IFERROR(VLOOKUP(AG13,Tabelas!B:D,3,0),0),\"\")","v":0},{"$f":"IF(A13<>\"\",IFERROR(VLOOKUP(AH13,Tabelas!B:D,3,0),0),\"\")","v":0},{"$f":"IF(A13<>\"\",IFERROR(VLOOKUP(AI13,Tabelas!B:D,3,0),0),\"\")","v":0},{"$f":"IF(A13<>\"\",IFERROR(VLOOKUP(AJ13,Tabelas!B:D,3,0),0),\"\")","v":0},{"$f":"IF(A13<>\"\",IFERROR(VLOOKUP(AK13,Tabelas!B:D,3,0),0),\"\")","v":0},{"$f":"IF(A13<>\"\",IFERROR(VLOOKUP(AL13,Tabelas!B:D,3,0),0),\"\")","v":0},{"$f":"IF(A13<>\"\",IFERROR(VLOOKUP(AM13,Tabelas!B:D,3,0),0),\"\")","v":0},{"$f":"IF(A13<>\"\",IFERROR(VLOOKUP(AN13,Tabelas!B:D,3,0),0),\"\")","v":0},{"$f":"IF(A13<>\"\",IFERROR(VLOOKUP(AO13,Tabelas!B:D,3,0),0),\"\")","v":0},{"$f":"IF(A13<>\"\",IFERROR(VLOOKUP(AP13,Tabelas!B:D,3,0),0),\"\")","v":0},{"$f":"IF(A13<>\"\",IFERROR(VLOOKUP(AQ13,Tabelas!B:D,3,0),0),\"\")","v":0},0,0,0,0,0,0,0,0]
["FULANO 6",6,null,null,null,null,null,null,null,null,null,null,null,null,null,null,null,null,null,null,null,null,null,null,null,null,null,null,null,null,null,null,null,null,null,null,null,null,null,null,null,null,null,{"$f":"IF(A14<>\"\",IFERROR(VLOOKUP(M14,Tabelas!B:D,3,0),0),\"\")","v":0},{"$f":"IF(A14<>\"\",IFERROR(VLOOKUP(N14,Tabelas!B:D,3,0),0),\"\")","v":0},{"$f":"IF(A14<>\"\",IFERROR(VLOOKUP(O14,Tabelas!B:D,3,0),0),\"\")","v":0},{"$f":"IF(A14<>\"\",IFERROR(VLOOKUP(P14,Tabelas!B:D,3,0),0),\"\")","v":0},{"$f":"IF(A14<>\"\",IFERROR(VLOOKUP(Q14,Tabelas!B:D,3,0),0),\"\")","v":0},{"$f":"IF(A14<>\"\",IFERROR(VLOOKUP(R14,Tabelas!B:D,3,0),0),\"\")","v":0},{"$f":"IF(A14<>\"\",IFERROR(VLOOKUP(S14,Tabelas!B:D,3,0),0),\"\")","v":0},{"$f":"IF(A14<>\"\",IFERROR(VLOOKUP(T14,Tabelas!B:D,3,0),0),\"\")","v":0},{"$f":"IF(A14<>\"\",IFERROR(VLOOKUP(U14,Tabelas!B:D,3,0),0),\"\")","v":0},{"$f":"IF(A14<>\"\",IFERROR(VLOOKUP(V14,Tabelas!B:D,3,0),0),\"\")","v":0},{"$f":"IF(A14<>\"\",IFERROR(VLOOKUP(W14,Tabelas!B:D,3,0),0),\"\")","v":0},{"$f":"IF(A14<>\"\",IFERROR(VLOOKUP(X14,Tabelas!B:D,3,0),0),\"\")","v":0},{"$f":"IF(A14<>\"\",IFERROR(VLOOKUP(Y14,Tabelas!B:D,3,0),0),\"\")","v":0},{"$f":"IF(A14<>\"\",IFERROR(VLOOKUP(Z14,Tabelas!B:D,3,0),0),\"\")","v":0},{"$f":"IF(A14<>\"\",IFERROR(VLOOKUP(AA14,Tabelas!B:D,3,0),0),\"\")","v":0},{"$f":"IF(A14<>\"\",IFERROR(VLOOKUP(AB14,Tabelas!B:D,3,0),0),\"\")","v":0},{"$f":"IF(A14<>\"\",IFERROR(VLOOKUP(AC14,Tabelas!B:D,3,0),0),\"\")","v":0},{"$f":"IF(A14<>\"\",IFERROR(VLOOKUP(AD14,Tabelas!B:D,3,0),0),\"\")","v":0},{"$f":"IF(A14<>\"\",IFERROR(VLOOKUP(AE14,Tabelas!B:D,3,0),0),\"\")","v":0},{"$f":"IF(A14<>\"\",IFERROR(VLOOKUP(AF14,Tabelas!B:D,3,0),0),\"\")","v":0},{"$f":"IF(A14<>\"\",IFERROR(VLOOKUP(AG14,Tabelas!B:D,3,0),0),\"\")","v":0},{"$f":"IF(A14<>\"\",IFERROR(VLOOKUP(AH14,Tabelas!B:D,3,0),0),\"\")","v":0},{"$f":"IF(A14<>\"\",IFERROR(VLOOKUP(AI14,Tabelas!B:D,3,0),0),\"\")","v":0},{"$f":"IF(A14<>\"\",IFERROR(VLOOKUP(AJ14,Tabelas!B:D,3,0),0),\"\")","v":0},{"$f":"IF(A14<>\"\",IFERROR(VLOOKUP(AK14,Tabelas!B:D,3,0),0),\"\")","v":0},{"$f":"IF(A14<>\"\",IFERROR(VLOOKUP(AL14,Tabelas!B:D,3,0),0),\"\")","v":0},{"$f":"IF(A14<>\"\",IFERROR(VLOOKUP(AM14,Tabelas!B:D,3,0),0),\"\")","v":0},{"$f":"IF(A14<>\"\",IFERROR(VLOOKUP(AN14,Tabelas!B:D,3,0),0),\"\")","v":0},{"$f":"IF(A14<>\"\",IFERROR(VLOOKUP(AO14,Tabelas!B:D,3,0),0),\"\")","v":0},{"$f":"IF(A14<>\"\",IFERROR(VLOOKUP(AP14,Tabelas!B:D,3,0),0),\"\")","v":0},{"$f":"IF(A14<>\"\",IFERROR(VLOOKUP(AQ14,Tabelas!B:D,3,0),0),\"\")","v":0},0,0,0,0,0,0,0,0]
["FULANO 7",7,null,null,null,null,null,null,null,null,null,null,null,null,null,null,null,null,null,null,null,null,null,null,null,null,null,null,null,null,null,null,null,null,null,null,null,null,null,null,null,null,null,{"$f":"IF(A15<>\"\",IFERROR(VLOOKUP(M15,Tabelas!B:D,3,0),0),\"\")","v":0},{"$f":"IF(A15<>\"\",IFERROR(VLOOKUP(N15,Tabelas!B:D,3,0),0),\"\")","v":0},{"$f":"IF(A15<>\"\",IFERROR(VLOOKUP(O15,Tabelas!B:D,3,0),0),\"\")","v":0},{"$f":"IF(A15<>\"\",IFERROR(VLOOKUP(P15,Tabelas!B:D,3,0),0),\"\")","v":0},{"$f":"IF(A15<>\"\",IFERROR(VLOOKUP(Q15,Tabelas!B:D,3,0),0),\"\")","v":0},{"$f":"IF(A15<>\"\",IFERROR(VLOOKUP(R15,Tabelas!B:D,3,0),0),\"\")","v":0},{"$f":"IF(A15<>\"\",IFERROR(VLOOKUP(S15,Tabelas!B:D,3,0),0),\"\")","v":0},{"$f":"IF(A15<>\"\",IFERROR(VLOOKUP(T15,Tabelas!B:D,3,0),0),\"\")","v":0},{"$f":"IF(A15<>\"\",IFERROR(VLOOKUP(U15,Tabelas!B:D,3,0),0),\"\")","v":0},{"$f":"IF(A15<>\"\",IFERROR(VLOOKUP(V15,Tabelas!B:D,3,0),0),\"\")","v":0},{"$f":"IF(A15<>\"\",IFERROR(VLOOKUP(W15,Tabelas!B:D,3,0),0),\"\")","v":0},{"$f":"IF(A15<>\"\",IFERROR(VLOOKUP(X15,Tabelas!B:D,3,0),0),\"\")","v":0},{"$f":"IF(A15<>\"\",IFERROR(VLOOKUP(Y15,Tabelas!B:D,3,0),0),\"\")","v":0},{"$f":"IF(A15<>\"\",IFERROR(VLOOKUP(Z15,Tabelas!B:D,3,0),0),\"\")","v":0},{"$f":"IF(A15<>\"\",IFERROR(VLOOKUP(AA15,Tabelas!B:D,3,0),0),\"\")","v":0},{"$f":"IF(A15<>\"\",IFERROR(VLOOKUP(AB15,Tabelas!B:D,3,0),0),\"\")","v":0},{"$f":"IF(A15<>\"\",IFERROR(VLOOKUP(AC15,Tabelas!B:D,3,0),0),\"\")","v":0},{"$f":"IF(A15<>\"\",IFERROR(VLOOKUP(AD15,Tabelas!B:D,3,0),0),\"\")","v":0},{"$f":"IF(A15<>\"\",IFERROR(VLOOKUP(AE15,Tabelas!B:D,3,0),0),\"\")","v":0},{"$f":"IF(A15<>\"\",IFERROR(VLOOKUP(AF15,Tabelas!B:D,3,0),0),\"\")","v":0},{"$f":"IF(A15<>\"\",IFERROR(VLOOKUP(AG15,Tabelas!B:D,3,0),0),\"\")","v":0},{"$f":"IF(A15<>\"\",IFERROR(VLOOKUP(AH15,Tabelas!B:D,3,0),0),\"\")","v":0},{"$f":"IF(A15<>\"\",IFERROR(VLOOKUP(AI15,Tabelas!B:D,3,0),0),\"\")","v":0},{"$f":"IF(A15<>\"\",IFERROR(VLOOKUP(AJ15,Tabelas!B:D,3,0),0),\"\")","v":0},{"$f":"IF(A15<>\"\",IFERROR(VLOOKUP(AK15,Tabelas!B:D,3,0),0),\"\")","v":0},{"$f":"IF(A15<>\"\",IFERROR(VLOOKUP(AL15,Tabelas!B:D,3,0),0),\"\")","v":0},{"$f":"IF(A15<>\"\",IFERROR(VLOOKUP(AM15,Tabelas!B:D,3,0),0),\"\")","v":0},{"$f":"IF(A15<>\"\",IFERROR(VLOOKUP(AN15,Tabelas!B:D,3,0),0),\"\")","v":0},{"$f":"IF(A15<>\"\",IFERROR(VLOOKUP(AO15,Tabelas!B:D,3,0),0),\"\")","v":0},{"$f":"IF(A15<>\"\",IFERROR(VLOOKUP(AP15,Tabelas!B:D,3,0),0),\"\")","v":0},{"$f":"IF(A15<>\"\",IFERROR(VLOOKUP(AQ15,Tabelas!B:D,3,0),0),\"\")","v":0},0,0,0,0,0,0,0,0]
["FULANO 8",8,null,null,null,null,null,null,null,null,null,null,null,null,null,null,null,null,null,null,null,null,null,null,null,null,null,null,null,null,null,null,null,null,null,null,null,null,null,null,null,null,null,{"$f":"IF(A16<>\"\",IFERROR(VLOOKUP(M16,Tabelas!B:D,3,0),0),\"\")","v":0},{"$f":"IF(A16<>\"\",IFERROR(VLOOKUP(N16,Tabelas!B:D,3,0),0),\"\")","v":0},{"$f":"IF(A16<>\"\",IFERROR(VLOOKUP(O16,Tabelas!B:D,3,0),0),\"\")","v":0},{"$f":"IF(A16<>\"\",IFERROR(VLOOKUP(P16,Tabelas!B:D,3,0),0),\"\")","v":0},{"$f":"IF(A16<>\"\",IFERROR(VLOOKUP(Q16,Tabelas!B:D,3,0),0),\"\")","v":0},{"$f":"IF(A16<>\"\",IFERROR(VLOOKUP(R16,Tabelas!B:D,3,0),0),\"\")","v":0},{"$f":"IF(A16<>\"\",IFERROR(VLOOKUP(S16,Tabelas!B:D,3,0),0),\"\")","v":0},{"$f":"IF(A16<>\"\",IFERROR(VLOOKUP(T16,Tabelas!B:D,3,0),0),\"\")","v":0},{"$f":"IF(A16<>\"\",IFERROR(VLOOKUP(U16,Tabelas!B:D,3,0),0),\"\")","v":0},{"$f":"IF(A16<>\"\",IFERROR(VLOOKUP(V16,Tabelas!B:D,3,0),0),\"\")","v":0},{"$f":"IF(A16<>\"\",IFERROR(VLOOKUP(W16,Tabelas!B:D,3,0),0),\"\")","v":0},{"$f":"IF(A16<>\"\",IFERROR(VLOOKUP(X16,Tabelas!B:D,3,0),0),\"\")","v":0},{"$f":"IF(A16<>\"\",IFERROR(VLOOKUP(Y16,Tabelas!B:D,3,0),0),\"\")","v":0},{"$f":"IF(A16<>\"\",IFERROR(VLOOKUP(Z16,Tabelas!B:D,3,0),0),\"\")","v":0},{"$f":"IF(A16<>\"\",IFERROR(VLOOKUP(AA16,Tabelas!B:D,3,0),0),\"\")","v":0},{"$f":"IF(A16<>\"\",IFERROR(VLOOKUP(AB16,Tabelas!B:D,3,0),0),\"\")","v":0},{"$f":"IF(A16<>\"\",IFERROR(VLOOKUP(AC16,Tabelas!B:D,3,0),0),\"\")","v":0},{"$f":"IF(A16<>\"\",IFERROR(VLOOKUP(AD16,Tabelas!B:D,3,0),0),\"\")","v":0},{"$f":"IF(A16<>\"\",IFERROR(VLOOKUP(AE16,Tabelas!B:D,3,0),0),\"\")","v":0},{"$f":"IF(A16<>\"\",IFERROR(VLOOKUP(AF16,Tabelas!B:D,3,0),0),\"\")","v":0},{"$f":"IF(A16<>\"\",IFERROR(VLOOKUP(AG16,Tabelas!B:D,3,0),0),\"\")","v":0},{"$f":"IF(A16<>\"\",IFERROR(VLOOKUP(AH16,Tabelas!B:D,3,0),0),\"\")","v":0},{"$f":"IF(A16<>\"\",IFERROR(VLOOKUP(AI16,Tabelas!B:D,3,0),0),\"\")","v":0},{"$f":"IF(A16<>\"\",IFERROR(VLOOKUP(AJ16,Tabelas!B:D,3,0),0),\"\")","v":0},{"$f":"IF(A16<>\"\",IFERROR(VLOOKUP(AK16,Tabelas!B:D,3,0),0),\"\")","v":0},{"$f":"IF(A16<>\"\",IFERROR(VLOOKUP(AL16,Tabelas!B:D,3,0),0),\"\")","v":0},{"$f":"IF(A16<>\"\",IFERROR(VLOOKUP(AM16,Tabelas!B:D,3,0),0),\"\")","v":0},{"$f":"IF(A16<>\"\",IFERROR(VLOOKUP(AN16,Tabelas!B:D,3,0),0),\"\")","v":0},{"$f":"IF(A16<>\"\",IFERROR(VLOOKUP(AO16,Tabelas!B:D,3,0),0),\"\")","v":0},{"$f":"IF(A16<>\"\",IFERROR(VLOOKUP(AP16,Tabelas!B:D,3,0),0),\"\")","v":0},{"$f":"IF(A16<>\"\",IFERROR(VLOOKUP(AQ16,Tabelas!B:D,3,0),0),\"\")","v":0},0,0,0,0,0,0,0,0]
["FULANO 9",9,null,null,null,null,null,null,null,null,null,null,null,null,null,null,null,null,null,null,null,null,null,null,null,null,null,null,null,null,null,null,null,null,null,null,null,null,null,null,null,null,null,{"$f":"IF(A17<>\"\",IFERROR(VLOOKUP(M17,Tabelas!B:D,3,0),0),\"\")","v":0},{"$f":"IF(A17<>\"\",IFERROR(VLOOKUP(N17,Tabelas!B:D,3,0),0),\"\")","v":0},{"$f":"IF(A17<>\"\",IFERROR(VLOOKUP(O17,Tabelas!B:D,3,0),0),\"\")","v":0},{"$f":"IF(A17<>\"\",IFERROR(VLOOKUP(P17,Tabelas!B:D,3,0),0),\"\")","v":0},{"$f":"IF(A17<>\"\",IFERROR(VLOOKUP(Q17,Tabelas!B:D,3,0),0),\"\")","v":0},{"$f":"IF(A17<>\"\",IFERROR(VLOOKUP(R17,Tabelas!B:D,3,0),0),\"\")","v":0},{"$f":"IF(A17<>\"\",IFERROR(VLOOKUP(S17,Tabelas!B:D,3,0),0),\"\")","v":0},{"$f":"IF(A17<>\"\",IFERROR(VLOOKUP(T17,Tabelas!B:D,3,0),0),\"\")","v":0},{"$f":"IF(A17<>\"\",IFERROR(VLOOKUP(U17,Tabelas!B:D,3,0),0),\"\")","v":0},{"$f":"IF(A17<>\"\",IFERROR(VLOOKUP(V17,Tabelas!B:D,3,0),0),\"\")","v":0},{"$f":"IF(A17<>\"\",IFERROR(VLOOKUP(W17,Tabelas!B:D,3,0),0),\"\")","v":0},{"$f":"IF(A17<>\"\",IFERROR(VLOOKUP(X17,Tabelas!B:D,3,0),0),\"\")","v":0},{"$f":"IF(A17<>\"\",IFERROR(VLOOKUP(Y17,Tabelas!B:D,3,0),0),\"\")","v":0},{"$f":"IF(A17<>\"\",IFERROR(VLOOKUP(Z17,Tabelas!B:D,3,0),0),\"\")","v":0},{"$f":"IF(A17<>\"\",IFERROR(VLOOKUP(AA17,Tabelas!B:D,3,0),0),\"\")","v":0},{"$f":"IF(A17<>\"\",IFERROR(VLOOKUP(AB17,Tabelas!B:D,3,0),0),\"\")","v":0},{"$f":"IF(A17<>\"\",IFERROR(VLOOKUP(AC17,Tabelas!B:D,3,0),0),\"\")","v":0},{"$f":"IF(A17<>\"\",IFERROR(VLOOKUP(AD17,Tabelas!B:D,3,0),0),\"\")","v":0},{"$f":"IF(A17<>\"\",IFERROR(VLOOKUP(AE17,Tabelas!B:D,3,0),0),\"\")","v":0},{"$f":"IF(A17<>\"\",IFERROR(VLOOKUP(AF17,Tabelas!B:D,3,0),0),\"\")","v":0},{"$f":"IF(A17<>\"\",IFERROR(VLOOKUP(AG17,Tabelas!B:D,3,0),0),\"\")","v":0},{"$f":"IF(A17<>\"\",IFERROR(VLOOKUP(AH17,Tabelas!B:D,3,0),0),\"\")","v":0},{"$f":"IF(A17<>\"\",IFERROR(VLOOKUP(AI17,Tabelas!B:D,3,0),0),\"\")","v":0},{"$f":"IF(A17<>\"\",IFERROR(VLOOKUP(AJ17,Tabelas!B:D,3,0),0),\"\")","v":0},{"$f":"IF(A17<>\"\",IFERROR(VLOOKUP(AK17,Tabelas!B:D,3,0),0),\"\")","v":0},{"$f":"IF(A17<>\"\",IFERROR(VLOOKUP(AL17,Tabelas!B:D,3,0),0),\"\")","v":0},{"$f":"IF(A17<>\"\",IFERROR(VLOOKUP(AM17,Tabelas!B:D,3,0),0),\"\")","v":0},{"$f":"IF(A17<>\"\",IFERROR(VLOOKUP(AN17,Tabelas!B:D,3,0),0),\"\")","v":0},{"$f":"IF(A17<>\"\",IFERROR(VLOOKUP(AO17,Tabelas!B:D,3,0),0),\"\")","v":0},{"$f":"IF(A17<>\"\",IFERROR(VLOOKUP(AP17,Tabelas!B:D,3,0),0),\"\")","v":0},{"$f":"IF(A17<>\"\",IFERROR(VLOOKUP(AQ17,Tabelas!B:D,3,0),0),\"\")","v":0},0,0,0,0,0,0,0,0]
["FULANO 10",10,null,null,null,null,null,null,null,null,null,null,null,null,null,null,null,null,null,null,null,null,null,null,null,null,null,null,null,null,null,null,null,null,null,null,null,null,null,null,null,null,null,{"$f":"IF(A18<>\"\",IFERROR(VLOOKUP(M18,Tabelas!B:D,3,0),0),\"\")","v":0},{"$f":"IF(A18<>\"\",IFERROR(VLOOKUP(N18,Tabelas!B:D,3,0),0),\"\")","v":0},{"$f":"IF(A18<>\"\",IFERROR(VLOOKUP(O18,Tabelas!B:D,3,0),0),\"\")","v":0},{"$f":"IF(A18<>\"\",IFERROR(VLOOKUP(P18,Tabelas!B:D,3,0),0),\"\")","v":0},{"$f":"IF(A18<>\"\",IFERROR(VLOOKUP(Q18,Tabelas!B:D,3,0),0),\"\")","v":0},{"$f":"IF(A18<>\"\",IFERROR(VLOOKUP(R18,Tabelas!B:D,3,0),0),\"\")","v":0},{"$f":"IF(A18<>\"\",IFERROR(VLOOKUP(S18,Tabelas!B:D,3,0),0),\"\")","v":0},{"$f":"IF(A18<>\"\",IFERROR(VLOOKUP(T18,Tabelas!B:D,3,0),0),\"\")","v":0},{"$f":"IF(A18<>\"\",IFERROR(VLOOKUP(U18,Tabelas!B:D,3,0),0),\"\")","v":0},{"$f":"IF(A18<>\"\",IFERROR(VLOOKUP(V18,Tabelas!B:D,3,0),0),\"\")","v":0},{"$f":"IF(A18<>\"\",IFERROR(VLOOKUP(W18,Tabelas!B:D,3,0),0),\"\")","v":0},{"$f":"IF(A18<>\"\",IFERROR(VLOOKUP(X18,Tabelas!B:D,3,0),0),\"\")","v":0},{"$f":"IF(A18<>\"\",IFERROR(VLOOKUP(Y18,Tabelas!B:D,3,0),0),\"\")","v":0},{"$f":"IF(A18<>\"\",IFERROR(VLOOKUP(Z18,Tabelas!B:D,3,0),0),\"\")","v":0},{"$f":"IF(A18<>\"\",IFERROR(VLOOKUP(AA18,Tabelas!B:D,3,0),0),\"\")","v":0},{"$f":"IF(A18<>\"\",IFERROR(VLOOKUP(AB18,Tabelas!B:D,3,0),0),\"\")","v":0},{"$f":"IF(A18<>\"\",IFERROR(VLOOKUP(AC18,Tabelas!B:D,3,0),0),\"\")","v":0},{"$f":"IF(A18<>\"\",IFERROR(VLOOKUP(AD18,Tabelas!B:D,3,0),0),\"\")","v":0},{"$f":"IF(A18<>\"\",IFERROR(VLOOKUP(AE18,Tabelas!B:D,3,0),0),\"\")","v":0},{"$f":"IF(A18<>\"\",IFERROR(VLOOKUP(AF18,Tabelas!B:D,3,0),0),\"\")","v":0},{"$f":"IF(A18<>\"\",IFERROR(VLOOKUP(AG18,Tabelas!B:D,3,0),0),\"\")","v":0},{"$f":"IF(A18<>\"\",IFERROR(VLOOKUP(AH18,Tabelas!B:D,3,0),0),\"\")","v":0},{"$f":"IF(A18<>\"\",IFERROR(VLOOKUP(AI18,Tabelas!B:D,3,0),0),\"\")","v":0},{"$f":"IF(A18<>\"\",IFERROR(VLOOKUP(AJ18,Tabelas!B:D,3,0),0),\"\")","v":0},{"$f":"IF(A18<>\"\",IFERROR(VLOOKUP(AK18,Tabelas!B:D,3,0),0),\"\")","v":0},{"$f":"IF(A18<>\"\",IFERROR(VLOOKUP(AL18,Tabelas!B:D,3,0),0),\"\")","v":0},{"$f":"IF(A18<>\"\",IFERROR(VLOOKUP(AM18,Tabelas!B:D,3,0),0),\"\")","v":0},{"$f":"IF(A18<>\"\",IFERROR(VLOOKUP(AN18,Tabelas!B:D,3,0),0),\"\")","v":0},{"$f":"IF(A18<>\"\",IFERROR(VLOOKUP(AO18,Tabelas!B:D,3,0),0),\"\")","v":0},{"$f":"IF(A18<>\"\",IFERROR(VLOOKUP(AP18,Tabelas!B:D,3,0),0),\"\")","v":0},{"$f":"IF(A18<>\"\",IFERROR(VLOOKUP(AQ18,Tabelas!B:D,3,0),0),\"\")","v":0},0,0,0,0,0,0,0,0]
["FULANO 11",11,null,null,null,null,null,null,null,null,null,null,null,null,null,null,null,null,null,null,null,null,null,null,null,null,null,null,null,null,null,null,null,null,null,null,null,null,null,null,null,null,null,{"$f":"IF(A19<>\"\",IFERROR(VLOOKUP(M19,Tabelas!B:D,3,0),0),\"\")","v":0},{"$f":"IF(A19<>\"\",IFERROR(VLOOKUP(N19,Tabelas!B:D,3,0),0),\"\")","v":0},{"$f":"IF(A19<>\"\",IFERROR(VLOOKUP(O19,Tabelas!B:D,3,0),0),\"\")","v":0},{"$f":"IF(A19<>\"\",IFERROR(VLOOKUP(P19,Tabelas!B:D,3,0),0),\"\")","v":0},{"$f":"IF(A19<>\"\",IFERROR(VLOOKUP(Q19,Tabelas!B:D,3,0),0),\"\")","v":0},{"$f":"IF(A19<>\"\",IFERROR(VLOOKUP(R19,Tabelas!B:D,3,0),0),\"\")","v":0},{"$f":"IF(A19<>\"\",IFERROR(VLOOKUP(S19,Tabelas!B:D,3,0),0),\"\")","v":0},{"$f":"IF(A19<>\"\",IFERROR(VLOOKUP(T19,Tabelas!B:D,3,0),0),\"\")","v":0},{"$f":"IF(A19<>\"\",IFERROR(VLOOKUP(U19,Tabelas!B:D,3,0),0),\"\")","v":0},{"$f":"IF(A19<>\"\",IFERROR(VLOOKUP(V19,Tabelas!B:D,3,0),0),\"\")","v":0},{"$f":"IF(A19<>\"\",IFERROR(VLOOKUP(W19,Tabelas!B:D,3,0),0),\"\")","v":0},{"$f":"IF(A19<>\"\",IFERROR(VLOOKUP(X19,Tabelas!B:D,3,0),0),\"\")","v":0},{"$f":"IF(A19<>\"\",IFERROR(VLOOKUP(Y19,Tabelas!B:D,3,0),0),\"\")","v":0},{"$f":"IF(A19<>\"\",IFERROR(VLOOKUP(Z19,Tabelas!B:D,3,0),0),\"\")","v":0},{"$f":"IF(A19<>\"\",IFERROR(VLOOKUP(AA19,Tabelas!B:D,3,0),0),\"\")","v":0},{"$f":"IF(A19<>\"\",IFERROR(VLOOKUP(AB19,Tabelas!B:D,3,0),0),\"\")","v":0},{"$f":"IF(A19<>\"\",IFERROR(VLOOKUP(AC19,Tabelas!B:D,3,0),0),\"\")","v":0},{"$f":"IF(A19<>\"\",IFERROR(VLOOKUP(AD19,Tabelas!B:D,3,0),0),\"\")","v":0},{"$f":"IF(A19<>\"\",IFERROR(VLOOKUP(AE19,Tabelas!B:D,3,0),0),\"\")","v":0},{"$f":"IF(A19<>\"\",IFERROR(VLOOKUP(AF19,Tabelas!B:D,3,0),0),\"\")","v":0},{"$f":"IF(A19<>\"\",IFERROR(VLOOKUP(AG19,Tabelas!B:D,3,0),0),\"\")","v":0},{"$f":"IF(A19<>\"\",IFERROR(VLOOKUP(AH19,Tabelas!B:D,3,0),0),\"\")","v":0},{"$f":"IF(A19<>\"\",IFERROR(VLOOKUP(AI19,Tabelas!B:D,3,0),0),\"\")","v":0},{"$f":"IF(A19<>\"\",IFERROR(VLOOKUP(AJ19,Tabelas!B:D,3,0),0),\"\")","v":0},{"$f":"IF(A19<>\"\",IFERROR(VLOOKUP(AK19,Tabelas!B:D,3,0),0),\"\")","v":0},{"$f":"IF(A19<>\"\",IFERROR(VLOOKUP(AL19,Tabelas!B:D,3,0),0),\"\")","v":0},{"$f":"IF(A19<>\"\",IFERROR(VLOOKUP(AM19,Tabelas!B:D,3,0),0),\"\")","v":0},{"$f":"IF(A19<>\"\",IFERROR(VLOOKUP(AN19,Tabelas!B:D,3,0),0),\"\")","v":0},{"$f":"IF(A19<>\"\",IFERROR(VLOOKUP(AO19,Tabelas!B:D,3,0),0),\"\")","v":0},{"$f":"IF(A19<>\"\",IFERROR(VLOOKUP(AP19,Tabelas!B:D,3,0),0),\"\")","v":0},{"$f":"IF(A19<>\"\",IFERROR(VLOOKUP(AQ19,Tabelas!B:D,3,0),0),\"\")","v":0},0,0,0,0,0,0,0,0]
["FULANO 12",12,null,null,null,null,null,null,null,null,null,null,null,null,null,null,null,null,null,null,null,null,null,null,null,null,null,null,null,null,null,null,null,null,null,null,null,null,null,null,null,null,null,{"$f":"IF(A20<>\"\",IFERROR(VLOOKUP(M20,Tabelas!B:D,3,0),0),\"\")","v":0},{"$f":"IF(A20<>\"\",IFERROR(VLOOKUP(N20,Tabelas!B:D,3,0),0),\"\")","v":0},{"$f":"IF(A20<>\"\",IFERROR(VLOOKUP(O20,Tabelas!B:D,3,0),0),\"\")","v":0},{"$f":"IF(A20<>\"\",IFERROR(VLOOKUP(P20,Tabelas!B:D,3,0),0),\"\")","v":0},{"$f":"IF(A20<>\"\",IFERROR(VLOOKUP(Q20,Tabelas!B:D,3,0),0),\"\")","v":0},{"$f":"IF(A20<>\"\",IFERROR(VLOOKUP(R20,Tabelas!B:D,3,0),0),\"\")","v":0},{"$f":"IF(A20<>\"\",IFERROR(VLOOKUP(S20,Tabelas!B:D,3,0),0),\"\")","v":0},{"$f":"IF(A20<>\"\",IFERROR(VLOOKUP(T20,Tabelas!B:D,3,0),0),\"\")","v":0},{"$f":"IF(A20<>\"\",IFERROR(VLOOKUP(U20,Tabelas!B:D,3,0),0),\"\")","v":0},{"$f":"IF(A20<>\"\",IFERROR(VLOOKUP(V20,Tabelas!B:D,3,0),0),\"\")","v":0},{"$f":"IF(A20<>\"\",IFERROR(VLOOKUP(W20,Tabelas!B:D,3,0),0),\"\")","v":0},{"$f":"IF(A20<>\"\",IFERROR(VLOOKUP(X20,Tabelas!B:D,3,0),0),\"\")","v":0},{"$f":"IF(A20<>\"\",IFERROR(VLOOKUP(Y20,Tabelas!B:D,3,0),0),\"\")","v":0},{"$f":"IF(A20<>\"\",IFERROR(VLOOKUP(Z20,Tabelas!B:D,3,0),0),\"\")","v":0},{"$f":"IF(A20<>\"\",IFERROR(VLOOKUP(AA20,Tabelas!B:D,3,0),0),\"\")","v":0},{"$f":"IF(A20<>\"\",IFERROR(VLOOKUP(AB20,Tabelas!B:D,3,0),0),\"\")","v":0},{"$f":"IF(A20<>\"\",IFERROR(VLOOKUP(AC20,Tabelas!B:D,3,0),0),\"\")","v":0},{"$f":"IF(A20<>\"\",IFERROR(VLOOKUP(AD20,Tabelas!B:D,3,0),0),\"\")","v":0},{"$f":"IF(A20<>\"\",IFERROR(VLOOKUP(AE20,Tabelas!B:D,3,0),0),\"\")","v":0},{"$f":"IF(A20<>\"\",IFERROR(VLOOKUP(AF20,Tabelas!B:D,3,0),0),\"\")","v":0},{"$f":"IF(A20<>\"\",IFERROR(VLOOKUP(AG20,Tabelas!B:D,3,0),0),\"\")","v":0},{"$f":"IF(A20<>\"\",IFERROR(VLOOKUP(AH20,Tabelas!B:D,3,0),0),\"\")","v":0},{"$f":"IF(A20<>\"\",IFERROR(VLOOKUP(AI20,Tabelas!B:D,3,0),0),\"\")","v":0},{"$f":"IF(A20<>\"\",IFERROR(VLOOKUP(AJ20,Tabelas!B:D,3,0),0),\"\")","v":0},{"$f":"IF(A20<>\"\",IFERROR(VLOOKUP(AK20,Tabelas!B:D,3,0),0),\"\")","v":0},{"$f":"IF(A20<>\"\",IFERROR(VLOOKUP(AL20,Tabelas!B:D,3,0),0),\"\")","v":0},{"$f":"IF(A20<>\"\",IFERROR(VLOOKUP(AM20,Tabelas!B:D,3,0),0),\"\")","v":0},{"$f":"IF(A20<>\"\",IFERROR(VLOOKUP(AN20,Tabelas!B:D,3,0),0),\"\")","v":0},{"$f":"IF(A20<>\"\",IFERROR(VLOOKUP(AO20,Tabelas!B:D,3,0),0),\"\")","v":0},{"$f":"IF(A20<>\"\",IFERROR(VLOOKUP(AP20,Tabelas!B:D,3,0),0),\"\")","v":0},{"$f":"IF(A20<>\"\",IFERROR(VLOOKUP(AQ20,Tabelas!B:D,3,0),0),\"\")","v":0},0,0,0,0,0,0,0,0]
["FULANO 13",13,null,null,null,null,null,null,null,null,null,null,null,null,null,null,null,null,null,null,null,null,null,null,null,null,null,null,null,null,null,null,null,null,null,null,null,null,null,null,null,null,null,{"$f":"IF(A21<>\"\",IFERROR(VLOOKUP(M21,Tabelas!B:D,3,0),0),\"\")","v":0},{"$f":"IF(A21<>\"\",IFERROR(VLOOKUP(N21,Tabelas!B:D,3,0),0),\"\")","v":0},{"$f":"IF(A21<>\"\",IFERROR(VLOOKUP(O21,Tabelas!B:D,3,0),0),\"\")","v":0},{"$f":"IF(A21<>\"\",IFERROR(VLOOKUP(P21,Tabelas!B:D,3,0),0),\"\")","v":0},{"$f":"IF(A21<>\"\",IFERROR(VLOOKUP(Q21,Tabelas!B:D,3,0),0),\"\")","v":0},{"$f":"IF(A21<>\"\",IFERROR(VLOOKUP(R21,Tabelas!B:D,3,0),0),\"\")","v":0},{"$f":"IF(A21<>\"\",IFERROR(VLOOKUP(S21,Tabelas!B:D,3,0),0),\"\")","v":0},{"$f":"IF(A21<>\"\",IFERROR(VLOOKUP(T21,Tabelas!B:D,3,0),0),\"\")","v":0},{"$f":"IF(A21<>\"\",IFERROR(VLOOKUP(U21,Tabelas!B:D,3,0),0),\"\")","v":0},{"$f":"IF(A21<>\"\",IFERROR(VLOOKUP(V21,Tabelas!B:D,3,0),0),\"\")","v":0},{"$f":"IF(A21<>\"\",IFERROR(VLOOKUP(W21,Tabelas!B:D,3,0),0),\"\")","v":0},{"$f":"IF(A21<>\"\",IFERROR(VLOOKUP(X21,Tabelas!B:D,3,0),0),\"\")","v":0},{"$f":"IF(A21<>\"\",IFERROR(VLOOKUP(Y21,Tabelas!B:D,3,0),0),\"\")","v":0},{"$f":"IF(A21<>\"\",IFERROR(VLOOKUP(Z21,Tabelas!B:D,3,0),0),\"\")","v":0},{"$f":"IF(A21<>\"\",IFERROR(VLOOKUP(AA21,Tabelas!B:D,3,0),0),\"\")","v":0},{"$f":"IF(A21<>\"\",IFERROR(VLOOKUP(AB21,Tabelas!B:D,3,0),0),\"\")","v":0},{"$f":"IF(A21<>\"\",IFERROR(VLOOKUP(AC21,Tabelas!B:D,3,0),0),\"\")","v":0},{"$f":"IF(A21<>\"\",IFERROR(VLOOKUP(AD21,Tabelas!B:D,3,0),0),\"\")","v":0},{"$f":"IF(A21<>\"\",IFERROR(VLOOKUP(AE21,Tabelas!B:D,3,0),0),\"\")","v":0},{"$f":"IF(A21<>\"\",IFERROR(VLOOKUP(AF21,Tabelas!B:D,3,0),0),\"\")","v":0},{"$f":"IF(A21<>\"\",IFERROR(VLOOKUP(AG21,Tabelas!B:D,3,0),0),\"\")","v":0},{"$f":"IF(A21<>\"\",IFERROR(VLOOKUP(AH21,Tabelas!B:D,3,0),0),\"\")","v":0},{"$f":"IF(A21<>\"\",IFERROR(VLOOKUP(AI21,Tabelas!B:D,3,0),0),\"\")","v":0},{"$f":"IF(A21<>\"\",IFERROR(VLOOKUP(AJ21,Tabelas!B:D,3,0),0),\"\")","v":0},{"$f":"IF(A21<>\"\",IFERROR(VLOOKUP(AK21,Tabelas!B:D,3,0),0),\"\")","v":0},{"$f":"IF(A21<>\"\",IFERROR(VLOOKUP(AL21,Tabelas!B:D,3,0),0),\"\")","v":0},{"$f":"IF(A21<>\"\",IFERROR(VLOOKUP(AM21,Tabelas!B:D,3,0),0),\"\")","v":0},{"$f":"IF(A21<>\"\",IFERROR(VLOOKUP(AN21,Tabelas!B:D,3,0),0),\"\")","v":0},{"$f":"IF(A21<>\"\",IFERROR(VLOOKUP(AO21,Tabelas!B:D,3,0),0),\"\")","v":0},{"$f":"IF(A21<>\"\",IFERROR(VLOOKUP(AP21,Tabelas!B:D,3,0),0),\"\")","v":0},{"$f":"IF(A21<>\"\",IFERROR(VLOOKUP(AQ21,Tabelas!B:D,3,0),0),\"\")","v":0},0,0,0,0,0,0,0,0]
["FULANO 14",14,null,null,null,null,null,null,null,null,null,null,null,null,null,null,null,null,null,null,null,null,null,null,null,null,null,null,null,null,null,null,null,null,null,null,null,null,null,null,null,null,null,{"$f":"IF(A22<>\"\",IFERROR(VLOOKUP(M22,Tabelas!B:D,3,0),0),\"\")","v":0},{"$f":"IF(A22<>\"\",IFERROR(VLOOKUP(N22,Tabelas!B:D,3,0),0),\"\")","v":0},{"$f":"IF(A22<>\"\",IFERROR(VLOOKUP(O22,Tabelas!B:D,3,0),0),\"\")","v":0},{"$f":"IF(A22<>\"\",IFERROR(VLOOKUP(P22,Tabelas!B:D,3,0),0),\"\")","v":0},{"$f":"IF(A22<>\"\",IFERROR(VLOOKUP(Q22,Tabelas!B:D,3,0),0),\"\")","v":0},{"$f":"IF(A22<>\"\",IFERROR(VLOOKUP(R22,Tabelas!B:D,3,0),0),\"\")","v":0},{"$f":"IF(A22<>\"\",IFERROR(VLOOKUP(S22,Tabelas!B:D,3,0),0),\"\")","v":0},{"$f":"IF(A22<>\"\",IFERROR(VLOOKUP(T22,Tabelas!B:D,3,0),0),\"\")","v":0},{"$f":"IF(A22<>\"\",IFERROR(VLOOKUP(U22,Tabelas!B:D,3,0),0),\"\")","v":0},{"$f":"IF(A22<>\"\",IFERROR(VLOOKUP(V22,Tabelas!B:D,3,0),0),\"\")","v":0},{"$f":"IF(A22<>\"\",IFERROR(VLOOKUP(W22,Tabelas!B:D,3,0),0),\"\")","v":0},{"$f":"IF(A22<>\"\",IFERROR(VLOOKUP(X22,Tabelas!B:D,3,0),0),\"\")","v":0},{"$f":"IF(A22<>\"\",IFERROR(VLOOKUP(Y22,Tabelas!B:D,3,0),0),\"\")","v":0},{"$f":"IF(A22<>\"\",IFERROR(VLOOKUP(Z22,Tabelas!B:D,3,0),0),\"\")","v":0},{"$f":"IF(A22<>\"\",IFERROR(VLOOKUP(AA22,Tabelas!B:D,3,0),0),\"\")","v":0},{"$f":"IF(A22<>\"\",IFERROR(VLOOKUP(AB22,Tabelas!B:D,3,0),0),\"\")","v":0},{"$f":"IF(A22<>\"\",IFERROR(VLOOKUP(AC22,Tabelas!B:D,3,0),0),\"\")","v":0},{"$f":"IF(A22<>\"\",IFERROR(VLOOKUP(AD22,Tabelas!B:D,3,0),0),\"\")","v":0},{"$f":"IF(A22<>\"\",IFERROR(VLOOKUP(AE22,Tabelas!B:D,3,0),0),\"\")","v":0},{"$f":"IF(A22<>\"\",IFERROR(VLOOKUP(AF22,Tabelas!B:D,3,0),0),\"\")","v":0},{"$f":"IF(A22<>\"\",IFERROR(VLOOKUP(AG22,Tabelas!B:D,3,0),0),\"\")","v":0},{"$f":"IF(A22<>\"\",IFERROR(VLOOKUP(AH22,Tabelas!B:D,3,0),0),\"\")","v":0},{"$f":"IF(A22<>\"\",IFERROR(VLOOKUP(AI22,Tabelas!B:D,3,0),0),\"\")","v":0},{"$f":"IF(A22<>\"\",IFERROR(VLOOKUP(AJ22,Tabelas!B:D,3,0),0),\"\")","v":0},{"$f":"IF(A22<>\"\",IFERROR(VLOOKUP(AK22,Tabelas!B:D,3,0),0),\"\")","v":0},{"$f":"IF(A22<>\"\",IFERROR(VLOOKUP(AL22,Tabelas!B:D,3,0),0),\"\")","v":0},{"$f":"IF(A22<>\"\",IFERROR(VLOOKUP(AM22,Tabelas!B:D,3,0),0),\"\")","v":0},{"$f":"IF(A22<>\"\",IFERROR(VLOOKUP(AN22,Tabelas!B:D,3,0),0),\"\")","v":0},{"$f":"IF(A22<>\"\",IFERROR(VLOOKUP(AO22,Tabelas!B:D,3,0),0),\"\")","v":0},{"$f":"IF(A22<>\"\",IFERROR(VLOOKUP(AP22,Tabelas!B:D,3,0),0),\"\")","v":0},{"$f":"IF(A22<>\"\",IFERROR(VLOOKUP(AQ22,Tabelas!B:D,3,0),0),\"\")","v":0},0,0,0,0,0,0,0,0]
["FULANO 15",15,null,null,null,null,null,null,null,null,null,null,null,null,null,null,null,null,null,null,null,null,null,null,null,null,null,null,null,null,null,null,null,null,null,null,null,null,null,null,null,null,null,{"$f":"IF(A23<>\"\",IFERROR(VLOOKUP(M23,Tabelas!B:D,3,0),0),\"\")","v":0},{"$f":"IF(A23<>\"\",IFERROR(VLOOKUP(N23,Tabelas!B:D,3,0),0),\"\")","v":0},{"$f":"IF(A23<>\"\",IFERROR(VLOOKUP(O23,Tabelas!B:D,3,0),0),\"\")","v":0},{"$f":"IF(A23<>\"\",IFERROR(VLOOKUP(P23,Tabelas!B:D,3,0),0),\"\")","v":0},{"$f":"IF(A23<>\"\",IFERROR(VLOOKUP(Q23,Tabelas!B:D,3,0),0),\"\")","v":0},{"$f":"IF(A23<>\"\",IFERROR(VLOOKUP(R23,Tabelas!B:D,3,0),0),\"\")","v":0},{"$f":"IF(A23<>\"\",IFERROR(VLOOKUP(S23,Tabelas!B:D,3,0),0),\"\")","v":0},{"$f":"IF(A23<>\"\",IFERROR(VLOOKUP(T23,Tabelas!B:D,3,0),0),\"\")","v":0},{"$f":"IF(A23<>\"\",IFERROR(VLOOKUP(U23,Tabelas!B:D,3,0),0),\"\")","v":0},{"$f":"IF(A23<>\"\",IFERROR(VLOOKUP(V23,Tabelas!B:D,3,0),0),\"\")","v":0},{"$f":"IF(A23<>\"\",IFERROR(VLOOKUP(W23,Tabelas!B:D,3,0),0),\"\")","v":0},{"$f":"IF(A23<>\"\",IFERROR(VLOOKUP(X23,Tabelas!B:D,3,0),0),\"\")","v":0},{"$f":"IF(A23<>\"\",IFERROR(VLOOKUP(Y23,Tabelas!B:D,3,0),0),\"\")","v":0},{"$f":"IF(A23<>\"\",IFERROR(VLOOKUP(Z23,Tabelas!B:D,3,0),0),\"\")","v":0},{"$f":"IF(A23<>\"\",IFERROR(VLOOKUP(AA23,Tabelas!B:D,3,0),0),\"\")","v":0},{"$f":"IF(A23<>\"\",IFERROR(VLOOKUP(AB23,Tabelas!B:D,3,0),0),\"\")","v":0},{"$f":"IF(A23<>\"\",IFERROR(VLOOKUP(AC23,Tabelas!B:D,3,0),0),\"\")","v":0},{"$f":"IF(A23<>\"\",IFERROR(VLOOKUP(AD23,Tabelas!B:D,3,0),0),\"\")","v":0},{"$f":"IF(A23<>\"\",IFERROR(VLOOKUP(AE23,Tabelas!B:D,3,0),0),\"\")","v":0},{"$f":"IF(A23<>\"\",IFERROR(VLOOKUP(AF23,Tabelas!B:D,3,0),0),\"\")","v":0},{"$f":"IF(A23<>\"\",IFERROR(VLOOKUP(AG23,Tabelas!B:D,3,0),0),\"\")","v":0},{"$f":"IF(A23<>\"\",IFERROR(VLOOKUP(AH23,Tabelas!B:D,3,0),0),\"\")","v":0},{"$f":"IF(A23<>\"\",IFERROR(VLOOKUP(AI23,Tabelas!B:D,3,0),0),\"\")","v":0},{"$f":"IF(A23<>\"\",IFERROR(VLOOKUP(AJ23,Tabelas!B:D,3,0),0),\"\")","v":0},{"$f":"IF(A23<>\"\",IFERROR(VLOOKUP(AK23,Tabelas!B:D,3,0),0),\"\")","v":0},{"$f":"IF(A23<>\"\",IFERROR(VLOOKUP(AL23,Tabelas!B:D,3,0),0),\"\")","v":0},{"$f":"IF(A23<>\"\",IFERROR(VLOOKUP(AM23,Tabelas!B:D,3,0),0),\"\")","v":0},{"$f":"IF(A23<>\"\",IFERROR(VLOOKUP(AN23,Tabelas!B:D,3,0),0),\"\")","v":0},{"$f":"IF(A23<>\"\",IFERROR(VLOOKUP(AO23,Tabelas!B:D,3,0),0),\"\")","v":0},{"$f":"IF(A23<>\"\",IFERROR(VLOOKUP(AP23,Tabelas!B:D,3,0),0),\"\")","v":0},{"$f":"IF(A23<>\"\",IFERROR(VLOOKUP(AQ23,Tabelas!B:D,3,0),0),\"\")","v":0},0,0,0,0,0,0,0,0]
["FULANO 16",16,null,null,null,null,null,null,null,null,null,null,null,null,null,null,null,null,null,null,null,null,null,null,null,null,null,null,null,null,null,null,null,null,null,null,null,null,null,null,null,null,null,{"$f":"IF(A24<>\"\",IFERROR(VLOOKUP(M24,Tabelas!B:D,3,0),0),\"\")","v":0},{"$f":"IF(A24<>\"\",IFERROR(VLOOKUP(N24,Tabelas!B:D,3,0),0),\"\")","v":0},{"$f":"IF(A24<>\"\",IFERROR(VLOOKUP(O24,Tabelas!B:D,3,0),0),\"\")","v":0},{"$f":"IF(A24<>\"\",IFERROR(VLOOKUP(P24,Tabelas!B:D,3,0),0),\"\")","v":0},{"$f":"IF(A24<>\"\",IFERROR(VLOOKUP(Q24,Tabelas!B:D,3,0),0),\"\")","v":0},{"$f":"IF(A24<>\"\",IFERROR(VLOOKUP(R24,Tabelas!B:D,3,0),0),\"\")","v":0},{"$f":"IF(A24<>\"\",IFERROR(VLOOKUP(S24,Tabelas!B:D,3,0),0),\"\")","v":0},{"$f":"IF(A24<>\"\",IFERROR(VLOOKUP(T24,Tabelas!B:D,3,0),0),\"\")","v":0},{"$f":"IF(A24<>\"\",IFERROR(VLOOKUP(U24,Tabelas!B:D,3,0),0),\"\")","v":0},{"$f":"IF(A24<>\"\",IFERROR(VLOOKUP(V24,Tabelas!B:D,3,0),0),\"\")","v":0},{"$f":"IF(A24<>\"\",IFERROR(VLOOKUP(W24,Tabelas!B:D,3,0),0),\"\")","v":0},{"$f":"IF(A24<>\"\",IFERROR(VLOOKUP(X24,Tabelas!B:D,3,0),0),\"\")","v":0},{"$f":"IF(A24<>\"\",IFERROR(VLOOKUP(Y24,Tabelas!B:D,3,0),0),\"\")","v":0},{"$f":"IF(A24<>\"\",IFERROR(VLOOKUP(Z24,Tabelas!B:D,3,0),0),\"\")","v":0},{"$f":"IF(A24<>\"\",IFERROR(VLOOKUP(AA24,Tabelas!B:D,3,0),0),\"\")","v":0},{"$f":"IF(A24<>\"\",IFERROR(VLOOKUP(AB24,Tabelas!B:D,3,0),0),\"\")","v":0},{"$f":"IF(A24<>\"\",IFERROR(VLOOKUP(AC24,Tabelas!B:D,3,0),0),\"\")","v":0},{"$f":"IF(A24<>\"\",IFERROR(VLOOKUP(AD24,Tabelas!B:D,3,0),0),\"\")","v":0},{"$f":"IF(A24<>\"\",IFERROR(VLOOKUP(AE24,Tabelas!B:D,3,0),0),\"\")","v":0},{"$f":"IF(A24<>\"\",IFERROR(VLOOKUP(AF24,Tabelas!B:D,3,0),0),\"\")","v":0},{"$f":"IF(A24<>\"\",IFERROR(VLOOKUP(AG24,Tabelas!B:D,3,0),0),\"\")","v":0},{"$f":"IF(A24<>\"\",IFERROR(VLOOKUP(AH24,Tabelas!B:D,3,0),0),\"\")","v":0},{"$f":"IF(A24<>\"\",IFERROR(VLOOKUP(AI24,Tabelas!B:D,3,0),0),\"\")","v":0},{"$f":"IF(A24<>\"\",IFERROR(VLOOKUP(AJ24,Tabelas!B:D,3,0),0),\"\")","v":0},{"$f":"IF(A24<>\"\",IFERROR(VLOOKUP(AK24,Tabelas!B:D,3,0),0),\"\")","v":0},{"$f":"IF(A24<>\"\",IFERROR(VLOOKUP(AL24,Tabelas!B:D,3,0),0),\"\")","v":0},{"$f":"IF(A24<>\"\",IFERROR(VLOOKUP(AM24,Tabelas!B:D,3,0),0),\"\")","v":0},{"$f":"IF(A24<>\"\",IFERROR(VLOOKUP(AN24,Tabelas!B:D,3,0),0),\"\")","v":0},{"$f":"IF(A24<>\"\",IFERROR(VLOOKUP(AO24,Tabelas!B:D,3,0),0),\"\")","v":0},{"$f":"IF(A24<>\"\",IFERROR(VLOOKUP(AP24,Tabelas!B:D,3,0),0),\"\")","v":0},{"$f":"IF(A24<>\"\",IFERROR(VLOOKUP(AQ24,Tabelas!B:D,3,0),0),\"\")","v":0},0,0,0,0,0,0,0,0]
["FULANO 17",17,null,null,null,null,null,null,null,null,null,null,null,null,null,null,null,null,null,null,null,null,null,null,null,null,null,null,null,null,null,null,null,null,null,null,null,null,null,null,null,null,null,{"$f":"IF(A25<>\"\",IFERROR(VLOOKUP(M25,Tabelas!B:D,3,0),0),\"\")","v":0},{"$f":"IF(A25<>\"\",IFERROR(VLOOKUP(N25,Tabelas!B:D,3,0),0),\"\")","v":0},{"$f":"IF(A25<>\"\",IFERROR(VLOOKUP(O25,Tabelas!B:D,3,0),0),\"\")","v":0},{"$f":"IF(A25<>\"\",IFERROR(VLOOKUP(P25,Tabelas!B:D,3,0),0),\"\")","v":0},{"$f":"IF(A25<>\"\",IFERROR(VLOOKUP(Q25,Tabelas!B:D,3,0),0),\"\")","v":0},{"$f":"IF(A25<>\"\",IFERROR(VLOOKUP(R25,Tabelas!B:D,3,0),0),\"\")","v":0},{"$f":"IF(A25<>\"\",IFERROR(VLOOKUP(S25,Tabelas!B:D,3,0),0),\"\")","v":0},{"$f":"IF(A25<>\"\",IFERROR(VLOOKUP(T25,Tabelas!B:D,3,0),0),\"\")","v":0},{"$f":"IF(A25<>\"\",IFERROR(VLOOKUP(U25,Tabelas!B:D,3,0),0),\"\")","v":0},{"$f":"IF(A25<>\"\",IFERROR(VLOOKUP(V25,Tabelas!B:D,3,0),0),\"\")","v":0},{"$f":"IF(A25<>\"\",IFERROR(VLOOKUP(W25,Tabelas!B:D,3,0),0),\"\")","v":0},{"$f":"IF(A25<>\"\",IFERROR(VLOOKUP(X25,Tabelas!B:D,3,0),0),\"\")","v":0},{"$f":"IF(A25<>\"\",IFERROR(VLOOKUP(Y25,Tabelas!B:D,3,0),0),\"\")","v":0},{"$f":"IF(A25<>\"\",IFERROR(VLOOKUP(Z25,Tabelas!B:D,3,0),0),\"\")","v":0},{"$f":"IF(A25<>\"\",IFERROR(VLOOKUP(AA25,Tabelas!B:D,3,0),0),\"\")","v":0},{"$f":"IF(A25<>\"\",IFERROR(VLOOKUP(AB25,Tabelas!B:D,3,0),0),\"\")","v":0},{"$f":"IF(A25<>\"\",IFERROR(VLOOKUP(AC25,Tabelas!B:D,3,0),0),\"\")","v":0},{"$f":"IF(A25<>\"\",IFERROR(VLOOKUP(AD25,Tabelas!B:D,3,0),0),\"\")","v":0},{"$f":"IF(A25<>\"\",IFERROR(VLOOKUP(AE25,Tabelas!B:D,3,0),0),\"\")","v":0},{"$f":"IF(A25<>\"\",IFERROR(VLOOKUP(AF25,Tabelas!B:D,3,0),0),\"\")","v":0},{"$f":"IF(A25<>\"\",IFERROR(VLOOKUP(AG25,Tabelas!B:D,3,0),0),\"\")","v":0},{"$f":"IF(A25<>\"\",IFERROR(VLOOKUP(AH25,Tabelas!B:D,3,0),0),\"\")","v":0},{"$f":"IF(A25<>\"\",IFERROR(VLOOKUP(AI25,Tabelas!B:D,3,0),0),\"\")","v":0},{"$f":"IF(A25<>\"\",IFERROR(VLOOKUP(AJ25,Tabelas!B:D,3,0),0),\"\")","v":0},{"$f":"IF(A25<>\"\",IFERROR(VLOOKUP(AK25,Tabelas!B:D,3,0),0),\"\")","v":0},{"$f":"IF(A25<>\"\",IFERROR(VLOOKUP(AL25,Tabelas!B:D,3,0),0),\"\")","v":0},{"$f":"IF(A25<>\"\",IFERROR(VLOOKUP(AM25,Tabelas!B:D,3,0),0),\"\")","v":0},{"$f":"IF(A25<>\"\",IFERROR(VLOOKUP(AN25,Tabelas!B:D,3,0),0),\"\")","v":0},{"$f":"IF(A25<>\"\",IFERROR(VLOOKUP(AO25,Tabelas!B:D,3,0),0),\"\")","v":0},{"$f":"IF(A25<>\"\",IFERROR(VLOOKUP(AP25,Tabelas!B:D,3,0),0),\"\")","v":0},{"$f":"IF(A25<>\"\",IFERROR(VLOOKUP(AQ25,Tabelas!B:D,3,0),0),\"\")","v":0},0,0,0,0,0,0,0,0]
["FULANO 18",18,null,null,null,null,null,null,null,null,null,null,null,null,null,null,null,null,null,null,null,null,null,null,null,null,null,null,null,null,null,null,null,null,null,null,null,null,null,null,null,null,null,{"$f":"IF(A26<>\"\",IFERROR(VLOOKUP(M26,Tabelas!B:D,3,0),0),\"\")","v":0},{"$f":"IF(A26<>\"\",IFERROR(VLOOKUP(N26,Tabelas!B:D,3,0),0),\"\")","v":0},{"$f":"IF(A26<>\"\",IFERROR(VLOOKUP(O26,Tabelas!B:D,3,0),0),\"\")","v":0},{"$f":"IF(A26<>\"\",IFERROR(VLOOKUP(P26,Tabelas!B:D,3,0),0),\"\")","v":0},{"$f":"IF(A26<>\"\",IFERROR(VLOOKUP(Q26,Tabelas!B:D,3,0),0),\"\")","v":0},{"$f":"IF(A26<>\"\",IFERROR(VLOOKUP(R26,Tabelas!B:D,3,0),0),\"\")","v":0},{"$f":"IF(A26<>\"\",IFERROR(VLOOKUP(S26,Tabelas!B:D,3,0),0),\"\")","v":0},{"$f":"IF(A26<>\"\",IFERROR(VLOOKUP(T26,Tabelas!B:D,3,0),0),\"\")","v":0},{"$f":"IF(A26<>\"\",IFERROR(VLOOKUP(U26,Tabelas!B:D,3,0),0),\"\")","v":0},{"$f":"IF(A26<>\"\",IFERROR(VLOOKUP(V26,Tabelas!B:D,3,0),0),\"\")","v":0},{"$f":"IF(A26<>\"\",IFERROR(VLOOKUP(W26,Tabelas!B:D,3,0),0),\"\")","v":0},{"$f":"IF(A26<>\"\",IFERROR(VLOOKUP(X26,Tabelas!B:D,3,0),0),\"\")","v":0},{"$f":"IF(A26<>\"\",IFERROR(VLOOKUP(Y26,Tabelas!B:D,3,0),0),\"\")","v":0},{"$f":"IF(A26<>\"\",IFERROR(VLOOKUP(Z26,Tabelas!B:D,3,0),0),\"\")","v":0},{"$f":"IF(A26<>\"\",IFERROR(VLOOKUP(AA26,Tabelas!B:D,3,0),0),\"\")","v":0},{"$f":"IF(A26<>\"\",IFERROR(VLOOKUP(AB26,Tabelas!B:D,3,0),0),\"\")","v":0},{"$f":"IF(A26<>\"\",IFERROR(VLOOKUP(AC26,Tabelas!B:D,3,0),0),\"\")","v":0},{"$f":"IF(A26<>\"\",IFERROR(VLOOKUP(AD26,Tabelas!B:D,3,0),0),\"\")","v":0},{"$f":"IF(A26<>\"\",IFERROR(VLOOKUP(AE26,Tabelas!B:D,3,0),0),\"\")","v":0},{"$f":"IF(A26<>\"\",IFERROR(VLOOKUP(AF26,Tabelas!B:D,3,0),0),\"\")","v":0},{"$f":"IF(A26<>\"\",IFERROR(VLOOKUP(AG26,Tabelas!B:D,3,0),0),\"\")","v":0},{"$f":"IF(A26<>\"\",IFERROR(VLOOKUP(AH26,Tabelas!B:D,3,0),0),\"\")","v":0},{"$f":"IF(A26<>\"\",IFERROR(VLOOKUP(AI26,Tabelas!B:D,3,0),0),\"\")","v":0},{"$f":"IF(A26<>\"\",IFERROR(VLOOKUP(AJ26,Tabelas!B:D,3,0),0),\"\")","v":0},{"$f":"IF(A26<>\"\",IFERROR(VLOOKUP(AK26,Tabelas!B:D,3,0),0),\"\")","v":0},{"$f":"IF(A26<>\"\",IFERROR(VLOOKUP(AL26,Tabelas!B:D,3,0),0),\"\")","v":0},{"$f":"IF(A26<>\"\",IFERROR(VLOOKUP(AM26,Tabelas!B:D,3,0),0),\"\")","v":0},{"$f":"IF(A26<>\"\",IFERROR(VLOOKUP(AN26,Tabelas!B:D,3,0),0),\"\")","v":0},{"$f":"IF(A26<>\"\",IFERROR(VLOOKUP(AO26,Tabelas!B:D,3,0),0),\"\")","v":0},{"$f":"IF(A26<>\"\",IFERROR(VLOOKUP(AP26,Tabelas!B:D,3,0),0),\"\")","v":0},{"$f":"IF(A26<>\"\",IFERROR(VLOOKUP(AQ26,Tabelas!B:D,3,0),0),\"\")","v":0},0,0,0,0,0,0,0,0]
["FULANO 19",19,null,null,null,null,null,null,null,null,null,null,null,null,null,null,null,null,null,null,null,null,null,null,null,null,null,null,null,null,null,null,null,null,null,null,null,null,null,null,null,null,null,{"$f":"IF(A27<>\"\",IFERROR(VLOOKUP(M27,Tabelas!B:D,3,0),0),\"\")","v":0},{"$f":"IF(A27<>\"\",IFERROR(VLOOKUP(N27,Tabelas!B:D,3,0),0),\"\")","v":0},{"$f":"IF(A27<>\"\",IFERROR(VLOOKUP(O27,Tabelas!B:D,3,0),0),\"\")","v":0},{"$f":"IF(A27<>\"\",IFERROR(VLOOKUP(P27,Tabelas!B:D,3,0),0),\"\")","v":0},{"$f":"IF(A27<>\"\",IFERROR(VLOOKUP(Q27,Tabelas!B:D,3,0),0),\"\")","v":0},{"$f":"IF(A27<>\"\",IFERROR(VLOOKUP(R27,Tabelas!B:D,3,0),0),\"\")","v":0},{"$f":"IF(A27<>\"\",IFERROR(VLOOKUP(S27,Tabelas!B:D,3,0),0),\"\")","v":0},{"$f":"IF(A27<>\"\",IFERROR(VLOOKUP(T27,Tabelas!B:D,3,0),0),\"\")","v":0},{"$f":"IF(A27<>\"\",IFERROR(VLOOKUP(U27,Tabelas!B:D,3,0),0),\"\")","v":0},{"$f":"IF(A27<>\"\",IFERROR(VLOOKUP(V27,Tabelas!B:D,3,0),0),\"\")","v":0},{"$f":"IF(A27<>\"\",IFERROR(VLOOKUP(W27,Tabelas!B:D,3,0),0),\"\")","v":0},{"$f":"IF(A27<>\"\",IFERROR(VLOOKUP(X27,Tabelas!B:D,3,0),0),\"\")","v":0},{"$f":"IF(A27<>\"\",IFERROR(VLOOKUP(Y27,Tabelas!B:D,3,0),0),\"\")","v":0},{"$f":"IF(A27<>\"\",IFERROR(VLOOKUP(Z27,Tabelas!B:D,3,0),0),\"\")","v":0},{"$f":"IF(A27<>\"\",IFERROR(VLOOKUP(AA27,Tabelas!B:D,3,0),0),\"\")","v":0},{"$f":"IF(A27<>\"\",IFERROR(VLOOKUP(AB27,Tabelas!B:D,3,0),0),\"\")","v":0},{"$f":"IF(A27<>\"\",IFERROR(VLOOKUP(AC27,Tabelas!B:D,3,0),0),\"\")","v":0},{"$f":"IF(A27<>\"\",IFERROR(VLOOKUP(AD27,Tabelas!B:D,3,0),0),\"\")","v":0},{"$f":"IF(A27<>\"\",IFERROR(VLOOKUP(AE27,Tabelas!B:D,3,0),0),\"\")","v":0},{"$f":"IF(A27<>\"\",IFERROR(VLOOKUP(AF27,Tabelas!B:D,3,0),0),\"\")","v":0},{"$f":"IF(A27<>\"\",IFERROR(VLOOKUP(AG27,Tabelas!B:D,3,0),0),\"\")","v":0},{"$f":"IF(A27<>\"\",IFERROR(VLOOKUP(AH27,Tabelas!B:D,3,0),0),\"\")","v":0},{"$f":"IF(A27<>\"\",IFERROR(VLOOKUP(AI27,Tabelas!B:D,3,0),0),\"\")","v":0},{"$f":"IF(A27<>\"\",IFERROR(VLOOKUP(AJ27,Tabelas!B:D,3,0),0),\"\")","v":0},{"$f":"IF(A27<>\"\",IFERROR(VLOOKUP(AK27,Tabelas!B:D,3,0),0),\"\")","v":0},{"$f":"IF(A27<>\"\",IFERROR(VLOOKUP(AL27,Tabelas!B:D,3,0),0),\"\")","v":0},{"$f":"IF(A27<>\"\",IFERROR(VLOOKUP(AM27,Tabelas!B:D,3,0),0),\"\")","v":0},{"$f":"IF(A27<>\"\",IFERROR(VLOOKUP(AN27,Tabelas!B:D,3,0),0),\"\")","v":0},{"$f":"IF(A27<>\"\",IFERROR(VLOOKUP(AO27,Tabelas!B:D,3,0),0),\"\")","v":0},{"$f":"IF(A27<>\"\",IFERROR(VLOOKUP(AP27,Tabelas!B:D,3,0),0),\"\")","v":0},{"$f":"IF(A27<>\"\",IFERROR(VLOOKUP(AQ27,Tabelas!B:D,3,0),0),\"\")","v":0},0,0,0,0,0,0,0,0]
["FULANO 20",20,null,null,null,null,null,null,null,null,null,null,null,null,null,null,null,null,null,null,null,null,null,null,null,null,null,null,null,null,null,null,null,null,null,null,null,null,null,null,null,null,null,{"$f":"IF(A28<>\"\",IFERROR(VLOOKUP(M28,Tabelas!B:D,3,0),0),\"\")","v":0},{"$f":"IF(A28<>\"\",IFERROR(VLOOKUP(N28,Tabelas!B:D,3,0),0),\"\")","v":0},{"$f":"IF(A28<>\"\",IFERROR(VLOOKUP(O28,Tabelas!B:D,3,0),0),\"\")","v":0},{"$f":"IF(A28<>\"\",IFERROR(VLOOKUP(P28,Tabelas!B:D,3,0),0),\"\")","v":0},{"$f":"IF(A28<>\"\",IFERROR(VLOOKUP(Q28,Tabelas!B:D,3,0),0),\"\")","v":0},{"$f":"IF(A28<>\"\",IFERROR(VLOOKUP(R28,Tabelas!B:D,3,0),0),\"\")","v":0},{"$f":"IF(A28<>\"\",IFERROR(VLOOKUP(S28,Tabelas!B:D,3,0),0),\"\")","v":0},{"$f":"IF(A28<>\"\",IFERROR(VLOOKUP(T28,Tabelas!B:D,3,0),0),\"\")","v":0},{"$f":"IF(A28<>\"\",IFERROR(VLOOKUP(U28,Tabelas!B:D,3,0),0),\"\")","v":0},{"$f":"IF(A28<>\"\",IFERROR(VLOOKUP(V28,Tabelas!B:D,3,0),0),\"\")","v":0},{"$f":"IF(A28<>\"\",IFERROR(VLOOKUP(W28,Tabelas!B:D,3,0),0),\"\")","v":0},{"$f":"IF(A28<>\"\",IFERROR(VLOOKUP(X28,Tabelas!B:D,3,0),0),\"\")","v":0},{"$f":"IF(A28<>\"\",IFERROR(VLOOKUP(Y28,Tabelas!B:D,3,0),0),\"\")","v":0},{"$f":"IF(A28<>\"\",IFERROR(VLOOKUP(Z28,Tabelas!B:D,3,0),0),\"\")","v":0},{"$f":"IF(A28<>\"\",IFERROR(VLOOKUP(AA28,Tabelas!B:D,3,0),0),\"\")","v":0},{"$f":"IF(A28<>\"\",IFERROR(VLOOKUP(AB28,Tabelas!B:D,3,0),0),\"\")","v":0},{"$f":"IF(A28<>\"\",IFERROR(VLOOKUP(AC28,Tabelas!B:D,3,0),0),\"\")","v":0},{"$f":"IF(A28<>\"\",IFERROR(VLOOKUP(AD28,Tabelas!B:D,3,0),0),\"\")","v":0},{"$f":"IF(A28<>\"\",IFERROR(VLOOKUP(AE28,Tabelas!B:D,3,0),0),\"\")","v":0},{"$f":"IF(A28<>\"\",IFERROR(VLOOKUP(AF28,Tabelas!B:D,3,0),0),\"\")","v":0},{"$f":"IF(A28<>\"\",IFERROR(VLOOKUP(AG28,Tabelas!B:D,3,0),0),\"\")","v":0},{"$f":"IF(A28<>\"\",IFERROR(VLOOKUP(AH28,Tabelas!B:D,3,0),0),\"\")","v":0},{"$f":"IF(A28<>\"\",IFERROR(VLOOKUP(AI28,Tabelas!B:D,3,0),0),\"\")","v":0},{"$f":"IF(A28<>\"\",IFERROR(VLOOKUP(AJ28,Tabelas!B:D,3,0),0),\"\")","v":0},{"$f":"IF(A28<>\"\",IFERROR(VLOOKUP(AK28,Tabelas!B:D,3,0),0),\"\")","v":0},{"$f":"IF(A28<>\"\",IFERROR(VLOOKUP(AL28,Tabelas!B:D,3,0),0),\"\")","v":0},{"$f":"IF(A28<>\"\",IFERROR(VLOOKUP(AM28,Tabelas!B:D,3,0),0),\"\")","v":0},{"$f":"IF(A28<>\"\",IFERROR(VLOOKUP(AN28,Tabelas!B:D,3,0),0),\"\")","v":0},{"$f":"IF(A28<>\"\",IFERROR(VLOOKUP(AO28,Tabelas!B:D,3,0),0),\"\")","v":0},{"$f":"IF(A28<>\"\",IFERROR(VLOOKUP(AP28,Tabelas!B:D,3,0),0),\"\")","v":0},{"$f":"IF(A28<>\"\",IFERROR(VLOOKUP(AQ28,Tabelas!B:D,3,0),0),\"\")","v":0},0,0,0,0,0,0,0,0]
["FULANO 21",21,null,null,null,null,null,null,null,null,null,null,null,null,null,null,null,null,null,null,null,null,null,null,null,null,null,null,null,null,null,null,null,null,null,null,null,null,null,null,null,null,null,{"$f":"IF(A29<>\"\",IFERROR(VLOOKUP(M29,Tabelas!B:D,3,0),0),\"\")","v":0},{"$f":"IF(A29<>\"\",IFERROR(VLOOKUP(N29,Tabelas!B:D,3,0),0),\"\")","v":0},{"$f":"IF(A29<>\"\",IFERROR(VLOOKUP(O29,Tabelas!B:D,3,0),0),\"\")","v":0},{"$f":"IF(A29<>\"\",IFERROR(VLOOKUP(P29,Tabelas!B:D,3,0),0),\"\")","v":0},{"$f":"IF(A29<>\"\",IFERROR(VLOOKUP(Q29,Tabelas!B:D,3,0),0),\"\")","v":0},{"$f":"IF(A29<>\"\",IFERROR(VLOOKUP(R29,Tabelas!B:D,3,0),0),\"\")","v":0},{"$f":"IF(A29<>\"\",IFERROR(VLOOKUP(S29,Tabelas!B:D,3,0),0),\"\")","v":0},{"$f":"IF(A29<>\"\",IFERROR(VLOOKUP(T29,Tabelas!B:D,3,0),0),\"\")","v":0},{"$f":"IF(A29<>\"\",IFERROR(VLOOKUP(U29,Tabelas!B:D,3,0),0),\"\")","v":0},{"$f":"IF(A29<>\"\",IFERROR(VLOOKUP(V29,Tabelas!B:D,3,0),0),\"\")","v":0},{"$f":"IF(A29<>\"\",IFERROR(VLOOKUP(W29,Tabelas!B:D,3,0),0),\"\")","v":0},{"$f":"IF(A29<>\"\",IFERROR(VLOOKUP(X29,Tabelas!B:D,3,0),0),\"\")","v":0},{"$f":"IF(A29<>\"\",IFERROR(VLOOKUP(Y29,Tabelas!B:D,3,0),0),\"\")","v":0},{"$f":"IF(A29<>\"\",IFERROR(VLOOKUP(Z29,Tabelas!B:D,3,0),0),\"\")","v":0},{"$f":"IF(A29<>\"\",IFERROR(VLOOKUP(AA29,Tabelas!B:D,3,0),0),\"\")","v":0},{"$f":"IF(A29<>\"\",IFERROR(VLOOKUP(AB29,Tabelas!B:D,3,0),0),\"\")","v":0},{"$f":"IF(A29<>\"\",IFERROR(VLOOKUP(AC29,Tabelas!B:D,3,0),0),\"\")","v":0},{"$f":"IF(A29<>\"\",IFERROR(VLOOKUP(AD29,Tabelas!B:D,3,0),0),\"\")","v":0},{"$f":"IF(A29<>\"\",IFERROR(VLOOKUP(AE29,Tabelas!B:D,3,0),0),\"\")","v":0},{"$f":"IF(A29<>\"\",IFERROR(VLOOKUP(AF29,Tabelas!B:D,3,0),0),\"\")","v":0},{"$f":"IF(A29<>\"\",IFERROR(VLOOKUP(AG29,Tabelas!B:D,3,0),0),\"\")","v":0},{"$f":"IF(A29<>\"\",IFERROR(VLOOKUP(AH29,Tabelas!B:D,3,0),0),\"\")","v":0},{"$f":"IF(A29<>\"\",IFERROR(VLOOKUP(AI29,Tabelas!B:D,3,0),0),\"\")","v":0},{"$f":"IF(A29<>\"\",IFERROR(VLOOKUP(AJ29,Tabelas!B:D,3,0),0),\"\")","v":0},{"$f":"IF(A29<>\"\",IFERROR(VLOOKUP(AK29,Tabelas!B:D,3,0),0),\"\")","v":0},{"$f":"IF(A29<>\"\",IFERROR(VLOOKUP(AL29,Tabelas!B:D,3,0),0),\"\")","v":0},{"$f":"IF(A29<>\"\",IFERROR(VLOOKUP(AM29,Tabelas!B:D,3,0),0),\"\")","v":0},{"$f":"IF(A29<>\"\",IFERROR(VLOOKUP(AN29,Tabelas!B:D,3,0),0),\"\")","v":0},{"$f":"IF(A29<>\"\",IFERROR(VLOOKUP(AO29,Tabelas!B:D,3,0),0),\"\")","v":0},{"$f":"IF(A29<>\"\",IFERROR(VLOOKUP(AP29,Tabelas!B:D,3,0),0),\"\")","v":0},{"$f":"IF(A29<>\"\",IFERROR(VLOOKUP(AQ29,Tabelas!B:D,3,0),0),\"\")","v":0},0,0,0,0,0,0,0,0]
["FULANO 22",22,null,null,null,null,null,null,null,null,null,null,null,null,null,null,null,null,null,null,null,null,null,null,null,null,null,null,null,null,null,null,null,null,null,null,null,null,null,null,null,null,null,{"$f":"IF(A30<>\"\",IFERROR(VLOOKUP(M30,Tabelas!B:D,3,0),0),\"\")","v":0},{"$f":"IF(A30<>\"\",IFERROR(VLOOKUP(N30,Tabelas!B:D,3,0),0),\"\")","v":0},{"$f":"IF(A30<>\"\",IFERROR(VLOOKUP(O30,Tabelas!B:D,3,0),0),\"\")","v":0},{"$f":"IF(A30<>\"\",IFERROR(VLOOKUP(P30,Tabelas!B:D,3,0),0),\"\")","v":0},{"$f":"IF(A30<>\"\",IFERROR(VLOOKUP(Q30,Tabelas!B:D,3,0),0),\"\")","v":0},{"$f":"IF(A30<>\"\",IFERROR(VLOOKUP(R30,Tabelas!B:D,3,0),0),\"\")","v":0},{"$f":"IF(A30<>\"\",IFERROR(VLOOKUP(S30,Tabelas!B:D,3,0),0),\"\")","v":0},{"$f":"IF(A30<>\"\",IFERROR(VLOOKUP(T30,Tabelas!B:D,3,0),0),\"\")","v":0},{"$f":"IF(A30<>\"\",IFERROR(VLOOKUP(U30,Tabelas!B:D,3,0),0),\"\")","v":0},{"$f":"IF(A30<>\"\",IFERROR(VLOOKUP(V30,Tabelas!B:D,3,0),0),\"\")","v":0},{"$f":"IF(A30<>\"\",IFERROR(VLOOKUP(W30,Tabelas!B:D,3,0),0),\"\")","v":0},{"$f":"IF(A30<>\"\",IFERROR(VLOOKUP(X30,Tabelas!B:D,3,0),0),\"\")","v":0},{"$f":"IF(A30<>\"\",IFERROR(VLOOKUP(Y30,Tabelas!B:D,3,0),0),\"\")","v":0},{"$f":"IF(A30<>\"\",IFERROR(VLOOKUP(Z30,Tabelas!B:D,3,0),0),\"\")","v":0},{"$f":"IF(A30<>\"\",IFERROR(VLOOKUP(AA30,Tabelas!B:D,3,0),0),\"\")","v":0},{"$f":"IF(A30<>\"\",IFERROR(VLOOKUP(AB30,Tabelas!B:D,3,0),0),\"\")","v":0},{"$f":"IF(A30<>\"\",IFERROR(VLOOKUP(AC30,Tabelas!B:D,3,0),0),\"\")","v":0},{"$f":"IF(A30<>\"\",IFERROR(VLOOKUP(AD30,Tabelas!B:D,3,0),0),\"\")","v":0},{"$f":"IF(A30<>\"\",IFERROR(VLOOKUP(AE30,Tabelas!B:D,3,0),0),\"\")","v":0},{"$f":"IF(A30<>\"\",IFERROR(VLOOKUP(AF30,Tabelas!B:D,3,0),0),\"\")","v":0},{"$f":"IF(A30<>\"\",IFERROR(VLOOKUP(AG30,Tabelas!B:D,3,0),0),\"\")","v":0},{"$f":"IF(A30<>\"\",IFERROR(VLOOKUP(AH30,Tabelas!B:D,3,0),0),\"\")","v":0},{"$f":"IF(A30<>\"\",IFERROR(VLOOKUP(AI30,Tabelas!B:D,3,0),0),\"\")","v":0},{"$f":"IF(A30<>\"\",IFERROR(VLOOKUP(AJ30,Tabelas!B:D,3,0),0),\"\")","v":0},{"$f":"IF(A30<>\"\",IFERROR(VLOOKUP(AK30,Tabelas!B:D,3,0),0),\"\")","v":0},{"$f":"IF(A30<>\"\",IFERROR(VLOOKUP(AL30,Tabelas!B:D,3,0),0),\"\")","v":0},{"$f":"IF(A30<>\"\",IFERROR(VLOOKUP(AM30,Tabelas!B:D,3,0),0),\"\")","v":0},{"$f":"IF(A30<>\"\",IFERROR(VLOOKUP(AN30,Tabelas!B:D,3,0),0),\"\")","v":0},{"$f":"IF(A30<>\"\",IFERROR(VLOOKUP(AO30,Tabelas!B:D,3,0),0),\"\")","v":0},{"$f":"IF(A30<>\"\",IFERROR(VLOOKUP(AP30,Tabelas!B:D,3,0),0),\"\")","v":0},{"$f":"IF(A30<>\"\",IFERROR(VLOOKUP(AQ30,Tabelas!B:D,3,0),0),\"\")","v":0},0,0,0,0,0,0,0,0]
["FULANO 23",23,null,null,null,null,null,null,null,null,null,null,null,null,null,null,null,null,null,null,null,null,null,null,null,null,null,null,null,null,null,null,null,null,null,null,null,null,null,null,null,null,null,{"$f":"IF(A31<>\"\",IFERROR(VLOOKUP(M31,Tabelas!B:D,3,0),0),\"\")","v":0},{"$f":"IF(A31<>\"\",IFERROR(VLOOKUP(N31,Tabelas!B:D,3,0),0),\"\")","v":0},{"$f":"IF(A31<>\"\",IFERROR(VLOOKUP(O31,Tabelas!B:D,3,0),0),\"\")","v":0},{"$f":"IF(A31<>\"\",IFERROR(VLOOKUP(P31,Tabelas!B:D,3,0),0),\"\")","v":0},{"$f":"IF(A31<>\"\",IFERROR(VLOOKUP(Q31,Tabelas!B:D,3,0),0),\"\")","v":0},{"$f":"IF(A31<>\"\",IFERROR(VLOOKUP(R31,Tabelas!B:D,3,0),0),\"\")","v":0},{"$f":"IF(A31<>\"\",IFERROR(VLOOKUP(S31,Tabelas!B:D,3,0),0),\"\")","v":0},{"$f":"IF(A31<>\"\",IFERROR(VLOOKUP(T31,Tabelas!B:D,3,0),0),\"\")","v":0},{"$f":"IF(A31<>\"\",IFERROR(VLOOKUP(U31,Tabelas!B:D,3,0),0),\"\")","v":0},{"$f":"IF(A31<>\"\",IFERROR(VLOOKUP(V31,Tabelas!B:D,3,0),0),\"\")","v":0},{"$f":"IF(A31<>\"\",IFERROR(VLOOKUP(W31,Tabelas!B:D,3,0),0),\"\")","v":0},{"$f":"IF(A31<>\"\",IFERROR(VLOOKUP(X31,Tabelas!B:D,3,0),0),\"\")","v":0},{"$f":"IF(A31<>\"\",IFERROR(VLOOKUP(Y31,Tabelas!B:D,3,0),0),\"\")","v":0},{"$f":"IF(A31<>\"\",IFERROR(VLOOKUP(Z31,Tabelas!B:D,3,0),0),\"\")","v":0},{"$f":"IF(A31<>\"\",IFERROR(VLOOKUP(AA31,Tabelas!B:D,3,0),0),\"\")","v":0},{"$f":"IF(A31<>\"\",IFERROR(VLOOKUP(AB31,Tabelas!B:D,3,0),0),\"\")","v":0},{"$f":"IF(A31<>\"\",IFERROR(VLOOKUP(AC31,Tabelas!B:D,3,0),0),\"\")","v":0},{"$f":"IF(A31<>\"\",IFERROR(VLOOKUP(AD31,Tabelas!B:D,3,0),0),\"\")","v":0},{"$f":"IF(A31<>\"\",IFERROR(VLOOKUP(AE31,Tabelas!B:D,3,0),0),\"\")","v":0},{"$f":"IF(A31<>\"\",IFERROR(VLOOKUP(AF31,Tabelas!B:D,3,0),0),\"\")","v":0},{"$f":"IF(A31<>\"\",IFERROR(VLOOKUP(AG31,Tabelas!B:D,3,0),0),\"\")","v":0},{"$f":"IF(A31<>\"\",IFERROR(VLOOKUP(AH31,Tabelas!B:D,3,0),0),\"\")","v":0},{"$f":"IF(A31<>\"\",IFERROR(VLOOKUP(AI31,Tabelas!B:D,3,0),0),\"\")","v":0},{"$f":"IF(A31<>\"\",IFERROR(VLOOKUP(AJ31,Tabelas!B:D,3,0),0),\"\")","v":0},{"$f":"IF(A31<>\"\",IFERROR(VLOOKUP(AK31,Tabelas!B:D,3,0),0),\"\")","v":0},{"$f":"IF(A31<>\"\",IFERROR(VLOOKUP(AL31,Tabelas!B:D,3,0),0),\"\")","v":0},{"$f":"IF(A31<>\"\",IFERROR(VLOOKUP(AM31,Tabelas!B:D,3,0),0),\"\")","v":0},{"$f":"IF(A31<>\"\",IFERROR(VLOOKUP(AN31,Tabelas!B:D,3,0),0),\"\")","v":0},{"$f":"IF(A31<>\"\",IFERROR(VLOOKUP(AO31,Tabelas!B:D,3,0),0),\"\")","v":0},{"$f":"IF(A31<>\"\",IFERROR(VLOOKUP(AP31,Tabelas!B:D,3,0),0),\"\")","v":0},{"$f":"IF(A31<>\"\",IFERROR(VLOOKUP(AQ31,Tabelas!B:D,3,0),0),\"\")","v":0},0,0,0,0,0,0,0,0]
["FULANO 24",24,null,null,null,null,null,null,null,null,null,null,null,null,null,null,null,null,null,null,null,null,null,null,null,null,null,null,null,null,null,null,null,null,null,null,null,null,null,null,null,null,null,{"$f":"IF(A32<>\"\",IFERROR(VLOOKUP(M32,Tabelas!B:D,3,0),0),\"\")","v":0},{"$f":"IF(A32<>\"\",IFERROR(VLOOKUP(N32,Tabelas!B:D,3,0),0),\"\")","v":0},{"$f":"IF(A32<>\"\",IFERROR(VLOOKUP(O32,Tabelas!B:D,3,0),0),\"\")","v":0},{"$f":"IF(A32<>\"\",IFERROR(VLOOKUP(P32,Tabelas!B:D,3,0),0),\"\")","v":0},{"$f":"IF(A32<>\"\",IFERROR(VLOOKUP(Q32,Tabelas!B:D,3,0),0),\"\")","v":0},{"$f":"IF(A32<>\"\",IFERROR(VLOOKUP(R32,Tabelas!B:D,3,0),0),\"\")","v":0},{"$f":"IF(A32<>\"\",IFERROR(VLOOKUP(S32,Tabelas!B:D,3,0),0),\"\")","v":0},{"$f":"IF(A32<>\"\",IFERROR(VLOOKUP(T32,Tabelas!B:D,3,0),0),\"\")","v":0},{"$f":"IF(A32<>\"\",IFERROR(VLOOKUP(U32,Tabelas!B:D,3,0),0),\"\")","v":0},{"$f":"IF(A32<>\"\",IFERROR(VLOOKUP(V32,Tabelas!B:D,3,0),0),\"\")","v":0},{"$f":"IF(A32<>\"\",IFERROR(VLOOKUP(W32,Tabelas!B:D,3,0),0),\"\")","v":0},{"$f":"IF(A32<>\"\",IFERROR(VLOOKUP(X32,Tabelas!B:D,3,0),0),\"\")","v":0},{"$f":"IF(A32<>\"\",IFERROR(VLOOKUP(Y32,Tabelas!B:D,3,0),0),\"\")","v":0},{"$f":"IF(A32<>\"\",IFERROR(VLOOKUP(Z32,Tabelas!B:D,3,0),0),\"\")","v":0},{"$f":"IF(A32<>\"\",IFERROR(VLOOKUP(AA32,Tabelas!B:D,3,0),0),\"\")","v":0},{"$f":"IF(A32<>\"\",IFERROR(VLOOKUP(AB32,Tabelas!B:D,3,0),0),\"\")","v":0},{"$f":"IF(A32<>\"\",IFERROR(VLOOKUP(AC32,Tabelas!B:D,3,0),0),\"\")","v":0},{"$f":"IF(A32<>\"\",IFERROR(VLOOKUP(AD32,Tabelas!B:D,3,0),0),\"\")","v":0},{"$f":"IF(A32<>\"\",IFERROR(VLOOKUP(AE32,Tabelas!B:D,3,0),0),\"\")","v":0},{"$f":"IF(A32<>\"\",IFERROR(VLOOKUP(AF32,Tabelas!B:D,3,0),0),\"\")","v":0},{"$f":"IF(A32<>\"\",IFERROR(VLOOKUP(AG32,Tabelas!B:D,3,0),0),\"\")","v":0},{"$f":"IF(A32<>\"\",IFERROR(VLOOKUP(AH32,Tabelas!B:D,3,0),0),\"\")","v":0},{"$f":"IF(A32<>\"\",IFERROR(VLOOKUP(AI32,Tabelas!B:D,3,0),0),\"\")","v":0},{"$f":"IF(A32<>\"\",IFERROR(VLOOKUP(AJ32,Tabelas!B:D,3,0),0),\"\")","v":0},{"$f":"IF(A32<>\"\",IFERROR(VLOOKUP(AK32,Tabelas!B:D,3,0),0),\"\")","v":0},{"$f":"IF(A32<>\"\",IFERROR(VLOOKUP(AL32,Tabelas!B:D,3,0),0),\"\")","v":0},{"$f":"IF(A32<>\"\",IFERROR(VLOOKUP(AM32,Tabelas!B:D,3,0),0),\"\")","v":0},{"$f":"IF(A32<>\"\",IFERROR(VLOOKUP(AN32,Tabelas!B:D,3,0),0),\"\")","v":0},{"$f":"IF(A32<>\"\",IFERROR(VLOOKUP(AO32,Tabelas!B:D,3,0),0),\"\")","v":0},{"$f":"IF(A32<>\"\",IFERROR(VLOOKUP(AP32,Tabelas!B:D,3,0),0),\"\")","v":0},{"$f":"IF(A32<>\"\",IFERROR(VLOOKUP(AQ32,Tabelas!B:D,3,0),0),\"\")","v":0},0,0,0,0,0,0,0,0]
["FULANO 25",25,null,null,null,null,null,null,null,null,null,null,null,null,null,null,null,null,null,null,null,null,null,null,null,null,null,null,null,null,null,null,null,null,null,null,null,null,null,null,null,null,null,{"$f":"IF(A33<>\"\",IFERROR(VLOOKUP(M33,Tabelas!B:D,3,0),0),\"\")","v":0},{"$f":"IF(A33<>\"\",IFERROR(VLOOKUP(N33,Tabelas!B:D,3,0),0),\"\")","v":0},{"$f":"IF(A33<>\"\",IFERROR(VLOOKUP(O33,Tabelas!B:D,3,0),0),\"\")","v":0},{"$f":"IF(A33<>\"\",IFERROR(VLOOKUP(P33,Tabelas!B:D,3,0),0),\"\")","v":0},{"$f":"IF(A33<>\"\",IFERROR(VLOOKUP(Q33,Tabelas!B:D,3,0),0),\"\")","v":0},{"$f":"IF(A33<>\"\",IFERROR(VLOOKUP(R33,Tabelas!B:D,3,0),0),\"\")","v":0},{"$f":"IF(A33<>\"\",IFERROR(VLOOKUP(S33,Tabelas!B:D,3,0),0),\"\")","v":0},{"$f":"IF(A33<>\"\",IFERROR(VLOOKUP(T33,Tabelas!B:D,3,0),0),\"\")","v":0},{"$f":"IF(A33<>\"\",IFERROR(VLOOKUP(U33,Tabelas!B:D,3,0),0),\"\")","v":0},{"$f":"IF(A33<>\"\",IFERROR(VLOOKUP(V33,Tabelas!B:D,3,0),0),\"\")","v":0},{"$f":"IF(A33<>\"\",IFERROR(VLOOKUP(W33,Tabelas!B:D,3,0),0),\"\")","v":0},{"$f":"IF(A33<>\"\",IFERROR(VLOOKUP(X33,Tabelas!B:D,3,0),0),\"\")","v":0},{"$f":"IF(A33<>\"\",IFERROR(VLOOKUP(Y33,Tabelas!B:D,3,0),0),\"\")","v":0},{"$f":"IF(A33<>\"\",IFERROR(VLOOKUP(Z33,Tabelas!B:D,3,0),0),\"\")","v":0},{"$f":"IF(A33<>\"\",IFERROR(VLOOKUP(AA33,Tabelas!B:D,3,0),0),\"\")","v":0},{"$f":"IF(A33<>\"\",IFERROR(VLOOKUP(AB33,Tabelas!B:D,3,0),0),\"\")","v":0},{"$f":"IF(A33<>\"\",IFERROR(VLOOKUP(AC33,Tabelas!B:D,3,0),0),\"\")","v":0},{"$f":"IF(A33<>\"\",IFERROR(VLOOKUP(AD33,Tabelas!B:D,3,0),0),\"\")","v":0},{"$f":"IF(A33<>\"\",IFERROR(VLOOKUP(AE33,Tabelas!B:D,3,0),0),\"\")","v":0},{"$f":"IF(A33<>\"\",IFERROR(VLOOKUP(AF33,Tabelas!B:D,3,0),0),\"\")","v":0},{"$f":"IF(A33<>\"\",IFERROR(VLOOKUP(AG33,Tabelas!B:D,3,0),0),\"\")","v":0},{"$f":"IF(A33<>\"\",IFERROR(VLOOKUP(AH33,Tabelas!B:D,3,0),0),\"\")","v":0},{"$f":"IF(A33<>\"\",IFERROR(VLOOKUP(AI33,Tabelas!B:D,3,0),0),\"\")","v":0},{"$f":"IF(A33<>\"\",IFERROR(VLOOKUP(AJ33,Tabelas!B:D,3,0),0),\"\")","v":0},{"$f":"IF(A33<>\"\",IFERROR(VLOOKUP(AK33,Tabelas!B:D,3,0),0),\"\")","v":0},{"$f":"IF(A33<>\"\",IFERROR(VLOOKUP(AL33,Tabelas!B:D,3,0),0),\"\")","v":0},{"$f":"IF(A33<>\"\",IFERROR(VLOOKUP(AM33,Tabelas!B:D,3,0),0),\"\")","v":0},{"$f":"IF(A33<>\"\",IFERROR(VLOOKUP(AN33,Tabelas!B:D,3,0),0),\"\")","v":0},{"$f":"IF(A33<>\"\",IFERROR(VLOOKUP(AO33,Tabelas!B:D,3,0),0),\"\")","v":0},{"$f":"IF(A33<>\"\",IFERROR(VLOOKUP(AP33,Tabelas!B:D,3,0),0),\"\")","v":0},{"$f":"IF(A33<>\"\",IFERROR(VLOOKUP(AQ33,Tabelas!B:D,3,0),0),\"\")","v":0},0,0,0,0,0,0,0,0]
["FULANO 26",26,null,null,null,null,null,null,null,null,null,null,null,null,null,null,null,null,null,null,null,null,null,null,null,null,null,null,null,null,null,null,null,null,null,null,null,null,null,null,null,null,null,{"$f":"IF(A34<>\"\",IFERROR(VLOOKUP(M34,Tabelas!B:D,3,0),0),\"\")","v":0},{"$f":"IF(A34<>\"\",IFERROR(VLOOKUP(N34,Tabelas!B:D,3,0),0),\"\")","v":0},{"$f":"IF(A34<>\"\",IFERROR(VLOOKUP(O34,Tabelas!B:D,3,0),0),\"\")","v":0},{"$f":"IF(A34<>\"\",IFERROR(VLOOKUP(P34,Tabelas!B:D,3,0),0),\"\")","v":0},{"$f":"IF(A34<>\"\",IFERROR(VLOOKUP(Q34,Tabelas!B:D,3,0),0),\"\")","v":0},{"$f":"IF(A34<>\"\",IFERROR(VLOOKUP(R34,Tabelas!B:D,3,0),0),\"\")","v":0},{"$f":"IF(A34<>\"\",IFERROR(VLOOKUP(S34,Tabelas!B:D,3,0),0),\"\")","v":0},{"$f":"IF(A34<>\"\",IFERROR(VLOOKUP(T34,Tabelas!B:D,3,0),0),\"\")","v":0},{"$f":"IF(A34<>\"\",IFERROR(VLOOKUP(U34,Tabelas!B:D,3,0),0),\"\")","v":0},{"$f":"IF(A34<>\"\",IFERROR(VLOOKUP(V34,Tabelas!B:D,3,0),0),\"\")","v":0},{"$f":"IF(A34<>\"\",IFERROR(VLOOKUP(W34,Tabelas!B:D,3,0),0),\"\")","v":0},{"$f":"IF(A34<>\"\",IFERROR(VLOOKUP(X34,Tabelas!B:D,3,0),0),\"\")","v":0},{"$f":"IF(A34<>\"\",IFERROR(VLOOKUP(Y34,Tabelas!B:D,3,0),0),\"\")","v":0},{"$f":"IF(A34<>\"\",IFERROR(VLOOKUP(Z34,Tabelas!B:D,3,0),0),\"\")","v":0},{"$f":"IF(A34<>\"\",IFERROR(VLOOKUP(AA34,Tabelas!B:D,3,0),0),\"\")","v":0},{"$f":"IF(A34<>\"\",IFERROR(VLOOKUP(AB34,Tabelas!B:D,3,0),0),\"\")","v":0},{"$f":"IF(A34<>\"\",IFERROR(VLOOKUP(AC34,Tabelas!B:D,3,0),0),\"\")","v":0},{"$f":"IF(A34<>\"\",IFERROR(VLOOKUP(AD34,Tabelas!B:D,3,0),0),\"\")","v":0},{"$f":"IF(A34<>\"\",IFERROR(VLOOKUP(AE34,Tabelas!B:D,3,0),0),\"\")","v":0},{"$f":"IF(A34<>\"\",IFERROR(VLOOKUP(AF34,Tabelas!B:D,3,0),0),\"\")","v":0},{"$f":"IF(A34<>\"\",IFERROR(VLOOKUP(AG34,Tabelas!B:D,3,0),0),\"\")","v":0},{"$f":"IF(A34<>\"\",IFERROR(VLOOKUP(AH34,Tabelas!B:D,3,0),0),\"\")","v":0},{"$f":"IF(A34<>\"\",IFERROR(VLOOKUP(AI34,Tabelas!B:D,3,0),0),\"\")","v":0},{"$f":"IF(A34<>\"\",IFERROR(VLOOKUP(AJ34,Tabelas!B:D,3,0),0),\"\")","v":0},{"$f":"IF(A34<>\"\",IFERROR(VLOOKUP(AK34,Tabelas!B:D,3,0),0),\"\")","v":0},{"$f":"IF(A34<>\"\",IFERROR(VLOOKUP(AL34,Tabelas!B:D,3,0),0),\"\")","v":0},{"$f":"IF(A34<>\"\",IFERROR(VLOOKUP(AM34,Tabelas!B:D,3,0),0),\"\")","v":0},{"$f":"IF(A34<>\"\",IFERROR(VLOOKUP(AN34,Tabelas!B:D,3,0),0),\"\")","v":0},{"$f":"IF(A34<>\"\",IFERROR(VLOOKUP(AO34,Tabelas!B:D,3,0),0),\"\")","v":0},{"$f":"IF(A34<>\"\",IFERROR(VLOOKUP(AP34,Tabelas!B:D,3,0),0),\"\")","v":0},{"$f":"IF(A34<>\"\",IFERROR(VLOOKUP(AQ34,Tabelas!B:D,3,0),0),\"\")","v":0},0,0,0,0,0,0,0,0]
["FULANO 27",27,null,null,null,null,null,null,null,null,null,null,null,null,null,null,null,null,null,null,null,null,null,null,null,null,null,null,null,null,null,null,null,null,null,null,null,null,null,null,null,null,null,{"$f":"IF(A35<>\"\",IFERROR(VLOOKUP(M35,Tabelas!B:D,3,0),0),\"\")","v":0},{"$f":"IF(A35<>\"\",IFERROR(VLOOKUP(N35,Tabelas!B:D,3,0),0),\"\")","v":0},{"$f":"IF(A35<>\"\",IFERROR(VLOOKUP(O35,Tabelas!B:D,3,0),0),\"\")","v":0},{"$f":"IF(A35<>\"\",IFERROR(VLOOKUP(P35,Tabelas!B:D,3,0),0),\"\")","v":0},{"$f":"IF(A35<>\"\",IFERROR(VLOOKUP(Q35,Tabelas!B:D,3,0),0),\"\")","v":0},{"$f":"IF(A35<>\"\",IFERROR(VLOOKUP(R35,Tabelas!B:D,3,0),0),\"\")","v":0},{"$f":"IF(A35<>\"\",IFERROR(VLOOKUP(S35,Tabelas!B:D,3,0),0),\"\")","v":0},{"$f":"IF(A35<>\"\",IFERROR(VLOOKUP(T35,Tabelas!B:D,3,0),0),\"\")","v":0},{"$f":"IF(A35<>\"\",IFERROR(VLOOKUP(U35,Tabelas!B:D,3,0),0),\"\")","v":0},{"$f":"IF(A35<>\"\",IFERROR(VLOOKUP(V35,Tabelas!B:D,3,0),0),\"\")","v":0},{"$f":"IF(A35<>\"\",IFERROR(VLOOKUP(W35,Tabelas!B:D,3,0),0),\"\")","v":0},{"$f":"IF(A35<>\"\",IFERROR(VLOOKUP(X35,Tabelas!B:D,3,0),0),\"\")","v":0},{"$f":"IF(A35<>\"\",IFERROR(VLOOKUP(Y35,Tabelas!B:D,3,0),0),\"\")","v":0},{"$f":"IF(A35<>\"\",IFERROR(VLOOKUP(Z35,Tabelas!B:D,3,0),0),\"\")","v":0},{"$f":"IF(A35<>\"\",IFERROR(VLOOKUP(AA35,Tabelas!B:D,3,0),0),\"\")","v":0},{"$f":"IF(A35<>\"\",IFERROR(VLOOKUP(AB35,Tabelas!B:D,3,0),0),\"\")","v":0},{"$f":"IF(A35<>\"\",IFERROR(VLOOKUP(AC35,Tabelas!B:D,3,0),0),\"\")","v":0},{"$f":"IF(A35<>\"\",IFERROR(VLOOKUP(AD35,Tabelas!B:D,3,0),0),\"\")","v":0},{"$f":"IF(A35<>\"\",IFERROR(VLOOKUP(AE35,Tabelas!B:D,3,0),0),\"\")","v":0},{"$f":"IF(A35<>\"\",IFERROR(VLOOKUP(AF35,Tabelas!B:D,3,0),0),\"\")","v":0},{"$f":"IF(A35<>\"\",IFERROR(VLOOKUP(AG35,Tabelas!B:D,3,0),0),\"\")","v":0},{"$f":"IF(A35<>\"\",IFERROR(VLOOKUP(AH35,Tabelas!B:D,3,0),0),\"\")","v":0},{"$f":"IF(A35<>\"\",IFERROR(VLOOKUP(AI35,Tabelas!B:D,3,0),0),\"\")","v":0},{"$f":"IF(A35<>\"\",IFERROR(VLOOKUP(AJ35,Tabelas!B:D,3,0),0),\"\")","v":0},{"$f":"IF(A35<>\"\",IFERROR(VLOOKUP(AK35,Tabelas!B:D,3,0),0),\"\")","v":0},{"$f":"IF(A35<>\"\",IFERROR(VLOOKUP(AL35,Tabelas!B:D,3,0),0),\"\")","v":0},{"$f":"IF(A35<>\"\",IFERROR(VLOOKUP(AM35,Tabelas!B:D,3,0),0),\"\")","v":0},{"$f":"IF(A35<>\"\",IFERROR(VLOOKUP(AN35,Tabelas!B:D,3,0),0),\"\")","v":0},{"$f":"IF(A35<>\"\",IFERROR(VLOOKUP(AO35,Tabelas!B:D,3,0),0),\"\")","v":0},{"$f":"IF(A35<>\"\",IFERROR(VLOOKUP(AP35,Tabelas!B:D,3,0),0),\"\")","v":0},{"$f":"IF(A35<>\"\",IFERROR(VLOOKUP(AQ35,Tabelas!B:D,3,0),0),\"\")","v":0},0,0,0,0,0,0,0,0]
["TOTAL PROFISSIONAIS MATUTINO",null,null,null,null,null,null,null,null,null,null,null,{"$f":"IF(COUNTIF(Março!AQ9:AQ35,\"PR5\")+COUNTIF(Março!AQ9:AQ35,\"PR6\")+COUNTIF(Março!AQ9:AQ35,\"PR7\")+COUNTIF(Março!AQ9:AQ35,\"PR8\")+COUNTIF(Março!AQ9:AQ35,\"PR9\")+COUNTIF(M9:M35,\"M*\")+ COUNTIF(M9:M35, \"D*\")-COUNTIF(M9:M35,\"DSR\")+COUNTIF(M9:M35,\"PR1\")+COUNTIF(M9:M35,\"PR2\")+COUNTIF(M9:M35,\"PR3\")+COUNTIF(M9:M35,\"PR4\")<>0,COUNTIF(Março!AQ9:AQ35,\"PR5\")+COUNTIF(Março!AQ9:AQ35,\"PR6\")+COUNTIF(Março!AQ9:AQ35,\"PR7\")+COUNTIF(Março!AQ9:AQ35,\"PR8\")+COUNTIF(Março!AQ9:AQ35,\"PR9\")+COUNTIF(M9:M35,\"M*\")+ COUNTIF(M9:M35, \"D*\")-COUNTIF(M9:M35,\"DSR\")+COUNTIF(M9:M35,\"PR1\")+COUNTIF(M9:M35,\"PR2\")+COUNTIF(M9:M35,\"PR3\")+COUNTIF(M9:M35,\"PR4\"),\"\")","v":""},{"$f":"IF(COUNTIF(N9:N35,\"M*\")+ COUNTIF(N9:N35, \"D*\")-COUNTIF(N9:N35,\"DSR\")+COUNTIF(M9:M35,\"PR5\")+COUNTIF(M9:M35,\"PR6\")+COUNTIF(M9:M35,\"PR7\")+COUNTIF(M9:M35,\"PR8\")+COUNTIF(M9:M35,\"PR9\")+COUNTIF(N9:N35,\"PR1\")+COUNTIF(N9:N35,\"PR2\")+COUNTIF(N9:N35,\"PR3\")+COUNTIF(N9:N35,\"PR4\")<>0,COUNTIF(N9:N35,\"M*\")+ COUNTIF(N9:N35, \"D*\")-COUNTIF(N9:N35,\"DSR\")+COUNTIF(M9:M35,\"PR5\")+COUNTIF(M9:M35,\"PR6\")+COUNTIF(M9:M35,\"PR7\")+COUNTIF(M9:M35,\"PR8\")+COUNTIF(M9:M35,\"PR9\")+COUNTIF(N9:N35,\"PR1\")+COUNTIF(N9:N35,\"PR2\")+COUNTIF(N9:N35,\"PR3\")+COUNTIF(N9:N35,\"PR4\"),\"\")","v":""},{"$f":"IF(COUNTIF(O9:O35,\"M*\")+ COUNTIF(O9:O35, \"D*\")-COUNTIF(O9:O35,\"DSR\")+COUNTIF(N9:N35,\"PR5\")+COUNTIF(N9:N35,\"PR6\")+COUNTIF(N9:N35,\"PR7\")+COUNTIF(N9:N35,\"PR8\")+COUNTIF(N9:N35,\"PR9\")+COUNTIF(O9:O35,\"PR1\")+COUNTIF(O9:O35,\"PR2\")+COUNTIF(O9:O35,\"PR3\")+COUNTIF(O9:O35,\"PR4\")<>0,COUNTIF(O9:O35,\"M*\")+ COUNTIF(O9:O35, \"D*\")-COUNTIF(O9:O35,\"DSR\")+COUNTIF(N9:N35,\"PR5\")+COUNTIF(N9:N35,\"PR6\")+COUNTIF(N9:N35,\"PR7\")+COUNTIF(N9:N35,\"PR8\")+COUNTIF(N9:N35,\"PR9\")+COUNTIF(O9:O35,\"PR1\")+COUNTIF(O9:O35,\"PR2\")+COUNTIF(O9:O35,\"PR3\")+COUNTIF(O9:O35,\"PR4\"),\"\")","v":""},"","","","","","","","","","","","","","","","","","","","","","","","","","","",null,null,null,null,null,null,null,null,null,null,null,null,null,null,null,null,null,null,null,null,null,null,null,null,null,null,null,null,null,null,null,null,{"$f":"SUM(BW9:BW35)","v":0},{"$f":"SUM(BX9:BX35)","v":0},0,0,0,0,0,0]
["TOTAL DE PROFISSIONAIS VESPERTINO",null,null,null,null,null,null,null,null,null,null,null,{"$f":"IF(COUNTIF(Março!AQ9:AQ35,\"PR5\")+COUNTIF(Março!AQ9:AQ35,\"PR6\")+COUNTIF(Março!AQ9:AQ35,\"PR7\")+COUNTIF(Março!AQ9:AQ35,\"PR8\")+COUNTIF(Março!AQ9:AQ35,\"PR9\")+COUNTIF(M9:M35,\"MT*\") + COUNTIF(M9:M35, \"D*\") + COUNTIF(M9:M35,\"T*\")-COUNTIF(M9:M35,\"DSR\")+COUNTIF(M9:M35,\"PR1\")+COUNTIF(M9:M35,\"PR2\")+COUNTIF(M9:M35,\"PR3\")+COUNTIF(M9:M35,\"PR4\")<>0,COUNTIF(Março!AQ9:AQ35,\"PR5\")+COUNTIF(Março!AQ9:AQ35,\"PR6\")+COUNTIF(Março!AQ9:AQ35,\"PR7\")+COUNTIF(Março!AQ9:AQ35,\"PR8\")+COUNTIF(Março!AQ9:AQ35,\"PR9\")+COUNTIF(M9:M35,\"MT*\") + COUNTIF(M9:M35, \"D*\") + COUNTIF(M9:M35,\"T*\")+COUNTIF(M9:M35,\"PR1\")+COUNTIF(M9:M35,\"PR2\")+COUNTIF(M9:M35,\"PR3\")+COUNTIF(M9:M35,\"PR4\")-COUNTIF(M9:M35,\"DSR\"),\"\")","v":""},{"$f":"IF(COUNTIF(N9:N35,\"MT*\") + COUNTIF(N9:N35, \"D*\") + COUNTIF(N9:N35,\"T*\")-COUNTIF(N9:N35,\"DSR\")+COUNTIF(M9:M35,\"PR5\")+COUNTIF(M9:M35,\"PR6\")+COUNTIF(M9:M35,\"PR7\")+COUNTIF(M9:M35,\"PR8\")+COUNTIF(M9:M35,\"PR9\")+COUNTIF(N9:N35,\"PR1\")+COUNTIF(N9:N35,\"PR2\")+COUNTIF(N9:N35,\"PR3\")+COUNTIF(N9:N35,\"PR4\")<>0,COUNTIF(N9:N35,\"MT*\") + COUNTIF(N9:N35, \"D*\") + COUNTIF(N9:N35,\"T*\")+COUNTIF(M9:M35,\"PR5\")+COUNTIF(M9:M35,\"PR6\")+COUNTIF(M9:M35,\"PR7\")+COUNTIF(M9:M35,\"PR8\")+COUNTIF(M9:M35,\"PR9\")+COUNTIF(N9:N35,\"PR1\")+COUNTIF(N9:N35,\"PR2\")+COUNTIF(N9:N35,\"PR3\")+COUNTIF(N9:N35,\"PR4\")-COUNTIF(N9:N35,\"DSR\"),\"\")","v":""},{"$f":"IF(COUNTIF(O9:O35,\"MT*\") + COUNTIF(O9:O35, \"D*\") + COUNTIF(O9:O35,\"T*\")-COUNTIF(O9:O35,\"DSR\")+COUNTIF(N9:N35,\"PR5\")+COUNTIF(N9:N35,\"PR6\")+COUNTIF(N9:N35,\"PR7\")+COUNTIF(N9:N35,\"PR8\")+COUNTIF(N9:N35,\"PR9\")+COUNTIF(O9:O35,\"PR1\")+COUNTIF(O9:O35,\"PR2\")+COUNTIF(O9:O35,\"PR3\")+COUNTIF(O9:O35,\"PR4\")<>0,COUNTIF(O9:O35,\"MT*\") + COUNTIF(O9:O35, \"D*\") + COUNTIF(O9:O35,\"T*\")+COUNTIF(N9:N35,\"PR5\")+COUNTIF(N9:N35,\"PR6\")+COUNTIF(N9:N35,\"PR7\")+COUNTIF(N9:N35,\"PR8\")+COUNTIF(N9:N35,\"PR9\")+COUNTIF(O9:O35,\"PR1\")+COUNTIF(O9:O35,\"PR2\")+COUNTIF(O9:O35,\"PR3\")+COUNTIF(O9:O35,\"PR4\")-COUNTIF(O9:O35,\"DSR\"),\"\")","v":""},"","","","","","","","","","","","","","","","","","","","","","","","","","","",null,{"$f":"IF(A37<>\"\",IFERROR(VLOOKUP(M37,Tabelas!B:D,3,0),0),\"\")","v":0},{"$f":"IF(A37<>\"\",IFERROR(VLOOKUP(N37,Tabelas!B:D,3,0),0),\"\")","v":0},{"$f":"IF(A37<>\"\",IFERROR(VLOOKUP(O37,Tabelas!B:D,3,0),0),\"\")","v":0},{"$f":"IF(A37<>\"\",IFERROR(VLOOKUP(P37,Tabelas!B:D,3,0),0),\"\")","v":0},{"$f":"IF(A37<>\"\",IFERROR(VLOOKUP(Q37,Tabelas!B:D,3,0),0),\"\")","v":0},{"$f":"IF(A37<>\"\",IFERROR(VLOOKUP(R37,Tabelas!B:D,3,0),0),\"\")","v":0},{"$f":"IF(A37<>\"\",IFERROR(VLOOKUP(S37,Tabelas!B:D,3,0),0),\"\")","v":0},{"$f":"IF(A37<>\"\",IFERROR(VLOOKUP(T37,Tabelas!B:D,3,0),0),\"\")","v":0},{"$f":"IF(A37<>\"\",IFERROR(VLOOKUP(U37,Tabelas!B:D,3,0),0),\"\")","v":0},{"$f":"IF(A37<>\"\",IFERROR(VLOOKUP(V37,Tabelas!B:D,3,0),0),\"\")","v":0},{"$f":"IF(A37<>\"\",IFERROR(VLOOKUP(W37,Tabelas!B:D,3,0),0),\"\")","v":0},{"$f":"IF(A37<>\"\",IFERROR(VLOOKUP(X37,Tabelas!B:D,3,0),0),\"\")","v":0},{"$f":"IF(A37<>\"\",IFERROR(VLOOKUP(Y37,Tabelas!B:D,3,0),0),\"\")","v":0},{"$f":"IF(A37<>\"\",IFERROR(VLOOKUP(Z37,Tabelas!B:D,3,0),0),\"\")","v":0},{"$f":"IF(A37<>\"\",IFERROR(VLOOKUP(AA37,Tabelas!B:D,3,0),0),\"\")","v":0},{"$f":"IF(A37<>\"\",IFERROR(VLOOKUP(AB37,Tabelas!B:D,3,0),0),\"\")","v":0},{"$f":"IF(A37<>\"\",IFERROR(VLOOKUP(AC37,Tabelas!B:D,3,0),0),\"\")","v":0},{"$f":"IF(A37<>\"\",IFERROR(VLOOKUP(AD37,Tabelas!B:D,3,0),0),\"\")","v":0},{"$f":"IF(A37<>\"\",IFERROR(VLOOKUP(AE37,Tabelas!B:D,3,0),0),\"\")","v":0},{"$f":"IF(A37<>\"\",IFERROR(VLOOKUP(AF37,Tabelas!B:D,3,0),0),\"\")","v":0},{"$f":"IF(A37<>\"\",IFERROR(VLOOKUP(AG37,Tabelas!B:D,3,0),0),\"\")","v":0},{"$f":"IF(A37<>\"\",IFERROR(VLOOKUP(AH37,Tabelas!B:D,3,0),0),\"\")","v":0},{"$f":"IF(A37<>\"\",IFERROR(VLOOKUP(AI37,Tabelas!B:D,3,0),0),\"\")","v":0},{"$f":"IF(A37<>\"\",IFERROR(VLOOKUP(AJ37,Tabelas!B:D,3,0),0),\"\")","v":0},{"$f":"IF(A37<>\"\",IFERROR(VLOOKUP(AK37,Tabelas!B:D,3,0),0),\"\")","v":0},{"$f":"IF(A37<>\"\",IFERROR(VLOOKUP(AL37,Tabelas!B:D,3,0),0),\"\")","v":0},{"$f":"IF(A37<>\"\",IFERROR(VLOOKUP(AM37,Tabelas!B:D,3,0),0),\"\")","v":0},{"$f":"IF(A37<>\"\",IFERROR(VLOOKUP(AN37,Tabelas!B:D,3,0),0),\"\")","v":0},{"$f":"IF(A37<>\"\",IFERROR(VLOOKUP(AO37,Tabelas!B:D,3,0),0),\"\")","v":0},{"$f":"IF(A37<>\"\",IFERROR(VLOOKUP(AP37,Tabelas!B:D,3,0),0),\"\")","v":0},{"$f":"IF(A37<>\"\",IFERROR(VLOOKUP(AQ37,Tabelas!B:D,3,0),0),\"\")","v":0}]
["TOTAL DE PROFISSIONAIS NOTURNO",null,null,null,null,null,null,null,null,null,null,null,{"$f":"IF(COUNTIF(M9:M37,\"N?*\") + COUNTIF(M9:M37, \"DN*\")+COUNTIF(M9:M35,\"PR*\")<>0,COUNTIF(M9:M37,\"N?*\") + COUNTIF(M9:M37, \"DN*\")+COUNTIF(M9:M35,\"PR*\"),\"\")","v":""},{"$f":"IF(COUNTIF(N9:N37,\"N?*\") + COUNTIF(N9:N37, \"DN*\")+COUNTIF(N9:N35,\"PR*\")<>0,COUNTIF(N9:N37,\"N?*\") + COUNTIF(N9:N37, \"DN*\")+COUNTIF(N9:N35,\"PR*\"),\"\")","v":""},"","","","","","","","","","","","","","","","","","","","","","","","","","","","",null,{"$f":"IF(A38<>\"\",IFERROR(VLOOKUP(M38,Tabelas!B:D,3,0),0),\"\")","v":0},{"$f":"IF(A38<>\"\",IFERROR(VLOOKUP(N38,Tabelas!B:D,3,0),0),\"\")","v":0},{"$f":"IF(A38<>\"\",IFERROR(VLOOKUP(O38,Tabelas!B:D,3,0),0),\"\")","v":0},{"$f":"IF(A38<>\"\",IFERROR(VLOOKUP(P38,Tabelas!B:D,3,0),0),\"\")","v":0},{"$f":"IF(A38<>\"\",IFERROR(VLOOKUP(Q38,Tabelas!B:D,3,0),0),\"\")","v":0},{"$f":"IF(A38<>\"\",IFERROR(VLOOKUP(R38,Tabelas!B:D,3,0),0),\"\")","v":0},{"$f":"IF(A38<>\"\",IFERROR(VLOOKUP(S38,Tabelas!B:D,3,0),0),\"\")","v":0},{"$f":"IF(A38<>\"\",IFERROR(VLOOKUP(T38,Tabelas!B:D,3,0),0),\"\")","v":0},{"$f":"IF(A38<>\"\",IFERROR(VLOOKUP(U38,Tabelas!B:D,3,0),0),\"\")","v":0},{"$f":"IF(A38<>\"\",IFERROR(VLOOKUP(V38,Tabelas!B:D,3,0),0),\"\")","v":0},{"$f":"IF(A38<>\"\",IFERROR(VLOOKUP(W38,Tabelas!B:D,3,0),0),\"\")","v":0},{"$f":"IF(A38<>\"\",IFERROR(VLOOKUP(X38,Tabelas!B:D,3,0),0),\"\")","v":0},{"$f":"IF(A38<>\"\",IFERROR(VLOOKUP(Y38,Tabelas!B:D,3,0),0),\"\")","v":0},{"$f":"IF(A38<>\"\",IFERROR(VLOOKUP(Z38,Tabelas!B:D,3,0),0),\"\")","v":0},{"$f":"IF(A38<>\"\",IFERROR(VLOOKUP(AA38,Tabelas!B:D,3,0),0),\"\")","v":0},{"$f":"IF(A38<>\"\",IFERROR(VLOOKUP(AB38,Tabelas!B:D,3,0),0),\"\")","v":0},{"$f":"IF(A38<>\"\",IFERROR(VLOOKUP(AC38,Tabelas!B:D,3,0),0),\"\")","v":0},{"$f":"IF(A38<>\"\",IFERROR(VLOOKUP(AD38,Tabelas!B:D,3,0),0),\"\")","v":0},{"$f":"IF(A38<>\"\",IFERROR(VLOOKUP(AE38,Tabelas!B:D,3,0),0),\"\")","v":0},{"$f":"IF(A38<>\"\",IFERROR(VLOOKUP(AF38,Tabelas!B:D,3,0),0),\"\")","v":0},{"$f":"IF(A38<>\"\",IFERROR(VLOOKUP(AG38,Tabelas!B:D,3,0),0),\"\")","v":0},{"$f":"IF(A38<>\"\",IFERROR(VLOOKUP(AH38,Tabelas!B:D,3,0),0),\"\")","v":0},{"$f":"IF(A38<>\"\",IFERROR(VLOOKUP(AI38,Tabelas!B:D,3,0),0),\"\")","v":0},{"$f":"IF(A38<>\"\",IFERROR(VLOOKUP(AJ38,Tabelas!B:D,3,0),0),\"\")","v":0},{"$f":"IF(A38<>\"\",IFERROR(VLOOKUP(AK38,Tabelas!B:D,3,0),0),\"\")","v":0},{"$f":"IF(A38<>\"\",IFERROR(VLOOKUP(AL38,Tabelas!B:D,3,0),0),\"\")","v":0},{"$f":"IF(A38<>\"\",IFERROR(VLOOKUP(AM38,Tabelas!B:D,3,0),0),\"\")","v":0},{"$f":"IF(A38<>\"\",IFERROR(VLOOKUP(AN38,Tabelas!B:D,3,0),0),\"\")","v":0},{"$f":"IF(A38<>\"\",IFERROR(VLOOKUP(AO38,Tabelas!B:D,3,0),0),\"\")","v":0},{"$f":"IF(A38<>\"\",IFERROR(VLOOKUP(AP38,Tabelas!B:D,3,0),0),\"\")","v":0},{"$f":"IF(A38<>\"\",IFERROR(VLOOKUP(AQ38,Tabelas!B:D,3,0),0),\"\")","v":0}]
[null,null,null,null,null,null,null,null,null,null,null,null,null,null,null,null,null,null,null,null,null,null,null,null,null,null,null,null,null,null,null,null,null,null,null,null,null,null,null,null,null,null,null,{"$f":"IF(A39<>\"\",IFERROR(VLOOKUP(M39,Tabelas!B:D,3,0),0),\"\")","v":""},{"$f":"IF(A39<>\"\",IFERROR(VLOOKUP(N39,Tabelas!B:D,3,0),0),\"\")","v":""},{"$f":"IF(A39<>\"\",IFERROR(VLOOKUP(O39,Tabelas!B:D,3,0),0),\"\")","v":""},{"$f":"IF(A39<>\"\",IFERROR(VLOOKUP(P39,Tabelas!B:D,3,0),0),\"\")","v":""},{"$f":"IF(A39<>\"\",IFERROR(VLOOKUP(Q39,Tabelas!B:D,3,0),0),\"\")","v":""},{"$f":"IF(A39<>\"\",IFERROR(VLOOKUP(R39,Tabelas!B:D,3,0),0),\"\")","v":""},{"$f":"IF(A39<>\"\",IFERROR(VLOOKUP(S39,Tabelas!B:D,3,0),0),\"\")","v":""},{"$f":"IF(A39<>\"\",IFERROR(VLOOKUP(T39,Tabelas!B:D,3,0),0),\"\")","v":""},{"$f":"IF(A39<>\"\",IFERROR(VLOOKUP(U39,Tabelas!B:D,3,0),0),\"\")","v":""},{"$f":"IF(A39<>\"\",IFERROR(VLOOKUP(V39,Tabelas!B:D,3,0),0),\"\")","v":""},{"$f":"IF(A39<>\"\",IFERROR(VLOOKUP(W39,Tabelas!B:D,3,0),0),\"\")","v":""},{"$f":"IF(A39<>\"\",IFERROR(VLOOKUP(X39,Tabelas!B:D,3,0),0),\"\")","v":""},{"$f":"IF(A39<>\"\",IFERROR(VLOOKUP(Y39,Tabelas!B:D,3,0),0),\"\")","v":""},{"$f":"IF(A39<>\"\",IFERROR(VLOOKUP(Z39,Tabelas!B:D,3,0),0),\"\")","v":""},{"$f":"IF(A39<>\"\",IFERROR(VLOOKUP(AA39,Tabelas!B:D,3,0),0),\"\")","v":""},{"$f":"IF(A39<>\"\",IFERROR(VLOOKUP(AB39,Tabelas!B:D,3,0),0),\"\")","v":""},{"$f":"IF(A39<>\"\",IFERROR(VLOOKUP(AC39,Tabelas!B:D,3,0),0),\"\")","v":""},{"$f":"IF(A39<>\"\",IFERROR(VLOOKUP(AD39,Tabelas!B:D,3,0),0),\"\")","v":""},{"$f":"IF(A39<>\"\",IFERROR(VLOOKUP(AE39,Tabelas!B:D,3,0),0),\"\")","v":""},{"$f":"IF(A39<>\"\",IFERROR(VLOOKUP(AF39,Tabelas!B:D,3,0),0),\"\")","v":""},{"$f":"IF(A39<>\"\",IFERROR(VLOOKUP(AG39,Tabelas!B:D,3,0),0),\"\")","v":""},{"$f":"IF(A39<>\"\",IFERROR(VLOOKUP(AH39,Tabelas!B:D,3,0),0),\"\")","v":""},{"$f":"IF(A39<>\"\",IFERROR(VLOOKUP(AI39,Tabelas!B:D,3,0),0),\"\")","v":""},{"$f":"IF(A39<>\"\",IFERROR(VLOOKUP(AJ39,Tabelas!B:D,3,0),0),\"\")","v":""},{"$f":"IF(A39<>\"\",IFERROR(VLOOKUP(AK39,Tabelas!B:D,3,0),0),\"\")","v":""},{"$f":"IF(A39<>\"\",IFERROR(VLOOKUP(AL39,Tabelas!B:D,3,0),0),\"\")","v":""},{"$f":"IF(A39<>\"\",IFERROR(VLOOKUP(AM39,Tabelas!B:D,3,0),0),\"\")","v":""},{"$f":"IF(A39<>\"\",IFERROR(VLOOKUP(AN39,Tabelas!B:D,3,0),0),\"\")","v":""},{"$f":"IF(A39<>\"\",IFERROR(VLOOKUP(AO39,Tabelas!B:D,3,0),0),\"\")","v":""},{"$f":"IF(A39<>\"\",IFERROR(VLOOKUP(AP39,Tabelas!B:D,3,0),0),\"\")","v":""},{"$f":"IF(A39<>\"\",IFERROR(VLOOKUP(AQ39,Tabelas!B:D,3,0),0),\"\")","v":""}]
["Legenda:"]
["Licença Maternidade","LM","Férias",null,null,null,null,null,null,"FE",null,"Ponto Facultativo",null,null,null,null,null,null,null,"PF","Manhã *",null,null,null,null,null,null,"M","Diurno (8 hrs) *",null,null,null,null,null,null,"MT"]
["Licença Paternidade","LP","Feriado",null,null,null,null,null,null,"FD",null,"Abono **",null,null,null,null,null,null,null,"AB","Tarde *",null,null,null,null,null,null,"T","Dia/ noite (24 hrs) *",null,null,null,null,null,null,"DN"]
["Licença Médica/Odontológica","L","Descanso Semanal Remunerado",null,null,null,null,null,null,"DSR",null,"Compensação de Horas",null,null,null,null,null,null,null,"CH","Plantão Dia (12 hrs) *",null,null,null,null,null,null,"D"]
["Licença Capacitação","LC","Recesso",null,null,null,null,null,null,"RC",null,"Afastamento**",null,null,null,null,null,null,null,"AF","Plantão Noite (12 hrs) *",null,null,null,null,null,null,"N"]
[]
[]
[]
[]
[]
["OBSERVAÇÕES:"]
["* Para inserção das legendas referentes às jornadas de trabalho, verificar a Tabela 1 do Anexo 12629162 do Ofício-Circular - SEI nº 9/2021/SDR/CAP/DGP-EBSERH."]
["** Para inserção das legendas referentes aos Afastamentos previstos em lei e às Compensações de horas, verificar a Tabela 2 do Anexo 12629162 do Ofício-Circular - SEI nº 9/2021/SDR/CAP/DGP-EBSERH."]

{"sheet":"Maio","index":4,"n_rows":52,"n_cols":82,"rows_kept":52,"cut":false,"hidden":false,"merged":[[43,2,43,8],[43,9,43,10],[43,11,43,18],[43,20,43,26],[40,11,40,18],[40,20,40,26],[40,28,40,34],[41,28,41,34],[42,2,42,8],[42,9,42,10],[42,11,42,18],[42,20,42,26],[41,2,41,8],[41,9,41,10],[41,11,41,18],[41,20,41,26],[5,2,7,2],[5,3,7,3],[5,4,7,4],[40,2,40,8],[40,9,40,10],[6,81,7,81],[6,77,7,77],[6,78,7,78],[36,0,36,11],[37,0,37,11],[35,78,37,78],[35,79,37,79],[35,80,37,80],[35,0,35,11],[35,74,37,74],[35,75,37,75],[35,76,37,76],[35,77,37,77],[5,5,7,5],[5,0,7,0],[5,1,7,1],[35,81,37,81],[5,6,5,11],[5,12,5,42],[6,79,7,79],[6,11,7,11],[6,75,7,75],[6,76,7,76],[6,6,7,6],[6,7,7,7],[6,8,7,8],[6,9,7,9],[6,10,7,10],[5,43,5,73],[5,74,7,74],[5,75,5,81],[6,80,7,80],[1,0,1,42],[2,0,2,42],[3,0,3,42],[4,1,4,20],[4,23,4,34],[4,37,4,42]]}
[]
[]
["NOME DO HU"]
["ESCALA MENSAL DE TRABALHO"]
["DIVISÃO /SETOR/UNIDADE:",null,null,null,null,null,null,null,null,null,null,null,null,null,null,null,null,null,null,null,null,"MÊS:",null,"Maio",null,null,null,null,null,null,null,null,null,null,null,"ANO:",null,2023]
["NOME COMPLETO","SIAPE","     Registro Conselho Classe","Cargo","Vínculo","    C.H Sem","INTERVALO",null,null,null,null,null,"DIAS DO MÊS",null,null,null,null,null,null,null,null,null,null,null,null,null,null,null,null,null,null,null,null,null,null,null,null,null,null,null,null,null,null,"CÁLCULO DAS HORAS",null,null,null,null,null,null,null,null,null,null,null,null,null,null,null,null,null,null,null,null,null,null,null,null,null,null,null,null,null,null,"CH Men.","Dias"]
[null,null,null,null,null,null,"15' M","15' T","15' N","1H D","1H N","2H",1,2,3,4,5,6,7,8,9,10,11,12,13,14,15,16,17,18,19,20,21,22,23,24,25,{"$f":"IF(DAY(DATE(AL5,VLOOKUP(X5,Tabelas!M:N,2,0)+1,1)-1)>=26,26,\"\")","v":26},{"$f":"IF(DAY(DATE(AL5,VLOOKUP(X5,Tabelas!M:N,2,0)+1,1)-1)>=27,27,\"\")","v":27},{"$f":"IF(DAY(DATE(AL5,VLOOKUP(X5,Tabelas!M:N,2,0)+1,1)-1)>=28,28,\"\")","v":28},{"$f":"IF(DAY(DATE(AL5,VLOOKUP(X5,Tabelas!M:N,2,0)+1,1)-1)>=29,29,\"\")","v":29},{"$f":"IF(DAY(DATE(AL5,VLOOKUP(X5,Tabelas!M:N,2,0)+1,1)-1)>=30,30,\"\")","v":30},{"$f":"IF(DAY(DATE(AL5,VLOOKUP(X5,Tabelas!M:N,2,0)+1,1)-1)>=31,31,\"\")","v":31},null,null,null,null,null,null,null,null,null,null,null,null,null,null,null,null,null,null,null,null,null,null,null,null,null,null,null,null,null,null,null,null,"LM/LP/L","AB","FE","LC","CH","AF  "," Total Afast."]
[null,null,null,null,null,null,null,null,null,null,null,null,{"$f":"IF(M7<>\"\",IFERROR(VLOOKUP(WEEKDAY(CONCATENATE(M7,$X$5,$AL$5)),Tabelas!$I:$J,2,0),\"\"),\"\")","v":"SEG"},{"$f":"IF(N7<>\"\",IFERROR(VLOOKUP(WEEKDAY(CONCATENATE(N7,$X$5,$AL$5)),Tabelas!$I:$J,2,0),\"\"),\"\")","v":"TER"},{"$f":"IF(O7<>\"\",IFERROR(VLOOKUP(WEEKDAY(CONCATENATE(O7,$X$5,$AL$5)),Tabelas!$I:$J,2,0),\"\"),\"\")","v":"QUA"},{"$f":"IF(P7<>\"\",IFERROR(VLOOKUP(WEEKDAY(CONCATENATE(P7,$X$5,$AL$5)),Tabelas!$I:$J,2,0),\"\"),\"\")","v":"QUI"},{"$f":"IF(Q7<>\"\",IFERROR(VLOOKUP(WEEKDAY(CONCATENATE(Q7,$X$5,$AL$5)),Tabelas!$I:$J,2,0),\"\"),\"\")","v":"SEX"},{"$f":"IF(R7<>\"\",IFERROR(VLOOKUP(WEEKDAY(CONCATENATE(R7,$X$5,$AL$5)),Tabelas!$I:$J,2,0),\"\"),\"\")","v":"SAB"},{"$f":"IF(S7<>\"\",IFERROR(VLOOKUP(WEEKDAY(CONCATENATE(S7,$X$5,$AL$5)),Tabelas!$I:$J,2,0),\"\"),\"\")","v":"DOM"},{"$f":"IF(T7<>\"\",IFERROR(VLOOKUP(WEEKDAY(CONCATENATE(T7,$X$5,$AL$5)),Tabelas!$I:$J,2,0),\"\"),\"\")","v":"SEG"},{"$f":"IF(U7<>\"\",IFERROR(VLOOKUP(WEEKDAY(CONCATENATE(U7,$X$5,$AL$5)),Tabelas!$I:$J,2,0),\"\"),\"\")","v":"TER"},{"$f":"IF(V7<>\"\",IFERROR(VLOOKUP(WEEKDAY(CONCATENATE(V7,$X$5,$AL$5)),Tabelas!$I:$J,2,0),\"\"),\"\")","v":"QUA"},{"$f":"IF(W7<>\"\",IFERROR(VLOOKUP(WEEKDAY(CONCATENATE(W7,$X$5,$AL$5)),Tabelas!$I:$J,2,0),\"\"),\"\")","v":"QUI"},{"$f":"IF(X7<>\"\",IFERROR(VLOOKUP(WEEKDAY(CONCATENATE(X7,$X$5,$AL$5)),Tabelas!$I:$J,2,0),\"\"),\"\")","v":"SEX"},{"$f":"IF(Y7<>\"\",IFERROR(VLOOKUP(WEEKDAY(CONCATENATE(Y7,$X$5,$AL$5)),Tabelas!$I:$J,2,0),\"\"),\"\")","v":"SAB"},{"$f":"IF(Z7<>\"\",IFERROR(VLOOKUP(WEEKDAY(CONCATENATE(Z7,$X$5,$AL$5)),Tabelas!$I:$J,2,0),\"\"),\"\")","v":"DOM"},{"$f":"IF(AA7<>\"\",IFERROR(VLOOKUP(WEEKDAY(CONCATENATE(AA7,$X$5,$AL$5)),Tabelas!$I:$J,2,0),\"\"),\"\")","v":"SEG"},{"$f":"IF(AB7<>\"\",IFERROR(VLOOKUP(WEEKDAY(CONCATENATE(AB7,$X$5,$AL$5)),Tabelas!$I:$J,2,0),\"\"),\"\")","v":"TER"},{"$f":"IF(AC7<>\"\",IFERROR(VLOOKUP(WEEKDAY(CONCATENATE(AC7,$X$5,$AL$5)),Tabelas!$I:$J,2,0),\"\"),\"\")","v":"QUA"},{"$f":"IF(AD7<>\"\",IFERROR(VLOOKUP(WEEKDAY(CONCATENATE(AD7,$X$5,$AL$5)),Tabelas!$I:$J,2,0),\"\"),\"\")","v":"QUI"},{"$f":"IF(AE7<>\"\",IFERROR(VLOOKUP(WEEKDAY(CONCATENATE(AE7,$X$5,$AL$5)),Tabelas!$I:$J,2,0),\"\"),\"\")","v":"SEX"},{"$f":"IF(AF7<>\"\",IFERROR(VLOOKUP(WEEKDAY(CONCATENATE(AF7,$X$5,$AL$5)),Tabelas!$I:$J,2,0),\"\"),\"\")","v":"SAB"},{"$f":"IF(AG7<>\"\",IFERROR(VLOOKUP(WEEKDAY(CONCATENATE(AG7,$X$5,$AL$5)),Tabelas!$I:$J,2,0),\"\"),\"\")","v":"DOM"},{"$f":"IF(AH7<>\"\",IFERROR(VLOOKUP(WEEKDAY(CONCATENATE(AH7,$X$5,$AL$5)),Tabelas!$I:$J,2,0),\"\"),\"\")","v":"SEG"},{"$f":"IF(AI7<>\"\",IFERROR(VLOOKUP(WEEKDAY(CONCATENATE(AI7,$X$5,$AL$5)),Tabelas!$I:$J,2,0),\"\"),\"\")","v":"TER"},{"$f":"IF(AJ7<>\"\",IFERROR(VLOOKUP(WEEKDAY(CONCATENATE(AJ7,$X$5,$AL$5)),Tabelas!$I:$J,2,0),\"\"),\"\")","v":"QUA"},{"$f":"IF(AK7<>\"\",IFERROR(VLOOKUP(WEEKDAY(CONCATENATE(AK7,$X$5,$AL$5)),Tabelas!$I:$J,2,0),\"\"),\"\")","v":"QUI"},{"$f":"IF(AL7<>\"\",IFERROR(VLOOKUP(WEEKDAY(CONCATENATE(AL7,$X$5,$AL$5)),Tabelas!$I:$J,2,0),\"\"),\"\")","v":"SEX"},{"$f":"IF(AM7<>\"\",IFERROR(VLOOKUP(WEEKDAY(CONCATENATE(AM7,$X$5,$AL$5)),Tabelas!$I:$J,2,0),\"\"),\"\")","v":"SAB"},{"$f":"IF(AN7<>\"\",IFERROR(VLOOKUP(WEEKDAY(CONCATENATE(AN7,$X$5,$AL$5)),Tabelas!$I:$J,2,0),\"\"),\"\")","v":"DOM"},{"$f":"IF(AO7<>\"\",IFERROR(VLOOKUP(WEEKDAY(CONCATENATE(AO7,$X$5,$AL$5)),Tabelas!$I:$J,2,0),\"\"),\"\")","v":"SEG"},{"$f":"IF(AP7<>\"\",IFERROR(VLOOKUP(WEEKDAY(CONCATENATE(AP7,$X$5,$AL$5)),Tabelas!$I:$J,2,0),\"\"),\"\")","v":"TER"},{"$f":"IF(AQ7<>\"\",IFERROR(VLOOKUP(WEEKDAY(CONCATENATE(AQ7,$X$5,$AL$5)),Tabelas!$I:$J,2,0),\"\"),\"\")","v":"QUA"},1,2,3,4,5,6,7,8,9,10,11,12,13,14,15,16,17,18,19,20,21,22,23,24,25,26,27,28,29,30,31]
["FULANO 1",1,null,null,null,null,null,null,null,null,null,null,null,null,null,null,null,null,null,null,null,null,null,null,null,null,null,null,null,null,null,null,null,null,null,null,null,null,null,null,null,null,null,{"$f":"IF(A9<>\"\",IFERROR(VLOOKUP(M9,Tabelas!B:D,3,0),0),\"\")","v":0},{"$f":"IF(A9<>\"\",IFERROR(VLOOKUP(N9,Tabelas!B:D,3,0),0),\"\")","v":0},{"$f":"IF(A9<>\"\",IFERROR(VLOOKUP(O9,Tabelas!B:D,3,0),0),\"\")","v":0},{"$f":"IF(A9<>\"\",IFERROR(VLOOKUP(P9,Tabelas!B:D,3,0),0),\"\")","v":0},{"$f":"IF(A9<>\"\",IFERROR(VLOOKUP(Q9,Tabelas!B:D,3,0),0),\"\")","v":0},{"$f":"IF(A9<>\"\",IFERROR(VLOOKUP(R9,Tabelas!B:D,3,0),0),\"\")","v":0},{"$f":"IF(A9<>\"\",IFERROR(VLOOKUP(S9,Tabelas!B:D,3,0),0),\"\")","v":0},{"$f":"IF(A9<>\"\",IFERROR(VLOOKUP(T9,Tabelas!B:D,3,0),0),\"\")","v":0},{"$f":"IF(A9<>\"\",IFERROR(VLOOKUP(U9,Tabelas!B:D,3,0),0),\"\")","v":0},{"$f":"IF(A9<>\"\",IFERROR(VLOOKUP(V9,Tabelas!B:D,3,0),0),\"\")","v":0},{"$f":"IF(A9<>\"\",IFERROR(VLOOKUP(W9,Tabelas!B:D,3,0),0),\"\")","v":0},{"$f":"IF(A9<>\"\",IFERROR(VLOOKUP(X9,Tabelas!B:D,3,0),0),\"\")","v":0},{"$f":"IF(A9<>\"\",IFERROR(VLOOKUP(Y9,Tabelas!B:D,3,0),0),\"\")","v":0},{"$f":"IF(A9<>\"\",IFERROR(VLOOKUP(Z9,Tabelas!B:D,3,0),0),\"\")","v":0},{"$f":"IF(A9<>\"\",IFERROR(VLOOKUP(AA9,Tabelas!B:D,3,0),0),\"\")","v":0},{"$f":"IF(A9<>\"\",IFERROR(VLOOKUP(AB9,Tabelas!B:D,3,0),0),\"\")","v":0},{"$f":"IF(A9<>\"\",IFERROR(VLOOKUP(AC9,Tabelas!B:D,3,0),0),\"\")","v":0},{"$f":"IF(A9<>\"\",IFERROR(VLOOKUP(AD9,Tabelas!B:D,3,0),0),\"\")","v":0},{"$f":"IF(A9<>\"\",IFERROR(VLOOKUP(AE9,Tabelas!B:D,3,0),0),\"\")","v":0},{"$f":"IF(A9<>\"\",IFERROR(VLOOKUP(AF9,Tabelas!B:D,3,0),0),\"\")","v":0},{"$f":"IF(A9<>\"\",IFERROR(VLOOKUP(AG9,Tabelas!B:D,3,0),0),\"\")","v":0},{"$f":"IF(A9<>\"\",IFERROR(VLOOKUP(AH9,Tabelas!B:D,3,0),0),\"\")","v":0},{"$f":"IF(A9<>\"\",IFERROR(VLOOKUP(AI9,Tabelas!B:D,3,0),0),\"\")","v":0},{"$f":"IF(A9<>\"\",IFERROR(VLOOKUP(AJ9,Tabelas!B:D,3,0),0),\"\")","v":0},{"$f":"IF(A9<>\"\",IFERROR(VLOOKUP(AK9,Tabelas!B:D,3,0),0),\"\")","v":0},{"$f":"IF(A9<>\"\",IFERROR(VLOOKUP(AL9,Tabelas!B:D,3,0),0),\"\")","v":0},{"$f":"IF(A9<>\"\",IFERROR(VLOOKUP(AM9,Tabelas!B:D,3,0),0),\"\")","v":0},{"$f":"IF(A9<>\"\",IFERROR(VLOOKUP(AN9,Tabelas!B:D,3,0),0),\"\")","v":0},{"$f":"IF(A9<>\"\",IFERROR(VLOOKUP(AO9,Tabelas!B:D,3,0),0),\"\")","v":0},{"$f":"IF(A9<>\"\",IFERROR(VLOOKUP(AP9,Tabelas!B:D,3,0),0),\"\")","v":0},{"$f":"IF(A9<>\"\",IFERROR(VLOOKUP(AQ9,Tabelas!B:D,3,0),0),\"\")","v":0},{"$f":"IF(AND(A9<>\"\",E9=\"Ebserh\"),SUM(AR9:BV9)+COUNTIF(M9:AQ9,\"N*\")+COUNTIF(M9:AQ9,\"DN*\"),IF(AND(A9<>\"\",E9<>\"Ebserh\"),SUM(AR9:BV9),\"\"))","v":0},{"$f":"IF(A9<>\"\",COUNTIF(M9:AQ9,\"LM\")+COUNTIF(M9:AQ9,\"L*\")+COUNTIF(M9:AQ9,\"LP\"),\"\")","v":0},{"$f":"IF(A9<>\"\",COUNTIF(M9:AQ9,\"AB*\"),\"\")","v":0},{"$f":"IF(A9<>\"\",COUNTIF(M9:AQ9,\"FE\"),\"\")","v":0},{"$f":"IF(A9<>\"\",COUNTIF(M9:AQ9,\"LC\"),\"\")","v":0},{"$f":"IF(A9<>\"\",COUNTIF(M9:AQ9,\"CH*\"),\"\")","v":0},{"$f":"IF(A9<>\"\",COUNTIF(M9:AQ9,\"AF1\")+COUNTIF(M9:AQ9,\"AF2\")+COUNTIF(M9:AQ9,\"AF3\")+COUNTIF(M9:AQ9,\"AF4\")+COUNTIF(M9:AQ9,\"AF5\")+COUNTIF(M9:AQ9,\"AF6\")+COUNTIF(M9:AQ9,\"AF7\")+COUNTIF(M9:AQ9,\"AF8\")+COUNTIF(M9:AQ9,\"AF9\")+COUNTIF(M9:AQ9,\"AF10\")+COUNTIF(M9:AQ9,\"AF11\")+COUNTIF(M9:AQ9,\"AF12\")+COUNTIF(M9:AQ9,\"AF13\")+COUNTIF(M9:AQ9,\"AF14\"),\"\")","v":0},{"$f":"IF(A9<>\"\",COUNTIF(M9:AQ9,\"CH*\")+COUNTIF(M9:AQ9,\"L*\")+COUNTIF(M9:AQ9,\"LM\")+COUNTIF(M9:AQ9,\"LP\")+COUNTIF(M9:AQ9,\"LC\")+COUNTIF(M9:AQ9,\"AB*\")+COUNTIF(M9:AQ9,\"AF1\")+COUNTIF(M9:AQ9,\"AF2\")+COUNTIF(M9:AQ9,\"AF3\")+COUNTIF(M9:AQ9,\"AF4\")+COUNTIF(M9:AQ9,\"AF5\")+COUNTIF(M9:AQ9,\"AF6\")+COUNTIF(M9:AQ9,\"AF7\")+COUNTIF(M9:AQ9,\"AF8\")+COUNTIF(M9:AQ9,\"AF9\")+COUNTIF(M9:AQ9,\"AF10\")+COUNTIF(M9:AQ9,\"AF11\")+COUNTIF(M9:AQ9,\"AF12\")+COUNTIF(M9:AQ9,\"AF13\")+COUNTIF(M9:AQ9,\"AF14\")+COUNTIF(M9:AQ9,\"RC\")+COUNTIF(M9:AQ9,\"FO\")+COUNTIF(M9:AQ9,\"FE\"),\"\")","v":0}]
["FULANO 2",2,null,null,null,null,null,null,null,null,null,null,null,null,null,null,null,null,null,null,null,null,null,null,null,null,null,null,null,null,null,null,null,null,null,null,null,null,null,null,null,null,null,{"$f":"IF(A10<>\"\",IFERROR(VLOOKUP(M10,Tabelas!B:D,3,0),0),\"\")","v":0},{"$f":"IF(A10<>\"\",IFERROR(VLOOKUP(N10,Tabelas!B:D,3,0),0),\"\")","v":0},{"$f":"IF(A10<>\"\",IFERROR(VLOOKUP(O10,Tabelas!B:D,3,0),0),\"\")","v":0},{"$f":"IF(A10<>\"\",IFERROR(VLOOKUP(P10,Tabelas!B:D,3,0),0),\"\")","v":0},{"$f":"IF(A10<>\"\",IFERROR(VLOOKUP(Q10,Tabelas!B:D,3,0),0),\"\")","v":0},{"$f":"IF(A10<>\"\",IFERROR(VLOOKUP(R10,Tabelas!B:D,3,0),0),\"\")","v":0},{"$f":"IF(A10<>\"\",IFERROR(VLOOKUP(S10,Tabelas!B:D,3,0),0),\"\")","v":0},{"$f":"IF(A10<>\"\",IFERROR(VLOOKUP(T10,Tabelas!B:D,3,0),0),\"\")","v":0},{"$f":"IF(A10<>\"\",IFERROR(VLOOKUP(U10,Tabelas!B:D,3,0),0),\"\")","v":0},{"$f":"IF(A10<>\"\",IFERROR(VLOOKUP(V10,Tabelas!B:D,3,0),0),\"\")","v":0},{"$f":"IF(A10<>\"\",IFERROR(VLOOKUP(W10,Tabelas!B:D,3,0),0),\"\")","v":0},{"$f":"IF(A10<>\"\",IFERROR(VLOOKUP(X10,Tabelas!B:D,3,0),0),\"\")","v":0},{"$f":"IF(A10<>\"\",IFERROR(VLOOKUP(Y10,Tabelas!B:D,3,0),0),\"\")","v":0},{"$f":"IF(A10<>\"\",IFERROR(VLOOKUP(Z10,Tabelas!B:D,3,0),0),\"\")","v":0},{"$f":"IF(A10<>\"\",IFERROR(VLOOKUP(AA10,Tabelas!B:D,3,0),0),\"\")","v":0},{"$f":"IF(A10<>\"\",IFERROR(VLOOKUP(AB10,Tabelas!B:D,3,0),0),\"\")","v":0},{"$f":"IF(A10<>\"\",IFERROR(VLOOKUP(AC10,Tabelas!B:D,3,0),0),\"\")","v":0},{"$f":"IF(A10<>\"\",IFERROR(VLOOKUP(AD10,Tabelas!B:D,3,0),0),\"\")","v":0},{"$f":"IF(A10<>\"\",IFERROR(VLOOKUP(AE10,Tabelas!B:D,3,0),0),\"\")","v":0},{"$f":"IF(A10<>\"\",IFERROR(VLOOKUP(AF10,Tabelas!B:D,3,0),0),\"\")","v":0},{"$f":"IF(A10<>\"\",IFERROR(VLOOKUP(AG10,Tabelas!B:D,3,0),0),\"\")","v":0},{"$f":"IF(A10<>\"\",IFERROR(VLOOKUP(AH10,Tabelas!B:D,3,0),0),\"\")","v":0},{"$f":"IF(A10<>\"\",IFERROR(VLOOKUP(AI10,Tabelas!B:D,3,0),0),\"\")","v":0},{"$f":"IF(A10<>\"\",IFERROR(VLOOKUP(AJ10,Tabelas!B:D,3,0),0),\"\")","v":0},{"$f":"IF(A10<>\"\",IFERROR(VLOOKUP(AK10,Tabelas!B:D,3,0),0),\"\")","v":0},{"$f":"IF(A10<>\"\",IFERROR(VLOOKUP(AL10,Tabelas!B:D,3,0),0),\"\")","v":0},{"$f":"IF(A10<>\"\",IFERROR(VLOOKUP(AM10,Tabelas!B:D,3,0),0),\"\")","v":0},{"$f":"IF(A10<>\"\",IFERROR(VLOOKUP(AN10,Tabelas!B:D,3,0),0),\"\")","v":0},{"$f":"IF(A10<>\"\",IFERROR(VLOOKUP(AO10,Tabelas!B:D,3,0),0),\"\")","v":0},{"$f":"IF(A10<>\"\",IFERROR(VLOOKUP(AP10,Tabelas!B:D,3,0),0),\"\")","v":0},{"$f":"IF(A10<>\"\",IFERROR(VLOOKUP(AQ10,Tabelas!B:D,3,0),0),\"\")","v":0},{"$f":"IF(AND(A10<>\"\",E10=\"Ebserh\"),SUM(AR10:BV10)+COUNTIF(M10:AQ10,\"N*\")+COUNTIF(M10:AQ10,\"DN*\"),IF(AND(A10<>\"\",E10<>\"Ebserh\"),SUM(AR10:BV10),\"\"))","v":0},{"$f":"IF(A10<>\"\",COUNTIF(M10:AQ10,\"LM\")+COUNTIF(M10:AQ10,\"L*\")+COUNTIF(M10:AQ10,\"LP\"),\"\")","v":0},{"$f":"IF(A10<>\"\",COUNTIF(M10:AQ10,\"AB*\"),\"\")","v":0},{"$f":"IF(A10<>\"\",COUNTIF(M10:AQ10,\"FE\"),\"\")","v":0},{"$f":"IF(A10<>\"\",COUNTIF(M10:AQ10,\"LC\"),\"\")","v":0},{"$f":"IF(A10<>\"\",COUNTIF(M10:AQ10,\"CH*\"),\"\")","v":0},{"$f":"IF(A10<>\"\",COUNTIF(M10:AQ10,\"AF1\")+COUNTIF(M10:AQ10,\"AF2\")+COUNTIF(M10:AQ10,\"AF3\")+COUNTIF(M10:AQ10,\"AF4\")+COUNTIF(M10:AQ10,\"AF5\")+COUNTIF(M10:AQ10,\"AF6\")+COUNTIF(M10:AQ10,\"AF7\")+COUNTIF(M10:AQ10,\"AF8\")+COUNTIF(M10:AQ10,\"AF9\")+COUNTIF(M10:AQ10,\"AF10\")+COUNTIF(M10:AQ10,\"AF11\")+COUNTIF(M10:AQ10,\"AF12\")+COUNTIF(M10:AQ10,\"AF13\")+COUNTIF(M10:AQ10,\"AF14\"),\"\")","v":0},{"$f":"IF(A10<>\"\",COUNTIF(M10:AQ10,\"CH*\")+COUNTIF(M10:AQ10,\"L*\")+COUNTIF(M10:AQ10,\"LM\")+COUNTIF(M10:AQ10,\"LP\")+COUNTIF(M10:AQ10,\"LC\")+COUNTIF(M10:AQ10,\"AB*\")+COUNTIF(M10:AQ10,\"AF1\")+COUNTIF(M10:AQ10,\"AF2\")+COUNTIF(M10:AQ10,\"AF3\")+COUNTIF(M10:AQ10,\"AF4\")+COUNTIF(M10:AQ10,\"AF5\")+COUNTIF(M10:AQ10,\"AF6\")+COUNTIF(M10:AQ10,\"AF7\")+COUNTIF(M10:AQ10,\"AF8\")+COUNTIF(M10:AQ10,\"AF9\")+COUNTIF(M10:AQ10,\"AF10\")+COUNTIF(M10:AQ10,\"AF11\")+COUNTIF(M10:AQ10,\"AF12\")+COUNTIF(M10:AQ10,\"AF13\")+COUNTIF(M10:AQ10,\"AF14\")+COUNTIF(M10:AQ10,\"RC\")+COUNTIF(M10:AQ10,\"FO\")+COUNTIF(M10:AQ10,\"FE\"),\"\")","v":0}]
["FULANO 3",3,null,null,null,null,null,null,null,null,null,null,null,null,null,null,null,null,null,null,null,null,null,null,null,null,null,null,null,null,null,null,null,null,null,null,null,null,null,null,null,null,null,{"$f":"IF(A11<>\"\",IFERROR(VLOOKUP(M11,Tabelas!B:D,3,0),0),\"\")","v":0},{"$f":"IF(A11<>\"\",IFERROR(VLOOKUP(N11,Tabelas!B:D,3,0),0),\"\")","v":0},{"$f":"IF(A11<>\"\",IFERROR(VLOOKUP(O11,Tabelas!B:D,3,0),0),\"\")","v":0},{"$f":"IF(A11<>\"\",IFERROR(VLOOKUP(P11,Tabelas!B:D,3,0),0),\"\")","v":0},{"$f":"IF(A11<>\"\",IFERROR(VLOOKUP(Q11,Tabelas!B:D,3,0),0),\"\")","v":0},{"$f":"IF(A11<>\"\",IFERROR(VLOOKUP(R11,Tabelas!B:D,3,0),0),\"\")","v":0},{"$f":"IF(A11<>\"\",IFERROR(VLOOKUP(S11,Tabelas!B:D,3,0),0),\"\")","v":0},{"$f":"IF(A11<>\"\",IFERROR(VLOOKUP(T11,Tabelas!B:D,3,0),0),\"\")","v":0},{"$f":"IF(A11<>\"\",IFERROR(VLOOKUP(U11,Tabelas!B:D,3,0),0),\"\")","v":0},{"$f":"IF(A11<>\"\",IFERROR(VLOOKUP(V11,Tabelas!B:D,3,0),0),\"\")","v":0},{"$f":"IF(A11<>\"\",IFERROR(VLOOKUP(W11,Tabelas!B:D,3,0),0),\"\")","v":0},{"$f":"IF(A11<>\"\",IFERROR(VLOOKUP(X11,Tabelas!B:D,3,0),0),\"\")","v":0},{"$f":"IF(A11<>\"\",IFERROR(VLOOKUP(Y11,Tabelas!B:D,3,0),0),\"\")","v":0},{"$f":"IF(A11<>\"\",IFERROR(VLOOKUP(Z11,Tabelas!B:D,3,0),0),\"\")","v":0},{"$f":"IF(A11<>\"\",IFERROR(VLOOKUP(AA11,Tabelas!B:D,3,0),0),\"\")","v":0},{"$f":"IF(A11<>\"\",IFERROR(VLOOKUP(AB11,Tabelas!B:D,3,0),0),\"\")","v":0},{"$f":"IF(A11<>\"\",IFERROR(VLOOKUP(AC11,Tabelas!B:D,3,0),0),\"\")","v":0},{"$f":"IF(A11<>\"\",IFERROR(VLOOKUP(AD11,Tabelas!B:D,3,0),0),\"\")","v":0},{"$f":"IF(A11<>\"\",IFERROR(VLOOKUP(AE11,Tabelas!B:D,3,0),0),\"\")","v":0},{"$f":"IF(A11<>\"\",IFERROR(VLOOKUP(AF11,Tabelas!B:D,3,0),0),\"\")","v":0},{"$f":"IF(A11<>\"\",IFERROR(VLOOKUP(AG11,Tabelas!B:D,3,0),0),\"\")","v":0},{"$f":"IF(A11<>\"\",IFERROR(VLOOKUP(AH11,Tabelas!B:D,3,0),0),\"\")","v":0},{"$f":"IF(A11<>\"\",IFERROR(VLOOKUP(AI11,Tabelas!B:D,3,0),0),\"\")","v":0},{"$f":"IF(A11<>\"\",IFERROR(VLOOKUP(AJ11,Tabelas!B:D,3,0),0),\"\")","v":0},{"$f":"IF(A11<>\"\",IFERROR(VLOOKUP(AK11,Tabelas!B:D,3,0),0),\"\")","v":0},{"$f":"IF(A11<>\"\",IFERROR(VLOOKUP(AL11,Tabelas!B:D,3,0),0),\"\")","v":0},{"$f":"IF(A11<>\"\",IFERROR(VLOOKUP(AM11,Tabelas!B:D,3,0),0),\"\")","v":0},{"$f":"IF(A11<>\"\",IFERROR(VLOOKUP(AN11,Tabelas!B:D,3,0),0),\"\")","v":0},{"$f":"IF(A11<>\"\",IFERROR(VLOOKUP(AO11,Tabelas!B:D,3,0),0),\"\")","v":0},{"$f":"IF(A11<>\"\",IFERROR(VLOOKUP(AP11,Tabelas!B:D,3,0),0),\"\")","v":0},{"$f":"IF(A11<>\"\",IFERROR(VLOOKUP(AQ11,Tabelas!B:D,3,0),0),\"\")","v":0},0,0,0,0,0,0,0,0]
["FULANO 4",4,null,null,null,null,null,null,null,null,null,null,null,null,null,null,null,null,null,null,null,null,null,null,null,null,null,null,null,null,null,null,null,null,null,null,null,null,null,null,null,null,null,{"$f":"IF(A12<>\"\",IFERROR(VLOOKUP(M12,Tabelas!B:D,3,0),0),\"\")","v":0},{"$f":"IF(A12<>\"\",IFERROR(VLOOKUP(N12,Tabelas!B:D,3,0),0),\"\")","v":0},{"$f":"IF(A12<>\"\",IFERROR(VLOOKUP(O12,Tabelas!B:D,3,0),0),\"\")","v":0},{"$f":"IF(A12<>\"\",IFERROR(VLOOKUP(P12,Tabelas!B:D,3,0),0),\"\")","v":0},{"$f":"IF(A12<>\"\",IFERROR(VLOOKUP(Q12,Tabelas!B:D,3,0),0),\"\")","v":0},{"$f":"IF(A12<>\"\",IFERROR(VLOOKUP(R12,Tabelas!B:D,3,0),0),\"\")","v":0},{"$f":"IF(A12<>\"\",IFERROR(VLOOKUP(S12,Tabelas!B:D,3,0),0),\"\")","v":0},{"$f":"IF(A12<>\"\",IFERROR(VLOOKUP(T12,Tabelas!B:D,3,0),0),\"\")","v":0},{"$f":"IF(A12<>\"\",IFERROR(VLOOKUP(U12,Tabelas!B:D,3,0),0),\"\")","v":0},{"$f":"IF(A12<>\"\",IFERROR(VLOOKUP(V12,Tabelas!B:D,3,0),0),\"\")","v":0},{"$f":"IF(A12<>\"\",IFERROR(VLOOKUP(W12,Tabelas!B:D,3,0),0),\"\")","v":0},{"$f":"IF(A12<>\"\",IFERROR(VLOOKUP(X12,Tabelas!B:D,3,0),0),\"\")","v":0},{"$f":"IF(A12<>\"\",IFERROR(VLOOKUP(Y12,Tabelas!B:D,3,0),0),\"\")","v":0},{"$f":"IF(A12<>\"\",IFERROR(VLOOKUP(Z12,Tabelas!B:D,3,0),0),\"\")","v":0},{"$f":"IF(A12<>\"\",IFERROR(VLOOKUP(AA12,Tabelas!B:D,3,0),0),\"\")","v":0},{"$f":"IF(A12<>\"\",IFERROR(VLOOKUP(AB12,Tabelas!B:D,3,0),0),\"\")","v":0},{"$f":"IF(A12<>\"\",IFERROR(VLOOKUP(AC12,Tabelas!B:D,3,0),0),\"\")","v":0},{"$f":"IF(A12<>\"\",IFERROR(VLOOKUP(AD12,Tabelas!B:D,3,0),0),\"\")","v":0},{"$f":"IF(A12<>\"\",IFERROR(VLOOKUP(AE12,Tabelas!B:D,3,0),0),\"\")","v":0},{"$f":"IF(A12<>\"\",IFERROR(VLOOKUP(AF12,Tabelas!B:D,3,0),0),\"\")","v":0},{"$f":"IF(A12<>\"\",IFERROR(VLOOKUP(AG12,Tabelas!B:D,3,0),0),\"\")","v":0},{"$f":"IF(A12<>\"\",IFERROR(VLOOKUP(AH12,Tabelas!B:D,3,0),0),\"\")","v":0},{"$f":"IF(A12<>\"\",IFERROR(VLOOKUP(AI12,Tabelas!B:D,3,0),0),\"\")","v":0},{"$f":"IF(A12<>\"\",IFERROR(VLOOKUP(AJ12,Tabelas!B:D,3,0),0),\"\")","v":0},{"$f":"IF(A12<>\"\",IFERROR(VLOOKUP(AK12,Tabelas!B:D,3,0),0),\"\")","v":0},{"$f":"IF(A12<>\"\",IFERROR(VLOOKUP(AL12,Tabelas!B:D,3,0),0),\"\")","v":0},{"$f":"IF(A12<>\"\",IFERROR(VLOOKUP(AM12,Tabelas!B:D,3,0),0),\"\")","v":0},{"$f":"IF(A12<>\"\",IFERROR(VLOOKUP(AN12,Tabelas!B:D,3,0),0),\"\")","v":0},{"$f":"IF(A12<>\"\",IFERROR(VLOOKUP(AO12,Tabelas!B:D,3,0),0),\"\")","v":0},{"$f":"IF(A12<>\"\",IFERROR(VLOOKUP(AP12,Tabelas!B:D,3,0),0),\"\")","v":0},{"$f":"IF(A12<>\"\",IFERROR(VLOOKUP(AQ12,Tabelas!B:D,3,0),0),\"\")","v":0},0,0,0,0,0,0,0,0]
["FULANO 5",5,null,null,null,null,null,null,null,null,null,null,null,null,null,null,null,null,null,null,null,null,null,null,null,null,null,null,null,null,null,null,null,null,null,null,null,null,null,null,null,null,null,{"$f":"IF(A13<>\"\",IFERROR(VLOOKUP(M13,Tabelas!B:D,3,0),0),\"\")","v":0},{"$f":"IF(A13<>\"\",IFERROR(VLOOKUP(N13,Tabelas!B:D,3,0),0),\"\")","v":0},{"$f":"IF(A13<>\"\",IFERROR(VLOOKUP(O13,Tabelas!B:D,3,0),0),\"\")","v":0},{"$f":"IF(A13<>\"\",IFERROR(VLOOKUP(P13,Tabelas!B:D,3,0),0),\"\")","v":0},{"$f":"IF(A13<>\"\",IFERROR(VLOOKUP(Q13,Tabelas!B:D,3,0),0),\"\")","v":0},{"$f":"IF(A13<>\"\",IFERROR(VLOOKUP(R13,Tabelas!B:D,3,0),0),\"\")","v":0},{"$f":"IF(A13<>\"\",IFERROR(VLOOKUP(S13,Tabelas!B:D,3,0),0),\"\")","v":0},{"$f":"IF(A13<>\"\",IFERROR(VLOOKUP(T13,Tabelas!B:D,3,0),0),\"\")","v":0},{"$f":"IF(A13<>\"\",IFERROR(VLOOKUP(U13,Tabelas!B:D,3,0),0),\"\")","v":0},{"$f":"IF(A13<>\"\",IFERROR(VLOOKUP(V13,Tabelas!B:D,3,0),0),\"\")","v":0},{"$f":"IF(A13<>\"\",IFERROR(VLOOKUP(W13,Tabelas!B:D,3,0),0),\"\")","v":0},{"$f":"IF(A13<>\"\",IFERROR(VLOOKUP(X13,Tabelas!B:D,3,0),0),\"\")","v":0},{"$f":"IF(A13<>\"\",IFERROR(VLOOKUP(Y13,Tabelas!B:D,3,0),0),\"\")","v":0},{"$f":"IF(A13<>\"\",IFERROR(VLOOKUP(Z13,Tabelas!B:D,3,0),0),\"\")","v":0},{"$f":"IF(A13<>\"\",IFERROR(VLOOKUP(AA13,Tabelas!B:D,3,0),0),\"\")","v":0},{"$f":"IF(A13<>\"\",IFERROR(VLOOKUP(AB13,Tabelas!B:D,3,0),0),\"\")","v":0},{"$f":"IF(A13<>\"\",IFERROR(VLOOKUP(AC13,Tabelas!B:D,3,0),0),\"\")","v":0},{"$f":"IF(A13<>\"\",IFERROR(VLOOKUP(AD13,Tabelas!B:D,3,0),0),\"\")","v":0},{"$f":"IF(A13<>\"\",IFERROR(VLOOKUP(AE13,Tabelas!B:D,3,0),0),\"\")","v":0},{"$f":"IF(A13<>\"\",IFERROR(VLOOKUP(AF13,Tabelas!B:D,3,0),0),\"\")","v":0},{"$f":"IF(A13<>\"\",IFERROR(VLOOKUP(AG13,Tabelas!B:D,3,0),0),\"\")","v":0},{"$f":"IF(A13<>\"\",IFERROR(VLOOKUP(AH13,Tabelas!B:D,3,0),0),\"\")","v":0},{"$f":"IF(A13<>\"\",IFERROR(VLOOKUP(AI13,Tabelas!B:D,3,0),0),\"\")","v":0},{"$f":"IF(A13<>\"\",IFERROR(VLOOKUP(AJ13,Tabelas!B:D,3,0),0),\"\")","v":0},{"$f":"IF(A13<>\"\",IFERROR(VLOOKUP(AK13,Tabelas!B:D,3,0),0),\"\")","v":0},{"$f":"IF(A13<>\"\",IFERROR(VLOOKUP(AL13,Tabelas!B:D,3,0),0),\"\")","v":0},{"$f":"IF(A13<>\"\",IFERROR(VLOOKUP(AM13,Tabelas!B:D,3,0),0),\"\")","v":0},{"$f":"IF(A13<>\"\",IFERROR(VLOOKUP(AN13,Tabelas!B:D,3,0),0),\"\")","v":0},{"$f":"IF(A13<>\"\",IFERROR(VLOOKUP(AO13,Tabelas!B:D,3,0),0),\"\")","v":0},{"$f":"IF(A13<>\"\",IFERROR(VLOOKUP(AP13,Tabelas!B:D,3,0),0),\"\")","v":0},{"$f":"IF(A13<>\"\",IFERROR(VLOOKUP(AQ13,Tabelas!B:D,3,0),0),\"\")","v":0},0,0,0,0,0,0,0,0]
["FULANO 6",6,null,null,null,null,null,null,null,null,null,null,null,null,null,null,null,null,null,null,null,null,null,null,null,null,null,null,null,null,null,null,null,null,null,null,null,null,null,null,null,null,null,{"$f":"IF(A14<>\"\",IFERROR(VLOOKUP(M14,Tabelas!B:D,3,0),0),\"\")","v":0},{"$f":"IF(A14<>\"\",IFERROR(VLOOKUP(N14,Tabelas!B:D,3,0),0),\"\")","v":0},{"$f":"IF(A14<>\"\",IFERROR(VLOOKUP(O14,Tabelas!B:D,3,0),0),\"\")","v":0},{"$f":"IF(A14<>\"\",IFERROR(VLOOKUP(P14,Tabelas!B:D,3,0),0),\"\")","v":0},{"$f":"IF(A14<>\"\",IFERROR(VLOOKUP(Q14,Tabelas!B:D,3,0),0),\"\")","v":0},{"$f":"IF(A14<>\"\",IFERROR(VLOOKUP(R14,Tabelas!B:D,3,0),0),\"\")","v":0},{"$f":"IF(A14<>\"\",IFERROR(VLOOKUP(S14,Tabelas!B:D,3,0),0),\"\")","v":0},{"$f":"IF(A14<>\"\",IFERROR(VLOOKUP(T14,Tabelas!B:D,3,0),0),\"\")","v":0},{"$f":"IF(A14<>\"\",IFERROR(VLOOKUP(U14,Tabelas!B:D,3,0),0),\"\")","v":0},{"$f":"IF(A14<>\"\",IFERROR(VLOOKUP(V14,Tabelas!B:D,3,0),0),\"\")","v":0},{"$f":"IF(A14<>\"\",IFERROR(VLOOKUP(W14,Tabelas!B:D,3,0),0),\"\")","v":0},{"$f":"IF(A14<>\"\",IFERROR(VLOOKUP(X14,Tabelas!B:D,3,0),0),\"\")","v":0},{"$f":"IF(A14<>\"\",IFERROR(VLOOKUP(Y14,Tabelas!B:D,3,0),0),\"\")","v":0},{"$f":"IF(A14<>\"\",IFERROR(VLOOKUP(Z14,Tabelas!B:D,3,0),0),\"\")","v":0},{"$f":"IF(A14<>\"\",IFERROR(VLOOKUP(AA14,Tabelas!B:D,3,0),0),\"\")","v":0},{"$f":"IF(A14<>\"\",IFERROR(VLOOKUP(AB14,Tabelas!B:D,3,0),0),\"\")","v":0},{"$f":"IF(A14<>\"\",IFERROR(VLOOKUP(AC14,Tabelas!B:D,3,0),0),\"\")","v":0},{"$f":"IF(A14<>\"\",IFERROR(VLOOKUP(AD14,Tabelas!B:D,3,0),0),\"\")","v":0},{"$f":"IF(A14<>\"\",IFERROR(VLOOKUP(AE14,Tabelas!B:D,3,0),0),\"\")","v":0},{"$f":"IF(A14<>\"\",IFERROR(VLOOKUP(AF14,Tabelas!B:D,3,0),0),\"\")","v":0},{"$f":"IF(A14<>\"\",IFERROR(VLOOKUP(AG14,Tabelas!B:D,3,0),0),\"\")","v":0},{"$f":"IF(A14<>\"\",IFERROR(VLOOKUP(AH14,Tabelas!B:D,3,0),0),\"\")","v":0},{"$f":"IF(A14<>\"\",IFERROR(VLOOKUP(AI14,Tabelas!B:D,3,0),0),\"\")","v":0},{"$f":"IF(A14<>\"\",IFERROR(VLOOKUP(AJ14,Tabelas!B:D,3,0),0),\"\")","v":0},{"$f":"IF(A14<>\"\",IFERROR(VLOOKUP(AK14,Tabelas!B:D,3,0),0),\"\")","v":0},{"$f":"IF(A14<>\"\",IFERROR(VLOOKUP(AL14,Tabelas!B:D,3,0),0),\"\")","v":0},{"$f":"IF(A14<>\"\",IFERROR(VLOOKUP(AM14,Tabelas!B:D,3,0),0),\"\")","v":0},{"$f":"IF(A14<>\"\",IFERROR(VLOOKUP(AN14,Tabelas!B:D,3,0),0),\"\")","v":0},{"$f":"IF(A14<>\"\",IFERROR(VLOOKUP(AO14,Tabelas!B:D,3,0),0),\"\")","v":0},{"$f":"IF(A14<>\"\",IFERROR(VLOOKUP(AP14,Tabelas!B:D,3,0),0),\"\")","v":0},{"$f":"IF(A14<>\"\",IFERROR(VLOOKUP(AQ14,Tabelas!B:D,3,0),0),\"\")","v":0},0,0,0,0,0,0,0,0]
["FULANO 7",7,null,null,null,null,null,null,null,null,null,null,null,null,null,null,null,null,null,null,null,null,null,null,null,null,null,null,null,null,null,null,null,null,null,null,null,null,null,null,null,null,null,{"$f":"IF(A15<>\"\",IFERROR(VLOOKUP(M15,Tabelas!B:D,3,0),0),\"\")","v":0},{"$f":"IF(A15<>\"\",IFERROR(VLOOKUP(N15,Tabelas!B:D,3,0),0),\"\")","v":0},{"$f":"IF(A15<>\"\",IFERROR(VLOOKUP(O15,Tabelas!B:D,3,0),0),\"\")","v":0},{"$f":"IF(A15<>\"\",IFERROR(VLOOKUP(P15,Tabelas!B:D,3,0),0),\"\")","v":0},{"$f":"IF(A15<>\"\",IFERROR(VLOOKUP(Q15,Tabelas!B:D,3,0),0),\"\")","v":0},{"$f":"IF(A15<>\"\",IFERROR(VLOOKUP(R15,Tabelas!B:D,3,0),0),\"\")","v":0},{"$f":"IF(A15<>\"\",IFERROR(VLOOKUP(S15,Tabelas!B:D,3,0),0),\"\")","v":0},{"$f":"IF(A15<>\"\",IFERROR(VLOOKUP(T15,Tabelas!B:D,3,0),0),\"\")","v":0},{"$f":"IF(A15<>\"\",IFERROR(VLOOKUP(U15,Tabelas!B:D,3,0),0),\"\")","v":0},{"$f":"IF(A15<>\"\",IFERROR(VLOOKUP(V15,Tabelas!B:D,3,0),0),\"\")","v":0},{"$f":"IF(A15<>\"\",IFERROR(VLOOKUP(W15,Tabelas!B:D,3,0),0),\"\")","v":0},{"$f":"IF(A15<>\"\",IFERROR(VLOOKUP(X15,Tabelas!B:D,3,0),0),\"\")","v":0},{"$f":"IF(A15<>\"\",IFERROR(VLOOKUP(Y15,Tabelas!B:D,3,0),0),\"\")","v":0},{"$f":"IF(A15<>\"\",IFERROR(VLOOKUP(Z15,Tabelas!B:D,3,0),0),\"\")","v":0},{"$f":"IF(A15<>\"\",IFERROR(VLOOKUP(AA15,Tabelas!B:D,3,0),0),\"\")","v":0},{"$f":"IF(A15<>\"\",IFERROR(VLOOKUP(AB15,Tabelas!B:D,3,0),0),\"\")","v":0},{"$f":"IF(A15<>\"\",IFERROR(VLOOKUP(AC15,Tabelas!B:D,3,0),0),\"\")","v":0},{"$f":"IF(A15<>\"\",IFERROR(VLOOKUP(AD15,Tabelas!B:D,3,0),0),\"\")","v":0},{"$f":"IF(A15<>\"\",IFERROR(VLOOKUP(AE15,Tabelas!B:D,3,0),0),\"\")","v":0},{"$f":"IF(A15<>\"\",IFERROR(VLOOKUP(AF15,Tabelas!B:D,3,0),0),\"\")","v":0},{"$f":"IF(A15<>\"\",IFERROR(VLOOKUP(AG15,Tabelas!B:D,3,0),0),\"\")","v":0},{"$f":"IF(A15<>\"\",IFERROR(VLOOKUP(AH15,Tabelas!B:D,3,0),0),\"\")","v":0},{"$f":"IF(A15<>\"\",IFERROR(VLOOKUP(AI15,Tabelas!B:D,3,0),0),\"\")","v":0},{"$f":"IF(A15<>\"\",IFERROR(VLOOKUP(AJ15,Tabelas!B:D,3,0),0),\"\")","v":0},{"$f":"IF(A15<>\"\",IFERROR(VLOOKUP(AK15,Tabelas!B:D,3,0),0),\"\")","v":0},{"$f":"IF(A15<>\"\",IFERROR(VLOOKUP(AL15,Tabelas!B:D,3,0),0),\"\")","v":0},{"$f":"IF(A15<>\"\",IFERROR(VLOOKUP(AM15,Tabelas!B:D,3,0),0),\"\")","v":0},{"$f":"IF(A15<>\"\",IFERROR(VLOOKUP(AN15,Tabelas!B:D,3,0),0),\"\")","v":0},{"$f":"IF(A15<>\"\",IFERROR(VLOOKUP(AO15,Tabelas!B:D,3,0),0),\"\")","v":0},{"$f":"IF(A15<>\"\",IFERROR(VLOOKUP(AP15,Tabelas!B:D,3,0),0),\"\")","v":0},{"$f":"IF(A15<>\"\",IFERROR(VLOOKUP(AQ15,Tabelas!B:D,3,0),0),\"\")","v":0},0,0,0,0,0,0,0,0]
["FULANO 8",8,null,null,null,null,null,null,null,null,null,null,null,null,null,null,null,null,null,null,null,null,null,null,null,null,null,null,null,null,null,null,null,null,null,null,null,null,null,null,null,null,null,{"$f":"IF(A16<>\"\",IFERROR(VLOOKUP(M16,Tabelas!B:D,3,0),0),\"\")","v":0},{"$f":"IF(A16<>\"\",IFERROR(VLOOKUP(N16,Tabelas!B:D,3,0),0),\"\")","v":0},{"$f":"IF(A16<>\"\",IFERROR(VLOOKUP(O16,Tabelas!B:D,3,0),0),\"\")","v":0},{"$f":"IF(A16<>\"\",IFERROR(VLOOKUP(P16,Tabelas!B:D,3,0),0),\"\")","v":0},{"$f":"IF(A16<>\"\",IFERROR(VLOOKUP(Q16,Tabelas!B:D,3,0),0),\"\")","v":0},{"$f":"IF(A16<>\"\",IFERROR(VLOOKUP(R16,Tabelas!B:D,3,0),0),\"\")","v":0},{"$f":"IF(A16<>\"\",IFERROR(VLOOKUP(S16,Tabelas!B:D,3,0),0),\"\")","v":0},{"$f":"IF(A16<>\"\",IFERROR(VLOOKUP(T16,Tabelas!B:D,3,0),0),\"\")","v":0},{"$f":"IF(A16<>\"\",IFERROR(VLOOKUP(U16,Tabelas!B:D,3,0),0),\"\")","v":0},{"$f":"IF(A16<>\"\",IFERROR(VLOOKUP(V16,Tabelas!B:D,3,0),0),\"\")","v":0},{"$f":"IF(A16<>\"\",IFERROR(VLOOKUP(W16,Tabelas!B:D,3,0),0),\"\")","v":0},{"$f":"IF(A16<>\"\",IFERROR(VLOOKUP(X16,Tabelas!B:D,3,0),0),\"\")","v":0},{"$f":"IF(A16<>\"\",IFERROR(VLOOKUP(Y16,Tabelas!B:D,3,0),0),\"\")","v":0},{"$f":"IF(A16<>\"\",IFERROR(VLOOKUP(Z16,Tabelas!B:D,3,0),0),\"\")","v":0},{"$f":"IF(A16<>\"\",IFERROR(VLOOKUP(AA16,Tabelas!B:D,3,0),0),\"\")","v":0},{"$f":"IF(A16<>\"\",IFERROR(VLOOKUP(AB16,Tabelas!B:D,3,0),0),\"\")","v":0},{"$f":"IF(A16<>\"\",IFERROR(VLOOKUP(AC16,Tabelas!B:D,3,0),0),\"\")","v":0},{"$f":"IF(A16<>\"\",IFERROR(VLOOKUP(AD16,Tabelas!B:D,3,0),0),\"\")","v":0},{"$f":"IF(A16<>\"\",IFERROR(VLOOKUP(AE16,Tabelas!B:D,3,0),0),\"\")","v":0},{"$f":"IF(A16<>\"\",IFERROR(VLOOKUP(AF16,Tabelas!B:D,3,0),0),\"\")","v":0},{"$f":"IF(A16<>\"\",IFERROR(VLOOKUP(AG16,Tabelas!B:D,3,0),0),\"\")","v":0},{"$f":"IF(A16<>\"\",IFERROR(VLOOKUP(AH16,Tabelas!B:D,3,0),0),\"\")","v":0},{"$f":"IF(A16<>\"\",IFERROR(VLOOKUP(AI16,Tabelas!B:D,3,0),0),\"\")","v":0},{"$f":"IF(A16<>\"\",IFERROR(VLOOKUP(AJ16,Tabelas!B:D,3,0),0),\"\")","v":0},{"$f":"IF(A16<>\"\",IFERROR(VLOOKUP(AK16,Tabelas!B:D,3,0),0),\"\")","v":0},{"$f":"IF(A16<>\"\",IFERROR(VLOOKUP(AL16,Tabelas!B:D,3,0),0),\"\")","v":0},{"$f":"IF(A16<>\"\",IFERROR(VLOOKUP(AM16,Tabelas!B:D,3,0),0),\"\")","v":0},{"$f":"IF(A16<>\"\",IFERROR(VLOOKUP(AN16,Tabelas!B:D,3,0),0),\"\")","v":0},{"$f":"IF(A16<>\"\",IFERROR(VLOOKUP(AO16,Tabelas!B:D,3,0),0),\"\")","v":0},{"$f":"IF(A16<>\"\",IFERROR(VLOOKUP(AP16,Tabelas!B:D,3,0),0),\"\")","v":0},{"$f":"IF(A16<>\"\",IFERROR(VLOOKUP(AQ16,Tabelas!B:D,3,0),0),\"\")","v":0},0,0,0,0,0,0,0,0]
["FULANO 9",9,null,null,null,null,null,null,null,null,null,null,null,null,null,null,null,null,null,null,null,null,null,null,null,null,null,null,null,null,null,null,null,null,null,null,null,null,null,null,null,null,null,{"$f":"IF(A17<>\"\",IFERROR(VLOOKUP(M17,Tabelas!B:D,3,0),0),\"\")","v":0},{"$f":"IF(A17<>\"\",IFERROR(VLOOKUP(N17,Tabelas!B:D,3,0),0),\"\")","v":0},{"$f":"IF(A17<>\"\",IFERROR(VLOOKUP(O17,Tabelas!B:D,3,0),0),\"\")","v":0},{"$f":"IF(A17<>\"\",IFERROR(VLOOKUP(P17,Tabelas!B:D,3,0),0),\"\")","v":0},{"$f":"IF(A17<>\"\",IFERROR(VLOOKUP(Q17,Tabelas!B:D,3,0),0),\"\")","v":0},{"$f":"IF(A17<>\"\",IFERROR(VLOOKUP(R17,Tabelas!B:D,3,0),0),\"\")","v":0},{"$f":"IF(A17<>\"\",IFERROR(VLOOKUP(S17,Tabelas!B:D,3,0),0),\"\")","v":0},{"$f":"IF(A17<>\"\",IFERROR(VLOOKUP(T17,Tabelas!B:D,3,0),0),\"\")","v":0},{"$f":"IF(A17<>\"\",IFERROR(VLOOKUP(U17,Tabelas!B:D,3,0),0),\"\")","v":0},{"$f":"IF(A17<>\"\",IFERROR(VLOOKUP(V17,Tabelas!B:D,3,0),0),\"\")","v":0},{"$f":"IF(A17<>\"\",IFERROR(VLOOKUP(W17,Tabelas!B:D,3,0),0),\"\")","v":0},{"$f":"IF(A17<>\"\",IFERROR(VLOOKUP(X17,Tabelas!B:D,3,0),0),\"\")","v":0},{"$f":"IF(A17<>\"\",IFERROR(VLOOKUP(Y17,Tabelas!B:D,3,0),0),\"\")","v":0},{"$f":"IF(A17<>\"\",IFERROR(VLOOKUP(Z17,Tabelas!B:D,3,0),0),\"\")","v":0},{"$f":"IF(A17<>\"\",IFERROR(VLOOKUP(AA17,Tabelas!B:D,3,0),0),\"\")","v":0},{"$f":"IF(A17<>\"\",IFERROR(VLOOKUP(AB17,Tabelas!B:D,3,0),0),\"\")","v":0},{"$f":"IF(A17<>\"\",IFERROR(VLOOKUP(AC17,Tabelas!B:D,3,0),0),\"\")","v":0},{"$f":"IF(A17<>\"\",IFERROR(VLOOKUP(AD17,Tabelas!B:D,3,0),0),\"\")","v":0},{"$f":"IF(A17<>\"\",IFERROR(VLOOKUP(AE17,Tabelas!B:D,3,0),0),\"\")","v":0},{"$f":"IF(A17<>\"\",IFERROR(VLOOKUP(AF17,Tabelas!B:D,3,0),0),\"\")","v":0},{"$f":"IF(A17<>\"\",IFERROR(VLOOKUP(AG17,Tabelas!B:D,3,0),0),\"\")","v":0},{"$f":"IF(A17<>\"\",IFERROR(VLOOKUP(AH17,Tabelas!B:D,3,0),0),\"\")","v":0},{"$f":"IF(A17<>\"\",IFERROR(VLOOKUP(AI17,Tabelas!B:D,3,0),0),\"\")","v":0},{"$f":"IF(A17<>\"\",IFERROR(VLOOKUP(AJ17,Tabelas!B:D,3,0),0),\"\")","v":0},{"$f":"IF(A17<>\"\",IFERROR(VLOOKUP(AK17,Tabelas!B:D,3,0),0),\"\")","v":0},{"$f":"IF(A17<>\"\",IFERROR(VLOOKUP(AL17,Tabelas!B:D,3,0),0),\"\")","v":0},{"$f":"IF(A17<>\"\",IFERROR(VLOOKUP(AM17,Tabelas!B:D,3,0),0),\"\")","v":0},{"$f":"IF(A17<>\"\",IFERROR(VLOOKUP(AN17,Tabelas!B:D,3,0),0),\"\")","v":0},{"$f":"IF(A17<>\"\",IFERROR(VLOOKUP(AO17,Tabelas!B:D,3,0),0),\"\")","v":0},{"$f":"IF(A17<>\"\",IFERROR(VLOOKUP(AP17,Tabelas!B:D,3,0),0),\"\")","v":0},{"$f":"IF(A17<>\"\",IFERROR(VLOOKUP(AQ17,Tabelas!B:D,3,0),0),\"\")","v":0},0,0,0,0,0,0,0,0]
["FULANO 10",10,null,null,null,null,null,null,null,null,null,null,null,null,null,null,null,null,null,null,null,null,null,null,null,null,null,null,null,null,null,null,null,null,null,null,null,null,null,null,null,null,null,{"$f":"IF(A18<>\"\",IFERROR(VLOOKUP(M18,Tabelas!B:D,3,0),0),\"\")","v":0},{"$f":"IF(A18<>\"\",IFERROR(VLOOKUP(N18,Tabelas!B:D,3,0),0),\"\")","v":0},{"$f":"IF(A18<>\"\",IFERROR(VLOOKUP(O18,Tabelas!B:D,3,0),0),\"\")","v":0},{"$f":"IF(A18<>\"\",IFERROR(VLOOKUP(P18,Tabelas!B:D,3,0),0),\"\")","v":0},{"$f":"IF(A18<>\"\",IFERROR(VLOOKUP(Q18,Tabelas!B:D,3,0),0),\"\")","v":0},{"$f":"IF(A18<>\"\",IFERROR(VLOOKUP(R18,Tabelas!B:D,3,0),0),\"\")","v":0},{"$f":"IF(A18<>\"\",IFERROR(VLOOKUP(S18,Tabelas!B:D,3,0),0),\"\")","v":0},{"$f":"IF(A18<>\"\",IFERROR(VLOOKUP(T18,Tabelas!B:D,3,0),0),\"\")","v":0},{"$f":"IF(A18<>\"\",IFERROR(VLOOKUP(U18,Tabelas!B:D,3,0),0),\"\")","v":0},{"$f":"IF(A18<>\"\",IFERROR(VLOOKUP(V18,Tabelas!B:D,3,0),0),\"\")","v":0},{"$f":"IF(A18<>\"\",IFERROR(VLOOKUP(W18,Tabelas!B:D,3,0),0),\"\")","v":0},{"$f":"IF(A18<>\"\",IFERROR(VLOOKUP(X18,Tabelas!B:D,3,0),0),\"\")","v":0},{"$f":"IF(A18<>\"\",IFERROR(VLOOKUP(Y18,Tabelas!B:D,3,0),0),\"\")","v":0},{"$f":"IF(A18<>\"\",IFERROR(VLOOKUP(Z18,Tabelas!B:D,3,0),0),\"\")","v":0},{"$f":"IF(A18<>\"\",IFERROR(VLOOKUP(AA18,Tabelas!B:D,3,0),0),\"\")","v":0},{"$f":"IF(A18<>\"\",IFERROR(VLOOKUP(AB18,Tabelas!B:D,3,0),0),\"\")","v":0},{"$f":"IF(A18<>\"\",IFERROR(VLOOKUP(AC18,Tabelas!B:D,3,0),0),\"\")","v":0},{"$f":"IF(A18<>\"\",IFERROR(VLOOKUP(AD18,Tabelas!B:D,3,0),0),\"\")","v":0},{"$f":"IF(A18<>\"\",IFERROR(VLOOKUP(AE18,Tabelas!B:D,3,0),0),\"\")","v":0},{"$f":"IF(A18<>\"\",IFERROR(VLOOKUP(AF18,Tabelas!B:D,3,0),0),\"\")","v":0},{"$f":"IF(A18<>\"\",IFERROR(VLOOKUP(AG18,Tabelas!B:D,3,0),0),\"\")","v":0},{"$f":"IF(A18<>\"\",IFERROR(VLOOKUP(AH18,Tabelas!B:D,3,0),0),\"\")","v":0},{"$f":"IF(A18<>\"\",IFERROR(VLOOKUP(AI18,Tabelas!B:D,3,0),0),\"\")","v":0},{"$f":"IF(A18<>\"\",IFERROR(VLOOKUP(AJ18,Tabelas!B:D,3,0),0),\"\")","v":0},{"$f":"IF(A18<>\"\",IFERROR(VLOOKUP(AK18,Tabelas!B:D,3,0),0),\"\")","v":0},{"$f":"IF(A18<>\"\",IFERROR(VLOOKUP(AL18,Tabelas!B:D,3,0),0),\"\")","v":0},{"$f":"IF(A18<>\"\",IFERROR(VLOOKUP(AM18,Tabelas!B:D,3,0),0),\"\")","v":0},{"$f":"IF(A18<>\"\",IFERROR(VLOOKUP(AN18,Tabelas!B:D,3,0),0),\"\")","v":0},{"$f":"IF(A18<>\"\",IFERROR(VLOOKUP(AO18,Tabelas!B:D,3,0),0),\"\")","v":0},{"$f":"IF(A18<>\"\",IFERROR(VLOOKUP(AP18,Tabelas!B:D,3,0),0),\"\")","v":0},{"$f":"IF(A18<>\"\",IFERROR(VLOOKUP(AQ18,Tabelas!B:D,3,0),0),\"\")","v":0},0,0,0,0,0,0,0,0]
["FULANO 11",11,null,null,null,null,null,null,null,null,null,null,null,null,null,null,null,null,null,null,null,null,null,null,null,null,null,null,null,null,null,null,null,null,null,null,null,null,null,null,null,null,null,{"$f":"IF(A19<>\"\",IFERROR(VLOOKUP(M19,Tabelas!B:D,3,0),0),\"\")","v":0},{"$f":"IF(A19<>\"\",IFERROR(VLOOKUP(N19,Tabelas!B:D,3,0),0),\"\")","v":0},{"$f":"IF(A19<>\"\",IFERROR(VLOOKUP(O19,Tabelas!B:D,3,0),0),\"\")","v":0},{"$f":"IF(A19<>\"\",IFERROR(VLOOKUP(P19,Tabelas!B:D,3,0),0),\"\")","v":0},{"$f":"IF(A19<>\"\",IFERROR(VLOOKUP(Q19,Tabelas!B:D,3,0),0),\"\")","v":0},{"$f":"IF(A19<>\"\",IFERROR(VLOOKUP(R19,Tabelas!B:D,3,0),0),\"\")","v":0},{"$f":"IF(A19<>\"\",IFERROR(VLOOKUP(S19,Tabelas!B:D,3,0),0),\"\")","v":0},{"$f":"IF(A19<>\"\",IFERROR(VLOOKUP(T19,Tabelas!B:D,3,0),0),\"\")","v":0},{"$f":"IF(A19<>\"\",IFERROR(VLOOKUP(U19,Tabelas!B:D,3,0),0),\"\")","v":0},{"$f":"IF(A19<>\"\",IFERROR(VLOOKUP(V19,Tabelas!B:D,3,0),0),\"\")","v":0},{"$f":"IF(A19<>\"\",IFERROR(VLOOKUP(W19,Tabelas!B:D,3,0),0),\"\")","v":0},{"$f":"IF(A19<>\"\",IFERROR(VLOOKUP(X19,Tabelas!B:D,3,0),0),\"\")","v":0},{"$f":"IF(A19<>\"\",IFERROR(VLOOKUP(Y19,Tabelas!B:D,3,0),0),\"\")","v":0},{"$f":"IF(A19<>\"\",IFERROR(VLOOKUP(Z19,Tabelas!B:D,3,0),0),\"\")","v":0},{"$f":"IF(A19<>\"\",IFERROR(VLOOKUP(AA19,Tabelas!B:D,3,0),0),\"\")","v":0},{"$f":"IF(A19<>\"\",IFERROR(VLOOKUP(AB19,Tabelas!B:D,3,0),0),\"\")","v":0},{"$f":"IF(A19<>\"\",IFERROR(VLOOKUP(AC19,Tabelas!B:D,3,0),0),\"\")","v":0},{"$f":"IF(A19<>\"\",IFERROR(VLOOKUP(AD19,Tabelas!B:D,3,0),0),\"\")","v":0},{"$f":"IF(A19<>\"\",IFERROR(VLOOKUP(AE19,Tabelas!B:D,3,0),0),\"\")","v":0},{"$f":"IF(A19<>\"\",IFERROR(VLOOKUP(AF19,Tabelas!B:D,3,0),0),\"\")","v":0},{"$f":"IF(A19<>\"\",IFERROR(VLOOKUP(AG19,Tabelas!B:D,3,0),0),\"\")","v":0},{"$f":"IF(A19<>\"\",IFERROR(VLOOKUP(AH19,Tabelas!B:D,3,0),0),\"\")","v":0},{"$f":"IF(A19<>\"\",IFERROR(VLOOKUP(AI19,Tabelas!B:D,3,0),0),\"\")","v":0},{"$f":"IF(A19<>\"\",IFERROR(VLOOKUP(AJ19,Tabelas!B:D,3,0),0),\"\")","v":0},{"$f":"IF(A19<>\"\",IFERROR(VLOOKUP(AK19,Tabelas!B:D,3,0),0),\"\")","v":0},{"$f":"IF(A19<>\"\",IFERROR(VLOOKUP(AL19,Tabelas!B:D,3,0),0),\"\")","v":0},{"$f":"IF(A19<>\"\",IFERROR(VLOOKUP(AM19,Tabelas!B:D,3,0),0),\"\")","v":0},{"$f":"IF(A19<>\"\",IFERROR(VLOOKUP(AN19,Tabelas!B:D,3,0),0),\"\")","v":0},{"$f":"IF(A19<>\"\",IFERROR(VLOOKUP(AO19,Tabelas!B:D,3,0),0),\"\")","v":0},{"$f":"IF(A19<>\"\",IFERROR(VLOOKUP(AP19,Tabelas!B:D,3,0),0),\"\")","v":0},{"$f":"IF(A19<>\"\",IFERROR(VLOOKUP(AQ19,Tabelas!B:D,3,0),0),\"\")","v":0},0,0,0,0,0,0,0,0]
["FULANO 12",12,null,null,null,null,null,null,null,null,null,null,null,null,null,null,null,null,null,null,null,null,null,null,null,null,null,null,null,null,null,null,null,null,null,null,null,null,null,null,null,null,null,{"$f":"IF(A20<>\"\",IFERROR(VLOOKUP(M20,Tabelas!B:D,3,0),0),\"\")","v":0},{"$f":"IF(A20<>\"\",IFERROR(VLOOKUP(N20,Tabelas!B:D,3,0),0),\"\")","v":0},{"$f":"IF(A20<>\"\",IFERROR(VLOOKUP(O20,Tabelas!B:D,3,0),0),\"\")","v":0},{"$f":"IF(A20<>\"\",IFERROR(VLOOKUP(P20,Tabelas!B:D,3,0),0),\"\")","v":0},{"$f":"IF(A20<>\"\",IFERROR(VLOOKUP(Q20,Tabelas!B:D,3,0),0),\"\")","v":0},{"$f":"IF(A20<>\"\",IFERROR(VLOOKUP(R20,Tabelas!B:D,3,0),0),\"\")","v":0},{"$f":"IF(A20<>\"\",IFERROR(VLOOKUP(S20,Tabelas!B:D,3,0),0),\"\")","v":0},{"$f":"IF(A20<>\"\",IFERROR(VLOOKUP(T20,Tabelas!B:D,3,0),0),\"\")","v":0},{"$f":"IF(A20<>\"\",IFERROR(VLOOKUP(U20,Tabelas!B:D,3,0),0),\"\")","v":0},{"$f":"IF(A20<>\"\",IFERROR(VLOOKUP(V20,Tabelas!B:D,3,0),0),\"\")","v":0},{"$f":"IF(A20<>\"\",IFERROR(VLOOKUP(W20,Tabelas!B:D,3,0),0),\"\")","v":0},{"$f":"IF(A20<>\"\",IFERROR(VLOOKUP(X20,Tabelas!B:D,3,0),0),\"\")","v":0},{"$f":"IF(A20<>\"\",IFERROR(VLOOKUP(Y20,Tabelas!B:D,3,0),0),\"\")","v":0},{"$f":"IF(A20<>\"\",IFERROR(VLOOKUP(Z20,Tabelas!B:D,3,0),0),\"\")","v":0},{"$f":"IF(A20<>\"\",IFERROR(VLOOKUP(AA20,Tabelas!B:D,3,0),0),\"\")","v":0},{"$f":"IF(A20<>\"\",IFERROR(VLOOKUP(AB20,Tabelas!B:D,3,0),0),\"\")","v":0},{"$f":"IF(A20<>\"\",IFERROR(VLOOKUP(AC20,Tabelas!B:D,3,0),0),\"\")","v":0},{"$f":"IF(A20<>\"\",IFERROR(VLOOKUP(AD20,Tabelas!B:D,3,0),0),\"\")","v":0},{"$f":"IF(A20<>\"\",IFERROR(VLOOKUP(AE20,Tabelas!B:D,3,0),0),\"\")","v":0},{"$f":"IF(A20<>\"\",IFERROR(VLOOKUP(AF20,Tabelas!B:D,3,0),0),\"\")","v":0},{"$f":"IF(A20<>\"\",IFERROR(VLOOKUP(AG20,Tabelas!B:D,3,0),0),\"\")","v":0},{"$f":"IF(A20<>\"\",IFERROR(VLOOKUP(AH20,Tabelas!B:D,3,0),0),\"\")","v":0},{"$f":"IF(A20<>\"\",IFERROR(VLOOKUP(AI20,Tabelas!B:D,3,0),0),\"\")","v":0},{"$f":"IF(A20<>\"\",IFERROR(VLOOKUP(AJ20,Tabelas!B:D,3,0),0),\"\")","v":0},{"$f":"IF(A20<>\"\",IFERROR(VLOOKUP(AK20,Tabelas!B:D,3,0),0),\"\")","v":0},{"$f":"IF(A20<>\"\",IFERROR(VLOOKUP(AL20,Tabelas!B:D,3,0),0),\"\")","v":0},{"$f":"IF(A20<>\"\",IFERROR(VLOOKUP(AM20,Tabelas!B:D,3,0),0),\"\")","v":0},{"$f":"IF(A20<>\"\",IFERROR(VLOOKUP(AN20,Tabelas!B:D,3,0),0),\"\")","v":0},{"$f":"IF(A20<>\"\",IFERROR(VLOOKUP(AO20,Tabelas!B:D,3,0),0),\"\")","v":0},{"$f":"IF(A20<>\"\",IFERROR(VLOOKUP(AP20,Tabelas!B:D,3,0),0),\"\")","v":0},{"$f":"IF(A20<>\"\",IFERROR(VLOOKUP(AQ20,Tabelas!B:D,3,0),0),\"\")","v":0},0,0,0,0,0,0,0,0]
["FULANO 13",13,null,null,null,null,null,null,null,null,null,null,null,null,null,null,null,null,null,null,null,null,null,null,null,null,null,null,null,null,null,null,null,null,null,null,null,null,null,null,null,null,null,{"$f":"IF(A21<>\"\",IFERROR(VLOOKUP(M21,Tabelas!B:D,3,0),0),\"\")","v":0},{"$f":"IF(A21<>\"\",IFERROR(VLOOKUP(N21,Tabelas!B:D,3,0),0),\"\")","v":0},{"$f":"IF(A21<>\"\",IFERROR(VLOOKUP(O21,Tabelas!B:D,3,0),0),\"\")","v":0},{"$f":"IF(A21<>\"\",IFERROR(VLOOKUP(P21,Tabelas!B:D,3,0),0),\"\")","v":0},{"$f":"IF(A21<>\"\",IFERROR(VLOOKUP(Q21,Tabelas!B:D,3,0),0),\"\")","v":0},{"$f":"IF(A21<>\"\",IFERROR(VLOOKUP(R21,Tabelas!B:D,3,0),0),\"\")","v":0},{"$f":"IF(A21<>\"\",IFERROR(VLOOKUP(S21,Tabelas!B:D,3,0),0),\"\")","v":0},{"$f":"IF(A21<>\"\",IFERROR(VLOOKUP(T21,Tabelas!B:D,3,0),0),\"\")","v":0},{"$f":"IF(A21<>\"\",IFERROR(VLOOKUP(U21,Tabelas!B:D,3,0),0),\"\")","v":0},{"$f":"IF(A21<>\"\",IFERROR(VLOOKUP(V21,Tabelas!B:D,3,0),0),\"\")","v":0},{"$f":"IF(A21<>\"\",IFERROR(VLOOKUP(W21,Tabelas!B:D,3,0),0),\"\")","v":0},{"$f":"IF(A21<>\"\",IFERROR(VLOOKUP(X21,Tabelas!B:D,3,0),0),\"\")","v":0},{"$f":"IF(A21<>\"\",IFERROR(VLOOKUP(Y21,Tabelas!B:D,3,0),0),\"\")","v":0},{"$f":"IF(A21<>\"\",IFERROR(VLOOKUP(Z21,Tabelas!B:D,3,0),0),\"\")","v":0},{"$f":"IF(A21<>\"\",IFERROR(VLOOKUP(AA21,Tabelas!B:D,3,0),0),\"\")","v":0},{"$f":"IF(A21<>\"\",IFERROR(VLOOKUP(AB21,Tabelas!B:D,3,0),0),\"\")","v":0},{"$f":"IF(A21<>\"\",IFERROR(VLOOKUP(AC21,Tabelas!B:D,3,0),0),\"\")","v":0},{"$f":"IF(A21<>\"\",IFERROR(VLOOKUP(AD21,Tabelas!B:D,3,0),0),\"\")","v":0},{"$f":"IF(A21<>\"\",IFERROR(VLOOKUP(AE21,Tabelas!B:D,3,0),0),\"\")","v":0},{"$f":"IF(A21<>\"\",IFERROR(VLOOKUP(AF21,Tabelas!B:D,3,0),0),\"\")","v":0},{"$f":"IF(A21<>\"\",IFERROR(VLOOKUP(AG21,Tabelas!B:D,3,0),0),\"\")","v":0},{"$f":"IF(A21<>\"\",IFERROR(VLOOKUP(AH21,Tabelas!B:D,3,0),0),\"\")","v":0},{"$f":"IF(A21<>\"\",IFERROR(VLOOKUP(AI21,Tabelas!B:D,3,0),0),\"\")","v":0},{"$f":"IF(A21<>\"\",IFERROR(VLOOKUP(AJ21,Tabelas!B:D,3,0),0),\"\")","v":0},{"$f":"IF(A21<>\"\",IFERROR(VLOOKUP(AK21,Tabelas!B:D,3,0),0),\"\")","v":0},{"$f":"IF(A21<>\"\",IFERROR(VLOOKUP(AL21,Tabelas!B:D,3,0),0),\"\")","v":0},{"$f":"IF(A21<>\"\",IFERROR(VLOOKUP(AM21,Tabelas!B:D,3,0),0),\"\")","v":0},{"$f":"IF(A21<>\"\",IFERROR(VLOOKUP(AN21,Tabelas!B:D,3,0),0),\"\")","v":0},{"$f":"IF(A21<>\"\",IFERROR(VLOOKUP(AO21,Tabelas!B:D,3,0),0),\"\")","v":0},{"$f":"IF(A21<>\"\",IFERROR(VLOOKUP(AP21,Tabelas!B:D,3,0),0),\"\")","v":0},{"$f":"IF(A21<>\"\",IFERROR(VLOOKUP(AQ21,Tabelas!B:D,3,0),0),\"\")","v":0},0,0,0,0,0,0,0,0]
["FULANO 14",14,null,null,null,null,null,null,null,null,null,null,null,null,null,null,null,null,null,null,null,null,null,null,null,null,null,null,null,null,null,null,null,null,null,null,null,null,null,null,null,null,null,{"$f":"IF(A22<>\"\",IFERROR(VLOOKUP(M22,Tabelas!B:D,3,0),0),\"\")","v":0},{"$f":"IF(A22<>\"\",IFERROR(VLOOKUP(N22,Tabelas!B:D,3,0),0),\"\")","v":0},{"$f":"IF(A22<>\"\",IFERROR(VLOOKUP(O22,Tabelas!B:D,3,0),0),\"\")","v":0},{"$f":"IF(A22<>\"\",IFERROR(VLOOKUP(P22,Tabelas!B:D,3,0),0),\"\")","v":0},{"$f":"IF(A22<>\"\",IFERROR(VLOOKUP(Q22,Tabelas!B:D,3,0),0),\"\")","v":0},{"$f":"IF(A22<>\"\",IFERROR(VLOOKUP(R22,Tabelas!B:D,3,0),0),\"\")","v":0},{"$f":"IF(A22<>\"\",IFERROR(VLOOKUP(S22,Tabelas!B:D,3,0),0),\"\")","v":0},{"$f":"IF(A22<>\"\",IFERROR(VLOOKUP(T22,Tabelas!B:D,3,0),0),\"\")","v":0},{"$f":"IF(A22<>\"\",IFERROR(VLOOKUP(U22,Tabelas!B:D,3,0),0),\"\")","v":0},{"$f":"IF(A22<>\"\",IFERROR(VLOOKUP(V22,Tabelas!B:D,3,0),0),\"\")","v":0},{"$f":"IF(A22<>\"\",IFERROR(VLOOKUP(W22,Tabelas!B:D,3,0),0),\"\")","v":0},{"$f":"IF(A22<>\"\",IFERROR(VLOOKUP(X22,Tabelas!B:D,3,0),0),\"\")","v":0},{"$f":"IF(A22<>\"\",IFERROR(VLOOKUP(Y22,Tabelas!B:D,3,0),0),\"\")","v":0},{"$f":"IF(A22<>\"\",IFERROR(VLOOKUP(Z22,Tabelas!B:D,3,0),0),\"\")","v":0},{"$f":"IF(A22<>\"\",IFERROR(VLOOKUP(AA22,Tabelas!B:D,3,0),0),\"\")","v":0},{"$f":"IF(A22<>\"\",IFERROR(VLOOKUP(AB22,Tabelas!B:D,3,0),0),\"\")","v":0},{"$f":"IF(A22<>\"\",IFERROR(VLOOKUP(AC22,Tabelas!B:D,3,0),0),\"\")","v":0},{"$f":"IF(A22<>\"\",IFERROR(VLOOKUP(AD22,Tabelas!B:D,3,0),0),\"\")","v":0},{"$f":"IF(A22<>\"\",IFERROR(VLOOKUP(AE22,Tabelas!B:D,3,0),0),\"\")","v":0},{"$f":"IF(A22<>\"\",IFERROR(VLOOKUP(AF22,Tabelas!B:D,3,0),0),\"\")","v":0},{"$f":"IF(A22<>\"\",IFERROR(VLOOKUP(AG22,Tabelas!B:D,3,0),0),\"\")","v":0},{"$f":"IF(A22<>\"\",IFERROR(VLOOKUP(AH22,Tabelas!B:D,3,0),0),\"\")","v":0},{"$f":"IF(A22<>\"\",IFERROR(VLOOKUP(AI22,Tabelas!B:D,3,0),0),\"\")","v":0},{"$f":"IF(A22<>\"\",IFERROR(VLOOKUP(AJ22,Tabelas!B:D,3,0),0),\"\")","v":0},{"$f":"IF(A22<>\"\",IFERROR(VLOOKUP(AK22,Tabelas!B:D,3,0),0),\"\")","v":0},{"$f":"IF(A22<>\"\",IFERROR(VLOOKUP(AL22,Tabelas!B:D,3,0),0),\"\")","v":0},{"$f":"IF(A22<>\"\",IFERROR(VLOOKUP(AM22,Tabelas!B:D,3,0),0),\"\")","v":0},{"$f":"IF(A22<>\"\",IFERROR(VLOOKUP(AN22,Tabelas!B:D,3,0),0),\"\")","v":0},{"$f":"IF(A22<>\"\",IFERROR(VLOOKUP(AO22,Tabelas!B:D,3,0),0),\"\")","v":0},{"$f":"IF(A22<>\"\",IFERROR(VLOOKUP(AP22,Tabelas!B:D,3,0),0),\"\")","v":0},{"$f":"IF(A22<>\"\",IFERROR(VLOOKUP(AQ22,Tabelas!B:D,3,0),0),\"\")","v":0},0,0,0,0,0,0,0,0]
["FULANO 15",15,null,null,null,null,null,null,null,null,null,null,null,null,null,null,null,null,null,null,null,null,null,null,null,null,null,null,null,null,null,null,null,null,null,null,null,null,null,null,null,null,null,{"$f":"IF(A23<>\"\",IFERROR(VLOOKUP(M23,Tabelas!B:D,3,0),0),\"\")","v":0},{"$f":"IF(A23<>\"\",IFERROR(VLOOKUP(N23,Tabelas!B:D,3,0),0),\"\")","v":0},{"$f":"IF(A23<>\"\",IFERROR(VLOOKUP(O23,Tabelas!B:D,3,0),0),\"\")","v":0},{"$f":"IF(A23<>\"\",IFERROR(VLOOKUP(P23,Tabelas!B:D,3,0),0),\"\")","v":0},{"$f":"IF(A23<>\"\",IFERROR(VLOOKUP(Q23,Tabelas!B:D,3,0),0),\"\")","v":0},{"$f":"IF(A23<>\"\",IFERROR(VLOOKUP(R23,Tabelas!B:D,3,0),0),\"\")","v":0},{"$f":"IF(A23<>\"\",IFERROR(VLOOKUP(S23,Tabelas!B:D,3,0),0),\"\")","v":0},{"$f":"IF(A23<>\"\",IFERROR(VLOOKUP(T23,Tabelas!B:D,3,0),0),\"\")","v":0},{"$f":"IF(A23<>\"\",IFERROR(VLOOKUP(U23,Tabelas!B:D,3,0),0),\"\")","v":0},{"$f":"IF(A23<>\"\",IFERROR(VLOOKUP(V23,Tabelas!B:D,3,0),0),\"\")","v":0},{"$f":"IF(A23<>\"\",IFERROR(VLOOKUP(W23,Tabelas!B:D,3,0),0),\"\")","v":0},{"$f":"IF(A23<>\"\",IFERROR(VLOOKUP(X23,Tabelas!B:D,3,0),0),\"\")","v":0},{"$f":"IF(A23<>\"\",IFERROR(VLOOKUP(Y23,Tabelas!B:D,3,0),0),\"\")","v":0},{"$f":"IF(A23<>\"\",IFERROR(VLOOKUP(Z23,Tabelas!B:D,3,0),0),\"\")","v":0},{"$f":"IF(A23<>\"\",IFERROR(VLOOKUP(AA23,Tabelas!B:D,3,0),0),\"\")","v":0},{"$f":"IF(A23<>\"\",IFERROR(VLOOKUP(AB23,Tabelas!B:D,3,0),0),\"\")","v":0},{"$f":"IF(A23<>\"\",IFERROR(VLOOKUP(AC23,Tabelas!B:D,3,0),0),\"\")","v":0},{"$f":"IF(A23<>\"\",IFERROR(VLOOKUP(AD23,Tabelas!B:D,3,0),0),\"\")","v":0},{"$f":"IF(A23<>\"\",IFERROR(VLOOKUP(AE23,Tabelas!B:D,3,0),0),\"\")","v":0},{"$f":"IF(A23<>\"\",IFERROR(VLOOKUP(AF23,Tabelas!B:D,3,0),0),\"\")","v":0},{"$f":"IF(A23<>\"\",IFERROR(VLOOKUP(AG23,Tabelas!B:D,3,0),0),\"\")","v":0},{"$f":"IF(A23<>\"\",IFERROR(VLOOKUP(AH23,Tabelas!B:D,3,0),0),\"\")","v":0},{"$f":"IF(A23<>\"\",IFERROR(VLOOKUP(AI23,Tabelas!B:D,3,0),0),\"\")","v":0},{"$f":"IF(A23<>\"\",IFERROR(VLOOKUP(AJ23,Tabelas!B:D,3,0),0),\"\")","v":0},{"$f":"IF(A23<>\"\",IFERROR(VLOOKUP(AK23,Tabelas!B:D,3,0),0),\"\")","v":0},{"$f":"IF(A23<>\"\",IFERROR(VLOOKUP(AL23,Tabelas!B:D,3,0),0),\"\")","v":0},{"$f":"IF(A23<>\"\",IFERROR(VLOOKUP(AM23,Tabelas!B:D,3,0),0),\"\")","v":0},{"$f":"IF(A23<>\"\",IFERROR(VLOOKUP(AN23,Tabelas!B:D,3,0),0),\"\")","v":0},{"$f":"IF(A23<>\"\",IFERROR(VLOOKUP(AO23,Tabelas!B:D,3,0),0),\"\")","v":0},{"$f":"IF(A23<>\"\",IFERROR(VLOOKUP(AP23,Tabelas!B:D,3,0),0),\"\")","v":0},{"$f":"IF(A23<>\"\",IFERROR(VLOOKUP(AQ23,Tabelas!B:D,3,0),0),\"\")","v":0},0,0,0,0,0,0,0,0]
["FULANO 16",16,null,null,null,null,null,null,null,null,null,null,null,null,null,null,null,null,null,null,null,null,null,null,null,null,null,null,null,null,null,null,null,null,null,null,null,null,null,null,null,null,null,{"$f":"IF(A24<>\"\",IFERROR(VLOOKUP(M24,Tabelas!B:D,3,0),0),\"\")","v":0},{"$f":"IF(A24<>\"\",IFERROR(VLOOKUP(N24,Tabelas!B:D,3,0),0),\"\")","v":0},{"$f":"IF(A24<>\"\",IFERROR(VLOOKUP(O24,Tabelas!B:D,3,0),0),\"\")","v":0},{"$f":"IF(A24<>\"\",IFERROR(VLOOKUP(P24,Tabelas!B:D,3,0),0),\"\")","v":0},{"$f":"IF(A24<>\"\",IFERROR(VLOOKUP(Q24,Tabelas!B:D,3,0),0),\"\")","v":0},{"$f":"IF(A24<>\"\",IFERROR(VLOOKUP(R24,Tabelas!B:D,3,0),0),\"\")","v":0},{"$f":"IF(A24<>\"\",IFERROR(VLOOKUP(S24,Tabelas!B:D,3,0),0),\"\")","v":0},{"$f":"IF(A24<>\"\",IFERROR(VLOOKUP(T24,Tabelas!B:D,3,0),0),\"\")","v":0},{"$f":"IF(A24<>\"\",IFERROR(VLOOKUP(U24,Tabelas!B:D,3,0),0),\"\")","v":0},{"$f":"IF(A24<>\"\",IFERROR(VLOOKUP(V24,Tabelas!B:D,3,0),0),\"\")","v":0},{"$f":"IF(A24<>\"\",IFERROR(VLOOKUP(W24,Tabelas!B:D,3,0),0),\"\")","v":0},{"$f":"IF(A24<>\"\",IFERROR(VLOOKUP(X24,Tabelas!B:D,3,0),0),\"\")","v":0},{"$f":"IF(A24<>\"\",IFERROR(VLOOKUP(Y24,Tabelas!B:D,3,0),0),\"\")","v":0},{"$f":"IF(A24<>\"\",IFERROR(VLOOKUP(Z24,Tabelas!B:D,3,0),0),\"\")","v":0},{"$f":"IF(A24<>\"\",IFERROR(VLOOKUP(AA24,Tabelas!B:D,3,0),0),\"\")","v":0},{"$f":"IF(A24<>\"\",IFERROR(VLOOKUP(AB24,Tabelas!B:D,3,0),0),\"\")","v":0},{"$f":"IF(A24<>\"\",IFERROR(VLOOKUP(AC24,Tabelas!B:D,3,0),0),\"\")","v":0},{"$f":"IF(A24<>\"\",IFERROR(VLOOKUP(AD24,Tabelas!B:D,3,0),0),\"\")","v":0},{"$f":"IF(A24<>\"\",IFERROR(VLOOKUP(AE24,Tabelas!B:D,3,0),0),\"\")","v":0},{"$f":"IF(A24<>\"\",IFERROR(VLOOKUP(AF24,Tabelas!B:D,3,0),0),\"\")","v":0},{"$f":"IF(A24<>\"\",IFERROR(VLOOKUP(AG24,Tabelas!B:D,3,0),0),\"\")","v":0},{"$f":"IF(A24<>\"\",IFERROR(VLOOKUP(AH24,Tabelas!B:D,3,0),0),\"\")","v":0},{"$f":"IF(A24<>\"\",IFERROR(VLOOKUP(AI24,Tabelas!B:D,3,0),0),\"\")","v":0},{"$f":"IF(A24<>\"\",IFERROR(VLOOKUP(AJ24,Tabelas!B:D,3,0),0),\"\")","v":0},{"$f":"IF(A24<>\"\",IFERROR(VLOOKUP(AK24,Tabelas!B:D,3,0),0),\"\")","v":0},{"$f":"IF(A24<>\"\",IFERROR(VLOOKUP(AL24,Tabelas!B:D,3,0),0),\"\")","v":0},{"$f":"IF(A24<>\"\",IFERROR(VLOOKUP(AM24,Tabelas!B:D,3,0),0),\"\")","v":0},{"$f":"IF(A24<>\"\",IFERROR(VLOOKUP(AN24,Tabelas!B:D,3,0),0),\"\")","v":0},{"$f":"IF(A24<>\"\",IFERROR(VLOOKUP(AO24,Tabelas!B:D,3,0),0),\"\")","v":0},{"$f":"IF(A24<>\"\",IFERROR(VLOOKUP(AP24,Tabelas!B:D,3,0),0),\"\")","v":0},{"$f":"IF(A24<>\"\",IFERROR(VLOOKUP(AQ24,Tabelas!B:D,3,0),0),\"\")","v":0},0,0,0,0,0,0,0,0]
["FULANO 17",17,null,null,null,null,null,null,null,null,null,null,null,null,null,null,null,null,null,null,null,null,null,null,null,null,null,null,null,null,null,null,null,null,null,null,null,null,null,null,null,null,null,{"$f":"IF(A25<>\"\",IFERROR(VLOOKUP(M25,Tabelas!B:D,3,0),0),\"\")","v":0},{"$f":"IF(A25<>\"\",IFERROR(VLOOKUP(N25,Tabelas!B:D,3,0),0),\"\")","v":0},{"$f":"IF(A25<>\"\",IFERROR(VLOOKUP(O25,Tabelas!B:D,3,0),0),\"\")","v":0},{"$f":"IF(A25<>\"\",IFERROR(VLOOKUP(P25,Tabelas!B:D,3,0),0),\"\")","v":0},{"$f":"IF(A25<>\"\",IFERROR(VLOOKUP(Q25,Tabelas!B:D,3,0),0),\"\")","v":0},{"$f":"IF(A25<>\"\",IFERROR(VLOOKUP(R25,Tabelas!B:D,3,0),0),\"\")","v":0},{"$f":"IF(A25<>\"\",IFERROR(VLOOKUP(S25,Tabelas!B:D,3,0),0),\"\")","v":0},{"$f":"IF(A25<>\"\",IFERROR(VLOOKUP(T25,Tabelas!B:D,3,0),0),\"\")","v":0},{"$f":"IF(A25<>\"\",IFERROR(VLOOKUP(U25,Tabelas!B:D,3,0),0),\"\")","v":0},{"$f":"IF(A25<>\"\",IFERROR(VLOOKUP(V25,Tabelas!B:D,3,0),0),\"\")","v":0},{"$f":"IF(A25<>\"\",IFERROR(VLOOKUP(W25,Tabelas!B:D,3,0),0),\"\")","v":0},{"$f":"IF(A25<>\"\",IFERROR(VLOOKUP(X25,Tabelas!B:D,3,0),0),\"\")","v":0},{"$f":"IF(A25<>\"\",IFERROR(VLOOKUP(Y25,Tabelas!B:D,3,0),0),\"\")","v":0},{"$f":"IF(A25<>\"\",IFERROR(VLOOKUP(Z25,Tabelas!B:D,3,0),0),\"\")","v":0},{"$f":"IF(A25<>\"\",IFERROR(VLOOKUP(AA25,Tabelas!B:D,3,0),0),\"\")","v":0},{"$f":"IF(A25<>\"\",IFERROR(VLOOKUP(AB25,Tabelas!B:D,3,0),0),\"\")","v":0},{"$f":"IF(A25<>\"\",IFERROR(VLOOKUP(AC25,Tabelas!B:D,3,0),0),\"\")","v":0},{"$f":"IF(A25<>\"\",IFERROR(VLOOKUP(AD25,Tabelas!B:D,3,0),0),\"\")","v":0},{"$f":"IF(A25<>\"\",IFERROR(VLOOKUP(AE25,Tabelas!B:D,3,0),0),\"\")","v":0},{"$f":"IF(A25<>\"\",IFERROR(VLOOKUP(AF25,Tabelas!B:D,3,0),0),\"\")","v":0},{"$f":"IF(A25<>\"\",IFERROR(VLOOKUP(AG25,Tabelas!B:D,3,0),0),\"\")","v":0},{"$f":"IF(A25<>\"\",IFERROR(VLOOKUP(AH25,Tabelas!B:D,3,0),0),\"\")","v":0},{"$f":"IF(A25<>\"\",IFERROR(VLOOKUP(AI25,Tabelas!B:D,3,0),0),\"\")","v":0},{"$f":"IF(A25<>\"\",IFERROR(VLOOKUP(AJ25,Tabelas!B:D,3,0),0),\"\")","v":0},{"$f":"IF(A25<>\"\",IFERROR(VLOOKUP(AK25,Tabelas!B:D,3,0),0),\"\")","v":0},{"$f":"IF(A25<>\"\",IFERROR(VLOOKUP(AL25,Tabelas!B:D,3,0),0),\"\")","v":0},{"$f":"IF(A25<>\"\",IFERROR(VLOOKUP(AM25,Tabelas!B:D,3,0),0),\"\")","v":0},{"$f":"IF(A25<>\"\",IFERROR(VLOOKUP(AN25,Tabelas!B:D,3,0),0),\"\")","v":0},{"$f":"IF(A25<>\"\",IFERROR(VLOOKUP(AO25,Tabelas!B:D,3,0),0),\"\")","v":0},{"$f":"IF(A25<>\"\",IFERROR(VLOOKUP(AP25,Tabelas!B:D,3,0),0),\"\")","v":0},{"$f":"IF(A25<>\"\",IFERROR(VLOOKUP(AQ25,Tabelas!B:D,3,0),0),\"\")","v":0},0,0,0,0,0,0,0,0]
["FULANO 18",18,null,null,null,null,null,null,null,null,null,null,null,null,null,null,null,null,null,null,null,null,null,null,null,null,null,null,null,null,null,null,null,null,null,null,null,null,null,null,null,null,null,{"$f":"IF(A26<>\"\",IFERROR(VLOOKUP(M26,Tabelas!B:D,3,0),0),\"\")","v":0},{"$f":"IF(A26<>\"\",IFERROR(VLOOKUP(N26,Tabelas!B:D,3,0),0),\"\")","v":0},{"$f":"IF(A26<>\"\",IFERROR(VLOOKUP(O26,Tabelas!B:D,3,0),0),\"\")","v":0},{"$f":"IF(A26<>\"\",IFERROR(VLOOKUP(P26,Tabelas!B:D,3,0),0),\"\")","v":0},{"$f":"IF(A26<>\"\",IFERROR(VLOOKUP(Q26,Tabelas!B:D,3,0),0),\"\")","v":0},{"$f":"IF(A26<>\"\",IFERROR(VLOOKUP(R26,Tabelas!B:D,3,0),0),\"\")","v":0},{"$f":"IF(A26<>\"\",IFERROR(VLOOKUP(S26,Tabelas!B:D,3,0),0),\"\")","v":0},{"$f":"IF(A26<>\"\",IFERROR(VLOOKUP(T26,Tabelas!B:D,3,0),0),\"\")","v":0},{"$f":"IF(A26<>\"\",IFERROR(VLOOKUP(U26,Tabelas!B:D,3,0),0),\"\")","v":0},{"$f":"IF(A26<>\"\",IFERROR(VLOOKUP(V26,Tabelas!B:D,3,0),0),\"\")","v":0},{"$f":"IF(A26<>\"\",IFERROR(VLOOKUP(W26,Tabelas!B:D,3,0),0),\"\")","v":0},{"$f":"IF(A26<>\"\",IFERROR(VLOOKUP(X26,Tabelas!B:D,3,0),0),\"\")","v":0},{"$f":"IF(A26<>\"\",IFERROR(VLOOKUP(Y26,Tabelas!B:D,3,0),0),\"\")","v":0},{"$f":"IF(A26<>\"\",IFERROR(VLOOKUP(Z26,Tabelas!B:D,3,0),0),\"\")","v":0},{"$f":"IF(A26<>\"\",IFERROR(VLOOKUP(AA26,Tabelas!B:D,3,0),0),\"\")","v":0},{"$f":"IF(A26<>\"\",IFERROR(VLOOKUP(AB26,Tabelas!B:D,3,0),0),\"\")","v":0},{"$f":"IF(A26<>\"\",IFERROR(VLOOKUP(AC26,Tabelas!B:D,3,0),0),\"\")","v":0},{"$f":"IF(A26<>\"\",IFERROR(VLOOKUP(AD26,Tabelas!B:D,3,0),0),\"\")","v":0},{"$f":"IF(A26<>\"\",IFERROR(VLOOKUP(AE26,Tabelas!B:D,3,0),0),\"\")","v":0},{"$f":"IF(A26<>\"\",IFERROR(VLOOKUP(AF26,Tabelas!B:D,3,0),0),\"\")","v":0},{"$f":"IF(A26<>\"\",IFERROR(VLOOKUP(AG26,Tabelas!B:D,3,0),0),\"\")","v":0},{"$f":"IF(A26<>\"\",IFERROR(VLOOKUP(AH26,Tabelas!B:D,3,0),0),\"\")","v":0},{"$f":"IF(A26<>\"\",IFERROR(VLOOKUP(AI26,Tabelas!B:D,3,0),0),\"\")","v":0},{"$f":"IF(A26<>\"\",IFERROR(VLOOKUP(AJ26,Tabelas!B:D,3,0),0),\"\")","v":0},{"$f":"IF(A26<>\"\",IFERROR(VLOOKUP(AK26,Tabelas!B:D,3,0),0),\"\")","v":0},{"$f":"IF(A26<>\"\",IFERROR(VLOOKUP(AL26,Tabelas!B:D,3,0),0),\"\")","v":0},{"$f":"IF(A26<>\"\",IFERROR(VLOOKUP(AM26,Tabelas!B:D,3,0),0),\"\")","v":0},{"$f":"IF(A26<>\"\",IFERROR(VLOOKUP(AN26,Tabelas!B:D,3,0),0),\"\")","v":0},{"$f":"IF(A26<>\"\",IFERROR(VLOOKUP(AO26,Tabelas!B:D,3,0),0),\"\")","v":0},{"$f":"IF(A26<>\"\",IFERROR(VLOOKUP(AP26,Tabelas!B:D,3,0),0),\"\")","v":0},{"$f":"IF(A26<>\"\",IFERROR(VLOOKUP(AQ26,Tabelas!B:D,3,0),0),\"\")","v":0},0,0,0,0,0,0,0,0]
["FULANO 19",19,null,null,null,null,null,null,null,null,null,null,null,null,null,null,null,null,null,null,null,null,null,null,null,null,null,null,null,null,null,null,null,null,null,null,null,null,null,null,null,null,null,{"$f":"IF(A27<>\"\",IFERROR(VLOOKUP(M27,Tabelas!B:D,3,0),0),\"\")","v":0},{"$f":"IF(A27<>\"\",IFERROR(VLOOKUP(N27,Tabelas!B:D,3,0),0),\"\")","v":0},{"$f":"IF(A27<>\"\",IFERROR(VLOOKUP(O27,Tabelas!B:D,3,0),0),\"\")","v":0},{"$f":"IF(A27<>\"\",IFERROR(VLOOKUP(P27,Tabelas!B:D,3,0),0),\"\")","v":0},{"$f":"IF(A27<>\"\",IFERROR(VLOOKUP(Q27,Tabelas!B:D,3,0),0),\"\")","v":0},{"$f":"IF(A27<>\"\",IFERROR(VLOOKUP(R27,Tabelas!B:D,3,0),0),\"\")","v":0},{"$f":"IF(A27<>\"\",IFERROR(VLOOKUP(S27,Tabelas!B:D,3,0),0),\"\")","v":0},{"$f":"IF(A27<>\"\",IFERROR(VLOOKUP(T27,Tabelas!B:D,3,0),0),\"\")","v":0},{"$f":"IF(A27<>\"\",IFERROR(VLOOKUP(U27,Tabelas!B:D,3,0),0),\"\")","v":0},{"$f":"IF(A27<>\"\",IFERROR(VLOOKUP(V27,Tabelas!B:D,3,0),0),\"\")","v":0},{"$f":"IF(A27<>\"\",IFERROR(VLOOKUP(W27,Tabelas!B:D,3,0),0),\"\")","v":0},{"$f":"IF(A27<>\"\",IFERROR(VLOOKUP(X27,Tabelas!B:D,3,0),0),\"\")","v":0},{"$f":"IF(A27<>\"\",IFERROR(VLOOKUP(Y27,Tabelas!B:D,3,0),0),\"\")","v":0},{"$f":"IF(A27<>\"\",IFERROR(VLOOKUP(Z27,Tabelas!B:D,3,0),0),\"\")","v":0},{"$f":"IF(A27<>\"\",IFERROR(VLOOKUP(AA27,Tabelas!B:D,3,0),0),\"\")","v":0},{"$f":"IF(A27<>\"\",IFERROR(VLOOKUP(AB27,Tabelas!B:D,3,0),0),\"\")","v":0},{"$f":"IF(A27<>\"\",IFERROR(VLOOKUP(AC27,Tabelas!B:D,3,0),0),\"\")","v":0},{"$f":"IF(A27<>\"\",IFERROR(VLOOKUP(AD27,Tabelas!B:D,3,0),0),\"\")","v":0},{"$f":"IF(A27<>\"\",IFERROR(VLOOKUP(AE27,Tabelas!B:D,3,0),0),\"\")","v":0},{"$f":"IF(A27<>\"\",IFERROR(VLOOKUP(AF27,Tabelas!B:D,3,0),0),\"\")","v":0},{"$f":"IF(A27<>\"\",IFERROR(VLOOKUP(AG27,Tabelas!B:D,3,0),0),\"\")","v":0},{"$f":"IF(A27<>\"\",IFERROR(VLOOKUP(AH27,Tabelas!B:D,3,0),0),\"\")","v":0},{"$f":"IF(A27<>\"\",IFERROR(VLOOKUP(AI27,Tabelas!B:D,3,0),0),\"\")","v":0},{"$f":"IF(A27<>\"\",IFERROR(VLOOKUP(AJ27,Tabelas!B:D,3,0),0),\"\")","v":0},{"$f":"IF(A27<>\"\",IFERROR(VLOOKUP(AK27,Tabelas!B:D,3,0),0),\"\")","v":0},{"$f":"IF(A27<>\"\",IFERROR(VLOOKUP(AL27,Tabelas!B:D,3,0),0),\"\")","v":0},{"$f":"IF(A27<>\"\",IFERROR(VLOOKUP(AM27,Tabelas!B:D,3,0),0),\"\")","v":0},{"$f":"IF(A27<>\"\",IFERROR(VLOOKUP(AN27,Tabelas!B:D,3,0),0),\"\")","v":0},{"$f":"IF(A27<>\"\",IFERROR(VLOOKUP(AO27,Tabelas!B:D,3,0),0),\"\")","v":0},{"$f":"IF(A27<>\"\",IFERROR(VLOOKUP(AP27,Tabelas!B:D,3,0),0),\"\")","v":0},{"$f":"IF(A27<>\"\",IFERROR(VLOOKUP(AQ27,Tabelas!B:D,3,0),0),\"\")","v":0},0,0,0,0,0,0,0,0]
["FULANO 20",20,null,null,null,null,null,null,null,null,null,null,null,null,null,null,null,null,null,null,null,null,null,null,null,null,null,null,null,null,null,null,null,null,null,null,null,null,null,null,null,null,null,{"$f":"IF(A28<>\"\",IFERROR(VLOOKUP(M28,Tabelas!B:D,3,0),0),\"\")","v":0},{"$f":"IF(A28<>\"\",IFERROR(VLOOKUP(N28,Tabelas!B:D,3,0),0),\"\")","v":0},{"$f":"IF(A28<>\"\",IFERROR(VLOOKUP(O28,Tabelas!B:D,3,0),0),\"\")","v":0},{"$f":"IF(A28<>\"\",IFERROR(VLOOKUP(P28,Tabelas!B:D,3,0),0),\"\")","v":0},{"$f":"IF(A28<>\"\",IFERROR(VLOOKUP(Q28,Tabelas!B:D,3,0),0),\"\")","v":0},{"$f":"IF(A28<>\"\",IFERROR(VLOOKUP(R28,Tabelas!B:D,3,0),0),\"\")","v":0},{"$f":"IF(A28<>\"\",IFERROR(VLOOKUP(S28,Tabelas!B:D,3,0),0),\"\")","v":0},{"$f":"IF(A28<>\"\",IFERROR(VLOOKUP(T28,Tabelas!B:D,3,0),0),\"\")","v":0},{"$f":"IF(A28<>\"\",IFERROR(VLOOKUP(U28,Tabelas!B:D,3,0),0),\"\")","v":0},{"$f":"IF(A28<>\"\",IFERROR(VLOOKUP(V28,Tabelas!B:D,3,0),0),\"\")","v":0},{"$f":"IF(A28<>\"\",IFERROR(VLOOKUP(W28,Tabelas!B:D,3,0),0),\"\")","v":0},{"$f":"IF(A28<>\"\",IFERROR(VLOOKUP(X28,Tabelas!B:D,3,0),0),\"\")","v":0},{"$f":"IF(A28<>\"\",IFERROR(VLOOKUP(Y28,Tabelas!B:D,3,0),0),\"\")","v":0},{"$f":"IF(A28<>\"\",IFERROR(VLOOKUP(Z28,Tabelas!B:D,3,0),0),\"\")","v":0},{"$f":"IF(A28<>\"\",IFERROR(VLOOKUP(AA28,Tabelas!B:D,3,0),0),\"\")","v":0},{"$f":"IF(A28<>\"\",IFERROR(VLOOKUP(AB28,Tabelas!B:D,3,0),0),\"\")","v":0},{"$f":"IF(A28<>\"\",IFERROR(VLOOKUP(AC28,Tabelas!B:D,3,0),0),\"\")","v":0},{"$f":"IF(A28<>\"\",IFERROR(VLOOKUP(AD28,Tabelas!B:D,3,0),0),\"\")","v":0},{"$f":"IF(A28<>\"\",IFERROR(VLOOKUP(AE28,Tabelas!B:D,3,0),0),\"\")","v":0},{"$f":"IF(A28<>\"\",IFERROR(VLOOKUP(AF28,Tabelas!B:D,3,0),0),\"\")","v":0},{"$f":"IF(A28<>\"\",IFERROR(VLOOKUP(AG28,Tabelas!B:D,3,0),0),\"\")","v":0},{"$f":"IF(A28<>\"\",IFERROR(VLOOKUP(AH28,Tabelas!B:D,3,0),0),\"\")","v":0},{"$f":"IF(A28<>\"\",IFERROR(VLOOKUP(AI28,Tabelas!B:D,3,0),0),\"\")","v":0},{"$f":"IF(A28<>\"\",IFERROR(VLOOKUP(AJ28,Tabelas!B:D,3,0),0),\"\")","v":0},{"$f":"IF(A28<>\"\",IFERROR(VLOOKUP(AK28,Tabelas!B:D,3,0),0),\"\")","v":0},{"$f":"IF(A28<>\"\",IFERROR(VLOOKUP(AL28,Tabelas!B:D,3,0),0),\"\")","v":0},{"$f":"IF(A28<>\"\",IFERROR(VLOOKUP(AM28,Tabelas!B:D,3,0),0),\"\")","v":0},{"$f":"IF(A28<>\"\",IFERROR(VLOOKUP(AN28,Tabelas!B:D,3,0),0),\"\")","v":0},{"$f":"IF(A28<>\"\",IFERROR(VLOOKUP(AO28,Tabelas!B:D,3,0),0),\"\")","v":0},{"$f":"IF(A28<>\"\",IFERROR(VLOOKUP(AP28,Tabelas!B:D,3,0),0),\"\")","v":0},{"$f":"IF(A28<>\"\",IFERROR(VLOOKUP(AQ28,Tabelas!B:D,3,0),0),\"\")","v":0},0,0,0,0,0,0,0,0]
["FULANO 21",21,null,null,null,null,null,null,null,null,null,null,null,null,null,null,null,null,null,null,null,null,null,null,null,null,null,null,null,null,null,null,null,null,null,null,null,null,null,null,null,null,null,{"$f":"IF(A29<>\"\",IFERROR(VLOOKUP(M29,Tabelas!B:D,3,0),0),\"\")","v":0},{"$f":"IF(A29<>\"\",IFERROR(VLOOKUP(N29,Tabelas!B:D,3,0),0),\"\")","v":0},{"$f":"IF(A29<>\"\",IFERROR(VLOOKUP(O29,Tabelas!B:D,3,0),0),\"\")","v":0},{"$f":"IF(A29<>\"\",IFERROR(VLOOKUP(P29,Tabelas!B:D,3,0),0),\"\")","v":0},{"$f":"IF(A29<>\"\",IFERROR(VLOOKUP(Q29,Tabelas!B:D,3,0),0),\"\")","v":0},{"$f":"IF(A29<>\"\",IFERROR(VLOOKUP(R29,Tabelas!B:D,3,0),0),\"\")","v":0},{"$f":"IF(A29<>\"\",IFERROR(VLOOKUP(S29,Tabelas!B:D,3,0),0),\"\")","v":0},{"$f":"IF(A29<>\"\",IFERROR(VLOOKUP(T29,Tabelas!B:D,3,0),0),\"\")","v":0},{"$f":"IF(A29<>\"\",IFERROR(VLOOKUP(U29,Tabelas!B:D,3,0),0),\"\")","v":0},{"$f":"IF(A29<>\"\",IFERROR(VLOOKUP(V29,Tabelas!B:D,3,0),0),\"\")","v":0},{"$f":"IF(A29<>\"\",IFERROR(VLOOKUP(W29,Tabelas!B:D,3,0),0),\"\")","v":0},{"$f":"IF(A29<>\"\",IFERROR(VLOOKUP(X29,Tabelas!B:D,3,0),0),\"\")","v":0},{"$f":"IF(A29<>\"\",IFERROR(VLOOKUP(Y29,Tabelas!B:D,3,0),0),\"\")","v":0},{"$f":"IF(A29<>\"\",IFERROR(VLOOKUP(Z29,Tabelas!B:D,3,0),0),\"\")","v":0},{"$f":"IF(A29<>\"\",IFERROR(VLOOKUP(AA29,Tabelas!B:D,3,0),0),\"\")","v":0},{"$f":"IF(A29<>\"\",IFERROR(VLOOKUP(AB29,Tabelas!B:D,3,0),0),\"\")","v":0},{"$f":"IF(A29<>\"\",IFERROR(VLOOKUP(AC29,Tabelas!B:D,3,0),0),\"\")","v":0},{"$f":"IF(A29<>\"\",IFERROR(VLOOKUP(AD29,Tabelas!B:D,3,0),0),\"\")","v":0},{"$f":"IF(A29<>\"\",IFERROR(VLOOKUP(AE29,Tabelas!B:D,3,0),0),\"\")","v":0},{"$f":"IF(A29<>\"\",IFERROR(VLOOKUP(AF29,Tabelas!B:D,3,0),0),\"\")","v":0},{"$f":"IF(A29<>\"\",IFERROR(VLOOKUP(AG29,Tabelas!B:D,3,0),0),\"\")","v":0},{"$f":"IF(A29<>\"\",IFERROR(VLOOKUP(AH29,Tabelas!B:D,3,0),0),\"\")","v":0},{"$f":"IF(A29<>\"\",IFERROR(VLOOKUP(AI29,Tabelas!B:D,3,0),0),\"\")","v":0},{"$f":"IF(A29<>\"\",IFERROR(VLOOKUP(AJ29,Tabelas!B:D,3,0),0),\"\")","v":0},{"$f":"IF(A29<>\"\",IFERROR(VLOOKUP(AK29,Tabelas!B:D,3,0),0),\"\")","v":0},{"$f":"IF(A29<>\"\",IFERROR(VLOOKUP(AL29,Tabelas!B:D,3,0),0),\"\")","v":0},{"$f":"IF(A29<>\"\",IFERROR(VLOOKUP(AM29,Tabelas!B:D,3,0),0),\"\")","v":0},{"$f":"IF(A29<>\"\",IFERROR(VLOOKUP(AN29,Tabelas!B:D,3,0),0),\"\")","v":0},{"$f":"IF(A29<>\"\",IFERROR(VLOOKUP(AO29,Tabelas!B:D,3,0),0),\"\")","v":0},{"$f":"IF(A29<>\"\",IFERROR(VLOOKUP(AP29,Tabelas!B:D,3,0),0),\"\")","v":0},{"$f":"IF(A29<>\"\",IFERROR(VLOOKUP(AQ29,Tabelas!B:D,3,0),0),\"\")","v":0},0,0,0,{"$f":"IF(A29<>\"\",COUNTIF(M29:AQ29,\"FE\"),\"\")","v":0},0,0,0,0]
["FULANO 22",22,null,null,null,null,null,null,null,null,null,null,null,null,null,null,null,null,null,null,null,null,null,null,null,null,null,null,null,null,null,null,null,null,null,null,null,null,null,null,null,null,null,{"$f":"IF(A30<>\"\",IFERROR(VLOOKUP(M30,Tabelas!B:D,3,0),0),\"\")","v":0},{"$f":"IF(A30<>\"\",IFERROR(VLOOKUP(N30,Tabelas!B:D,3,0),0),\"\")","v":0},{"$f":"IF(A30<>\"\",IFERROR(VLOOKUP(O30,Tabelas!B:D,3,0),0),\"\")","v":0},{"$f":"IF(A30<>\"\",IFERROR(VLOOKUP(P30,Tabelas!B:D,3,0),0),\"\")","v":0},{"$f":"IF(A30<>\"\",IFERROR(VLOOKUP(Q30,Tabelas!B:D,3,0),0),\"\")","v":0},{"$f":"IF(A30<>\"\",IFERROR(VLOOKUP(R30,Tabelas!B:D,3,0),0),\"\")","v":0},{"$f":"IF(A30<>\"\",IFERROR(VLOOKUP(S30,Tabelas!B:D,3,0),0),\"\")","v":0},{"$f":"IF(A30<>\"\",IFERROR(VLOOKUP(T30,Tabelas!B:D,3,0),0),\"\")","v":0},{"$f":"IF(A30<>\"\",IFERROR(VLOOKUP(U30,Tabelas!B:D,3,0),0),\"\")","v":0},{"$f":"IF(A30<>\"\",IFERROR(VLOOKUP(V30,Tabelas!B:D,3,0),0),\"\")","v":0},{"$f":"IF(A30<>\"\",IFERROR(VLOOKUP(W30,Tabelas!B:D,3,0),0),\"\")","v":0},{"$f":"IF(A30<>\"\",IFERROR(VLOOKUP(X30,Tabelas!B:D,3,0),0),\"\")","v":0},{"$f":"IF(A30<>\"\",IFERROR(VLOOKUP(Y30,Tabelas!B:D,3,0),0),\"\")","v":0},{"$f":"IF(A30<>\"\",IFERROR(VLOOKUP(Z30,Tabelas!B:D,3,0),0),\"\")","v":0},{"$f":"IF(A30<>\"\",IFERROR(VLOOKUP(AA30,Tabelas!B:D,3,0),0),\"\")","v":0},{"$f":"IF(A30<>\"\",IFERROR(VLOOKUP(AB30,Tabelas!B:D,3,0),0),\"\")","v":0},{"$f":"IF(A30<>\"\",IFERROR(VLOOKUP(AC30,Tabelas!B:D,3,0),0),\"\")","v":0},{"$f":"IF(A30<>\"\",IFERROR(VLOOKUP(AD30,Tabelas!B:D,3,0),0),\"\")","v":0},{"$f":"IF(A30<>\"\",IFERROR(VLOOKUP(AE30,Tabelas!B:D,3,0),0),\"\")","v":0},{"$f":"IF(A30<>\"\",IFERROR(VLOOKUP(AF30,Tabelas!B:D,3,0),0),\"\")","v":0},{"$f":"IF(A30<>\"\",IFERROR(VLOOKUP(AG30,Tabelas!B:D,3,0),0),\"\")","v":0},{"$f":"IF(A30<>\"\",IFERROR(VLOOKUP(AH30,Tabelas!B:D,3,0),0),\"\")","v":0},{"$f":"IF(A30<>\"\",IFERROR(VLOOKUP(AI30,Tabelas!B:D,3,0),0),\"\")","v":0},{"$f":"IF(A30<>\"\",IFERROR(VLOOKUP(AJ30,Tabelas!B:D,3,0),0),\"\")","v":0},{"$f":"IF(A30<>\"\",IFERROR(VLOOKUP(AK30,Tabelas!B:D,3,0),0),\"\")","v":0},{"$f":"IF(A30<>\"\",IFERROR(VLOOKUP(AL30,Tabelas!B:D,3,0),0),\"\")","v":0},{"$f":"IF(A30<>\"\",IFERROR(VLOOKUP(AM30,Tabelas!B:D,3,0),0),\"\")","v":0},{"$f":"IF(A30<>\"\",IFERROR(VLOOKUP(AN30,Tabelas!B:D,3,0),0),\"\")","v":0},{"$f":"IF(A30<>\"\",IFERROR(VLOOKUP(AO30,Tabelas!B:D,3,0),0),\"\")","v":0},{"$f":"IF(A30<>\"\",IFERROR(VLOOKUP(AP30,Tabelas!B:D,3,0),0),\"\")","v":0},{"$f":"IF(A30<>\"\",IFERROR(VLOOKUP(AQ30,Tabelas!B:D,3,0),0),\"\")","v":0},0,0,0,0,0,0,0,0]
["FULANO 23",23,null,null,null,null,null,null,null,null,null,null,null,null,null,null,null,null,null,null,null,null,null,null,null,null,null,null,null,null,null,null,null,null,null,null,null,null,null,null,null,null,null,{"$f":"IF(A31<>\"\",IFERROR(VLOOKUP(M31,Tabelas!B:D,3,0),0),\"\")","v":0},{"$f":"IF(A31<>\"\",IFERROR(VLOOKUP(N31,Tabelas!B:D,3,0),0),\"\")","v":0},{"$f":"IF(A31<>\"\",IFERROR(VLOOKUP(O31,Tabelas!B:D,3,0),0),\"\")","v":0},{"$f":"IF(A31<>\"\",IFERROR(VLOOKUP(P31,Tabelas!B:D,3,0),0),\"\")","v":0},{"$f":"IF(A31<>\"\",IFERROR(VLOOKUP(Q31,Tabelas!B:D,3,0),0),\"\")","v":0},{"$f":"IF(A31<>\"\",IFERROR(VLOOKUP(R31,Tabelas!B:D,3,0),0),\"\")","v":0},{"$f":"IF(A31<>\"\",IFERROR(VLOOKUP(S31,Tabelas!B:D,3,0),0),\"\")","v":0},{"$f":"IF(A31<>\"\",IFERROR(VLOOKUP(T31,Tabelas!B:D,3,0),0),\"\")","v":0},{"$f":"IF(A31<>\"\",IFERROR(VLOOKUP(U31,Tabelas!B:D,3,0),0),\"\")","v":0},{"$f":"IF(A31<>\"\",IFERROR(VLOOKUP(V31,Tabelas!B:D,3,0),0),\"\")","v":0},{"$f":"IF(A31<>\"\",IFERROR(VLOOKUP(W31,Tabelas!B:D,3,0),0),\"\")","v":0},{"$f":"IF(A31<>\"\",IFERROR(VLOOKUP(X31,Tabelas!B:D,3,0),0),\"\")","v":0},{"$f":"IF(A31<>\"\",IFERROR(VLOOKUP(Y31,Tabelas!B:D,3,0),0),\"\")","v":0},{"$f":"IF(A31<>\"\",IFERROR(VLOOKUP(Z31,Tabelas!B:D,3,0),0),\"\")","v":0},{"$f":"IF(A31<>\"\",IFERROR(VLOOKUP(AA31,Tabelas!B:D,3,0),0),\"\")","v":0},{"$f":"IF(A31<>\"\",IFERROR(VLOOKUP(AB31,Tabelas!B:D,3,0),0),\"\")","v":0},{"$f":"IF(A31<>\"\",IFERROR(VLOOKUP(AC31,Tabelas!B:D,3,0),0),\"\")","v":0},{"$f":"IF(A31<>\"\",IFERROR(VLOOKUP(AD31,Tabelas!B:D,3,0),0),\"\")","v":0},{"$f":"IF(A31<>\"\",IFERROR(VLOOKUP(AE31,Tabelas!B:D,3,0),0),\"\")","v":0},{"$f":"IF(A31<>\"\",IFERROR(VLOOKUP(AF31,Tabelas!B:D,3,0),0),\"\")","v":0},{"$f":"IF(A31<>\"\",IFERROR(VLOOKUP(AG31,Tabelas!B:D,3,0),0),\"\")","v":0},{"$f":"IF(A31<>\"\",IFERROR(VLOOKUP(AH31,Tabelas!B:D,3,0),0),\"\")","v":0},{"$f":"IF(A31<>\"\",IFERROR(VLOOKUP(AI31,Tabelas!B:D,3,0),0),\"\")","v":0},{"$f":"IF(A31<>\"\",IFERROR(VLOOKUP(AJ31,Tabelas!B:D,3,0),0),\"\")","v":0},{"$f":"IF(A31<>\"\",IFERROR(VLOOKUP(AK31,Tabelas!B:D,3,0),0),\"\")","v":0},{"$f":"IF(A31<>\"\",IFERROR(VLOOKUP(AL31,Tabelas!B:D,3,0),0),\"\")","v":0},{"$f":"IF(A31<>\"\",IFERROR(VLOOKUP(AM31,Tabelas!B:D,3,0),0),\"\")","v":0},{"$f":"IF(A31<>\"\",IFERROR(VLOOKUP(AN31,Tabelas!B:D,3,0),0),\"\")","v":0},{"$f":"IF(A31<>\"\",IFERROR(VLOOKUP(AO31,Tabelas!B:D,3,0),0),\"\")","v":0},{"$f":"IF(A31<>\"\",IFERROR(VLOOKUP(AP31,Tabelas!B:D,3,0),0),\"\")","v":0},{"$f":"IF(A31<>\"\",IFERROR(VLOOKUP(AQ31,Tabelas!B:D,3,0),0),\"\")","v":0},0,0,0,0,0,0,0,0]
["FULANO 24",24,null,null,null,null,null,null,null,null,null,null,null,null,null,null,null,null,null,null,null,null,null,null,null,null,null,null,null,null,null,null,null,null,null,null,null,null,null,null,null,null,null,{"$f":"IF(A32<>\"\",IFERROR(VLOOKUP(M32,Tabelas!B:D,3,0),0),\"\")","v":0},{"$f":"IF(A32<>\"\",IFERROR(VLOOKUP(N32,Tabelas!B:D,3,0),0),\"\")","v":0},{"$f":"IF(A32<>\"\",IFERROR(VLOOKUP(O32,Tabelas!B:D,3,0),0),\"\")","v":0},{"$f":"IF(A32<>\"\",IFERROR(VLOOKUP(P32,Tabelas!B:D,3,0),0),\"\")","v":0},{"$f":"IF(A32<>\"\",IFERROR(VLOOKUP(Q32,Tabelas!B:D,3,0),0),\"\")","v":0},{"$f":"IF(A32<>\"\",IFERROR(VLOOKUP(R32,Tabelas!B:D,3,0),0),\"\")","v":0},{"$f":"IF(A32<>\"\",IFERROR(VLOOKUP(S32,Tabelas!B:D,3,0),0),\"\")","v":0},{"$f":"IF(A32<>\"\",IFERROR(VLOOKUP(T32,Tabelas!B:D,3,0),0),\"\")","v":0},{"$f":"IF(A32<>\"\",IFERROR(VLOOKUP(U32,Tabelas!B:D,3,0),0),\"\")","v":0},{"$f":"IF(A32<>\"\",IFERROR(VLOOKUP(V32,Tabelas!B:D,3,0),0),\"\")","v":0},{"$f":"IF(A32<>\"\",IFERROR(VLOOKUP(W32,Tabelas!B:D,3,0),0),\"\")","v":0},{"$f":"IF(A32<>\"\",IFERROR(VLOOKUP(X32,Tabelas!B:D,3,0),0),\"\")","v":0},{"$f":"IF(A32<>\"\",IFERROR(VLOOKUP(Y32,Tabelas!B:D,3,0),0),\"\")","v":0},{"$f":"IF(A32<>\"\",IFERROR(VLOOKUP(Z32,Tabelas!B:D,3,0),0),\"\")","v":0},{"$f":"IF(A32<>\"\",IFERROR(VLOOKUP(AA32,Tabelas!B:D,3,0),0),\"\")","v":0},{"$f":"IF(A32<>\"\",IFERROR(VLOOKUP(AB32,Tabelas!B:D,3,0),0),\"\")","v":0},{"$f":"IF(A32<>\"\",IFERROR(VLOOKUP(AC32,Tabelas!B:D,3,0),0),\"\")","v":0},{"$f":"IF(A32<>\"\",IFERROR(VLOOKUP(AD32,Tabelas!B:D,3,0),0),\"\")","v":0},{"$f":"IF(A32<>\"\",IFERROR(VLOOKUP(AE32,Tabelas!B:D,3,0),0),\"\")","v":0},{"$f":"IF(A32<>\"\",IFERROR(VLOOKUP(AF32,Tabelas!B:D,3,0),0),\"\")","v":0},{"$f":"IF(A32<>\"\",IFERROR(VLOOKUP(AG32,Tabelas!B:D,3,0),0),\"\")","v":0},{"$f":"IF(A32<>\"\",IFERROR(VLOOKUP(AH32,Tabelas!B:D,3,0),0),\"\")","v":0},{"$f":"IF(A32<>\"\",IFERROR(VLOOKUP(AI32,Tabelas!B:D,3,0),0),\"\")","v":0},{"$f":"IF(A32<>\"\",IFERROR(VLOOKUP(AJ32,Tabelas!B:D,3,0),0),\"\")","v":0},{"$f":"IF(A32<>\"\",IFERROR(VLOOKUP(AK32,Tabelas!B:D,3,0),0),\"\")","v":0},{"$f":"IF(A32<>\"\",IFERROR(VLOOKUP(AL32,Tabelas!B:D,3,0),0),\"\")","v":0},{"$f":"IF(A32<>\"\",IFERROR(VLOOKUP(AM32,Tabelas!B:D,3,0),0),\"\")","v":0},{"$f":"IF(A32<>\"\",IFERROR(VLOOKUP(AN32,Tabelas!B:D,3,0),0),\"\")","v":0},{"$f":"IF(A32<>\"\",IFERROR(VLOOKUP(AO32,Tabelas!B:D,3,0),0),\"\")","v":0},{"$f":"IF(A32<>\"\",IFERROR(VLOOKUP(AP32,Tabelas!B:D,3,0),0),\"\")","v":0},{"$f":"IF(A32<>\"\",IFERROR(VLOOKUP(AQ32,Tabelas!B:D,3,0),0),\"\")","v":0},0,0,0,0,0,0,0,0]
["FULANO 25",25,null,null,null,null,null,null,null,null,null,null,null,null,null,null,null,null,null,null,null,null,null,null,null,null,null,null,null,null,null,null,null,null,null,null,null,null,null,null,null,null,null,{"$f":"IF(A33<>\"\",IFERROR(VLOOKUP(M33,Tabelas!B:D,3,0),0),\"\")","v":0},{"$f":"IF(A33<>\"\",IFERROR(VLOOKUP(N33,Tabelas!B:D,3,0),0),\"\")","v":0},{"$f":"IF(A33<>\"\",IFERROR(VLOOKUP(O33,Tabelas!B:D,3,0),0),\"\")","v":0},{"$f":"IF(A33<>\"\",IFERROR(VLOOKUP(P33,Tabelas!B:D,3,0),0),\"\")","v":0},{"$f":"IF(A33<>\"\",IFERROR(VLOOKUP(Q33,Tabelas!B:D,3,0),0),\"\")","v":0},{"$f":"IF(A33<>\"\",IFERROR(VLOOKUP(R33,Tabelas!B:D,3,0),0),\"\")","v":0},{"$f":"IF(A33<>\"\",IFERROR(VLOOKUP(S33,Tabelas!B:D,3,0),0),\"\")","v":0},{"$f":"IF(A33<>\"\",IFERROR(VLOOKUP(T33,Tabelas!B:D,3,0),0),\"\")","v":0},{"$f":"IF(A33<>\"\",IFERROR(VLOOKUP(U33,Tabelas!B:D,3,0),0),\"\")","v":0},{"$f":"IF(A33<>\"\",IFERROR(VLOOKUP(V33,Tabelas!B:D,3,0),0),\"\")","v":0},{"$f":"IF(A33<>\"\",IFERROR(VLOOKUP(W33,Tabelas!B:D,3,0),0),\"\")","v":0},{"$f":"IF(A33<>\"\",IFERROR(VLOOKUP(X33,Tabelas!B:D,3,0),0),\"\")","v":0},{"$f":"IF(A33<>\"\",IFERROR(VLOOKUP(Y33,Tabelas!B:D,3,0),0),\"\")","v":0},{"$f":"IF(A33<>\"\",IFERROR(VLOOKUP(Z33,Tabelas!B:D,3,0),0),\"\")","v":0},{"$f":"IF(A33<>\"\",IFERROR(VLOOKUP(AA33,Tabelas!B:D,3,0),0),\"\")","v":0},{"$f":"IF(A33<>\"\",IFERROR(VLOOKUP(AB33,Tabelas!B:D,3,0),0),\"\")","v":0},{"$f":"IF(A33<>\"\",IFERROR(VLOOKUP(AC33,Tabelas!B:D,3,0),0),\"\")","v":0},{"$f":"IF(A33<>\"\",IFERROR(VLOOKUP(AD33,Tabelas!B:D,3,0),0),\"\")","v":0},{"$f":"IF(A33<>\"\",IFERROR(VLOOKUP(AE33,Tabelas!B:D,3,0),0),\"\")","v":0},{"$f":"IF(A33<>\"\",IFERROR(VLOOKUP(AF33,Tabelas!B:D,3,0),0),\"\")","v":0},{"$f":"IF(A33<>\"\",IFERROR(VLOOKUP(AG33,Tabelas!B:D,3,0),0),\"\")","v":0},{"$f":"IF(A33<>\"\",IFERROR(VLOOKUP(AH33,Tabelas!B:D,3,0),0),\"\")","v":0},{"$f":"IF(A33<>\"\",IFERROR(VLOOKUP(AI33,Tabelas!B:D,3,0),0),\"\")","v":0},{"$f":"IF(A33<>\"\",IFERROR(VLOOKUP(AJ33,Tabelas!B:D,3,0),0),\"\")","v":0},{"$f":"IF(A33<>\"\",IFERROR(VLOOKUP(AK33,Tabelas!B:D,3,0),0),\"\")","v":0},{"$f":"IF(A33<>\"\",IFERROR(VLOOKUP(AL33,Tabelas!B:D,3,0),0),\"\")","v":0},{"$f":"IF(A33<>\"\",IFERROR(VLOOKUP(AM33,Tabelas!B:D,3,0),0),\"\")","v":0},{"$f":"IF(A33<>\"\",IFERROR(VLOOKUP(AN33,Tabelas!B:D,3,0),0),\"\")","v":0},{"$f":"IF(A33<>\"\",IFERROR(VLOOKUP(AO33,Tabelas!B:D,3,0),0),\"\")","v":0},{"$f":"IF(A33<>\"\",IFERROR(VLOOKUP(AP33,Tabelas!B:D,3,0),0),\"\")","v":0},{"$f":"IF(A33<>\"\",IFERROR(VLOOKUP(AQ33,Tabelas!B:D,3,0),0),\"\")","v":0},0,0,0,0,0,0,0,0]
["FULANO 26",26,null,null,null,null,null,null,null,null,null,null,null,null,null,null,null,null,null,null,null,null,null,null,null,null,null,null,null,null,null,null,null,null,null,null,null,null,null,null,null,null,null,{"$f":"IF(A34<>\"\",IFERROR(VLOOKUP(M34,Tabelas!B:D,3,0),0),\"\")","v":0},{"$f":"IF(A34<>\"\",IFERROR(VLOOKUP(N34,Tabelas!B:D,3,0),0),\"\")","v":0},{"$f":"IF(A34<>\"\",IFERROR(VLOOKUP(O34,Tabelas!B:D,3,0),0),\"\")","v":0},{"$f":"IF(A34<>\"\",IFERROR(VLOOKUP(P34,Tabelas!B:D,3,0),0),\"\")","v":0},{"$f":"IF(A34<>\"\",IFERROR(VLOOKUP(Q34,Tabelas!B:D,3,0),0),\"\")","v":0},{"$f":"IF(A34<>\"\",IFERROR(VLOOKUP(R34,Tabelas!B:D,3,0),0),\"\")","v":0},{"$f":"IF(A34<>\"\",IFERROR(VLOOKUP(S34,Tabelas!B:D,3,0),0),\"\")","v":0},{"$f":"IF(A34<>\"\",IFERROR(VLOOKUP(T34,Tabelas!B:D,3,0),0),\"\")","v":0},{"$f":"IF(A34<>\"\",IFERROR(VLOOKUP(U34,Tabelas!B:D,3,0),0),\"\")","v":0},{"$f":"IF(A34<>\"\",IFERROR(VLOOKUP(V34,Tabelas!B:D,3,0),0),\"\")","v":0},{"$f":"IF(A34<>\"\",IFERROR(VLOOKUP(W34,Tabelas!B:D,3,0),0),\"\")","v":0},{"$f":"IF(A34<>\"\",IFERROR(VLOOKUP(X34,Tabelas!B:D,3,0),0),\"\")","v":0},{"$f":"IF(A34<>\"\",IFERROR(VLOOKUP(Y34,Tabelas!B:D,3,0),0),\"\")","v":0},{"$f":"IF(A34<>\"\",IFERROR(VLOOKUP(Z34,Tabelas!B:D,3,0),0),\"\")","v":0},{"$f":"IF(A34<>\"\",IFERROR(VLOOKUP(AA34,Tabelas!B:D,3,0),0),\"\")","v":0},{"$f":"IF(A34<>\"\",IFERROR(VLOOKUP(AB34,Tabelas!B:D,3,0),0),\"\")","v":0},{"$f":"IF(A34<>\"\",IFERROR(VLOOKUP(AC34,Tabelas!B:D,3,0),0),\"\")","v":0},{"$f":"IF(A34<>\"\",IFERROR(VLOOKUP(AD34,Tabelas!B:D,3,0),0),\"\")","v":0},{"$f":"IF(A34<>\"\",IFERROR(VLOOKUP(AE34,Tabelas!B:D,3,0),0),\"\")","v":0},{"$f":"IF(A34<>\"\",IFERROR(VLOOKUP(AF34,Tabelas!B:D,3,0),0),\"\")","v":0},{"$f":"IF(A34<>\"\",IFERROR(VLOOKUP(AG34,Tabelas!B:D,3,0),0),\"\")","v":0},{"$f":"IF(A34<>\"\",IFERROR(VLOOKUP(AH34,Tabelas!B:D,3,0),0),\"\")","v":0},{"$f":"IF(A34<>\"\",IFERROR(VLOOKUP(AI34,Tabelas!B:D,3,0),0),\"\")","v":0},{"$f":"IF(A34<>\"\",IFERROR(VLOOKUP(AJ34,Tabelas!B:D,3,0),0),\"\")","v":0},{"$f":"IF(A34<>\"\",IFERROR(VLOOKUP(AK34,Tabelas!B:D,3,0),0),\"\")","v":0},{"$f":"IF(A34<>\"\",IFERROR(VLOOKUP(AL34,Tabelas!B:D,3,0),0),\"\")","v":0},{"$f":"IF(A34<>\"\",IFERROR(VLOOKUP(AM34,Tabelas!B:D,3,0),0),\"\")","v":0},{"$f":"IF(A34<>\"\",IFERROR(VLOOKUP(AN34,Tabelas!B:D,3,0),0),\"\")","v":0},{"$f":"IF(A34<>\"\",IFERROR(VLOOKUP(AO34,Tabelas!B:D,3,0),0),\"\")","v":0},{"$f":"IF(A34<>\"\",IFERROR(VLOOKUP(AP34,Tabelas!B:D,3,0),0),\"\")","v":0},{"$f":"IF(A34<>\"\",IFERROR(VLOOKUP(AQ34,Tabelas!B:D,3,0),0),\"\")","v":0},0,0,0,0,0,0,0,0]
["FULANO 27",27,null,null,null,null,null,null,null,null,null,null,null,null,null,null,null,null,null,null,null,null,null,null,null,null,null,null,null,null,null,null,null,null,null,null,null,null,null,null,null,null,null,{"$f":"IF(A35<>\"\",IFERROR(VLOOKUP(M35,Tabelas!B:D,3,0),0),\"\")","v":0},{"$f":"IF(A35<>\"\",IFERROR(VLOOKUP(N35,Tabelas!B:D,3,0),0),\"\")","v":0},{"$f":"IF(A35<>\"\",IFERROR(VLOOKUP(O35,Tabelas!B:D,3,0),0),\"\")","v":0},{"$f":"IF(A35<>\"\",IFERROR(VLOOKUP(P35,Tabelas!B:D,3,0),0),\"\")","v":0},{"$f":"IF(A35<>\"\",IFERROR(VLOOKUP(Q35,Tabelas!B:D,3,0),0),\"\")","v":0},{"$f":"IF(A35<>\"\",IFERROR(VLOOKUP(R35,Tabelas!B:D,3,0),0),\"\")","v":0},{"$f":"IF(A35<>\"\",IFERROR(VLOOKUP(S35,Tabelas!B:D,3,0),0),\"\")","v":0},{"$f":"IF(A35<>\"\",IFERROR(VLOOKUP(T35,Tabelas!B:D,3,0),0),\"\")","v":0},{"$f":"IF(A35<>\"\",IFERROR(VLOOKUP(U35,Tabelas!B:D,3,0),0),\"\")","v":0},{"$f":"IF(A35<>\"\",IFERROR(VLOOKUP(V35,Tabelas!B:D,3,0),0),\"\")","v":0},{"$f":"IF(A35<>\"\",IFERROR(VLOOKUP(W35,Tabelas!B:D,3,0),0),\"\")","v":0},{"$f":"IF(A35<>\"\",IFERROR(VLOOKUP(X35,Tabelas!B:D,3,0),0),\"\")","v":0},{"$f":"IF(A35<>\"\",IFERROR(VLOOKUP(Y35,Tabelas!B:D,3,0),0),\"\")","v":0},{"$f":"IF(A35<>\"\",IFERROR(VLOOKUP(Z35,Tabelas!B:D,3,0),0),\"\")","v":0},{"$f":"IF(A35<>\"\",IFERROR(VLOOKUP(AA35,Tabelas!B:D,3,0),0),\"\")","v":0},{"$f":"IF(A35<>\"\",IFERROR(VLOOKUP(AB35,Tabelas!B:D,3,0),0),\"\")","v":0},{"$f":"IF(A35<>\"\",IFERROR(VLOOKUP(AC35,Tabelas!B:D,3,0),0),\"\")","v":0},{"$f":"IF(A35<>\"\",IFERROR(VLOOKUP(AD35,Tabelas!B:D,3,0),0),\"\")","v":0},{"$f":"IF(A35<>\"\",IFERROR(VLOOKUP(AE35,Tabelas!B:D,3,0),0),\"\")","v":0},{"$f":"IF(A35<>\"\",IFERROR(VLOOKUP(AF35,Tabelas!B:D,3,0),0),\"\")","v":0},{"$f":"IF(A35<>\"\",IFERROR(VLOOKUP(AG35,Tabelas!B:D,3,0),0),\"\")","v":0},{"$f":"IF(A35<>\"\",IFERROR(VLOOKUP(AH35,Tabelas!B:D,3,0),0),\"\")","v":0},{"$f":"IF(A35<>\"\",IFERROR(VLOOKUP(AI35,Tabelas!B:D,3,0),0),\"\")","v":0},{"$f":"IF(A35<>\"\",IFERROR(VLOOKUP(AJ35,Tabelas!B:D,3,0),0),\"\")","v":0},{"$f":"IF(A35<>\"\",IFERROR(VLOOKUP(AK35,Tabelas!B:D,3,0),0),\"\")","v":0},{"$f":"IF(A35<>\"\",IFERROR(VLOOKUP(AL35,Tabelas!B:D,3,0),0),\"\")","v":0},{"$f":"IF(A35<>\"\",IFERROR(VLOOKUP(AM35,Tabelas!B:D,3,0),0),\"\")","v":0},{"$f":"IF(A35<>\"\",IFERROR(VLOOKUP(AN35,Tabelas!B:D,3,0),0),\"\")","v":0},{"$f":"IF(A35<>\"\",IFERROR(VLOOKUP(AO35,Tabelas!B:D,3,0),0),\"\")","v":0},{"$f":"IF(A35<>\"\",IFERROR(VLOOKUP(AP35,Tabelas!B:D,3,0),0),\"\")","v":0},{"$f":"IF(A35<>\"\",IFERROR(VLOOKUP(AQ35,Tabelas!B:D,3,0),0),\"\")","v":0},0,0,0,0,0,0,0,0]
["TOTAL PROFISSIONAIS MATUTINO",null,null,null,null,null,null,null,null,null,null,null,{"$f":"IF(COUNTIF(Abril!AP9:AP35,\"PR5\")+COUNTIF(Abril!AP9:AP35,\"PR6\")+COUNTIF(Abril!AP9:AP35,\"PR7\")+COUNTIF(Abril!AP9:AP35,\"PR8\")+COUNTIF(Abril!AP9:AP35,\"PR9\")+COUNTIF(M9:M35,\"M*\")+ COUNTIF(M9:M35, \"D*\")-COUNTIF(M9:M35,\"DSR\")+COUNTIF(M9:M35,\"PR1\")+COUNTIF(M9:M35,\"PR2\")+COUNTIF(M9:M35,\"PR3\")+COUNTIF(M9:M35,\"PR4\")<>0,COUNTIF(Abril!AP9:AP35,\"PR5\")+COUNTIF(Abril!AP9:AP35,\"PR6\")+COUNTIF(Abril!AP9:AP35,\"PR7\")+COUNTIF(Abril!AP9:AP35,\"PR8\")+COUNTIF(Abril!AP9:AP35,\"PR9\")+COUNTIF(M9:M35,\"M*\")+ COUNTIF(M9:M35, \"D*\")-COUNTIF(M9:M35,\"DSR\")+COUNTIF(M9:M35,\"PR1\")+COUNTIF(M9:M35,\"PR2\")+COUNTIF(M9:M35,\"PR3\")+COUNTIF(M9:M35,\"PR4\"),\"\")","v":""},{"$f":"IF(COUNTIF(N9:N35,\"M*\")+ COUNTIF(N9:N35, \"D*\")-COUNTIF(N9:N35,\"DSR\")+COUNTIF(M9:M35,\"PR5\")+COUNTIF(M9:M35,\"PR6\")+COUNTIF(M9:M35,\"PR7\")+COUNTIF(M9:M35,\"PR8\")+COUNTIF(M9:M35,\"PR9\")+COUNTIF(N9:N35,\"PR1\")+COUNTIF(N9:N35,\"PR2\")+COUNTIF(N9:N35,\"PR3\")+COUNTIF(N9:N35,\"PR4\")<>0,COUNTIF(N9:N35,\"M*\")+ COUNTIF(N9:N35, \"D*\")-COUNTIF(N9:N35,\"DSR\")+COUNTIF(M9:M35,\"PR5\")+COUNTIF(M9:M35,\"PR6\")+COUNTIF(M9:M35,\"PR7\")+COUNTIF(M9:M35,\"PR8\")+COUNTIF(M9:M35,\"PR9\")+COUNTIF(N9:N35,\"PR1\")+COUNTIF(N9:N35,\"PR2\")+COUNTIF(N9:N35,\"PR3\")+COUNTIF(N9:N35,\"PR4\"),\"\")","v":""},{"$f":"IF(COUNTIF(O9:O35,\"M*\")+ COUNTIF(O9:O35, \"D*\")-COUNTIF(O9:O35,\"DSR\")+COUNTIF(N9:N35,\"PR5\")+COUNTIF(N9:N35,\"PR6\")+COUNTIF(N9:N35,\"PR7\")+COUNTIF(N9:N35,\"PR8\")+COUNTIF(N9:N35,\"PR9\")+COUNTIF(O9:O35,\"PR1\")+COUNTIF(O9:O35,\"PR2\")+COUNTIF(O9:O35,\"PR3\")+COUNTIF(O9:O35,\"PR4\")<>0,COUNTIF(O9:O35,\"M*\")+ COUNTIF(O9:O35, \"D*\")-COUNTIF(O9:O35,\"DSR\")+COUNTIF(N9:N35,\"PR5\")+COUNTIF(N9:N35,\"PR6\")+COUNTIF(N9:N35,\"PR7\")+COUNTIF(N9:N35,\"PR8\")+COUNTIF(N9:N35,\"PR9\")+COUNTIF(O9:O35,\"PR1\")+COUNTIF(O9:O35,\"PR2\")+COUNTIF(O9:O35,\"PR3\")+COUNTIF(O9:O35,\"PR4\"),\"\")","v":""},"","","","","","","","","","","","","","","","","","","","","","","","","","","","",null,null,null,null,null,null,null,null,null,null,null,null,null,null,null,null,null,null,null,null,null,null,null,null,null,null,null,null,null,null,null,{"$f":"SUM(BW9:BW35)","v":0},{"$f":"SUM(BX9:BX35)","v":0},0,0,0,0,0,0]
["TOTAL DE PROFISSIONAIS VESPERTINO",null,null,null,null,null,null,null,null,null,null,null,{"$f":"IF(COUNTIF(Abril!AP9:AP35,\"PR5\")+COUNTIF(Abril!AP9:AP35,\"PR6\")+COUNTIF(Abril!AP9:AP35,\"PR7\")+COUNTIF(Abril!AP9:AP35,\"PR8\")+COUNTIF(Abril!AP9:AP35,\"PR9\")+COUNTIF(M9:M35,\"MT*\") + COUNTIF(M9:M35, \"D*\") + COUNTIF(M9:M35,\"T*\")-COUNTIF(M9:M35,\"DSR\")+COUNTIF(M9:M35,\"PR1\")+COUNTIF(M9:M35,\"PR2\")+COUNTIF(M9:M35,\"PR3\")+COUNTIF(M9:M35,\"PR4\")<>0,COUNTIF(Abril!AP9:AP35,\"PR5\")+COUNTIF(Abril!AP9:AP35,\"PR6\")+COUNTIF(Abril!AP9:AP35,\"PR7\")+COUNTIF(Abril!AP9:AP35,\"PR8\")+COUNTIF(Abril!AP9:AP35,\"PR9\")+COUNTIF(M9:M35,\"MT*\") + COUNTIF(M9:M35, \"D*\") + COUNTIF(M9:M35,\"T*\")+COUNTIF(M9:M35,\"PR1\")+COUNTIF(M9:M35,\"PR2\")+COUNTIF(M9:M35,\"PR3\")+COUNTIF(M9:M35,\"PR4\")-COUNTIF(M9:M35,\"DSR\"),\"\")","v":""},{"$f":"IF(COUNTIF(N9:N35,\"MT*\") + COUNTIF(N9:N35, \"D*\") + COUNTIF(N9:N35,\"T*\")-COUNTIF(N9:N35,\"DSR\")+COUNTIF(M9:M35,\"PR5\")+COUNTIF(M9:M35,\"PR6\")+COUNTIF(M9:M35,\"PR7\")+COUNTIF(M9:M35,\"PR8\")+COUNTIF(M9:M35,\"PR9\")+COUNTIF(N9:N35,\"PR1\")+COUNTIF(N9:N35,\"PR2\")+COUNTIF(N9:N35,\"PR3\")+COUNTIF(N9:N35,\"PR4\")<>0,COUNTIF(N9:N35,\"MT*\") + COUNTIF(N9:N35, \"D*\") + COUNTIF(N9:N35,\"T*\")+COUNTIF(M9:M35,\"PR5\")+COUNTIF(M9:M35,\"PR6\")+COUNTIF(M9:M35,\"PR7\")+COUNTIF(M9:M35,\"PR8\")+COUNTIF(M9:M35,\"PR9\")+COUNTIF(N9:N35,\"PR1\")+COUNTIF(N9:N35,\"PR2\")+COUNTIF(N9:N35,\"PR3\")+COUNTIF(N9:N35,\"PR4\")-COUNTIF(N9:N35,\"DSR\"),\"\")","v":""},{"$f":"IF(COUNTIF(O9:O35,\"MT*\") + COUNTIF(O9:O35, \"D*\") + COUNTIF(O9:O35,\"T*\")-COUNTIF(O9:O35,\"DSR\")+COUNTIF(N9:N35,\"PR5\")+COUNTIF(N9:N35,\"PR6\")+COUNTIF(N9:N35,\"PR7\")+COUNTIF(N9:N35,\"PR8\")+COUNTIF(N9:N35,\"PR9\")+COUNTIF(O9:O35,\"PR1\")+COUNTIF(O9:O35,\"PR2\")+COUNTIF(O9:O35,\"PR3\")+COUNTIF(O9:O35,\"PR4\")<>0,COUNTIF(O9:O35,\"MT*\") + COUNTIF(O9:O35, \"D*\") + COUNTIF(O9:O35,\"T*\")+COUNTIF(N9:N35,\"PR5\")+COUNTIF(N9:N35,\"PR6\")+COUNTIF(N9:N35,\"PR7\")+COUNTIF(N9:N35,\"PR8\")+COUNTIF(N9:N35,\"PR9\")+COUNTIF(O9:O35,\"PR1\")+COUNTIF(O9:O35,\"PR2\")+COUNTIF(O9:O35,\"PR3\")+COUNTIF(O9:O35,\"PR4\")-COUNTIF(O9:O35,\"DSR\"),\"\")","v":""},"","","","","","","","","","","","","","","","","","","","","","","","","","","","",{"$f":"IF(A37<>\"\",IFERROR(VLOOKUP(M37,Tabelas!B:D,3,0),0),\"\")","v":0},{"$f":"IF(A37<>\"\",IFERROR(VLOOKUP(N37,Tabelas!B:D,3,0),0),\"\")","v":0},{"$f":"IF(A37<>\"\",IFERROR(VLOOKUP(O37,Tabelas!B:D,3,0),0),\"\")","v":0},{"$f":"IF(A37<>\"\",IFERROR(VLOOKUP(P37,Tabelas!B:D,3,0),0),\"\")","v":0},{"$f":"IF(A37<>\"\",IFERROR(VLOOKUP(Q37,Tabelas!B:D,3,0),0),\"\")","v":0},{"$f":"IF(A37<>\"\",IFERROR(VLOOKUP(R37,Tabelas!B:D,3,0),0),\"\")","v":0},{"$f":"IF(A37<>\"\",IFERROR(VLOOKUP(S37,Tabelas!B:D,3,0),0),\"\")","v":0},{"$f":"IF(A37<>\"\",IFERROR(VLOOKUP(T37,Tabelas!B:D,3,0),0),\"\")","v":0},{"$f":"IF(A37<>\"\",IFERROR(VLOOKUP(U37,Tabelas!B:D,3,0),0),\"\")","v":0},{"$f":"IF(A37<>\"\",IFERROR(VLOOKUP(V37,Tabelas!B:D,3,0),0),\"\")","v":0},{"$f":"IF(A37<>\"\",IFERROR(VLOOKUP(W37,Tabelas!B:D,3,0),0),\"\")","v":0},{"$f":"IF(A37<>\"\",IFERROR(VLOOKUP(X37,Tabelas!B:D,3,0),0),\"\")","v":0},{"$f":"IF(A37<>\"\",IFERROR(VLOOKUP(Y37,Tabelas!B:D,3,0),0),\"\")","v":0},{"$f":"IF(A37<>\"\",IFERROR(VLOOKUP(Z37,Tabelas!B:D,3,0),0),\"\")","v":0},{"$f":"IF(A37<>\"\",IFERROR(VLOOKUP(AA37,Tabelas!B:D,3,0),0),\"\")","v":0},{"$f":"IF(A37<>\"\",IFERROR(VLOOKUP(AB37,Tabelas!B:D,3,0),0),\"\")","v":0},{"$f":"IF(A37<>\"\",IFERROR(VLOOKUP(AC37,Tabelas!B:D,3,0),0),\"\")","v":0},{"$f":"IF(A37<>\"\",IFERROR(VLOOKUP(AD37,Tabelas!B:D,3,0),0),\"\")","v":0},{"$f":"IF(A37<>\"\",IFERROR(VLOOKUP(AE37,Tabelas!B:D,3,0),0),\"\")","v":0},{"$f":"IF(A37<>\"\",IFERROR(VLOOKUP(AF37,Tabelas!B:D,3,0),0),\"\")","v":0},{"$f":"IF(A37<>\"\",IFERROR(VLOOKUP(AG37,Tabelas!B:D,3,0),0),\"\")","v":0},{"$f":"IF(A37<>\"\",IFERROR(VLOOKUP(AH37,Tabelas!B:D,3,0),0),\"\")","v":0},{"$f":"IF(A37<>\"\",IFERROR(VLOOKUP(AI37,Tabelas!B:D,3,0),0),\"\")","v":0},{"$f":"IF(A37<>\"\",IFERROR(VLOOKUP(AJ37,Tabelas!B:D,3,0),0),\"\")","v":0},{"$f":"IF(A37<>\"\",IFERROR(VLOOKUP(AK37,Tabelas!B:D,3,0),0),\"\")","v":0},{"$f":"IF(A37<>\"\",IFERROR(VLOOKUP(AL37,Tabelas!B:D,3,0),0),\"\")","v":0},{"$f":"IF(A37<>\"\",IFERROR(VLOOKUP(AM37,Tabelas!B:D,3,0),0),\"\")","v":0},{"$f":"IF(A37<>\"\",IFERROR(VLOOKUP(AN37,Tabelas!B:D,3,0),0),\"\")","v":0},{"$f":"IF(A37<>\"\",IFERROR(VLOOKUP(AO37,Tabelas!B:D,3,0),0),\"\")","v":0},{"$f":"IF(A37<>\"\",IFERROR(VLOOKUP(AP37,Tabelas!B:D,3,0),0),\"\")","v":0},{"$f":"IF(A37<>\"\",IFERROR(VLOOKUP(AQ37,Tabelas!B:D,3,0),0),\"\")","v":0}]
["TOTAL DE PROFISSIONAIS NOTURNO",null,null,null,null,null,null,null,null,null,null,null,{"$f":"IF(COUNTIF(M9:M37,\"N?*\") + COUNTIF(M9:M37, \"DN*\")+COUNTIF(M9:M35,\"PR*\")<>0,COUNTIF(M9:M37,\"N?*\") + COUNTIF(M9:M37, \"DN*\")+COUNTIF(M9:M35,\"PR*\"),\"\")","v":""},{"$f":"IF(COUNTIF(N9:N37,\"N?*\") + COUNTIF(N9:N37, \"DN*\")+COUNTIF(N9:N35,\"PR*\")<>0,COUNTIF(N9:N37,\"N?*\") + COUNTIF(N9:N37, \"DN*\")+COUNTIF(N9:N35,\"PR*\"),\"\")","v":""},"","","","","","","","","","","","","","","","","","","","","","","","","","","","","",{"$f":"IF(A38<>\"\",IFERROR(VLOOKUP(M38,Tabelas!B:D,3,0),0),\"\")","v":0},{"$f":"IF(A38<>\"\",IFERROR(VLOOKUP(N38,Tabelas!B:D,3,0),0),\"\")","v":0},{"$f":"IF(A38<>\"\",IFERROR(VLOOKUP(O38,Tabelas!B:D,3,0),0),\"\")","v":0},{"$f":"IF(A38<>\"\",IFERROR(VLOOKUP(P38,Tabelas!B:D,3,0),0),\"\")","v":0},{"$f":"IF(A38<>\"\",IFERROR(VLOOKUP(Q38,Tabelas!B:D,3,0),0),\"\")","v":0},{"$f":"IF(A38<>\"\",IFERROR(VLOOKUP(R38,Tabelas!B:D,3,0),0),\"\")","v":0},{"$f":"IF(A38<>\"\",IFERROR(VLOOKUP(S38,Tabelas!B:D,3,0),0),\"\")","v":0},{"$f":"IF(A38<>\"\",IFERROR(VLOOKUP(T38,Tabelas!B:D,3,0),0),\"\")","v":0},{"$f":"IF(A38<>\"\",IFERROR(VLOOKUP(U38,Tabelas!B:D,3,0),0),\"\")","v":0},{"$f":"IF(A38<>\"\",IFERROR(VLOOKUP(V38,Tabelas!B:D,3,0),0),\"\")","v":0},{"$f":"IF(A38<>\"\",IFERROR(VLOOKUP(W38,Tabelas!B:D,3,0),0),\"\")","v":0},{"$f":"IF(A38<>\"\",IFERROR(VLOOKUP(X38,Tabelas!B:D,3,0),0),\"\")","v":0},{"$f":"IF(A38<>\"\",IFERROR(VLOOKUP(Y38,Tabelas!B:D,3,0),0),\"\")","v":0},{"$f":"IF(A38<>\"\",IFERROR(VLOOKUP(Z38,Tabelas!B:D,3,0),0),\"\")","v":0},{"$f":"IF(A38<>\"\",IFERROR(VLOOKUP(AA38,Tabelas!B:D,3,0),0),\"\")","v":0},{"$f":"IF(A38<>\"\",IFERROR(VLOOKUP(AB38,Tabelas!B:D,3,0),0),\"\")","v":0},{"$f":"IF(A38<>\"\",IFERROR(VLOOKUP(AC38,Tabelas!B:D,3,0),0),\"\")","v":0},{"$f":"IF(A38<>\"\",IFERROR(VLOOKUP(AD38,Tabelas!B:D,3,0),0),\"\")","v":0},{"$f":"IF(A38<>\"\",IFERROR(VLOOKUP(AE38,Tabelas!B:D,3,0),0),\"\")","v":0},{"$f":"IF(A38<>\"\",IFERROR(VLOOKUP(AF38,Tabelas!B:D,3,0),0),\"\")","v":0},{"$f":"IF(A38<>\"\",IFERROR(VLOOKUP(AG38,Tabelas!B:D,3,0),0),\"\")","v":0},{"$f":"IF(A38<>\"\",IFERROR(VLOOKUP(AH38,Tabelas!B:D,3,0),0),\"\")","v":0},{"$f":"IF(A38<>\"\",IFERROR(VLOOKUP(AI38,Tabelas!B:D,3,0),0),\"\")","v":0},{"$f":"IF(A38<>\"\",IFERROR(VLOOKUP(AJ38,Tabelas!B:D,3,0),0),\"\")","v":0},{"$f":"IF(A38<>\"\",IFERROR(VLOOKUP(AK38,Tabelas!B:D,3,0),0),\"\")","v":0},{"$f":"IF(A38<>\"\",IFERROR(VLOOKUP(AL38,Tabelas!B:D,3,0),0),\"\")","v":0},{"$f":"IF(A38<>\"\",IFERROR(VLOOKUP(AM38,Tabelas!B:D,3,0),0),\"\")","v":0},{"$f":"IF(A38<>\"\",IFERROR(VLOOKUP(AN38,Tabelas!B:D,3,0),0),\"\")","v":0},{"$f":"IF(A38<>\"\",IFERROR(VLOOKUP(AO38,Tabelas!B:D,3,0),0),\"\")","v":0},{"$f":"IF(A38<>\"\",IFERROR(VLOOKUP(AP38,Tabelas!B:D,3,0),0),\"\")","v":0},{"$f":"IF(A38<>\"\",IFERROR(VLOOKUP(AQ38,Tabelas!B:D,3,0),0),\"\")","v":0}]
[null,null,null,null,null,null,null,null,null,null,null,null,null,null,null,null,null,null,null,null,null,null,null,null,null,null,null,null,null,null,null,null,null,null,null,null,null,null,null,null,null,null,null,{"$f":"IF(A39<>\"\",IFERROR(VLOOKUP(M39,Tabelas!B:D,3,0),0),\"\")","v":""},{"$f":"IF(A39<>\"\",IFERROR(VLOOKUP(N39,Tabelas!B:D,3,0),0),\"\")","v":""},{"$f":"IF(A39<>\"\",IFERROR(VLOOKUP(O39,Tabelas!B:D,3,0),0),\"\")","v":""},{"$f":"IF(A39<>\"\",IFERROR(VLOOKUP(P39,Tabelas!B:D,3,0),0),\"\")","v":""},{"$f":"IF(A39<>\"\",IFERROR(VLOOKUP(Q39,Tabelas!B:D,3,0),0),\"\")","v":""},{"$f":"IF(A39<>\"\",IFERROR(VLOOKUP(R39,Tabelas!B:D,3,0),0),\"\")","v":""},{"$f":"IF(A39<>\"\",IFERROR(VLOOKUP(S39,Tabelas!B:D,3,0),0),\"\")","v":""},{"$f":"IF(A39<>\"\",IFERROR(VLOOKUP(T39,Tabelas!B:D,3,0),0),\"\")","v":""},{"$f":"IF(A39<>\"\",IFERROR(VLOOKUP(U39,Tabelas!B:D,3,0),0),\"\")","v":""},{"$f":"IF(A39<>\"\",IFERROR(VLOOKUP(V39,Tabelas!B:D,3,0),0),\"\")","v":""},{"$f":"IF(A39<>\"\",IFERROR(VLOOKUP(W39,Tabelas!B:D,3,0),0),\"\")","v":""},{"$f":"IF(A39<>\"\",IFERROR(VLOOKUP(X39,Tabelas!B:D,3,0),0),\"\")","v":""},{"$f":"IF(A39<>\"\",IFERROR(VLOOKUP(Y39,Tabelas!B:D,3,0),0),\"\")","v":""},{"$f":"IF(A39<>\"\",IFERROR(VLOOKUP(Z39,Tabelas!B:D,3,0),0),\"\")","v":""},{"$f":"IF(A39<>\"\",IFERROR(VLOOKUP(AA39,Tabelas!B:D,3,0),0),\"\")","v":""},{"$f":"IF(A39<>\"\",IFERROR(VLOOKUP(AB39,Tabelas!B:D,3,0),0),\"\")","v":""},{"$f":"IF(A39<>\"\",IFERROR(VLOOKUP(AC39,Tabelas!B:D,3,0),0),\"\")","v":""},{"$f":"IF(A39<>\"\",IFERROR(VLOOKUP(AD39,Tabelas!B:D,3,0),0),\"\")","v":""},{"$f":"IF(A39<>\"\",IFERROR(VLOOKUP(AE39,Tabelas!B:D,3,0),0),\"\")","v":""},{"$f":"IF(A39<>\"\",IFERROR(VLOOKUP(AF39,Tabelas!B:D,3,0),0),\"\")","v":""},{"$f":"IF(A39<>\"\",IFERROR(VLOOKUP(AG39,Tabelas!B:D,3,0),0),\"\")","v":""},{"$f":"IF(A39<>\"\",IFERROR(VLOOKUP(AH39,Tabelas!B:D,3,0),0),\"\")","v":""},{"$f":"IF(A39<>\"\",IFERROR(VLOOKUP(AI39,Tabelas!B:D,3,0),0),\"\")","v":""},{"$f":"IF(A39<>\"\",IFERROR(VLOOKUP(AJ39,Tabelas!B:D,3,0),0),\"\")","v":""},{"$f":"IF(A39<>\"\",IFERROR(VLOOKUP(AK39,Tabelas!B:D,3,0),0),\"\")","v":""},{"$f":"IF(A39<>\"\",IFERROR(VLOOKUP(AL39,Tabelas!B:D,3,0),0),\"\")","v":""},{"$f":"IF(A39<>\"\",IFERROR(VLOOKUP(AM39,Tabelas!B:D,3,0),0),\"\")","v":""},{"$f":"IF(A39<>\"\",IFERROR(VLOOKUP(AN39,Tabelas!B:D,3,0),0),\"\")","v":""},{"$f":"IF(A39<>\"\",IFERROR(VLOOKUP(AO39,Tabelas!B:D,3,0),0),\"\")","v":""},{"$f":"IF(A39<>\"\",IFERROR(VLOOKUP(AP39,Tabelas!B:D,3,0),0),\"\")","v":""},{"$f":"IF(A39<>\"\",IFERROR(VLOOKUP(AQ39,Tabelas!B:D,3,0),0),\"\")","v":""}]
["Legenda:"]
["Licença Maternidade","LM","Férias",null,null,null,null,null,null,"FE",null,"Ponto Facultativo",null,null,null,null,null,null,null,"PF","Manhã *",null,null,null,null,null,null,"M","Diurno (8 hrs) *",null,null,null,null,null,null,"MT"]
["Licença Paternidade","LP","Feriado",null,null,null,null,null,null,"FD",null,"Abono **",null,null,null,null,null,null,null,"AB","Tarde *",null,null,null,null,null,null,"T","Dia/ noite (24 hrs) *",null,null,null,null,null,null,"DN"]
["Licença Médica/Odontológica","L","Descanso Semanal Remunerado",null,null,null,null,null,null,"DSR",null,"Compensação de Horas",null,null,null,null,null,null,null,"CH","Plantão Dia (12 hrs) *",null,null,null,null,null,null,"D"]
["Licença Capacitação","LC","Recesso",null,null,null,null,null,null,"RC",null,"Afastamento**",null,null,null,null,null,null,null,"AF","Plantão Noite (12 hrs) *",null,null,null,null,null,null,"N"]
[]
[]
[]
[]
[]
["OBSERVAÇÕES:"]
["* Para inserção das legendas referentes às jornadas de trabalho, verificar a Tabela 1 do Anexo 12629162 do Ofício-Circular - SEI nº 9/2021/SDR/CAP/DGP-EBSERH."]
["** Para inserção das legendas referentes aos Afastamentos previstos em lei e às Compensações de horas, verificar a Tabela 2 do Anexo 12629162 do Ofício-Circular - SEI nº 9/2021/SDR/CAP/DGP-EBSERH."]

{"sheet":"Junho","index":5,"n_rows":52,"n_cols":82,"rows_kept":52,"cut":false,"hidden":false,"merged":[[43,2,43,8],[43,9,43,10],[43,11,43,18],[43,20,43,26],[40,11,40,18],[40,20,40,26],[40,28,40,34],[41,28,41,34],[42,2,42,8],[42,9,42,10],[42,11,42,18],[42,20,42,26],[40,2,40,8],[40,9,40,10],[41,2,41,8],[41,9,41,10],[41,11,41,18],[41,20,41,26],[5,2,7,2],[5,3,7,3],[5,4,7,4],[6,81,7,81],[6,77,7,77],[6,78,7,78],[5,5,7,5],[5,75,5,81],[6,80,7,80],[36,0,36,11],[37,0,37,11],[35,78,37,78],[35,79,37,79],[35,80,37,80],[35,0,35,11],[35,74,37,74],[35,75,37,75],[35,76,37,76],[35,77,37,77],[5,0,7,0],[5,1,7,1],[35,81,37,81],[5,6,5,11],[5,12,5,42],[6,79,7,79],[6,11,7,11],[6,75,7,75],[6,76,7,76],[6,6,7,6],[6,7,7,7],[6,8,7,8],[6,9,7,9],[6,10,7,10],[5,43,5,73],[5,74,7,74],[1,0,1,42],[2,0,2,42],[3,0,3,42],[4,1,4,20],[4,23,4,34],[4,37,4,42]]}
[]
[]
["NOME DO HU"]
["ESCALA MENSAL DE TRABALHO"]
["DIVISÃO /SETOR/UNIDADE:",null,null,null,null,null,null,null,null,null,null,null,null,null,null,null,null,null,null,null,null,"MÊS:",null,"Junho",null,null,null,null,null,null,null,null,null,null,null,"ANO:",null,2023]
["NOME COMPLETO","SIAPE","     Registro Conselho Classe","Cargo","Vínculo","    C.H Sem","INTERVALO",null,null,null,null,null,"DIAS DO MÊS",null,null,null,null,null,null,null,null,null,null,null,null,null,null,null,null,null,null,null,null,null,null,null,null,null,null,null,null,null,null,"CÁLCULO DAS HORAS",null,null,null,null,null,null,null,null,null,null,null,null,null,null,null,null,null,null,null,null,null,null,null,null,null,null,null,null,null,null,"CH Men.","Dias"]
[null,null,null,null,null,null,"15' M","15' T","15' N","1H D","1H N","2H",1,2,3,4,5,6,7,8,9,10,11,12,13,14,15,16,17,18,19,20,21,22,23,24,25,{"$f":"IF(DAY(DATE(AL5,VLOOKUP(X5,Tabelas!M:N,2,0)+1,1)-1)>=26,26,\"\")","v":26},{"$f":"IF(DAY(DATE(AL5,VLOOKUP(X5,Tabelas!M:N,2,0)+1,1)-1)>=27,27,\"\")","v":27},{"$f":"IF(DAY(DATE(AL5,VLOOKUP(X5,Tabelas!M:N,2,0)+1,1)-1)>=28,28,\"\")","v":28},{"$f":"IF(DAY(DATE(AL5,VLOOKUP(X5,Tabelas!M:N,2,0)+1,1)-1)>=29,29,\"\")","v":29},{"$f":"IF(DAY(DATE(AL5,VLOOKUP(X5,Tabelas!M:N,2,0)+1,1)-1)>=30,30,\"\")","v":30},{"$f":"IF(DAY(DATE(AL5,VLOOKUP(X5,Tabelas!M:N,2,0)+1,1)-1)>=31,31,\"\")","v":""},null,null,null,null,null,null,null,null,null,null,null,null,null,null,null,null,null,null,null,null,null,null,null,null,null,null,null,null,null,null,null,null,"LM/LP/L","AB","FE","LC","CH","AF  "," Total Afast."]
[null,null,null,null,null,null,null,null,null,null,null,null,{"$f":"IF(M7<>\"\",IFERROR(VLOOKUP(WEEKDAY(CONCATENATE(M7,$X$5,$AL$5)),Tabelas!$I:$J,2,0),\"\"),\"\")","v":"QUI"},{"$f":"IF(N7<>\"\",IFERROR(VLOOKUP(WEEKDAY(CONCATENATE(N7,$X$5,$AL$5)),Tabelas!$I:$J,2,0),\"\"),\"\")","v":"SEX"},{"$f":"IF(O7<>\"\",IFERROR(VLOOKUP(WEEKDAY(CONCATENATE(O7,$X$5,$AL$5)),Tabelas!$I:$J,2,0),\"\"),\"\")","v":"SAB"},{"$f":"IF(P7<>\"\",IFERROR(VLOOKUP(WEEKDAY(CONCATENATE(P7,$X$5,$AL$5)),Tabelas!$I:$J,2,0),\"\"),\"\")","v":"DOM"},{"$f":"IF(Q7<>\"\",IFERROR(VLOOKUP(WEEKDAY(CONCATENATE(Q7,$X$5,$AL$5)),Tabelas!$I:$J,2,0),\"\"),\"\")","v":"SEG"},{"$f":"IF(R7<>\"\",IFERROR(VLOOKUP(WEEKDAY(CONCATENATE(R7,$X$5,$AL$5)),Tabelas!$I:$J,2,0),\"\"),\"\")","v":"TER"},{"$f":"IF(S7<>\"\",IFERROR(VLOOKUP(WEEKDAY(CONCATENATE(S7,$X$5,$AL$5)),Tabelas!$I:$J,2,0),\"\"),\"\")","v":"QUA"},{"$f":"IF(T7<>\"\",IFERROR(VLOOKUP(WEEKDAY(CONCATENATE(T7,$X$5,$AL$5)),Tabelas!$I:$J,2,0),\"\"),\"\")","v":"QUI"},{"$f":"IF(U7<>\"\",IFERROR(VLOOKUP(WEEKDAY(CONCATENATE(U7,$X$5,$AL$5)),Tabelas!$I:$J,2,0),\"\"),\"\")","v":"SEX"},{"$f":"IF(V7<>\"\",IFERROR(VLOOKUP(WEEKDAY(CONCATENATE(V7,$X$5,$AL$5)),Tabelas!$I:$J,2,0),\"\"),\"\")","v":"SAB"},{"$f":"IF(W7<>\"\",IFERROR(VLOOKUP(WEEKDAY(CONCATENATE(W7,$X$5,$AL$5)),Tabelas!$I:$J,2,0),\"\"),\"\")","v":"DOM"},{"$f":"IF(X7<>\"\",IFERROR(VLOOKUP(WEEKDAY(CONCATENATE(X7,$X$5,$AL$5)),Tabelas!$I:$J,2,0),\"\"),\"\")","v":"SEG"},{"$f":"IF(Y7<>\"\",IFERROR(VLOOKUP(WEEKDAY(CONCATENATE(Y7,$X$5,$AL$5)),Tabelas!$I:$J,2,0),\"\"),\"\")","v":"TER"},{"$f":"IF(Z7<>\"\",IFERROR(VLOOKUP(WEEKDAY(CONCATENATE(Z7,$X$5,$AL$5)),Tabelas!$I:$J,2,0),\"\"),\"\")","v":"QUA"},{"$f":"IF(AA7<>\"\",IFERROR(VLOOKUP(WEEKDAY(CONCATENATE(AA7,$X$5,$AL$5)),Tabelas!$I:$J,2,0),\"\"),\"\")","v":"QUI"},{"$f":"IF(AB7<>\"\",IFERROR(VLOOKUP(WEEKDAY(CONCATENATE(AB7,$X$5,$AL$5)),Tabelas!$I:$J,2,0),\"\"),\"\")","v":"SEX"},{"$f":"IF(AC7<>\"\",IFERROR(VLOOKUP(WEEKDAY(CONCATENATE(AC7,$X$5,$AL$5)),Tabelas!$I:$J,2,0),\"\"),\"\")","v":"SAB"},{"$f":"IF(AD7<>\"\",IFERROR(VLOOKUP(WEEKDAY(CONCATENATE(AD7,$X$5,$AL$5)),Tabelas!$I:$J,2,0),\"\"),\"\")","v":"DOM"},{"$f":"IF(AE7<>\"\",IFERROR(VLOOKUP(WEEKDAY(CONCATENATE(AE7,$X$5,$AL$5)),Tabelas!$I:$J,2,0),\"\"),\"\")","v":"SEG"},{"$f":"IF(AF7<>\"\",IFERROR(VLOOKUP(WEEKDAY(CONCATENATE(AF7,$X$5,$AL$5)),Tabelas!$I:$J,2,0),\"\"),\"\")","v":"TER"},{"$f":"IF(AG7<>\"\",IFERROR(VLOOKUP(WEEKDAY(CONCATENATE(AG7,$X$5,$AL$5)),Tabelas!$I:$J,2,0),\"\"),\"\")","v":"QUA"},{"$f":"IF(AH7<>\"\",IFERROR(VLOOKUP(WEEKDAY(CONCATENATE(AH7,$X$5,$AL$5)),Tabelas!$I:$J,2,0),\"\"),\"\")","v":"QUI"},{"$f":"IF(AI7<>\"\",IFERROR(VLOOKUP(WEEKDAY(CONCATENATE(AI7,$X$5,$AL$5)),Tabelas!$I:$J,2,0),\"\"),\"\")","v":"SEX"},{"$f":"IF(AJ7<>\"\",IFERROR(VLOOKUP(WEEKDAY(CONCATENATE(AJ7,$X$5,$AL$5)),Tabelas!$I:$J,2,0),\"\"),\"\")","v":"SAB"},{"$f":"IF(AK7<>\"\",IFERROR(VLOOKUP(WEEKDAY(CONCATENATE(AK7,$X$5,$AL$5)),Tabelas!$I:$J,2,0),\"\"),\"\")","v":"DOM"},{"$f":"IF(AL7<>\"\",IFERROR(VLOOKUP(WEEKDAY(CONCATENATE(AL7,$X$5,$AL$5)),Tabelas!$I:$J,2,0),\"\"),\"\")","v":"SEG"},{"$f":"IF(AM7<>\"\",IFERROR(VLOOKUP(WEEKDAY(CONCATENATE(AM7,$X$5,$AL$5)),Tabelas!$I:$J,2,0),\"\"),\"\")","v":"TER"},{"$f":"IF(AN7<>\"\",IFERROR(VLOOKUP(WEEKDAY(CONCATENATE(AN7,$X$5,$AL$5)),Tabelas!$I:$J,2,0),\"\"),\"\")","v":"QUA"},{"$f":"IF(AO7<>\"\",IFERROR(VLOOKUP(WEEKDAY(CONCATENATE(AO7,$X$5,$AL$5)),Tabelas!$I:$J,2,0),\"\"),\"\")","v":"QUI"},{"$f":"IF(AP7<>\"\",IFERROR(VLOOKUP(WEEKDAY(CONCATENATE(AP7,$X$5,$AL$5)),Tabelas!$I:$J,2,0),\"\"),\"\")","v":"SEX"},{"$f":"IF(AQ7<>\"\",IFERROR(VLOOKUP(WEEKDAY(CONCATENATE(AQ7,$X$5,$AL$5)),Tabelas!$I:$J,2,0),\"\"),\"\")","v":""},1,2,3,4,5,6,7,8,9,10,11,12,13,14,15,16,17,18,19,20,21,22,23,24,25,26,27,28,29,30,31]
["FULANO 1",1,null,null,null,null,null,null,null,null,null,null,null,null,null,null,null,null,null,null,null,null,null,null,null,null,null,null,null,null,null,null,null,null,null,null,null,null,null,null,null,null,null,{"$f":"IF(A9<>\"\",IFERROR(VLOOKUP(M9,Tabelas!B:D,3,0),0),\"\")","v":0},{"$f":"IF(A9<>\"\",IFERROR(VLOOKUP(N9,Tabelas!B:D,3,0),0),\"\")","v":0},{"$f":"IF(A9<>\"\",IFERROR(VLOOKUP(O9,Tabelas!B:D,3,0),0),\"\")","v":0},{"$f":"IF(A9<>\"\",IFERROR(VLOOKUP(P9,Tabelas!B:D,3,0),0),\"\")","v":0},{"$f":"IF(A9<>\"\",IFERROR(VLOOKUP(Q9,Tabelas!B:D,3,0),0),\"\")","v":0},{"$f":"IF(A9<>\"\",IFERROR(VLOOKUP(R9,Tabelas!B:D,3,0),0),\"\")","v":0},{"$f":"IF(A9<>\"\",IFERROR(VLOOKUP(S9,Tabelas!B:D,3,0),0),\"\")","v":0},{"$f":"IF(A9<>\"\",IFERROR(VLOOKUP(T9,Tabelas!B:D,3,0),0),\"\")","v":0},{"$f":"IF(A9<>\"\",IFERROR(VLOOKUP(U9,Tabelas!B:D,3,0),0),\"\")","v":0},{"$f":"IF(A9<>\"\",IFERROR(VLOOKUP(V9,Tabelas!B:D,3,0),0),\"\")","v":0},{"$f":"IF(A9<>\"\",IFERROR(VLOOKUP(W9,Tabelas!B:D,3,0),0),\"\")","v":0},{"$f":"IF(A9<>\"\",IFERROR(VLOOKUP(X9,Tabelas!B:D,3,0),0),\"\")","v":0},{"$f":"IF(A9<>\"\",IFERROR(VLOOKUP(Y9,Tabelas!B:D,3,0),0),\"\")","v":0},{"$f":"IF(A9<>\"\",IFERROR(VLOOKUP(Z9,Tabelas!B:D,3,0),0),\"\")","v":0},{"$f":"IF(A9<>\"\",IFERROR(VLOOKUP(AA9,Tabelas!B:D,3,0),0),\"\")","v":0},{"$f":"IF(A9<>\"\",IFERROR(VLOOKUP(AB9,Tabelas!B:D,3,0),0),\"\")","v":0},{"$f":"IF(A9<>\"\",IFERROR(VLOOKUP(AC9,Tabelas!B:D,3,0),0),\"\")","v":0},{"$f":"IF(A9<>\"\",IFERROR(VLOOKUP(AD9,Tabelas!B:D,3,0),0),\"\")","v":0},{"$f":"IF(A9<>\"\",IFERROR(VLOOKUP(AE9,Tabelas!B:D,3,0),0),\"\")","v":0},{"$f":"IF(A9<>\"\",IFERROR(VLOOKUP(AF9,Tabelas!B:D,3,0),0),\"\")","v":0},{"$f":"IF(A9<>\"\",IFERROR(VLOOKUP(AG9,Tabelas!B:D,3,0),0),\"\")","v":0},{"$f":"IF(A9<>\"\",IFERROR(VLOOKUP(AH9,Tabelas!B:D,3,0),0),\"\")","v":0},{"$f":"IF(A9<>\"\",IFERROR(VLOOKUP(AI9,Tabelas!B:D,3,0),0),\"\")","v":0},{"$f":"IF(A9<>\"\",IFERROR(VLOOKUP(AJ9,Tabelas!B:D,3,0),0),\"\")","v":0},{"$f":"IF(A9<>\"\",IFERROR(VLOOKUP(AK9,Tabelas!B:D,3,0),0),\"\")","v":0},{"$f":"IF(A9<>\"\",IFERROR(VLOOKUP(AL9,Tabelas!B:D,3,0),0),\"\")","v":0},{"$f":"IF(A9<>\"\",IFERROR(VLOOKUP(AM9,Tabelas!B:D,3,0),0),\"\")","v":0},{"$f":"IF(A9<>\"\",IFERROR(VLOOKUP(AN9,Tabelas!B:D,3,0),0),\"\")","v":0},{"$f":"IF(A9<>\"\",IFERROR(VLOOKUP(AO9,Tabelas!B:D,3,0),0),\"\")","v":0},{"$f":"IF(A9<>\"\",IFERROR(VLOOKUP(AP9,Tabelas!B:D,3,0),0),\"\")","v":0},{"$f":"IF(A9<>\"\",IFERROR(VLOOKUP(AQ9,Tabelas!B:D,3,0),0),\"\")","v":0},{"$f":"IF(AND(A9<>\"\",E9=\"Ebserh\"),SUM(AR9:BV9)+COUNTIF(M9:AQ9,\"N*\")+COUNTIF(M9:AQ9,\"DN*\"),IF(AND(A9<>\"\",E9<>\"Ebserh\"),SUM(AR9:BV9),\"\"))","v":0},{"$f":"IF(A9<>\"\",COUNTIF(M9:AQ9,\"LM\")+COUNTIF(M9:AQ9,\"L*\")+COUNTIF(M9:AQ9,\"LP\"),\"\")","v":0},{"$f":"IF(A9<>\"\",COUNTIF(M9:AQ9,\"AB*\"),\"\")","v":0},{"$f":"IF(A9<>\"\",COUNTIF(M9:AQ9,\"FE\"),\"\")","v":0},{"$f":"IF(A9<>\"\",COUNTIF(M9:AQ9,\"LC\"),\"\")","v":0},{"$f":"IF(A9<>\"\",COUNTIF(M9:AQ9,\"CH*\"),\"\")","v":0},{"$f":"IF(A9<>\"\",COUNTIF(M9:AQ9,\"AF1\")+COUNTIF(M9:AQ9,\"AF2\")+COUNTIF(M9:AQ9,\"AF3\")+COUNTIF(M9:AQ9,\"AF4\")+COUNTIF(M9:AQ9,\"AF5\")+COUNTIF(M9:AQ9,\"AF6\")+COUNTIF(M9:AQ9,\"AF7\")+COUNTIF(M9:AQ9,\"AF8\")+COUNTIF(M9:AQ9,\"AF9\")+COUNTIF(M9:AQ9,\"AF10\")+COUNTIF(M9:AQ9,\"AF11\")+COUNTIF(M9:AQ9,\"AF12\")+COUNTIF(M9:AQ9,\"AF13\")+COUNTIF(M9:AQ9,\"AF14\"),\"\")","v":0},{"$f":"IF(A9<>\"\",COUNTIF(M9:AQ9,\"CH*\")+COUNTIF(M9:AQ9,\"L*\")+COUNTIF(M9:AQ9,\"LM\")+COUNTIF(M9:AQ9,\"LP\")+COUNTIF(M9:AQ9,\"LC\")+COUNTIF(M9:AQ9,\"AB*\")+COUNTIF(M9:AQ9,\"AF1\")+COUNTIF(M9:AQ9,\"AF2\")+COUNTIF(M9:AQ9,\"AF3\")+COUNTIF(M9:AQ9,\"AF4\")+COUNTIF(M9:AQ9,\"AF5\")+COUNTIF(M9:AQ9,\"AF6\")+COUNTIF(M9:AQ9,\"AF7\")+COUNTIF(M9:AQ9,\"AF8\")+COUNTIF(M9:AQ9,\"AF9\")+COUNTIF(M9:AQ9,\"AF10\")+COUNTIF(M9:AQ9,\"AF11\")+COUNTIF(M9:AQ9,\"AF12\")+COUNTIF(M9:AQ9,\"AF13\")+COUNTIF(M9:AQ9,\"AF14\")+COUNTIF(M9:AQ9,\"RC\")+COUNTIF(M9:AQ9,\"FO\")+COUNTIF(M9:AQ9,\"FE\"),\"\")","v":0}]
["FULANO 2",2,null,null,null,null,null,null,null,null,null,null,null,null,null,null,null,null,null,null,null,null,null,null,null,null,null,null,null,null,null,null,null,null,null,null,null,null,null,null,null,null,null,{"$f":"IF(A10<>\"\",IFERROR(VLOOKUP(M10,Tabelas!B:D,3,0),0),\"\")","v":0},{"$f":"IF(A10<>\"\",IFERROR(VLOOKUP(N10,Tabelas!B:D,3,0),0),\"\")","v":0},{"$f":"IF(A10<>\"\",IFERROR(VLOOKUP(O10,Tabelas!B:D,3,0),0),\"\")","v":0},{"$f":"IF(A10<>\"\",IFERROR(VLOOKUP(P10,Tabelas!B:D,3,0),0),\"\")","v":0},{"$f":"IF(A10<>\"\",IFERROR(VLOOKUP(Q10,Tabelas!B:D,3,0),0),\"\")","v":0},{"$f":"IF(A10<>\"\",IFERROR(VLOOKUP(R10,Tabelas!B:D,3,0),0),\"\")","v":0},{"$f":"IF(A10<>\"\",IFERROR(VLOOKUP(S10,Tabelas!B:D,3,0),0),\"\")","v":0},{"$f":"IF(A10<>\"\",IFERROR(VLOOKUP(T10,Tabelas!B:D,3,0),0),\"\")","v":0},{"$f":"IF(A10<>\"\",IFERROR(VLOOKUP(U10,Tabelas!B:D,3,0),0),\"\")","v":0},{"$f":"IF(A10<>\"\",IFERROR(VLOOKUP(V10,Tabelas!B:D,3,0),0),\"\")","v":0},{"$f":"IF(A10<>\"\",IFERROR(VLOOKUP(W10,Tabelas!B:D,3,0),0),\"\")","v":0},{"$f":"IF(A10<>\"\",IFERROR(VLOOKUP(X10,Tabelas!B:D,3,0),0),\"\")","v":0},{"$f":"IF(A10<>\"\",IFERROR(VLOOKUP(Y10,Tabelas!B:D,3,0),0),\"\")","v":0},{"$f":"IF(A10<>\"\",IFERROR(VLOOKUP(Z10,Tabelas!B:D,3,0),0),\"\")","v":0},{"$f":"IF(A10<>\"\",IFERROR(VLOOKUP(AA10,Tabelas!B:D,3,0),0),\"\")","v":0},{"$f":"IF(A10<>\"\",IFERROR(VLOOKUP(AB10,Tabelas!B:D,3,0),0),\"\")","v":0},{"$f":"IF(A10<>\"\",IFERROR(VLOOKUP(AC10,Tabelas!B:D,3,0),0),\"\")","v":0},{"$f":"IF(A10<>\"\",IFERROR(VLOOKUP(AD10,Tabelas!B:D,3,0),0),\"\")","v":0},{"$f":"IF(A10<>\"\",IFERROR(VLOOKUP(AE10,Tabelas!B:D,3,0),0),\"\")","v":0},{"$f":"IF(A10<>\"\",IFERROR(VLOOKUP(AF10,Tabelas!B:D,3,0),0),\"\")","v":0},{"$f":"IF(A10<>\"\",IFERROR(VLOOKUP(AG10,Tabelas!B:D,3,0),0),\"\")","v":0},{"$f":"IF(A10<>\"\",IFERROR(VLOOKUP(AH10,Tabelas!B:D,3,0),0),\"\")","v":0},{"$f":"IF(A10<>\"\",IFERROR(VLOOKUP(AI10,Tabelas!B:D,3,0),0),\"\")","v":0},{"$f":"IF(A10<>\"\",IFERROR(VLOOKUP(AJ10,Tabelas!B:D,3,0),0),\"\")","v":0},{"$f":"IF(A10<>\"\",IFERROR(VLOOKUP(AK10,Tabelas!B:D,3,0),0),\"\")","v":0},{"$f":"IF(A10<>\"\",IFERROR(VLOOKUP(AL10,Tabelas!B:D,3,0),0),\"\")","v":0},{"$f":"IF(A10<>\"\",IFERROR(VLOOKUP(AM10,Tabelas!B:D,3,0),0),\"\")","v":0},{"$f":"IF(A10<>\"\",IFERROR(VLOOKUP(AN10,Tabelas!B:D,3,0),0),\"\")","v":0},{"$f":"IF(A10<>\"\",IFERROR(VLOOKUP(AO10,Tabelas!B:D,3,0),0),\"\")","v":0},{"$f":"IF(A10<>\"\",IFERROR(VLOOKUP(AP10,Tabelas!B:D,3,0),0),\"\")","v":0},{"$f":"IF(A10<>\"\",IFERROR(VLOOKUP(AQ10,Tabelas!B:D,3,0),0),\"\")","v":0},{"$f":"IF(AND(A10<>\"\",E10=\"Ebserh\"),SUM(AR10:BV10)+COUNTIF(M10:AQ10,\"N*\")+COUNTIF(M10:AQ10,\"DN*\"),IF(AND(A10<>\"\",E10<>\"Ebserh\"),SUM(AR10:BV10),\"\"))","v":0},{"$f":"IF(A10<>\"\",COUNTIF(M10:AQ10,\"LM\")+COUNTIF(M10:AQ10,\"L*\")+COUNTIF(M10:AQ10,\"LP\"),\"\")","v":0},{"$f":"IF(A10<>\"\",COUNTIF(M10:AQ10,\"AB*\"),\"\")","v":0},{"$f":"IF(A10<>\"\",COUNTIF(M10:AQ10,\"FE\"),\"\")","v":0},{"$f":"IF(A10<>\"\",COUNTIF(M10:AQ10,\"LC\"),\"\")","v":0},{"$f":"IF(A10<>\"\",COUNTIF(M10:AQ10,\"CH*\"),\"\")","v":0},{"$f":"IF(A10<>\"\",COUNTIF(M10:AQ10,\"AF1\")+COUNTIF(M10:AQ10,\"AF2\")+COUNTIF(M10:AQ10,\"AF3\")+COUNTIF(M10:AQ10,\"AF4\")+COUNTIF(M10:AQ10,\"AF5\")+COUNTIF(M10:AQ10,\"AF6\")+COUNTIF(M10:AQ10,\"AF7\")+COUNTIF(M10:AQ10,\"AF8\")+COUNTIF(M10:AQ10,\"AF9\")+COUNTIF(M10:AQ10,\"AF10\")+COUNTIF(M10:AQ10,\"AF11\")+COUNTIF(M10:AQ10,\"AF12\")+COUNTIF(M10:AQ10,\"AF13\")+COUNTIF(M10:AQ10,\"AF14\"),\"\")","v":0},{"$f":"IF(A10<>\"\",COUNTIF(M10:AQ10,\"CH*\")+COUNTIF(M10:AQ10,\"L*\")+COUNTIF(M10:AQ10,\"LM\")+COUNTIF(M10:AQ10,\"LP\")+COUNTIF(M10:AQ10,\"LC\")+COUNTIF(M10:AQ10,\"AB*\")+COUNTIF(M10:AQ10,\"AF1\")+COUNTIF(M10:AQ10,\"AF2\")+COUNTIF(M10:AQ10,\"AF3\")+COUNTIF(M10:AQ10,\"AF4\")+COUNTIF(M10:AQ10,\"AF5\")+COUNTIF(M10:AQ10,\"AF6\")+COUNTIF(M10:AQ10,\"AF7\")+COUNTIF(M10:AQ10,\"AF8\")+COUNTIF(M10:AQ10,\"AF9\")+COUNTIF(M10:AQ10,\"AF10\")+COUNTIF(M10:AQ10,\"AF11\")+COUNTIF(M10:AQ10,\"AF12\")+COUNTIF(M10:AQ10,\"AF13\")+COUNTIF(M10:AQ10,\"AF14\")+COUNTIF(M10:AQ10,\"RC\")+COUNTIF(M10:AQ10,\"FO\")+COUNTIF(M10:AQ10,\"FE\"),\"\")","v":0}]
["FULANO 3",3,null,null,null,null,null,null,null,null,null,null,null,null,null,null,null,null,null,null,null,null,null,null,null,null,null,null,null,null,null,null,null,null,null,null,null,null,null,null,null,null,null,{"$f":"IF(A11<>\"\",IFERROR(VLOOKUP(M11,Tabelas!B:D,3,0),0),\"\")","v":0},{"$f":"IF(A11<>\"\",IFERROR(VLOOKUP(N11,Tabelas!B:D,3,0),0),\"\")","v":0},{"$f":"IF(A11<>\"\",IFERROR(VLOOKUP(O11,Tabelas!B:D,3,0),0),\"\")","v":0},{"$f":"IF(A11<>\"\",IFERROR(VLOOKUP(P11,Tabelas!B:D,3,0),0),\"\")","v":0},{"$f":"IF(A11<>\"\",IFERROR(VLOOKUP(Q11,Tabelas!B:D,3,0),0),\"\")","v":0},{"$f":"IF(A11<>\"\",IFERROR(VLOOKUP(R11,Tabelas!B:D,3,0),0),\"\")","v":0},{"$f":"IF(A11<>\"\",IFERROR(VLOOKUP(S11,Tabelas!B:D,3,0),0),\"\")","v":0},{"$f":"IF(A11<>\"\",IFERROR(VLOOKUP(T11,Tabelas!B:D,3,0),0),\"\")","v":0},{"$f":"IF(A11<>\"\",IFERROR(VLOOKUP(U11,Tabelas!B:D,3,0),0),\"\")","v":0},{"$f":"IF(A11<>\"\",IFERROR(VLOOKUP(V11,Tabelas!B:D,3,0),0),\"\")","v":0},{"$f":"IF(A11<>\"\",IFERROR(VLOOKUP(W11,Tabelas!B:D,3,0),0),\"\")","v":0},{"$f":"IF(A11<>\"\",IFERROR(VLOOKUP(X11,Tabelas!B:D,3,0),0),\"\")","v":0},{"$f":"IF(A11<>\"\",IFERROR(VLOOKUP(Y11,Tabelas!B:D,3,0),0),\"\")","v":0},{"$f":"IF(A11<>\"\",IFERROR(VLOOKUP(Z11,Tabelas!B:D,3,0),0),\"\")","v":0},{"$f":"IF(A11<>\"\",IFERROR(VLOOKUP(AA11,Tabelas!B:D,3,0),0),\"\")","v":0},{"$f":"IF(A11<>\"\",IFERROR(VLOOKUP(AB11,Tabelas!B:D,3,0),0),\"\")","v":0},{"$f":"IF(A11<>\"\",IFERROR(VLOOKUP(AC11,Tabelas!B:D,3,0),0),\"\")","v":0},{"$f":"IF(A11<>\"\",IFERROR(VLOOKUP(AD11,Tabelas!B:D,3,0),0),\"\")","v":0},{"$f":"IF(A11<>\"\",IFERROR(VLOOKUP(AE11,Tabelas!B:D,3,0),0),\"\")","v":0},{"$f":"IF(A11<>\"\",IFERROR(VLOOKUP(AF11,Tabelas!B:D,3,0),0),\"\")","v":0},{"$f":"IF(A11<>\"\",IFERROR(VLOOKUP(AG11,Tabelas!B:D,3,0),0),\"\")","v":0},{"$f":"IF(A11<>\"\",IFERROR(VLOOKUP(AH11,Tabelas!B:D,3,0),0),\"\")","v":0},{"$f":"IF(A11<>\"\",IFERROR(VLOOKUP(AI11,Tabelas!B:D,3,0),0),\"\")","v":0},{"$f":"IF(A11<>\"\",IFERROR(VLOOKUP(AJ11,Tabelas!B:D,3,0),0),\"\")","v":0},{"$f":"IF(A11<>\"\",IFERROR(VLOOKUP(AK11,Tabelas!B:D,3,0),0),\"\")","v":0},{"$f":"IF(A11<>\"\",IFERROR(VLOOKUP(AL11,Tabelas!B:D,3,0),0),\"\")","v":0},{"$f":"IF(A11<>\"\",IFERROR(VLOOKUP(AM11,Tabelas!B:D,3,0),0),\"\")","v":0},{"$f":"IF(A11<>\"\",IFERROR(VLOOKUP(AN11,Tabelas!B:D,3,0),0),\"\")","v":0},{"$f":"IF(A11<>\"\",IFERROR(VLOOKUP(AO11,Tabelas!B:D,3,0),0),\"\")","v":0},{"$f":"IF(A11<>\"\",IFERROR(VLOOKUP(AP11,Tabelas!B:D,3,0),0),\"\")","v":0},{"$f":"IF(A11<>\"\",IFERROR(VLOOKUP(AQ11,Tabelas!B:D,3,0),0),\"\")","v":0},0,0,0,0,0,0,0,0]
["FULANO 4",4,null,null,null,null,null,null,null,null,null,null,null,null,null,null,null,null,null,null,null,null,null,null,null,null,null,null,null,null,null,null,null,null,null,null,null,null,null,null,null,null,null,{"$f":"IF(A12<>\"\",IFERROR(VLOOKUP(M12,Tabelas!B:D,3,0),0),\"\")","v":0},{"$f":"IF(A12<>\"\",IFERROR(VLOOKUP(N12,Tabelas!B:D,3,0),0),\"\")","v":0},{"$f":"IF(A12<>\"\",IFERROR(VLOOKUP(O12,Tabelas!B:D,3,0),0),\"\")","v":0},{"$f":"IF(A12<>\"\",IFERROR(VLOOKUP(P12,Tabelas!B:D,3,0),0),\"\")","v":0},{"$f":"IF(A12<>\"\",IFERROR(VLOOKUP(Q12,Tabelas!B:D,3,0),0),\"\")","v":0},{"$f":"IF(A12<>\"\",IFERROR(VLOOKUP(R12,Tabelas!B:D,3,0),0),\"\")","v":0},{"$f":"IF(A12<>\"\",IFERROR(VLOOKUP(S12,Tabelas!B:D,3,0),0),\"\")","v":0},{"$f":"IF(A12<>\"\",IFERROR(VLOOKUP(T12,Tabelas!B:D,3,0),0),\"\")","v":0},{"$f":"IF(A12<>\"\",IFERROR(VLOOKUP(U12,Tabelas!B:D,3,0),0),\"\")","v":0},{"$f":"IF(A12<>\"\",IFERROR(VLOOKUP(V12,Tabelas!B:D,3,0),0),\"\")","v":0},{"$f":"IF(A12<>\"\",IFERROR(VLOOKUP(W12,Tabelas!B:D,3,0),0),\"\")","v":0},{"$f":"IF(A12<>\"\",IFERROR(VLOOKUP(X12,Tabelas!B:D,3,0),0),\"\")","v":0},{"$f":"IF(A12<>\"\",IFERROR(VLOOKUP(Y12,Tabelas!B:D,3,0),0),\"\")","v":0},{"$f":"IF(A12<>\"\",IFERROR(VLOOKUP(Z12,Tabelas!B:D,3,0),0),\"\")","v":0},{"$f":"IF(A12<>\"\",IFERROR(VLOOKUP(AA12,Tabelas!B:D,3,0),0),\"\")","v":0},{"$f":"IF(A12<>\"\",IFERROR(VLOOKUP(AB12,Tabelas!B:D,3,0),0),\"\")","v":0},{"$f":"IF(A12<>\"\",IFERROR(VLOOKUP(AC12,Tabelas!B:D,3,0),0),\"\")","v":0},{"$f":"IF(A12<>\"\",IFERROR(VLOOKUP(AD12,Tabelas!B:D,3,0),0),\"\")","v":0},{"$f":"IF(A12<>\"\",IFERROR(VLOOKUP(AE12,Tabelas!B:D,3,0),0),\"\")","v":0},{"$f":"IF(A12<>\"\",IFERROR(VLOOKUP(AF12,Tabelas!B:D,3,0),0),\"\")","v":0},{"$f":"IF(A12<>\"\",IFERROR(VLOOKUP(AG12,Tabelas!B:D,3,0),0),\"\")","v":0},{"$f":"IF(A12<>\"\",IFERROR(VLOOKUP(AH12,Tabelas!B:D,3,0),0),\"\")","v":0},{"$f":"IF(A12<>\"\",IFERROR(VLOOKUP(AI12,Tabelas!B:D,3,0),0),\"\")","v":0},{"$f":"IF(A12<>\"\",IFERROR(VLOOKUP(AJ12,Tabelas!B:D,3,0),0),\"\")","v":0},{"$f":"IF(A12<>\"\",IFERROR(VLOOKUP(AK12,Tabelas!B:D,3,0),0),\"\")","v":0},{"$f":"IF(A12<>\"\",IFERROR(VLOOKUP(AL12,Tabelas!B:D,3,0),0),\"\")","v":0},{"$f":"IF(A12<>\"\",IFERROR(VLOOKUP(AM12,Tabelas!B:D,3,0),0),\"\")","v":0},{"$f":"IF(A12<>\"\",IFERROR(VLOOKUP(AN12,Tabelas!B:D,3,0),0),\"\")","v":0},{"$f":"IF(A12<>\"\",IFERROR(VLOOKUP(AO12,Tabelas!B:D,3,0),0),\"\")","v":0},{"$f":"IF(A12<>\"\",IFERROR(VLOOKUP(AP12,Tabelas!B:D,3,0),0),\"\")","v":0},{"$f":"IF(A12<>\"\",IFERROR(VLOOKUP(AQ12,Tabelas!B:D,3,0),0),\"\")","v":0},0,0,0,0,0,0,0,0]
["FULANO 5",5,null,null,null,null,null,null,null,null,null,null,null,null,null,null,null,null,null,null,null,null,null,null,null,null,null,null,null,null,null,null,null,null,null,null,null,null,null,null,null,null,null,{"$f":"IF(A13<>\"\",IFERROR(VLOOKUP(M13,Tabelas!B:D,3,0),0),\"\")","v":0},{"$f":"IF(A13<>\"\",IFERROR(VLOOKUP(N13,Tabelas!B:D,3,0),0),\"\")","v":0},{"$f":"IF(A13<>\"\",IFERROR(VLOOKUP(O13,Tabelas!B:D,3,0),0),\"\")","v":0},{"$f":"IF(A13<>\"\",IFERROR(VLOOKUP(P13,Tabelas!B:D,3,0),0),\"\")","v":0},{"$f":"IF(A13<>\"\",IFERROR(VLOOKUP(Q13,Tabelas!B:D,3,0),0),\"\")","v":0},{"$f":"IF(A13<>\"\",IFERROR(VLOOKUP(R13,Tabelas!B:D,3,0),0),\"\")","v":0},{"$f":"IF(A13<>\"\",IFERROR(VLOOKUP(S13,Tabelas!B:D,3,0),0),\"\")","v":0},{"$f":"IF(A13<>\"\",IFERROR(VLOOKUP(T13,Tabelas!B:D,3,0),0),\"\")","v":0},{"$f":"IF(A13<>\"\",IFERROR(VLOOKUP(U13,Tabelas!B:D,3,0),0),\"\")","v":0},{"$f":"IF(A13<>\"\",IFERROR(VLOOKUP(V13,Tabelas!B:D,3,0),0),\"\")","v":0},{"$f":"IF(A13<>\"\",IFERROR(VLOOKUP(W13,Tabelas!B:D,3,0),0),\"\")","v":0},{"$f":"IF(A13<>\"\",IFERROR(VLOOKUP(X13,Tabelas!B:D,3,0),0),\"\")","v":0},{"$f":"IF(A13<>\"\",IFERROR(VLOOKUP(Y13,Tabelas!B:D,3,0),0),\"\")","v":0},{"$f":"IF(A13<>\"\",IFERROR(VLOOKUP(Z13,Tabelas!B:D,3,0),0),\"\")","v":0},{"$f":"IF(A13<>\"\",IFERROR(VLOOKUP(AA13,Tabelas!B:D,3,0),0),\"\")","v":0},{"$f":"IF(A13<>\"\",IFERROR(VLOOKUP(AB13,Tabelas!B:D,3,0),0),\"\")","v":0},{"$f":"IF(A13<>\"\",IFERROR(VLOOKUP(AC13,Tabelas!B:D,3,0),0),\"\")","v":0},{"$f":"IF(A13<>\"\",IFERROR(VLOOKUP(AD13,Tabelas!B:D,3,0),0),\"\")","v":0},{"$f":"IF(A13<>\"\",IFERROR(VLOOKUP(AE13,Tabelas!B:D,3,0),0),\"\")","v":0},{"$f":"IF(A13<>\"\",IFERROR(VLOOKUP(AF13,Tabelas!B:D,3,0),0),\"\")","v":0},{"$f":"IF(A13<>\"\",IFERROR(VLOOKUP(AG13,Tabelas!B:D,3,0),0),\"\")","v":0},{"$f":"IF(A13<>\"\",IFERROR(VLOOKUP(AH13,Tabelas!B:D,3,0),0),\"\")","v":0},{"$f":"IF(A13<>\"\",IFERROR(VLOOKUP(AI13,Tabelas!B:D,3,0),0),\"\")","v":0},{"$f":"IF(A13<>\"\",IFERROR(VLOOKUP(AJ13,Tabelas!B:D,3,0),0),\"\")","v":0},{"$f":"IF(A13<>\"\",IFERROR(VLOOKUP(AK13,Tabelas!B:D,3,0),0),\"\")","v":0},{"$f":"IF(A13<>\"\",IFERROR(VLOOKUP(AL13,Tabelas!B:D,3,0),0),\"\")","v":0},{"$f":"IF(A13<>\"\",IFERROR(VLOOKUP(AM13,Tabelas!B:D,3,0),0),\"\")","v":0},{"$f":"IF(A13<>\"\",IFERROR(VLOOKUP(AN13,Tabelas!B:D,3,0),0),\"\")","v":0},{"$f":"IF(A13<>\"\",IFERROR(VLOOKUP(AO13,Tabelas!B:D,3,0),0),\"\")","v":0},{"$f":"IF(A13<>\"\",IFERROR(VLOOKUP(AP13,Tabelas!B:D,3,0),0),\"\")","v":0},{"$f":"IF(A13<>\"\",IFERROR(VLOOKUP(AQ13,Tabelas!B:D,3,0),0),\"\")","v":0},0,0,0,0,0,0,0,0]
["FULANO 6",6,null,null,null,null,null,null,null,null,null,null,null,null,null,null,null,null,null,null,null,null,null,null,null,null,null,null,null,null,null,null,null,null,null,null,null,null,null,null,null,null,null,{"$f":"IF(A14<>\"\",IFERROR(VLOOKUP(M14,Tabelas!B:D,3,0),0),\"\")","v":0},{"$f":"IF(A14<>\"\",IFERROR(VLOOKUP(N14,Tabelas!B:D,3,0),0),\"\")","v":0},{"$f":"IF(A14<>\"\",IFERROR(VLOOKUP(O14,Tabelas!B:D,3,0),0),\"\")","v":0},{"$f":"IF(A14<>\"\",IFERROR(VLOOKUP(P14,Tabelas!B:D,3,0),0),\"\")","v":0},{"$f":"IF(A14<>\"\",IFERROR(VLOOKUP(Q14,Tabelas!B:D,3,0),0),\"\")","v":0},{"$f":"IF(A14<>\"\",IFERROR(VLOOKUP(R14,Tabelas!B:D,3,0),0),\"\")","v":0},{"$f":"IF(A14<>\"\",IFERROR(VLOOKUP(S14,Tabelas!B:D,3,0),0),\"\")","v":0},{"$f":"IF(A14<>\"\",IFERROR(VLOOKUP(T14,Tabelas!B:D,3,0),0),\"\")","v":0},{"$f":"IF(A14<>\"\",IFERROR(VLOOKUP(U14,Tabelas!B:D,3,0),0),\"\")","v":0},{"$f":"IF(A14<>\"\",IFERROR(VLOOKUP(V14,Tabelas!B:D,3,0),0),\"\")","v":0},{"$f":"IF(A14<>\"\",IFERROR(VLOOKUP(W14,Tabelas!B:D,3,0),0),\"\")","v":0},{"$f":"IF(A14<>\"\",IFERROR(VLOOKUP(X14,Tabelas!B:D,3,0),0),\"\")","v":0},{"$f":"IF(A14<>\"\",IFERROR(VLOOKUP(Y14,Tabelas!B:D,3,0),0),\"\")","v":0},{"$f":"IF(A14<>\"\",IFERROR(VLOOKUP(Z14,Tabelas!B:D,3,0),0),\"\")","v":0},{"$f":"IF(A14<>\"\",IFERROR(VLOOKUP(AA14,Tabelas!B:D,3,0),0),\"\")","v":0},{"$f":"IF(A14<>\"\",IFERROR(VLOOKUP(AB14,Tabelas!B:D,3,0),0),\"\")","v":0},{"$f":"IF(A14<>\"\",IFERROR(VLOOKUP(AC14,Tabelas!B:D,3,0),0),\"\")","v":0},{"$f":"IF(A14<>\"\",IFERROR(VLOOKUP(AD14,Tabelas!B:D,3,0),0),\"\")","v":0},{"$f":"IF(A14<>\"\",IFERROR(VLOOKUP(AE14,Tabelas!B:D,3,0),0),\"\")","v":0},{"$f":"IF(A14<>\"\",IFERROR(VLOOKUP(AF14,Tabelas!B:D,3,0),0),\"\")","v":0},{"$f":"IF(A14<>\"\",IFERROR(VLOOKUP(AG14,Tabelas!B:D,3,0),0),\"\")","v":0},{"$f":"IF(A14<>\"\",IFERROR(VLOOKUP(AH14,Tabelas!B:D,3,0),0),\"\")","v":0},{"$f":"IF(A14<>\"\",IFERROR(VLOOKUP(AI14,Tabelas!B:D,3,0),0),\"\")","v":0},{"$f":"IF(A14<>\"\",IFERROR(VLOOKUP(AJ14,Tabelas!B:D,3,0),0),\"\")","v":0},{"$f":"IF(A14<>\"\",IFERROR(VLOOKUP(AK14,Tabelas!B:D,3,0),0),\"\")","v":0},{"$f":"IF(A14<>\"\",IFERROR(VLOOKUP(AL14,Tabelas!B:D,3,0),0),\"\")","v":0},{"$f":"IF(A14<>\"\",IFERROR(VLOOKUP(AM14,Tabelas!B:D,3,0),0),\"\")","v":0},{"$f":"IF(A14<>\"\",IFERROR(VLOOKUP(AN14,Tabelas!B:D,3,0),0),\"\")","v":0},{"$f":"IF(A14<>\"\",IFERROR(VLOOKUP(AO14,Tabelas!B:D,3,0),0),\"\")","v":0},{"$f":"IF(A14<>\"\",IFERROR(VLOOKUP(AP14,Tabelas!B:D,3,0),0),\"\")","v":0},{"$f":"IF(A14<>\"\",IFERROR(VLOOKUP(AQ14,Tabelas!B:D,3,0),0),\"\")","v":0},0,0,0,0,0,0,0,0]
["FULANO 7",7,null,null,null,null,null,null,null,null,null,null,null,null,null,null,null,null,null,null,null,null,null,null,null,null,null,null,null,null,null,null,null,null,null,null,null,null,null,null,null,null,null,{"$f":"IF(A15<>\"\",IFERROR(VLOOKUP(M15,Tabelas!B:D,3,0),0),\"\")","v":0},{"$f":"IF(A15<>\"\",IFERROR(VLOOKUP(N15,Tabelas!B:D,3,0),0),\"\")","v":0},{"$f":"IF(A15<>\"\",IFERROR(VLOOKUP(O15,Tabelas!B:D,3,0),0),\"\")","v":0},{"$f":"IF(A15<>\"\",IFERROR(VLOOKUP(P15,Tabelas!B:D,3,0),0),\"\")","v":0},{"$f":"IF(A15<>\"\",IFERROR(VLOOKUP(Q15,Tabelas!B:D,3,0),0),\"\")","v":0},{"$f":"IF(A15<>\"\",IFERROR(VLOOKUP(R15,Tabelas!B:D,3,0),0),\"\")","v":0},{"$f":"IF(A15<>\"\",IFERROR(VLOOKUP(S15,Tabelas!B:D,3,0),0),\"\")","v":0},{"$f":"IF(A15<>\"\",IFERROR(VLOOKUP(T15,Tabelas!B:D,3,0),0),\"\")","v":0},{"$f":"IF(A15<>\"\",IFERROR(VLOOKUP(U15,Tabelas!B:D,3,0),0),\"\")","v":0},{"$f":"IF(A15<>\"\",IFERROR(VLOOKUP(V15,Tabelas!B:D,3,0),0),\"\")","v":0},{"$f":"IF(A15<>\"\",IFERROR(VLOOKUP(W15,Tabelas!B:D,3,0),0),\"\")","v":0},{"$f":"IF(A15<>\"\",IFERROR(VLOOKUP(X15,Tabelas!B:D,3,0),0),\"\")","v":0},{"$f":"IF(A15<>\"\",IFERROR(VLOOKUP(Y15,Tabelas!B:D,3,0),0),\"\")","v":0},{"$f":"IF(A15<>\"\",IFERROR(VLOOKUP(Z15,Tabelas!B:D,3,0),0),\"\")","v":0},{"$f":"IF(A15<>\"\",IFERROR(VLOOKUP(AA15,Tabelas!B:D,3,0),0),\"\")","v":0},{"$f":"IF(A15<>\"\",IFERROR(VLOOKUP(AB15,Tabelas!B:D,3,0),0),\"\")","v":0},{"$f":"IF(A15<>\"\",IFERROR(VLOOKUP(AC15,Tabelas!B:D,3,0),0),\"\")","v":0},{"$f":"IF(A15<>\"\",IFERROR(VLOOKUP(AD15,Tabelas!B:D,3,0),0),\"\")","v":0},{"$f":"IF(A15<>\"\",IFERROR(VLOOKUP(AE15,Tabelas!B:D,3,0),0),\"\")","v":0},{"$f":"IF(A15<>\"\",IFERROR(VLOOKUP(AF15,Tabelas!B:D,3,0),0),\"\")","v":0},{"$f":"IF(A15<>\"\",IFERROR(VLOOKUP(AG15,Tabelas!B:D,3,0),0),\"\")","v":0},{"$f":"IF(A15<>\"\",IFERROR(VLOOKUP(AH15,Tabelas!B:D,3,0),0),\"\")","v":0},{"$f":"IF(A15<>\"\",IFERROR(VLOOKUP(AI15,Tabelas!B:D,3,0),0),\"\")","v":0},{"$f":"IF(A15<>\"\",IFERROR(VLOOKUP(AJ15,Tabelas!B:D,3,0),0),\"\")","v":0},{"$f":"IF(A15<>\"\",IFERROR(VLOOKUP(AK15,Tabelas!B:D,3,0),0),\"\")","v":0},{"$f":"IF(A15<>\"\",IFERROR(VLOOKUP(AL15,Tabelas!B:D,3,0),0),\"\")","v":0},{"$f":"IF(A15<>\"\",IFERROR(VLOOKUP(AM15,Tabelas!B:D,3,0),0),\"\")","v":0},{"$f":"IF(A15<>\"\",IFERROR(VLOOKUP(AN15,Tabelas!B:D,3,0),0),\"\")","v":0},{"$f":"IF(A15<>\"\",IFERROR(VLOOKUP(AO15,Tabelas!B:D,3,0),0),\"\")","v":0},{"$f":"IF(A15<>\"\",IFERROR(VLOOKUP(AP15,Tabelas!B:D,3,0),0),\"\")","v":0},{"$f":"IF(A15<>\"\",IFERROR(VLOOKUP(AQ15,Tabelas!B:D,3,0),0),\"\")","v":0},0,0,0,0,0,0,0,0]
["FULANO 8",8,null,null,null,null,null,null,null,null,null,null,null,null,null,null,null,null,null,null,null,null,null,null,null,null,null,null,null,null,null,null,null,null,null,null,null,null,null,null,null,null,null,{"$f":"IF(A16<>\"\",IFERROR(VLOOKUP(M16,Tabelas!B:D,3,0),0),\"\")","v":0},{"$f":"IF(A16<>\"\",IFERROR(VLOOKUP(N16,Tabelas!B:D,3,0),0),\"\")","v":0},{"$f":"IF(A16<>\"\",IFERROR(VLOOKUP(O16,Tabelas!B:D,3,0),0),\"\")","v":0},{"$f":"IF(A16<>\"\",IFERROR(VLOOKUP(P16,Tabelas!B:D,3,0),0),\"\")","v":0},{"$f":"IF(A16<>\"\",IFERROR(VLOOKUP(Q16,Tabelas!B:D,3,0),0),\"\")","v":0},{"$f":"IF(A16<>\"\",IFERROR(VLOOKUP(R16,Tabelas!B:D,3,0),0),\"\")","v":0},{"$f":"IF(A16<>\"\",IFERROR(VLOOKUP(S16,Tabelas!B:D,3,0),0),\"\")","v":0},{"$f":"IF(A16<>\"\",IFERROR(VLOOKUP(T16,Tabelas!B:D,3,0),0),\"\")","v":0},{"$f":"IF(A16<>\"\",IFERROR(VLOOKUP(U16,Tabelas!B:D,3,0),0),\"\")","v":0},{"$f":"IF(A16<>\"\",IFERROR(VLOOKUP(V16,Tabelas!B:D,3,0),0),\"\")","v":0},{"$f":"IF(A16<>\"\",IFERROR(VLOOKUP(W16,Tabelas!B:D,3,0),0),\"\")","v":0},{"$f":"IF(A16<>\"\",IFERROR(VLOOKUP(X16,Tabelas!B:D,3,0),0),\"\")","v":0},{"$f":"IF(A16<>\"\",IFERROR(VLOOKUP(Y16,Tabelas!B:D,3,0),0),\"\")","v":0},{"$f":"IF(A16<>\"\",IFERROR(VLOOKUP(Z16,Tabelas!B:D,3,0),0),\"\")","v":0},{"$f":"IF(A16<>\"\",IFERROR(VLOOKUP(AA16,Tabelas!B:D,3,0),0),\"\")","v":0},{"$f":"IF(A16<>\"\",IFERROR(VLOOKUP(AB16,Tabelas!B:D,3,0),0),\"\")","v":0},{"$f":"IF(A16<>\"\",IFERROR(VLOOKUP(AC16,Tabelas!B:D,3,0),0),\"\")","v":0},{"$f":"IF(A16<>\"\",IFERROR(VLOOKUP(AD16,Tabelas!B:D,3,0),0),\"\")","v":0},{"$f":"IF(A16<>\"\",IFERROR(VLOOKUP(AE16,Tabelas!B:D,3,0),0),\"\")","v":0},{"$f":"IF(A16<>\"\",IFERROR(VLOOKUP(AF16,Tabelas!B:D,3,0),0),\"\")","v":0},{"$f":"IF(A16<>\"\",IFERROR(VLOOKUP(AG16,Tabelas!B:D,3,0),0),\"\")","v":0},{"$f":"IF(A16<>\"\",IFERROR(VLOOKUP(AH16,Tabelas!B:D,3,0),0),\"\")","v":0},{"$f":"IF(A16<>\"\",IFERROR(VLOOKUP(AI16,Tabelas!B:D,3,0),0),\"\")","v":0},{"$f":"IF(A16<>\"\",IFERROR(VLOOKUP(AJ16,Tabelas!B:D,3,0),0),\"\")","v":0},{"$f":"IF(A16<>\"\",IFERROR(VLOOKUP(AK16,Tabelas!B:D,3,0),0),\"\")","v":0},{"$f":"IF(A16<>\"\",IFERROR(VLOOKUP(AL16,Tabelas!B:D,3,0),0),\"\")","v":0},{"$f":"IF(A16<>\"\",IFERROR(VLOOKUP(AM16,Tabelas!B:D,3,0),0),\"\")","v":0},{"$f":"IF(A16<>\"\",IFERROR(VLOOKUP(AN16,Tabelas!B:D,3,0),0),\"\")","v":0},{"$f":"IF(A16<>\"\",IFERROR(VLOOKUP(AO16,Tabelas!B:D,3,0),0),\"\")","v":0},{"$f":"IF(A16<>\"\",IFERROR(VLOOKUP(AP16,Tabelas!B:D,3,0),0),\"\")","v":0},{"$f":"IF(A16<>\"\",IFERROR(VLOOKUP(AQ16,Tabelas!B:D,3,0),0),\"\")","v":0},0,0,0,0,0,0,0,0]
["FULANO 9",9,null,null,null,null,null,null,null,null,null,null,null,null,null,null,null,null,null,null,null,null,null,null,null,null,null,null,null,null,null,null,null,null,null,null,null,null,null,null,null,null,null,{"$f":"IF(A17<>\"\",IFERROR(VLOOKUP(M17,Tabelas!B:D,3,0),0),\"\")","v":0},{"$f":"IF(A17<>\"\",IFERROR(VLOOKUP(N17,Tabelas!B:D,3,0),0),\"\")","v":0},{"$f":"IF(A17<>\"\",IFERROR(VLOOKUP(O17,Tabelas!B:D,3,0),0),\"\")","v":0},{"$f":"IF(A17<>\"\",IFERROR(VLOOKUP(P17,Tabelas!B:D,3,0),0),\"\")","v":0},{"$f":"IF(A17<>\"\",IFERROR(VLOOKUP(Q17,Tabelas!B:D,3,0),0),\"\")","v":0},{"$f":"IF(A17<>\"\",IFERROR(VLOOKUP(R17,Tabelas!B:D,3,0),0),\"\")","v":0},{"$f":"IF(A17<>\"\",IFERROR(VLOOKUP(S17,Tabelas!B:D,3,0),0),\"\")","v":0},{"$f":"IF(A17<>\"\",IFERROR(VLOOKUP(T17,Tabelas!B:D,3,0),0),\"\")","v":0},{"$f":"IF(A17<>\"\",IFERROR(VLOOKUP(U17,Tabelas!B:D,3,0),0),\"\")","v":0},{"$f":"IF(A17<>\"\",IFERROR(VLOOKUP(V17,Tabelas!B:D,3,0),0),\"\")","v":0},{"$f":"IF(A17<>\"\",IFERROR(VLOOKUP(W17,Tabelas!B:D,3,0),0),\"\")","v":0},{"$f":"IF(A17<>\"\",IFERROR(VLOOKUP(X17,Tabelas!B:D,3,0),0),\"\")","v":0},{"$f":"IF(A17<>\"\",IFERROR(VLOOKUP(Y17,Tabelas!B:D,3,0),0),\"\")","v":0},{"$f":"IF(A17<>\"\",IFERROR(VLOOKUP(Z17,Tabelas!B:D,3,0),0),\"\")","v":0},{"$f":"IF(A17<>\"\",IFERROR(VLOOKUP(AA17,Tabelas!B:D,3,0),0),\"\")","v":0},{"$f":"IF(A17<>\"\",IFERROR(VLOOKUP(AB17,Tabelas!B:D,3,0),0),\"\")","v":0},{"$f":"IF(A17<>\"\",IFERROR(VLOOKUP(AC17,Tabelas!B:D,3,0),0),\"\")","v":0},{"$f":"IF(A17<>\"\",IFERROR(VLOOKUP(AD17,Tabelas!B:D,3,0),0),\"\")","v":0},{"$f":"IF(A17<>\"\",IFERROR(VLOOKUP(AE17,Tabelas!B:D,3,0),0),\"\")","v":0},{"$f":"IF(A17<>\"\",IFERROR(VLOOKUP(AF17,Tabelas!B:D,3,0),0),\"\")","v":0},{"$f":"IF(A17<>\"\",IFERROR(VLOOKUP(AG17,Tabelas!B:D,3,0),0),\"\")","v":0},{"$f":"IF(A17<>\"\",IFERROR(VLOOKUP(AH17,Tabelas!B:D,3,0),0),\"\")","v":0},{"$f":"IF(A17<>\"\",IFERROR(VLOOKUP(AI17,Tabelas!B:D,3,0),0),\"\")","v":0},{"$f":"IF(A17<>\"\",IFERROR(VLOOKUP(AJ17,Tabelas!B:D,3,0),0),\"\")","v":0},{"$f":"IF(A17<>\"\",IFERROR(VLOOKUP(AK17,Tabelas!B:D,3,0),0),\"\")","v":0},{"$f":"IF(A17<>\"\",IFERROR(VLOOKUP(AL17,Tabelas!B:D,3,0),0),\"\")","v":0},{"$f":"IF(A17<>\"\",IFERROR(VLOOKUP(AM17,Tabelas!B:D,3,0),0),\"\")","v":0},{"$f":"IF(A17<>\"\",IFERROR(VLOOKUP(AN17,Tabelas!B:D,3,0),0),\"\")","v":0},{"$f":"IF(A17<>\"\",IFERROR(VLOOKUP(AO17,Tabelas!B:D,3,0),0),\"\")","v":0},{"$f":"IF(A17<>\"\",IFERROR(VLOOKUP(AP17,Tabelas!B:D,3,0),0),\"\")","v":0},{"$f":"IF(A17<>\"\",IFERROR(VLOOKUP(AQ17,Tabelas!B:D,3,0),0),\"\")","v":0},0,0,0,0,0,0,0,0]
["FULANO 10",10,null,null,null,null,null,null,null,null,null,null,null,null,null,null,null,null,null,null,null,null,null,null,null,null,null,null,null,null,null,null,null,null,null,null,null,null,null,null,null,null,null,{"$f":"IF(A18<>\"\",IFERROR(VLOOKUP(M18,Tabelas!B:D,3,0),0),\"\")","v":0},{"$f":"IF(A18<>\"\",IFERROR(VLOOKUP(N18,Tabelas!B:D,3,0),0),\"\")","v":0},{"$f":"IF(A18<>\"\",IFERROR(VLOOKUP(O18,Tabelas!B:D,3,0),0),\"\")","v":0},{"$f":"IF(A18<>\"\",IFERROR(VLOOKUP(P18,Tabelas!B:D,3,0),0),\"\")","v":0},{"$f":"IF(A18<>\"\",IFERROR(VLOOKUP(Q18,Tabelas!B:D,3,0),0),\"\")","v":0},{"$f":"IF(A18<>\"\",IFERROR(VLOOKUP(R18,Tabelas!B:D,3,0),0),\"\")","v":0},{"$f":"IF(A18<>\"\",IFERROR(VLOOKUP(S18,Tabelas!B:D,3,0),0),\"\")","v":0},{"$f":"IF(A18<>\"\",IFERROR(VLOOKUP(T18,Tabelas!B:D,3,0),0),\"\")","v":0},{"$f":"IF(A18<>\"\",IFERROR(VLOOKUP(U18,Tabelas!B:D,3,0),0),\"\")","v":0},{"$f":"IF(A18<>\"\",IFERROR(VLOOKUP(V18,Tabelas!B:D,3,0),0),\"\")","v":0},{"$f":"IF(A18<>\"\",IFERROR(VLOOKUP(W18,Tabelas!B:D,3,0),0),\"\")","v":0},{"$f":"IF(A18<>\"\",IFERROR(VLOOKUP(X18,Tabelas!B:D,3,0),0),\"\")","v":0},{"$f":"IF(A18<>\"\",IFERROR(VLOOKUP(Y18,Tabelas!B:D,3,0),0),\"\")","v":0},{"$f":"IF(A18<>\"\",IFERROR(VLOOKUP(Z18,Tabelas!B:D,3,0),0),\"\")","v":0},{"$f":"IF(A18<>\"\",IFERROR(VLOOKUP(AA18,Tabelas!B:D,3,0),0),\"\")","v":0},{"$f":"IF(A18<>\"\",IFERROR(VLOOKUP(AB18,Tabelas!B:D,3,0),0),\"\")","v":0},{"$f":"IF(A18<>\"\",IFERROR(VLOOKUP(AC18,Tabelas!B:D,3,0),0),\"\")","v":0},{"$f":"IF(A18<>\"\",IFERROR(VLOOKUP(AD18,Tabelas!B:D,3,0),0),\"\")","v":0},{"$f":"IF(A18<>\"\",IFERROR(VLOOKUP(AE18,Tabelas!B:D,3,0),0),\"\")","v":0},{"$f":"IF(A18<>\"\",IFERROR(VLOOKUP(AF18,Tabelas!B:D,3,0),0),\"\")","v":0},{"$f":"IF(A18<>\"\",IFERROR(VLOOKUP(AG18,Tabelas!B:D,3,0),0),\"\")","v":0},{"$f":"IF(A18<>\"\",IFERROR(VLOOKUP(AH18,Tabelas!B:D,3,0),0),\"\")","v":0},{"$f":"IF(A18<>\"\",IFERROR(VLOOKUP(AI18,Tabelas!B:D,3,0),0),\"\")","v":0},{"$f":"IF(A18<>\"\",IFERROR(VLOOKUP(AJ18,Tabelas!B:D,3,0),0),\"\")","v":0},{"$f":"IF(A18<>\"\",IFERROR(VLOOKUP(AK18,Tabelas!B:D,3,0),0),\"\")","v":0},{"$f":"IF(A18<>\"\",IFERROR(VLOOKUP(AL18,Tabelas!B:D,3,0),0),\"\")","v":0},{"$f":"IF(A18<>\"\",IFERROR(VLOOKUP(AM18,Tabelas!B:D,3,0),0),\"\")","v":0},{"$f":"IF(A18<>\"\",IFERROR(VLOOKUP(AN18,Tabelas!B:D,3,0),0),\"\")","v":0},{"$f":"IF(A18<>\"\",IFERROR(VLOOKUP(AO18,Tabelas!B:D,3,0),0),\"\")","v":0},{"$f":"IF(A18<>\"\",IFERROR(VLOOKUP(AP18,Tabelas!B:D,3,0),0),\"\")","v":0},{"$f":"IF(A18<>\"\",IFERROR(VLOOKUP(AQ18,Tabelas!B:D,3,0),0),\"\")","v":0},0,0,0,0,0,0,0,0]
["FULANO 11",11,null,null,null,null,null,null,null,null,null,null,null,null,null,null,null,null,null,null,null,null,null,null,null,null,null,null,null,null,null,null,null,null,null,null,null,null,null,null,null,null,null,{"$f":"IF(A19<>\"\",IFERROR(VLOOKUP(M19,Tabelas!B:D,3,0),0),\"\")","v":0},{"$f":"IF(A19<>\"\",IFERROR(VLOOKUP(N19,Tabelas!B:D,3,0),0),\"\")","v":0},{"$f":"IF(A19<>\"\",IFERROR(VLOOKUP(O19,Tabelas!B:D,3,0),0),\"\")","v":0},{"$f":"IF(A19<>\"\",IFERROR(VLOOKUP(P19,Tabelas!B:D,3,0),0),\"\")","v":0},{"$f":"IF(A19<>\"\",IFERROR(VLOOKUP(Q19,Tabelas!B:D,3,0),0),\"\")","v":0},{"$f":"IF(A19<>\"\",IFERROR(VLOOKUP(R19,Tabelas!B:D,3,0),0),\"\")","v":0},{"$f":"IF(A19<>\"\",IFERROR(VLOOKUP(S19,Tabelas!B:D,3,0),0),\"\")","v":0},{"$f":"IF(A19<>\"\",IFERROR(VLOOKUP(T19,Tabelas!B:D,3,0),0),\"\")","v":0},{"$f":"IF(A19<>\"\",IFERROR(VLOOKUP(U19,Tabelas!B:D,3,0),0),\"\")","v":0},{"$f":"IF(A19<>\"\",IFERROR(VLOOKUP(V19,Tabelas!B:D,3,0),0),\"\")","v":0},{"$f":"IF(A19<>\"\",IFERROR(VLOOKUP(W19,Tabelas!B:D,3,0),0),\"\")","v":0},{"$f":"IF(A19<>\"\",IFERROR(VLOOKUP(X19,Tabelas!B:D,3,0),0),\"\")","v":0},{"$f":"IF(A19<>\"\",IFERROR(VLOOKUP(Y19,Tabelas!B:D,3,0),0),\"\")","v":0},{"$f":"IF(A19<>\"\",IFERROR(VLOOKUP(Z19,Tabelas!B:D,3,0),0),\"\")","v":0},{"$f":"IF(A19<>\"\",IFERROR(VLOOKUP(AA19,Tabelas!B:D,3,0),0),\"\")","v":0},{"$f":"IF(A19<>\"\",IFERROR(VLOOKUP(AB19,Tabelas!B:D,3,0),0),\"\")","v":0},{"$f":"IF(A19<>\"\",IFERROR(VLOOKUP(AC19,Tabelas!B:D,3,0),0),\"\")","v":0},{"$f":"IF(A19<>\"\",IFERROR(VLOOKUP(AD19,Tabelas!B:D,3,0),0),\"\")","v":0},{"$f":"IF(A19<>\"\",IFERROR(VLOOKUP(AE19,Tabelas!B:D,3,0),0),\"\")","v":0},{"$f":"IF(A19<>\"\",IFERROR(VLOOKUP(AF19,Tabelas!B:D,3,0),0),\"\")","v":0},{"$f":"IF(A19<>\"\",IFERROR(VLOOKUP(AG19,Tabelas!B:D,3,0),0),\"\")","v":0},{"$f":"IF(A19<>\"\",IFERROR(VLOOKUP(AH19,Tabelas!B:D,3,0),0),\"\")","v":0},{"$f":"IF(A19<>\"\",IFERROR(VLOOKUP(AI19,Tabelas!B:D,3,0),0),\"\")","v":0},{"$f":"IF(A19<>\"\",IFERROR(VLOOKUP(AJ19,Tabelas!B:D,3,0),0),\"\")","v":0},{"$f":"IF(A19<>\"\",IFERROR(VLOOKUP(AK19,Tabelas!B:D,3,0),0),\"\")","v":0},{"$f":"IF(A19<>\"\",IFERROR(VLOOKUP(AL19,Tabelas!B:D,3,0),0),\"\")","v":0},{"$f":"IF(A19<>\"\",IFERROR(VLOOKUP(AM19,Tabelas!B:D,3,0),0),\"\")","v":0},{"$f":"IF(A19<>\"\",IFERROR(VLOOKUP(AN19,Tabelas!B:D,3,0),0),\"\")","v":0},{"$f":"IF(A19<>\"\",IFERROR(VLOOKUP(AO19,Tabelas!B:D,3,0),0),\"\")","v":0},{"$f":"IF(A19<>\"\",IFERROR(VLOOKUP(AP19,Tabelas!B:D,3,0),0),\"\")","v":0},{"$f":"IF(A19<>\"\",IFERROR(VLOOKUP(AQ19,Tabelas!B:D,3,0),0),\"\")","v":0},0,0,0,0,0,0,0,0]
["FULANO 12",12,null,null,null,null,null,null,null,null,null,null,null,null,null,null,null,null,null,null,null,null,null,null,null,null,null,null,null,null,null,null,null,null,null,null,null,null,null,null,null,null,null,{"$f":"IF(A20<>\"\",IFERROR(VLOOKUP(M20,Tabelas!B:D,3,0),0),\"\")","v":0},{"$f":"IF(A20<>\"\",IFERROR(VLOOKUP(N20,Tabelas!B:D,3,0),0),\"\")","v":0},{"$f":"IF(A20<>\"\",IFERROR(VLOOKUP(O20,Tabelas!B:D,3,0),0),\"\")","v":0},{"$f":"IF(A20<>\"\",IFERROR(VLOOKUP(P20,Tabelas!B:D,3,0),0),\"\")","v":0},{"$f":"IF(A20<>\"\",IFERROR(VLOOKUP(Q20,Tabelas!B:D,3,0),0),\"\")","v":0},{"$f":"IF(A20<>\"\",IFERROR(VLOOKUP(R20,Tabelas!B:D,3,0),0),\"\")","v":0},{"$f":"IF(A20<>\"\",IFERROR(VLOOKUP(S20,Tabelas!B:D,3,0),0),\"\")","v":0},{"$f":"IF(A20<>\"\",IFERROR(VLOOKUP(T20,Tabelas!B:D,3,0),0),\"\")","v":0},{"$f":"IF(A20<>\"\",IFERROR(VLOOKUP(U20,Tabelas!B:D,3,0),0),\"\")","v":0},{"$f":"IF(A20<>\"\",IFERROR(VLOOKUP(V20,Tabelas!B:D,3,0),0),\"\")","v":0},{"$f":"IF(A20<>\"\",IFERROR(VLOOKUP(W20,Tabelas!B:D,3,0),0),\"\")","v":0},{"$f":"IF(A20<>\"\",IFERROR(VLOOKUP(X20,Tabelas!B:D,3,0),0),\"\")","v":0},{"$f":"IF(A20<>\"\",IFERROR(VLOOKUP(Y20,Tabelas!B:D,3,0),0),\"\")","v":0},{"$f":"IF(A20<>\"\",IFERROR(VLOOKUP(Z20,Tabelas!B:D,3,0),0),\"\")","v":0},{"$f":"IF(A20<>\"\",IFERROR(VLOOKUP(AA20,Tabelas!B:D,3,0),0),\"\")","v":0},{"$f":"IF(A20<>\"\",IFERROR(VLOOKUP(AB20,Tabelas!B:D,3,0),0),\"\")","v":0},{"$f":"IF(A20<>\"\",IFERROR(VLOOKUP(AC20,Tabelas!B:D,3,0),0),\"\")","v":0},{"$f":"IF(A20<>\"\",IFERROR(VLOOKUP(AD20,Tabelas!B:D,3,0),0),\"\")","v":0},{"$f":"IF(A20<>\"\",IFERROR(VLOOKUP(AE20,Tabelas!B:D,3,0),0),\"\")","v":0},{"$f":"IF(A20<>\"\",IFERROR(VLOOKUP(AF20,Tabelas!B:D,3,0),0),\"\")","v":0},{"$f":"IF(A20<>\"\",IFERROR(VLOOKUP(AG20,Tabelas!B:D,3,0),0),\"\")","v":0},{"$f":"IF(A20<>\"\",IFERROR(VLOOKUP(AH20,Tabelas!B:D,3,0),0),\"\")","v":0},{"$f":"IF(A20<>\"\",IFERROR(VLOOKUP(AI20,Tabelas!B:D,3,0),0),\"\")","v":0},{"$f":"IF(A20<>\"\",IFERROR(VLOOKUP(AJ20,Tabelas!B:D,3,0),0),\"\")","v":0},{"$f":"IF(A20<>\"\",IFERROR(VLOOKUP(AK20,Tabelas!B:D,3,0),0),\"\")","v":0},{"$f":"IF(A20<>\"\",IFERROR(VLOOKUP(AL20,Tabelas!B:D,3,0),0),\"\")","v":0},{"$f":"IF(A20<>\"\",IFERROR(VLOOKUP(AM20,Tabelas!B:D,3,0),0),\"\")","v":0},{"$f":"IF(A20<>\"\",IFERROR(VLOOKUP(AN20,Tabelas!B:D,3,0),0),\"\")","v":0},{"$f":"IF(A20<>\"\",IFERROR(VLOOKUP(AO20,Tabelas!B:D,3,0),0),\"\")","v":0},{"$f":"IF(A20<>\"\",IFERROR(VLOOKUP(AP20,Tabelas!B:D,3,0),0),\"\")","v":0},{"$f":"IF(A20<>\"\",IFERROR(VLOOKUP(AQ20,Tabelas!B:D,3,0),0),\"\")","v":0},0,0,0,0,0,0,0,0]
["FULANO 13",13,null,null,null,null,null,null,null,null,null,null,null,null,null,null,null,null,null,null,null,null,null,null,null,null,null,null,null,null,null,null,null,null,null,null,null,null,null,null,null,null,null,{"$f":"IF(A21<>\"\",IFERROR(VLOOKUP(M21,Tabelas!B:D,3,0),0),\"\")","v":0},{"$f":"IF(A21<>\"\",IFERROR(VLOOKUP(N21,Tabelas!B:D,3,0),0),\"\")","v":0},{"$f":"IF(A21<>\"\",IFERROR(VLOOKUP(O21,Tabelas!B:D,3,0),0),\"\")","v":0},{"$f":"IF(A21<>\"\",IFERROR(VLOOKUP(P21,Tabelas!B:D,3,0),0),\"\")","v":0},{"$f":"IF(A21<>\"\",IFERROR(VLOOKUP(Q21,Tabelas!B:D,3,0),0),\"\")","v":0},{"$f":"IF(A21<>\"\",IFERROR(VLOOKUP(R21,Tabelas!B:D,3,0),0),\"\")","v":0},{"$f":"IF(A21<>\"\",IFERROR(VLOOKUP(S21,Tabelas!B:D,3,0),0),\"\")","v":0},{"$f":"IF(A21<>\"\",IFERROR(VLOOKUP(T21,Tabelas!B:D,3,0),0),\"\")","v":0},{"$f":"IF(A21<>\"\",IFERROR(VLOOKUP(U21,Tabelas!B:D,3,0),0),\"\")","v":0},{"$f":"IF(A21<>\"\",IFERROR(VLOOKUP(V21,Tabelas!B:D,3,0),0),\"\")","v":0},{"$f":"IF(A21<>\"\",IFERROR(VLOOKUP(W21,Tabelas!B:D,3,0),0),\"\")","v":0},{"$f":"IF(A21<>\"\",IFERROR(VLOOKUP(X21,Tabelas!B:D,3,0),0),\"\")","v":0},{"$f":"IF(A21<>\"\",IFERROR(VLOOKUP(Y21,Tabelas!B:D,3,0),0),\"\")","v":0},{"$f":"IF(A21<>\"\",IFERROR(VLOOKUP(Z21,Tabelas!B:D,3,0),0),\"\")","v":0},{"$f":"IF(A21<>\"\",IFERROR(VLOOKUP(AA21,Tabelas!B:D,3,0),0),\"\")","v":0},{"$f":"IF(A21<>\"\",IFERROR(VLOOKUP(AB21,Tabelas!B:D,3,0),0),\"\")","v":0},{"$f":"IF(A21<>\"\",IFERROR(VLOOKUP(AC21,Tabelas!B:D,3,0),0),\"\")","v":0},{"$f":"IF(A21<>\"\",IFERROR(VLOOKUP(AD21,Tabelas!B:D,3,0),0),\"\")","v":0},{"$f":"IF(A21<>\"\",IFERROR(VLOOKUP(AE21,Tabelas!B:D,3,0),0),\"\")","v":0},{"$f":"IF(A21<>\"\",IFERROR(VLOOKUP(AF21,Tabelas!B:D,3,0),0),\"\")","v":0},{"$f":"IF(A21<>\"\",IFERROR(VLOOKUP(AG21,Tabelas!B:D,3,0),0),\"\")","v":0},{"$f":"IF(A21<>\"\",IFERROR(VLOOKUP(AH21,Tabelas!B:D,3,0),0),\"\")","v":0},{"$f":"IF(A21<>\"\",IFERROR(VLOOKUP(AI21,Tabelas!B:D,3,0),0),\"\")","v":0},{"$f":"IF(A21<>\"\",IFERROR(VLOOKUP(AJ21,Tabelas!B:D,3,0),0),\"\")","v":0},{"$f":"IF(A21<>\"\",IFERROR(VLOOKUP(AK21,Tabelas!B:D,3,0),0),\"\")","v":0},{"$f":"IF(A21<>\"\",IFERROR(VLOOKUP(AL21,Tabelas!B:D,3,0),0),\"\")","v":0},{"$f":"IF(A21<>\"\",IFERROR(VLOOKUP(AM21,Tabelas!B:D,3,0),0),\"\")","v":0},{"$f":"IF(A21<>\"\",IFERROR(VLOOKUP(AN21,Tabelas!B:D,3,0),0),\"\")","v":0},{"$f":"IF(A21<>\"\",IFERROR(VLOOKUP(AO21,Tabelas!B:D,3,0),0),\"\")","v":0},{"$f":"IF(A21<>\"\",IFERROR(VLOOKUP(AP21,Tabelas!B:D,3,0),0),\"\")","v":0},{"$f":"IF(A21<>\"\",IFERROR(VLOOKUP(AQ21,Tabelas!B:D,3,0),0),\"\")","v":0},0,0,0,0,0,0,0,0]
["FULANO 14",14,null,null,null,null,null,null,null,null,null,null,null,null,null,null,null,null,null,null,null,null,null,null,null,null,null,null,null,null,null,null,null,null,null,null,null,null,null,null,null,null,null,{"$f":"IF(A22<>\"\",IFERROR(VLOOKUP(M22,Tabelas!B:D,3,0),0),\"\")","v":0},{"$f":"IF(A22<>\"\",IFERROR(VLOOKUP(N22,Tabelas!B:D,3,0),0),\"\")","v":0},{"$f":"IF(A22<>\"\",IFERROR(VLOOKUP(O22,Tabelas!B:D,3,0),0),\"\")","v":0},{"$f":"IF(A22<>\"\",IFERROR(VLOOKUP(P22,Tabelas!B:D,3,0),0),\"\")","v":0},{"$f":"IF(A22<>\"\",IFERROR(VLOOKUP(Q22,Tabelas!B:D,3,0),0),\"\")","v":0},{"$f":"IF(A22<>\"\",IFERROR(VLOOKUP(R22,Tabelas!B:D,3,0),0),\"\")","v":0},{"$f":"IF(A22<>\"\",IFERROR(VLOOKUP(S22,Tabelas!B:D,3,0),0),\"\")","v":0},{"$f":"IF(A22<>\"\",IFERROR(VLOOKUP(T22,Tabelas!B:D,3,0),0),\"\")","v":0},{"$f":"IF(A22<>\"\",IFERROR(VLOOKUP(U22,Tabelas!B:D,3,0),0),\"\")","v":0},{"$f":"IF(A22<>\"\",IFERROR(VLOOKUP(V22,Tabelas!B:D,3,0),0),\"\")","v":0},{"$f":"IF(A22<>\"\",IFERROR(VLOOKUP(W22,Tabelas!B:D,3,0),0),\"\")","v":0},{"$f":"IF(A22<>\"\",IFERROR(VLOOKUP(X22,Tabelas!B:D,3,0),0),\"\")","v":0},{"$f":"IF(A22<>\"\",IFERROR(VLOOKUP(Y22,Tabelas!B:D,3,0),0),\"\")","v":0},{"$f":"IF(A22<>\"\",IFERROR(VLOOKUP(Z22,Tabelas!B:D,3,0),0),\"\")","v":0},{"$f":"IF(A22<>\"\",IFERROR(VLOOKUP(AA22,Tabelas!B:D,3,0),0),\"\")","v":0},{"$f":"IF(A22<>\"\",IFERROR(VLOOKUP(AB22,Tabelas!B:D,3,0),0),\"\")","v":0},{"$f":"IF(A22<>\"\",IFERROR(VLOOKUP(AC22,Tabelas!B:D,3,0),0),\"\")","v":0},{"$f":"IF(A22<>\"\",IFERROR(VLOOKUP(AD22,Tabelas!B:D,3,0),0),\"\")","v":0},{"$f":"IF(A22<>\"\",IFERROR(VLOOKUP(AE22,Tabelas!B:D,3,0),0),\"\")","v":0},{"$f":"IF(A22<>\"\",IFERROR(VLOOKUP(AF22,Tabelas!B:D,3,0),0),\"\")","v":0},{"$f":"IF(A22<>\"\",IFERROR(VLOOKUP(AG22,Tabelas!B:D,3,0),0),\"\")","v":0},{"$f":"IF(A22<>\"\",IFERROR(VLOOKUP(AH22,Tabelas!B:D,3,0),0),\"\")","v":0},{"$f":"IF(A22<>\"\",IFERROR(VLOOKUP(AI22,Tabelas!B:D,3,0),0),\"\")","v":0},{"$f":"IF(A22<>\"\",IFERROR(VLOOKUP(AJ22,Tabelas!B:D,3,0),0),\"\")","v":0},{"$f":"IF(A22<>\"\",IFERROR(VLOOKUP(AK22,Tabelas!B:D,3,0),0),\"\")","v":0},{"$f":"IF(A22<>\"\",IFERROR(VLOOKUP(AL22,Tabelas!B:D,3,0),0),\"\")","v":0},{"$f":"IF(A22<>\"\",IFERROR(VLOOKUP(AM22,Tabelas!B:D,3,0),0),\"\")","v":0},{"$f":"IF(A22<>\"\",IFERROR(VLOOKUP(AN22,Tabelas!B:D,3,0),0),\"\")","v":0},{"$f":"IF(A22<>\"\",IFERROR(VLOOKUP(AO22,Tabelas!B:D,3,0),0),\"\")","v":0},{"$f":"IF(A22<>\"\",IFERROR(VLOOKUP(AP22,Tabelas!B:D,3,0),0),\"\")","v":0},{"$f":"IF(A22<>\"\",IFERROR(VLOOKUP(AQ22,Tabelas!B:D,3,0),0),\"\")","v":0},0,0,0,0,0,0,0,0]
["FULANO 15",15,null,null,null,null,null,null,null,null,null,null,null,null,null,null,null,null,null,null,null,null,null,null,null,null,null,null,null,null,null,null,null,null,null,null,null,null,null,null,null,null,null,{"$f":"IF(A23<>\"\",IFERROR(VLOOKUP(M23,Tabelas!B:D,3,0),0),\"\")","v":0},{"$f":"IF(A23<>\"\",IFERROR(VLOOKUP(N23,Tabelas!B:D,3,0),0),\"\")","v":0},{"$f":"IF(A23<>\"\",IFERROR(VLOOKUP(O23,Tabelas!B:D,3,0),0),\"\")","v":0},{"$f":"IF(A23<>\"\",IFERROR(VLOOKUP(P23,Tabelas!B:D,3,0),0),\"\")","v":0},{"$f":"IF(A23<>\"\",IFERROR(VLOOKUP(Q23,Tabelas!B:D,3,0),0),\"\")","v":0},{"$f":"IF(A23<>\"\",IFERROR(VLOOKUP(R23,Tabelas!B:D,3,0),0),\"\")","v":0},{"$f":"IF(A23<>\"\",IFERROR(VLOOKUP(S23,Tabelas!B:D,3,0),0),\"\")","v":0},{"$f":"IF(A23<>\"\",IFERROR(VLOOKUP(T23,Tabelas!B:D,3,0),0),\"\")","v":0},{"$f":"IF(A23<>\"\",IFERROR(VLOOKUP(U23,Tabelas!B:D,3,0),0),\"\")","v":0},{"$f":"IF(A23<>\"\",IFERROR(VLOOKUP(V23,Tabelas!B:D,3,0),0),\"\")","v":0},{"$f":"IF(A23<>\"\",IFERROR(VLOOKUP(W23,Tabelas!B:D,3,0),0),\"\")","v":0},{"$f":"IF(A23<>\"\",IFERROR(VLOOKUP(X23,Tabelas!B:D,3,0),0),\"\")","v":0},{"$f":"IF(A23<>\"\",IFERROR(VLOOKUP(Y23,Tabelas!B:D,3,0),0),\"\")","v":0},{"$f":"IF(A23<>\"\",IFERROR(VLOOKUP(Z23,Tabelas!B:D,3,0),0),\"\")","v":0},{"$f":"IF(A23<>\"\",IFERROR(VLOOKUP(AA23,Tabelas!B:D,3,0),0),\"\")","v":0},{"$f":"IF(A23<>\"\",IFERROR(VLOOKUP(AB23,Tabelas!B:D,3,0),0),\"\")","v":0},{"$f":"IF(A23<>\"\",IFERROR(VLOOKUP(AC23,Tabelas!B:D,3,0),0),\"\")","v":0},{"$f":"IF(A23<>\"\",IFERROR(VLOOKUP(AD23,Tabelas!B:D,3,0),0),\"\")","v":0},{"$f":"IF(A23<>\"\",IFERROR(VLOOKUP(AE23,Tabelas!B:D,3,0),0),\"\")","v":0},{"$f":"IF(A23<>\"\",IFERROR(VLOOKUP(AF23,Tabelas!B:D,3,0),0),\"\")","v":0},{"$f":"IF(A23<>\"\",IFERROR(VLOOKUP(AG23,Tabelas!B:D,3,0),0),\"\")","v":0},{"$f":"IF(A23<>\"\",IFERROR(VLOOKUP(AH23,Tabelas!B:D,3,0),0),\"\")","v":0},{"$f":"IF(A23<>\"\",IFERROR(VLOOKUP(AI23,Tabelas!B:D,3,0),0),\"\")","v":0},{"$f":"IF(A23<>\"\",IFERROR(VLOOKUP(AJ23,Tabelas!B:D,3,0),0),\"\")","v":0},{"$f":"IF(A23<>\"\",IFERROR(VLOOKUP(AK23,Tabelas!B:D,3,0),0),\"\")","v":0},{"$f":"IF(A23<>\"\",IFERROR(VLOOKUP(AL23,Tabelas!B:D,3,0),0),\"\")","v":0},{"$f":"IF(A23<>\"\",IFERROR(VLOOKUP(AM23,Tabelas!B:D,3,0),0),\"\")","v":0},{"$f":"IF(A23<>\"\",IFERROR(VLOOKUP(AN23,Tabelas!B:D,3,0),0),\"\")","v":0},{"$f":"IF(A23<>\"\",IFERROR(VLOOKUP(AO23,Tabelas!B:D,3,0),0),\"\")","v":0},{"$f":"IF(A23<>\"\",IFERROR(VLOOKUP(AP23,Tabelas!B:D,3,0),0),\"\")","v":0},{"$f":"IF(A23<>\"\",IFERROR(VLOOKUP(AQ23,Tabelas!B:D,3,0),0),\"\")","v":0},0,0,0,0,0,0,0,0]
["FULANO 16",16,null,null,null,null,null,null,null,null,null,null,null,null,null,null,null,null,null,null,null,null,null,null,null,null,null,null,null,null,null,null,null,null,null,null,null,null,null,null,null,null,null,{"$f":"IF(A24<>\"\",IFERROR(VLOOKUP(M24,Tabelas!B:D,3,0),0),\"\")","v":0},{"$f":"IF(A24<>\"\",IFERROR(VLOOKUP(N24,Tabelas!B:D,3,0),0),\"\")","v":0},{"$f":"IF(A24<>\"\",IFERROR(VLOOKUP(O24,Tabelas!B:D,3,0),0),\"\")","v":0},{"$f":"IF(A24<>\"\",IFERROR(VLOOKUP(P24,Tabelas!B:D,3,0),0),\"\")","v":0},{"$f":"IF(A24<>\"\",IFERROR(VLOOKUP(Q24,Tabelas!B:D,3,0),0),\"\")","v":0},{"$f":"IF(A24<>\"\",IFERROR(VLOOKUP(R24,Tabelas!B:D,3,0),0),\"\")","v":0},{"$f":"IF(A24<>\"\",IFERROR(VLOOKUP(S24,Tabelas!B:D,3,0),0),\"\")","v":0},{"$f":"IF(A24<>\"\",IFERROR(VLOOKUP(T24,Tabelas!B:D,3,0),0),\"\")","v":0},{"$f":"IF(A24<>\"\",IFERROR(VLOOKUP(U24,Tabelas!B:D,3,0),0),\"\")","v":0},{"$f":"IF(A24<>\"\",IFERROR(VLOOKUP(V24,Tabelas!B:D,3,0),0),\"\")","v":0},{"$f":"IF(A24<>\"\",IFERROR(VLOOKUP(W24,Tabelas!B:D,3,0),0),\"\")","v":0},{"$f":"IF(A24<>\"\",IFERROR(VLOOKUP(X24,Tabelas!B:D,3,0),0),\"\")","v":0},{"$f":"IF(A24<>\"\",IFERROR(VLOOKUP(Y24,Tabelas!B:D,3,0),0),\"\")","v":0},{"$f":"IF(A24<>\"\",IFERROR(VLOOKUP(Z24,Tabelas!B:D,3,0),0),\"\")","v":0},{"$f":"IF(A24<>\"\",IFERROR(VLOOKUP(AA24,Tabelas!B:D,3,0),0),\"\")","v":0},{"$f":"IF(A24<>\"\",IFERROR(VLOOKUP(AB24,Tabelas!B:D,3,0),0),\"\")","v":0},{"$f":"IF(A24<>\"\",IFERROR(VLOOKUP(AC24,Tabelas!B:D,3,0),0),\"\")","v":0},{"$f":"IF(A24<>\"\",IFERROR(VLOOKUP(AD24,Tabelas!B:D,3,0),0),\"\")","v":0},{"$f":"IF(A24<>\"\",IFERROR(VLOOKUP(AE24,Tabelas!B:D,3,0),0),\"\")","v":0},{"$f":"IF(A24<>\"\",IFERROR(VLOOKUP(AF24,Tabelas!B:D,3,0),0),\"\")","v":0},{"$f":"IF(A24<>\"\",IFERROR(VLOOKUP(AG24,Tabelas!B:D,3,0),0),\"\")","v":0},{"$f":"IF(A24<>\"\",IFERROR(VLOOKUP(AH24,Tabelas!B:D,3,0),0),\"\")","v":0},{"$f":"IF(A24<>\"\",IFERROR(VLOOKUP(AI24,Tabelas!B:D,3,0),0),\"\")","v":0},{"$f":"IF(A24<>\"\",IFERROR(VLOOKUP(AJ24,Tabelas!B:D,3,0),0),\"\")","v":0},{"$f":"IF(A24<>\"\",IFERROR(VLOOKUP(AK24,Tabelas!B:D,3,0),0),\"\")","v":0},{"$f":"IF(A24<>\"\",IFERROR(VLOOKUP(AL24,Tabelas!B:D,3,0),0),\"\")","v":0},{"$f":"IF(A24<>\"\",IFERROR(VLOOKUP(AM24,Tabelas!B:D,3,0),0),\"\")","v":0},{"$f":"IF(A24<>\"\",IFERROR(VLOOKUP(AN24,Tabelas!B:D,3,0),0),\"\")","v":0},{"$f":"IF(A24<>\"\",IFERROR(VLOOKUP(AO24,Tabelas!B:D,3,0),0),\"\")","v":0},{"$f":"IF(A24<>\"\",IFERROR(VLOOKUP(AP24,Tabelas!B:D,3,0),0),\"\")","v":0},{"$f":"IF(A24<>\"\",IFERROR(VLOOKUP(AQ24,Tabelas!B:D,3,0),0),\"\")","v":0},0,0,0,0,0,0,0,0]
["FULANO 17",17,null,null,null,null,null,null,null,null,null,null,null,null,null,null,null,null,null,null,null,null,null,null,null,null,null,null,null,null,null,null,null,null,null,null,null,null,null,null,null,null,null,{"$f":"IF(A25<>\"\",IFERROR(VLOOKUP(M25,Tabelas!B:D,3,0),0),\"\")","v":0},{"$f":"IF(A25<>\"\",IFERROR(VLOOKUP(N25,Tabelas!B:D,3,0),0),\"\")","v":0},{"$f":"IF(A25<>\"\",IFERROR(VLOOKUP(O25,Tabelas!B:D,3,0),0),\"\")","v":0},{"$f":"IF(A25<>\"\",IFERROR(VLOOKUP(P25,Tabelas!B:D,3,0),0),\"\")","v":0},{"$f":"IF(A25<>\"\",IFERROR(VLOOKUP(Q25,Tabelas!B:D,3,0),0),\"\")","v":0},{"$f":"IF(A25<>\"\",IFERROR(VLOOKUP(R25,Tabelas!B:D,3,0),0),\"\")","v":0},{"$f":"IF(A25<>\"\",IFERROR(VLOOKUP(S25,Tabelas!B:D,3,0),0),\"\")","v":0},{"$f":"IF(A25<>\"\",IFERROR(VLOOKUP(T25,Tabelas!B:D,3,0),0),\"\")","v":0},{"$f":"IF(A25<>\"\",IFERROR(VLOOKUP(U25,Tabelas!B:D,3,0),0),\"\")","v":0},{"$f":"IF(A25<>\"\",IFERROR(VLOOKUP(V25,Tabelas!B:D,3,0),0),\"\")","v":0},{"$f":"IF(A25<>\"\",IFERROR(VLOOKUP(W25,Tabelas!B:D,3,0),0),\"\")","v":0},{"$f":"IF(A25<>\"\",IFERROR(VLOOKUP(X25,Tabelas!B:D,3,0),0),\"\")","v":0},{"$f":"IF(A25<>\"\",IFERROR(VLOOKUP(Y25,Tabelas!B:D,3,0),0),\"\")","v":0},{"$f":"IF(A25<>\"\",IFERROR(VLOOKUP(Z25,Tabelas!B:D,3,0),0),\"\")","v":0},{"$f":"IF(A25<>\"\",IFERROR(VLOOKUP(AA25,Tabelas!B:D,3,0),0),\"\")","v":0},{"$f":"IF(A25<>\"\",IFERROR(VLOOKUP(AB25,Tabelas!B:D,3,0),0),\"\")","v":0},{"$f":"IF(A25<>\"\",IFERROR(VLOOKUP(AC25,Tabelas!B:D,3,0),0),\"\")","v":0},{"$f":"IF(A25<>\"\",IFERROR(VLOOKUP(AD25,Tabelas!B:D,3,0),0),\"\")","v":0},{"$f":"IF(A25<>\"\",IFERROR(VLOOKUP(AE25,Tabelas!B:D,3,0),0),\"\")","v":0},{"$f":"IF(A25<>\"\",IFERROR(VLOOKUP(AF25,Tabelas!B:D,3,0),0),\"\")","v":0},{"$f":"IF(A25<>\"\",IFERROR(VLOOKUP(AG25,Tabelas!B:D,3,0),0),\"\")","v":0},{"$f":"IF(A25<>\"\",IFERROR(VLOOKUP(AH25,Tabelas!B:D,3,0),0),\"\")","v":0},{"$f":"IF(A25<>\"\",IFERROR(VLOOKUP(AI25,Tabelas!B:D,3,0),0),\"\")","v":0},{"$f":"IF(A25<>\"\",IFERROR(VLOOKUP(AJ25,Tabelas!B:D,3,0),0),\"\")","v":0},{"$f":"IF(A25<>\"\",IFERROR(VLOOKUP(AK25,Tabelas!B:D,3,0),0),\"\")","v":0},{"$f":"IF(A25<>\"\",IFERROR(VLOOKUP(AL25,Tabelas!B:D,3,0),0),\"\")","v":0},{"$f":"IF(A25<>\"\",IFERROR(VLOOKUP(AM25,Tabelas!B:D,3,0),0),\"\")","v":0},{"$f":"IF(A25<>\"\",IFERROR(VLOOKUP(AN25,Tabelas!B:D,3,0),0),\"\")","v":0},{"$f":"IF(A25<>\"\",IFERROR(VLOOKUP(AO25,Tabelas!B:D,3,0),0),\"\")","v":0},{"$f":"IF(A25<>\"\",IFERROR(VLOOKUP(AP25,Tabelas!B:D,3,0),0),\"\")","v":0},{"$f":"IF(A25<>\"\",IFERROR(VLOOKUP(AQ25,Tabelas!B:D,3,0),0),\"\")","v":0},0,0,0,0,0,0,0,0]
["FULANO 18",18,null,null,null,null,null,null,null,null,null,null,null,null,null,null,null,null,null,null,null,null,null,null,null,null,null,null,null,null,null,null,null,null,null,null,null,null,null,null,null,null,null,{"$f":"IF(A26<>\"\",IFERROR(VLOOKUP(M26,Tabelas!B:D,3,0),0),\"\")","v":0},{"$f":"IF(A26<>\"\",IFERROR(VLOOKUP(N26,Tabelas!B:D,3,0),0),\"\")","v":0},{"$f":"IF(A26<>\"\",IFERROR(VLOOKUP(O26,Tabelas!B:D,3,0),0),\"\")","v":0},{"$f":"IF(A26<>\"\",IFERROR(VLOOKUP(P26,Tabelas!B:D,3,0),0),\"\")","v":0},{"$f":"IF(A26<>\"\",IFERROR(VLOOKUP(Q26,Tabelas!B:D,3,0),0),\"\")","v":0},{"$f":"IF(A26<>\"\",IFERROR(VLOOKUP(R26,Tabelas!B:D,3,0),0),\"\")","v":0},{"$f":"IF(A26<>\"\",IFERROR(VLOOKUP(S26,Tabelas!B:D,3,0),0),\"\")","v":0},{"$f":"IF(A26<>\"\",IFERROR(VLOOKUP(T26,Tabelas!B:D,3,0),0),\"\")","v":0},{"$f":"IF(A26<>\"\",IFERROR(VLOOKUP(U26,Tabelas!B:D,3,0),0),\"\")","v":0},{"$f":"IF(A26<>\"\",IFERROR(VLOOKUP(V26,Tabelas!B:D,3,0),0),\"\")","v":0},{"$f":"IF(A26<>\"\",IFERROR(VLOOKUP(W26,Tabelas!B:D,3,0),0),\"\")","v":0},{"$f":"IF(A26<>\"\",IFERROR(VLOOKUP(X26,Tabelas!B:D,3,0),0),\"\")","v":0},{"$f":"IF(A26<>\"\",IFERROR(VLOOKUP(Y26,Tabelas!B:D,3,0),0),\"\")","v":0},{"$f":"IF(A26<>\"\",IFERROR(VLOOKUP(Z26,Tabelas!B:D,3,0),0),\"\")","v":0},{"$f":"IF(A26<>\"\",IFERROR(VLOOKUP(AA26,Tabelas!B:D,3,0),0),\"\")","v":0},{"$f":"IF(A26<>\"\",IFERROR(VLOOKUP(AB26,Tabelas!B:D,3,0),0),\"\")","v":0},{"$f":"IF(A26<>\"\",IFERROR(VLOOKUP(AC26,Tabelas!B:D,3,0),0),\"\")","v":0},{"$f":"IF(A26<>\"\",IFERROR(VLOOKUP(AD26,Tabelas!B:D,3,0),0),\"\")","v":0},{"$f":"IF(A26<>\"\",IFERROR(VLOOKUP(AE26,Tabelas!B:D,3,0),0),\"\")","v":0},{"$f":"IF(A26<>\"\",IFERROR(VLOOKUP(AF26,Tabelas!B:D,3,0),0),\"\")","v":0},{"$f":"IF(A26<>\"\",IFERROR(VLOOKUP(AG26,Tabelas!B:D,3,0),0),\"\")","v":0},{"$f":"IF(A26<>\"\",IFERROR(VLOOKUP(AH26,Tabelas!B:D,3,0),0),\"\")","v":0},{"$f":"IF(A26<>\"\",IFERROR(VLOOKUP(AI26,Tabelas!B:D,3,0),0),\"\")","v":0},{"$f":"IF(A26<>\"\",IFERROR(VLOOKUP(AJ26,Tabelas!B:D,3,0),0),\"\")","v":0},{"$f":"IF(A26<>\"\",IFERROR(VLOOKUP(AK26,Tabelas!B:D,3,0),0),\"\")","v":0},{"$f":"IF(A26<>\"\",IFERROR(VLOOKUP(AL26,Tabelas!B:D,3,0),0),\"\")","v":0},{"$f":"IF(A26<>\"\",IFERROR(VLOOKUP(AM26,Tabelas!B:D,3,0),0),\"\")","v":0},{"$f":"IF(A26<>\"\",IFERROR(VLOOKUP(AN26,Tabelas!B:D,3,0),0),\"\")","v":0},{"$f":"IF(A26<>\"\",IFERROR(VLOOKUP(AO26,Tabelas!B:D,3,0),0),\"\")","v":0},{"$f":"IF(A26<>\"\",IFERROR(VLOOKUP(AP26,Tabelas!B:D,3,0),0),\"\")","v":0},{"$f":"IF(A26<>\"\",IFERROR(VLOOKUP(AQ26,Tabelas!B:D,3,0),0),\"\")","v":0},0,0,0,0,0,0,0,0]
["FULANO 19",19,null,null,null,null,null,null,null,null,null,null,null,null,null,null,null,null,null,null,null,null,null,null,null,null,null,null,null,null,null,null,null,null,null,null,null,null,null,null,null,null,null,{"$f":"IF(A27<>\"\",IFERROR(VLOOKUP(M27,Tabelas!B:D,3,0),0),\"\")","v":0},{"$f":"IF(A27<>\"\",IFERROR(VLOOKUP(N27,Tabelas!B:D,3,0),0),\"\")","v":0},{"$f":"IF(A27<>\"\",IFERROR(VLOOKUP(O27,Tabelas!B:D,3,0),0),\"\")","v":0},{"$f":"IF(A27<>\"\",IFERROR(VLOOKUP(P27,Tabelas!B:D,3,0),0),\"\")","v":0},{"$f":"IF(A27<>\"\",IFERROR(VLOOKUP(Q27,Tabelas!B:D,3,0),0),\"\")","v":0},{"$f":"IF(A27<>\"\",IFERROR(VLOOKUP(R27,Tabelas!B:D,3,0),0),\"\")","v":0},{"$f":"IF(A27<>\"\",IFERROR(VLOOKUP(S27,Tabelas!B:D,3,0),0),\"\")","v":0},{"$f":"IF(A27<>\"\",IFERROR(VLOOKUP(T27,Tabelas!B:D,3,0),0),\"\")","v":0},{"$f":"IF(A27<>\"\",IFERROR(VLOOKUP(U27,Tabelas!B:D,3,0),0),\"\")","v":0},{"$f":"IF(A27<>\"\",IFERROR(VLOOKUP(V27,Tabelas!B:D,3,0),0),\"\")","v":0},{"$f":"IF(A27<>\"\",IFERROR(VLOOKUP(W27,Tabelas!B:D,3,0),0),\"\")","v":0},{"$f":"IF(A27<>\"\",IFERROR(VLOOKUP(X27,Tabelas!B:D,3,0),0),\"\")","v":0},{"$f":"IF(A27<>\"\",IFERROR(VLOOKUP(Y27,Tabelas!B:D,3,0),0),\"\")","v":0},{"$f":"IF(A27<>\"\",IFERROR(VLOOKUP(Z27,Tabelas!B:D,3,0),0),\"\")","v":0},{"$f":"IF(A27<>\"\",IFERROR(VLOOKUP(AA27,Tabelas!B:D,3,0),0),\"\")","v":0},{"$f":"IF(A27<>\"\",IFERROR(VLOOKUP(AB27,Tabelas!B:D,3,0),0),\"\")","v":0},{"$f":"IF(A27<>\"\",IFERROR(VLOOKUP(AC27,Tabelas!B:D,3,0),0),\"\")","v":0},{"$f":"IF(A27<>\"\",IFERROR(VLOOKUP(AD27,Tabelas!B:D,3,0),0),\"\")","v":0},{"$f":"IF(A27<>\"\",IFERROR(VLOOKUP(AE27,Tabelas!B:D,3,0),0),\"\")","v":0},{"$f":"IF(A27<>\"\",IFERROR(VLOOKUP(AF27,Tabelas!B:D,3,0),0),\"\")","v":0},{"$f":"IF(A27<>\"\",IFERROR(VLOOKUP(AG27,Tabelas!B:D,3,0),0),\"\")","v":0},{"$f":"IF(A27<>\"\",IFERROR(VLOOKUP(AH27,Tabelas!B:D,3,0),0),\"\")","v":0},{"$f":"IF(A27<>\"\",IFERROR(VLOOKUP(AI27,Tabelas!B:D,3,0),0),\"\")","v":0},{"$f":"IF(A27<>\"\",IFERROR(VLOOKUP(AJ27,Tabelas!B:D,3,0),0),\"\")","v":0},{"$f":"IF(A27<>\"\",IFERROR(VLOOKUP(AK27,Tabelas!B:D,3,0),0),\"\")","v":0},{"$f":"IF(A27<>\"\",IFERROR(VLOOKUP(AL27,Tabelas!B:D,3,0),0),\"\")","v":0},{"$f":"IF(A27<>\"\",IFERROR(VLOOKUP(AM27,Tabelas!B:D,3,0),0),\"\")","v":0},{"$f":"IF(A27<>\"\",IFERROR(VLOOKUP(AN27,Tabelas!B:D,3,0),0),\"\")","v":0},{"$f":"IF(A27<>\"\",IFERROR(VLOOKUP(AO27,Tabelas!B:D,3,0),0),\"\")","v":0},{"$f":"IF(A27<>\"\",IFERROR(VLOOKUP(AP27,Tabelas!B:D,3,0),0),\"\")","v":0},{"$f":"IF(A27<>\"\",IFERROR(VLOOKUP(AQ27,Tabelas!B:D,3,0),0),\"\")","v":0},0,0,0,0,0,0,0,0]
["FULANO 20",20,null,null,null,null,null,null,null,null,null,null,null,null,null,null,null,null,null,null,null,null,null,null,null,null,null,null,null,null,null,null,null,null,null,null,null,null,null,null,null,null,null,{"$f":"IF(A28<>\"\",IFERROR(VLOOKUP(M28,Tabelas!B:D,3,0),0),\"\")","v":0},{"$f":"IF(A28<>\"\",IFERROR(VLOOKUP(N28,Tabelas!B:D,3,0),0),\"\")","v":0},{"$f":"IF(A28<>\"\",IFERROR(VLOOKUP(O28,Tabelas!B:D,3,0),0),\"\")","v":0},{"$f":"IF(A28<>\"\",IFERROR(VLOOKUP(P28,Tabelas!B:D,3,0),0),\"\")","v":0},{"$f":"IF(A28<>\"\",IFERROR(VLOOKUP(Q28,Tabelas!B:D,3,0),0),\"\")","v":0},{"$f":"IF(A28<>\"\",IFERROR(VLOOKUP(R28,Tabelas!B:D,3,0),0),\"\")","v":0},{"$f":"IF(A28<>\"\",IFERROR(VLOOKUP(S28,Tabelas!B:D,3,0),0),\"\")","v":0},{"$f":"IF(A28<>\"\",IFERROR(VLOOKUP(T28,Tabelas!B:D,3,0),0),\"\")","v":0},{"$f":"IF(A28<>\"\",IFERROR(VLOOKUP(U28,Tabelas!B:D,3,0),0),\"\")","v":0},{"$f":"IF(A28<>\"\",IFERROR(VLOOKUP(V28,Tabelas!B:D,3,0),0),\"\")","v":0},{"$f":"IF(A28<>\"\",IFERROR(VLOOKUP(W28,Tabelas!B:D,3,0),0),\"\")","v":0},{"$f":"IF(A28<>\"\",IFERROR(VLOOKUP(X28,Tabelas!B:D,3,0),0),\"\")","v":0},{"$f":"IF(A28<>\"\",IFERROR(VLOOKUP(Y28,Tabelas!B:D,3,0),0),\"\")","v":0},{"$f":"IF(A28<>\"\",IFERROR(VLOOKUP(Z28,Tabelas!B:D,3,0),0),\"\")","v":0},{"$f":"IF(A28<>\"\",IFERROR(VLOOKUP(AA28,Tabelas!B:D,3,0),0),\"\")","v":0},{"$f":"IF(A28<>\"\",IFERROR(VLOOKUP(AB28,Tabelas!B:D,3,0),0),\"\")","v":0},{"$f":"IF(A28<>\"\",IFERROR(VLOOKUP(AC28,Tabelas!B:D,3,0),0),\"\")","v":0},{"$f":"IF(A28<>\"\",IFERROR(VLOOKUP(AD28,Tabelas!B:D,3,0),0),\"\")","v":0},{"$f":"IF(A28<>\"\",IFERROR(VLOOKUP(AE28,Tabelas!B:D,3,0),0),\"\")","v":0},{"$f":"IF(A28<>\"\",IFERROR(VLOOKUP(AF28,Tabelas!B:D,3,0),0),\"\")","v":0},{"$f":"IF(A28<>\"\",IFERROR(VLOOKUP(AG28,Tabelas!B:D,3,0),0),\"\")","v":0},{"$f":"IF(A28<>\"\",IFERROR(VLOOKUP(AH28,Tabelas!B:D,3,0),0),\"\")","v":0},{"$f":"IF(A28<>\"\",IFERROR(VLOOKUP(AI28,Tabelas!B:D,3,0),0),\"\")","v":0},{"$f":"IF(A28<>\"\",IFERROR(VLOOKUP(AJ28,Tabelas!B:D,3,0),0),\"\")","v":0},{"$f":"IF(A28<>\"\",IFERROR(VLOOKUP(AK28,Tabelas!B:D,3,0),0),\"\")","v":0},{"$f":"IF(A28<>\"\",IFERROR(VLOOKUP(AL28,Tabelas!B:D,3,0),0),\"\")","v":0},{"$f":"IF(A28<>\"\",IFERROR(VLOOKUP(AM28,Tabelas!B:D,3,0),0),\"\")","v":0},{"$f":"IF(A28<>\"\",IFERROR(VLOOKUP(AN28,Tabelas!B:D,3,0),0),\"\")","v":0},{"$f":"IF(A28<>\"\",IFERROR(VLOOKUP(AO28,Tabelas!B:D,3,0),0),\"\")","v":0},{"$f":"IF(A28<>\"\",IFERROR(VLOOKUP(AP28,Tabelas!B:D,3,0),0),\"\")","v":0},{"$f":"IF(A28<>\"\",IFERROR(VLOOKUP(AQ28,Tabelas!B:D,3,0),0),\"\")","v":0},0,0,0,0,0,0,0,0]
["FULANO 21",21,null,null,null,null,null,null,null,null,null,null,null,null,null,null,null,null,null,null,null,null,null,null,null,null,null,null,null,null,null,null,null,null,null,null,null,null,null,null,null,null,null,{"$f":"IF(A29<>\"\",IFERROR(VLOOKUP(M29,Tabelas!B:D,3,0),0),\"\")","v":0},{"$f":"IF(A29<>\"\",IFERROR(VLOOKUP(N29,Tabelas!B:D,3,0),0),\"\")","v":0},{"$f":"IF(A29<>\"\",IFERROR(VLOOKUP(O29,Tabelas!B:D,3,0),0),\"\")","v":0},{"$f":"IF(A29<>\"\",IFERROR(VLOOKUP(P29,Tabelas!B:D,3,0),0),\"\")","v":0},{"$f":"IF(A29<>\"\",IFERROR(VLOOKUP(Q29,Tabelas!B:D,3,0),0),\"\")","v":0},{"$f":"IF(A29<>\"\",IFERROR(VLOOKUP(R29,Tabelas!B:D,3,0),0),\"\")","v":0},{"$f":"IF(A29<>\"\",IFERROR(VLOOKUP(S29,Tabelas!B:D,3,0),0),\"\")","v":0},{"$f":"IF(A29<>\"\",IFERROR(VLOOKUP(T29,Tabelas!B:D,3,0),0),\"\")","v":0},{"$f":"IF(A29<>\"\",IFERROR(VLOOKUP(U29,Tabelas!B:D,3,0),0),\"\")","v":0},{"$f":"IF(A29<>\"\",IFERROR(VLOOKUP(V29,Tabelas!B:D,3,0),0),\"\")","v":0},{"$f":"IF(A29<>\"\",IFERROR(VLOOKUP(W29,Tabelas!B:D,3,0),0),\"\")","v":0},{"$f":"IF(A29<>\"\",IFERROR(VLOOKUP(X29,Tabelas!B:D,3,0),0),\"\")","v":0},{"$f":"IF(A29<>\"\",IFERROR(VLOOKUP(Y29,Tabelas!B:D,3,0),0),\"\")","v":0},{"$f":"IF(A29<>\"\",IFERROR(VLOOKUP(Z29,Tabelas!B:D,3,0),0),\"\")","v":0},{"$f":"IF(A29<>\"\",IFERROR(VLOOKUP(AA29,Tabelas!B:D,3,0),0),\"\")","v":0},{"$f":"IF(A29<>\"\",IFERROR(VLOOKUP(AB29,Tabelas!B:D,3,0),0),\"\")","v":0},{"$f":"IF(A29<>\"\",IFERROR(VLOOKUP(AC29,Tabelas!B:D,3,0),0),\"\")","v":0},{"$f":"IF(A29<>\"\",IFERROR(VLOOKUP(AD29,Tabelas!B:D,3,0),0),\"\")","v":0},{"$f":"IF(A29<>\"\",IFERROR(VLOOKUP(AE29,Tabelas!B:D,3,0),0),\"\")","v":0},{"$f":"IF(A29<>\"\",IFERROR(VLOOKUP(AF29,Tabelas!B:D,3,0),0),\"\")","v":0},{"$f":"IF(A29<>\"\",IFERROR(VLOOKUP(AG29,Tabelas!B:D,3,0),0),\"\")","v":0},{"$f":"IF(A29<>\"\",IFERROR(VLOOKUP(AH29,Tabelas!B:D,3,0),0),\"\")","v":0},{"$f":"IF(A29<>\"\",IFERROR(VLOOKUP(AI29,Tabelas!B:D,3,0),0),\"\")","v":0},{"$f":"IF(A29<>\"\",IFERROR(VLOOKUP(AJ29,Tabelas!B:D,3,0),0),\"\")","v":0},{"$f":"IF(A29<>\"\",IFERROR(VLOOKUP(AK29,Tabelas!B:D,3,0),0),\"\")","v":0},{"$f":"IF(A29<>\"\",IFERROR(VLOOKUP(AL29,Tabelas!B:D,3,0),0),\"\")","v":0},{"$f":"IF(A29<>\"\",IFERROR(VLOOKUP(AM29,Tabelas!B:D,3,0),0),\"\")","v":0},{"$f":"IF(A29<>\"\",IFERROR(VLOOKUP(AN29,Tabelas!B:D,3,0),0),\"\")","v":0},{"$f":"IF(A29<>\"\",IFERROR(VLOOKUP(AO29,Tabelas!B:D,3,0),0),\"\")","v":0},{"$f":"IF(A29<>\"\",IFERROR(VLOOKUP(AP29,Tabelas!B:D,3,0),0),\"\")","v":0},{"$f":"IF(A29<>\"\",IFERROR(VLOOKUP(AQ29,Tabelas!B:D,3,0),0),\"\")","v":0},0,0,0,0,0,0,0,0]
["FULANO 22",22,null,null,null,null,null,null,null,null,null,null,null,null,null,null,null,null,null,null,null,null,null,null,null,null,null,null,null,null,null,null,null,null,null,null,null,null,null,null,null,null,null,{"$f":"IF(A30<>\"\",IFERROR(VLOOKUP(M30,Tabelas!B:D,3,0),0),\"\")","v":0},{"$f":"IF(A30<>\"\",IFERROR(VLOOKUP(N30,Tabelas!B:D,3,0),0),\"\")","v":0},{"$f":"IF(A30<>\"\",IFERROR(VLOOKUP(O30,Tabelas!B:D,3,0),0),\"\")","v":0},{"$f":"IF(A30<>\"\",IFERROR(VLOOKUP(P30,Tabelas!B:D,3,0),0),\"\")","v":0},{"$f":"IF(A30<>\"\",IFERROR(VLOOKUP(Q30,Tabelas!B:D,3,0),0),\"\")","v":0},{"$f":"IF(A30<>\"\",IFERROR(VLOOKUP(R30,Tabelas!B:D,3,0),0),\"\")","v":0},{"$f":"IF(A30<>\"\",IFERROR(VLOOKUP(S30,Tabelas!B:D,3,0),0),\"\")","v":0},{"$f":"IF(A30<>\"\",IFERROR(VLOOKUP(T30,Tabelas!B:D,3,0),0),\"\")","v":0},{"$f":"IF(A30<>\"\",IFERROR(VLOOKUP(U30,Tabelas!B:D,3,0),0),\"\")","v":0},{"$f":"IF(A30<>\"\",IFERROR(VLOOKUP(V30,Tabelas!B:D,3,0),0),\"\")","v":0},{"$f":"IF(A30<>\"\",IFERROR(VLOOKUP(W30,Tabelas!B:D,3,0),0),\"\")","v":0},{"$f":"IF(A30<>\"\",IFERROR(VLOOKUP(X30,Tabelas!B:D,3,0),0),\"\")","v":0},{"$f":"IF(A30<>\"\",IFERROR(VLOOKUP(Y30,Tabelas!B:D,3,0),0),\"\")","v":0},{"$f":"IF(A30<>\"\",IFERROR(VLOOKUP(Z30,Tabelas!B:D,3,0),0),\"\")","v":0},{"$f":"IF(A30<>\"\",IFERROR(VLOOKUP(AA30,Tabelas!B:D,3,0),0),\"\")","v":0},{"$f":"IF(A30<>\"\",IFERROR(VLOOKUP(AB30,Tabelas!B:D,3,0),0),\"\")","v":0},{"$f":"IF(A30<>\"\",IFERROR(VLOOKUP(AC30,Tabelas!B:D,3,0),0),\"\")","v":0},{"$f":"IF(A30<>\"\",IFERROR(VLOOKUP(AD30,Tabelas!B:D,3,0),0),\"\")","v":0},{"$f":"IF(A30<>\"\",IFERROR(VLOOKUP(AE30,Tabelas!B:D,3,0),0),\"\")","v":0},{"$f":"IF(A30<>\"\",IFERROR(VLOOKUP(AF30,Tabelas!B:D,3,0),0),\"\")","v":0},{"$f":"IF(A30<>\"\",IFERROR(VLOOKUP(AG30,Tabelas!B:D,3,0),0),\"\")","v":0},{"$f":"IF(A30<>\"\",IFERROR(VLOOKUP(AH30,Tabelas!B:D,3,0),0),\"\")","v":0},{"$f":"IF(A30<>\"\",IFERROR(VLOOKUP(AI30,Tabelas!B:D,3,0),0),\"\")","v":0},{"$f":"IF(A30<>\"\",IFERROR(VLOOKUP(AJ30,Tabelas!B:D,3,0),0),\"\")","v":0},{"$f":"IF(A30<>\"\",IFERROR(VLOOKUP(AK30,Tabelas!B:D,3,0),0),\"\")","v":0},{"$f":"IF(A30<>\"\",IFERROR(VLOOKUP(AL30,Tabelas!B:D,3,0),0),\"\")","v":0},{"$f":"IF(A30<>\"\",IFERROR(VLOOKUP(AM30,Tabelas!B:D,3,0),0),\"\")","v":0},{"$f":"IF(A30<>\"\",IFERROR(VLOOKUP(AN30,Tabelas!B:D,3,0),0),\"\")","v":0},{"$f":"IF(A30<>\"\",IFERROR(VLOOKUP(AO30,Tabelas!B:D,3,0),0),\"\")","v":0},{"$f":"IF(A30<>\"\",IFERROR(VLOOKUP(AP30,Tabelas!B:D,3,0),0),\"\")","v":0},{"$f":"IF(A30<>\"\",IFERROR(VLOOKUP(AQ30,Tabelas!B:D,3,0),0),\"\")","v":0},0,0,0,0,0,0,0,0]
["FULANO 23",23,null,null,null,null,null,null,null,null,null,null,null,null,null,null,null,null,null,null,null,null,null,null,null,null,null,null,null,null,null,null,null,null,null,null,null,null,null,null,null,null,null,{"$f":"IF(A31<>\"\",IFERROR(VLOOKUP(M31,Tabelas!B:D,3,0),0),\"\")","v":0},{"$f":"IF(A31<>\"\",IFERROR(VLOOKUP(N31,Tabelas!B:D,3,0),0),\"\")","v":0},{"$f":"IF(A31<>\"\",IFERROR(VLOOKUP(O31,Tabelas!B:D,3,0),0),\"\")","v":0},{"$f":"IF(A31<>\"\",IFERROR(VLOOKUP(P31,Tabelas!B:D,3,0),0),\"\")","v":0},{"$f":"IF(A31<>\"\",IFERROR(VLOOKUP(Q31,Tabelas!B:D,3,0),0),\"\")","v":0},{"$f":"IF(A31<>\"\",IFERROR(VLOOKUP(R31,Tabelas!B:D,3,0),0),\"\")","v":0},{"$f":"IF(A31<>\"\",IFERROR(VLOOKUP(S31,Tabelas!B:D,3,0),0),\"\")","v":0},{"$f":"IF(A31<>\"\",IFERROR(VLOOKUP(T31,Tabelas!B:D,3,0),0),\"\")","v":0},{"$f":"IF(A31<>\"\",IFERROR(VLOOKUP(U31,Tabelas!B:D,3,0),0),\"\")","v":0},{"$f":"IF(A31<>\"\",IFERROR(VLOOKUP(V31,Tabelas!B:D,3,0),0),\"\")","v":0},{"$f":"IF(A31<>\"\",IFERROR(VLOOKUP(W31,Tabelas!B:D,3,0),0),\"\")","v":0},{"$f":"IF(A31<>\"\",IFERROR(VLOOKUP(X31,Tabelas!B:D,3,0),0),\"\")","v":0},{"$f":"IF(A31<>\"\",IFERROR(VLOOKUP(Y31,Tabelas!B:D,3,0),0),\"\")","v":0},{"$f":"IF(A31<>\"\",IFERROR(VLOOKUP(Z31,Tabelas!B:D,3,0),0),\"\")","v":0},{"$f":"IF(A31<>\"\",IFERROR(VLOOKUP(AA31,Tabelas!B:D,3,0),0),\"\")","v":0},{"$f":"IF(A31<>\"\",IFERROR(VLOOKUP(AB31,Tabelas!B:D,3,0),0),\"\")","v":0},{"$f":"IF(A31<>\"\",IFERROR(VLOOKUP(AC31,Tabelas!B:D,3,0),0),\"\")","v":0},{"$f":"IF(A31<>\"\",IFERROR(VLOOKUP(AD31,Tabelas!B:D,3,0),0),\"\")","v":0},{"$f":"IF(A31<>\"\",IFERROR(VLOOKUP(AE31,Tabelas!B:D,3,0),0),\"\")","v":0},{"$f":"IF(A31<>\"\",IFERROR(VLOOKUP(AF31,Tabelas!B:D,3,0),0),\"\")","v":0},{"$f":"IF(A31<>\"\",IFERROR(VLOOKUP(AG31,Tabelas!B:D,3,0),0),\"\")","v":0},{"$f":"IF(A31<>\"\",IFERROR(VLOOKUP(AH31,Tabelas!B:D,3,0),0),\"\")","v":0},{"$f":"IF(A31<>\"\",IFERROR(VLOOKUP(AI31,Tabelas!B:D,3,0),0),\"\")","v":0},{"$f":"IF(A31<>\"\",IFERROR(VLOOKUP(AJ31,Tabelas!B:D,3,0),0),\"\")","v":0},{"$f":"IF(A31<>\"\",IFERROR(VLOOKUP(AK31,Tabelas!B:D,3,0),0),\"\")","v":0},{"$f":"IF(A31<>\"\",IFERROR(VLOOKUP(AL31,Tabelas!B:D,3,0),0),\"\")","v":0},{"$f":"IF(A31<>\"\",IFERROR(VLOOKUP(AM31,Tabelas!B:D,3,0),0),\"\")","v":0},{"$f":"IF(A31<>\"\",IFERROR(VLOOKUP(AN31,Tabelas!B:D,3,0),0),\"\")","v":0},{"$f":"IF(A31<>\"\",IFERROR(VLOOKUP(AO31,Tabelas!B:D,3,0),0),\"\")","v":0},{"$f":"IF(A31<>\"\",IFERROR(VLOOKUP(AP31,Tabelas!B:D,3,0),0),\"\")","v":0},{"$f":"IF(A31<>\"\",IFERROR(VLOOKUP(AQ31,Tabelas!B:D,3,0),0),\"\")","v":0},0,0,0,0,0,0,{"$f":"IF(A31<>\"\",COUNTIF(M31:AQ31,\"AF1\")+COUNTIF(M31:AQ31,\"AF2\")+COUNTIF(M31:AQ31,\"AF3\")+COUNTIF(M31:AQ31,\"AF4\")+COUNTIF(M31:AQ31,\"AF5\")+COUNTIF(M31:AQ31,\"AF6\")+COUNTIF(M31:AQ31,\"AF7\")+COUNTIF(M31:AQ31,\"AF8\")+COUNTIF(M31:AQ31,\"AF9\")+COUNTIF(M31:AQ31,\"AF10\")+COUNTIF(M31:AQ31,\"AF11\")+COUNTIF(M31:AQ31,\"AF12\")+COUNTIF(M31:AQ31,\"AF13\")+COUNTIF(M31:AQ31,\"AF14\"),\"\")","v":0},0]
["FULANO 24",24,null,null,null,null,null,null,null,null,null,null,null,null,null,null,null,null,null,null,null,null,null,null,null,null,null,null,null,null,null,null,null,null,null,null,null,null,null,null,null,null,null,{"$f":"IF(A32<>\"\",IFERROR(VLOOKUP(M32,Tabelas!B:D,3,0),0),\"\")","v":0},{"$f":"IF(A32<>\"\",IFERROR(VLOOKUP(N32,Tabelas!B:D,3,0),0),\"\")","v":0},{"$f":"IF(A32<>\"\",IFERROR(VLOOKUP(O32,Tabelas!B:D,3,0),0),\"\")","v":0},{"$f":"IF(A32<>\"\",IFERROR(VLOOKUP(P32,Tabelas!B:D,3,0),0),\"\")","v":0},{"$f":"IF(A32<>\"\",IFERROR(VLOOKUP(Q32,Tabelas!B:D,3,0),0),\"\")","v":0},{"$f":"IF(A32<>\"\",IFERROR(VLOOKUP(R32,Tabelas!B:D,3,0),0),\"\")","v":0},{"$f":"IF(A32<>\"\",IFERROR(VLOOKUP(S32,Tabelas!B:D,3,0),0),\"\")","v":0},{"$f":"IF(A32<>\"\",IFERROR(VLOOKUP(T32,Tabelas!B:D,3,0),0),\"\")","v":0},{"$f":"IF(A32<>\"\",IFERROR(VLOOKUP(U32,Tabelas!B:D,3,0),0),\"\")","v":0},{"$f":"IF(A32<>\"\",IFERROR(VLOOKUP(V32,Tabelas!B:D,3,0),0),\"\")","v":0},{"$f":"IF(A32<>\"\",IFERROR(VLOOKUP(W32,Tabelas!B:D,3,0),0),\"\")","v":0},{"$f":"IF(A32<>\"\",IFERROR(VLOOKUP(X32,Tabelas!B:D,3,0),0),\"\")","v":0},{"$f":"IF(A32<>\"\",IFERROR(VLOOKUP(Y32,Tabelas!B:D,3,0),0),\"\")","v":0},{"$f":"IF(A32<>\"\",IFERROR(VLOOKUP(Z32,Tabelas!B:D,3,0),0),\"\")","v":0},{"$f":"IF(A32<>\"\",IFERROR(VLOOKUP(AA32,Tabelas!B:D,3,0),0),\"\")","v":0},{"$f":"IF(A32<>\"\",IFERROR(VLOOKUP(AB32,Tabelas!B:D,3,0),0),\"\")","v":0},{"$f":"IF(A32<>\"\",IFERROR(VLOOKUP(AC32,Tabelas!B:D,3,0),0),\"\")","v":0},{"$f":"IF(A32<>\"\",IFERROR(VLOOKUP(AD32,Tabelas!B:D,3,0),0),\"\")","v":0},{"$f":"IF(A32<>\"\",IFERROR(VLOOKUP(AE32,Tabelas!B:D,3,0),0),\"\")","v":0},{"$f":"IF(A32<>\"\",IFERROR(VLOOKUP(AF32,Tabelas!B:D,3,0),0),\"\")","v":0},{"$f":"IF(A32<>\"\",IFERROR(VLOOKUP(AG32,Tabelas!B:D,3,0),0),\"\")","v":0},{"$f":"IF(A32<>\"\",IFERROR(VLOOKUP(AH32,Tabelas!B:D,3,0),0),\"\")","v":0},{"$f":"IF(A32<>\"\",IFERROR(VLOOKUP(AI32,Tabelas!B:D,3,0),0),\"\")","v":0},{"$f":"IF(A32<>\"\",IFERROR(VLOOKUP(AJ32,Tabelas!B:D,3,0),0),\"\")","v":0},{"$f":"IF(A32<>\"\",IFERROR(VLOOKUP(AK32,Tabelas!B:D,3,0),0),\"\")","v":0},{"$f":"IF(A32<>\"\",IFERROR(VLOOKUP(AL32,Tabelas!B:D,3,0),0),\"\")","v":0},{"$f":"IF(A32<>\"\",IFERROR(VLOOKUP(AM32,Tabelas!B:D,3,0),0),\"\")","v":0},{"$f":"IF(A32<>\"\",IFERROR(VLOOKUP(AN32,Tabelas!B:D,3,0),0),\"\")","v":0},{"$f":"IF(A32<>\"\",IFERROR(VLOOKUP(AO32,Tabelas!B:D,3,0),0),\"\")","v":0},{"$f":"IF(A32<>\"\",IFERROR(VLOOKUP(AP32,Tabelas!B:D,3,0),0),\"\")","v":0},{"$f":"IF(A32<>\"\",IFERROR(VLOOKUP(AQ32,Tabelas!B:D,3,0),0),\"\")","v":0},0,0,0,0,0,0,0,0]
["FULANO 25",25,null,null,null,null,null,null,null,null,null,null,null,null,null,null,null,null,null,null,null,null,null,null,null,null,null,null,null,null,null,null,null,null,null,null,null,null,null,null,null,null,null,{"$f":"IF(A33<>\"\",IFERROR(VLOOKUP(M33,Tabelas!B:D,3,0),0),\"\")","v":0},{"$f":"IF(A33<>\"\",IFERROR(VLOOKUP(N33,Tabelas!B:D,3,0),0),\"\")","v":0},{"$f":"IF(A33<>\"\",IFERROR(VLOOKUP(O33,Tabelas!B:D,3,0),0),\"\")","v":0},{"$f":"IF(A33<>\"\",IFERROR(VLOOKUP(P33,Tabelas!B:D,3,0),0),\"\")","v":0},{"$f":"IF(A33<>\"\",IFERROR(VLOOKUP(Q33,Tabelas!B:D,3,0),0),\"\")","v":0},{"$f":"IF(A33<>\"\",IFERROR(VLOOKUP(R33,Tabelas!B:D,3,0),0),\"\")","v":0},{"$f":"IF(A33<>\"\",IFERROR(VLOOKUP(S33,Tabelas!B:D,3,0),0),\"\")","v":0},{"$f":"IF(A33<>\"\",IFERROR(VLOOKUP(T33,Tabelas!B:D,3,0),0),\"\")","v":0},{"$f":"IF(A33<>\"\",IFERROR(VLOOKUP(U33,Tabelas!B:D,3,0),0),\"\")","v":0},{"$f":"IF(A33<>\"\",IFERROR(VLOOKUP(V33,Tabelas!B:D,3,0),0),\"\")","v":0},{"$f":"IF(A33<>\"\",IFERROR(VLOOKUP(W33,Tabelas!B:D,3,0),0),\"\")","v":0},{"$f":"IF(A33<>\"\",IFERROR(VLOOKUP(X33,Tabelas!B:D,3,0),0),\"\")","v":0},{"$f":"IF(A33<>\"\",IFERROR(VLOOKUP(Y33,Tabelas!B:D,3,0),0),\"\")","v":0},{"$f":"IF(A33<>\"\",IFERROR(VLOOKUP(Z33,Tabelas!B:D,3,0),0),\"\")","v":0},{"$f":"IF(A33<>\"\",IFERROR(VLOOKUP(AA33,Tabelas!B:D,3,0),0),\"\")","v":0},{"$f":"IF(A33<>\"\",IFERROR(VLOOKUP(AB33,Tabelas!B:D,3,0),0),\"\")","v":0},{"$f":"IF(A33<>\"\",IFERROR(VLOOKUP(AC33,Tabelas!B:D,3,0),0),\"\")","v":0},{"$f":"IF(A33<>\"\",IFERROR(VLOOKUP(AD33,Tabelas!B:D,3,0),0),\"\")","v":0},{"$f":"IF(A33<>\"\",IFERROR(VLOOKUP(AE33,Tabelas!B:D,3,0),0),\"\")","v":0},{"$f":"IF(A33<>\"\",IFERROR(VLOOKUP(AF33,Tabelas!B:D,3,0),0),\"\")","v":0},{"$f":"IF(A33<>\"\",IFERROR(VLOOKUP(AG33,Tabelas!B:D,3,0),0),\"\")","v":0},{"$f":"IF(A33<>\"\",IFERROR(VLOOKUP(AH33,Tabelas!B:D,3,0),0),\"\")","v":0},{"$f":"IF(A33<>\"\",IFERROR(VLOOKUP(AI33,Tabelas!B:D,3,0),0),\"\")","v":0},{"$f":"IF(A33<>\"\",IFERROR(VLOOKUP(AJ33,Tabelas!B:D,3,0),0),\"\")","v":0},{"$f":"IF(A33<>\"\",IFERROR(VLOOKUP(AK33,Tabelas!B:D,3,0),0),\"\")","v":0},{"$f":"IF(A33<>\"\",IFERROR(VLOOKUP(AL33,Tabelas!B:D,3,0),0),\"\")","v":0},{"$f":"IF(A33<>\"\",IFERROR(VLOOKUP(AM33,Tabelas!B:D,3,0),0),\"\")","v":0},{"$f":"IF(A33<>\"\",IFERROR(VLOOKUP(AN33,Tabelas!B:D,3,0),0),\"\")","v":0},{"$f":"IF(A33<>\"\",IFERROR(VLOOKUP(AO33,Tabelas!B:D,3,0),0),\"\")","v":0},{"$f":"IF(A33<>\"\",IFERROR(VLOOKUP(AP33,Tabelas!B:D,3,0),0),\"\")","v":0},{"$f":"IF(A33<>\"\",IFERROR(VLOOKUP(AQ33,Tabelas!B:D,3,0),0),\"\")","v":0},0,0,0,0,0,0,0,0]
["FULANO 26",26,null,null,null,null,null,null,null,null,null,null,null,null,null,null,null,null,null,null,null,null,null,null,null,null,null,null,null,null,null,null,null,null,null,null,null,null,null,null,null,null,null,{"$f":"IF(A34<>\"\",IFERROR(VLOOKUP(M34,Tabelas!B:D,3,0),0),\"\")","v":0},{"$f":"IF(A34<>\"\",IFERROR(VLOOKUP(N34,Tabelas!B:D,3,0),0),\"\")","v":0},{"$f":"IF(A34<>\"\",IFERROR(VLOOKUP(O34,Tabelas!B:D,3,0),0),\"\")","v":0},{"$f":"IF(A34<>\"\",IFERROR(VLOOKUP(P34,Tabelas!B:D,3,0),0),\"\")","v":0},{"$f":"IF(A34<>\"\",IFERROR(VLOOKUP(Q34,Tabelas!B:D,3,0),0),\"\")","v":0},{"$f":"IF(A34<>\"\",IFERROR(VLOOKUP(R34,Tabelas!B:D,3,0),0),\"\")","v":0},{"$f":"IF(A34<>\"\",IFERROR(VLOOKUP(S34,Tabelas!B:D,3,0),0),\"\")","v":0},{"$f":"IF(A34<>\"\",IFERROR(VLOOKUP(T34,Tabelas!B:D,3,0),0),\"\")","v":0},{"$f":"IF(A34<>\"\",IFERROR(VLOOKUP(U34,Tabelas!B:D,3,0),0),\"\")","v":0},{"$f":"IF(A34<>\"\",IFERROR(VLOOKUP(V34,Tabelas!B:D,3,0),0),\"\")","v":0},{"$f":"IF(A34<>\"\",IFERROR(VLOOKUP(W34,Tabelas!B:D,3,0),0),\"\")","v":0},{"$f":"IF(A34<>\"\",IFERROR(VLOOKUP(X34,Tabelas!B:D,3,0),0),\"\")","v":0},{"$f":"IF(A34<>\"\",IFERROR(VLOOKUP(Y34,Tabelas!B:D,3,0),0),\"\")","v":0},{"$f":"IF(A34<>\"\",IFERROR(VLOOKUP(Z34,Tabelas!B:D,3,0),0),\"\")","v":0},{"$f":"IF(A34<>\"\",IFERROR(VLOOKUP(AA34,Tabelas!B:D,3,0),0),\"\")","v":0},{"$f":"IF(A34<>\"\",IFERROR(VLOOKUP(AB34,Tabelas!B:D,3,0),0),\"\")","v":0},{"$f":"IF(A34<>\"\",IFERROR(VLOOKUP(AC34,Tabelas!B:D,3,0),0),\"\")","v":0},{"$f":"IF(A34<>\"\",IFERROR(VLOOKUP(AD34,Tabelas!B:D,3,0),0),\"\")","v":0},{"$f":"IF(A34<>\"\",IFERROR(VLOOKUP(AE34,Tabelas!B:D,3,0),0),\"\")","v":0},{"$f":"IF(A34<>\"\",IFERROR(VLOOKUP(AF34,Tabelas!B:D,3,0),0),\"\")","v":0},{"$f":"IF(A34<>\"\",IFERROR(VLOOKUP(AG34,Tabelas!B:D,3,0),0),\"\")","v":0},{"$f":"IF(A34<>\"\",IFERROR(VLOOKUP(AH34,Tabelas!B:D,3,0),0),\"\")","v":0},{"$f":"IF(A34<>\"\",IFERROR(VLOOKUP(AI34,Tabelas!B:D,3,0),0),\"\")","v":0},{"$f":"IF(A34<>\"\",IFERROR(VLOOKUP(AJ34,Tabelas!B:D,3,0),0),\"\")","v":0},{"$f":"IF(A34<>\"\",IFERROR(VLOOKUP(AK34,Tabelas!B:D,3,0),0),\"\")","v":0},{"$f":"IF(A34<>\"\",IFERROR(VLOOKUP(AL34,Tabelas!B:D,3,0),0),\"\")","v":0},{"$f":"IF(A34<>\"\",IFERROR(VLOOKUP(AM34,Tabelas!B:D,3,0),0),\"\")","v":0},{"$f":"IF(A34<>\"\",IFERROR(VLOOKUP(AN34,Tabelas!B:D,3,0),0),\"\")","v":0},{"$f":"IF(A34<>\"\",IFERROR(VLOOKUP(AO34,Tabelas!B:D,3,0),0),\"\")","v":0},{"$f":"IF(A34<>\"\",IFERROR(VLOOKUP(AP34,Tabelas!B:D,3,0),0),\"\")","v":0},{"$f":"IF(A34<>\"\",IFERROR(VLOOKUP(AQ34,Tabelas!B:D,3,0),0),\"\")","v":0},0,0,0,0,0,0,0,0]
["FULANO 27",27,null,null,null,null,null,null,null,null,null,null,null,null,null,null,null,null,null,null,null,null,null,null,null,null,null,null,null,null,null,null,null,null,null,null,null,null,null,null,null,null,null,{"$f":"IF(A35<>\"\",IFERROR(VLOOKUP(M35,Tabelas!B:D,3,0),0),\"\")","v":0},{"$f":"IF(A35<>\"\",IFERROR(VLOOKUP(N35,Tabelas!B:D,3,0),0),\"\")","v":0},{"$f":"IF(A35<>\"\",IFERROR(VLOOKUP(O35,Tabelas!B:D,3,0),0),\"\")","v":0},{"$f":"IF(A35<>\"\",IFERROR(VLOOKUP(P35,Tabelas!B:D,3,0),0),\"\")","v":0},{"$f":"IF(A35<>\"\",IFERROR(VLOOKUP(Q35,Tabelas!B:D,3,0),0),\"\")","v":0},{"$f":"IF(A35<>\"\",IFERROR(VLOOKUP(R35,Tabelas!B:D,3,0),0),\"\")","v":0},{"$f":"IF(A35<>\"\",IFERROR(VLOOKUP(S35,Tabelas!B:D,3,0),0),\"\")","v":0},{"$f":"IF(A35<>\"\",IFERROR(VLOOKUP(T35,Tabelas!B:D,3,0),0),\"\")","v":0},{"$f":"IF(A35<>\"\",IFERROR(VLOOKUP(U35,Tabelas!B:D,3,0),0),\"\")","v":0},{"$f":"IF(A35<>\"\",IFERROR(VLOOKUP(V35,Tabelas!B:D,3,0),0),\"\")","v":0},{"$f":"IF(A35<>\"\",IFERROR(VLOOKUP(W35,Tabelas!B:D,3,0),0),\"\")","v":0},{"$f":"IF(A35<>\"\",IFERROR(VLOOKUP(X35,Tabelas!B:D,3,0),0),\"\")","v":0},{"$f":"IF(A35<>\"\",IFERROR(VLOOKUP(Y35,Tabelas!B:D,3,0),0),\"\")","v":0},{"$f":"IF(A35<>\"\",IFERROR(VLOOKUP(Z35,Tabelas!B:D,3,0),0),\"\")","v":0},{"$f":"IF(A35<>\"\",IFERROR(VLOOKUP(AA35,Tabelas!B:D,3,0),0),\"\")","v":0},{"$f":"IF(A35<>\"\",IFERROR(VLOOKUP(AB35,Tabelas!B:D,3,0),0),\"\")","v":0},{"$f":"IF(A35<>\"\",IFERROR(VLOOKUP(AC35,Tabelas!B:D,3,0),0),\"\")","v":0},{"$f":"IF(A35<>\"\",IFERROR(VLOOKUP(AD35,Tabelas!B:D,3,0),0),\"\")","v":0},{"$f":"IF(A35<>\"\",IFERROR(VLOOKUP(AE35,Tabelas!B:D,3,0),0),\"\")","v":0},{"$f":"IF(A35<>\"\",IFERROR(VLOOKUP(AF35,Tabelas!B:D,3,0),0),\"\")","v":0},{"$f":"IF(A35<>\"\",IFERROR(VLOOKUP(AG35,Tabelas!B:D,3,0),0),\"\")","v":0},{"$f":"IF(A35<>\"\",IFERROR(VLOOKUP(AH35,Tabelas!B:D,3,0),0),\"\")","v":0},{"$f":"IF(A35<>\"\",IFERROR(VLOOKUP(AI35,Tabelas!B:D,3,0),0),\"\")","v":0},{"$f":"IF(A35<>\"\",IFERROR(VLOOKUP(AJ35,Tabelas!B:D,3,0),0),\"\")","v":0},{"$f":"IF(A35<>\"\",IFERROR(VLOOKUP(AK35,Tabelas!B:D,3,0),0),\"\")","v":0},{"$f":"IF(A35<>\"\",IFERROR(VLOOKUP(AL35,Tabelas!B:D,3,0),0),\"\")","v":0},{"$f":"IF(A35<>\"\",IFERROR(VLOOKUP(AM35,Tabelas!B:D,3,0),0),\"\")","v":0},{"$f":"IF(A35<>\"\",IFERROR(VLOOKUP(AN35,Tabelas!B:D,3,0),0),\"\")","v":0},{"$f":"IF(A35<>\"\",IFERROR(VLOOKUP(AO35,Tabelas!B:D,3,0),0),\"\")","v":0},{"$f":"IF(A35<>\"\",IFERROR(VLOOKUP(AP35,Tabelas!B:D,3,0),0),\"\")","v":0},{"$f":"IF(A35<>\"\",IFERROR(VLOOKUP(AQ35,Tabelas!B:D,3,0),0),\"\")","v":0},0,0,0,0,0,0,0,0]
["TOTAL PROFISSIONAIS MATUTINO",null,null,null,null,null,null,null,null,null,null,null,{"$f":"IF(COUNTIF(Maio!AQ9:AQ35,\"PR5\")+COUNTIF(Maio!AQ9:AQ35,\"PR6\")+COUNTIF(Maio!AQ9:AQ35,\"PR7\")+COUNTIF(Maio!AQ9:AQ35,\"PR8\")+COUNTIF(Maio!AQ9:AQ35,\"PR9\")+COUNTIF(M9:M35,\"M*\")+ COUNTIF(M9:M35, \"D*\")-COUNTIF(M9:M35,\"DSR\")+COUNTIF(M9:M35,\"PR1\")+COUNTIF(M9:M35,\"PR2\")+COUNTIF(M9:M35,\"PR3\")+COUNTIF(M9:M35,\"PR4\")<>0,COUNTIF(Maio!AQ9:AQ35,\"PR5\")+COUNTIF(Maio!AQ9:AQ35,\"PR6\")+COUNTIF(Maio!AQ9:AQ35,\"PR7\")+COUNTIF(Maio!AQ9:AQ35,\"PR8\")+COUNTIF(Maio!AQ9:AQ35,\"PR9\")+COUNTIF(M9:M35,\"M*\")+ COUNTIF(M9:M35, \"D*\")-COUNTIF(M9:M35,\"DSR\")+COUNTIF(M9:M35,\"PR1\")+COUNTIF(M9:M35,\"PR2\")+COUNTIF(M9:M35,\"PR3\")+COUNTIF(M9:M35,\"PR4\"),\"\")","v":""},{"$f":"IF(COUNTIF(N9:N35,\"M*\")+ COUNTIF(N9:N35, \"D*\")-COUNTIF(N9:N35,\"DSR\")+COUNTIF(M9:M35,\"PR5\")+COUNTIF(M9:M35,\"PR6\")+COUNTIF(M9:M35,\"PR7\")+COUNTIF(M9:M35,\"PR8\")+COUNTIF(M9:M35,\"PR9\")+COUNTIF(N9:N35,\"PR1\")+COUNTIF(N9:N35,\"PR2\")+COUNTIF(N9:N35,\"PR3\")+COUNTIF(N9:N35,\"PR4\")<>0,COUNTIF(N9:N35,\"M*\")+ COUNTIF(N9:N35, \"D*\")-COUNTIF(N9:N35,\"DSR\")+COUNTIF(M9:M35,\"PR5\")+COUNTIF(M9:M35,\"PR6\")+COUNTIF(M9:M35,\"PR7\")+COUNTIF(M9:M35,\"PR8\")+COUNTIF(M9:M35,\"PR9\")+COUNTIF(N9:N35,\"PR1\")+COUNTIF(N9:N35,\"PR2\")+COUNTIF(N9:N35,\"PR3\")+COUNTIF(N9:N35,\"PR4\"),\"\")","v":""},{"$f":"IF(COUNTIF(O9:O35,\"M*\")+ COUNTIF(O9:O35, \"D*\")-COUNTIF(O9:O35,\"DSR\")+COUNTIF(N9:N35,\"PR5\")+COUNTIF(N9:N35,\"PR6\")+COUNTIF(N9:N35,\"PR7\")+COUNTIF(N9:N35,\"PR8\")+COUNTIF(N9:N35,\"PR9\")+COUNTIF(O9:O35,\"PR1\")+COUNTIF(O9:O35,\"PR2\")+COUNTIF(O9:O35,\"PR3\")+COUNTIF(O9:O35,\"PR4\")<>0,COUNTIF(O9:O35,\"M*\")+ COUNTIF(O9:O35, \"D*\")-COUNTIF(O9:O35,\"DSR\")+COUNTIF(N9:N35,\"PR5\")+COUNTIF(N9:N35,\"PR6\")+COUNTIF(N9:N35,\"PR7\")+COUNTIF(N9:N35,\"PR8\")+COUNTIF(N9:N35,\"PR9\")+COUNTIF(O9:O35,\"PR1\")+COUNTIF(O9:O35,\"PR2\")+COUNTIF(O9:O35,\"PR3\")+COUNTIF(O9:O35,\"PR4\"),\"\")","v":""},"","","","","","","","","","","","","","","","","","","","","","","","","","","",null,null,null,null,null,null,null,null,null,null,null,null,null,null,null,null,null,null,null,null,null,null,null,null,null,null,null,null,null,null,null,null,{"$f":"SUM(BW9:BW35)","v":0},{"$f":"SUM(BX9:BX35)","v":0},0,0,0,0,0,0]
["TOTAL DE PROFISSIONAIS VESPERTINO",null,null,null,null,null,null,null,null,null,null,null,{"$f":"IF(COUNTIF(Maio!AQ9:AQ35,\"PR5\")+COUNTIF(Maio!AQ9:AQ35,\"PR6\")+COUNTIF(Maio!AQ9:AQ35,\"PR7\")+COUNTIF(Maio!AQ9:AQ35,\"PR8\")+COUNTIF(Maio!AQ9:AQ35,\"PR9\")+COUNTIF(M9:M35,\"MT*\") + COUNTIF(M9:M35, \"D*\") + COUNTIF(M9:M35,\"T*\")-COUNTIF(M9:M35,\"DSR\")+COUNTIF(M9:M35,\"PR1\")+COUNTIF(M9:M35,\"PR2\")+COUNTIF(M9:M35,\"PR3\")+COUNTIF(M9:M35,\"PR4\")<>0,COUNTIF(Maio!AQ9:AQ35,\"PR5\")+COUNTIF(Maio!AQ9:AQ35,\"PR6\")+COUNTIF(Maio!AQ9:AQ35,\"PR7\")+COUNTIF(Maio!AQ9:AQ35,\"PR8\")+COUNTIF(Maio!AQ9:AQ35,\"PR9\")+COUNTIF(M9:M35,\"MT*\") + COUNTIF(M9:M35, \"D*\") + COUNTIF(M9:M35,\"T*\")+COUNTIF(M9:M35,\"PR1\")+COUNTIF(M9:M35,\"PR2\")+COUNTIF(M9:M35,\"PR3\")+COUNTIF(M9:M35,\"PR4\")-COUNTIF(M9:M35,\"DSR\"),\"\")","v":""},{"$f":"IF(COUNTIF(N9:N35,\"MT*\") + COUNTIF(N9:N35, \"D*\") + COUNTIF(N9:N35,\"T*\")-COUNTIF(N9:N35,\"DSR\")+COUNTIF(M9:M35,\"PR5\")+COUNTIF(M9:M35,\"PR6\")+COUNTIF(M9:M35,\"PR7\")+COUNTIF(M9:M35,\"PR8\")+COUNTIF(M9:M35,\"PR9\")+COUNTIF(N9:N35,\"PR1\")+COUNTIF(N9:N35,\"PR2\")+COUNTIF(N9:N35,\"PR3\")+COUNTIF(N9:N35,\"PR4\")<>0,COUNTIF(N9:N35,\"MT*\") + COUNTIF(N9:N35, \"D*\") + COUNTIF(N9:N35,\"T*\")+COUNTIF(M9:M35,\"PR5\")+COUNTIF(M9:M35,\"PR6\")+COUNTIF(M9:M35,\"PR7\")+COUNTIF(M9:M35,\"PR8\")+COUNTIF(M9:M35,\"PR9\")+COUNTIF(N9:N35,\"PR1\")+COUNTIF(N9:N35,\"PR2\")+COUNTIF(N9:N35,\"PR3\")+COUNTIF(N9:N35,\"PR4\")-COUNTIF(N9:N35,\"DSR\"),\"\")","v":""},{"$f":"IF(COUNTIF(O9:O35,\"MT*\") + COUNTIF(O9:O35, \"D*\") + COUNTIF(O9:O35,\"T*\")-COUNTIF(O9:O35,\"DSR\")+COUNTIF(N9:N35,\"PR5\")+COUNTIF(N9:N35,\"PR6\")+COUNTIF(N9:N35,\"PR7\")+COUNTIF(N9:N35,\"PR8\")+COUNTIF(N9:N35,\"PR9\")+COUNTIF(O9:O35,\"PR1\")+COUNTIF(O9:O35,\"PR2\")+COUNTIF(O9:O35,\"PR3\")+COUNTIF(O9:O35,\"PR4\")<>0,COUNTIF(O9:O35,\"MT*\") + COUNTIF(O9:O35, \"D*\") + COUNTIF(O9:O35,\"T*\")+COUNTIF(N9:N35,\"PR5\")+COUNTIF(N9:N35,\"PR6\")+COUNTIF(N9:N35,\"PR7\")+COUNTIF(N9:N35,\"PR8\")+COUNTIF(N9:N35,\"PR9\")+COUNTIF(O9:O35,\"PR1\")+COUNTIF(O9:O35,\"PR2\")+COUNTIF(O9:O35,\"PR3\")+COUNTIF(O9:O35,\"PR4\")-COUNTIF(O9:O35,\"DSR\"),\"\")","v":""},"","","","","","","","","","","","","","","","","","","","","","","","","","","",null,{"$f":"IF(A37<>\"\",IFERROR(VLOOKUP(M37,Tabelas!B:D,3,0),0),\"\")","v":0},{"$f":"IF(A37<>\"\",IFERROR(VLOOKUP(N37,Tabelas!B:D,3,0),0),\"\")","v":0},{"$f":"IF(A37<>\"\",IFERROR(VLOOKUP(O37,Tabelas!B:D,3,0),0),\"\")","v":0},{"$f":"IF(A37<>\"\",IFERROR(VLOOKUP(P37,Tabelas!B:D,3,0),0),\"\")","v":0},{"$f":"IF(A37<>\"\",IFERROR(VLOOKUP(Q37,Tabelas!B:D,3,0),0),\"\")","v":0},{"$f":"IF(A37<>\"\",IFERROR(VLOOKUP(R37,Tabelas!B:D,3,0),0),\"\")","v":0},{"$f":"IF(A37<>\"\",IFERROR(VLOOKUP(S37,Tabelas!B:D,3,0),0),\"\")","v":0},{"$f":"IF(A37<>\"\",IFERROR(VLOOKUP(T37,Tabelas!B:D,3,0),0),\"\")","v":0},{"$f":"IF(A37<>\"\",IFERROR(VLOOKUP(U37,Tabelas!B:D,3,0),0),\"\")","v":0},{"$f":"IF(A37<>\"\",IFERROR(VLOOKUP(V37,Tabelas!B:D,3,0),0),\"\")","v":0},{"$f":"IF(A37<>\"\",IFERROR(VLOOKUP(W37,Tabelas!B:D,3,0),0),\"\")","v":0},{"$f":"IF(A37<>\"\",IFERROR(VLOOKUP(X37,Tabelas!B:D,3,0),0),\"\")","v":0},{"$f":"IF(A37<>\"\",IFERROR(VLOOKUP(Y37,Tabelas!B:D,3,0),0),\"\")","v":0},{"$f":"IF(A37<>\"\",IFERROR(VLOOKUP(Z37,Tabelas!B:D,3,0),0),\"\")","v":0},{"$f":"IF(A37<>\"\",IFERROR(VLOOKUP(AA37,Tabelas!B:D,3,0),0),\"\")","v":0},{"$f":"IF(A37<>\"\",IFERROR(VLOOKUP(AB37,Tabelas!B:D,3,0),0),\"\")","v":0},{"$f":"IF(A37<>\"\",IFERROR(VLOOKUP(AC37,Tabelas!B:D,3,0),0),\"\")","v":0},{"$f":"IF(A37<>\"\",IFERROR(VLOOKUP(AD37,Tabelas!B:D,3,0),0),\"\")","v":0},{"$f":"IF(A37<>\"\",IFERROR(VLOOKUP(AE37,Tabelas!B:D,3,0),0),\"\")","v":0},{"$f":"IF(A37<>\"\",IFERROR(VLOOKUP(AF37,Tabelas!B:D,3,0),0),\"\")","v":0},{"$f":"IF(A37<>\"\",IFERROR(VLOOKUP(AG37,Tabelas!B:D,3,0),0),\"\")","v":0},{"$f":"IF(A37<>\"\",IFERROR(VLOOKUP(AH37,Tabelas!B:D,3,0),0),\"\")","v":0},{"$f":"IF(A37<>\"\",IFERROR(VLOOKUP(AI37,Tabelas!B:D,3,0),0),\"\")","v":0},{"$f":"IF(A37<>\"\",IFERROR(VLOOKUP(AJ37,Tabelas!B:D,3,0),0),\"\")","v":0},{"$f":"IF(A37<>\"\",IFERROR(VLOOKUP(AK37,Tabelas!B:D,3,0),0),\"\")","v":0},{"$f":"IF(A37<>\"\",IFERROR(VLOOKUP(AL37,Tabelas!B:D,3,0),0),\"\")","v":0},{"$f":"IF(A37<>\"\",IFERROR(VLOOKUP(AM37,Tabelas!B:D,3,0),0),\"\")","v":0},{"$f":"IF(A37<>\"\",IFERROR(VLOOKUP(AN37,Tabelas!B:D,3,0),0),\"\")","v":0},{"$f":"IF(A37<>\"\",IFERROR(VLOOKUP(AO37,Tabelas!B:D,3,0),0),\"\")","v":0},{"$f":"IF(A37<>\"\",IFERROR(VLOOKUP(AP37,Tabelas!B:D,3,0),0),\"\")","v":0},{"$f":"IF(A37<>\"\",IFERROR(VLOOKUP(AQ37,Tabelas!B:D,3,0),0),\"\")","v":0}]
["TOTAL DE PROFISSIONAIS NOTURNO",null,null,null,null,null,null,null,null,null,null,null,{"$f":"IF(COUNTIF(M9:M37,\"N?*\") + COUNTIF(M9:M37, \"DN*\")+COUNTIF(M9:M35,\"PR*\")<>0,COUNTIF(M9:M37,\"N?*\") + COUNTIF(M9:M37, \"DN*\")+COUNTIF(M9:M35,\"PR*\"),\"\")","v":""},{"$f":"IF(COUNTIF(N9:N37,\"N?*\") + COUNTIF(N9:N37, \"DN*\")+COUNTIF(N9:N35,\"PR*\")<>0,COUNTIF(N9:N37,\"N?*\") + COUNTIF(N9:N37, \"DN*\")+COUNTIF(N9:N35,\"PR*\"),\"\")","v":""},"","","","","","","","","","","","","","","","","","","","","","","","","","","","",null,{"$f":"IF(A38<>\"\",IFERROR(VLOOKUP(M38,Tabelas!B:D,3,0),0),\"\")","v":0},{"$f":"IF(A38<>\"\",IFERROR(VLOOKUP(N38,Tabelas!B:D,3,0),0),\"\")","v":0},{"$f":"IF(A38<>\"\",IFERROR(VLOOKUP(O38,Tabelas!B:D,3,0),0),\"\")","v":0},{"$f":"IF(A38<>\"\",IFERROR(VLOOKUP(P38,Tabelas!B:D,3,0),0),\"\")","v":0},{"$f":"IF(A38<>\"\",IFERROR(VLOOKUP(Q38,Tabelas!B:D,3,0),0),\"\")","v":0},{"$f":"IF(A38<>\"\",IFERROR(VLOOKUP(R38,Tabelas!B:D,3,0),0),\"\")","v":0},{"$f":"IF(A38<>\"\",IFERROR(VLOOKUP(S38,Tabelas!B:D,3,0),0),\"\")","v":0},{"$f":"IF(A38<>\"\",IFERROR(VLOOKUP(T38,Tabelas!B:D,3,0),0),\"\")","v":0},{"$f":"IF(A38<>\"\",IFERROR(VLOOKUP(U38,Tabelas!B:D,3,0),0),\"\")","v":0},{"$f":"IF(A38<>\"\",IFERROR(VLOOKUP(V38,Tabelas!B:D,3,0),0),\"\")","v":0},{"$f":"IF(A38<>\"\",IFERROR(VLOOKUP(W38,Tabelas!B:D,3,0),0),\"\")","v":0},{"$f":"IF(A38<>\"\",IFERROR(VLOOKUP(X38,Tabelas!B:D,3,0),0),\"\")","v":0},{"$f":"IF(A38<>\"\",IFERROR(VLOOKUP(Y38,Tabelas!B:D,3,0),0),\"\")","v":0},{"$f":"IF(A38<>\"\",IFERROR(VLOOKUP(Z38,Tabelas!B:D,3,0),0),\"\")","v":0},{"$f":"IF(A38<>\"\",IFERROR(VLOOKUP(AA38,Tabelas!B:D,3,0),0),\"\")","v":0},{"$f":"IF(A38<>\"\",IFERROR(VLOOKUP(AB38,Tabelas!B:D,3,0),0),\"\")","v":0},{"$f":"IF(A38<>\"\",IFERROR(VLOOKUP(AC38,Tabelas!B:D,3,0),0),\"\")","v":0},{"$f":"IF(A38<>\"\",IFERROR(VLOOKUP(AD38,Tabelas!B:D,3,0),0),\"\")","v":0},{"$f":"IF(A38<>\"\",IFERROR(VLOOKUP(AE38,Tabelas!B:D,3,0),0),\"\")","v":0},{"$f":"IF(A38<>\"\",IFERROR(VLOOKUP(AF38,Tabelas!B:D,3,0),0),\"\")","v":0},{"$f":"IF(A38<>\"\",IFERROR(VLOOKUP(AG38,Tabelas!B:D,3,0),0),\"\")","v":0},{"$f":"IF(A38<>\"\",IFERROR(VLOOKUP(AH38,Tabelas!B:D,3,0),0),\"\")","v":0},{"$f":"IF(A38<>\"\",IFERROR(VLOOKUP(AI38,Tabelas!B:D,3,0),0),\"\")","v":0},{"$f":"IF(A38<>\"\",IFERROR(VLOOKUP(AJ38,Tabelas!B:D,3,0),0),\"\")","v":0},{"$f":"IF(A38<>\"\",IFERROR(VLOOKUP(AK38,Tabelas!B:D,3,0),0),\"\")","v":0},{"$f":"IF(A38<>\"\",IFERROR(VLOOKUP(AL38,Tabelas!B:D,3,0),0),\"\")","v":0},{"$f":"IF(A38<>\"\",IFERROR(VLOOKUP(AM38,Tabelas!B:D,3,0),0),\"\")","v":0},{"$f":"IF(A38<>\"\",IFERROR(VLOOKUP(AN38,Tabelas!B:D,3,0),0),\"\")","v":0},{"$f":"IF(A38<>\"\",IFERROR(VLOOKUP(AO38,Tabelas!B:D,3,0),0),\"\")","v":0},{"$f":"IF(A38<>\"\",IFERROR(VLOOKUP(AP38,Tabelas!B:D,3,0),0),\"\")","v":0},{"$f":"IF(A38<>\"\",IFERROR(VLOOKUP(AQ38,Tabelas!B:D,3,0),0),\"\")","v":0}]
[null,null,null,null,null,null,null,null,null,null,null,null,null,null,null,null,null,null,null,null,null,null,null,null,null,null,null,null,null,null,null,null,null,null,null,null,null,null,null,null,null,null,null,{"$f":"IF(A39<>\"\",IFERROR(VLOOKUP(M39,Tabelas!B:D,3,0),0),\"\")","v":""},{"$f":"IF(A39<>\"\",IFERROR(VLOOKUP(N39,Tabelas!B:D,3,0),0),\"\")","v":""},{"$f":"IF(A39<>\"\",IFERROR(VLOOKUP(O39,Tabelas!B:D,3,0),0),\"\")","v":""},{"$f":"IF(A39<>\"\",IFERROR(VLOOKUP(P39,Tabelas!B:D,3,0),0),\"\")","v":""},{"$f":"IF(A39<>\"\",IFERROR(VLOOKUP(Q39,Tabelas!B:D,3,0),0),\"\")","v":""},{"$f":"IF(A39<>\"\",IFERROR(VLOOKUP(R39,Tabelas!B:D,3,0),0),\"\")","v":""},{"$f":"IF(A39<>\"\",IFERROR(VLOOKUP(S39,Tabelas!B:D,3,0),0),\"\")","v":""},{"$f":"IF(A39<>\"\",IFERROR(VLOOKUP(T39,Tabelas!B:D,3,0),0),\"\")","v":""},{"$f":"IF(A39<>\"\",IFERROR(VLOOKUP(U39,Tabelas!B:D,3,0),0),\"\")","v":""},{"$f":"IF(A39<>\"\",IFERROR(VLOOKUP(V39,Tabelas!B:D,3,0),0),\"\")","v":""},{"$f":"IF(A39<>\"\",IFERROR(VLOOKUP(W39,Tabelas!B:D,3,0),0),\"\")","v":""},{"$f":"IF(A39<>\"\",IFERROR(VLOOKUP(X39,Tabelas!B:D,3,0),0),\"\")","v":""},{"$f":"IF(A39<>\"\",IFERROR(VLOOKUP(Y39,Tabelas!B:D,3,0),0),\"\")","v":""},{"$f":"IF(A39<>\"\",IFERROR(VLOOKUP(Z39,Tabelas!B:D,3,0),0),\"\")","v":""},{"$f":"IF(A39<>\"\",IFERROR(VLOOKUP(AA39,Tabelas!B:D,3,0),0),\"\")","v":""},{"$f":"IF(A39<>\"\",IFERROR(VLOOKUP(AB39,Tabelas!B:D,3,0),0),\"\")","v":""},{"$f":"IF(A39<>\"\",IFERROR(VLOOKUP(AC39,Tabelas!B:D,3,0),0),\"\")","v":""},{"$f":"IF(A39<>\"\",IFERROR(VLOOKUP(AD39,Tabelas!B:D,3,0),0),\"\")","v":""},{"$f":"IF(A39<>\"\",IFERROR(VLOOKUP(AE39,Tabelas!B:D,3,0),0),\"\")","v":""},{"$f":"IF(A39<>\"\",IFERROR(VLOOKUP(AF39,Tabelas!B:D,3,0),0),\"\")","v":""},{"$f":"IF(A39<>\"\",IFERROR(VLOOKUP(AG39,Tabelas!B:D,3,0),0),\"\")","v":""},{"$f":"IF(A39<>\"\",IFERROR(VLOOKUP(AH39,Tabelas!B:D,3,0),0),\"\")","v":""},{"$f":"IF(A39<>\"\",IFERROR(VLOOKUP(AI39,Tabelas!B:D,3,0),0),\"\")","v":""},{"$f":"IF(A39<>\"\",IFERROR(VLOOKUP(AJ39,Tabelas!B:D,3,0),0),\"\")","v":""},{"$f":"IF(A39<>\"\",IFERROR(VLOOKUP(AK39,Tabelas!B:D,3,0),0),\"\")","v":""},{"$f":"IF(A39<>\"\",IFERROR(VLOOKUP(AL39,Tabelas!B:D,3,0),0),\"\")","v":""},{"$f":"IF(A39<>\"\",IFERROR(VLOOKUP(AM39,Tabelas!B:D,3,0),0),\"\")","v":""},{"$f":"IF(A39<>\"\",IFERROR(VLOOKUP(AN39,Tabelas!B:D,3,0),0),\"\")","v":""},{"$f":"IF(A39<>\"\",IFERROR(VLOOKUP(AO39,Tabelas!B:D,3,0),0),\"\")","v":""},{"$f":"IF(A39<>\"\",IFERROR(VLOOKUP(AP39,Tabelas!B:D,3,0),0),\"\")","v":""},{"$f":"IF(A39<>\"\",IFERROR(VLOOKUP(AQ39,Tabelas!B:D,3,0),0),\"\")","v":""}]
["Legenda:"]
["Licença Maternidade","LM","Férias",null,null,null,null,null,null,"FE",null,"Ponto Facultativo",null,null,null,null,null,null,null,"PF","Manhã *",null,null,null,null,null,null,"M","Diurno (8 hrs) *",null,null,null,null,null,null,"MT"]
["Licença Paternidade","LP","Feriado",null,null,null,null,null,null,"FD",null,"Abono **",null,null,null,null,null,null,null,"AB","Tarde *",null,null,null,null,null,null,"T","Dia/ noite (24 hrs) *",null,null,null,null,null,null,"DN"]
["Licença Médica/Odontológica","L","Descanso Semanal Remunerado",null,null,null,null,null,null,"DSR",null,"Compensação de Horas",null,null,null,null,null,null,null,"CH","Plantão Dia (12 hrs) *",null,null,null,null,null,null,"D"]
["Licença Capacitação","LC","Recesso",null,null,null,null,null,null,"RC",null,"Afastamento**",null,null,null,null,null,null,null,"AF","Plantão Noite (12 hrs) *",null,null,null,null,null,null,"N"]
[]
[]
[]
[]
[]
["OBSERVAÇÕES:"]
["* Para inserção das legendas referentes às jornadas de trabalho, verificar a Tabela 1 do Anexo 12629162 do Ofício-Circular - SEI nº 9/2021/SDR/CAP/DGP-EBSERH."]
["** Para inserção das legendas referentes aos Afastamentos previstos em lei e às Compensações de horas, verificar a Tabela 2 do Anexo 12629162 do Ofício-Circular - SEI nº 9/2021/SDR/CAP/DGP-EBSERH."]

{"sheet":"Julho","index":6,"n_rows":52,"n_cols":82,"rows_kept":52,"cut":false,"hidden":false,"merged":[[43,2,43,8],[43,9,43,10],[43,11,43,18],[43,20,43,26],[40,28,40,34],[41,28,41,34],[42,2,42,8],[42,9,42,10],[42,11,42,18],[42,20,42,26],[41,2,41,8],[41,9,41,10],[41,11,41,18],[41,20,41,26],[40,2,40,8],[40,9,40,10],[40,11,40,18],[40,20,40,26],[5,2,7,2],[5,3,7,3],[5,4,7,4],[6,81,7,81],[6,77,7,77],[6,78,7,78],[36,0,36,11],[37,0,37,11],[35,78,37,78],[35,79,37,79],[35,80,37,80],[35,0,35,11],[35,74,37,74],[35,75,37,75],[35,76,37,76],[35,77,37,77],[5,5,7,5],[5,0,7,0],[5,1,7,1],[35,81,37,81],[5,6,5,11],[5,12,5,42],[6,79,7,79],[6,11,7,11],[6,75,7,75],[6,76,7,76],[6,6,7,6],[6,7,7,7],[6,8,7,8],[6,9,7,9],[6,10,7,10],[5,43,5,73],[5,74,7,74],[5,75,5,81],[6,80,7,80],[1,0,1,42],[2,0,2,42],[3,0,3,42],[4,1,4,20],[4,23,4,34],[4,37,4,42]]}
[]
[]
["NOME DO HU"]
["ESCALA MENSAL DE TRABALHO"]
["DIVISÃO /SETOR/UNIDADE:",null,null,null,null,null,null,null,null,null,null,null,null,null,null,null,null,null,null,null,null,"MÊS:",null,"Julho",null,null,null,null,null,null,null,null,null,null,null,"ANO:",null,2023]
["NOME COMPLETO","SIAPE","     Registro Conselho Classe","Cargo","Vínculo","    C.H Sem","INTERVALO",null,null,null,null,null,"DIAS DO MÊS",null,null,null,null,null,null,null,null,null,null,null,null,null,null,null,null,null,null,null,null,null,null,null,null,null,null,null,null,null,null,"CÁLCULO DAS HORAS",null,null,null,null,null,null,null,null,null,null,null,null,null,null,null,null,null,null,null,null,null,null,null,null,null,null,null,null,null,null,"CH Men.","Dias"]
[null,null,null,null,null,null,"15' M","15' T","15' N","1H D","1H N","2H",1,2,3,4,5,6,7,8,9,10,11,12,13,14,15,16,17,18,19,20,21,22,23,24,25,{"$f":"IF(DAY(DATE(AL5,VLOOKUP(X5,Tabelas!M:N,2,0)+1,1)-1)>=26,26,\"\")","v":26},{"$f":"IF(DAY(DATE(AL5,VLOOKUP(X5,Tabelas!M:N,2,0)+1,1)-1)>=27,27,\"\")","v":27},{"$f":"IF(DAY(DATE(AL5,VLOOKUP(X5,Tabelas!M:N,2,0)+1,1)-1)>=28,28,\"\")","v":28},{"$f":"IF(DAY(DATE(AL5,VLOOKUP(X5,Tabelas!M:N,2,0)+1,1)-1)>=29,29,\"\")","v":29},{"$f":"IF(DAY(DATE(AL5,VLOOKUP(X5,Tabelas!M:N,2,0)+1,1)-1)>=30,30,\"\")","v":30},{"$f":"IF(DAY(DATE(AL5,VLOOKUP(X5,Tabelas!M:N,2,0)+1,1)-1)>=31,31,\"\")","v":31},null,null,null,null,null,null,null,null,null,null,null,null,null,null,null,null,null,null,null,null,null,null,null,null,null,null,null,null,null,null,null,null,"LM/LP/L","AB","FE","LC","CH","AF  "," Total Afast."]
[null,null,null,null,null,null,null,null,null,null,null,null,{"$f":"IF(M7<>\"\",IFERROR(VLOOKUP(WEEKDAY(CONCATENATE(M7,$X$5,$AL$5)),Tabelas!$I:$J,2,0),\"\"),\"\")","v":"SAB"},{"$f":"IF(N7<>\"\",IFERROR(VLOOKUP(WEEKDAY(CONCATENATE(N7,$X$5,$AL$5)),Tabelas!$I:$J,2,0),\"\"),\"\")","v":"DOM"},{"$f":"IF(O7<>\"\",IFERROR(VLOOKUP(WEEKDAY(CONCATENATE(O7,$X$5,$AL$5)),Tabelas!$I:$J,2,0),\"\"),\"\")","v":"SEG"},{"$f":"IF(P7<>\"\",IFERROR(VLOOKUP(WEEKDAY(CONCATENATE(P7,$X$5,$AL$5)),Tabelas!$I:$J,2,0),\"\"),\"\")","v":"TER"},{"$f":"IF(Q7<>\"\",IFERROR(VLOOKUP(WEEKDAY(CONCATENATE(Q7,$X$5,$AL$5)),Tabelas!$I:$J,2,0),\"\"),\"\")","v":"QUA"},{"$f":"IF(R7<>\"\",IFERROR(VLOOKUP(WEEKDAY(CONCATENATE(R7,$X$5,$AL$5)),Tabelas!$I:$J,2,0),\"\"),\"\")","v":"QUI"},{"$f":"IF(S7<>\"\",IFERROR(VLOOKUP(WEEKDAY(CONCATENATE(S7,$X$5,$AL$5)),Tabelas!$I:$J,2,0),\"\"),\"\")","v":"SEX"},{"$f":"IF(T7<>\"\",IFERROR(VLOOKUP(WEEKDAY(CONCATENATE(T7,$X$5,$AL$5)),Tabelas!$I:$J,2,0),\"\"),\"\")","v":"SAB"},{"$f":"IF(U7<>\"\",IFERROR(VLOOKUP(WEEKDAY(CONCATENATE(U7,$X$5,$AL$5)),Tabelas!$I:$J,2,0),\"\"),\"\")","v":"DOM"},{"$f":"IF(V7<>\"\",IFERROR(VLOOKUP(WEEKDAY(CONCATENATE(V7,$X$5,$AL$5)),Tabelas!$I:$J,2,0),\"\"),\"\")","v":"SEG"},{"$f":"IF(W7<>\"\",IFERROR(VLOOKUP(WEEKDAY(CONCATENATE(W7,$X$5,$AL$5)),Tabelas!$I:$J,2,0),\"\"),\"\")","v":"TER"},{"$f":"IF(X7<>\"\",IFERROR(VLOOKUP(WEEKDAY(CONCATENATE(X7,$X$5,$AL$5)),Tabelas!$I:$J,2,0),\"\"),\"\")","v":"QUA"},{"$f":"IF(Y7<>\"\",IFERROR(VLOOKUP(WEEKDAY(CONCATENATE(Y7,$X$5,$AL$5)),Tabelas!$I:$J,2,0),\"\"),\"\")","v":"QUI"},{"$f":"IF(Z7<>\"\",IFERROR(VLOOKUP(WEEKDAY(CONCATENATE(Z7,$X$5,$AL$5)),Tabelas!$I:$J,2,0),\"\"),\"\")","v":"SEX"},{"$f":"IF(AA7<>\"\",IFERROR(VLOOKUP(WEEKDAY(CONCATENATE(AA7,$X$5,$AL$5)),Tabelas!$I:$J,2,0),\"\"),\"\")","v":"SAB"},{"$f":"IF(AB7<>\"\",IFERROR(VLOOKUP(WEEKDAY(CONCATENATE(AB7,$X$5,$AL$5)),Tabelas!$I:$J,2,0),\"\"),\"\")","v":"DOM"},{"$f":"IF(AC7<>\"\",IFERROR(VLOOKUP(WEEKDAY(CONCATENATE(AC7,$X$5,$AL$5)),Tabelas!$I:$J,2,0),\"\"),\"\")","v":"SEG"},{"$f":"IF(AD7<>\"\",IFERROR(VLOOKUP(WEEKDAY(CONCATENATE(AD7,$X$5,$AL$5)),Tabelas!$I:$J,2,0),\"\"),\"\")","v":"TER"},{"$f":"IF(AE7<>\"\",IFERROR(VLOOKUP(WEEKDAY(CONCATENATE(AE7,$X$5,$AL$5)),Tabelas!$I:$J,2,0),\"\"),\"\")","v":"QUA"},{"$f":"IF(AF7<>\"\",IFERROR(VLOOKUP(WEEKDAY(CONCATENATE(AF7,$X$5,$AL$5)),Tabelas!$I:$J,2,0),\"\"),\"\")","v":"QUI"},{"$f":"IF(AG7<>\"\",IFERROR(VLOOKUP(WEEKDAY(CONCATENATE(AG7,$X$5,$AL$5)),Tabelas!$I:$J,2,0),\"\"),\"\")","v":"SEX"},{"$f":"IF(AH7<>\"\",IFERROR(VLOOKUP(WEEKDAY(CONCATENATE(AH7,$X$5,$AL$5)),Tabelas!$I:$J,2,0),\"\"),\"\")","v":"SAB"},{"$f":"IF(AI7<>\"\",IFERROR(VLOOKUP(WEEKDAY(CONCATENATE(AI7,$X$5,$AL$5)),Tabelas!$I:$J,2,0),\"\"),\"\")","v":"DOM"},{"$f":"IF(AJ7<>\"\",IFERROR(VLOOKUP(WEEKDAY(CONCATENATE(AJ7,$X$5,$AL$5)),Tabelas!$I:$J,2,0),\"\"),\"\")","v":"SEG"},{"$f":"IF(AK7<>\"\",IFERROR(VLOOKUP(WEEKDAY(CONCATENATE(AK7,$X$5,$AL$5)),Tabelas!$I:$J,2,0),\"\"),\"\")","v":"TER"},{"$f":"IF(AL7<>\"\",IFERROR(VLOOKUP(WEEKDAY(CONCATENATE(AL7,$X$5,$AL$5)),Tabelas!$I:$J,2,0),\"\"),\"\")","v":"QUA"},{"$f":"IF(AM7<>\"\",IFERROR(VLOOKUP(WEEKDAY(CONCATENATE(AM7,$X$5,$AL$5)),Tabelas!$I:$J,2,0),\"\"),\"\")","v":"QUI"},{"$f":"IF(AN7<>\"\",IFERROR(VLOOKUP(WEEKDAY(CONCATENATE(AN7,$X$5,$AL$5)),Tabelas!$I:$J,2,0),\"\"),\"\")","v":"SEX"},{"$f":"IF(AO7<>\"\",IFERROR(VLOOKUP(WEEKDAY(CONCATENATE(AO7,$X$5,$AL$5)),Tabelas!$I:$J,2,0),\"\"),\"\")","v":"SAB"},{"$f":"IF(AP7<>\"\",IFERROR(VLOOKUP(WEEKDAY(CONCATENATE(AP7,$X$5,$AL$5)),Tabelas!$I:$J,2,0),\"\"),\"\")","v":"DOM"},{"$f":"IF(AQ7<>\"\",IFERROR(VLOOKUP(WEEKDAY(CONCATENATE(AQ7,$X$5,$AL$5)),Tabelas!$I:$J,2,0),\"\"),\"\")","v":"SEG"},1,2,3,4,5,6,7,8,9,10,11,12,13,14,15,16,17,18,19,20,21,22,23,24,25,26,27,28,29,30,31]
["FULANO 1",1,null,null,null,null,null,null,null,null,null,null,null,null,null,null,null,null,null,null,null,null,null,null,null,null,null,null,null,null,null,null,null,null,null,null,null,null,null,null,null,null,null,{"$f":"IF(A9<>\"\",IFERROR(VLOOKUP(M9,Tabelas!B:D,3,0),0),\"\")","v":0},{"$f":"IF(A9<>\"\",IFERROR(VLOOKUP(N9,Tabelas!B:D,3,0),0),\"\")","v":0},{"$f":"IF(A9<>\"\",IFERROR(VLOOKUP(O9,Tabelas!B:D,3,0),0),\"\")","v":0},{"$f":"IF(A9<>\"\",IFERROR(VLOOKUP(P9,Tabelas!B:D,3,0),0),\"\")","v":0},{"$f":"IF(A9<>\"\",IFERROR(VLOOKUP(Q9,Tabelas!B:D,3,0),0),\"\")","v":0},{"$f":"IF(A9<>\"\",IFERROR(VLOOKUP(R9,Tabelas!B:D,3,0),0),\"\")","v":0},{"$f":"IF(A9<>\"\",IFERROR(VLOOKUP(S9,Tabelas!B:D,3,0),0),\"\")","v":0},{"$f":"IF(A9<>\"\",IFERROR(VLOOKUP(T9,Tabelas!B:D,3,0),0),\"\")","v":0},{"$f":"IF(A9<>\"\",IFERROR(VLOOKUP(U9,Tabelas!B:D,3,0),0),\"\")","v":0},{"$f":"IF(A9<>\"\",IFERROR(VLOOKUP(V9,Tabelas!B:D,3,0),0),\"\")","v":0},{"$f":"IF(A9<>\"\",IFERROR(VLOOKUP(W9,Tabelas!B:D,3,0),0),\"\")","v":0},{"$f":"IF(A9<>\"\",IFERROR(VLOOKUP(X9,Tabelas!B:D,3,0),0),\"\")","v":0},{"$f":"IF(A9<>\"\",IFERROR(VLOOKUP(Y9,Tabelas!B:D,3,0),0),\"\")","v":0},{"$f":"IF(A9<>\"\",IFERROR(VLOOKUP(Z9,Tabelas!B:D,3,0),0),\"\")","v":0},{"$f":"IF(A9<>\"\",IFERROR(VLOOKUP(AA9,Tabelas!B:D,3,0),0),\"\")","v":0},{"$f":"IF(A9<>\"\",IFERROR(VLOOKUP(AB9,Tabelas!B:D,3,0),0),\"\")","v":0},{"$f":"IF(A9<>\"\",IFERROR(VLOOKUP(AC9,Tabelas!B:D,3,0),0),\"\")","v":0},{"$f":"IF(A9<>\"\",IFERROR(VLOOKUP(AD9,Tabelas!B:D,3,0),0),\"\")","v":0},{"$f":"IF(A9<>\"\",IFERROR(VLOOKUP(AE9,Tabelas!B:D,3,0),0),\"\")","v":0},{"$f":"IF(A9<>\"\",IFERROR(VLOOKUP(AF9,Tabelas!B:D,3,0),0),\"\")","v":0},{"$f":"IF(A9<>\"\",IFERROR(VLOOKUP(AG9,Tabelas!B:D,3,0),0),\"\")","v":0},{"$f":"IF(A9<>\"\",IFERROR(VLOOKUP(AH9,Tabelas!B:D,3,0),0),\"\")","v":0},{"$f":"IF(A9<>\"\",IFERROR(VLOOKUP(AI9,Tabelas!B:D,3,0),0),\"\")","v":0},{"$f":"IF(A9<>\"\",IFERROR(VLOOKUP(AJ9,Tabelas!B:D,3,0),0),\"\")","v":0},{"$f":"IF(A9<>\"\",IFERROR(VLOOKUP(AK9,Tabelas!B:D,3,0),0),\"\")","v":0},{"$f":"IF(A9<>\"\",IFERROR(VLOOKUP(AL9,Tabelas!B:D,3,0),0),\"\")","v":0},{"$f":"IF(A9<>\"\",IFERROR(VLOOKUP(AM9,Tabelas!B:D,3,0),0),\"\")","v":0},{"$f":"IF(A9<>\"\",IFERROR(VLOOKUP(AN9,Tabelas!B:D,3,0),0),\"\")","v":0},{"$f":"IF(A9<>\"\",IFERROR(VLOOKUP(AO9,Tabelas!B:D,3,0),0),\"\")","v":0},{"$f":"IF(A9<>\"\",IFERROR(VLOOKUP(AP9,Tabelas!B:D,3,0),0),\"\")","v":0},{"$f":"IF(A9<>\"\",IFERROR(VLOOKUP(AQ9,Tabelas!B:D,3,0),0),\"\")","v":0},{"$f":"IF(AND(A9<>\"\",E9=\"Ebserh\"),SUM(AR9:BV9)+COUNTIF(M9:AQ9,\"N*\")+COUNTIF(M9:AQ9,\"DN*\"),IF(AND(A9<>\"\",E9<>\"Ebserh\"),SUM(AR9:BV9),\"\"))","v":0},{"$f":"IF(A9<>\"\",COUNTIF(M9:AQ9,\"LM\")+COUNTIF(M9:AQ9,\"L*\")+COUNTIF(M9:AQ9,\"LP\"),\"\")","v":0},{"$f":"IF(A9<>\"\",COUNTIF(M9:AQ9,\"AB*\"),\"\")","v":0},{"$f":"IF(A9<>\"\",COUNTIF(M9:AQ9,\"FE\"),\"\")","v":0},{"$f":"IF(A9<>\"\",COUNTIF(M9:AQ9,\"LC\"),\"\")","v":0},{"$f":"IF(A9<>\"\",COUNTIF(M9:AQ9,\"CH*\"),\"\")","v":0},{"$f":"IF(A9<>\"\",COUNTIF(M9:AQ9,\"AF1\")+COUNTIF(M9:AQ9,\"AF2\")+COUNTIF(M9:AQ9,\"AF3\")+COUNTIF(M9:AQ9,\"AF4\")+COUNTIF(M9:AQ9,\"AF5\")+COUNTIF(M9:AQ9,\"AF6\")+COUNTIF(M9:AQ9,\"AF7\")+COUNTIF(M9:AQ9,\"AF8\")+COUNTIF(M9:AQ9,\"AF9\")+COUNTIF(M9:AQ9,\"AF10\")+COUNTIF(M9:AQ9,\"AF11\")+COUNTIF(M9:AQ9,\"AF12\")+COUNTIF(M9:AQ9,\"AF13\")+COUNTIF(M9:AQ9,\"AF14\"),\"\")","v":0},{"$f":"IF(A9<>\"\",COUNTIF(M9:AQ9,\"CH*\")+COUNTIF(M9:AQ9,\"L*\")+COUNTIF(M9:AQ9,\"LM\")+COUNTIF(M9:AQ9,\"LP\")+COUNTIF(M9:AQ9,\"LC\")+COUNTIF(M9:AQ9,\"AB*\")+COUNTIF(M9:AQ9,\"AF1\")+COUNTIF(M9:AQ9,\"AF2\")+COUNTIF(M9:AQ9,\"AF3\")+COUNTIF(M9:AQ9,\"AF4\")+COUNTIF(M9:AQ9,\"AF5\")+COUNTIF(M9:AQ9,\"AF6\")+COUNTIF(M9:AQ9,\"AF7\")+COUNTIF(M9:AQ9,\"AF8\")+COUNTIF(M9:AQ9,\"AF9\")+COUNTIF(M9:AQ9,\"AF10\")+COUNTIF(M9:AQ9,\"AF11\")+COUNTIF(M9:AQ9,\"AF12\")+COUNTIF(M9:AQ9,\"AF13\")+COUNTIF(M9:AQ9,\"AF14\")+COUNTIF(M9:AQ9,\"RC\")+COUNTIF(M9:AQ9,\"FO\")+COUNTIF(M9:AQ9,\"FE\"),\"\")","v":0}]
["FULANO 2",2,null,null,null,null,null,null,null,null,null,null,null,null,null,null,null,null,null,null,null,null,null,null,null,null,null,null,null,null,null,null,null,null,null,null,null,null,null,null,null,null,null,{"$f":"IF(A10<>\"\",IFERROR(VLOOKUP(M10,Tabelas!B:D,3,0),0),\"\")","v":0},{"$f":"IF(A10<>\"\",IFERROR(VLOOKUP(N10,Tabelas!B:D,3,0),0),\"\")","v":0},{"$f":"IF(A10<>\"\",IFERROR(VLOOKUP(O10,Tabelas!B:D,3,0),0),\"\")","v":0},{"$f":"IF(A10<>\"\",IFERROR(VLOOKUP(P10,Tabelas!B:D,3,0),0),\"\")","v":0},{"$f":"IF(A10<>\"\",IFERROR(VLOOKUP(Q10,Tabelas!B:D,3,0),0),\"\")","v":0},{"$f":"IF(A10<>\"\",IFERROR(VLOOKUP(R10,Tabelas!B:D,3,0),0),\"\")","v":0},{"$f":"IF(A10<>\"\",IFERROR(VLOOKUP(S10,Tabelas!B:D,3,0),0),\"\")","v":0},{"$f":"IF(A10<>\"\",IFERROR(VLOOKUP(T10,Tabelas!B:D,3,0),0),\"\")","v":0},{"$f":"IF(A10<>\"\",IFERROR(VLOOKUP(U10,Tabelas!B:D,3,0),0),\"\")","v":0},{"$f":"IF(A10<>\"\",IFERROR(VLOOKUP(V10,Tabelas!B:D,3,0),0),\"\")","v":0},{"$f":"IF(A10<>\"\",IFERROR(VLOOKUP(W10,Tabelas!B:D,3,0),0),\"\")","v":0},{"$f":"IF(A10<>\"\",IFERROR(VLOOKUP(X10,Tabelas!B:D,3,0),0),\"\")","v":0},{"$f":"IF(A10<>\"\",IFERROR(VLOOKUP(Y10,Tabelas!B:D,3,0),0),\"\")","v":0},{"$f":"IF(A10<>\"\",IFERROR(VLOOKUP(Z10,Tabelas!B:D,3,0),0),\"\")","v":0},{"$f":"IF(A10<>\"\",IFERROR(VLOOKUP(AA10,Tabelas!B:D,3,0),0),\"\")","v":0},{"$f":"IF(A10<>\"\",IFERROR(VLOOKUP(AB10,Tabelas!B:D,3,0),0),\"\")","v":0},{"$f":"IF(A10<>\"\",IFERROR(VLOOKUP(AC10,Tabelas!B:D,3,0),0),\"\")","v":0},{"$f":"IF(A10<>\"\",IFERROR(VLOOKUP(AD10,Tabelas!B:D,3,0),0),\"\")","v":0},{"$f":"IF(A10<>\"\",IFERROR(VLOOKUP(AE10,Tabelas!B:D,3,0),0),\"\")","v":0},{"$f":"IF(A10<>\"\",IFERROR(VLOOKUP(AF10,Tabelas!B:D,3,0),0),\"\")","v":0},{"$f":"IF(A10<>\"\",IFERROR(VLOOKUP(AG10,Tabelas!B:D,3,0),0),\"\")","v":0},{"$f":"IF(A10<>\"\",IFERROR(VLOOKUP(AH10,Tabelas!B:D,3,0),0),\"\")","v":0},{"$f":"IF(A10<>\"\",IFERROR(VLOOKUP(AI10,Tabelas!B:D,3,0),0),\"\")","v":0},{"$f":"IF(A10<>\"\",IFERROR(VLOOKUP(AJ10,Tabelas!B:D,3,0),0),\"\")","v":0},{"$f":"IF(A10<>\"\",IFERROR(VLOOKUP(AK10,Tabelas!B:D,3,0),0),\"\")","v":0},{"$f":"IF(A10<>\"\",IFERROR(VLOOKUP(AL10,Tabelas!B:D,3,0),0),\"\")","v":0},{"$f":"IF(A10<>\"\",IFERROR(VLOOKUP(AM10,Tabelas!B:D,3,0),0),\"\")","v":0},{"$f":"IF(A10<>\"\",IFERROR(VLOOKUP(AN10,Tabelas!B:D,3,0),0),\"\")","v":0},{"$f":"IF(A10<>\"\",IFERROR(VLOOKUP(AO10,Tabelas!B:D,3,0),0),\"\")","v":0},{"$f":"IF(A10<>\"\",IFERROR(VLOOKUP(AP10,Tabelas!B:D,3,0),0),\"\")","v":0},{"$f":"IF(A10<>\"\",IFERROR(VLOOKUP(AQ10,Tabelas!B:D,3,0),0),\"\")","v":0},{"$f":"IF(AND(A10<>\"\",E10=\"Ebserh\"),SUM(AR10:BV10)+COUNTIF(M10:AQ10,\"N*\")+COUNTIF(M10:AQ10,\"DN*\"),IF(AND(A10<>\"\",E10<>\"Ebserh\"),SUM(AR10:BV10),\"\"))","v":0},{"$f":"IF(A10<>\"\",COUNTIF(M10:AQ10,\"LM\")+COUNTIF(M10:AQ10,\"L*\")+COUNTIF(M10:AQ10,\"LP\"),\"\")","v":0},{"$f":"IF(A10<>\"\",COUNTIF(M10:AQ10,\"AB*\"),\"\")","v":0},{"$f":"IF(A10<>\"\",COUNTIF(M10:AQ10,\"FE\"),\"\")","v":0},{"$f":"IF(A10<>\"\",COUNTIF(M10:AQ10,\"LC\"),\"\")","v":0},{"$f":"IF(A10<>\"\",COUNTIF(M10:AQ10,\"CH*\"),\"\")","v":0},{"$f":"IF(A10<>\"\",COUNTIF(M10:AQ10,\"AF1\")+COUNTIF(M10:AQ10,\"AF2\")+COUNTIF(M10:AQ10,\"AF3\")+COUNTIF(M10:AQ10,\"AF4\")+COUNTIF(M10:AQ10,\"AF5\")+COUNTIF(M10:AQ10,\"AF6\")+COUNTIF(M10:AQ10,\"AF7\")+COUNTIF(M10:AQ10,\"AF8\")+COUNTIF(M10:AQ10,\"AF9\")+COUNTIF(M10:AQ10,\"AF10\")+COUNTIF(M10:AQ10,\"AF11\")+COUNTIF(M10:AQ10,\"AF12\")+COUNTIF(M10:AQ10,\"AF13\")+COUNTIF(M10:AQ10,\"AF14\"),\"\")","v":0},{"$f":"IF(A10<>\"\",COUNTIF(M10:AQ10,\"CH*\")+COUNTIF(M10:AQ10,\"L*\")+COUNTIF(M10:AQ10,\"LM\")+COUNTIF(M10:AQ10,\"LP\")+COUNTIF(M10:AQ10,\"LC\")+COUNTIF(M10:AQ10,\"AB*\")+COUNTIF(M10:AQ10,\"AF1\")+COUNTIF(M10:AQ10,\"AF2\")+COUNTIF(M10:AQ10,\"AF3\")+COUNTIF(M10:AQ10,\"AF4\")+COUNTIF(M10:AQ10,\"AF5\")+COUNTIF(M10:AQ10,\"AF6\")+COUNTIF(M10:AQ10,\"AF7\")+COUNTIF(M10:AQ10,\"AF8\")+COUNTIF(M10:AQ10,\"AF9\")+COUNTIF(M10:AQ10,\"AF10\")+COUNTIF(M10:AQ10,\"AF11\")+COUNTIF(M10:AQ10,\"AF12\")+COUNTIF(M10:AQ10,\"AF13\")+COUNTIF(M10:AQ10,\"AF14\")+COUNTIF(M10:AQ10,\"RC\")+COUNTIF(M10:AQ10,\"FO\")+COUNTIF(M10:AQ10,\"FE\"),\"\")","v":0}]
["FULANO 3",3,null,null,null,null,null,null,null,null,null,null,null,null,null,null,null,null,null,null,null,null,null,null,null,null,null,null,null,null,null,null,null,null,null,null,null,null,null,null,null,null,null,{"$f":"IF(A11<>\"\",IFERROR(VLOOKUP(M11,Tabelas!B:D,3,0),0),\"\")","v":0},{"$f":"IF(A11<>\"\",IFERROR(VLOOKUP(N11,Tabelas!B:D,3,0),0),\"\")","v":0},{"$f":"IF(A11<>\"\",IFERROR(VLOOKUP(O11,Tabelas!B:D,3,0),0),\"\")","v":0},{"$f":"IF(A11<>\"\",IFERROR(VLOOKUP(P11,Tabelas!B:D,3,0),0),\"\")","v":0},{"$f":"IF(A11<>\"\",IFERROR(VLOOKUP(Q11,Tabelas!B:D,3,0),0),\"\")","v":0},{"$f":"IF(A11<>\"\",IFERROR(VLOOKUP(R11,Tabelas!B:D,3,0),0),\"\")","v":0},{"$f":"IF(A11<>\"\",IFERROR(VLOOKUP(S11,Tabelas!B:D,3,0),0),\"\")","v":0},{"$f":"IF(A11<>\"\",IFERROR(VLOOKUP(T11,Tabelas!B:D,3,0),0),\"\")","v":0},{"$f":"IF(A11<>\"\",IFERROR(VLOOKUP(U11,Tabelas!B:D,3,0),0),\"\")","v":0},{"$f":"IF(A11<>\"\",IFERROR(VLOOKUP(V11,Tabelas!B:D,3,0),0),\"\")","v":0},{"$f":"IF(A11<>\"\",IFERROR(VLOOKUP(W11,Tabelas!B:D,3,0),0),\"\")","v":0},{"$f":"IF(A11<>\"\",IFERROR(VLOOKUP(X11,Tabelas!B:D,3,0),0),\"\")","v":0},{"$f":"IF(A11<>\"\",IFERROR(VLOOKUP(Y11,Tabelas!B:D,3,0),0),\"\")","v":0},{"$f":"IF(A11<>\"\",IFERROR(VLOOKUP(Z11,Tabelas!B:D,3,0),0),\"\")","v":0},{"$f":"IF(A11<>\"\",IFERROR(VLOOKUP(AA11,Tabelas!B:D,3,0),0),\"\")","v":0},{"$f":"IF(A11<>\"\",IFERROR(VLOOKUP(AB11,Tabelas!B:D,3,0),0),\"\")","v":0},{"$f":"IF(A11<>\"\",IFERROR(VLOOKUP(AC11,Tabelas!B:D,3,0),0),\"\")","v":0},{"$f":"IF(A11<>\"\",IFERROR(VLOOKUP(AD11,Tabelas!B:D,3,0),0),\"\")","v":0},{"$f":"IF(A11<>\"\",IFERROR(VLOOKUP(AE11,Tabelas!B:D,3,0),0),\"\")","v":0},{"$f":"IF(A11<>\"\",IFERROR(VLOOKUP(AF11,Tabelas!B:D,3,0),0),\"\")","v":0},{"$f":"IF(A11<>\"\",IFERROR(VLOOKUP(AG11,Tabelas!B:D,3,0),0),\"\")","v":0},{"$f":"IF(A11<>\"\",IFERROR(VLOOKUP(AH11,Tabelas!B:D,3,0),0),\"\")","v":0},{"$f":"IF(A11<>\"\",IFERROR(VLOOKUP(AI11,Tabelas!B:D,3,0),0),\"\")","v":0},{"$f":"IF(A11<>\"\",IFERROR(VLOOKUP(AJ11,Tabelas!B:D,3,0),0),\"\")","v":0},{"$f":"IF(A11<>\"\",IFERROR(VLOOKUP(AK11,Tabelas!B:D,3,0),0),\"\")","v":0},{"$f":"IF(A11<>\"\",IFERROR(VLOOKUP(AL11,Tabelas!B:D,3,0),0),\"\")","v":0},{"$f":"IF(A11<>\"\",IFERROR(VLOOKUP(AM11,Tabelas!B:D,3,0),0),\"\")","v":0},{"$f":"IF(A11<>\"\",IFERROR(VLOOKUP(AN11,Tabelas!B:D,3,0),0),\"\")","v":0},{"$f":"IF(A11<>\"\",IFERROR(VLOOKUP(AO11,Tabelas!B:D,3,0),0),\"\")","v":0},{"$f":"IF(A11<>\"\",IFERROR(VLOOKUP(AP11,Tabelas!B:D,3,0),0),\"\")","v":0},{"$f":"IF(A11<>\"\",IFERROR(VLOOKUP(AQ11,Tabelas!B:D,3,0),0),\"\")","v":0},0,{"$f":"IF(A11<>\"\",COUNTIF(M11:AQ11,\"LM\")+COUNTIF(M11:AQ11,\"L*\")+COUNTIF(M11:AQ11,\"LP\"),\"\")","v":0},0,0,0,0,0,0]
["FULANO 4",4,null,null,null,null,null,null,null,null,null,null,null,null,null,null,null,null,null,null,null,null,null,null,null,null,null,null,null,null,null,null,null,null,null,null,null,null,null,null,null,null,null,{"$f":"IF(A12<>\"\",IFERROR(VLOOKUP(M12,Tabelas!B:D,3,0),0),\"\")","v":0},{"$f":"IF(A12<>\"\",IFERROR(VLOOKUP(N12,Tabelas!B:D,3,0),0),\"\")","v":0},{"$f":"IF(A12<>\"\",IFERROR(VLOOKUP(O12,Tabelas!B:D,3,0),0),\"\")","v":0},{"$f":"IF(A12<>\"\",IFERROR(VLOOKUP(P12,Tabelas!B:D,3,0),0),\"\")","v":0},{"$f":"IF(A12<>\"\",IFERROR(VLOOKUP(Q12,Tabelas!B:D,3,0),0),\"\")","v":0},{"$f":"IF(A12<>\"\",IFERROR(VLOOKUP(R12,Tabelas!B:D,3,0),0),\"\")","v":0},{"$f":"IF(A12<>\"\",IFERROR(VLOOKUP(S12,Tabelas!B:D,3,0),0),\"\")","v":0},{"$f":"IF(A12<>\"\",IFERROR(VLOOKUP(T12,Tabelas!B:D,3,0),0),\"\")","v":0},{"$f":"IF(A12<>\"\",IFERROR(VLOOKUP(U12,Tabelas!B:D,3,0),0),\"\")","v":0},{"$f":"IF(A12<>\"\",IFERROR(VLOOKUP(V12,Tabelas!B:D,3,0),0),\"\")","v":0},{"$f":"IF(A12<>\"\",IFERROR(VLOOKUP(W12,Tabelas!B:D,3,0),0),\"\")","v":0},{"$f":"IF(A12<>\"\",IFERROR(VLOOKUP(X12,Tabelas!B:D,3,0),0),\"\")","v":0},{"$f":"IF(A12<>\"\",IFERROR(VLOOKUP(Y12,Tabelas!B:D,3,0),0),\"\")","v":0},{"$f":"IF(A12<>\"\",IFERROR(VLOOKUP(Z12,Tabelas!B:D,3,0),0),\"\")","v":0},{"$f":"IF(A12<>\"\",IFERROR(VLOOKUP(AA12,Tabelas!B:D,3,0),0),\"\")","v":0},{"$f":"IF(A12<>\"\",IFERROR(VLOOKUP(AB12,Tabelas!B:D,3,0),0),\"\")","v":0},{"$f":"IF(A12<>\"\",IFERROR(VLOOKUP(AC12,Tabelas!B:D,3,0),0),\"\")","v":0},{"$f":"IF(A12<>\"\",IFERROR(VLOOKUP(AD12,Tabelas!B:D,3,0),0),\"\")","v":0},{"$f":"IF(A12<>\"\",IFERROR(VLOOKUP(AE12,Tabelas!B:D,3,0),0),\"\")","v":0},{"$f":"IF(A12<>\"\",IFERROR(VLOOKUP(AF12,Tabelas!B:D,3,0),0),\"\")","v":0},{"$f":"IF(A12<>\"\",IFERROR(VLOOKUP(AG12,Tabelas!B:D,3,0),0),\"\")","v":0},{"$f":"IF(A12<>\"\",IFERROR(VLOOKUP(AH12,Tabelas!B:D,3,0),0),\"\")","v":0},{"$f":"IF(A12<>\"\",IFERROR(VLOOKUP(AI12,Tabelas!B:D,3,0),0),\"\")","v":0},{"$f":"IF(A12<>\"\",IFERROR(VLOOKUP(AJ12,Tabelas!B:D,3,0),0),\"\")","v":0},{"$f":"IF(A12<>\"\",IFERROR(VLOOKUP(AK12,Tabelas!B:D,3,0),0),\"\")","v":0},{"$f":"IF(A12<>\"\",IFERROR(VLOOKUP(AL12,Tabelas!B:D,3,0),0),\"\")","v":0},{"$f":"IF(A12<>\"\",IFERROR(VLOOKUP(AM12,Tabelas!B:D,3,0),0),\"\")","v":0},{"$f":"IF(A12<>\"\",IFERROR(VLOOKUP(AN12,Tabelas!B:D,3,0),0),\"\")","v":0},{"$f":"IF(A12<>\"\",IFERROR(VLOOKUP(AO12,Tabelas!B:D,3,0),0),\"\")","v":0},{"$f":"IF(A12<>\"\",IFERROR(VLOOKUP(AP12,Tabelas!B:D,3,0),0),\"\")","v":0},{"$f":"IF(A12<>\"\",IFERROR(VLOOKUP(AQ12,Tabelas!B:D,3,0),0),\"\")","v":0},0,0,0,0,0,0,0,0]
["FULANO 5",5,null,null,null,null,null,null,null,null,null,null,null,null,null,null,null,null,null,null,null,null,null,null,null,null,null,null,null,null,null,null,null,null,null,null,null,null,null,null,null,null,null,{"$f":"IF(A13<>\"\",IFERROR(VLOOKUP(M13,Tabelas!B:D,3,0),0),\"\")","v":0},{"$f":"IF(A13<>\"\",IFERROR(VLOOKUP(N13,Tabelas!B:D,3,0),0),\"\")","v":0},{"$f":"IF(A13<>\"\",IFERROR(VLOOKUP(O13,Tabelas!B:D,3,0),0),\"\")","v":0},{"$f":"IF(A13<>\"\",IFERROR(VLOOKUP(P13,Tabelas!B:D,3,0),0),\"\")","v":0},{"$f":"IF(A13<>\"\",IFERROR(VLOOKUP(Q13,Tabelas!B:D,3,0),0),\"\")","v":0},{"$f":"IF(A13<>\"\",IFERROR(VLOOKUP(R13,Tabelas!B:D,3,0),0),\"\")","v":0},{"$f":"IF(A13<>\"\",IFERROR(VLOOKUP(S13,Tabelas!B:D,3,0),0),\"\")","v":0},{"$f":"IF(A13<>\"\",IFERROR(VLOOKUP(T13,Tabelas!B:D,3,0),0),\"\")","v":0},{"$f":"IF(A13<>\"\",IFERROR(VLOOKUP(U13,Tabelas!B:D,3,0),0),\"\")","v":0},{"$f":"IF(A13<>\"\",IFERROR(VLOOKUP(V13,Tabelas!B:D,3,0),0),\"\")","v":0},{"$f":"IF(A13<>\"\",IFERROR(VLOOKUP(W13,Tabelas!B:D,3,0),0),\"\")","v":0},{"$f":"IF(A13<>\"\",IFERROR(VLOOKUP(X13,Tabelas!B:D,3,0),0),\"\")","v":0},{"$f":"IF(A13<>\"\",IFERROR(VLOOKUP(Y13,Tabelas!B:D,3,0),0),\"\")","v":0},{"$f":"IF(A13<>\"\",IFERROR(VLOOKUP(Z13,Tabelas!B:D,3,0),0),\"\")","v":0},{"$f":"IF(A13<>\"\",IFERROR(VLOOKUP(AA13,Tabelas!B:D,3,0),0),\"\")","v":0},{"$f":"IF(A13<>\"\",IFERROR(VLOOKUP(AB13,Tabelas!B:D,3,0),0),\"\")","v":0},{"$f":"IF(A13<>\"\",IFERROR(VLOOKUP(AC13,Tabelas!B:D,3,0),0),\"\")","v":0},{"$f":"IF(A13<>\"\",IFERROR(VLOOKUP(AD13,Tabelas!B:D,3,0),0),\"\")","v":0},{"$f":"IF(A13<>\"\",IFERROR(VLOOKUP(AE13,Tabelas!B:D,3,0),0),\"\")","v":0},{"$f":"IF(A13<>\"\",IFERROR(VLOOKUP(AF13,Tabelas!B:D,3,0),0),\"\")","v":0},{"$f":"IF(A13<>\"\",IFERROR(VLOOKUP(AG13,Tabelas!B:D,3,0),0),\"\")","v":0},{"$f":"IF(A13<>\"\",IFERROR(VLOOKUP(AH13,Tabelas!B:D,3,0),0),\"\")","v":0},{"$f":"IF(A13<>\"\",IFERROR(VLOOKUP(AI13,Tabelas!B:D,3,0),0),\"\")","v":0},{"$f":"IF(A13<>\"\",IFERROR(VLOOKUP(AJ13,Tabelas!B:D,3,0),0),\"\")","v":0},{"$f":"IF(A13<>\"\",IFERROR(VLOOKUP(AK13,Tabelas!B:D,3,0),0),\"\")","v":0},{"$f":"IF(A13<>\"\",IFERROR(VLOOKUP(AL13,Tabelas!B:D,3,0),0),\"\")","v":0},{"$f":"IF(A13<>\"\",IFERROR(VLOOKUP(AM13,Tabelas!B:D,3,0),0),\"\")","v":0},{"$f":"IF(A13<>\"\",IFERROR(VLOOKUP(AN13,Tabelas!B:D,3,0),0),\"\")","v":0},{"$f":"IF(A13<>\"\",IFERROR(VLOOKUP(AO13,Tabelas!B:D,3,0),0),\"\")","v":0},{"$f":"IF(A13<>\"\",IFERROR(VLOOKUP(AP13,Tabelas!B:D,3,0),0),\"\")","v":0},{"$f":"IF(A13<>\"\",IFERROR(VLOOKUP(AQ13,Tabelas!B:D,3,0),0),\"\")","v":0},0,0,0,0,0,0,0,0]
["FULANO 6",6,null,null,null,null,null,null,null,null,null,null,null,null,null,null,null,null,null,null,null,null,null,null,null,null,null,null,null,null,null,null,null,null,null,null,null,null,null,null,null,null,null,{"$f":"IF(A14<>\"\",IFERROR(VLOOKUP(M14,Tabelas!B:D,3,0),0),\"\")","v":0},{"$f":"IF(A14<>\"\",IFERROR(VLOOKUP(N14,Tabelas!B:D,3,0),0),\"\")","v":0},{"$f":"IF(A14<>\"\",IFERROR(VLOOKUP(O14,Tabelas!B:D,3,0),0),\"\")","v":0},{"$f":"IF(A14<>\"\",IFERROR(VLOOKUP(P14,Tabelas!B:D,3,0),0),\"\")","v":0},{"$f":"IF(A14<>\"\",IFERROR(VLOOKUP(Q14,Tabelas!B:D,3,0),0),\"\")","v":0},{"$f":"IF(A14<>\"\",IFERROR(VLOOKUP(R14,Tabelas!B:D,3,0),0),\"\")","v":0},{"$f":"IF(A14<>\"\",IFERROR(VLOOKUP(S14,Tabelas!B:D,3,0),0),\"\")","v":0},{"$f":"IF(A14<>\"\",IFERROR(VLOOKUP(T14,Tabelas!B:D,3,0),0),\"\")","v":0},{"$f":"IF(A14<>\"\",IFERROR(VLOOKUP(U14,Tabelas!B:D,3,0),0),\"\")","v":0},{"$f":"IF(A14<>\"\",IFERROR(VLOOKUP(V14,Tabelas!B:D,3,0),0),\"\")","v":0},{"$f":"IF(A14<>\"\",IFERROR(VLOOKUP(W14,Tabelas!B:D,3,0),0),\"\")","v":0},{"$f":"IF(A14<>\"\",IFERROR(VLOOKUP(X14,Tabelas!B:D,3,0),0),\"\")","v":0},{"$f":"IF(A14<>\"\",IFERROR(VLOOKUP(Y14,Tabelas!B:D,3,0),0),\"\")","v":0},{"$f":"IF(A14<>\"\",IFERROR(VLOOKUP(Z14,Tabelas!B:D,3,0),0),\"\")","v":0},{"$f":"IF(A14<>\"\",IFERROR(VLOOKUP(AA14,Tabelas!B:D,3,0),0),\"\")","v":0},{"$f":"IF(A14<>\"\",IFERROR(VLOOKUP(AB14,Tabelas!B:D,3,0),0),\"\")","v":0},{"$f":"IF(A14<>\"\",IFERROR(VLOOKUP(AC14,Tabelas!B:D,3,0),0),\"\")","v":0},{"$f":"IF(A14<>\"\",IFERROR(VLOOKUP(AD14,Tabelas!B:D,3,0),0),\"\")","v":0},{"$f":"IF(A14<>\"\",IFERROR(VLOOKUP(AE14,Tabelas!B:D,3,0),0),\"\")","v":0},{"$f":"IF(A14<>\"\",IFERROR(VLOOKUP(AF14,Tabelas!B:D,3,0),0),\"\")","v":0},{"$f":"IF(A14<>\"\",IFERROR(VLOOKUP(AG14,Tabelas!B:D,3,0),0),\"\")","v":0},{"$f":"IF(A14<>\"\",IFERROR(VLOOKUP(AH14,Tabelas!B:D,3,0),0),\"\")","v":0},{"$f":"IF(A14<>\"\",IFERROR(VLOOKUP(AI14,Tabelas!B:D,3,0),0),\"\")","v":0},{"$f":"IF(A14<>\"\",IFERROR(VLOOKUP(AJ14,Tabelas!B:D,3,0),0),\"\")","v":0},{"$f":"IF(A14<>\"\",IFERROR(VLOOKUP(AK14,Tabelas!B:D,3,0),0),\"\")","v":0},{"$f":"IF(A14<>\"\",IFERROR(VLOOKUP(AL14,Tabelas!B:D,3,0),0),\"\")","v":0},{"$f":"IF(A14<>\"\",IFERROR(VLOOKUP(AM14,Tabelas!B:D,3,0),0),\"\")","v":0},{"$f":"IF(A14<>\"\",IFERROR(VLOOKUP(AN14,Tabelas!B:D,3,0),0),\"\")","v":0},{"$f":"IF(A14<>\"\",IFERROR(VLOOKUP(AO14,Tabelas!B:D,3,0),0),\"\")","v":0},{"$f":"IF(A14<>\"\",IFERROR(VLOOKUP(AP14,Tabelas!B:D,3,0),0),\"\")","v":0},{"$f":"IF(A14<>\"\",IFERROR(VLOOKUP(AQ14,Tabelas!B:D,3,0),0),\"\")","v":0},0,0,0,0,0,0,0,0]
["FULANO 7",7,null,null,null,null,null,null,null,null,null,null,null,null,null,null,null,null,null,null,null,null,null,null,null,null,null,null,null,null,null,null,null,null,null,null,null,null,null,null,null,null,null,{"$f":"IF(A15<>\"\",IFERROR(VLOOKUP(M15,Tabelas!B:D,3,0),0),\"\")","v":0},{"$f":"IF(A15<>\"\",IFERROR(VLOOKUP(N15,Tabelas!B:D,3,0),0),\"\")","v":0},{"$f":"IF(A15<>\"\",IFERROR(VLOOKUP(O15,Tabelas!B:D,3,0),0),\"\")","v":0},{"$f":"IF(A15<>\"\",IFERROR(VLOOKUP(P15,Tabelas!B:D,3,0),0),\"\")","v":0},{"$f":"IF(A15<>\"\",IFERROR(VLOOKUP(Q15,Tabelas!B:D,3,0),0),\"\")","v":0},{"$f":"IF(A15<>\"\",IFERROR(VLOOKUP(R15,Tabelas!B:D,3,0),0),\"\")","v":0},{"$f":"IF(A15<>\"\",IFERROR(VLOOKUP(S15,Tabelas!B:D,3,0),0),\"\")","v":0},{"$f":"IF(A15<>\"\",IFERROR(VLOOKUP(T15,Tabelas!B:D,3,0),0),\"\")","v":0},{"$f":"IF(A15<>\"\",IFERROR(VLOOKUP(U15,Tabelas!B:D,3,0),0),\"\")","v":0},{"$f":"IF(A15<>\"\",IFERROR(VLOOKUP(V15,Tabelas!B:D,3,0),0),\"\")","v":0},{"$f":"IF(A15<>\"\",IFERROR(VLOOKUP(W15,Tabelas!B:D,3,0),0),\"\")","v":0},{"$f":"IF(A15<>\"\",IFERROR(VLOOKUP(X15,Tabelas!B:D,3,0),0),\"\")","v":0},{"$f":"IF(A15<>\"\",IFERROR(VLOOKUP(Y15,Tabelas!B:D,3,0),0),\"\")","v":0},{"$f":"IF(A15<>\"\",IFERROR(VLOOKUP(Z15,Tabelas!B:D,3,0),0),\"\")","v":0},{"$f":"IF(A15<>\"\",IFERROR(VLOOKUP(AA15,Tabelas!B:D,3,0),0),\"\")","v":0},{"$f":"IF(A15<>\"\",IFERROR(VLOOKUP(AB15,Tabelas!B:D,3,0),0),\"\")","v":0},{"$f":"IF(A15<>\"\",IFERROR(VLOOKUP(AC15,Tabelas!B:D,3,0),0),\"\")","v":0},{"$f":"IF(A15<>\"\",IFERROR(VLOOKUP(AD15,Tabelas!B:D,3,0),0),\"\")","v":0},{"$f":"IF(A15<>\"\",IFERROR(VLOOKUP(AE15,Tabelas!B:D,3,0),0),\"\")","v":0},{"$f":"IF(A15<>\"\",IFERROR(VLOOKUP(AF15,Tabelas!B:D,3,0),0),\"\")","v":0},{"$f":"IF(A15<>\"\",IFERROR(VLOOKUP(AG15,Tabelas!B:D,3,0),0),\"\")","v":0},{"$f":"IF(A15<>\"\",IFERROR(VLOOKUP(AH15,Tabelas!B:D,3,0),0),\"\")","v":0},{"$f":"IF(A15<>\"\",IFERROR(VLOOKUP(AI15,Tabelas!B:D,3,0),0),\"\")","v":0},{"$f":"IF(A15<>\"\",IFERROR(VLOOKUP(AJ15,Tabelas!B:D,3,0),0),\"\")","v":0},{"$f":"IF(A15<>\"\",IFERROR(VLOOKUP(AK15,Tabelas!B:D,3,0),0),\"\")","v":0},{"$f":"IF(A15<>\"\",IFERROR(VLOOKUP(AL15,Tabelas!B:D,3,0),0),\"\")","v":0},{"$f":"IF(A15<>\"\",IFERROR(VLOOKUP(AM15,Tabelas!B:D,3,0),0),\"\")","v":0},{"$f":"IF(A15<>\"\",IFERROR(VLOOKUP(AN15,Tabelas!B:D,3,0),0),\"\")","v":0},{"$f":"IF(A15<>\"\",IFERROR(VLOOKUP(AO15,Tabelas!B:D,3,0),0),\"\")","v":0},{"$f":"IF(A15<>\"\",IFERROR(VLOOKUP(AP15,Tabelas!B:D,3,0),0),\"\")","v":0},{"$f":"IF(A15<>\"\",IFERROR(VLOOKUP(AQ15,Tabelas!B:D,3,0),0),\"\")","v":0},0,0,0,0,0,0,0,0]
["FULANO 8",8,null,null,null,null,null,null,null,null,null,null,null,null,null,null,null,null,null,null,null,null,null,null,null,null,null,null,null,null,null,null,null,null,null,null,null,null,null,null,null,null,null,{"$f":"IF(A16<>\"\",IFERROR(VLOOKUP(M16,Tabelas!B:D,3,0),0),\"\")","v":0},{"$f":"IF(A16<>\"\",IFERROR(VLOOKUP(N16,Tabelas!B:D,3,0),0),\"\")","v":0},{"$f":"IF(A16<>\"\",IFERROR(VLOOKUP(O16,Tabelas!B:D,3,0),0),\"\")","v":0},{"$f":"IF(A16<>\"\",IFERROR(VLOOKUP(P16,Tabelas!B:D,3,0),0),\"\")","v":0},{"$f":"IF(A16<>\"\",IFERROR(VLOOKUP(Q16,Tabelas!B:D,3,0),0),\"\")","v":0},{"$f":"IF(A16<>\"\",IFERROR(VLOOKUP(R16,Tabelas!B:D,3,0),0),\"\")","v":0},{"$f":"IF(A16<>\"\",IFERROR(VLOOKUP(S16,Tabelas!B:D,3,0),0),\"\")","v":0},{"$f":"IF(A16<>\"\",IFERROR(VLOOKUP(T16,Tabelas!B:D,3,0),0),\"\")","v":0},{"$f":"IF(A16<>\"\",IFERROR(VLOOKUP(U16,Tabelas!B:D,3,0),0),\"\")","v":0},{"$f":"IF(A16<>\"\",IFERROR(VLOOKUP(V16,Tabelas!B:D,3,0),0),\"\")","v":0},{"$f":"IF(A16<>\"\",IFERROR(VLOOKUP(W16,Tabelas!B:D,3,0),0),\"\")","v":0},{"$f":"IF(A16<>\"\",IFERROR(VLOOKUP(X16,Tabelas!B:D,3,0),0),\"\")","v":0},{"$f":"IF(A16<>\"\",IFERROR(VLOOKUP(Y16,Tabelas!B:D,3,0),0),\"\")","v":0},{"$f":"IF(A16<>\"\",IFERROR(VLOOKUP(Z16,Tabelas!B:D,3,0),0),\"\")","v":0},{"$f":"IF(A16<>\"\",IFERROR(VLOOKUP(AA16,Tabelas!B:D,3,0),0),\"\")","v":0},{"$f":"IF(A16<>\"\",IFERROR(VLOOKUP(AB16,Tabelas!B:D,3,0),0),\"\")","v":0},{"$f":"IF(A16<>\"\",IFERROR(VLOOKUP(AC16,Tabelas!B:D,3,0),0),\"\")","v":0},{"$f":"IF(A16<>\"\",IFERROR(VLOOKUP(AD16,Tabelas!B:D,3,0),0),\"\")","v":0},{"$f":"IF(A16<>\"\",IFERROR(VLOOKUP(AE16,Tabelas!B:D,3,0),0),\"\")","v":0},{"$f":"IF(A16<>\"\",IFERROR(VLOOKUP(AF16,Tabelas!B:D,3,0),0),\"\")","v":0},{"$f":"IF(A16<>\"\",IFERROR(VLOOKUP(AG16,Tabelas!B:D,3,0),0),\"\")","v":0},{"$f":"IF(A16<>\"\",IFERROR(VLOOKUP(AH16,Tabelas!B:D,3,0),0),\"\")","v":0},{"$f":"IF(A16<>\"\",IFERROR(VLOOKUP(AI16,Tabelas!B:D,3,0),0),\"\")","v":0},{"$f":"IF(A16<>\"\",IFERROR(VLOOKUP(AJ16,Tabelas!B:D,3,0),0),\"\")","v":0},{"$f":"IF(A16<>\"\",IFERROR(VLOOKUP(AK16,Tabelas!B:D,3,0),0),\"\")","v":0},{"$f":"IF(A16<>\"\",IFERROR(VLOOKUP(AL16,Tabelas!B:D,3,0),0),\"\")","v":0},{"$f":"IF(A16<>\"\",IFERROR(VLOOKUP(AM16,Tabelas!B:D,3,0),0),\"\")","v":0},{"$f":"IF(A16<>\"\",IFERROR(VLOOKUP(AN16,Tabelas!B:D,3,0),0),\"\")","v":0},{"$f":"IF(A16<>\"\",IFERROR(VLOOKUP(AO16,Tabelas!B:D,3,0),0),\"\")","v":0},{"$f":"IF(A16<>\"\",IFERROR(VLOOKUP(AP16,Tabelas!B:D,3,0),0),\"\")","v":0},{"$f":"IF(A16<>\"\",IFERROR(VLOOKUP(AQ16,Tabelas!B:D,3,0),0),\"\")","v":0},0,0,0,0,0,0,0,0]
["FULANO 9",9,null,null,null,null,null,null,null,null,null,null,null,null,null,null,null,null,null,null,null,null,null,null,null,null,null,null,null,null,null,null,null,null,null,null,null,null,null,null,null,null,null,{"$f":"IF(A17<>\"\",IFERROR(VLOOKUP(M17,Tabelas!B:D,3,0),0),\"\")","v":0},{"$f":"IF(A17<>\"\",IFERROR(VLOOKUP(N17,Tabelas!B:D,3,0),0),\"\")","v":0},{"$f":"IF(A17<>\"\",IFERROR(VLOOKUP(O17,Tabelas!B:D,3,0),0),\"\")","v":0},{"$f":"IF(A17<>\"\",IFERROR(VLOOKUP(P17,Tabelas!B:D,3,0),0),\"\")","v":0},{"$f":"IF(A17<>\"\",IFERROR(VLOOKUP(Q17,Tabelas!B:D,3,0),0),\"\")","v":0},{"$f":"IF(A17<>\"\",IFERROR(VLOOKUP(R17,Tabelas!B:D,3,0),0),\"\")","v":0},{"$f":"IF(A17<>\"\",IFERROR(VLOOKUP(S17,Tabelas!B:D,3,0),0),\"\")","v":0},{"$f":"IF(A17<>\"\",IFERROR(VLOOKUP(T17,Tabelas!B:D,3,0),0),\"\")","v":0},{"$f":"IF(A17<>\"\",IFERROR(VLOOKUP(U17,Tabelas!B:D,3,0),0),\"\")","v":0},{"$f":"IF(A17<>\"\",IFERROR(VLOOKUP(V17,Tabelas!B:D,3,0),0),\"\")","v":0},{"$f":"IF(A17<>\"\",IFERROR(VLOOKUP(W17,Tabelas!B:D,3,0),0),\"\")","v":0},{"$f":"IF(A17<>\"\",IFERROR(VLOOKUP(X17,Tabelas!B:D,3,0),0),\"\")","v":0},{"$f":"IF(A17<>\"\",IFERROR(VLOOKUP(Y17,Tabelas!B:D,3,0),0),\"\")","v":0},{"$f":"IF(A17<>\"\",IFERROR(VLOOKUP(Z17,Tabelas!B:D,3,0),0),\"\")","v":0},{"$f":"IF(A17<>\"\",IFERROR(VLOOKUP(AA17,Tabelas!B:D,3,0),0),\"\")","v":0},{"$f":"IF(A17<>\"\",IFERROR(VLOOKUP(AB17,Tabelas!B:D,3,0),0),\"\")","v":0},{"$f":"IF(A17<>\"\",IFERROR(VLOOKUP(AC17,Tabelas!B:D,3,0),0),\"\")","v":0},{"$f":"IF(A17<>\"\",IFERROR(VLOOKUP(AD17,Tabelas!B:D,3,0),0),\"\")","v":0},{"$f":"IF(A17<>\"\",IFERROR(VLOOKUP(AE17,Tabelas!B:D,3,0),0),\"\")","v":0},{"$f":"IF(A17<>\"\",IFERROR(VLOOKUP(AF17,Tabelas!B:D,3,0),0),\"\")","v":0},{"$f":"IF(A17<>\"\",IFERROR(VLOOKUP(AG17,Tabelas!B:D,3,0),0),\"\")","v":0},{"$f":"IF(A17<>\"\",IFERROR(VLOOKUP(AH17,Tabelas!B:D,3,0),0),\"\")","v":0},{"$f":"IF(A17<>\"\",IFERROR(VLOOKUP(AI17,Tabelas!B:D,3,0),0),\"\")","v":0},{"$f":"IF(A17<>\"\",IFERROR(VLOOKUP(AJ17,Tabelas!B:D,3,0),0),\"\")","v":0},{"$f":"IF(A17<>\"\",IFERROR(VLOOKUP(AK17,Tabelas!B:D,3,0),0),\"\")","v":0},{"$f":"IF(A17<>\"\",IFERROR(VLOOKUP(AL17,Tabelas!B:D,3,0),0),\"\")","v":0},{"$f":"IF(A17<>\"\",IFERROR(VLOOKUP(AM17,Tabelas!B:D,3,0),0),\"\")","v":0},{"$f":"IF(A17<>\"\",IFERROR(VLOOKUP(AN17,Tabelas!B:D,3,0),0),\"\")","v":0},{"$f":"IF(A17<>\"\",IFERROR(VLOOKUP(AO17,Tabelas!B:D,3,0),0),\"\")","v":0},{"$f":"IF(A17<>\"\",IFERROR(VLOOKUP(AP17,Tabelas!B:D,3,0),0),\"\")","v":0},{"$f":"IF(A17<>\"\",IFERROR(VLOOKUP(AQ17,Tabelas!B:D,3,0),0),\"\")","v":0},0,0,0,0,0,0,0,0]
["FULANO 10",10,null,null,null,null,null,null,null,null,null,null,null,null,null,null,null,null,null,null,null,null,null,null,null,null,null,null,null,null,null,null,null,null,null,null,null,null,null,null,null,null,null,{"$f":"IF(A18<>\"\",IFERROR(VLOOKUP(M18,Tabelas!B:D,3,0),0),\"\")","v":0},{"$f":"IF(A18<>\"\",IFERROR(VLOOKUP(N18,Tabelas!B:D,3,0),0),\"\")","v":0},{"$f":"IF(A18<>\"\",IFERROR(VLOOKUP(O18,Tabelas!B:D,3,0),0),\"\")","v":0},{"$f":"IF(A18<>\"\",IFERROR(VLOOKUP(P18,Tabelas!B:D,3,0),0),\"\")","v":0},{"$f":"IF(A18<>\"\",IFERROR(VLOOKUP(Q18,Tabelas!B:D,3,0),0),\"\")","v":0},{"$f":"IF(A18<>\"\",IFERROR(VLOOKUP(R18,Tabelas!B:D,3,0),0),\"\")","v":0},{"$f":"IF(A18<>\"\",IFERROR(VLOOKUP(S18,Tabelas!B:D,3,0),0),\"\")","v":0},{"$f":"IF(A18<>\"\",IFERROR(VLOOKUP(T18,Tabelas!B:D,3,0),0),\"\")","v":0},{"$f":"IF(A18<>\"\",IFERROR(VLOOKUP(U18,Tabelas!B:D,3,0),0),\"\")","v":0},{"$f":"IF(A18<>\"\",IFERROR(VLOOKUP(V18,Tabelas!B:D,3,0),0),\"\")","v":0},{"$f":"IF(A18<>\"\",IFERROR(VLOOKUP(W18,Tabelas!B:D,3,0),0),\"\")","v":0},{"$f":"IF(A18<>\"\",IFERROR(VLOOKUP(X18,Tabelas!B:D,3,0),0),\"\")","v":0},{"$f":"IF(A18<>\"\",IFERROR(VLOOKUP(Y18,Tabelas!B:D,3,0),0),\"\")","v":0},{"$f":"IF(A18<>\"\",IFERROR(VLOOKUP(Z18,Tabelas!B:D,3,0),0),\"\")","v":0},{"$f":"IF(A18<>\"\",IFERROR(VLOOKUP(AA18,Tabelas!B:D,3,0),0),\"\")","v":0},{"$f":"IF(A18<>\"\",IFERROR(VLOOKUP(AB18,Tabelas!B:D,3,0),0),\"\")","v":0},{"$f":"IF(A18<>\"\",IFERROR(VLOOKUP(AC18,Tabelas!B:D,3,0),0),\"\")","v":0},{"$f":"IF(A18<>\"\",IFERROR(VLOOKUP(AD18,Tabelas!B:D,3,0),0),\"\")","v":0},{"$f":"IF(A18<>\"\",IFERROR(VLOOKUP(AE18,Tabelas!B:D,3,0),0),\"\")","v":0},{"$f":"IF(A18<>\"\",IFERROR(VLOOKUP(AF18,Tabelas!B:D,3,0),0),\"\")","v":0},{"$f":"IF(A18<>\"\",IFERROR(VLOOKUP(AG18,Tabelas!B:D,3,0),0),\"\")","v":0},{"$f":"IF(A18<>\"\",IFERROR(VLOOKUP(AH18,Tabelas!B:D,3,0),0),\"\")","v":0},{"$f":"IF(A18<>\"\",IFERROR(VLOOKUP(AI18,Tabelas!B:D,3,0),0),\"\")","v":0},{"$f":"IF(A18<>\"\",IFERROR(VLOOKUP(AJ18,Tabelas!B:D,3,0),0),\"\")","v":0},{"$f":"IF(A18<>\"\",IFERROR(VLOOKUP(AK18,Tabelas!B:D,3,0),0),\"\")","v":0},{"$f":"IF(A18<>\"\",IFERROR(VLOOKUP(AL18,Tabelas!B:D,3,0),0),\"\")","v":0},{"$f":"IF(A18<>\"\",IFERROR(VLOOKUP(AM18,Tabelas!B:D,3,0),0),\"\")","v":0},{"$f":"IF(A18<>\"\",IFERROR(VLOOKUP(AN18,Tabelas!B:D,3,0),0),\"\")","v":0},{"$f":"IF(A18<>\"\",IFERROR(VLOOKUP(AO18,Tabelas!B:D,3,0),0),\"\")","v":0},{"$f":"IF(A18<>\"\",IFERROR(VLOOKUP(AP18,Tabelas!B:D,3,0),0),\"\")","v":0},{"$f":"IF(A18<>\"\",IFERROR(VLOOKUP(AQ18,Tabelas!B:D,3,0),0),\"\")","v":0},0,0,0,0,0,0,0,0]
["FULANO 11",11,null,null,null,null,null,null,null,null,null,null,null,null,null,null,null,null,null,null,null,null,null,null,null,null,null,null,null,null,null,null,null,null,null,null,null,null,null,null,null,null,null,{"$f":"IF(A19<>\"\",IFERROR(VLOOKUP(M19,Tabelas!B:D,3,0),0),\"\")","v":0},{"$f":"IF(A19<>\"\",IFERROR(VLOOKUP(N19,Tabelas!B:D,3,0),0),\"\")","v":0},{"$f":"IF(A19<>\"\",IFERROR(VLOOKUP(O19,Tabelas!B:D,3,0),0),\"\")","v":0},{"$f":"IF(A19<>\"\",IFERROR(VLOOKUP(P19,Tabelas!B:D,3,0),0),\"\")","v":0},{"$f":"IF(A19<>\"\",IFERROR(VLOOKUP(Q19,Tabelas!B:D,3,0),0),\"\")","v":0},{"$f":"IF(A19<>\"\",IFERROR(VLOOKUP(R19,Tabelas!B:D,3,0),0),\"\")","v":0},{"$f":"IF(A19<>\"\",IFERROR(VLOOKUP(S19,Tabelas!B:D,3,0),0),\"\")","v":0},{"$f":"IF(A19<>\"\",IFERROR(VLOOKUP(T19,Tabelas!B:D,3,0),0),\"\")","v":0},{"$f":"IF(A19<>\"\",IFERROR(VLOOKUP(U19,Tabelas!B:D,3,0),0),\"\")","v":0},{"$f":"IF(A19<>\"\",IFERROR(VLOOKUP(V19,Tabelas!B:D,3,0),0),\"\")","v":0},{"$f":"IF(A19<>\"\",IFERROR(VLOOKUP(W19,Tabelas!B:D,3,0),0),\"\")","v":0},{"$f":"IF(A19<>\"\",IFERROR(VLOOKUP(X19,Tabelas!B:D,3,0),0),\"\")","v":0},{"$f":"IF(A19<>\"\",IFERROR(VLOOKUP(Y19,Tabelas!B:D,3,0),0),\"\")","v":0},{"$f":"IF(A19<>\"\",IFERROR(VLOOKUP(Z19,Tabelas!B:D,3,0),0),\"\")","v":0},{"$f":"IF(A19<>\"\",IFERROR(VLOOKUP(AA19,Tabelas!B:D,3,0),0),\"\")","v":0},{"$f":"IF(A19<>\"\",IFERROR(VLOOKUP(AB19,Tabelas!B:D,3,0),0),\"\")","v":0},{"$f":"IF(A19<>\"\",IFERROR(VLOOKUP(AC19,Tabelas!B:D,3,0),0),\"\")","v":0},{"$f":"IF(A19<>\"\",IFERROR(VLOOKUP(AD19,Tabelas!B:D,3,0),0),\"\")","v":0},{"$f":"IF(A19<>\"\",IFERROR(VLOOKUP(AE19,Tabelas!B:D,3,0),0),\"\")","v":0},{"$f":"IF(A19<>\"\",IFERROR(VLOOKUP(AF19,Tabelas!B:D,3,0),0),\"\")","v":0},{"$f":"IF(A19<>\"\",IFERROR(VLOOKUP(AG19,Tabelas!B:D,3,0),0),\"\")","v":0},{"$f":"IF(A19<>\"\",IFERROR(VLOOKUP(AH19,Tabelas!B:D,3,0),0),\"\")","v":0},{"$f":"IF(A19<>\"\",IFERROR(VLOOKUP(AI19,Tabelas!B:D,3,0),0),\"\")","v":0},{"$f":"IF(A19<>\"\",IFERROR(VLOOKUP(AJ19,Tabelas!B:D,3,0),0),\"\")","v":0},{"$f":"IF(A19<>\"\",IFERROR(VLOOKUP(AK19,Tabelas!B:D,3,0),0),\"\")","v":0},{"$f":"IF(A19<>\"\",IFERROR(VLOOKUP(AL19,Tabelas!B:D,3,0),0),\"\")","v":0},{"$f":"IF(A19<>\"\",IFERROR(VLOOKUP(AM19,Tabelas!B:D,3,0),0),\"\")","v":0},{"$f":"IF(A19<>\"\",IFERROR(VLOOKUP(AN19,Tabelas!B:D,3,0),0),\"\")","v":0},{"$f":"IF(A19<>\"\",IFERROR(VLOOKUP(AO19,Tabelas!B:D,3,0),0),\"\")","v":0},{"$f":"IF(A19<>\"\",IFERROR(VLOOKUP(AP19,Tabelas!B:D,3,0),0),\"\")","v":0},{"$f":"IF(A19<>\"\",IFERROR(VLOOKUP(AQ19,Tabelas!B:D,3,0),0),\"\")","v":0},0,0,0,0,0,0,0,0]
["FULANO 12",12,null,null,null,null,null,null,null,null,null,null,null,null,null,null,null,null,null,null,null,null,null,null,null,null,null,null,null,null,null,null,null,null,null,null,null,null,null,null,null,null,null,{"$f":"IF(A20<>\"\",IFERROR(VLOOKUP(M20,Tabelas!B:D,3,0),0),\"\")","v":0},{"$f":"IF(A20<>\"\",IFERROR(VLOOKUP(N20,Tabelas!B:D,3,0),0),\"\")","v":0},{"$f":"IF(A20<>\"\",IFERROR(VLOOKUP(O20,Tabelas!B:D,3,0),0),\"\")","v":0},{"$f":"IF(A20<>\"\",IFERROR(VLOOKUP(P20,Tabelas!B:D,3,0),0),\"\")","v":0},{"$f":"IF(A20<>\"\",IFERROR(VLOOKUP(Q20,Tabelas!B:D,3,0),0),\"\")","v":0},{"$f":"IF(A20<>\"\",IFERROR(VLOOKUP(R20,Tabelas!B:D,3,0),0),\"\")","v":0},{"$f":"IF(A20<>\"\",IFERROR(VLOOKUP(S20,Tabelas!B:D,3,0),0),\"\")","v":0},{"$f":"IF(A20<>\"\",IFERROR(VLOOKUP(T20,Tabelas!B:D,3,0),0),\"\")","v":0},{"$f":"IF(A20<>\"\",IFERROR(VLOOKUP(U20,Tabelas!B:D,3,0),0),\"\")","v":0},{"$f":"IF(A20<>\"\",IFERROR(VLOOKUP(V20,Tabelas!B:D,3,0),0),\"\")","v":0},{"$f":"IF(A20<>\"\",IFERROR(VLOOKUP(W20,Tabelas!B:D,3,0),0),\"\")","v":0},{"$f":"IF(A20<>\"\",IFERROR(VLOOKUP(X20,Tabelas!B:D,3,0),0),\"\")","v":0},{"$f":"IF(A20<>\"\",IFERROR(VLOOKUP(Y20,Tabelas!B:D,3,0),0),\"\")","v":0},{"$f":"IF(A20<>\"\",IFERROR(VLOOKUP(Z20,Tabelas!B:D,3,0),0),\"\")","v":0},{"$f":"IF(A20<>\"\",IFERROR(VLOOKUP(AA20,Tabelas!B:D,3,0),0),\"\")","v":0},{"$f":"IF(A20<>\"\",IFERROR(VLOOKUP(AB20,Tabelas!B:D,3,0),0),\"\")","v":0},{"$f":"IF(A20<>\"\",IFERROR(VLOOKUP(AC20,Tabelas!B:D,3,0),0),\"\")","v":0},{"$f":"IF(A20<>\"\",IFERROR(VLOOKUP(AD20,Tabelas!B:D,3,0),0),\"\")","v":0},{"$f":"IF(A20<>\"\",IFERROR(VLOOKUP(AE20,Tabelas!B:D,3,0),0),\"\")","v":0},{"$f":"IF(A20<>\"\",IFERROR(VLOOKUP(AF20,Tabelas!B:D,3,0),0),\"\")","v":0},{"$f":"IF(A20<>\"\",IFERROR(VLOOKUP(AG20,Tabelas!B:D,3,0),0),\"\")","v":0},{"$f":"IF(A20<>\"\",IFERROR(VLOOKUP(AH20,Tabelas!B:D,3,0),0),\"\")","v":0},{"$f":"IF(A20<>\"\",IFERROR(VLOOKUP(AI20,Tabelas!B:D,3,0),0),\"\")","v":0},{"$f":"IF(A20<>\"\",IFERROR(VLOOKUP(AJ20,Tabelas!B:D,3,0),0),\"\")","v":0},{"$f":"IF(A20<>\"\",IFERROR(VLOOKUP(AK20,Tabelas!B:D,3,0),0),\"\")","v":0},{"$f":"IF(A20<>\"\",IFERROR(VLOOKUP(AL20,Tabelas!B:D,3,0),0),\"\")","v":0},{"$f":"IF(A20<>\"\",IFERROR(VLOOKUP(AM20,Tabelas!B:D,3,0),0),\"\")","v":0},{"$f":"IF(A20<>\"\",IFERROR(VLOOKUP(AN20,Tabelas!B:D,3,0),0),\"\")","v":0},{"$f":"IF(A20<>\"\",IFERROR(VLOOKUP(AO20,Tabelas!B:D,3,0),0),\"\")","v":0},{"$f":"IF(A20<>\"\",IFERROR(VLOOKUP(AP20,Tabelas!B:D,3,0),0),\"\")","v":0},{"$f":"IF(A20<>\"\",IFERROR(VLOOKUP(AQ20,Tabelas!B:D,3,0),0),\"\")","v":0},0,0,0,0,0,0,0,0]
["FULANO 13",13,null,null,null,null,null,null,null,null,null,null,null,null,null,null,null,null,null,null,null,null,null,null,null,null,null,null,null,null,null,null,null,null,null,null,null,null,null,null,null,null,null,{"$f":"IF(A21<>\"\",IFERROR(VLOOKUP(M21,Tabelas!B:D,3,0),0),\"\")","v":0},{"$f":"IF(A21<>\"\",IFERROR(VLOOKUP(N21,Tabelas!B:D,3,0),0),\"\")","v":0},{"$f":"IF(A21<>\"\",IFERROR(VLOOKUP(O21,Tabelas!B:D,3,0),0),\"\")","v":0},{"$f":"IF(A21<>\"\",IFERROR(VLOOKUP(P21,Tabelas!B:D,3,0),0),\"\")","v":0},{"$f":"IF(A21<>\"\",IFERROR(VLOOKUP(Q21,Tabelas!B:D,3,0),0),\"\")","v":0},{"$f":"IF(A21<>\"\",IFERROR(VLOOKUP(R21,Tabelas!B:D,3,0),0),\"\")","v":0},{"$f":"IF(A21<>\"\",IFERROR(VLOOKUP(S21,Tabelas!B:D,3,0),0),\"\")","v":0},{"$f":"IF(A21<>\"\",IFERROR(VLOOKUP(T21,Tabelas!B:D,3,0),0),\"\")","v":0},{"$f":"IF(A21<>\"\",IFERROR(VLOOKUP(U21,Tabelas!B:D,3,0),0),\"\")","v":0},{"$f":"IF(A21<>\"\",IFERROR(VLOOKUP(V21,Tabelas!B:D,3,0),0),\"\")","v":0},{"$f":"IF(A21<>\"\",IFERROR(VLOOKUP(W21,Tabelas!B:D,3,0),0),\"\")","v":0},{"$f":"IF(A21<>\"\",IFERROR(VLOOKUP(X21,Tabelas!B:D,3,0),0),\"\")","v":0},{"$f":"IF(A21<>\"\",IFERROR(VLOOKUP(Y21,Tabelas!B:D,3,0),0),\"\")","v":0},{"$f":"IF(A21<>\"\",IFERROR(VLOOKUP(Z21,Tabelas!B:D,3,0),0),\"\")","v":0},{"$f":"IF(A21<>\"\",IFERROR(VLOOKUP(AA21,Tabelas!B:D,3,0),0),\"\")","v":0},{"$f":"IF(A21<>\"\",IFERROR(VLOOKUP(AB21,Tabelas!B:D,3,0),0),\"\")","v":0},{"$f":"IF(A21<>\"\",IFERROR(VLOOKUP(AC21,Tabelas!B:D,3,0),0),\"\")","v":0},{"$f":"IF(A21<>\"\",IFERROR(VLOOKUP(AD21,Tabelas!B:D,3,0),0),\"\")","v":0},{"$f":"IF(A21<>\"\",IFERROR(VLOOKUP(AE21,Tabelas!B:D,3,0),0),\"\")","v":0},{"$f":"IF(A21<>\"\",IFERROR(VLOOKUP(AF21,Tabelas!B:D,3,0),0),\"\")","v":0},{"$f":"IF(A21<>\"\",IFERROR(VLOOKUP(AG21,Tabelas!B:D,3,0),0),\"\")","v":0},{"$f":"IF(A21<>\"\",IFERROR(VLOOKUP(AH21,Tabelas!B:D,3,0),0),\"\")","v":0},{"$f":"IF(A21<>\"\",IFERROR(VLOOKUP(AI21,Tabelas!B:D,3,0),0),\"\")","v":0},{"$f":"IF(A21<>\"\",IFERROR(VLOOKUP(AJ21,Tabelas!B:D,3,0),0),\"\")","v":0},{"$f":"IF(A21<>\"\",IFERROR(VLOOKUP(AK21,Tabelas!B:D,3,0),0),\"\")","v":0},{"$f":"IF(A21<>\"\",IFERROR(VLOOKUP(AL21,Tabelas!B:D,3,0),0),\"\")","v":0},{"$f":"IF(A21<>\"\",IFERROR(VLOOKUP(AM21,Tabelas!B:D,3,0),0),\"\")","v":0},{"$f":"IF(A21<>\"\",IFERROR(VLOOKUP(AN21,Tabelas!B:D,3,0),0),\"\")","v":0},{"$f":"IF(A21<>\"\",IFERROR(VLOOKUP(AO21,Tabelas!B:D,3,0),0),\"\")","v":0},{"$f":"IF(A21<>\"\",IFERROR(VLOOKUP(AP21,Tabelas!B:D,3,0),0),\"\")","v":0},{"$f":"IF(A21<>\"\",IFERROR(VLOOKUP(AQ21,Tabelas!B:D,3,0),0),\"\")","v":0},0,0,0,0,0,0,0,0]
["FULANO 14",14,null,null,null,null,null,null,null,null,null,null,null,null,null,null,null,null,null,null,null,null,null,null,null,null,null,null,null,null,null,null,null,null,null,null,null,null,null,null,null,null,null,{"$f":"IF(A22<>\"\",IFERROR(VLOOKUP(M22,Tabelas!B:D,3,0),0),\"\")","v":0},{"$f":"IF(A22<>\"\",IFERROR(VLOOKUP(N22,Tabelas!B:D,3,0),0),\"\")","v":0},{"$f":"IF(A22<>\"\",IFERROR(VLOOKUP(O22,Tabelas!B:D,3,0),0),\"\")","v":0},{"$f":"IF(A22<>\"\",IFERROR(VLOOKUP(P22,Tabelas!B:D,3,0),0),\"\")","v":0},{"$f":"IF(A22<>\"\",IFERROR(VLOOKUP(Q22,Tabelas!B:D,3,0),0),\"\")","v":0},{"$f":"IF(A22<>\"\",IFERROR(VLOOKUP(R22,Tabelas!B:D,3,0),0),\"\")","v":0},{"$f":"IF(A22<>\"\",IFERROR(VLOOKUP(S22,Tabelas!B:D,3,0),0),\"\")","v":0},{"$f":"IF(A22<>\"\",IFERROR(VLOOKUP(T22,Tabelas!B:D,3,0),0),\"\")","v":0},{"$f":"IF(A22<>\"\",IFERROR(VLOOKUP(U22,Tabelas!B:D,3,0),0),\"\")","v":0},{"$f":"IF(A22<>\"\",IFERROR(VLOOKUP(V22,Tabelas!B:D,3,0),0),\"\")","v":0},{"$f":"IF(A22<>\"\",IFERROR(VLOOKUP(W22,Tabelas!B:D,3,0),0),\"\")","v":0},{"$f":"IF(A22<>\"\",IFERROR(VLOOKUP(X22,Tabelas!B:D,3,0),0),\"\")","v":0},{"$f":"IF(A22<>\"\",IFERROR(VLOOKUP(Y22,Tabelas!B:D,3,0),0),\"\")","v":0},{"$f":"IF(A22<>\"\",IFERROR(VLOOKUP(Z22,Tabelas!B:D,3,0),0),\"\")","v":0},{"$f":"IF(A22<>\"\",IFERROR(VLOOKUP(AA22,Tabelas!B:D,3,0),0),\"\")","v":0},{"$f":"IF(A22<>\"\",IFERROR(VLOOKUP(AB22,Tabelas!B:D,3,0),0),\"\")","v":0},{"$f":"IF(A22<>\"\",IFERROR(VLOOKUP(AC22,Tabelas!B:D,3,0),0),\"\")","v":0},{"$f":"IF(A22<>\"\",IFERROR(VLOOKUP(AD22,Tabelas!B:D,3,0),0),\"\")","v":0},{"$f":"IF(A22<>\"\",IFERROR(VLOOKUP(AE22,Tabelas!B:D,3,0),0),\"\")","v":0},{"$f":"IF(A22<>\"\",IFERROR(VLOOKUP(AF22,Tabelas!B:D,3,0),0),\"\")","v":0},{"$f":"IF(A22<>\"\",IFERROR(VLOOKUP(AG22,Tabelas!B:D,3,0),0),\"\")","v":0},{"$f":"IF(A22<>\"\",IFERROR(VLOOKUP(AH22,Tabelas!B:D,3,0),0),\"\")","v":0},{"$f":"IF(A22<>\"\",IFERROR(VLOOKUP(AI22,Tabelas!B:D,3,0),0),\"\")","v":0},{"$f":"IF(A22<>\"\",IFERROR(VLOOKUP(AJ22,Tabelas!B:D,3,0),0),\"\")","v":0},{"$f":"IF(A22<>\"\",IFERROR(VLOOKUP(AK22,Tabelas!B:D,3,0),0),\"\")","v":0},{"$f":"IF(A22<>\"\",IFERROR(VLOOKUP(AL22,Tabelas!B:D,3,0),0),\"\")","v":0},{"$f":"IF(A22<>\"\",IFERROR(VLOOKUP(AM22,Tabelas!B:D,3,0),0),\"\")","v":0},{"$f":"IF(A22<>\"\",IFERROR(VLOOKUP(AN22,Tabelas!B:D,3,0),0),\"\")","v":0},{"$f":"IF(A22<>\"\",IFERROR(VLOOKUP(AO22,Tabelas!B:D,3,0),0),\"\")","v":0},{"$f":"IF(A22<>\"\",IFERROR(VLOOKUP(AP22,Tabelas!B:D,3,0),0),\"\")","v":0},{"$f":"IF(A22<>\"\",IFERROR(VLOOKUP(AQ22,Tabelas!B:D,3,0),0),\"\")","v":0},0,0,0,0,0,0,0,0]
["FULANO 15",15,null,null,null,null,null,null,null,null,null,null,null,null,null,null,null,null,null,null,null,null,null,null,null,null,null,null,null,null,null,null,null,null,null,null,null,null,null,null,null,null,null,{"$f":"IF(A23<>\"\",IFERROR(VLOOKUP(M23,Tabelas!B:D,3,0),0),\"\")","v":0},{"$f":"IF(A23<>\"\",IFERROR(VLOOKUP(N23,Tabelas!B:D,3,0),0),\"\")","v":0},{"$f":"IF(A23<>\"\",IFERROR(VLOOKUP(O23,Tabelas!B:D,3,0),0),\"\")","v":0},{"$f":"IF(A23<>\"\",IFERROR(VLOOKUP(P23,Tabelas!B:D,3,0),0),\"\")","v":0},{"$f":"IF(A23<>\"\",IFERROR(VLOOKUP(Q23,Tabelas!B:D,3,0),0),\"\")","v":0},{"$f":"IF(A23<>\"\",IFERROR(VLOOKUP(R23,Tabelas!B:D,3,0),0),\"\")","v":0},{"$f":"IF(A23<>\"\",IFERROR(VLOOKUP(S23,Tabelas!B:D,3,0),0),\"\")","v":0},{"$f":"IF(A23<>\"\",IFERROR(VLOOKUP(T23,Tabelas!B:D,3,0),0),\"\")","v":0},{"$f":"IF(A23<>\"\",IFERROR(VLOOKUP(U23,Tabelas!B:D,3,0),0),\"\")","v":0},{"$f":"IF(A23<>\"\",IFERROR(VLOOKUP(V23,Tabelas!B:D,3,0),0),\"\")","v":0},{"$f":"IF(A23<>\"\",IFERROR(VLOOKUP(W23,Tabelas!B:D,3,0),0),\"\")","v":0},{"$f":"IF(A23<>\"\",IFERROR(VLOOKUP(X23,Tabelas!B:D,3,0),0),\"\")","v":0},{"$f":"IF(A23<>\"\",IFERROR(VLOOKUP(Y23,Tabelas!B:D,3,0),0),\"\")","v":0},{"$f":"IF(A23<>\"\",IFERROR(VLOOKUP(Z23,Tabelas!B:D,3,0),0),\"\")","v":0},{"$f":"IF(A23<>\"\",IFERROR(VLOOKUP(AA23,Tabelas!B:D,3,0),0),\"\")","v":0},{"$f":"IF(A23<>\"\",IFERROR(VLOOKUP(AB23,Tabelas!B:D,3,0),0),\"\")","v":0},{"$f":"IF(A23<>\"\",IFERROR(VLOOKUP(AC23,Tabelas!B:D,3,0),0),\"\")","v":0},{"$f":"IF(A23<>\"\",IFERROR(VLOOKUP(AD23,Tabelas!B:D,3,0),0),\"\")","v":0},{"$f":"IF(A23<>\"\",IFERROR(VLOOKUP(AE23,Tabelas!B:D,3,0),0),\"\")","v":0},{"$f":"IF(A23<>\"\",IFERROR(VLOOKUP(AF23,Tabelas!B:D,3,0),0),\"\")","v":0},{"$f":"IF(A23<>\"\",IFERROR(VLOOKUP(AG23,Tabelas!B:D,3,0),0),\"\")","v":0},{"$f":"IF(A23<>\"\",IFERROR(VLOOKUP(AH23,Tabelas!B:D,3,0),0),\"\")","v":0},{"$f":"IF(A23<>\"\",IFERROR(VLOOKUP(AI23,Tabelas!B:D,3,0),0),\"\")","v":0},{"$f":"IF(A23<>\"\",IFERROR(VLOOKUP(AJ23,Tabelas!B:D,3,0),0),\"\")","v":0},{"$f":"IF(A23<>\"\",IFERROR(VLOOKUP(AK23,Tabelas!B:D,3,0),0),\"\")","v":0},{"$f":"IF(A23<>\"\",IFERROR(VLOOKUP(AL23,Tabelas!B:D,3,0),0),\"\")","v":0},{"$f":"IF(A23<>\"\",IFERROR(VLOOKUP(AM23,Tabelas!B:D,3,0),0),\"\")","v":0},{"$f":"IF(A23<>\"\",IFERROR(VLOOKUP(AN23,Tabelas!B:D,3,0),0),\"\")","v":0},{"$f":"IF(A23<>\"\",IFERROR(VLOOKUP(AO23,Tabelas!B:D,3,0),0),\"\")","v":0},{"$f":"IF(A23<>\"\",IFERROR(VLOOKUP(AP23,Tabelas!B:D,3,0),0),\"\")","v":0},{"$f":"IF(A23<>\"\",IFERROR(VLOOKUP(AQ23,Tabelas!B:D,3,0),0),\"\")","v":0},0,0,0,0,0,0,0,0]
["FULANO 16",16,null,null,null,null,null,null,null,null,null,null,null,null,null,null,null,null,null,null,null,null,null,null,null,null,null,null,null,null,null,null,null,null,null,null,null,null,null,null,null,null,null,{"$f":"IF(A24<>\"\",IFERROR(VLOOKUP(M24,Tabelas!B:D,3,0),0),\"\")","v":0},{"$f":"IF(A24<>\"\",IFERROR(VLOOKUP(N24,Tabelas!B:D,3,0),0),\"\")","v":0},{"$f":"IF(A24<>\"\",IFERROR(VLOOKUP(O24,Tabelas!B:D,3,0),0),\"\")","v":0},{"$f":"IF(A24<>\"\",IFERROR(VLOOKUP(P24,Tabelas!B:D,3,0),0),\"\")","v":0},{"$f":"IF(A24<>\"\",IFERROR(VLOOKUP(Q24,Tabelas!B:D,3,0),0),\"\")","v":0},{"$f":"IF(A24<>\"\",IFERROR(VLOOKUP(R24,Tabelas!B:D,3,0),0),\"\")","v":0},{"$f":"IF(A24<>\"\",IFERROR(VLOOKUP(S24,Tabelas!B:D,3,0),0),\"\")","v":0},{"$f":"IF(A24<>\"\",IFERROR(VLOOKUP(T24,Tabelas!B:D,3,0),0),\"\")","v":0},{"$f":"IF(A24<>\"\",IFERROR(VLOOKUP(U24,Tabelas!B:D,3,0),0),\"\")","v":0},{"$f":"IF(A24<>\"\",IFERROR(VLOOKUP(V24,Tabelas!B:D,3,0),0),\"\")","v":0},{"$f":"IF(A24<>\"\",IFERROR(VLOOKUP(W24,Tabelas!B:D,3,0),0),\"\")","v":0},{"$f":"IF(A24<>\"\",IFERROR(VLOOKUP(X24,Tabelas!B:D,3,0),0),\"\")","v":0},{"$f":"IF(A24<>\"\",IFERROR(VLOOKUP(Y24,Tabelas!B:D,3,0),0),\"\")","v":0},{"$f":"IF(A24<>\"\",IFERROR(VLOOKUP(Z24,Tabelas!B:D,3,0),0),\"\")","v":0},{"$f":"IF(A24<>\"\",IFERROR(VLOOKUP(AA24,Tabelas!B:D,3,0),0),\"\")","v":0},{"$f":"IF(A24<>\"\",IFERROR(VLOOKUP(AB24,Tabelas!B:D,3,0),0),\"\")","v":0},{"$f":"IF(A24<>\"\",IFERROR(VLOOKUP(AC24,Tabelas!B:D,3,0),0),\"\")","v":0},{"$f":"IF(A24<>\"\",IFERROR(VLOOKUP(AD24,Tabelas!B:D,3,0),0),\"\")","v":0},{"$f":"IF(A24<>\"\",IFERROR(VLOOKUP(AE24,Tabelas!B:D,3,0),0),\"\")","v":0},{"$f":"IF(A24<>\"\",IFERROR(VLOOKUP(AF24,Tabelas!B:D,3,0),0),\"\")","v":0},{"$f":"IF(A24<>\"\",IFERROR(VLOOKUP(AG24,Tabelas!B:D,3,0),0),\"\")","v":0},{"$f":"IF(A24<>\"\",IFERROR(VLOOKUP(AH24,Tabelas!B:D,3,0),0),\"\")","v":0},{"$f":"IF(A24<>\"\",IFERROR(VLOOKUP(AI24,Tabelas!B:D,3,0),0),\"\")","v":0},{"$f":"IF(A24<>\"\",IFERROR(VLOOKUP(AJ24,Tabelas!B:D,3,0),0),\"\")","v":0},{"$f":"IF(A24<>\"\",IFERROR(VLOOKUP(AK24,Tabelas!B:D,3,0),0),\"\")","v":0},{"$f":"IF(A24<>\"\",IFERROR(VLOOKUP(AL24,Tabelas!B:D,3,0),0),\"\")","v":0},{"$f":"IF(A24<>\"\",IFERROR(VLOOKUP(AM24,Tabelas!B:D,3,0),0),\"\")","v":0},{"$f":"IF(A24<>\"\",IFERROR(VLOOKUP(AN24,Tabelas!B:D,3,0),0),\"\")","v":0},{"$f":"IF(A24<>\"\",IFERROR(VLOOKUP(AO24,Tabelas!B:D,3,0),0),\"\")","v":0},{"$f":"IF(A24<>\"\",IFERROR(VLOOKUP(AP24,Tabelas!B:D,3,0),0),\"\")","v":0},{"$f":"IF(A24<>\"\",IFERROR(VLOOKUP(AQ24,Tabelas!B:D,3,0),0),\"\")","v":0},0,0,0,0,0,0,0,0]
["FULANO 17",17,null,null,null,null,null,null,null,null,null,null,null,null,null,null,null,null,null,null,null,null,null,null,null,null,null,null,null,null,null,null,null,null,null,null,null,null,null,null,null,null,null,{"$f":"IF(A25<>\"\",IFERROR(VLOOKUP(M25,Tabelas!B:D,3,0),0),\"\")","v":0},{"$f":"IF(A25<>\"\",IFERROR(VLOOKUP(N25,Tabelas!B:D,3,0),0),\"\")","v":0},{"$f":"IF(A25<>\"\",IFERROR(VLOOKUP(O25,Tabelas!B:D,3,0),0),\"\")","v":0},{"$f":"IF(A25<>\"\",IFERROR(VLOOKUP(P25,Tabelas!B:D,3,0),0),\"\")","v":0},{"$f":"IF(A25<>\"\",IFERROR(VLOOKUP(Q25,Tabelas!B:D,3,0),0),\"\")","v":0},{"$f":"IF(A25<>\"\",IFERROR(VLOOKUP(R25,Tabelas!B:D,3,0),0),\"\")","v":0},{"$f":"IF(A25<>\"\",IFERROR(VLOOKUP(S25,Tabelas!B:D,3,0),0),\"\")","v":0},{"$f":"IF(A25<>\"\",IFERROR(VLOOKUP(T25,Tabelas!B:D,3,0),0),\"\")","v":0},{"$f":"IF(A25<>\"\",IFERROR(VLOOKUP(U25,Tabelas!B:D,3,0),0),\"\")","v":0},{"$f":"IF(A25<>\"\",IFERROR(VLOOKUP(V25,Tabelas!B:D,3,0),0),\"\")","v":0},{"$f":"IF(A25<>\"\",IFERROR(VLOOKUP(W25,Tabelas!B:D,3,0),0),\"\")","v":0},{"$f":"IF(A25<>\"\",IFERROR(VLOOKUP(X25,Tabelas!B:D,3,0),0),\"\")","v":0},{"$f":"IF(A25<>\"\",IFERROR(VLOOKUP(Y25,Tabelas!B:D,3,0),0),\"\")","v":0},{"$f":"IF(A25<>\"\",IFERROR(VLOOKUP(Z25,Tabelas!B:D,3,0),0),\"\")","v":0},{"$f":"IF(A25<>\"\",IFERROR(VLOOKUP(AA25,Tabelas!B:D,3,0),0),\"\")","v":0},{"$f":"IF(A25<>\"\",IFERROR(VLOOKUP(AB25,Tabelas!B:D,3,0),0),\"\")","v":0},{"$f":"IF(A25<>\"\",IFERROR(VLOOKUP(AC25,Tabelas!B:D,3,0),0),\"\")","v":0},{"$f":"IF(A25<>\"\",IFERROR(VLOOKUP(AD25,Tabelas!B:D,3,0),0),\"\")","v":0},{"$f":"IF(A25<>\"\",IFERROR(VLOOKUP(AE25,Tabelas!B:D,3,0),0),\"\")","v":0},{"$f":"IF(A25<>\"\",IFERROR(VLOOKUP(AF25,Tabelas!B:D,3,0),0),\"\")","v":0},{"$f":"IF(A25<>\"\",IFERROR(VLOOKUP(AG25,Tabelas!B:D,3,0),0),\"\")","v":0},{"$f":"IF(A25<>\"\",IFERROR(VLOOKUP(AH25,Tabelas!B:D,3,0),0),\"\")","v":0},{"$f":"IF(A25<>\"\",IFERROR(VLOOKUP(AI25,Tabelas!B:D,3,0),0),\"\")","v":0},{"$f":"IF(A25<>\"\",IFERROR(VLOOKUP(AJ25,Tabelas!B:D,3,0),0),\"\")","v":0},{"$f":"IF(A25<>\"\",IFERROR(VLOOKUP(AK25,Tabelas!B:D,3,0),0),\"\")","v":0},{"$f":"IF(A25<>\"\",IFERROR(VLOOKUP(AL25,Tabelas!B:D,3,0),0),\"\")","v":0},{"$f":"IF(A25<>\"\",IFERROR(VLOOKUP(AM25,Tabelas!B:D,3,0),0),\"\")","v":0},{"$f":"IF(A25<>\"\",IFERROR(VLOOKUP(AN25,Tabelas!B:D,3,0),0),\"\")","v":0},{"$f":"IF(A25<>\"\",IFERROR(VLOOKUP(AO25,Tabelas!B:D,3,0),0),\"\")","v":0},{"$f":"IF(A25<>\"\",IFERROR(VLOOKUP(AP25,Tabelas!B:D,3,0),0),\"\")","v":0},{"$f":"IF(A25<>\"\",IFERROR(VLOOKUP(AQ25,Tabelas!B:D,3,0),0),\"\")","v":0},0,0,0,0,0,0,0,0]
["FULANO 18",18,null,null,null,null,null,null,null,null,null,null,null,null,null,null,null,null,null,null,null,null,null,null,null,null,null,null,null,null,null,null,null,null,null,null,null,null,null,null,null,null,null,{"$f":"IF(A26<>\"\",IFERROR(VLOOKUP(M26,Tabelas!B:D,3,0),0),\"\")","v":0},{"$f":"IF(A26<>\"\",IFERROR(VLOOKUP(N26,Tabelas!B:D,3,0),0),\"\")","v":0},{"$f":"IF(A26<>\"\",IFERROR(VLOOKUP(O26,Tabelas!B:D,3,0),0),\"\")","v":0},{"$f":"IF(A26<>\"\",IFERROR(VLOOKUP(P26,Tabelas!B:D,3,0),0),\"\")","v":0},{"$f":"IF(A26<>\"\",IFERROR(VLOOKUP(Q26,Tabelas!B:D,3,0),0),\"\")","v":0},{"$f":"IF(A26<>\"\",IFERROR(VLOOKUP(R26,Tabelas!B:D,3,0),0),\"\")","v":0},{"$f":"IF(A26<>\"\",IFERROR(VLOOKUP(S26,Tabelas!B:D,3,0),0),\"\")","v":0},{"$f":"IF(A26<>\"\",IFERROR(VLOOKUP(T26,Tabelas!B:D,3,0),0),\"\")","v":0},{"$f":"IF(A26<>\"\",IFERROR(VLOOKUP(U26,Tabelas!B:D,3,0),0),\"\")","v":0},{"$f":"IF(A26<>\"\",IFERROR(VLOOKUP(V26,Tabelas!B:D,3,0),0),\"\")","v":0},{"$f":"IF(A26<>\"\",IFERROR(VLOOKUP(W26,Tabelas!B:D,3,0),0),\"\")","v":0},{"$f":"IF(A26<>\"\",IFERROR(VLOOKUP(X26,Tabelas!B:D,3,0),0),\"\")","v":0},{"$f":"IF(A26<>\"\",IFERROR(VLOOKUP(Y26,Tabelas!B:D,3,0),0),\"\")","v":0},{"$f":"IF(A26<>\"\",IFERROR(VLOOKUP(Z26,Tabelas!B:D,3,0),0),\"\")","v":0},{"$f":"IF(A26<>\"\",IFERROR(VLOOKUP(AA26,Tabelas!B:D,3,0),0),\"\")","v":0},{"$f":"IF(A26<>\"\",IFERROR(VLOOKUP(AB26,Tabelas!B:D,3,0),0),\"\")","v":0},{"$f":"IF(A26<>\"\",IFERROR(VLOOKUP(AC26,Tabelas!B:D,3,0),0),\"\")","v":0},{"$f":"IF(A26<>\"\",IFERROR(VLOOKUP(AD26,Tabelas!B:D,3,0),0),\"\")","v":0},{"$f":"IF(A26<>\"\",IFERROR(VLOOKUP(AE26,Tabelas!B:D,3,0),0),\"\")","v":0},{"$f":"IF(A26<>\"\",IFERROR(VLOOKUP(AF26,Tabelas!B:D,3,0),0),\"\")","v":0},{"$f":"IF(A26<>\"\",IFERROR(VLOOKUP(AG26,Tabelas!B:D,3,0),0),\"\")","v":0},{"$f":"IF(A26<>\"\",IFERROR(VLOOKUP(AH26,Tabelas!B:D,3,0),0),\"\")","v":0},{"$f":"IF(A26<>\"\",IFERROR(VLOOKUP(AI26,Tabelas!B:D,3,0),0),\"\")","v":0},{"$f":"IF(A26<>\"\",IFERROR(VLOOKUP(AJ26,Tabelas!B:D,3,0),0),\"\")","v":0},{"$f":"IF(A26<>\"\",IFERROR(VLOOKUP(AK26,Tabelas!B:D,3,0),0),\"\")","v":0},{"$f":"IF(A26<>\"\",IFERROR(VLOOKUP(AL26,Tabelas!B:D,3,0),0),\"\")","v":0},{"$f":"IF(A26<>\"\",IFERROR(VLOOKUP(AM26,Tabelas!B:D,3,0),0),\"\")","v":0},{"$f":"IF(A26<>\"\",IFERROR(VLOOKUP(AN26,Tabelas!B:D,3,0),0),\"\")","v":0},{"$f":"IF(A26<>\"\",IFERROR(VLOOKUP(AO26,Tabelas!B:D,3,0),0),\"\")","v":0},{"$f":"IF(A26<>\"\",IFERROR(VLOOKUP(AP26,Tabelas!B:D,3,0),0),\"\")","v":0},{"$f":"IF(A26<>\"\",IFERROR(VLOOKUP(AQ26,Tabelas!B:D,3,0),0),\"\")","v":0},0,0,0,0,0,0,0,0]
["FULANO 19",19,null,null,null,null,null,null,null,null,null,null,null,null,null,null,null,null,null,null,null,null,null,null,null,null,null,null,null,null,null,null,null,null,null,null,null,null,null,null,null,null,null,{"$f":"IF(A27<>\"\",IFERROR(VLOOKUP(M27,Tabelas!B:D,3,0),0),\"\")","v":0},{"$f":"IF(A27<>\"\",IFERROR(VLOOKUP(N27,Tabelas!B:D,3,0),0),\"\")","v":0},{"$f":"IF(A27<>\"\",IFERROR(VLOOKUP(O27,Tabelas!B:D,3,0),0),\"\")","v":0},{"$f":"IF(A27<>\"\",IFERROR(VLOOKUP(P27,Tabelas!B:D,3,0),0),\"\")","v":0},{"$f":"IF(A27<>\"\",IFERROR(VLOOKUP(Q27,Tabelas!B:D,3,0),0),\"\")","v":0},{"$f":"IF(A27<>\"\",IFERROR(VLOOKUP(R27,Tabelas!B:D,3,0),0),\"\")","v":0},{"$f":"IF(A27<>\"\",IFERROR(VLOOKUP(S27,Tabelas!B:D,3,0),0),\"\")","v":0},{"$f":"IF(A27<>\"\",IFERROR(VLOOKUP(T27,Tabelas!B:D,3,0),0),\"\")","v":0},{"$f":"IF(A27<>\"\",IFERROR(VLOOKUP(U27,Tabelas!B:D,3,0),0),\"\")","v":0},{"$f":"IF(A27<>\"\",IFERROR(VLOOKUP(V27,Tabelas!B:D,3,0),0),\"\")","v":0},{"$f":"IF(A27<>\"\",IFERROR(VLOOKUP(W27,Tabelas!B:D,3,0),0),\"\")","v":0},{"$f":"IF(A27<>\"\",IFERROR(VLOOKUP(X27,Tabelas!B:D,3,0),0),\"\")","v":0},{"$f":"IF(A27<>\"\",IFERROR(VLOOKUP(Y27,Tabelas!B:D,3,0),0),\"\")","v":0},{"$f":"IF(A27<>\"\",IFERROR(VLOOKUP(Z27,Tabelas!B:D,3,0),0),\"\")","v":0},{"$f":"IF(A27<>\"\",IFERROR(VLOOKUP(AA27,Tabelas!B:D,3,0),0),\"\")","v":0},{"$f":"IF(A27<>\"\",IFERROR(VLOOKUP(AB27,Tabelas!B:D,3,0),0),\"\")","v":0},{"$f":"IF(A27<>\"\",IFERROR(VLOOKUP(AC27,Tabelas!B:D,3,0),0),\"\")","v":0},{"$f":"IF(A27<>\"\",IFERROR(VLOOKUP(AD27,Tabelas!B:D,3,0),0),\"\")","v":0},{"$f":"IF(A27<>\"\",IFERROR(VLOOKUP(AE27,Tabelas!B:D,3,0),0),\"\")","v":0},{"$f":"IF(A27<>\"\",IFERROR(VLOOKUP(AF27,Tabelas!B:D,3,0),0),\"\")","v":0},{"$f":"IF(A27<>\"\",IFERROR(VLOOKUP(AG27,Tabelas!B:D,3,0),0),\"\")","v":0},{"$f":"IF(A27<>\"\",IFERROR(VLOOKUP(AH27,Tabelas!B:D,3,0),0),\"\")","v":0},{"$f":"IF(A27<>\"\",IFERROR(VLOOKUP(AI27,Tabelas!B:D,3,0),0),\"\")","v":0},{"$f":"IF(A27<>\"\",IFERROR(VLOOKUP(AJ27,Tabelas!B:D,3,0),0),\"\")","v":0},{"$f":"IF(A27<>\"\",IFERROR(VLOOKUP(AK27,Tabelas!B:D,3,0),0),\"\")","v":0},{"$f":"IF(A27<>\"\",IFERROR(VLOOKUP(AL27,Tabelas!B:D,3,0),0),\"\")","v":0},{"$f":"IF(A27<>\"\",IFERROR(VLOOKUP(AM27,Tabelas!B:D,3,0),0),\"\")","v":0},{"$f":"IF(A27<>\"\",IFERROR(VLOOKUP(AN27,Tabelas!B:D,3,0),0),\"\")","v":0},{"$f":"IF(A27<>\"\",IFERROR(VLOOKUP(AO27,Tabelas!B:D,3,0),0),\"\")","v":0},{"$f":"IF(A27<>\"\",IFERROR(VLOOKUP(AP27,Tabelas!B:D,3,0),0),\"\")","v":0},{"$f":"IF(A27<>\"\",IFERROR(VLOOKUP(AQ27,Tabelas!B:D,3,0),0),\"\")","v":0},0,0,0,0,0,0,0,0]
["FULANO 20",20,null,null,null,null,null,null,null,null,null,null,null,null,null,null,null,null,null,null,null,null,null,null,null,null,null,null,null,null,null,null,null,null,null,null,null,null,null,null,null,null,null,{"$f":"IF(A28<>\"\",IFERROR(VLOOKUP(M28,Tabelas!B:D,3,0),0),\"\")","v":0},{"$f":"IF(A28<>\"\",IFERROR(VLOOKUP(N28,Tabelas!B:D,3,0),0),\"\")","v":0},{"$f":"IF(A28<>\"\",IFERROR(VLOOKUP(O28,Tabelas!B:D,3,0),0),\"\")","v":0},{"$f":"IF(A28<>\"\",IFERROR(VLOOKUP(P28,Tabelas!B:D,3,0),0),\"\")","v":0},{"$f":"IF(A28<>\"\",IFERROR(VLOOKUP(Q28,Tabelas!B:D,3,0),0),\"\")","v":0},{"$f":"IF(A28<>\"\",IFERROR(VLOOKUP(R28,Tabelas!B:D,3,0),0),\"\")","v":0},{"$f":"IF(A28<>\"\",IFERROR(VLOOKUP(S28,Tabelas!B:D,3,0),0),\"\")","v":0},{"$f":"IF(A28<>\"\",IFERROR(VLOOKUP(T28,Tabelas!B:D,3,0),0),\"\")","v":0},{"$f":"IF(A28<>\"\",IFERROR(VLOOKUP(U28,Tabelas!B:D,3,0),0),\"\")","v":0},{"$f":"IF(A28<>\"\",IFERROR(VLOOKUP(V28,Tabelas!B:D,3,0),0),\"\")","v":0},{"$f":"IF(A28<>\"\",IFERROR(VLOOKUP(W28,Tabelas!B:D,3,0),0),\"\")","v":0},{"$f":"IF(A28<>\"\",IFERROR(VLOOKUP(X28,Tabelas!B:D,3,0),0),\"\")","v":0},{"$f":"IF(A28<>\"\",IFERROR(VLOOKUP(Y28,Tabelas!B:D,3,0),0),\"\")","v":0},{"$f":"IF(A28<>\"\",IFERROR(VLOOKUP(Z28,Tabelas!B:D,3,0),0),\"\")","v":0},{"$f":"IF(A28<>\"\",IFERROR(VLOOKUP(AA28,Tabelas!B:D,3,0),0),\"\")","v":0},{"$f":"IF(A28<>\"\",IFERROR(VLOOKUP(AB28,Tabelas!B:D,3,0),0),\"\")","v":0},{"$f":"IF(A28<>\"\",IFERROR(VLOOKUP(AC28,Tabelas!B:D,3,0),0),\"\")","v":0},{"$f":"IF(A28<>\"\",IFERROR(VLOOKUP(AD28,Tabelas!B:D,3,0),0),\"\")","v":0},{"$f":"IF(A28<>\"\",IFERROR(VLOOKUP(AE28,Tabelas!B:D,3,0),0),\"\")","v":0},{"$f":"IF(A28<>\"\",IFERROR(VLOOKUP(AF28,Tabelas!B:D,3,0),0),\"\")","v":0},{"$f":"IF(A28<>\"\",IFERROR(VLOOKUP(AG28,Tabelas!B:D,3,0),0),\"\")","v":0},{"$f":"IF(A28<>\"\",IFERROR(VLOOKUP(AH28,Tabelas!B:D,3,0),0),\"\")","v":0},{"$f":"IF(A28<>\"\",IFERROR(VLOOKUP(AI28,Tabelas!B:D,3,0),0),\"\")","v":0},{"$f":"IF(A28<>\"\",IFERROR(VLOOKUP(AJ28,Tabelas!B:D,3,0),0),\"\")","v":0},{"$f":"IF(A28<>\"\",IFERROR(VLOOKUP(AK28,Tabelas!B:D,3,0),0),\"\")","v":0},{"$f":"IF(A28<>\"\",IFERROR(VLOOKUP(AL28,Tabelas!B:D,3,0),0),\"\")","v":0},{"$f":"IF(A28<>\"\",IFERROR(VLOOKUP(AM28,Tabelas!B:D,3,0),0),\"\")","v":0},{"$f":"IF(A28<>\"\",IFERROR(VLOOKUP(AN28,Tabelas!B:D,3,0),0),\"\")","v":0},{"$f":"IF(A28<>\"\",IFERROR(VLOOKUP(AO28,Tabelas!B:D,3,0),0),\"\")","v":0},{"$f":"IF(A28<>\"\",IFERROR(VLOOKUP(AP28,Tabelas!B:D,3,0),0),\"\")","v":0},{"$f":"IF(A28<>\"\",IFERROR(VLOOKUP(AQ28,Tabelas!B:D,3,0),0),\"\")","v":0},0,0,0,0,0,0,0,0]
["FULANO 21",21,null,null,null,null,null,null,null,null,null,null,null,null,null,null,null,null,null,null,null,null,null,null,null,null,null,null,null,null,null,null,null,null,null,null,null,null,null,null,null,null,null,{"$f":"IF(A29<>\"\",IFERROR(VLOOKUP(M29,Tabelas!B:D,3,0),0),\"\")","v":0},{"$f":"IF(A29<>\"\",IFERROR(VLOOKUP(N29,Tabelas!B:D,3,0),0),\"\")","v":0},{"$f":"IF(A29<>\"\",IFERROR(VLOOKUP(O29,Tabelas!B:D,3,0),0),\"\")","v":0},{"$f":"IF(A29<>\"\",IFERROR(VLOOKUP(P29,Tabelas!B:D,3,0),0),\"\")","v":0},{"$f":"IF(A29<>\"\",IFERROR(VLOOKUP(Q29,Tabelas!B:D,3,0),0),\"\")","v":0},{"$f":"IF(A29<>\"\",IFERROR(VLOOKUP(R29,Tabelas!B:D,3,0),0),\"\")","v":0},{"$f":"IF(A29<>\"\",IFERROR(VLOOKUP(S29,Tabelas!B:D,3,0),0),\"\")","v":0},{"$f":"IF(A29<>\"\",IFERROR(VLOOKUP(T29,Tabelas!B:D,3,0),0),\"\")","v":0},{"$f":"IF(A29<>\"\",IFERROR(VLOOKUP(U29,Tabelas!B:D,3,0),0),\"\")","v":0},{"$f":"IF(A29<>\"\",IFERROR(VLOOKUP(V29,Tabelas!B:D,3,0),0),\"\")","v":0},{"$f":"IF(A29<>\"\",IFERROR(VLOOKUP(W29,Tabelas!B:D,3,0),0),\"\")","v":0},{"$f":"IF(A29<>\"\",IFERROR(VLOOKUP(X29,Tabelas!B:D,3,0),0),\"\")","v":0},{"$f":"IF(A29<>\"\",IFERROR(VLOOKUP(Y29,Tabelas!B:D,3,0),0),\"\")","v":0},{"$f":"IF(A29<>\"\",IFERROR(VLOOKUP(Z29,Tabelas!B:D,3,0),0),\"\")","v":0},{"$f":"IF(A29<>\"\",IFERROR(VLOOKUP(AA29,Tabelas!B:D,3,0),0),\"\")","v":0},{"$f":"IF(A29<>\"\",IFERROR(VLOOKUP(AB29,Tabelas!B:D,3,0),0),\"\")","v":0},{"$f":"IF(A29<>\"\",IFERROR(VLOOKUP(AC29,Tabelas!B:D,3,0),0),\"\")","v":0},{"$f":"IF(A29<>\"\",IFERROR(VLOOKUP(AD29,Tabelas!B:D,3,0),0),\"\")","v":0},{"$f":"IF(A29<>\"\",IFERROR(VLOOKUP(AE29,Tabelas!B:D,3,0),0),\"\")","v":0},{"$f":"IF(A29<>\"\",IFERROR(VLOOKUP(AF29,Tabelas!B:D,3,0),0),\"\")","v":0},{"$f":"IF(A29<>\"\",IFERROR(VLOOKUP(AG29,Tabelas!B:D,3,0),0),\"\")","v":0},{"$f":"IF(A29<>\"\",IFERROR(VLOOKUP(AH29,Tabelas!B:D,3,0),0),\"\")","v":0},{"$f":"IF(A29<>\"\",IFERROR(VLOOKUP(AI29,Tabelas!B:D,3,0),0),\"\")","v":0},{"$f":"IF(A29<>\"\",IFERROR(VLOOKUP(AJ29,Tabelas!B:D,3,0),0),\"\")","v":0},{"$f":"IF(A29<>\"\",IFERROR(VLOOKUP(AK29,Tabelas!B:D,3,0),0),\"\")","v":0},{"$f":"IF(A29<>\"\",IFERROR(VLOOKUP(AL29,Tabelas!B:D,3,0),0),\"\")","v":0},{"$f":"IF(A29<>\"\",IFERROR(VLOOKUP(AM29,Tabelas!B:D,3,0),0),\"\")","v":0},{"$f":"IF(A29<>\"\",IFERROR(VLOOKUP(AN29,Tabelas!B:D,3,0),0),\"\")","v":0},{"$f":"IF(A29<>\"\",IFERROR(VLOOKUP(AO29,Tabelas!B:D,3,0),0),\"\")","v":0},{"$f":"IF(A29<>\"\",IFERROR(VLOOKUP(AP29,Tabelas!B:D,3,0),0),\"\")","v":0},{"$f":"IF(A29<>\"\",IFERROR(VLOOKUP(AQ29,Tabelas!B:D,3,0),0),\"\")","v":0},0,0,0,0,0,0,0,0]
["FULANO 22",22,null,null,null,null,null,null,null,null,null,null,null,null,null,null,null,null,null,null,null,null,null,null,null,null,null,null,null,null,null,null,null,null,null,null,null,null,null,null,null,null,null,{"$f":"IF(A30<>\"\",IFERROR(VLOOKUP(M30,Tabelas!B:D,3,0),0),\"\")","v":0},{"$f":"IF(A30<>\"\",IFERROR(VLOOKUP(N30,Tabelas!B:D,3,0),0),\"\")","v":0},{"$f":"IF(A30<>\"\",IFERROR(VLOOKUP(O30,Tabelas!B:D,3,0),0),\"\")","v":0},{"$f":"IF(A30<>\"\",IFERROR(VLOOKUP(P30,Tabelas!B:D,3,0),0),\"\")","v":0},{"$f":"IF(A30<>\"\",IFERROR(VLOOKUP(Q30,Tabelas!B:D,3,0),0),\"\")","v":0},{"$f":"IF(A30<>\"\",IFERROR(VLOOKUP(R30,Tabelas!B:D,3,0),0),\"\")","v":0},{"$f":"IF(A30<>\"\",IFERROR(VLOOKUP(S30,Tabelas!B:D,3,0),0),\"\")","v":0},{"$f":"IF(A30<>\"\",IFERROR(VLOOKUP(T30,Tabelas!B:D,3,0),0),\"\")","v":0},{"$f":"IF(A30<>\"\",IFERROR(VLOOKUP(U30,Tabelas!B:D,3,0),0),\"\")","v":0},{"$f":"IF(A30<>\"\",IFERROR(VLOOKUP(V30,Tabelas!B:D,3,0),0),\"\")","v":0},{"$f":"IF(A30<>\"\",IFERROR(VLOOKUP(W30,Tabelas!B:D,3,0),0),\"\")","v":0},{"$f":"IF(A30<>\"\",IFERROR(VLOOKUP(X30,Tabelas!B:D,3,0),0),\"\")","v":0},{"$f":"IF(A30<>\"\",IFERROR(VLOOKUP(Y30,Tabelas!B:D,3,0),0),\"\")","v":0},{"$f":"IF(A30<>\"\",IFERROR(VLOOKUP(Z30,Tabelas!B:D,3,0),0),\"\")","v":0},{"$f":"IF(A30<>\"\",IFERROR(VLOOKUP(AA30,Tabelas!B:D,3,0),0),\"\")","v":0},{"$f":"IF(A30<>\"\",IFERROR(VLOOKUP(AB30,Tabelas!B:D,3,0),0),\"\")","v":0},{"$f":"IF(A30<>\"\",IFERROR(VLOOKUP(AC30,Tabelas!B:D,3,0),0),\"\")","v":0},{"$f":"IF(A30<>\"\",IFERROR(VLOOKUP(AD30,Tabelas!B:D,3,0),0),\"\")","v":0},{"$f":"IF(A30<>\"\",IFERROR(VLOOKUP(AE30,Tabelas!B:D,3,0),0),\"\")","v":0},{"$f":"IF(A30<>\"\",IFERROR(VLOOKUP(AF30,Tabelas!B:D,3,0),0),\"\")","v":0},{"$f":"IF(A30<>\"\",IFERROR(VLOOKUP(AG30,Tabelas!B:D,3,0),0),\"\")","v":0},{"$f":"IF(A30<>\"\",IFERROR(VLOOKUP(AH30,Tabelas!B:D,3,0),0),\"\")","v":0},{"$f":"IF(A30<>\"\",IFERROR(VLOOKUP(AI30,Tabelas!B:D,3,0),0),\"\")","v":0},{"$f":"IF(A30<>\"\",IFERROR(VLOOKUP(AJ30,Tabelas!B:D,3,0),0),\"\")","v":0},{"$f":"IF(A30<>\"\",IFERROR(VLOOKUP(AK30,Tabelas!B:D,3,0),0),\"\")","v":0},{"$f":"IF(A30<>\"\",IFERROR(VLOOKUP(AL30,Tabelas!B:D,3,0),0),\"\")","v":0},{"$f":"IF(A30<>\"\",IFERROR(VLOOKUP(AM30,Tabelas!B:D,3,0),0),\"\")","v":0},{"$f":"IF(A30<>\"\",IFERROR(VLOOKUP(AN30,Tabelas!B:D,3,0),0),\"\")","v":0},{"$f":"IF(A30<>\"\",IFERROR(VLOOKUP(AO30,Tabelas!B:D,3,0),0),\"\")","v":0},{"$f":"IF(A30<>\"\",IFERROR(VLOOKUP(AP30,Tabelas!B:D,3,0),0),\"\")","v":0},{"$f":"IF(A30<>\"\",IFERROR(VLOOKUP(AQ30,Tabelas!B:D,3,0),0),\"\")","v":0},0,0,0,0,0,0,0,0]
["FULANO 23",23,null,null,null,null,null,null,null,null,null,null,null,null,null,null,null,null,null,null,null,null,null,null,null,null,null,null,null,null,null,null,null,null,null,null,null,null,null,null,null,null,null,{"$f":"IF(A31<>\"\",IFERROR(VLOOKUP(M31,Tabelas!B:D,3,0),0),\"\")","v":0},{"$f":"IF(A31<>\"\",IFERROR(VLOOKUP(N31,Tabelas!B:D,3,0),0),\"\")","v":0},{"$f":"IF(A31<>\"\",IFERROR(VLOOKUP(O31,Tabelas!B:D,3,0),0),\"\")","v":0},{"$f":"IF(A31<>\"\",IFERROR(VLOOKUP(P31,Tabelas!B:D,3,0),0),\"\")","v":0},{"$f":"IF(A31<>\"\",IFERROR(VLOOKUP(Q31,Tabelas!B:D,3,0),0),\"\")","v":0},{"$f":"IF(A31<>\"\",IFERROR(VLOOKUP(R31,Tabelas!B:D,3,0),0),\"\")","v":0},{"$f":"IF(A31<>\"\",IFERROR(VLOOKUP(S31,Tabelas!B:D,3,0),0),\"\")","v":0},{"$f":"IF(A31<>\"\",IFERROR(VLOOKUP(T31,Tabelas!B:D,3,0),0),\"\")","v":0},{"$f":"IF(A31<>\"\",IFERROR(VLOOKUP(U31,Tabelas!B:D,3,0),0),\"\")","v":0},{"$f":"IF(A31<>\"\",IFERROR(VLOOKUP(V31,Tabelas!B:D,3,0),0),\"\")","v":0},{"$f":"IF(A31<>\"\",IFERROR(VLOOKUP(W31,Tabelas!B:D,3,0),0),\"\")","v":0},{"$f":"IF(A31<>\"\",IFERROR(VLOOKUP(X31,Tabelas!B:D,3,0),0),\"\")","v":0},{"$f":"IF(A31<>\"\",IFERROR(VLOOKUP(Y31,Tabelas!B:D,3,0),0),\"\")","v":0},{"$f":"IF(A31<>\"\",IFERROR(VLOOKUP(Z31,Tabelas!B:D,3,0),0),\"\")","v":0},{"$f":"IF(A31<>\"\",IFERROR(VLOOKUP(AA31,Tabelas!B:D,3,0),0),\"\")","v":0},{"$f":"IF(A31<>\"\",IFERROR(VLOOKUP(AB31,Tabelas!B:D,3,0),0),\"\")","v":0},{"$f":"IF(A31<>\"\",IFERROR(VLOOKUP(AC31,Tabelas!B:D,3,0),0),\"\")","v":0},{"$f":"IF(A31<>\"\",IFERROR(VLOOKUP(AD31,Tabelas!B:D,3,0),0),\"\")","v":0},{"$f":"IF(A31<>\"\",IFERROR(VLOOKUP(AE31,Tabelas!B:D,3,0),0),\"\")","v":0},{"$f":"IF(A31<>\"\",IFERROR(VLOOKUP(AF31,Tabelas!B:D,3,0),0),\"\")","v":0},{"$f":"IF(A31<>\"\",IFERROR(VLOOKUP(AG31,Tabelas!B:D,3,0),0),\"\")","v":0},{"$f":"IF(A31<>\"\",IFERROR(VLOOKUP(AH31,Tabelas!B:D,3,0),0),\"\")","v":0},{"$f":"IF(A31<>\"\",IFERROR(VLOOKUP(AI31,Tabelas!B:D,3,0),0),\"\")","v":0},{"$f":"IF(A31<>\"\",IFERROR(VLOOKUP(AJ31,Tabelas!B:D,3,0),0),\"\")","v":0},{"$f":"IF(A31<>\"\",IFERROR(VLOOKUP(AK31,Tabelas!B:D,3,0),0),\"\")","v":0},{"$f":"IF(A31<>\"\",IFERROR(VLOOKUP(AL31,Tabelas!B:D,3,0),0),\"\")","v":0},{"$f":"IF(A31<>\"\",IFERROR(VLOOKUP(AM31,Tabelas!B:D,3,0),0),\"\")","v":0},{"$f":"IF(A31<>\"\",IFERROR(VLOOKUP(AN31,Tabelas!B:D,3,0),0),\"\")","v":0},{"$f":"IF(A31<>\"\",IFERROR(VLOOKUP(AO31,Tabelas!B:D,3,0),0),\"\")","v":0},{"$f":"IF(A31<>\"\",IFERROR(VLOOKUP(AP31,Tabelas!B:D,3,0),0),\"\")","v":0},{"$f":"IF(A31<>\"\",IFERROR(VLOOKUP(AQ31,Tabelas!B:D,3,0),0),\"\")","v":0},0,0,0,0,0,0,0,0]
["FULANO 24",24,null,null,null,null,null,null,null,null,null,null,null,null,null,null,null,null,null,null,null,null,null,null,null,null,null,null,null,null,null,null,null,null,null,null,null,null,null,null,null,null,null,{"$f":"IF(A32<>\"\",IFERROR(VLOOKUP(M32,Tabelas!B:D,3,0),0),\"\")","v":0},{"$f":"IF(A32<>\"\",IFERROR(VLOOKUP(N32,Tabelas!B:D,3,0),0),\"\")","v":0},{"$f":"IF(A32<>\"\",IFERROR(VLOOKUP(O32,Tabelas!B:D,3,0),0),\"\")","v":0},{"$f":"IF(A32<>\"\",IFERROR(VLOOKUP(P32,Tabelas!B:D,3,0),0),\"\")","v":0},{"$f":"IF(A32<>\"\",IFERROR(VLOOKUP(Q32,Tabelas!B:D,3,0),0),\"\")","v":0},{"$f":"IF(A32<>\"\",IFERROR(VLOOKUP(R32,Tabelas!B:D,3,0),0),\"\")","v":0},{"$f":"IF(A32<>\"\",IFERROR(VLOOKUP(S32,Tabelas!B:D,3,0),0),\"\")","v":0},{"$f":"IF(A32<>\"\",IFERROR(VLOOKUP(T32,Tabelas!B:D,3,0),0),\"\")","v":0},{"$f":"IF(A32<>\"\",IFERROR(VLOOKUP(U32,Tabelas!B:D,3,0),0),\"\")","v":0},{"$f":"IF(A32<>\"\",IFERROR(VLOOKUP(V32,Tabelas!B:D,3,0),0),\"\")","v":0},{"$f":"IF(A32<>\"\",IFERROR(VLOOKUP(W32,Tabelas!B:D,3,0),0),\"\")","v":0},{"$f":"IF(A32<>\"\",IFERROR(VLOOKUP(X32,Tabelas!B:D,3,0),0),\"\")","v":0},{"$f":"IF(A32<>\"\",IFERROR(VLOOKUP(Y32,Tabelas!B:D,3,0),0),\"\")","v":0},{"$f":"IF(A32<>\"\",IFERROR(VLOOKUP(Z32,Tabelas!B:D,3,0),0),\"\")","v":0},{"$f":"IF(A32<>\"\",IFERROR(VLOOKUP(AA32,Tabelas!B:D,3,0),0),\"\")","v":0},{"$f":"IF(A32<>\"\",IFERROR(VLOOKUP(AB32,Tabelas!B:D,3,0),0),\"\")","v":0},{"$f":"IF(A32<>\"\",IFERROR(VLOOKUP(AC32,Tabelas!B:D,3,0),0),\"\")","v":0},{"$f":"IF(A32<>\"\",IFERROR(VLOOKUP(AD32,Tabelas!B:D,3,0),0),\"\")","v":0},{"$f":"IF(A32<>\"\",IFERROR(VLOOKUP(AE32,Tabelas!B:D,3,0),0),\"\")","v":0},{"$f":"IF(A32<>\"\",IFERROR(VLOOKUP(AF32,Tabelas!B:D,3,0),0),\"\")","v":0},{"$f":"IF(A32<>\"\",IFERROR(VLOOKUP(AG32,Tabelas!B:D,3,0),0),\"\")","v":0},{"$f":"IF(A32<>\"\",IFERROR(VLOOKUP(AH32,Tabelas!B:D,3,0),0),\"\")","v":0},{"$f":"IF(A32<>\"\",IFERROR(VLOOKUP(AI32,Tabelas!B:D,3,0),0),\"\")","v":0},{"$f":"IF(A32<>\"\",IFERROR(VLOOKUP(AJ32,Tabelas!B:D,3,0),0),\"\")","v":0},{"$f":"IF(A32<>\"\",IFERROR(VLOOKUP(AK32,Tabelas!B:D,3,0),0),\"\")","v":0},{"$f":"IF(A32<>\"\",IFERROR(VLOOKUP(AL32,Tabelas!B:D,3,0),0),\"\")","v":0},{"$f":"IF(A32<>\"\",IFERROR(VLOOKUP(AM32,Tabelas!B:D,3,0),0),\"\")","v":0},{"$f":"IF(A32<>\"\",IFERROR(VLOOKUP(AN32,Tabelas!B:D,3,0),0),\"\")","v":0},{"$f":"IF(A32<>\"\",IFERROR(VLOOKUP(AO32,Tabelas!B:D,3,0),0),\"\")","v":0},{"$f":"IF(A32<>\"\",IFERROR(VLOOKUP(AP32,Tabelas!B:D,3,0),0),\"\")","v":0},{"$f":"IF(A32<>\"\",IFERROR(VLOOKUP(AQ32,Tabelas!B:D,3,0),0),\"\")","v":0},0,0,0,0,0,0,0,0]
["FULANO 25",25,null,null,null,null,null,null,null,null,null,null,null,null,null,null,null,null,null,null,null,null,null,null,null,null,null,null,null,null,null,null,null,null,null,null,null,null,null,null,null,null,null,{"$f":"IF(A33<>\"\",IFERROR(VLOOKUP(M33,Tabelas!B:D,3,0),0),\"\")","v":0},{"$f":"IF(A33<>\"\",IFERROR(VLOOKUP(N33,Tabelas!B:D,3,0),0),\"\")","v":0},{"$f":"IF(A33<>\"\",IFERROR(VLOOKUP(O33,Tabelas!B:D,3,0),0),\"\")","v":0},{"$f":"IF(A33<>\"\",IFERROR(VLOOKUP(P33,Tabelas!B:D,3,0),0),\"\")","v":0},{"$f":"IF(A33<>\"\",IFERROR(VLOOKUP(Q33,Tabelas!B:D,3,0),0),\"\")","v":0},{"$f":"IF(A33<>\"\",IFERROR(VLOOKUP(R33,Tabelas!B:D,3,0),0),\"\")","v":0},{"$f":"IF(A33<>\"\",IFERROR(VLOOKUP(S33,Tabelas!B:D,3,0),0),\"\")","v":0},{"$f":"IF(A33<>\"\",IFERROR(VLOOKUP(T33,Tabelas!B:D,3,0),0),\"\")","v":0},{"$f":"IF(A33<>\"\",IFERROR(VLOOKUP(U33,Tabelas!B:D,3,0),0),\"\")","v":0},{"$f":"IF(A33<>\"\",IFERROR(VLOOKUP(V33,Tabelas!B:D,3,0),0),\"\")","v":0},{"$f":"IF(A33<>\"\",IFERROR(VLOOKUP(W33,Tabelas!B:D,3,0),0),\"\")","v":0},{"$f":"IF(A33<>\"\",IFERROR(VLOOKUP(X33,Tabelas!B:D,3,0),0),\"\")","v":0},{"$f":"IF(A33<>\"\",IFERROR(VLOOKUP(Y33,Tabelas!B:D,3,0),0),\"\")","v":0},{"$f":"IF(A33<>\"\",IFERROR(VLOOKUP(Z33,Tabelas!B:D,3,0),0),\"\")","v":0},{"$f":"IF(A33<>\"\",IFERROR(VLOOKUP(AA33,Tabelas!B:D,3,0),0),\"\")","v":0},{"$f":"IF(A33<>\"\",IFERROR(VLOOKUP(AB33,Tabelas!B:D,3,0),0),\"\")","v":0},{"$f":"IF(A33<>\"\",IFERROR(VLOOKUP(AC33,Tabelas!B:D,3,0),0),\"\")","v":0},{"$f":"IF(A33<>\"\",IFERROR(VLOOKUP(AD33,Tabelas!B:D,3,0),0),\"\")","v":0},{"$f":"IF(A33<>\"\",IFERROR(VLOOKUP(AE33,Tabelas!B:D,3,0),0),\"\")","v":0},{"$f":"IF(A33<>\"\",IFERROR(VLOOKUP(AF33,Tabelas!B:D,3,0),0),\"\")","v":0},{"$f":"IF(A33<>\"\",IFERROR(VLOOKUP(AG33,Tabelas!B:D,3,0),0),\"\")","v":0},{"$f":"IF(A33<>\"\",IFERROR(VLOOKUP(AH33,Tabelas!B:D,3,0),0),\"\")","v":0},{"$f":"IF(A33<>\"\",IFERROR(VLOOKUP(AI33,Tabelas!B:D,3,0),0),\"\")","v":0},{"$f":"IF(A33<>\"\",IFERROR(VLOOKUP(AJ33,Tabelas!B:D,3,0),0),\"\")","v":0},{"$f":"IF(A33<>\"\",IFERROR(VLOOKUP(AK33,Tabelas!B:D,3,0),0),\"\")","v":0},{"$f":"IF(A33<>\"\",IFERROR(VLOOKUP(AL33,Tabelas!B:D,3,0),0),\"\")","v":0},{"$f":"IF(A33<>\"\",IFERROR(VLOOKUP(AM33,Tabelas!B:D,3,0),0),\"\")","v":0},{"$f":"IF(A33<>\"\",IFERROR(VLOOKUP(AN33,Tabelas!B:D,3,0),0),\"\")","v":0},{"$f":"IF(A33<>\"\",IFERROR(VLOOKUP(AO33,Tabelas!B:D,3,0),0),\"\")","v":0},{"$f":"IF(A33<>\"\",IFERROR(VLOOKUP(AP33,Tabelas!B:D,3,0),0),\"\")","v":0},{"$f":"IF(A33<>\"\",IFERROR(VLOOKUP(AQ33,Tabelas!B:D,3,0),0),\"\")","v":0},0,0,0,0,0,0,0,0]
["FULANO 26",26,null,null,null,null,null,null,null,null,null,null,null,null,null,null,null,null,null,null,null,null,null,null,null,null,null,null,null,null,null,null,null,null,null,null,null,null,null,null,null,null,null,{"$f":"IF(A34<>\"\",IFERROR(VLOOKUP(M34,Tabelas!B:D,3,0),0),\"\")","v":0},{"$f":"IF(A34<>\"\",IFERROR(VLOOKUP(N34,Tabelas!B:D,3,0),0),\"\")","v":0},{"$f":"IF(A34<>\"\",IFERROR(VLOOKUP(O34,Tabelas!B:D,3,0),0),\"\")","v":0},{"$f":"IF(A34<>\"\",IFERROR(VLOOKUP(P34,Tabelas!B:D,3,0),0),\"\")","v":0},{"$f":"IF(A34<>\"\",IFERROR(VLOOKUP(Q34,Tabelas!B:D,3,0),0),\"\")","v":0},{"$f":"IF(A34<>\"\",IFERROR(VLOOKUP(R34,Tabelas!B:D,3,0),0),\"\")","v":0},{"$f":"IF(A34<>\"\",IFERROR(VLOOKUP(S34,Tabelas!B:D,3,0),0),\"\")","v":0},{"$f":"IF(A34<>\"\",IFERROR(VLOOKUP(T34,Tabelas!B:D,3,0),0),\"\")","v":0},{"$f":"IF(A34<>\"\",IFERROR(VLOOKUP(U34,Tabelas!B:D,3,0),0),\"\")","v":0},{"$f":"IF(A34<>\"\",IFERROR(VLOOKUP(V34,Tabelas!B:D,3,0),0),\"\")","v":0},{"$f":"IF(A34<>\"\",IFERROR(VLOOKUP(W34,Tabelas!B:D,3,0),0),\"\")","v":0},{"$f":"IF(A34<>\"\",IFERROR(VLOOKUP(X34,Tabelas!B:D,3,0),0),\"\")","v":0},{"$f":"IF(A34<>\"\",IFERROR(VLOOKUP(Y34,Tabelas!B:D,3,0),0),\"\")","v":0},{"$f":"IF(A34<>\"\",IFERROR(VLOOKUP(Z34,Tabelas!B:D,3,0),0),\"\")","v":0},{"$f":"IF(A34<>\"\",IFERROR(VLOOKUP(AA34,Tabelas!B:D,3,0),0),\"\")","v":0},{"$f":"IF(A34<>\"\",IFERROR(VLOOKUP(AB34,Tabelas!B:D,3,0),0),\"\")","v":0},{"$f":"IF(A34<>\"\",IFERROR(VLOOKUP(AC34,Tabelas!B:D,3,0),0),\"\")","v":0},{"$f":"IF(A34<>\"\",IFERROR(VLOOKUP(AD34,Tabelas!B:D,3,0),0),\"\")","v":0},{"$f":"IF(A34<>\"\",IFERROR(VLOOKUP(AE34,Tabelas!B:D,3,0),0),\"\")","v":0},{"$f":"IF(A34<>\"\",IFERROR(VLOOKUP(AF34,Tabelas!B:D,3,0),0),\"\")","v":0},{"$f":"IF(A34<>\"\",IFERROR(VLOOKUP(AG34,Tabelas!B:D,3,0),0),\"\")","v":0},{"$f":"IF(A34<>\"\",IFERROR(VLOOKUP(AH34,Tabelas!B:D,3,0),0),\"\")","v":0},{"$f":"IF(A34<>\"\",IFERROR(VLOOKUP(AI34,Tabelas!B:D,3,0),0),\"\")","v":0},{"$f":"IF(A34<>\"\",IFERROR(VLOOKUP(AJ34,Tabelas!B:D,3,0),0),\"\")","v":0},{"$f":"IF(A34<>\"\",IFERROR(VLOOKUP(AK34,Tabelas!B:D,3,0),0),\"\")","v":0},{"$f":"IF(A34<>\"\",IFERROR(VLOOKUP(AL34,Tabelas!B:D,3,0),0),\"\")","v":0},{"$f":"IF(A34<>\"\",IFERROR(VLOOKUP(AM34,Tabelas!B:D,3,0),0),\"\")","v":0},{"$f":"IF(A34<>\"\",IFERROR(VLOOKUP(AN34,Tabelas!B:D,3,0),0),\"\")","v":0},{"$f":"IF(A34<>\"\",IFERROR(VLOOKUP(AO34,Tabelas!B:D,3,0),0),\"\")","v":0},{"$f":"IF(A34<>\"\",IFERROR(VLOOKUP(AP34,Tabelas!B:D,3,0),0),\"\")","v":0},{"$f":"IF(A34<>\"\",IFERROR(VLOOKUP(AQ34,Tabelas!B:D,3,0),0),\"\")","v":0},0,0,0,0,0,0,0,0]
["FULANO 27",27,null,null,null,null,null,null,null,null,null,null,null,null,null,null,null,null,null,null,null,null,null,null,null,null,null,null,null,null,null,null,null,null,null,null,null,null,null,null,null,null,null,{"$f":"IF(A35<>\"\",IFERROR(VLOOKUP(M35,Tabelas!B:D,3,0),0),\"\")","v":0},{"$f":"IF(A35<>\"\",IFERROR(VLOOKUP(N35,Tabelas!B:D,3,0),0),\"\")","v":0},{"$f":"IF(A35<>\"\",IFERROR(VLOOKUP(O35,Tabelas!B:D,3,0),0),\"\")","v":0},{"$f":"IF(A35<>\"\",IFERROR(VLOOKUP(P35,Tabelas!B:D,3,0),0),\"\")","v":0},{"$f":"IF(A35<>\"\",IFERROR(VLOOKUP(Q35,Tabelas!B:D,3,0),0),\"\")","v":0},{"$f":"IF(A35<>\"\",IFERROR(VLOOKUP(R35,Tabelas!B:D,3,0),0),\"\")","v":0},{"$f":"IF(A35<>\"\",IFERROR(VLOOKUP(S35,Tabelas!B:D,3,0),0),\"\")","v":0},{"$f":"IF(A35<>\"\",IFERROR(VLOOKUP(T35,Tabelas!B:D,3,0),0),\"\")","v":0},{"$f":"IF(A35<>\"\",IFERROR(VLOOKUP(U35,Tabelas!B:D,3,0),0),\"\")","v":0},{"$f":"IF(A35<>\"\",IFERROR(VLOOKUP(V35,Tabelas!B:D,3,0),0),\"\")","v":0},{"$f":"IF(A35<>\"\",IFERROR(VLOOKUP(W35,Tabelas!B:D,3,0),0),\"\")","v":0},{"$f":"IF(A35<>\"\",IFERROR(VLOOKUP(X35,Tabelas!B:D,3,0),0),\"\")","v":0},{"$f":"IF(A35<>\"\",IFERROR(VLOOKUP(Y35,Tabelas!B:D,3,0),0),\"\")","v":0},{"$f":"IF(A35<>\"\",IFERROR(VLOOKUP(Z35,Tabelas!B:D,3,0),0),\"\")","v":0},{"$f":"IF(A35<>\"\",IFERROR(VLOOKUP(AA35,Tabelas!B:D,3,0),0),\"\")","v":0},{"$f":"IF(A35<>\"\",IFERROR(VLOOKUP(AB35,Tabelas!B:D,3,0),0),\"\")","v":0},{"$f":"IF(A35<>\"\",IFERROR(VLOOKUP(AC35,Tabelas!B:D,3,0),0),\"\")","v":0},{"$f":"IF(A35<>\"\",IFERROR(VLOOKUP(AD35,Tabelas!B:D,3,0),0),\"\")","v":0},{"$f":"IF(A35<>\"\",IFERROR(VLOOKUP(AE35,Tabelas!B:D,3,0),0),\"\")","v":0},{"$f":"IF(A35<>\"\",IFERROR(VLOOKUP(AF35,Tabelas!B:D,3,0),0),\"\")","v":0},{"$f":"IF(A35<>\"\",IFERROR(VLOOKUP(AG35,Tabelas!B:D,3,0),0),\"\")","v":0},{"$f":"IF(A35<>\"\",IFERROR(VLOOKUP(AH35,Tabelas!B:D,3,0),0),\"\")","v":0},{"$f":"IF(A35<>\"\",IFERROR(VLOOKUP(AI35,Tabelas!B:D,3,0),0),\"\")","v":0},{"$f":"IF(A35<>\"\",IFERROR(VLOOKUP(AJ35,Tabelas!B:D,3,0),0),\"\")","v":0},{"$f":"IF(A35<>\"\",IFERROR(VLOOKUP(AK35,Tabelas!B:D,3,0),0),\"\")","v":0},{"$f":"IF(A35<>\"\",IFERROR(VLOOKUP(AL35,Tabelas!B:D,3,0),0),\"\")","v":0},{"$f":"IF(A35<>\"\",IFERROR(VLOOKUP(AM35,Tabelas!B:D,3,0),0),\"\")","v":0},{"$f":"IF(A35<>\"\",IFERROR(VLOOKUP(AN35,Tabelas!B:D,3,0),0),\"\")","v":0},{"$f":"IF(A35<>\"\",IFERROR(VLOOKUP(AO35,Tabelas!B:D,3,0),0),\"\")","v":0},{"$f":"IF(A35<>\"\",IFERROR(VLOOKUP(AP35,Tabelas!B:D,3,0),0),\"\")","v":0},{"$f":"IF(A35<>\"\",IFERROR(VLOOKUP(AQ35,Tabelas!B:D,3,0),0),\"\")","v":0},0,0,0,0,0,0,0,0]
["TOTAL PROFISSIONAIS MATUTINO",null,null,null,null,null,null,null,null,null,null,null,{"$f":"IF(COUNTIF(Junho!AP9:AP35,\"PR5\")+COUNTIF(Junho!AP9:AP35,\"PR6\")+COUNTIF(Junho!AP9:AP35,\"PR7\")+COUNTIF(Junho!AP9:AP35,\"PR8\")+COUNTIF(Junho!AP9:AP35,\"PR9\")+COUNTIF(M9:M35,\"M*\")+ COUNTIF(M9:M35, \"D*\")-COUNTIF(M9:M35,\"DSR\")+COUNTIF(M9:M35,\"PR1\")+COUNTIF(M9:M35,\"PR2\")+COUNTIF(M9:M35,\"PR3\")+COUNTIF(M9:M35,\"PR4\")<>0,COUNTIF(Junho!AP9:AP35,\"PR5\")+COUNTIF(Junho!AP9:AP35,\"PR6\")+COUNTIF(Junho!AP9:AP35,\"PR7\")+COUNTIF(Junho!AP9:AP35,\"PR8\")+COUNTIF(Junho!AP9:AP35,\"PR9\")+COUNTIF(M9:M35,\"M*\")+ COUNTIF(M9:M35, \"D*\")-COUNTIF(M9:M35,\"DSR\")+COUNTIF(M9:M35,\"PR1\")+COUNTIF(M9:M35,\"PR2\")+COUNTIF(M9:M35,\"PR3\")+COUNTIF(M9:M35,\"PR4\"),\"\")","v":""},{"$f":"IF(COUNTIF(N9:N35,\"M*\")+ COUNTIF(N9:N35, \"D*\")-COUNTIF(N9:N35,\"DSR\")+COUNTIF(M9:M35,\"PR5\")+COUNTIF(M9:M35,\"PR6\")+COUNTIF(M9:M35,\"PR7\")+COUNTIF(M9:M35,\"PR8\")+COUNTIF(M9:M35,\"PR9\")+COUNTIF(N9:N35,\"PR1\")+COUNTIF(N9:N35,\"PR2\")+COUNTIF(N9:N35,\"PR3\")+COUNTIF(N9:N35,\"PR4\")<>0,COUNTIF(N9:N35,\"M*\")+ COUNTIF(N9:N35, \"D*\")-COUNTIF(N9:N35,\"DSR\")+COUNTIF(M9:M35,\"PR5\")+COUNTIF(M9:M35,\"PR6\")+COUNTIF(M9:M35,\"PR7\")+COUNTIF(M9:M35,\"PR8\")+COUNTIF(M9:M35,\"PR9\")+COUNTIF(N9:N35,\"PR1\")+COUNTIF(N9:N35,\"PR2\")+COUNTIF(N9:N35,\"PR3\")+COUNTIF(N9:N35,\"PR4\"),\"\")","v":""},{"$f":"IF(COUNTIF(O9:O35,\"M*\")+ COUNTIF(O9:O35, \"D*\")-COUNTIF(O9:O35,\"DSR\")+COUNTIF(N9:N35,\"PR5\")+COUNTIF(N9:N35,\"PR6\")+COUNTIF(N9:N35,\"PR7\")+COUNTIF(N9:N35,\"PR8\")+COUNTIF(N9:N35,\"PR9\")+COUNTIF(O9:O35,\"PR1\")+COUNTIF(O9:O35,\"PR2\")+COUNTIF(O9:O35,\"PR3\")+COUNTIF(O9:O35,\"PR4\")<>0,COUNTIF(O9:O35,\"M*\")+ COUNTIF(O9:O35, \"D*\")-COUNTIF(O9:O35,\"DSR\")+COUNTIF(N9:N35,\"PR5\")+COUNTIF(N9:N35,\"PR6\")+COUNTIF(N9:N35,\"PR7\")+COUNTIF(N9:N35,\"PR8\")+COUNTIF(N9:N35,\"PR9\")+COUNTIF(O9:O35,\"PR1\")+COUNTIF(O9:O35,\"PR2\")+COUNTIF(O9:O35,\"PR3\")+COUNTIF(O9:O35,\"PR4\"),\"\")","v":""},"","","","","","","","","","","","","","","","","","","","","","","","","","","","",null,null,null,null,null,null,null,null,null,null,null,null,null,null,null,null,null,null,null,null,null,null,null,null,null,null,null,null,null,null,null,{"$f":"SUM(BW9:BW35)","v":0},{"$f":"SUM(BX9:BX35)","v":0},0,0,0,0,0,0]
["TOTAL DE PROFISSIONAIS VESPERTINO",null,null,null,null,null,null,null,null,null,null,null,{"$f":"IF(COUNTIF(Junho!AP9:AP35,\"PR5\")+COUNTIF(Junho!AP9:AP35,\"PR6\")+COUNTIF(Junho!AP9:AP35,\"PR7\")+COUNTIF(Junho!AP9:AP35,\"PR8\")+COUNTIF(Junho!AP9:AP35,\"PR9\")+COUNTIF(M9:M35,\"MT*\") + COUNTIF(M9:M35, \"D*\") + COUNTIF(M9:M35,\"T*\")-COUNTIF(M9:M35,\"DSR\")+COUNTIF(M9:M35,\"PR1\")+COUNTIF(M9:M35,\"PR2\")+COUNTIF(M9:M35,\"PR3\")+COUNTIF(M9:M35,\"PR4\")<>0,COUNTIF(Junho!AP9:AP35,\"PR5\")+COUNTIF(Junho!AP9:AP35,\"PR6\")+COUNTIF(Junho!AP9:AP35,\"PR7\")+COUNTIF(Junho!AP9:AP35,\"PR8\")+COUNTIF(Junho!AP9:AP35,\"PR9\")+COUNTIF(M9:M35,\"MT*\") + COUNTIF(M9:M35, \"D*\") + COUNTIF(M9:M35,\"T*\")+COUNTIF(M9:M35,\"PR1\")+COUNTIF(M9:M35,\"PR2\")+COUNTIF(M9:M35,\"PR3\")+COUNTIF(M9:M35,\"PR4\")-COUNTIF(M9:M35,\"DSR\"),\"\")","v":""},{"$f":"IF(COUNTIF(N9:N35,\"MT*\") + COUNTIF(N9:N35, \"D*\") + COUNTIF(N9:N35,\"T*\")-COUNTIF(N9:N35,\"DSR\")+COUNTIF(M9:M35,\"PR5\")+COUNTIF(M9:M35,\"PR6\")+COUNTIF(M9:M35,\"PR7\")+COUNTIF(M9:M35,\"PR8\")+COUNTIF(M9:M35,\"PR9\")+COUNTIF(N9:N35,\"PR1\")+COUNTIF(N9:N35,\"PR2\")+COUNTIF(N9:N35,\"PR3\")+COUNTIF(N9:N35,\"PR4\")<>0,COUNTIF(N9:N35,\"MT*\") + COUNTIF(N9:N35, \"D*\") + COUNTIF(N9:N35,\"T*\")+COUNTIF(M9:M35,\"PR5\")+COUNTIF(M9:M35,\"PR6\")+COUNTIF(M9:M35,\"PR7\")+COUNTIF(M9:M35,\"PR8\")+COUNTIF(M9:M35,\"PR9\")+COUNTIF(N9:N35,\"PR1\")+COUNTIF(N9:N35,\"PR2\")+COUNTIF(N9:N35,\"PR3\")+COUNTIF(N9:N35,\"PR4\")-COUNTIF(N9:N35,\"DSR\"),\"\")","v":""},{"$f":"IF(COUNTIF(O9:O35,\"MT*\") + COUNTIF(O9:O35, \"D*\") + COUNTIF(O9:O35,\"T*\")-COUNTIF(O9:O35,\"DSR\")+COUNTIF(N9:N35,\"PR5\")+COUNTIF(N9:N35,\"PR6\")+COUNTIF(N9:N35,\"PR7\")+COUNTIF(N9:N35,\"PR8\")+COUNTIF(N9:N35,\"PR9\")+COUNTIF(O9:O35,\"PR1\")+COUNTIF(O9:O35,\"PR2\")+COUNTIF(O9:O35,\"PR3\")+COUNTIF(O9:O35,\"PR4\")<>0,COUNTIF(O9:O35,\"MT*\") + COUNTIF(O9:O35, \"D*\") + COUNTIF(O9:O35,\"T*\")+COUNTIF(N9:N35,\"PR5\")+COUNTIF(N9:N35,\"PR6\")+COUNTIF(N9:N35,\"PR7\")+COUNTIF(N9:N35,\"PR8\")+COUNTIF(N9:N35,\"PR9\")+COUNTIF(O9:O35,\"PR1\")+COUNTIF(O9:O35,\"PR2\")+COUNTIF(O9:O35,\"PR3\")+COUNTIF(O9:O35,\"PR4\")-COUNTIF(O9:O35,\"DSR\"),\"\")","v":""},"","","","","","","","","","","","","","","","","","","","","","","","","","","","",{"$f":"IF(A37<>\"\",IFERROR(VLOOKUP(M37,Tabelas!B:D,3,0),0),\"\")","v":0},{"$f":"IF(A37<>\"\",IFERROR(VLOOKUP(N37,Tabelas!B:D,3,0),0),\"\")","v":0},{"$f":"IF(A37<>\"\",IFERROR(VLOOKUP(O37,Tabelas!B:D,3,0),0),\"\")","v":0},{"$f":"IF(A37<>\"\",IFERROR(VLOOKUP(P37,Tabelas!B:D,3,0),0),\"\")","v":0},{"$f":"IF(A37<>\"\",IFERROR(VLOOKUP(Q37,Tabelas!B:D,3,0),0),\"\")","v":0},{"$f":"IF(A37<>\"\",IFERROR(VLOOKUP(R37,Tabelas!B:D,3,0),0),\"\")","v":0},{"$f":"IF(A37<>\"\",IFERROR(VLOOKUP(S37,Tabelas!B:D,3,0),0),\"\")","v":0},{"$f":"IF(A37<>\"\",IFERROR(VLOOKUP(T37,Tabelas!B:D,3,0),0),\"\")","v":0},{"$f":"IF(A37<>\"\",IFERROR(VLOOKUP(U37,Tabelas!B:D,3,0),0),\"\")","v":0},{"$f":"IF(A37<>\"\",IFERROR(VLOOKUP(V37,Tabelas!B:D,3,0),0),\"\")","v":0},{"$f":"IF(A37<>\"\",IFERROR(VLOOKUP(W37,Tabelas!B:D,3,0),0),\"\")","v":0},{"$f":"IF(A37<>\"\",IFERROR(VLOOKUP(X37,Tabelas!B:D,3,0),0),\"\")","v":0},{"$f":"IF(A37<>\"\",IFERROR(VLOOKUP(Y37,Tabelas!B:D,3,0),0),\"\")","v":0},{"$f":"IF(A37<>\"\",IFERROR(VLOOKUP(Z37,Tabelas!B:D,3,0),0),\"\")","v":0},{"$f":"IF(A37<>\"\",IFERROR(VLOOKUP(AA37,Tabelas!B:D,3,0),0),\"\")","v":0},{"$f":"IF(A37<>\"\",IFERROR(VLOOKUP(AB37,Tabelas!B:D,3,0),0),\"\")","v":0},{"$f":"IF(A37<>\"\",IFERROR(VLOOKUP(AC37,Tabelas!B:D,3,0),0),\"\")","v":0},{"$f":"IF(A37<>\"\",IFERROR(VLOOKUP(AD37,Tabelas!B:D,3,0),0),\"\")","v":0},{"$f":"IF(A37<>\"\",IFERROR(VLOOKUP(AE37,Tabelas!B:D,3,0),0),\"\")","v":0},{"$f":"IF(A37<>\"\",IFERROR(VLOOKUP(AF37,Tabelas!B:D,3,0),0),\"\")","v":0},{"$f":"IF(A37<>\"\",IFERROR(VLOOKUP(AG37,Tabelas!B:D,3,0),0),\"\")","v":0},{"$f":"IF(A37<>\"\",IFERROR(VLOOKUP(AH37,Tabelas!B:D,3,0),0),\"\")","v":0},{"$f":"IF(A37<>\"\",IFERROR(VLOOKUP(AI37,Tabelas!B:D,3,0),0),\"\")","v":0},{"$f":"IF(A37<>\"\",IFERROR(VLOOKUP(AJ37,Tabelas!B:D,3,0),0),\"\")","v":0},{"$f":"IF(A37<>\"\",IFERROR(VLOOKUP(AK37,Tabelas!B:D,3,0),0),\"\")","v":0},{"$f":"IF(A37<>\"\",IFERROR(VLOOKUP(AL37,Tabelas!B:D,3,0),0),\"\")","v":0},{"$f":"IF(A37<>\"\",IFERROR(VLOOKUP(AM37,Tabelas!B:D,3,0),0),\"\")","v":0},{"$f":"IF(A37<>\"\",IFERROR(VLOOKUP(AN37,Tabelas!B:D,3,0),0),\"\")","v":0},{"$f":"IF(A37<>\"\",IFERROR(VLOOKUP(AO37,Tabelas!B:D,3,0),0),\"\")","v":0},{"$f":"IF(A37<>\"\",IFERROR(VLOOKUP(AP37,Tabelas!B:D,3,0),0),\"\")","v":0},{"$f":"IF(A37<>\"\",IFERROR(VLOOKUP(AQ37,Tabelas!B:D,3,0),0),\"\")","v":0}]
["TOTAL DE PROFISSIONAIS NOTURNO",null,null,null,null,null,null,null,null,null,null,null,{"$f":"IF(COUNTIF(M9:M37,\"N?*\") + COUNTIF(M9:M37, \"DN*\")+COUNTIF(M9:M35,\"PR*\")<>0,COUNTIF(M9:M37,\"N?*\") + COUNTIF(M9:M37, \"DN*\")+COUNTIF(M9:M35,\"PR*\"),\"\")","v":""},{"$f":"IF(COUNTIF(N9:N37,\"N?*\") + COUNTIF(N9:N37, \"DN*\")+COUNTIF(N9:N35,\"PR*\")<>0,COUNTIF(N9:N37,\"N?*\") + COUNTIF(N9:N37, \"DN*\")+COUNTIF(N9:N35,\"PR*\"),\"\")","v":""},"","","","","","","","","","","","","","","","","","","","","","","","","","","","","",{"$f":"IF(A38<>\"\",IFERROR(VLOOKUP(M38,Tabelas!B:D,3,0),0),\"\")","v":0},{"$f":"IF(A38<>\"\",IFERROR(VLOOKUP(N38,Tabelas!B:D,3,0),0),\"\")","v":0},{"$f":"IF(A38<>\"\",IFERROR(VLOOKUP(O38,Tabelas!B:D,3,0),0),\"\")","v":0},{"$f":"IF(A38<>\"\",IFERROR(VLOOKUP(P38,Tabelas!B:D,3,0),0),\"\")","v":0},{"$f":"IF(A38<>\"\",IFERROR(VLOOKUP(Q38,Tabelas!B:D,3,0),0),\"\")","v":0},{"$f":"IF(A38<>\"\",IFERROR(VLOOKUP(R38,Tabelas!B:D,3,0),0),\"\")","v":0},{"$f":"IF(A38<>\"\",IFERROR(VLOOKUP(S38,Tabelas!B:D,3,0),0),\"\")","v":0},{"$f":"IF(A38<>\"\",IFERROR(VLOOKUP(T38,Tabelas!B:D,3,0),0),\"\")","v":0},{"$f":"IF(A38<>\"\",IFERROR(VLOOKUP(U38,Tabelas!B:D,3,0),0),\"\")","v":0},{"$f":"IF(A38<>\"\",IFERROR(VLOOKUP(V38,Tabelas!B:D,3,0),0),\"\")","v":0},{"$f":"IF(A38<>\"\",IFERROR(VLOOKUP(W38,Tabelas!B:D,3,0),0),\"\")","v":0},{"$f":"IF(A38<>\"\",IFERROR(VLOOKUP(X38,Tabelas!B:D,3,0),0),\"\")","v":0},{"$f":"IF(A38<>\"\",IFERROR(VLOOKUP(Y38,Tabelas!B:D,3,0),0),\"\")","v":0},{"$f":"IF(A38<>\"\",IFERROR(VLOOKUP(Z38,Tabelas!B:D,3,0),0),\"\")","v":0},{"$f":"IF(A38<>\"\",IFERROR(VLOOKUP(AA38,Tabelas!B:D,3,0),0),\"\")","v":0},{"$f":"IF(A38<>\"\",IFERROR(VLOOKUP(AB38,Tabelas!B:D,3,0),0),\"\")","v":0},{"$f":"IF(A38<>\"\",IFERROR(VLOOKUP(AC38,Tabelas!B:D,3,0),0),\"\")","v":0},{"$f":"IF(A38<>\"\",IFERROR(VLOOKUP(AD38,Tabelas!B:D,3,0),0),\"\")","v":0},{"$f":"IF(A38<>\"\",IFERROR(VLOOKUP(AE38,Tabelas!B:D,3,0),0),\"\")","v":0},{"$f":"IF(A38<>\"\",IFERROR(VLOOKUP(AF38,Tabelas!B:D,3,0),0),\"\")","v":0},{"$f":"IF(A38<>\"\",IFERROR(VLOOKUP(AG38,Tabelas!B:D,3,0),0),\"\")","v":0},{"$f":"IF(A38<>\"\",IFERROR(VLOOKUP(AH38,Tabelas!B:D,3,0),0),\"\")","v":0},{"$f":"IF(A38<>\"\",IFERROR(VLOOKUP(AI38,Tabelas!B:D,3,0),0),\"\")","v":0},{"$f":"IF(A38<>\"\",IFERROR(VLOOKUP(AJ38,Tabelas!B:D,3,0),0),\"\")","v":0},{"$f":"IF(A38<>\"\",IFERROR(VLOOKUP(AK38,Tabelas!B:D,3,0),0),\"\")","v":0},{"$f":"IF(A38<>\"\",IFERROR(VLOOKUP(AL38,Tabelas!B:D,3,0),0),\"\")","v":0},{"$f":"IF(A38<>\"\",IFERROR(VLOOKUP(AM38,Tabelas!B:D,3,0),0),\"\")","v":0},{"$f":"IF(A38<>\"\",IFERROR(VLOOKUP(AN38,Tabelas!B:D,3,0),0),\"\")","v":0},{"$f":"IF(A38<>\"\",IFERROR(VLOOKUP(AO38,Tabelas!B:D,3,0),0),\"\")","v":0},{"$f":"IF(A38<>\"\",IFERROR(VLOOKUP(AP38,Tabelas!B:D,3,0),0),\"\")","v":0},{"$f":"IF(A38<>\"\",IFERROR(VLOOKUP(AQ38,Tabelas!B:D,3,0),0),\"\")","v":0}]
[null,null,null,null,null,null,null,null,null,null,null,null,null,null,null,null,null,null,null,null,null,null,null,null,null,null,null,null,null,null,null,null,null,null,null,null,null,null,null,null,null,null,null,{"$f":"IF(A39<>\"\",IFERROR(VLOOKUP(M39,Tabelas!B:D,3,0),0),\"\")","v":""},{"$f":"IF(A39<>\"\",IFERROR(VLOOKUP(N39,Tabelas!B:D,3,0),0),\"\")","v":""},{"$f":"IF(A39<>\"\",IFERROR(VLOOKUP(O39,Tabelas!B:D,3,0),0),\"\")","v":""},{"$f":"IF(A39<>\"\",IFERROR(VLOOKUP(P39,Tabelas!B:D,3,0),0),\"\")","v":""},{"$f":"IF(A39<>\"\",IFERROR(VLOOKUP(Q39,Tabelas!B:D,3,0),0),\"\")","v":""},{"$f":"IF(A39<>\"\",IFERROR(VLOOKUP(R39,Tabelas!B:D,3,0),0),\"\")","v":""},{"$f":"IF(A39<>\"\",IFERROR(VLOOKUP(S39,Tabelas!B:D,3,0),0),\"\")","v":""},{"$f":"IF(A39<>\"\",IFERROR(VLOOKUP(T39,Tabelas!B:D,3,0),0),\"\")","v":""},{"$f":"IF(A39<>\"\",IFERROR(VLOOKUP(U39,Tabelas!B:D,3,0),0),\"\")","v":""},{"$f":"IF(A39<>\"\",IFERROR(VLOOKUP(V39,Tabelas!B:D,3,0),0),\"\")","v":""},{"$f":"IF(A39<>\"\",IFERROR(VLOOKUP(W39,Tabelas!B:D,3,0),0),\"\")","v":""},{"$f":"IF(A39<>\"\",IFERROR(VLOOKUP(X39,Tabelas!B:D,3,0),0),\"\")","v":""},{"$f":"IF(A39<>\"\",IFERROR(VLOOKUP(Y39,Tabelas!B:D,3,0),0),\"\")","v":""},{"$f":"IF(A39<>\"\",IFERROR(VLOOKUP(Z39,Tabelas!B:D,3,0),0),\"\")","v":""},{"$f":"IF(A39<>\"\",IFERROR(VLOOKUP(AA39,Tabelas!B:D,3,0),0),\"\")","v":""},{"$f":"IF(A39<>\"\",IFERROR(VLOOKUP(AB39,Tabelas!B:D,3,0),0),\"\")","v":""},{"$f":"IF(A39<>\"\",IFERROR(VLOOKUP(AC39,Tabelas!B:D,3,0),0),\"\")","v":""},{"$f":"IF(A39<>\"\",IFERROR(VLOOKUP(AD39,Tabelas!B:D,3,0),0),\"\")","v":""},{"$f":"IF(A39<>\"\",IFERROR(VLOOKUP(AE39,Tabelas!B:D,3,0),0),\"\")","v":""},{"$f":"IF(A39<>\"\",IFERROR(VLOOKUP(AF39,Tabelas!B:D,3,0),0),\"\")","v":""},{"$f":"IF(A39<>\"\",IFERROR(VLOOKUP(AG39,Tabelas!B:D,3,0),0),\"\")","v":""},{"$f":"IF(A39<>\"\",IFERROR(VLOOKUP(AH39,Tabelas!B:D,3,0),0),\"\")","v":""},{"$f":"IF(A39<>\"\",IFERROR(VLOOKUP(AI39,Tabelas!B:D,3,0),0),\"\")","v":""},{"$f":"IF(A39<>\"\",IFERROR(VLOOKUP(AJ39,Tabelas!B:D,3,0),0),\"\")","v":""},{"$f":"IF(A39<>\"\",IFERROR(VLOOKUP(AK39,Tabelas!B:D,3,0),0),\"\")","v":""},{"$f":"IF(A39<>\"\",IFERROR(VLOOKUP(AL39,Tabelas!B:D,3,0),0),\"\")","v":""},{"$f":"IF(A39<>\"\",IFERROR(VLOOKUP(AM39,Tabelas!B:D,3,0),0),\"\")","v":""},{"$f":"IF(A39<>\"\",IFERROR(VLOOKUP(AN39,Tabelas!B:D,3,0),0),\"\")","v":""},{"$f":"IF(A39<>\"\",IFERROR(VLOOKUP(AO39,Tabelas!B:D,3,0),0),\"\")","v":""},{"$f":"IF(A39<>\"\",IFERROR(VLOOKUP(AP39,Tabelas!B:D,3,0),0),\"\")","v":""},{"$f":"IF(A39<>\"\",IFERROR(VLOOKUP(AQ39,Tabelas!B:D,3,0),0),\"\")","v":""}]
["Legenda:"]
["Licença Maternidade","LM","Férias",null,null,null,null,null,null,"FE",null,"Ponto Facultativo",null,null,null,null,null,null,null,"PF","Manhã *",null,null,null,null,null,null,"M","Diurno (8 hrs) *",null,null,null,null,null,null,"MT"]
["Licença Paternidade","LP","Feriado",null,null,null,null,null,null,"FD",null,"Abono **",null,null,null,null,null,null,null,"AB","Tarde *",null,null,null,null,null,null,"T","Dia/ noite (24 hrs) *",null,null,null,null,null,null,"DN"]
["Licença Médica/Odontológica","L","Descanso Semanal Remunerado",null,null,null,null,null,null,"DSR",null,"Compensação de Horas",null,null,null,null,null,null,null,"CH","Plantão Dia (12 hrs) *",null,null,null,null,null,null,"D"]
["Licença Capacitação","LC","Recesso",null,null,null,null,null,null,"RC",null,"Afastamento**",null,null,null,null,null,null,null,"AF","Plantão Noite (12 hrs) *",null,null,null,null,null,null,"N"]
[]
[]
[]
[]
[]
["OBSERVAÇÕES:"]
["* Para inserção das legendas referentes às jornadas de trabalho, verificar a Tabela 1 do Anexo 12629162 do Ofício-Circular - SEI nº 9/2021/SDR/CAP/DGP-EBSERH."]
["** Para inserção das legendas referentes aos Afastamentos previstos em lei e às Compensações de horas, verificar a Tabela 2 do Anexo 12629162 do Ofício-Circular - SEI nº 9/2021/SDR/CAP/DGP-EBSERH."]

{"sheet":"Agosto","index":7,"n_rows":52,"n_cols":82,"rows_kept":52,"cut":false,"hidden":false,"merged":[[43,2,43,8],[43,9,43,10],[43,11,43,18],[43,20,43,26],[40,28,40,34],[41,2,41,8],[41,9,41,10],[41,11,41,18],[41,20,41,26],[41,28,41,34],[40,2,40,8],[40,9,40,10],[40,11,40,18],[40,20,40,26],[42,2,42,8],[42,9,42,10],[42,11,42,18],[42,20,42,26],[5,2,7,2],[5,3,7,3],[5,4,7,4],[6,81,7,81],[6,77,7,77],[6,78,7,78],[36,0,36,11],[37,0,37,11],[35,78,37,78],[35,79,37,79],[35,80,37,80],[35,0,35,11],[35,74,37,74],[35,75,37,75],[35,76,37,76],[35,77,37,77],[5,5,7,5],[5,0,7,0],[5,1,7,1],[35,81,37,81],[5,6,5,11],[5,12,5,42],[6,79,7,79],[6,11,7,11],[6,75,7,75],[6,76,7,76],[6,6,7,6],[6,7,7,7],[6,8,7,8],[6,9,7,9],[6,10,7,10],[5,43,5,73],[5,74,7,74],[5,75,5,81],[6,80,7,80],[1,0,1,42],[2,0,2,42],[3,0,3,42],[4,1,4,20],[4,23,4,34],[4,37,4,42]]}
[]
[]
["NOME DO HU"]
["ESCALA MENSAL DE TRABALHO"]
["DIVISÃO /SETOR/UNIDADE:",null,null,null,null,null,null,null,null,null,null,null,null,null,null,null,null,null,null,null,null,"MÊS:",null,"Agosto",null,null,null,null,null,null,null,null,null,null,null,"ANO:",null,2023]
["NOME COMPLETO","SIAPE","     Registro Conselho Classe","Cargo","Vínculo","    C.H Sem","INTERVALO",null,null,null,null,null,"DIAS DO MÊS",null,null,null,null,null,null,null,null,null,null,null,null,null,null,null,null,null,null,null,null,null,null,null,null,null,null,null,null,null,null,"CÁLCULO DAS HORAS",null,null,null,null,null,null,null,null,null,null,null,null,null,null,null,null,null,null,null,null,null,null,null,null,null,null,null,null,null,null,"CH Men.","Dias"]
[null,null,null,null,null,null,"15' M","15' T","15' N","1H D","1H N","2H",1,2,3,4,5,6,7,8,9,10,11,12,13,14,15,16,17,18,19,20,21,22,23,24,25,{"$f":"IF(DAY(DATE(AL5,VLOOKUP(X5,Tabelas!M:N,2,0)+1,1)-1)>=26,26,\"\")","v":26},{"$f":"IF(DAY(DATE(AL5,VLOOKUP(X5,Tabelas!M:N,2,0)+1,1)-1)>=27,27,\"\")","v":27},{"$f":"IF(DAY(DATE(AL5,VLOOKUP(X5,Tabelas!M:N,2,0)+1,1)-1)>=28,28,\"\")","v":28},{"$f":"IF(DAY(DATE(AL5,VLOOKUP(X5,Tabelas!M:N,2,0)+1,1)-1)>=29,29,\"\")","v":29},{"$f":"IF(DAY(DATE(AL5,VLOOKUP(X5,Tabelas!M:N,2,0)+1,1)-1)>=30,30,\"\")","v":30},{"$f":"IF(DAY(DATE(AL5,VLOOKUP(X5,Tabelas!M:N,2,0)+1,1)-1)>=31,31,\"\")","v":31},null,null,null,null,null,null,null,null,null,null,null,null,null,null,null,null,null,null,null,null,null,null,null,null,null,null,null,null,null,null,null,null,"LM/LP/L","AB","FE","LC","CH","AF  "," Total Afast."]
[null,null,null,null,null,null,null,null,null,null,null,null,{"$f":"IF(M7<>\"\",IFERROR(VLOOKUP(WEEKDAY(CONCATENATE(M7,$X$5,$AL$5)),Tabelas!$I:$J,2,0),\"\"),\"\")","v":"TER"},{"$f":"IF(N7<>\"\",IFERROR(VLOOKUP(WEEKDAY(CONCATENATE(N7,$X$5,$AL$5)),Tabelas!$I:$J,2,0),\"\"),\"\")","v":"QUA"},{"$f":"IF(O7<>\"\",IFERROR(VLOOKUP(WEEKDAY(CONCATENATE(O7,$X$5,$AL$5)),Tabelas!$I:$J,2,0),\"\"),\"\")","v":"QUI"},{"$f":"IF(P7<>\"\",IFERROR(VLOOKUP(WEEKDAY(CONCATENATE(P7,$X$5,$AL$5)),Tabelas!$I:$J,2,0),\"\"),\"\")","v":"SEX"},{"$f":"IF(Q7<>\"\",IFERROR(VLOOKUP(WEEKDAY(CONCATENATE(Q7,$X$5,$AL$5)),Tabelas!$I:$J,2,0),\"\"),\"\")","v":"SAB"},{"$f":"IF(R7<>\"\",IFERROR(VLOOKUP(WEEKDAY(CONCATENATE(R7,$X$5,$AL$5)),Tabelas!$I:$J,2,0),\"\"),\"\")","v":"DOM"},{"$f":"IF(S7<>\"\",IFERROR(VLOOKUP(WEEKDAY(CONCATENATE(S7,$X$5,$AL$5)),Tabelas!$I:$J,2,0),\"\"),\"\")","v":"SEG"},{"$f":"IF(T7<>\"\",IFERROR(VLOOKUP(WEEKDAY(CONCATENATE(T7,$X$5,$AL$5)),Tabelas!$I:$J,2,0),\"\"),\"\")","v":"TER"},{"$f":"IF(U7<>\"\",IFERROR(VLOOKUP(WEEKDAY(CONCATENATE(U7,$X$5,$AL$5)),Tabelas!$I:$J,2,0),\"\"),\"\")","v":"QUA"},{"$f":"IF(V7<>\"\",IFERROR(VLOOKUP(WEEKDAY(CONCATENATE(V7,$X$5,$AL$5)),Tabelas!$I:$J,2,0),\"\"),\"\")","v":"QUI"},{"$f":"IF(W7<>\"\",IFERROR(VLOOKUP(WEEKDAY(CONCATENATE(W7,$X$5,$AL$5)),Tabelas!$I:$J,2,0),\"\"),\"\")","v":"SEX"},{"$f":"IF(X7<>\"\",IFERROR(VLOOKUP(WEEKDAY(CONCATENATE(X7,$X$5,$AL$5)),Tabelas!$I:$J,2,0),\"\"),\"\")","v":"SAB"},{"$f":"IF(Y7<>\"\",IFERROR(VLOOKUP(WEEKDAY(CONCATENATE(Y7,$X$5,$AL$5)),Tabelas!$I:$J,2,0),\"\"),\"\")","v":"DOM"},{"$f":"IF(Z7<>\"\",IFERROR(VLOOKUP(WEEKDAY(CONCATENATE(Z7,$X$5,$AL$5)),Tabelas!$I:$J,2,0),\"\"),\"\")","v":"SEG"},{"$f":"IF(AA7<>\"\",IFERROR(VLOOKUP(WEEKDAY(CONCATENATE(AA7,$X$5,$AL$5)),Tabelas!$I:$J,2,0),\"\"),\"\")","v":"TER"},{"$f":"IF(AB7<>\"\",IFERROR(VLOOKUP(WEEKDAY(CONCATENATE(AB7,$X$5,$AL$5)),Tabelas!$I:$J,2,0),\"\"),\"\")","v":"QUA"},{"$f":"IF(AC7<>\"\",IFERROR(VLOOKUP(WEEKDAY(CONCATENATE(AC7,$X$5,$AL$5)),Tabelas!$I:$J,2,0),\"\"),\"\")","v":"QUI"},{"$f":"IF(AD7<>\"\",IFERROR(VLOOKUP(WEEKDAY(CONCATENATE(AD7,$X$5,$AL$5)),Tabelas!$I:$J,2,0),\"\"),\"\")","v":"SEX"},{"$f":"IF(AE7<>\"\",IFERROR(VLOOKUP(WEEKDAY(CONCATENATE(AE7,$X$5,$AL$5)),Tabelas!$I:$J,2,0),\"\"),\"\")","v":"SAB"},{"$f":"IF(AF7<>\"\",IFERROR(VLOOKUP(WEEKDAY(CONCATENATE(AF7,$X$5,$AL$5)),Tabelas!$I:$J,2,0),\"\"),\"\")","v":"DOM"},{"$f":"IF(AG7<>\"\",IFERROR(VLOOKUP(WEEKDAY(CONCATENATE(AG7,$X$5,$AL$5)),Tabelas!$I:$J,2,0),\"\"),\"\")","v":"SEG"},{"$f":"IF(AH7<>\"\",IFERROR(VLOOKUP(WEEKDAY(CONCATENATE(AH7,$X$5,$AL$5)),Tabelas!$I:$J,2,0),\"\"),\"\")","v":"TER"},{"$f":"IF(AI7<>\"\",IFERROR(VLOOKUP(WEEKDAY(CONCATENATE(AI7,$X$5,$AL$5)),Tabelas!$I:$J,2,0),\"\"),\"\")","v":"QUA"},{"$f":"IF(AJ7<>\"\",IFERROR(VLOOKUP(WEEKDAY(CONCATENATE(AJ7,$X$5,$AL$5)),Tabelas!$I:$J,2,0),\"\"),\"\")","v":"QUI"},{"$f":"IF(AK7<>\"\",IFERROR(VLOOKUP(WEEKDAY(CONCATENATE(AK7,$X$5,$AL$5)),Tabelas!$I:$J,2,0),\"\"),\"\")","v":"SEX"},{"$f":"IF(AL7<>\"\",IFERROR(VLOOKUP(WEEKDAY(CONCATENATE(AL7,$X$5,$AL$5)),Tabelas!$I:$J,2,0),\"\"),\"\")","v":"SAB"},{"$f":"IF(AM7<>\"\",IFERROR(VLOOKUP(WEEKDAY(CONCATENATE(AM7,$X$5,$AL$5)),Tabelas!$I:$J,2,0),\"\"),\"\")","v":"DOM"},{"$f":"IF(AN7<>\"\",IFERROR(VLOOKUP(WEEKDAY(CONCATENATE(AN7,$X$5,$AL$5)),Tabelas!$I:$J,2,0),\"\"),\"\")","v":"SEG"},{"$f":"IF(AO7<>\"\",IFERROR(VLOOKUP(WEEKDAY(CONCATENATE(AO7,$X$5,$AL$5)),Tabelas!$I:$J,2,0),\"\"),\"\")","v":"TER"},{"$f":"IF(AP7<>\"\",IFERROR(VLOOKUP(WEEKDAY(CONCATENATE(AP7,$X$5,$AL$5)),Tabelas!$I:$J,2,0),\"\"),\"\")","v":"QUA"},{"$f":"IF(AQ7<>\"\",IFERROR(VLOOKUP(WEEKDAY(CONCATENATE(AQ7,$X$5,$AL$5)),Tabelas!$I:$J,2,0),\"\"),\"\")","v":"QUI"},1,2,3,4,5,6,7,8,9,10,11,12,13,14,15,16,17,18,19,20,21,22,23,24,25,26,27,28,29,30,31]
["FULANO 1",1,null,null,null,null,null,null,null,null,null,null,null,null,null,null,null,null,null,null,null,null,null,null,null,null,null,null,null,null,null,null,null,null,null,null,null,null,null,null,null,null,null,{"$f":"IF(A9<>\"\",IFERROR(VLOOKUP(M9,Tabelas!B:D,3,0),0),\"\")","v":0},{"$f":"IF(A9<>\"\",IFERROR(VLOOKUP(N9,Tabelas!B:D,3,0),0),\"\")","v":0},{"$f":"IF(A9<>\"\",IFERROR(VLOOKUP(O9,Tabelas!B:D,3,0),0),\"\")","v":0},{"$f":"IF(A9<>\"\",IFERROR(VLOOKUP(P9,Tabelas!B:D,3,0),0),\"\")","v":0},{"$f":"IF(A9<>\"\",IFERROR(VLOOKUP(Q9,Tabelas!B:D,3,0),0),\"\")","v":0},{"$f":"IF(A9<>\"\",IFERROR(VLOOKUP(R9,Tabelas!B:D,3,0),0),\"\")","v":0},{"$f":"IF(A9<>\"\",IFERROR(VLOOKUP(S9,Tabelas!B:D,3,0),0),\"\")","v":0},{"$f":"IF(A9<>\"\",IFERROR(VLOOKUP(T9,Tabelas!B:D,3,0),0),\"\")","v":0},{"$f":"IF(A9<>\"\",IFERROR(VLOOKUP(U9,Tabelas!B:D,3,0),0),\"\")","v":0},{"$f":"IF(A9<>\"\",IFERROR(VLOOKUP(V9,Tabelas!B:D,3,0),0),\"\")","v":0},{"$f":"IF(A9<>\"\",IFERROR(VLOOKUP(W9,Tabelas!B:D,3,0),0),\"\")","v":0},{"$f":"IF(A9<>\"\",IFERROR(VLOOKUP(X9,Tabelas!B:D,3,0),0),\"\")","v":0},{"$f":"IF(A9<>\"\",IFERROR(VLOOKUP(Y9,Tabelas!B:D,3,0),0),\"\")","v":0},{"$f":"IF(A9<>\"\",IFERROR(VLOOKUP(Z9,Tabelas!B:D,3,0),0),\"\")","v":0},{"$f":"IF(A9<>\"\",IFERROR(VLOOKUP(AA9,Tabelas!B:D,3,0),0),\"\")","v":0},{"$f":"IF(A9<>\"\",IFERROR(VLOOKUP(AB9,Tabelas!B:D,3,0),0),\"\")","v":0},{"$f":"IF(A9<>\"\",IFERROR(VLOOKUP(AC9,Tabelas!B:D,3,0),0),\"\")","v":0},{"$f":"IF(A9<>\"\",IFERROR(VLOOKUP(AD9,Tabelas!B:D,3,0),0),\"\")","v":0},{"$f":"IF(A9<>\"\",IFERROR(VLOOKUP(AE9,Tabelas!B:D,3,0),0),\"\")","v":0},{"$f":"IF(A9<>\"\",IFERROR(VLOOKUP(AF9,Tabelas!B:D,3,0),0),\"\")","v":0},{"$f":"IF(A9<>\"\",IFERROR(VLOOKUP(AG9,Tabelas!B:D,3,0),0),\"\")","v":0},{"$f":"IF(A9<>\"\",IFERROR(VLOOKUP(AH9,Tabelas!B:D,3,0),0),\"\")","v":0},{"$f":"IF(A9<>\"\",IFERROR(VLOOKUP(AI9,Tabelas!B:D,3,0),0),\"\")","v":0},{"$f":"IF(A9<>\"\",IFERROR(VLOOKUP(AJ9,Tabelas!B:D,3,0),0),\"\")","v":0},{"$f":"IF(A9<>\"\",IFERROR(VLOOKUP(AK9,Tabelas!B:D,3,0),0),\"\")","v":0},{"$f":"IF(A9<>\"\",IFERROR(VLOOKUP(AL9,Tabelas!B:D,3,0),0),\"\")","v":0},{"$f":"IF(A9<>\"\",IFERROR(VLOOKUP(AM9,Tabelas!B:D,3,0),0),\"\")","v":0},{"$f":"IF(A9<>\"\",IFERROR(VLOOKUP(AN9,Tabelas!B:D,3,0),0),\"\")","v":0},{"$f":"IF(A9<>\"\",IFERROR(VLOOKUP(AO9,Tabelas!B:D,3,0),0),\"\")","v":0},{"$f":"IF(A9<>\"\",IFERROR(VLOOKUP(AP9,Tabelas!B:D,3,0),0),\"\")","v":0},{"$f":"IF(A9<>\"\",IFERROR(VLOOKUP(AQ9,Tabelas!B:D,3,0),0),\"\")","v":0},{"$f":"IF(AND(A9<>\"\",E9=\"Ebserh\"),SUM(AR9:BV9)+COUNTIF(M9:AQ9,\"N*\")+COUNTIF(M9:AQ9,\"DN*\"),IF(AND(A9<>\"\",E9<>\"Ebserh\"),SUM(AR9:BV9),\"\"))","v":0},{"$f":"IF(A9<>\"\",COUNTIF(M9:AQ9,\"LM\")+COUNTIF(M9:AQ9,\"L*\")+COUNTIF(M9:AQ9,\"LP\"),\"\")","v":0},{"$f":"IF(A9<>\"\",COUNTIF(M9:AQ9,\"AB*\"),\"\")","v":0},{"$f":"IF(A9<>\"\",COUNTIF(M9:AQ9,\"FE\"),\"\")","v":0},{"$f":"IF(A9<>\"\",COUNTIF(M9:AQ9,\"LC\"),\"\")","v":0},{"$f":"IF(A9<>\"\",COUNTIF(M9:AQ9,\"CH*\"),\"\")","v":0},{"$f":"IF(A9<>\"\",COUNTIF(M9:AQ9,\"AF1\")+COUNTIF(M9:AQ9,\"AF2\")+COUNTIF(M9:AQ9,\"AF3\")+COUNTIF(M9:AQ9,\"AF4\")+COUNTIF(M9:AQ9,\"AF5\")+COUNTIF(M9:AQ9,\"AF6\")+COUNTIF(M9:AQ9,\"AF7\")+COUNTIF(M9:AQ9,\"AF8\")+COUNTIF(M9:AQ9,\"AF9\")+COUNTIF(M9:AQ9,\"AF10\")+COUNTIF(M9:AQ9,\"AF11\")+COUNTIF(M9:AQ9,\"AF12\")+COUNTIF(M9:AQ9,\"AF13\")+COUNTIF(M9:AQ9,\"AF14\"),\"\")","v":0},{"$f":"IF(A9<>\"\",COUNTIF(M9:AQ9,\"CH*\")+COUNTIF(M9:AQ9,\"L*\")+COUNTIF(M9:AQ9,\"LM\")+COUNTIF(M9:AQ9,\"LP\")+COUNTIF(M9:AQ9,\"LC\")+COUNTIF(M9:AQ9,\"AB*\")+COUNTIF(M9:AQ9,\"AF1\")+COUNTIF(M9:AQ9,\"AF2\")+COUNTIF(M9:AQ9,\"AF3\")+COUNTIF(M9:AQ9,\"AF4\")+COUNTIF(M9:AQ9,\"AF5\")+COUNTIF(M9:AQ9,\"AF6\")+COUNTIF(M9:AQ9,\"AF7\")+COUNTIF(M9:AQ9,\"AF8\")+COUNTIF(M9:AQ9,\"AF9\")+COUNTIF(M9:AQ9,\"AF10\")+COUNTIF(M9:AQ9,\"AF11\")+COUNTIF(M9:AQ9,\"AF12\")+COUNTIF(M9:AQ9,\"AF13\")+COUNTIF(M9:AQ9,\"AF14\")+COUNTIF(M9:AQ9,\"RC\")+COUNTIF(M9:AQ9,\"FO\")+COUNTIF(M9:AQ9,\"FE\"),\"\")","v":0}]
["FULANO 2",2,null,null,null,null,null,null,null,null,null,null,null,null,null,null,null,null,null,null,null,null,null,null,null,null,null,null,null,null,null,null,null,null,null,null,null,null,null,null,null,null,null,{"$f":"IF(A10<>\"\",IFERROR(VLOOKUP(M10,Tabelas!B:D,3,0),0),\"\")","v":0},{"$f":"IF(A10<>\"\",IFERROR(VLOOKUP(N10,Tabelas!B:D,3,0),0),\"\")","v":0},{"$f":"IF(A10<>\"\",IFERROR(VLOOKUP(O10,Tabelas!B:D,3,0),0),\"\")","v":0},{"$f":"IF(A10<>\"\",IFERROR(VLOOKUP(P10,Tabelas!B:D,3,0),0),\"\")","v":0},{"$f":"IF(A10<>\"\",IFERROR(VLOOKUP(Q10,Tabelas!B:D,3,0),0),\"\")","v":0},{"$f":"IF(A10<>\"\",IFERROR(VLOOKUP(R10,Tabelas!B:D,3,0),0),\"\")","v":0},{"$f":"IF(A10<>\"\",IFERROR(VLOOKUP(S10,Tabelas!B:D,3,0),0),\"\")","v":0},{"$f":"IF(A10<>\"\",IFERROR(VLOOKUP(T10,Tabelas!B:D,3,0),0),\"\")","v":0},{"$f":"IF(A10<>\"\",IFERROR(VLOOKUP(U10,Tabelas!B:D,3,0),0),\"\")","v":0},{"$f":"IF(A10<>\"\",IFERROR(VLOOKUP(V10,Tabelas!B:D,3,0),0),\"\")","v":0},{"$f":"IF(A10<>\"\",IFERROR(VLOOKUP(W10,Tabelas!B:D,3,0),0),\"\")","v":0},{"$f":"IF(A10<>\"\",IFERROR(VLOOKUP(X10,Tabelas!B:D,3,0),0),\"\")","v":0},{"$f":"IF(A10<>\"\",IFERROR(VLOOKUP(Y10,Tabelas!B:D,3,0),0),\"\")","v":0},{"$f":"IF(A10<>\"\",IFERROR(VLOOKUP(Z10,Tabelas!B:D,3,0),0),\"\")","v":0},{"$f":"IF(A10<>\"\",IFERROR(VLOOKUP(AA10,Tabelas!B:D,3,0),0),\"\")","v":0},{"$f":"IF(A10<>\"\",IFERROR(VLOOKUP(AB10,Tabelas!B:D,3,0),0),\"\")","v":0},{"$f":"IF(A10<>\"\",IFERROR(VLOOKUP(AC10,Tabelas!B:D,3,0),0),\"\")","v":0},{"$f":"IF(A10<>\"\",IFERROR(VLOOKUP(AD10,Tabelas!B:D,3,0),0),\"\")","v":0},{"$f":"IF(A10<>\"\",IFERROR(VLOOKUP(AE10,Tabelas!B:D,3,0),0),\"\")","v":0},{"$f":"IF(A10<>\"\",IFERROR(VLOOKUP(AF10,Tabelas!B:D,3,0),0),\"\")","v":0},{"$f":"IF(A10<>\"\",IFERROR(VLOOKUP(AG10,Tabelas!B:D,3,0),0),\"\")","v":0},{"$f":"IF(A10<>\"\",IFERROR(VLOOKUP(AH10,Tabelas!B:D,3,0),0),\"\")","v":0},{"$f":"IF(A10<>\"\",IFERROR(VLOOKUP(AI10,Tabelas!B:D,3,0),0),\"\")","v":0},{"$f":"IF(A10<>\"\",IFERROR(VLOOKUP(AJ10,Tabelas!B:D,3,0),0),\"\")","v":0},{"$f":"IF(A10<>\"\",IFERROR(VLOOKUP(AK10,Tabelas!B:D,3,0),0),\"\")","v":0},{"$f":"IF(A10<>\"\",IFERROR(VLOOKUP(AL10,Tabelas!B:D,3,0),0),\"\")","v":0},{"$f":"IF(A10<>\"\",IFERROR(VLOOKUP(AM10,Tabelas!B:D,3,0),0),\"\")","v":0},{"$f":"IF(A10<>\"\",IFERROR(VLOOKUP(AN10,Tabelas!B:D,3,0),0),\"\")","v":0},{"$f":"IF(A10<>\"\",IFERROR(VLOOKUP(AO10,Tabelas!B:D,3,0),0),\"\")","v":0},{"$f":"IF(A10<>\"\",IFERROR(VLOOKUP(AP10,Tabelas!B:D,3,0),0),\"\")","v":0},{"$f":"IF(A10<>\"\",IFERROR(VLOOKUP(AQ10,Tabelas!B:D,3,0),0),\"\")","v":0},{"$f":"IF(AND(A10<>\"\",E10=\"Ebserh\"),SUM(AR10:BV10)+COUNTIF(M10:AQ10,\"N*\")+COUNTIF(M10:AQ10,\"DN*\"),IF(AND(A10<>\"\",E10<>\"Ebserh\"),SUM(AR10:BV10),\"\"))","v":0},{"$f":"IF(A10<>\"\",COUNTIF(M10:AQ10,\"LM\")+COUNTIF(M10:AQ10,\"L*\")+COUNTIF(M10:AQ10,\"LP\"),\"\")","v":0},{"$f":"IF(A10<>\"\",COUNTIF(M10:AQ10,\"AB*\"),\"\")","v":0},{"$f":"IF(A10<>\"\",COUNTIF(M10:AQ10,\"FE\"),\"\")","v":0},{"$f":"IF(A10<>\"\",COUNTIF(M10:AQ10,\"LC\"),\"\")","v":0},{"$f":"IF(A10<>\"\",COUNTIF(M10:AQ10,\"CH*\"),\"\")","v":0},{"$f":"IF(A10<>\"\",COUNTIF(M10:AQ10,\"AF1\")+COUNTIF(M10:AQ10,\"AF2\")+COUNTIF(M10:AQ10,\"AF3\")+COUNTIF(M10:AQ10,\"AF4\")+COUNTIF(M10:AQ10,\"AF5\")+COUNTIF(M10:AQ10,\"AF6\")+COUNTIF(M10:AQ10,\"AF7\")+COUNTIF(M10:AQ10,\"AF8\")+COUNTIF(M10:AQ10,\"AF9\")+COUNTIF(M10:AQ10,\"AF10\")+COUNTIF(M10:AQ10,\"AF11\")+COUNTIF(M10:AQ10,\"AF12\")+COUNTIF(M10:AQ10,\"AF13\")+COUNTIF(M10:AQ10,\"AF14\"),\"\")","v":0},{"$f":"IF(A10<>\"\",COUNTIF(M10:AQ10,\"CH*\")+COUNTIF(M10:AQ10,\"L*\")+COUNTIF(M10:AQ10,\"LM\")+COUNTIF(M10:AQ10,\"LP\")+COUNTIF(M10:AQ10,\"LC\")+COUNTIF(M10:AQ10,\"AB*\")+COUNTIF(M10:AQ10,\"AF1\")+COUNTIF(M10:AQ10,\"AF2\")+COUNTIF(M10:AQ10,\"AF3\")+COUNTIF(M10:AQ10,\"AF4\")+COUNTIF(M10:AQ10,\"AF5\")+COUNTIF(M10:AQ10,\"AF6\")+COUNTIF(M10:AQ10,\"AF7\")+COUNTIF(M10:AQ10,\"AF8\")+COUNTIF(M10:AQ10,\"AF9\")+COUNTIF(M10:AQ10,\"AF10\")+COUNTIF(M10:AQ10,\"AF11\")+COUNTIF(M10:AQ10,\"AF12\")+COUNTIF(M10:AQ10,\"AF13\")+COUNTIF(M10:AQ10,\"AF14\")+COUNTIF(M10:AQ10,\"RC\")+COUNTIF(M10:AQ10,\"FO\")+COUNTIF(M10:AQ10,\"FE\"),\"\")","v":0}]
["FULANO 3",3,null,null,null,null,null,null,null,null,null,null,null,null,null,null,null,null,null,null,null,null,null,null,null,null,null,null,null,null,null,null,null,null,null,null,null,null,null,null,null,null,null,{"$f":"IF(A11<>\"\",IFERROR(VLOOKUP(M11,Tabelas!B:D,3,0),0),\"\")","v":0},{"$f":"IF(A11<>\"\",IFERROR(VLOOKUP(N11,Tabelas!B:D,3,0),0),\"\")","v":0},{"$f":"IF(A11<>\"\",IFERROR(VLOOKUP(O11,Tabelas!B:D,3,0),0),\"\")","v":0},{"$f":"IF(A11<>\"\",IFERROR(VLOOKUP(P11,Tabelas!B:D,3,0),0),\"\")","v":0},{"$f":"IF(A11<>\"\",IFERROR(VLOOKUP(Q11,Tabelas!B:D,3,0),0),\"\")","v":0},{"$f":"IF(A11<>\"\",IFERROR(VLOOKUP(R11,Tabelas!B:D,3,0),0),\"\")","v":0},{"$f":"IF(A11<>\"\",IFERROR(VLOOKUP(S11,Tabelas!B:D,3,0),0),\"\")","v":0},{"$f":"IF(A11<>\"\",IFERROR(VLOOKUP(T11,Tabelas!B:D,3,0),0),\"\")","v":0},{"$f":"IF(A11<>\"\",IFERROR(VLOOKUP(U11,Tabelas!B:D,3,0),0),\"\")","v":0},{"$f":"IF(A11<>\"\",IFERROR(VLOOKUP(V11,Tabelas!B:D,3,0),0),\"\")","v":0},{"$f":"IF(A11<>\"\",IFERROR(VLOOKUP(W11,Tabelas!B:D,3,0),0),\"\")","v":0},{"$f":"IF(A11<>\"\",IFERROR(VLOOKUP(X11,Tabelas!B:D,3,0),0),\"\")","v":0},{"$f":"IF(A11<>\"\",IFERROR(VLOOKUP(Y11,Tabelas!B:D,3,0),0),\"\")","v":0},{"$f":"IF(A11<>\"\",IFERROR(VLOOKUP(Z11,Tabelas!B:D,3,0),0),\"\")","v":0},{"$f":"IF(A11<>\"\",IFERROR(VLOOKUP(AA11,Tabelas!B:D,3,0),0),\"\")","v":0},{"$f":"IF(A11<>\"\",IFERROR(VLOOKUP(AB11,Tabelas!B:D,3,0),0),\"\")","v":0},{"$f":"IF(A11<>\"\",IFERROR(VLOOKUP(AC11,Tabelas!B:D,3,0),0),\"\")","v":0},{"$f":"IF(A11<>\"\",IFERROR(VLOOKUP(AD11,Tabelas!B:D,3,0),0),\"\")","v":0},{"$f":"IF(A11<>\"\",IFERROR(VLOOKUP(AE11,Tabelas!B:D,3,0),0),\"\")","v":0},{"$f":"IF(A11<>\"\",IFERROR(VLOOKUP(AF11,Tabelas!B:D,3,0),0),\"\")","v":0},{"$f":"IF(A11<>\"\",IFERROR(VLOOKUP(AG11,Tabelas!B:D,3,0),0),\"\")","v":0},{"$f":"IF(A11<>\"\",IFERROR(VLOOKUP(AH11,Tabelas!B:D,3,0),0),\"\")","v":0},{"$f":"IF(A11<>\"\",IFERROR(VLOOKUP(AI11,Tabelas!B:D,3,0),0),\"\")","v":0},{"$f":"IF(A11<>\"\",IFERROR(VLOOKUP(AJ11,Tabelas!B:D,3,0),0),\"\")","v":0},{"$f":"IF(A11<>\"\",IFERROR(VLOOKUP(AK11,Tabelas!B:D,3,0),0),\"\")","v":0},{"$f":"IF(A11<>\"\",IFERROR(VLOOKUP(AL11,Tabelas!B:D,3,0),0),\"\")","v":0},{"$f":"IF(A11<>\"\",IFERROR(VLOOKUP(AM11,Tabelas!B:D,3,0),0),\"\")","v":0},{"$f":"IF(A11<>\"\",IFERROR(VLOOKUP(AN11,Tabelas!B:D,3,0),0),\"\")","v":0},{"$f":"IF(A11<>\"\",IFERROR(VLOOKUP(AO11,Tabelas!B:D,3,0),0),\"\")","v":0},{"$f":"IF(A11<>\"\",IFERROR(VLOOKUP(AP11,Tabelas!B:D,3,0),0),\"\")","v":0},{"$f":"IF(A11<>\"\",IFERROR(VLOOKUP(AQ11,Tabelas!B:D,3,0),0),\"\")","v":0},0,0,0,0,0,0,0,0]
["FULANO 4",4,null,null,null,null,null,null,null,null,null,null,null,null,null,null,null,null,null,null,null,null,null,null,null,null,null,null,null,null,null,null,null,null,null,null,null,null,null,null,null,null,null,{"$f":"IF(A12<>\"\",IFERROR(VLOOKUP(M12,Tabelas!B:D,3,0),0),\"\")","v":0},{"$f":"IF(A12<>\"\",IFERROR(VLOOKUP(N12,Tabelas!B:D,3,0),0),\"\")","v":0},{"$f":"IF(A12<>\"\",IFERROR(VLOOKUP(O12,Tabelas!B:D,3,0),0),\"\")","v":0},{"$f":"IF(A12<>\"\",IFERROR(VLOOKUP(P12,Tabelas!B:D,3,0),0),\"\")","v":0},{"$f":"IF(A12<>\"\",IFERROR(VLOOKUP(Q12,Tabelas!B:D,3,0),0),\"\")","v":0},{"$f":"IF(A12<>\"\",IFERROR(VLOOKUP(R12,Tabelas!B:D,3,0),0),\"\")","v":0},{"$f":"IF(A12<>\"\",IFERROR(VLOOKUP(S12,Tabelas!B:D,3,0),0),\"\")","v":0},{"$f":"IF(A12<>\"\",IFERROR(VLOOKUP(T12,Tabelas!B:D,3,0),0),\"\")","v":0},{"$f":"IF(A12<>\"\",IFERROR(VLOOKUP(U12,Tabelas!B:D,3,0),0),\"\")","v":0},{"$f":"IF(A12<>\"\",IFERROR(VLOOKUP(V12,Tabelas!B:D,3,0),0),\"\")","v":0},{"$f":"IF(A12<>\"\",IFERROR(VLOOKUP(W12,Tabelas!B:D,3,0),0),\"\")","v":0},{"$f":"IF(A12<>\"\",IFERROR(VLOOKUP(X12,Tabelas!B:D,3,0),0),\"\")","v":0},{"$f":"IF(A12<>\"\",IFERROR(VLOOKUP(Y12,Tabelas!B:D,3,0),0),\"\")","v":0},{"$f":"IF(A12<>\"\",IFERROR(VLOOKUP(Z12,Tabelas!B:D,3,0),0),\"\")","v":0},{"$f":"IF(A12<>\"\",IFERROR(VLOOKUP(AA12,Tabelas!B:D,3,0),0),\"\")","v":0},{"$f":"IF(A12<>\"\",IFERROR(VLOOKUP(AB12,Tabelas!B:D,3,0),0),\"\")","v":0},{"$f":"IF(A12<>\"\",IFERROR(VLOOKUP(AC12,Tabelas!B:D,3,0),0),\"\")","v":0},{"$f":"IF(A12<>\"\",IFERROR(VLOOKUP(AD12,Tabelas!B:D,3,0),0),\"\")","v":0},{"$f":"IF(A12<>\"\",IFERROR(VLOOKUP(AE12,Tabelas!B:D,3,0),0),\"\")","v":0},{"$f":"IF(A12<>\"\",IFERROR(VLOOKUP(AF12,Tabelas!B:D,3,0),0),\"\")","v":0},{"$f":"IF(A12<>\"\",IFERROR(VLOOKUP(AG12,Tabelas!B:D,3,0),0),\"\")","v":0},{"$f":"IF(A12<>\"\",IFERROR(VLOOKUP(AH12,Tabelas!B:D,3,0),0),\"\")","v":0},{"$f":"IF(A12<>\"\",IFERROR(VLOOKUP(AI12,Tabelas!B:D,3,0),0),\"\")","v":0},{"$f":"IF(A12<>\"\",IFERROR(VLOOKUP(AJ12,Tabelas!B:D,3,0),0),\"\")","v":0},{"$f":"IF(A12<>\"\",IFERROR(VLOOKUP(AK12,Tabelas!B:D,3,0),0),\"\")","v":0},{"$f":"IF(A12<>\"\",IFERROR(VLOOKUP(AL12,Tabelas!B:D,3,0),0),\"\")","v":0},{"$f":"IF(A12<>\"\",IFERROR(VLOOKUP(AM12,Tabelas!B:D,3,0),0),\"\")","v":0},{"$f":"IF(A12<>\"\",IFERROR(VLOOKUP(AN12,Tabelas!B:D,3,0),0),\"\")","v":0},{"$f":"IF(A12<>\"\",IFERROR(VLOOKUP(AO12,Tabelas!B:D,3,0),0),\"\")","v":0},{"$f":"IF(A12<>\"\",IFERROR(VLOOKUP(AP12,Tabelas!B:D,3,0),0),\"\")","v":0},{"$f":"IF(A12<>\"\",IFERROR(VLOOKUP(AQ12,Tabelas!B:D,3,0),0),\"\")","v":0},0,0,0,0,0,0,0,0]
["FULANO 5",5,null,null,null,null,null,null,null,null,null,null,null,null,null,null,null,null,null,null,null,null,null,null,null,null,null,null,null,null,null,null,null,null,null,null,null,null,null,null,null,null,null,{"$f":"IF(A13<>\"\",IFERROR(VLOOKUP(M13,Tabelas!B:D,3,0),0),\"\")","v":0},{"$f":"IF(A13<>\"\",IFERROR(VLOOKUP(N13,Tabelas!B:D,3,0),0),\"\")","v":0},{"$f":"IF(A13<>\"\",IFERROR(VLOOKUP(O13,Tabelas!B:D,3,0),0),\"\")","v":0},{"$f":"IF(A13<>\"\",IFERROR(VLOOKUP(P13,Tabelas!B:D,3,0),0),\"\")","v":0},{"$f":"IF(A13<>\"\",IFERROR(VLOOKUP(Q13,Tabelas!B:D,3,0),0),\"\")","v":0},{"$f":"IF(A13<>\"\",IFERROR(VLOOKUP(R13,Tabelas!B:D,3,0),0),\"\")","v":0},{"$f":"IF(A13<>\"\",IFERROR(VLOOKUP(S13,Tabelas!B:D,3,0),0),\"\")","v":0},{"$f":"IF(A13<>\"\",IFERROR(VLOOKUP(T13,Tabelas!B:D,3,0),0),\"\")","v":0},{"$f":"IF(A13<>\"\",IFERROR(VLOOKUP(U13,Tabelas!B:D,3,0),0),\"\")","v":0},{"$f":"IF(A13<>\"\",IFERROR(VLOOKUP(V13,Tabelas!B:D,3,0),0),\"\")","v":0},{"$f":"IF(A13<>\"\",IFERROR(VLOOKUP(W13,Tabelas!B:D,3,0),0),\"\")","v":0},{"$f":"IF(A13<>\"\",IFERROR(VLOOKUP(X13,Tabelas!B:D,3,0),0),\"\")","v":0},{"$f":"IF(A13<>\"\",IFERROR(VLOOKUP(Y13,Tabelas!B:D,3,0),0),\"\")","v":0},{"$f":"IF(A13<>\"\",IFERROR(VLOOKUP(Z13,Tabelas!B:D,3,0),0),\"\")","v":0},{"$f":"IF(A13<>\"\",IFERROR(VLOOKUP(AA13,Tabelas!B:D,3,0),0),\"\")","v":0},{"$f":"IF(A13<>\"\",IFERROR(VLOOKUP(AB13,Tabelas!B:D,3,0),0),\"\")","v":0},{"$f":"IF(A13<>\"\",IFERROR(VLOOKUP(AC13,Tabelas!B:D,3,0),0),\"\")","v":0},{"$f":"IF(A13<>\"\",IFERROR(VLOOKUP(AD13,Tabelas!B:D,3,0),0),\"\")","v":0},{"$f":"IF(A13<>\"\",IFERROR(VLOOKUP(AE13,Tabelas!B:D,3,0),0),\"\")","v":0},{"$f":"IF(A13<>\"\",IFERROR(VLOOKUP(AF13,Tabelas!B:D,3,0),0),\"\")","v":0},{"$f":"IF(A13<>\"\",IFERROR(VLOOKUP(AG13,Tabelas!B:D,3,0),0),\"\")","v":0},{"$f":"IF(A13<>\"\",IFERROR(VLOOKUP(AH13,Tabelas!B:D,3,0),0),\"\")","v":0},{"$f":"IF(A13<>\"\",IFERROR(VLOOKUP(AI13,Tabelas!B:D,3,0),0),\"\")","v":0},{"$f":"IF(A13<>\"\",IFERROR(VLOOKUP(AJ13,Tabelas!B:D,3,0),0),\"\")","v":0},{"$f":"IF(A13<>\"\",IFERROR(VLOOKUP(AK13,Tabelas!B:D,3,0),0),\"\")","v":0},{"$f":"IF(A13<>\"\",IFERROR(VLOOKUP(AL13,Tabelas!B:D,3,0),0),\"\")","v":0},{"$f":"IF(A13<>\"\",IFERROR(VLOOKUP(AM13,Tabelas!B:D,3,0),0),\"\")","v":0},{"$f":"IF(A13<>\"\",IFERROR(VLOOKUP(AN13,Tabelas!B:D,3,0),0),\"\")","v":0},{"$f":"IF(A13<>\"\",IFERROR(VLOOKUP(AO13,Tabelas!B:D,3,0),0),\"\")","v":0},{"$f":"IF(A13<>\"\",IFERROR(VLOOKUP(AP13,Tabelas!B:D,3,0),0),\"\")","v":0},{"$f":"IF(A13<>\"\",IFERROR(VLOOKUP(AQ13,Tabelas!B:D,3,0),0),\"\")","v":0},0,0,0,0,0,0,0,0]
["FULANO 6",6,null,null,null,null,null,null,null,null,null,null,null,null,null,null,null,null,null,null,null,null,null,null,null,null,null,null,null,null,null,null,null,null,null,null,null,null,null,null,null,null,null,{"$f":"IF(A14<>\"\",IFERROR(VLOOKUP(M14,Tabelas!B:D,3,0),0),\"\")","v":0},{"$f":"IF(A14<>\"\",IFERROR(VLOOKUP(N14,Tabelas!B:D,3,0),0),\"\")","v":0},{"$f":"IF(A14<>\"\",IFERROR(VLOOKUP(O14,Tabelas!B:D,3,0),0),\"\")","v":0},{"$f":"IF(A14<>\"\",IFERROR(VLOOKUP(P14,Tabelas!B:D,3,0),0),\"\")","v":0},{"$f":"IF(A14<>\"\",IFERROR(VLOOKUP(Q14,Tabelas!B:D,3,0),0),\"\")","v":0},{"$f":"IF(A14<>\"\",IFERROR(VLOOKUP(R14,Tabelas!B:D,3,0),0),\"\")","v":0},{"$f":"IF(A14<>\"\",IFERROR(VLOOKUP(S14,Tabelas!B:D,3,0),0),\"\")","v":0},{"$f":"IF(A14<>\"\",IFERROR(VLOOKUP(T14,Tabelas!B:D,3,0),0),\"\")","v":0},{"$f":"IF(A14<>\"\",IFERROR(VLOOKUP(U14,Tabelas!B:D,3,0),0),\"\")","v":0},{"$f":"IF(A14<>\"\",IFERROR(VLOOKUP(V14,Tabelas!B:D,3,0),0),\"\")","v":0},{"$f":"IF(A14<>\"\",IFERROR(VLOOKUP(W14,Tabelas!B:D,3,0),0),\"\")","v":0},{"$f":"IF(A14<>\"\",IFERROR(VLOOKUP(X14,Tabelas!B:D,3,0),0),\"\")","v":0},{"$f":"IF(A14<>\"\",IFERROR(VLOOKUP(Y14,Tabelas!B:D,3,0),0),\"\")","v":0},{"$f":"IF(A14<>\"\",IFERROR(VLOOKUP(Z14,Tabelas!B:D,3,0),0),\"\")","v":0},{"$f":"IF(A14<>\"\",IFERROR(VLOOKUP(AA14,Tabelas!B:D,3,0),0),\"\")","v":0},{"$f":"IF(A14<>\"\",IFERROR(VLOOKUP(AB14,Tabelas!B:D,3,0),0),\"\")","v":0},{"$f":"IF(A14<>\"\",IFERROR(VLOOKUP(AC14,Tabelas!B:D,3,0),0),\"\")","v":0},{"$f":"IF(A14<>\"\",IFERROR(VLOOKUP(AD14,Tabelas!B:D,3,0),0),\"\")","v":0},{"$f":"IF(A14<>\"\",IFERROR(VLOOKUP(AE14,Tabelas!B:D,3,0),0),\"\")","v":0},{"$f":"IF(A14<>\"\",IFERROR(VLOOKUP(AF14,Tabelas!B:D,3,0),0),\"\")","v":0},{"$f":"IF(A14<>\"\",IFERROR(VLOOKUP(AG14,Tabelas!B:D,3,0),0),\"\")","v":0},{"$f":"IF(A14<>\"\",IFERROR(VLOOKUP(AH14,Tabelas!B:D,3,0),0),\"\")","v":0},{"$f":"IF(A14<>\"\",IFERROR(VLOOKUP(AI14,Tabelas!B:D,3,0),0),\"\")","v":0},{"$f":"IF(A14<>\"\",IFERROR(VLOOKUP(AJ14,Tabelas!B:D,3,0),0),\"\")","v":0},{"$f":"IF(A14<>\"\",IFERROR(VLOOKUP(AK14,Tabelas!B:D,3,0),0),\"\")","v":0},{"$f":"IF(A14<>\"\",IFERROR(VLOOKUP(AL14,Tabelas!B:D,3,0),0),\"\")","v":0},{"$f":"IF(A14<>\"\",IFERROR(VLOOKUP(AM14,Tabelas!B:D,3,0),0),\"\")","v":0},{"$f":"IF(A14<>\"\",IFERROR(VLOOKUP(AN14,Tabelas!B:D,3,0),0),\"\")","v":0},{"$f":"IF(A14<>\"\",IFERROR(VLOOKUP(AO14,Tabelas!B:D,3,0),0),\"\")","v":0},{"$f":"IF(A14<>\"\",IFERROR(VLOOKUP(AP14,Tabelas!B:D,3,0),0),\"\")","v":0},{"$f":"IF(A14<>\"\",IFERROR(VLOOKUP(AQ14,Tabelas!B:D,3,0),0),\"\")","v":0},0,0,0,0,0,0,0,0]
["FULANO 7",7,null,null,null,null,null,null,null,null,null,null,null,null,null,null,null,null,null,null,null,null,null,null,null,null,null,null,null,null,null,null,null,null,null,null,null,null,null,null,null,null,null,{"$f":"IF(A15<>\"\",IFERROR(VLOOKUP(M15,Tabelas!B:D,3,0),0),\"\")","v":0},{"$f":"IF(A15<>\"\",IFERROR(VLOOKUP(N15,Tabelas!B:D,3,0),0),\"\")","v":0},{"$f":"IF(A15<>\"\",IFERROR(VLOOKUP(O15,Tabelas!B:D,3,0),0),\"\")","v":0},{"$f":"IF(A15<>\"\",IFERROR(VLOOKUP(P15,Tabelas!B:D,3,0),0),\"\")","v":0},{"$f":"IF(A15<>\"\",IFERROR(VLOOKUP(Q15,Tabelas!B:D,3,0),0),\"\")","v":0},{"$f":"IF(A15<>\"\",IFERROR(VLOOKUP(R15,Tabelas!B:D,3,0),0),\"\")","v":0},{"$f":"IF(A15<>\"\",IFERROR(VLOOKUP(S15,Tabelas!B:D,3,0),0),\"\")","v":0},{"$f":"IF(A15<>\"\",IFERROR(VLOOKUP(T15,Tabelas!B:D,3,0),0),\"\")","v":0},{"$f":"IF(A15<>\"\",IFERROR(VLOOKUP(U15,Tabelas!B:D,3,0),0),\"\")","v":0},{"$f":"IF(A15<>\"\",IFERROR(VLOOKUP(V15,Tabelas!B:D,3,0),0),\"\")","v":0},{"$f":"IF(A15<>\"\",IFERROR(VLOOKUP(W15,Tabelas!B:D,3,0),0),\"\")","v":0},{"$f":"IF(A15<>\"\",IFERROR(VLOOKUP(X15,Tabelas!B:D,3,0),0),\"\")","v":0},{"$f":"IF(A15<>\"\",IFERROR(VLOOKUP(Y15,Tabelas!B:D,3,0),0),\"\")","v":0},{"$f":"IF(A15<>\"\",IFERROR(VLOOKUP(Z15,Tabelas!B:D,3,0),0),\"\")","v":0},{"$f":"IF(A15<>\"\",IFERROR(VLOOKUP(AA15,Tabelas!B:D,3,0),0),\"\")","v":0},{"$f":"IF(A15<>\"\",IFERROR(VLOOKUP(AB15,Tabelas!B:D,3,0),0),\"\")","v":0},{"$f":"IF(A15<>\"\",IFERROR(VLOOKUP(AC15,Tabelas!B:D,3,0),0),\"\")","v":0},{"$f":"IF(A15<>\"\",IFERROR(VLOOKUP(AD15,Tabelas!B:D,3,0),0),\"\")","v":0},{"$f":"IF(A15<>\"\",IFERROR(VLOOKUP(AE15,Tabelas!B:D,3,0),0),\"\")","v":0},{"$f":"IF(A15<>\"\",IFERROR(VLOOKUP(AF15,Tabelas!B:D,3,0),0),\"\")","v":0},{"$f":"IF(A15<>\"\",IFERROR(VLOOKUP(AG15,Tabelas!B:D,3,0),0),\"\")","v":0},{"$f":"IF(A15<>\"\",IFERROR(VLOOKUP(AH15,Tabelas!B:D,3,0),0),\"\")","v":0},{"$f":"IF(A15<>\"\",IFERROR(VLOOKUP(AI15,Tabelas!B:D,3,0),0),\"\")","v":0},{"$f":"IF(A15<>\"\",IFERROR(VLOOKUP(AJ15,Tabelas!B:D,3,0),0),\"\")","v":0},{"$f":"IF(A15<>\"\",IFERROR(VLOOKUP(AK15,Tabelas!B:D,3,0),0),\"\")","v":0},{"$f":"IF(A15<>\"\",IFERROR(VLOOKUP(AL15,Tabelas!B:D,3,0),0),\"\")","v":0},{"$f":"IF(A15<>\"\",IFERROR(VLOOKUP(AM15,Tabelas!B:D,3,0),0),\"\")","v":0},{"$f":"IF(A15<>\"\",IFERROR(VLOOKUP(AN15,Tabelas!B:D,3,0),0),\"\")","v":0},{"$f":"IF(A15<>\"\",IFERROR(VLOOKUP(AO15,Tabelas!B:D,3,0),0),\"\")","v":0},{"$f":"IF(A15<>\"\",IFERROR(VLOOKUP(AP15,Tabelas!B:D,3,0),0),\"\")","v":0},{"$f":"IF(A15<>\"\",IFERROR(VLOOKUP(AQ15,Tabelas!B:D,3,0),0),\"\")","v":0},0,0,0,0,0,0,0,0]
["FULANO 8",8,null,null,null,null,null,null,null,null,null,null,null,null,null,null,null,null,null,null,null,null,null,null,null,null,null,null,null,null,null,null,null,null,null,null,null,null,null,null,null,null,null,{"$f":"IF(A16<>\"\",IFERROR(VLOOKUP(M16,Tabelas!B:D,3,0),0),\"\")","v":0},{"$f":"IF(A16<>\"\",IFERROR(VLOOKUP(N16,Tabelas!B:D,3,0),0),\"\")","v":0},{"$f":"IF(A16<>\"\",IFERROR(VLOOKUP(O16,Tabelas!B:D,3,0),0),\"\")","v":0},{"$f":"IF(A16<>\"\",IFERROR(VLOOKUP(P16,Tabelas!B:D,3,0),0),\"\")","v":0},{"$f":"IF(A16<>\"\",IFERROR(VLOOKUP(Q16,Tabelas!B:D,3,0),0),\"\")","v":0},{"$f":"IF(A16<>\"\",IFERROR(VLOOKUP(R16,Tabelas!B:D,3,0),0),\"\")","v":0},{"$f":"IF(A16<>\"\",IFERROR(VLOOKUP(S16,Tabelas!B:D,3,0),0),\"\")","v":0},{"$f":"IF(A16<>\"\",IFERROR(VLOOKUP(T16,Tabelas!B:D,3,0),0),\"\")","v":0},{"$f":"IF(A16<>\"\",IFERROR(VLOOKUP(U16,Tabelas!B:D,3,0),0),\"\")","v":0},{"$f":"IF(A16<>\"\",IFERROR(VLOOKUP(V16,Tabelas!B:D,3,0),0),\"\")","v":0},{"$f":"IF(A16<>\"\",IFERROR(VLOOKUP(W16,Tabelas!B:D,3,0),0),\"\")","v":0},{"$f":"IF(A16<>\"\",IFERROR(VLOOKUP(X16,Tabelas!B:D,3,0),0),\"\")","v":0},{"$f":"IF(A16<>\"\",IFERROR(VLOOKUP(Y16,Tabelas!B:D,3,0),0),\"\")","v":0},{"$f":"IF(A16<>\"\",IFERROR(VLOOKUP(Z16,Tabelas!B:D,3,0),0),\"\")","v":0},{"$f":"IF(A16<>\"\",IFERROR(VLOOKUP(AA16,Tabelas!B:D,3,0),0),\"\")","v":0},{"$f":"IF(A16<>\"\",IFERROR(VLOOKUP(AB16,Tabelas!B:D,3,0),0),\"\")","v":0},{"$f":"IF(A16<>\"\",IFERROR(VLOOKUP(AC16,Tabelas!B:D,3,0),0),\"\")","v":0},{"$f":"IF(A16<>\"\",IFERROR(VLOOKUP(AD16,Tabelas!B:D,3,0),0),\"\")","v":0},{"$f":"IF(A16<>\"\",IFERROR(VLOOKUP(AE16,Tabelas!B:D,3,0),0),\"\")","v":0},{"$f":"IF(A16<>\"\",IFERROR(VLOOKUP(AF16,Tabelas!B:D,3,0),0),\"\")","v":0},{"$f":"IF(A16<>\"\",IFERROR(VLOOKUP(AG16,Tabelas!B:D,3,0),0),\"\")","v":0},{"$f":"IF(A16<>\"\",IFERROR(VLOOKUP(AH16,Tabelas!B:D,3,0),0),\"\")","v":0},{"$f":"IF(A16<>\"\",IFERROR(VLOOKUP(AI16,Tabelas!B:D,3,0),0),\"\")","v":0},{"$f":"IF(A16<>\"\",IFERROR(VLOOKUP(AJ16,Tabelas!B:D,3,0),0),\"\")","v":0},{"$f":"IF(A16<>\"\",IFERROR(VLOOKUP(AK16,Tabelas!B:D,3,0),0),\"\")","v":0},{"$f":"IF(A16<>\"\",IFERROR(VLOOKUP(AL16,Tabelas!B:D,3,0),0),\"\")","v":0},{"$f":"IF(A16<>\"\",IFERROR(VLOOKUP(AM16,Tabelas!B:D,3,0),0),\"\")","v":0},{"$f":"IF(A16<>\"\",IFERROR(VLOOKUP(AN16,Tabelas!B:D,3,0),0),\"\")","v":0},{"$f":"IF(A16<>\"\",IFERROR(VLOOKUP(AO16,Tabelas!B:D,3,0),0),\"\")","v":0},{"$f":"IF(A16<>\"\",IFERROR(VLOOKUP(AP16,Tabelas!B:D,3,0),0),\"\")","v":0},{"$f":"IF(A16<>\"\",IFERROR(VLOOKUP(AQ16,Tabelas!B:D,3,0),0),\"\")","v":0},0,0,0,0,0,0,0,0]
["FULANO 9",9,null,null,null,null,null,null,null,null,null,null,null,null,null,null,null,null,null,null,null,null,null,null,null,null,null,null,null,null,null,null,null,null,null,null,null,null,null,null,null,null,null,{"$f":"IF(A17<>\"\",IFERROR(VLOOKUP(M17,Tabelas!B:D,3,0),0),\"\")","v":0},{"$f":"IF(A17<>\"\",IFERROR(VLOOKUP(N17,Tabelas!B:D,3,0),0),\"\")","v":0},{"$f":"IF(A17<>\"\",IFERROR(VLOOKUP(O17,Tabelas!B:D,3,0),0),\"\")","v":0},{"$f":"IF(A17<>\"\",IFERROR(VLOOKUP(P17,Tabelas!B:D,3,0),0),\"\")","v":0},{"$f":"IF(A17<>\"\",IFERROR(VLOOKUP(Q17,Tabelas!B:D,3,0),0),\"\")","v":0},{"$f":"IF(A17<>\"\",IFERROR(VLOOKUP(R17,Tabelas!B:D,3,0),0),\"\")","v":0},{"$f":"IF(A17<>\"\",IFERROR(VLOOKUP(S17,Tabelas!B:D,3,0),0),\"\")","v":0},{"$f":"IF(A17<>\"\",IFERROR(VLOOKUP(T17,Tabelas!B:D,3,0),0),\"\")","v":0},{"$f":"IF(A17<>\"\",IFERROR(VLOOKUP(U17,Tabelas!B:D,3,0),0),\"\")","v":0},{"$f":"IF(A17<>\"\",IFERROR(VLOOKUP(V17,Tabelas!B:D,3,0),0),\"\")","v":0},{"$f":"IF(A17<>\"\",IFERROR(VLOOKUP(W17,Tabelas!B:D,3,0),0),\"\")","v":0},{"$f":"IF(A17<>\"\",IFERROR(VLOOKUP(X17,Tabelas!B:D,3,0),0),\"\")","v":0},{"$f":"IF(A17<>\"\",IFERROR(VLOOKUP(Y17,Tabelas!B:D,3,0),0),\"\")","v":0},{"$f":"IF(A17<>\"\",IFERROR(VLOOKUP(Z17,Tabelas!B:D,3,0),0),\"\")","v":0},{"$f":"IF(A17<>\"\",IFERROR(VLOOKUP(AA17,Tabelas!B:D,3,0),0),\"\")","v":0},{"$f":"IF(A17<>\"\",IFERROR(VLOOKUP(AB17,Tabelas!B:D,3,0),0),\"\")","v":0},{"$f":"IF(A17<>\"\",IFERROR(VLOOKUP(AC17,Tabelas!B:D,3,0),0),\"\")","v":0},{"$f":"IF(A17<>\"\",IFERROR(VLOOKUP(AD17,Tabelas!B:D,3,0),0),\"\")","v":0},{"$f":"IF(A17<>\"\",IFERROR(VLOOKUP(AE17,Tabelas!B:D,3,0),0),\"\")","v":0},{"$f":"IF(A17<>\"\",IFERROR(VLOOKUP(AF17,Tabelas!B:D,3,0),0),\"\")","v":0},{"$f":"IF(A17<>\"\",IFERROR(VLOOKUP(AG17,Tabelas!B:D,3,0),0),\"\")","v":0},{"$f":"IF(A17<>\"\",IFERROR(VLOOKUP(AH17,Tabelas!B:D,3,0),0),\"\")","v":0},{"$f":"IF(A17<>\"\",IFERROR(VLOOKUP(AI17,Tabelas!B:D,3,0),0),\"\")","v":0},{"$f":"IF(A17<>\"\",IFERROR(VLOOKUP(AJ17,Tabelas!B:D,3,0),0),\"\")","v":0},{"$f":"IF(A17<>\"\",IFERROR(VLOOKUP(AK17,Tabelas!B:D,3,0),0),\"\")","v":0},{"$f":"IF(A17<>\"\",IFERROR(VLOOKUP(AL17,Tabelas!B:D,3,0),0),\"\")","v":0},{"$f":"IF(A17<>\"\",IFERROR(VLOOKUP(AM17,Tabelas!B:D,3,0),0),\"\")","v":0},{"$f":"IF(A17<>\"\",IFERROR(VLOOKUP(AN17,Tabelas!B:D,3,0),0),\"\")","v":0},{"$f":"IF(A17<>\"\",IFERROR(VLOOKUP(AO17,Tabelas!B:D,3,0),0),\"\")","v":0},{"$f":"IF(A17<>\"\",IFERROR(VLOOKUP(AP17,Tabelas!B:D,3,0),0),\"\")","v":0},{"$f":"IF(A17<>\"\",IFERROR(VLOOKUP(AQ17,Tabelas!B:D,3,0),0),\"\")","v":0},0,0,0,0,0,0,0,0]
["FULANO 10",10,null,null,null,null,null,null,null,null,null,null,null,null,null,null,null,null,null,null,null,null,null,null,null,null,null,null,null,null,null,null,null,null,null,null,null,null,null,null,null,null,null,{"$f":"IF(A18<>\"\",IFERROR(VLOOKUP(M18,Tabelas!B:D,3,0),0),\"\")","v":0},{"$f":"IF(A18<>\"\",IFERROR(VLOOKUP(N18,Tabelas!B:D,3,0),0),\"\")","v":0},{"$f":"IF(A18<>\"\",IFERROR(VLOOKUP(O18,Tabelas!B:D,3,0),0),\"\")","v":0},{"$f":"IF(A18<>\"\",IFERROR(VLOOKUP(P18,Tabelas!B:D,3,0),0),\"\")","v":0},{"$f":"IF(A18<>\"\",IFERROR(VLOOKUP(Q18,Tabelas!B:D,3,0),0),\"\")","v":0},{"$f":"IF(A18<>\"\",IFERROR(VLOOKUP(R18,Tabelas!B:D,3,0),0),\"\")","v":0},{"$f":"IF(A18<>\"\",IFERROR(VLOOKUP(S18,Tabelas!B:D,3,0),0),\"\")","v":0},{"$f":"IF(A18<>\"\",IFERROR(VLOOKUP(T18,Tabelas!B:D,3,0),0),\"\")","v":0},{"$f":"IF(A18<>\"\",IFERROR(VLOOKUP(U18,Tabelas!B:D,3,0),0),\"\")","v":0},{"$f":"IF(A18<>\"\",IFERROR(VLOOKUP(V18,Tabelas!B:D,3,0),0),\"\")","v":0},{"$f":"IF(A18<>\"\",IFERROR(VLOOKUP(W18,Tabelas!B:D,3,0),0),\"\")","v":0},{"$f":"IF(A18<>\"\",IFERROR(VLOOKUP(X18,Tabelas!B:D,3,0),0),\"\")","v":0},{"$f":"IF(A18<>\"\",IFERROR(VLOOKUP(Y18,Tabelas!B:D,3,0),0),\"\")","v":0},{"$f":"IF(A18<>\"\",IFERROR(VLOOKUP(Z18,Tabelas!B:D,3,0),0),\"\")","v":0},{"$f":"IF(A18<>\"\",IFERROR(VLOOKUP(AA18,Tabelas!B:D,3,0),0),\"\")","v":0},{"$f":"IF(A18<>\"\",IFERROR(VLOOKUP(AB18,Tabelas!B:D,3,0),0),\"\")","v":0},{"$f":"IF(A18<>\"\",IFERROR(VLOOKUP(AC18,Tabelas!B:D,3,0),0),\"\")","v":0},{"$f":"IF(A18<>\"\",IFERROR(VLOOKUP(AD18,Tabelas!B:D,3,0),0),\"\")","v":0},{"$f":"IF(A18<>\"\",IFERROR(VLOOKUP(AE18,Tabelas!B:D,3,0),0),\"\")","v":0},{"$f":"IF(A18<>\"\",IFERROR(VLOOKUP(AF18,Tabelas!B:D,3,0),0),\"\")","v":0},{"$f":"IF(A18<>\"\",IFERROR(VLOOKUP(AG18,Tabelas!B:D,3,0),0),\"\")","v":0},{"$f":"IF(A18<>\"\",IFERROR(VLOOKUP(AH18,Tabelas!B:D,3,0),0),\"\")","v":0},{"$f":"IF(A18<>\"\",IFERROR(VLOOKUP(AI18,Tabelas!B:D,3,0),0),\"\")","v":0},{"$f":"IF(A18<>\"\",IFERROR(VLOOKUP(AJ18,Tabelas!B:D,3,0),0),\"\")","v":0},{"$f":"IF(A18<>\"\",IFERROR(VLOOKUP(AK18,Tabelas!B:D,3,0),0),\"\")","v":0},{"$f":"IF(A18<>\"\",IFERROR(VLOOKUP(AL18,Tabelas!B:D,3,0),0),\"\")","v":0},{"$f":"IF(A18<>\"\",IFERROR(VLOOKUP(AM18,Tabelas!B:D,3,0),0),\"\")","v":0},{"$f":"IF(A18<>\"\",IFERROR(VLOOKUP(AN18,Tabelas!B:D,3,0),0),\"\")","v":0},{"$f":"IF(A18<>\"\",IFERROR(VLOOKUP(AO18,Tabelas!B:D,3,0),0),\"\")","v":0},{"$f":"IF(A18<>\"\",IFERROR(VLOOKUP(AP18,Tabelas!B:D,3,0),0),\"\")","v":0},{"$f":"IF(A18<>\"\",IFERROR(VLOOKUP(AQ18,Tabelas!B:D,3,0),0),\"\")","v":0},0,0,0,0,0,0,0,0]
["FULANO 11",11,null,null,null,null,null,null,null,null,null,null,null,null,null,null,null,null,null,null,null,null,null,null,null,null,null,null,null,null,null,null,null,null,null,null,null,null,null,null,null,null,null,{"$f":"IF(A19<>\"\",IFERROR(VLOOKUP(M19,Tabelas!B:D,3,0),0),\"\")","v":0},{"$f":"IF(A19<>\"\",IFERROR(VLOOKUP(N19,Tabelas!B:D,3,0),0),\"\")","v":0},{"$f":"IF(A19<>\"\",IFERROR(VLOOKUP(O19,Tabelas!B:D,3,0),0),\"\")","v":0},{"$f":"IF(A19<>\"\",IFERROR(VLOOKUP(P19,Tabelas!B:D,3,0),0),\"\")","v":0},{"$f":"IF(A19<>\"\",IFERROR(VLOOKUP(Q19,Tabelas!B:D,3,0),0),\"\")","v":0},{"$f":"IF(A19<>\"\",IFERROR(VLOOKUP(R19,Tabelas!B:D,3,0),0),\"\")","v":0},{"$f":"IF(A19<>\"\",IFERROR(VLOOKUP(S19,Tabelas!B:D,3,0),0),\"\")","v":0},{"$f":"IF(A19<>\"\",IFERROR(VLOOKUP(T19,Tabelas!B:D,3,0),0),\"\")","v":0},{"$f":"IF(A19<>\"\",IFERROR(VLOOKUP(U19,Tabelas!B:D,3,0),0),\"\")","v":0},{"$f":"IF(A19<>\"\",IFERROR(VLOOKUP(V19,Tabelas!B:D,3,0),0),\"\")","v":0},{"$f":"IF(A19<>\"\",IFERROR(VLOOKUP(W19,Tabelas!B:D,3,0),0),\"\")","v":0},{"$f":"IF(A19<>\"\",IFERROR(VLOOKUP(X19,Tabelas!B:D,3,0),0),\"\")","v":0},{"$f":"IF(A19<>\"\",IFERROR(VLOOKUP(Y19,Tabelas!B:D,3,0),0),\"\")","v":0},{"$f":"IF(A19<>\"\",IFERROR(VLOOKUP(Z19,Tabelas!B:D,3,0),0),\"\")","v":0},{"$f":"IF(A19<>\"\",IFERROR(VLOOKUP(AA19,Tabelas!B:D,3,0),0),\"\")","v":0},{"$f":"IF(A19<>\"\",IFERROR(VLOOKUP(AB19,Tabelas!B:D,3,0),0),\"\")","v":0},{"$f":"IF(A19<>\"\",IFERROR(VLOOKUP(AC19,Tabelas!B:D,3,0),0),\"\")","v":0},{"$f":"IF(A19<>\"\",IFERROR(VLOOKUP(AD19,Tabelas!B:D,3,0),0),\"\")","v":0},{"$f":"IF(A19<>\"\",IFERROR(VLOOKUP(AE19,Tabelas!B:D,3,0),0),\"\")","v":0},{"$f":"IF(A19<>\"\",IFERROR(VLOOKUP(AF19,Tabelas!B:D,3,0),0),\"\")","v":0},{"$f":"IF(A19<>\"\",IFERROR(VLOOKUP(AG19,Tabelas!B:D,3,0),0),\"\")","v":0},{"$f":"IF(A19<>\"\",IFERROR(VLOOKUP(AH19,Tabelas!B:D,3,0),0),\"\")","v":0},{"$f":"IF(A19<>\"\",IFERROR(VLOOKUP(AI19,Tabelas!B:D,3,0),0),\"\")","v":0},{"$f":"IF(A19<>\"\",IFERROR(VLOOKUP(AJ19,Tabelas!B:D,3,0),0),\"\")","v":0},{"$f":"IF(A19<>\"\",IFERROR(VLOOKUP(AK19,Tabelas!B:D,3,0),0),\"\")","v":0},{"$f":"IF(A19<>\"\",IFERROR(VLOOKUP(AL19,Tabelas!B:D,3,0),0),\"\")","v":0},{"$f":"IF(A19<>\"\",IFERROR(VLOOKUP(AM19,Tabelas!B:D,3,0),0),\"\")","v":0},{"$f":"IF(A19<>\"\",IFERROR(VLOOKUP(AN19,Tabelas!B:D,3,0),0),\"\")","v":0},{"$f":"IF(A19<>\"\",IFERROR(VLOOKUP(AO19,Tabelas!B:D,3,0),0),\"\")","v":0},{"$f":"IF(A19<>\"\",IFERROR(VLOOKUP(AP19,Tabelas!B:D,3,0),0),\"\")","v":0},{"$f":"IF(A19<>\"\",IFERROR(VLOOKUP(AQ19,Tabelas!B:D,3,0),0),\"\")","v":0},0,0,0,0,0,0,0,0]
["FULANO 12",12,null,null,null,null,null,null,null,null,null,null,null,null,null,null,null,null,null,null,null,null,null,null,null,null,null,null,null,null,null,null,null,null,null,null,null,null,null,null,null,null,null,{"$f":"IF(A20<>\"\",IFERROR(VLOOKUP(M20,Tabelas!B:D,3,0),0),\"\")","v":0},{"$f":"IF(A20<>\"\",IFERROR(VLOOKUP(N20,Tabelas!B:D,3,0),0),\"\")","v":0},{"$f":"IF(A20<>\"\",IFERROR(VLOOKUP(O20,Tabelas!B:D,3,0),0),\"\")","v":0},{"$f":"IF(A20<>\"\",IFERROR(VLOOKUP(P20,Tabelas!B:D,3,0),0),\"\")","v":0},{"$f":"IF(A20<>\"\",IFERROR(VLOOKUP(Q20,Tabelas!B:D,3,0),0),\"\")","v":0},{"$f":"IF(A20<>\"\",IFERROR(VLOOKUP(R20,Tabelas!B:D,3,0),0),\"\")","v":0},{"$f":"IF(A20<>\"\",IFERROR(VLOOKUP(S20,Tabelas!B:D,3,0),0),\"\")","v":0},{"$f":"IF(A20<>\"\",IFERROR(VLOOKUP(T20,Tabelas!B:D,3,0),0),\"\")","v":0},{"$f":"IF(A20<>\"\",IFERROR(VLOOKUP(U20,Tabelas!B:D,3,0),0),\"\")","v":0},{"$f":"IF(A20<>\"\",IFERROR(VLOOKUP(V20,Tabelas!B:D,3,0),0),\"\")","v":0},{"$f":"IF(A20<>\"\",IFERROR(VLOOKUP(W20,Tabelas!B:D,3,0),0),\"\")","v":0},{"$f":"IF(A20<>\"\",IFERROR(VLOOKUP(X20,Tabelas!B:D,3,0),0),\"\")","v":0},{"$f":"IF(A20<>\"\",IFERROR(VLOOKUP(Y20,Tabelas!B:D,3,0),0),\"\")","v":0},{"$f":"IF(A20<>\"\",IFERROR(VLOOKUP(Z20,Tabelas!B:D,3,0),0),\"\")","v":0},{"$f":"IF(A20<>\"\",IFERROR(VLOOKUP(AA20,Tabelas!B:D,3,0),0),\"\")","v":0},{"$f":"IF(A20<>\"\",IFERROR(VLOOKUP(AB20,Tabelas!B:D,3,0),0),\"\")","v":0},{"$f":"IF(A20<>\"\",IFERROR(VLOOKUP(AC20,Tabelas!B:D,3,0),0),\"\")","v":0},{"$f":"IF(A20<>\"\",IFERROR(VLOOKUP(AD20,Tabelas!B:D,3,0),0),\"\")","v":0},{"$f":"IF(A20<>\"\",IFERROR(VLOOKUP(AE20,Tabelas!B:D,3,0),0),\"\")","v":0},{"$f":"IF(A20<>\"\",IFERROR(VLOOKUP(AF20,Tabelas!B:D,3,0),0),\"\")","v":0},{"$f":"IF(A20<>\"\",IFERROR(VLOOKUP(AG20,Tabelas!B:D,3,0),0),\"\")","v":0},{"$f":"IF(A20<>\"\",IFERROR(VLOOKUP(AH20,Tabelas!B:D,3,0),0),\"\")","v":0},{"$f":"IF(A20<>\"\",IFERROR(VLOOKUP(AI20,Tabelas!B:D,3,0),0),\"\")","v":0},{"$f":"IF(A20<>\"\",IFERROR(VLOOKUP(AJ20,Tabelas!B:D,3,0),0),\"\")","v":0},{"$f":"IF(A20<>\"\",IFERROR(VLOOKUP(AK20,Tabelas!B:D,3,0),0),\"\")","v":0},{"$f":"IF(A20<>\"\",IFERROR(VLOOKUP(AL20,Tabelas!B:D,3,0),0),\"\")","v":0},{"$f":"IF(A20<>\"\",IFERROR(VLOOKUP(AM20,Tabelas!B:D,3,0),0),\"\")","v":0},{"$f":"IF(A20<>\"\",IFERROR(VLOOKUP(AN20,Tabelas!B:D,3,0),0),\"\")","v":0},{"$f":"IF(A20<>\"\",IFERROR(VLOOKUP(AO20,Tabelas!B:D,3,0),0),\"\")","v":0},{"$f":"IF(A20<>\"\",IFERROR(VLOOKUP(AP20,Tabelas!B:D,3,0),0),\"\")","v":0},{"$f":"IF(A20<>\"\",IFERROR(VLOOKUP(AQ20,Tabelas!B:D,3,0),0),\"\")","v":0},0,0,0,0,0,0,0,0]
["FULANO 13",13,null,null,null,null,null,null,null,null,null,null,null,null,null,null,null,null,null,null,null,null,null,null,null,null,null,null,null,null,null,null,null,null,null,null,null,null,null,null,null,null,null,{"$f":"IF(A21<>\"\",IFERROR(VLOOKUP(M21,Tabelas!B:D,3,0),0),\"\")","v":0},{"$f":"IF(A21<>\"\",IFERROR(VLOOKUP(N21,Tabelas!B:D,3,0),0),\"\")","v":0},{"$f":"IF(A21<>\"\",IFERROR(VLOOKUP(O21,Tabelas!B:D,3,0),0),\"\")","v":0},{"$f":"IF(A21<>\"\",IFERROR(VLOOKUP(P21,Tabelas!B:D,3,0),0),\"\")","v":0},{"$f":"IF(A21<>\"\",IFERROR(VLOOKUP(Q21,Tabelas!B:D,3,0),0),\"\")","v":0},{"$f":"IF(A21<>\"\",IFERROR(VLOOKUP(R21,Tabelas!B:D,3,0),0),\"\")","v":0},{"$f":"IF(A21<>\"\",IFERROR(VLOOKUP(S21,Tabelas!B:D,3,0),0),\"\")","v":0},{"$f":"IF(A21<>\"\",IFERROR(VLOOKUP(T21,Tabelas!B:D,3,0),0),\"\")","v":0},{"$f":"IF(A21<>\"\",IFERROR(VLOOKUP(U21,Tabelas!B:D,3,0),0),\"\")","v":0},{"$f":"IF(A21<>\"\",IFERROR(VLOOKUP(V21,Tabelas!B:D,3,0),0),\"\")","v":0},{"$f":"IF(A21<>\"\",IFERROR(VLOOKUP(W21,Tabelas!B:D,3,0),0),\"\")","v":0},{"$f":"IF(A21<>\"\",IFERROR(VLOOKUP(X21,Tabelas!B:D,3,0),0),\"\")","v":0},{"$f":"IF(A21<>\"\",IFERROR(VLOOKUP(Y21,Tabelas!B:D,3,0),0),\"\")","v":0},{"$f":"IF(A21<>\"\",IFERROR(VLOOKUP(Z21,Tabelas!B:D,3,0),0),\"\")","v":0},{"$f":"IF(A21<>\"\",IFERROR(VLOOKUP(AA21,Tabelas!B:D,3,0),0),\"\")","v":0},{"$f":"IF(A21<>\"\",IFERROR(VLOOKUP(AB21,Tabelas!B:D,3,0),0),\"\")","v":0},{"$f":"IF(A21<>\"\",IFERROR(VLOOKUP(AC21,Tabelas!B:D,3,0),0),\"\")","v":0},{"$f":"IF(A21<>\"\",IFERROR(VLOOKUP(AD21,Tabelas!B:D,3,0),0),\"\")","v":0},{"$f":"IF(A21<>\"\",IFERROR(VLOOKUP(AE21,Tabelas!B:D,3,0),0),\"\")","v":0},{"$f":"IF(A21<>\"\",IFERROR(VLOOKUP(AF21,Tabelas!B:D,3,0),0),\"\")","v":0},{"$f":"IF(A21<>\"\",IFERROR(VLOOKUP(AG21,Tabelas!B:D,3,0),0),\"\")","v":0},{"$f":"IF(A21<>\"\",IFERROR(VLOOKUP(AH21,Tabelas!B:D,3,0),0),\"\")","v":0},{"$f":"IF(A21<>\"\",IFERROR(VLOOKUP(AI21,Tabelas!B:D,3,0),0),\"\")","v":0},{"$f":"IF(A21<>\"\",IFERROR(VLOOKUP(AJ21,Tabelas!B:D,3,0),0),\"\")","v":0},{"$f":"IF(A21<>\"\",IFERROR(VLOOKUP(AK21,Tabelas!B:D,3,0),0),\"\")","v":0},{"$f":"IF(A21<>\"\",IFERROR(VLOOKUP(AL21,Tabelas!B:D,3,0),0),\"\")","v":0},{"$f":"IF(A21<>\"\",IFERROR(VLOOKUP(AM21,Tabelas!B:D,3,0),0),\"\")","v":0},{"$f":"IF(A21<>\"\",IFERROR(VLOOKUP(AN21,Tabelas!B:D,3,0),0),\"\")","v":0},{"$f":"IF(A21<>\"\",IFERROR(VLOOKUP(AO21,Tabelas!B:D,3,0),0),\"\")","v":0},{"$f":"IF(A21<>\"\",IFERROR(VLOOKUP(AP21,Tabelas!B:D,3,0),0),\"\")","v":0},{"$f":"IF(A21<>\"\",IFERROR(VLOOKUP(AQ21,Tabelas!B:D,3,0),0),\"\")","v":0},0,0,0,0,0,0,0,0]
["FULANO 14",14,null,null,null,null,null,null,null,null,null,null,null,null,null,null,null,null,null,null,null,null,null,null,null,null,null,null,null,null,null,null,null,null,null,null,null,null,null,null,null,null,null,{"$f":"IF(A22<>\"\",IFERROR(VLOOKUP(M22,Tabelas!B:D,3,0),0),\"\")","v":0},{"$f":"IF(A22<>\"\",IFERROR(VLOOKUP(N22,Tabelas!B:D,3,0),0),\"\")","v":0},{"$f":"IF(A22<>\"\",IFERROR(VLOOKUP(O22,Tabelas!B:D,3,0),0),\"\")","v":0},{"$f":"IF(A22<>\"\",IFERROR(VLOOKUP(P22,Tabelas!B:D,3,0),0),\"\")","v":0},{"$f":"IF(A22<>\"\",IFERROR(VLOOKUP(Q22,Tabelas!B:D,3,0),0),\"\")","v":0},{"$f":"IF(A22<>\"\",IFERROR(VLOOKUP(R22,Tabelas!B:D,3,0),0),\"\")","v":0},{"$f":"IF(A22<>\"\",IFERROR(VLOOKUP(S22,Tabelas!B:D,3,0),0),\"\")","v":0},{"$f":"IF(A22<>\"\",IFERROR(VLOOKUP(T22,Tabelas!B:D,3,0),0),\"\")","v":0},{"$f":"IF(A22<>\"\",IFERROR(VLOOKUP(U22,Tabelas!B:D,3,0),0),\"\")","v":0},{"$f":"IF(A22<>\"\",IFERROR(VLOOKUP(V22,Tabelas!B:D,3,0),0),\"\")","v":0},{"$f":"IF(A22<>\"\",IFERROR(VLOOKUP(W22,Tabelas!B:D,3,0),0),\"\")","v":0},{"$f":"IF(A22<>\"\",IFERROR(VLOOKUP(X22,Tabelas!B:D,3,0),0),\"\")","v":0},{"$f":"IF(A22<>\"\",IFERROR(VLOOKUP(Y22,Tabelas!B:D,3,0),0),\"\")","v":0},{"$f":"IF(A22<>\"\",IFERROR(VLOOKUP(Z22,Tabelas!B:D,3,0),0),\"\")","v":0},{"$f":"IF(A22<>\"\",IFERROR(VLOOKUP(AA22,Tabelas!B:D,3,0),0),\"\")","v":0},{"$f":"IF(A22<>\"\",IFERROR(VLOOKUP(AB22,Tabelas!B:D,3,0),0),\"\")","v":0},{"$f":"IF(A22<>\"\",IFERROR(VLOOKUP(AC22,Tabelas!B:D,3,0),0),\"\")","v":0},{"$f":"IF(A22<>\"\",IFERROR(VLOOKUP(AD22,Tabelas!B:D,3,0),0),\"\")","v":0},{"$f":"IF(A22<>\"\",IFERROR(VLOOKUP(AE22,Tabelas!B:D,3,0),0),\"\")","v":0},{"$f":"IF(A22<>\"\",IFERROR(VLOOKUP(AF22,Tabelas!B:D,3,0),0),\"\")","v":0},{"$f":"IF(A22<>\"\",IFERROR(VLOOKUP(AG22,Tabelas!B:D,3,0),0),\"\")","v":0},{"$f":"IF(A22<>\"\",IFERROR(VLOOKUP(AH22,Tabelas!B:D,3,0),0),\"\")","v":0},{"$f":"IF(A22<>\"\",IFERROR(VLOOKUP(AI22,Tabelas!B:D,3,0),0),\"\")","v":0},{"$f":"IF(A22<>\"\",IFERROR(VLOOKUP(AJ22,Tabelas!B:D,3,0),0),\"\")","v":0},{"$f":"IF(A22<>\"\",IFERROR(VLOOKUP(AK22,Tabelas!B:D,3,0),0),\"\")","v":0},{"$f":"IF(A22<>\"\",IFERROR(VLOOKUP(AL22,Tabelas!B:D,3,0),0),\"\")","v":0},{"$f":"IF(A22<>\"\",IFERROR(VLOOKUP(AM22,Tabelas!B:D,3,0),0),\"\")","v":0},{"$f":"IF(A22<>\"\",IFERROR(VLOOKUP(AN22,Tabelas!B:D,3,0),0),\"\")","v":0},{"$f":"IF(A22<>\"\",IFERROR(VLOOKUP(AO22,Tabelas!B:D,3,0),0),\"\")","v":0},{"$f":"IF(A22<>\"\",IFERROR(VLOOKUP(AP22,Tabelas!B:D,3,0),0),\"\")","v":0},{"$f":"IF(A22<>\"\",IFERROR(VLOOKUP(AQ22,Tabelas!B:D,3,0),0),\"\")","v":0},0,0,0,0,0,0,0,0]
["FULANO 15",15,null,null,null,null,null,null,null,null,null,null,null,null,null,null,null,null,null,null,null,null,null,null,null,null,null,null,null,null,null,null,null,null,null,null,null,null,null,null,null,null,null,{"$f":"IF(A23<>\"\",IFERROR(VLOOKUP(M23,Tabelas!B:D,3,0),0),\"\")","v":0},{"$f":"IF(A23<>\"\",IFERROR(VLOOKUP(N23,Tabelas!B:D,3,0),0),\"\")","v":0},{"$f":"IF(A23<>\"\",IFERROR(VLOOKUP(O23,Tabelas!B:D,3,0),0),\"\")","v":0},{"$f":"IF(A23<>\"\",IFERROR(VLOOKUP(P23,Tabelas!B:D,3,0),0),\"\")","v":0},{"$f":"IF(A23<>\"\",IFERROR(VLOOKUP(Q23,Tabelas!B:D,3,0),0),\"\")","v":0},{"$f":"IF(A23<>\"\",IFERROR(VLOOKUP(R23,Tabelas!B:D,3,0),0),\"\")","v":0},{"$f":"IF(A23<>\"\",IFERROR(VLOOKUP(S23,Tabelas!B:D,3,0),0),\"\")","v":0},{"$f":"IF(A23<>\"\",IFERROR(VLOOKUP(T23,Tabelas!B:D,3,0),0),\"\")","v":0},{"$f":"IF(A23<>\"\",IFERROR(VLOOKUP(U23,Tabelas!B:D,3,0),0),\"\")","v":0},{"$f":"IF(A23<>\"\",IFERROR(VLOOKUP(V23,Tabelas!B:D,3,0),0),\"\")","v":0},{"$f":"IF(A23<>\"\",IFERROR(VLOOKUP(W23,Tabelas!B:D,3,0),0),\"\")","v":0},{"$f":"IF(A23<>\"\",IFERROR(VLOOKUP(X23,Tabelas!B:D,3,0),0),\"\")","v":0},{"$f":"IF(A23<>\"\",IFERROR(VLOOKUP(Y23,Tabelas!B:D,3,0),0),\"\")","v":0},{"$f":"IF(A23<>\"\",IFERROR(VLOOKUP(Z23,Tabelas!B:D,3,0),0),\"\")","v":0},{"$f":"IF(A23<>\"\",IFERROR(VLOOKUP(AA23,Tabelas!B:D,3,0),0),\"\")","v":0},{"$f":"IF(A23<>\"\",IFERROR(VLOOKUP(AB23,Tabelas!B:D,3,0),0),\"\")","v":0},{"$f":"IF(A23<>\"\",IFERROR(VLOOKUP(AC23,Tabelas!B:D,3,0),0),\"\")","v":0},{"$f":"IF(A23<>\"\",IFERROR(VLOOKUP(AD23,Tabelas!B:D,3,0),0),\"\")","v":0},{"$f":"IF(A23<>\"\",IFERROR(VLOOKUP(AE23,Tabelas!B:D,3,0),0),\"\")","v":0},{"$f":"IF(A23<>\"\",IFERROR(VLOOKUP(AF23,Tabelas!B:D,3,0),0),\"\")","v":0},{"$f":"IF(A23<>\"\",IFERROR(VLOOKUP(AG23,Tabelas!B:D,3,0),0),\"\")","v":0},{"$f":"IF(A23<>\"\",IFERROR(VLOOKUP(AH23,Tabelas!B:D,3,0),0),\"\")","v":0},{"$f":"IF(A23<>\"\",IFERROR(VLOOKUP(AI23,Tabelas!B:D,3,0),0),\"\")","v":0},{"$f":"IF(A23<>\"\",IFERROR(VLOOKUP(AJ23,Tabelas!B:D,3,0),0),\"\")","v":0},{"$f":"IF(A23<>\"\",IFERROR(VLOOKUP(AK23,Tabelas!B:D,3,0),0),\"\")","v":0},{"$f":"IF(A23<>\"\",IFERROR(VLOOKUP(AL23,Tabelas!B:D,3,0),0),\"\")","v":0},{"$f":"IF(A23<>\"\",IFERROR(VLOOKUP(AM23,Tabelas!B:D,3,0),0),\"\")","v":0},{"$f":"IF(A23<>\"\",IFERROR(VLOOKUP(AN23,Tabelas!B:D,3,0),0),\"\")","v":0},{"$f":"IF(A23<>\"\",IFERROR(VLOOKUP(AO23,Tabelas!B:D,3,0),0),\"\")","v":0},{"$f":"IF(A23<>\"\",IFERROR(VLOOKUP(AP23,Tabelas!B:D,3,0),0),\"\")","v":0},{"$f":"IF(A23<>\"\",IFERROR(VLOOKUP(AQ23,Tabelas!B:D,3,0),0),\"\")","v":0},0,0,0,0,0,0,0,0]
["FULANO 16",16,null,null,null,null,null,null,null,null,null,null,null,null,null,null,null,null,null,null,null,null,null,null,null,null,null,null,null,null,null,null,null,null,null,null,null,null,null,null,null,null,null,{"$f":"IF(A24<>\"\",IFERROR(VLOOKUP(M24,Tabelas!B:D,3,0),0),\"\")","v":0},{"$f":"IF(A24<>\"\",IFERROR(VLOOKUP(N24,Tabelas!B:D,3,0),0),\"\")","v":0},{"$f":"IF(A24<>\"\",IFERROR(VLOOKUP(O24,Tabelas!B:D,3,0),0),\"\")","v":0},{"$f":"IF(A24<>\"\",IFERROR(VLOOKUP(P24,Tabelas!B:D,3,0),0),\"\")","v":0},{"$f":"IF(A24<>\"\",IFERROR(VLOOKUP(Q24,Tabelas!B:D,3,0),0),\"\")","v":0},{"$f":"IF(A24<>\"\",IFERROR(VLOOKUP(R24,Tabelas!B:D,3,0),0),\"\")","v":0},{"$f":"IF(A24<>\"\",IFERROR(VLOOKUP(S24,Tabelas!B:D,3,0),0),\"\")","v":0},{"$f":"IF(A24<>\"\",IFERROR(VLOOKUP(T24,Tabelas!B:D,3,0),0),\"\")","v":0},{"$f":"IF(A24<>\"\",IFERROR(VLOOKUP(U24,Tabelas!B:D,3,0),0),\"\")","v":0},{"$f":"IF(A24<>\"\",IFERROR(VLOOKUP(V24,Tabelas!B:D,3,0),0),\"\")","v":0},{"$f":"IF(A24<>\"\",IFERROR(VLOOKUP(W24,Tabelas!B:D,3,0),0),\"\")","v":0},{"$f":"IF(A24<>\"\",IFERROR(VLOOKUP(X24,Tabelas!B:D,3,0),0),\"\")","v":0},{"$f":"IF(A24<>\"\",IFERROR(VLOOKUP(Y24,Tabelas!B:D,3,0),0),\"\")","v":0},{"$f":"IF(A24<>\"\",IFERROR(VLOOKUP(Z24,Tabelas!B:D,3,0),0),\"\")","v":0},{"$f":"IF(A24<>\"\",IFERROR(VLOOKUP(AA24,Tabelas!B:D,3,0),0),\"\")","v":0},{"$f":"IF(A24<>\"\",IFERROR(VLOOKUP(AB24,Tabelas!B:D,3,0),0),\"\")","v":0},{"$f":"IF(A24<>\"\",IFERROR(VLOOKUP(AC24,Tabelas!B:D,3,0),0),\"\")","v":0},{"$f":"IF(A24<>\"\",IFERROR(VLOOKUP(AD24,Tabelas!B:D,3,0),0),\"\")","v":0},{"$f":"IF(A24<>\"\",IFERROR(VLOOKUP(AE24,Tabelas!B:D,3,0),0),\"\")","v":0},{"$f":"IF(A24<>\"\",IFERROR(VLOOKUP(AF24,Tabelas!B:D,3,0),0),\"\")","v":0},{"$f":"IF(A24<>\"\",IFERROR(VLOOKUP(AG24,Tabelas!B:D,3,0),0),\"\")","v":0},{"$f":"IF(A24<>\"\",IFERROR(VLOOKUP(AH24,Tabelas!B:D,3,0),0),\"\")","v":0},{"$f":"IF(A24<>\"\",IFERROR(VLOOKUP(AI24,Tabelas!B:D,3,0),0),\"\")","v":0},{"$f":"IF(A24<>\"\",IFERROR(VLOOKUP(AJ24,Tabelas!B:D,3,0),0),\"\")","v":0},{"$f":"IF(A24<>\"\",IFERROR(VLOOKUP(AK24,Tabelas!B:D,3,0),0),\"\")","v":0},{"$f":"IF(A24<>\"\",IFERROR(VLOOKUP(AL24,Tabelas!B:D,3,0),0),\"\")","v":0},{"$f":"IF(A24<>\"\",IFERROR(VLOOKUP(AM24,Tabelas!B:D,3,0),0),\"\")","v":0},{"$f":"IF(A24<>\"\",IFERROR(VLOOKUP(AN24,Tabelas!B:D,3,0),0),\"\")","v":0},{"$f":"IF(A24<>\"\",IFERROR(VLOOKUP(AO24,Tabelas!B:D,3,0),0),\"\")","v":0},{"$f":"IF(A24<>\"\",IFERROR(VLOOKUP(AP24,Tabelas!B:D,3,0),0),\"\")","v":0},{"$f":"IF(A24<>\"\",IFERROR(VLOOKUP(AQ24,Tabelas!B:D,3,0),0),\"\")","v":0},0,0,0,0,0,0,0,0]
["FULANO 17",17,null,null,null,null,null,null,null,null,null,null,null,null,null,null,null,null,null,null,null,null,null,null,null,null,null,null,null,null,null,null,null,null,null,null,null,null,null,null,null,null,null,{"$f":"IF(A25<>\"\",IFERROR(VLOOKUP(M25,Tabelas!B:D,3,0),0),\"\")","v":0},{"$f":"IF(A25<>\"\",IFERROR(VLOOKUP(N25,Tabelas!B:D,3,0),0),\"\")","v":0},{"$f":"IF(A25<>\"\",IFERROR(VLOOKUP(O25,Tabelas!B:D,3,0),0),\"\")","v":0},{"$f":"IF(A25<>\"\",IFERROR(VLOOKUP(P25,Tabelas!B:D,3,0),0),\"\")","v":0},{"$f":"IF(A25<>\"\",IFERROR(VLOOKUP(Q25,Tabelas!B:D,3,0),0),\"\")","v":0},{"$f":"IF(A25<>\"\",IFERROR(VLOOKUP(R25,Tabelas!B:D,3,0),0),\"\")","v":0},{"$f":"IF(A25<>\"\",IFERROR(VLOOKUP(S25,Tabelas!B:D,3,0),0),\"\")","v":0},{"$f":"IF(A25<>\"\",IFERROR(VLOOKUP(T25,Tabelas!B:D,3,0),0),\"\")","v":0},{"$f":"IF(A25<>\"\",IFERROR(VLOOKUP(U25,Tabelas!B:D,3,0),0),\"\")","v":0},{"$f":"IF(A25<>\"\",IFERROR(VLOOKUP(V25,Tabelas!B:D,3,0),0),\"\")","v":0},{"$f":"IF(A25<>\"\",IFERROR(VLOOKUP(W25,Tabelas!B:D,3,0),0),\"\")","v":0},{"$f":"IF(A25<>\"\",IFERROR(VLOOKUP(X25,Tabelas!B:D,3,0),0),\"\")","v":0},{"$f":"IF(A25<>\"\",IFERROR(VLOOKUP(Y25,Tabelas!B:D,3,0),0),\"\")","v":0},{"$f":"IF(A25<>\"\",IFERROR(VLOOKUP(Z25,Tabelas!B:D,3,0),0),\"\")","v":0},{"$f":"IF(A25<>\"\",IFERROR(VLOOKUP(AA25,Tabelas!B:D,3,0),0),\"\")","v":0},{"$f":"IF(A25<>\"\",IFERROR(VLOOKUP(AB25,Tabelas!B:D,3,0),0),\"\")","v":0},{"$f":"IF(A25<>\"\",IFERROR(VLOOKUP(AC25,Tabelas!B:D,3,0),0),\"\")","v":0},{"$f":"IF(A25<>\"\",IFERROR(VLOOKUP(AD25,Tabelas!B:D,3,0),0),\"\")","v":0},{"$f":"IF(A25<>\"\",IFERROR(VLOOKUP(AE25,Tabelas!B:D,3,0),0),\"\")","v":0},{"$f":"IF(A25<>\"\",IFERROR(VLOOKUP(AF25,Tabelas!B:D,3,0),0),\"\")","v":0},{"$f":"IF(A25<>\"\",IFERROR(VLOOKUP(AG25,Tabelas!B:D,3,0),0),\"\")","v":0},{"$f":"IF(A25<>\"\",IFERROR(VLOOKUP(AH25,Tabelas!B:D,3,0),0),\"\")","v":0},{"$f":"IF(A25<>\"\",IFERROR(VLOOKUP(AI25,Tabelas!B:D,3,0),0),\"\")","v":0},{"$f":"IF(A25<>\"\",IFERROR(VLOOKUP(AJ25,Tabelas!B:D,3,0),0),\"\")","v":0},{"$f":"IF(A25<>\"\",IFERROR(VLOOKUP(AK25,Tabelas!B:D,3,0),0),\"\")","v":0},{"$f":"IF(A25<>\"\",IFERROR(VLOOKUP(AL25,Tabelas!B:D,3,0),0),\"\")","v":0},{"$f":"IF(A25<>\"\",IFERROR(VLOOKUP(AM25,Tabelas!B:D,3,0),0),\"\")","v":0},{"$f":"IF(A25<>\"\",IFERROR(VLOOKUP(AN25,Tabelas!B:D,3,0),0),\"\")","v":0},{"$f":"IF(A25<>\"\",IFERROR(VLOOKUP(AO25,Tabelas!B:D,3,0),0),\"\")","v":0},{"$f":"IF(A25<>\"\",IFERROR(VLOOKUP(AP25,Tabelas!B:D,3,0),0),\"\")","v":0},{"$f":"IF(A25<>\"\",IFERROR(VLOOKUP(AQ25,Tabelas!B:D,3,0),0),\"\")","v":0},0,0,0,0,0,0,0,0]
["FULANO 18",18,null,null,null,null,null,null,null,null,null,null,null,null,null,null,null,null,null,null,null,null,null,null,null,null,null,null,null,null,null,null,null,null,null,null,null,null,null,null,null,null,null,{"$f":"IF(A26<>\"\",IFERROR(VLOOKUP(M26,Tabelas!B:D,3,0),0),\"\")","v":0},{"$f":"IF(A26<>\"\",IFERROR(VLOOKUP(N26,Tabelas!B:D,3,0),0),\"\")","v":0},{"$f":"IF(A26<>\"\",IFERROR(VLOOKUP(O26,Tabelas!B:D,3,0),0),\"\")","v":0},{"$f":"IF(A26<>\"\",IFERROR(VLOOKUP(P26,Tabelas!B:D,3,0),0),\"\")","v":0},{"$f":"IF(A26<>\"\",IFERROR(VLOOKUP(Q26,Tabelas!B:D,3,0),0),\"\")","v":0},{"$f":"IF(A26<>\"\",IFERROR(VLOOKUP(R26,Tabelas!B:D,3,0),0),\"\")","v":0},{"$f":"IF(A26<>\"\",IFERROR(VLOOKUP(S26,Tabelas!B:D,3,0),0),\"\")","v":0},{"$f":"IF(A26<>\"\",IFERROR(VLOOKUP(T26,Tabelas!B:D,3,0),0),\"\")","v":0},{"$f":"IF(A26<>\"\",IFERROR(VLOOKUP(U26,Tabelas!B:D,3,0),0),\"\")","v":0},{"$f":"IF(A26<>\"\",IFERROR(VLOOKUP(V26,Tabelas!B:D,3,0),0),\"\")","v":0},{"$f":"IF(A26<>\"\",IFERROR(VLOOKUP(W26,Tabelas!B:D,3,0),0),\"\")","v":0},{"$f":"IF(A26<>\"\",IFERROR(VLOOKUP(X26,Tabelas!B:D,3,0),0),\"\")","v":0},{"$f":"IF(A26<>\"\",IFERROR(VLOOKUP(Y26,Tabelas!B:D,3,0),0),\"\")","v":0},{"$f":"IF(A26<>\"\",IFERROR(VLOOKUP(Z26,Tabelas!B:D,3,0),0),\"\")","v":0},{"$f":"IF(A26<>\"\",IFERROR(VLOOKUP(AA26,Tabelas!B:D,3,0),0),\"\")","v":0},{"$f":"IF(A26<>\"\",IFERROR(VLOOKUP(AB26,Tabelas!B:D,3,0),0),\"\")","v":0},{"$f":"IF(A26<>\"\",IFERROR(VLOOKUP(AC26,Tabelas!B:D,3,0),0),\"\")","v":0},{"$f":"IF(A26<>\"\",IFERROR(VLOOKUP(AD26,Tabelas!B:D,3,0),0),\"\")","v":0},{"$f":"IF(A26<>\"\",IFERROR(VLOOKUP(AE26,Tabelas!B:D,3,0),0),\"\")","v":0},{"$f":"IF(A26<>\"\",IFERROR(VLOOKUP(AF26,Tabelas!B:D,3,0),0),\"\")","v":0},{"$f":"IF(A26<>\"\",IFERROR(VLOOKUP(AG26,Tabelas!B:D,3,0),0),\"\")","v":0},{"$f":"IF(A26<>\"\",IFERROR(VLOOKUP(AH26,Tabelas!B:D,3,0),0),\"\")","v":0},{"$f":"IF(A26<>\"\",IFERROR(VLOOKUP(AI26,Tabelas!B:D,3,0),0),\"\")","v":0},{"$f":"IF(A26<>\"\",IFERROR(VLOOKUP(AJ26,Tabelas!B:D,3,0),0),\"\")","v":0},{"$f":"IF(A26<>\"\",IFERROR(VLOOKUP(AK26,Tabelas!B:D,3,0),0),\"\")","v":0},{"$f":"IF(A26<>\"\",IFERROR(VLOOKUP(AL26,Tabelas!B:D,3,0),0),\"\")","v":0},{"$f":"IF(A26<>\"\",IFERROR(VLOOKUP(AM26,Tabelas!B:D,3,0),0),\"\")","v":0},{"$f":"IF(A26<>\"\",IFERROR(VLOOKUP(AN26,Tabelas!B:D,3,0),0),\"\")","v":0},{"$f":"IF(A26<>\"\",IFERROR(VLOOKUP(AO26,Tabelas!B:D,3,0),0),\"\")","v":0},{"$f":"IF(A26<>\"\",IFERROR(VLOOKUP(AP26,Tabelas!B:D,3,0),0),\"\")","v":0},{"$f":"IF(A26<>\"\",IFERROR(VLOOKUP(AQ26,Tabelas!B:D,3,0),0),\"\")","v":0},0,0,0,0,0,0,0,0]
["FULANO 19",19,null,null,null,null,null,null,null,null,null,null,null,null,null,null,null,null,null,null,null,null,null,null,null,null,null,null,null,null,null,null,null,null,null,null,null,null,null,null,null,null,null,{"$f":"IF(A27<>\"\",IFERROR(VLOOKUP(M27,Tabelas!B:D,3,0),0),\"\")","v":0},{"$f":"IF(A27<>\"\",IFERROR(VLOOKUP(N27,Tabelas!B:D,3,0),0),\"\")","v":0},{"$f":"IF(A27<>\"\",IFERROR(VLOOKUP(O27,Tabelas!B:D,3,0),0),\"\")","v":0},{"$f":"IF(A27<>\"\",IFERROR(VLOOKUP(P27,Tabelas!B:D,3,0),0),\"\")","v":0},{"$f":"IF(A27<>\"\",IFERROR(VLOOKUP(Q27,Tabelas!B:D,3,0),0),\"\")","v":0},{"$f":"IF(A27<>\"\",IFERROR(VLOOKUP(R27,Tabelas!B:D,3,0),0),\"\")","v":0},{"$f":"IF(A27<>\"\",IFERROR(VLOOKUP(S27,Tabelas!B:D,3,0),0),\"\")","v":0},{"$f":"IF(A27<>\"\",IFERROR(VLOOKUP(T27,Tabelas!B:D,3,0),0),\"\")","v":0},{"$f":"IF(A27<>\"\",IFERROR(VLOOKUP(U27,Tabelas!B:D,3,0),0),\"\")","v":0},{"$f":"IF(A27<>\"\",IFERROR(VLOOKUP(V27,Tabelas!B:D,3,0),0),\"\")","v":0},{"$f":"IF(A27<>\"\",IFERROR(VLOOKUP(W27,Tabelas!B:D,3,0),0),\"\")","v":0},{"$f":"IF(A27<>\"\",IFERROR(VLOOKUP(X27,Tabelas!B:D,3,0),0),\"\")","v":0},{"$f":"IF(A27<>\"\",IFERROR(VLOOKUP(Y27,Tabelas!B:D,3,0),0),\"\")","v":0},{"$f":"IF(A27<>\"\",IFERROR(VLOOKUP(Z27,Tabelas!B:D,3,0),0),\"\")","v":0},{"$f":"IF(A27<>\"\",IFERROR(VLOOKUP(AA27,Tabelas!B:D,3,0),0),\"\")","v":0},{"$f":"IF(A27<>\"\",IFERROR(VLOOKUP(AB27,Tabelas!B:D,3,0),0),\"\")","v":0},{"$f":"IF(A27<>\"\",IFERROR(VLOOKUP(AC27,Tabelas!B:D,3,0),0),\"\")","v":0},{"$f":"IF(A27<>\"\",IFERROR(VLOOKUP(AD27,Tabelas!B:D,3,0),0),\"\")","v":0},{"$f":"IF(A27<>\"\",IFERROR(VLOOKUP(AE27,Tabelas!B:D,3,0),0),\"\")","v":0},{"$f":"IF(A27<>\"\",IFERROR(VLOOKUP(AF27,Tabelas!B:D,3,0),0),\"\")","v":0},{"$f":"IF(A27<>\"\",IFERROR(VLOOKUP(AG27,Tabelas!B:D,3,0),0),\"\")","v":0},{"$f":"IF(A27<>\"\",IFERROR(VLOOKUP(AH27,Tabelas!B:D,3,0),0),\"\")","v":0},{"$f":"IF(A27<>\"\",IFERROR(VLOOKUP(AI27,Tabelas!B:D,3,0),0),\"\")","v":0},{"$f":"IF(A27<>\"\",IFERROR(VLOOKUP(AJ27,Tabelas!B:D,3,0),0),\"\")","v":0},{"$f":"IF(A27<>\"\",IFERROR(VLOOKUP(AK27,Tabelas!B:D,3,0),0),\"\")","v":0},{"$f":"IF(A27<>\"\",IFERROR(VLOOKUP(AL27,Tabelas!B:D,3,0),0),\"\")","v":0},{"$f":"IF(A27<>\"\",IFERROR(VLOOKUP(AM27,Tabelas!B:D,3,0),0),\"\")","v":0},{"$f":"IF(A27<>\"\",IFERROR(VLOOKUP(AN27,Tabelas!B:D,3,0),0),\"\")","v":0},{"$f":"IF(A27<>\"\",IFERROR(VLOOKUP(AO27,Tabelas!B:D,3,0),0),\"\")","v":0},{"$f":"IF(A27<>\"\",IFERROR(VLOOKUP(AP27,Tabelas!B:D,3,0),0),\"\")","v":0},{"$f":"IF(A27<>\"\",IFERROR(VLOOKUP(AQ27,Tabelas!B:D,3,0),0),\"\")","v":0},0,0,0,0,0,0,0,0]
["FULANO 20",20,null,null,null,null,null,null,null,null,null,null,null,null,null,null,null,null,null,null,null,null,null,null,null,null,null,null,null,null,null,null,null,null,null,null,null,null,null,null,null,null,null,{"$f":"IF(A28<>\"\",IFERROR(VLOOKUP(M28,Tabelas!B:D,3,0),0),\"\")","v":0},{"$f":"IF(A28<>\"\",IFERROR(VLOOKUP(N28,Tabelas!B:D,3,0),0),\"\")","v":0},{"$f":"IF(A28<>\"\",IFERROR(VLOOKUP(O28,Tabelas!B:D,3,0),0),\"\")","v":0},{"$f":"IF(A28<>\"\",IFERROR(VLOOKUP(P28,Tabelas!B:D,3,0),0),\"\")","v":0},{"$f":"IF(A28<>\"\",IFERROR(VLOOKUP(Q28,Tabelas!B:D,3,0),0),\"\")","v":0},{"$f":"IF(A28<>\"\",IFERROR(VLOOKUP(R28,Tabelas!B:D,3,0),0),\"\")","v":0},{"$f":"IF(A28<>\"\",IFERROR(VLOOKUP(S28,Tabelas!B:D,3,0),0),\"\")","v":0},{"$f":"IF(A28<>\"\",IFERROR(VLOOKUP(T28,Tabelas!B:D,3,0),0),\"\")","v":0},{"$f":"IF(A28<>\"\",IFERROR(VLOOKUP(U28,Tabelas!B:D,3,0),0),\"\")","v":0},{"$f":"IF(A28<>\"\",IFERROR(VLOOKUP(V28,Tabelas!B:D,3,0),0),\"\")","v":0},{"$f":"IF(A28<>\"\",IFERROR(VLOOKUP(W28,Tabelas!B:D,3,0),0),\"\")","v":0},{"$f":"IF(A28<>\"\",IFERROR(VLOOKUP(X28,Tabelas!B:D,3,0),0),\"\")","v":0},{"$f":"IF(A28<>\"\",IFERROR(VLOOKUP(Y28,Tabelas!B:D,3,0),0),\"\")","v":0},{"$f":"IF(A28<>\"\",IFERROR(VLOOKUP(Z28,Tabelas!B:D,3,0),0),\"\")","v":0},{"$f":"IF(A28<>\"\",IFERROR(VLOOKUP(AA28,Tabelas!B:D,3,0),0),\"\")","v":0},{"$f":"IF(A28<>\"\",IFERROR(VLOOKUP(AB28,Tabelas!B:D,3,0),0),\"\")","v":0},{"$f":"IF(A28<>\"\",IFERROR(VLOOKUP(AC28,Tabelas!B:D,3,0),0),\"\")","v":0},{"$f":"IF(A28<>\"\",IFERROR(VLOOKUP(AD28,Tabelas!B:D,3,0),0),\"\")","v":0},{"$f":"IF(A28<>\"\",IFERROR(VLOOKUP(AE28,Tabelas!B:D,3,0),0),\"\")","v":0},{"$f":"IF(A28<>\"\",IFERROR(VLOOKUP(AF28,Tabelas!B:D,3,0),0),\"\")","v":0},{"$f":"IF(A28<>\"\",IFERROR(VLOOKUP(AG28,Tabelas!B:D,3,0),0),\"\")","v":0},{"$f":"IF(A28<>\"\",IFERROR(VLOOKUP(AH28,Tabelas!B:D,3,0),0),\"\")","v":0},{"$f":"IF(A28<>\"\",IFERROR(VLOOKUP(AI28,Tabelas!B:D,3,0),0),\"\")","v":0},{"$f":"IF(A28<>\"\",IFERROR(VLOOKUP(AJ28,Tabelas!B:D,3,0),0),\"\")","v":0},{"$f":"IF(A28<>\"\",IFERROR(VLOOKUP(AK28,Tabelas!B:D,3,0),0),\"\")","v":0},{"$f":"IF(A28<>\"\",IFERROR(VLOOKUP(AL28,Tabelas!B:D,3,0),0),\"\")","v":0},{"$f":"IF(A28<>\"\",IFERROR(VLOOKUP(AM28,Tabelas!B:D,3,0),0),\"\")","v":0},{"$f":"IF(A28<>\"\",IFERROR(VLOOKUP(AN28,Tabelas!B:D,3,0),0),\"\")","v":0},{"$f":"IF(A28<>\"\",IFERROR(VLOOKUP(AO28,Tabelas!B:D,3,0),0),\"\")","v":0},{"$f":"IF(A28<>\"\",IFERROR(VLOOKUP(AP28,Tabelas!B:D,3,0),0),\"\")","v":0},{"$f":"IF(A28<>\"\",IFERROR(VLOOKUP(AQ28,Tabelas!B:D,3,0),0),\"\")","v":0},0,0,0,0,0,0,0,0]
["FULANO 21",21,null,null,null,null,null,null,null,null,null,null,null,null,null,null,null,null,null,null,null,null,null,null,null,null,null,null,null,null,null,null,null,null,null,null,null,null,null,null,null,null,null,{"$f":"IF(A29<>\"\",IFERROR(VLOOKUP(M29,Tabelas!B:D,3,0),0),\"\")","v":0},{"$f":"IF(A29<>\"\",IFERROR(VLOOKUP(N29,Tabelas!B:D,3,0),0),\"\")","v":0},{"$f":"IF(A29<>\"\",IFERROR(VLOOKUP(O29,Tabelas!B:D,3,0),0),\"\")","v":0},{"$f":"IF(A29<>\"\",IFERROR(VLOOKUP(P29,Tabelas!B:D,3,0),0),\"\")","v":0},{"$f":"IF(A29<>\"\",IFERROR(VLOOKUP(Q29,Tabelas!B:D,3,0),0),\"\")","v":0},{"$f":"IF(A29<>\"\",IFERROR(VLOOKUP(R29,Tabelas!B:D,3,0),0),\"\")","v":0},{"$f":"IF(A29<>\"\",IFERROR(VLOOKUP(S29,Tabelas!B:D,3,0),0),\"\")","v":0},{"$f":"IF(A29<>\"\",IFERROR(VLOOKUP(T29,Tabelas!B:D,3,0),0),\"\")","v":0},{"$f":"IF(A29<>\"\",IFERROR(VLOOKUP(U29,Tabelas!B:D,3,0),0),\"\")","v":0},{"$f":"IF(A29<>\"\",IFERROR(VLOOKUP(V29,Tabelas!B:D,3,0),0),\"\")","v":0},{"$f":"IF(A29<>\"\",IFERROR(VLOOKUP(W29,Tabelas!B:D,3,0),0),\"\")","v":0},{"$f":"IF(A29<>\"\",IFERROR(VLOOKUP(X29,Tabelas!B:D,3,0),0),\"\")","v":0},{"$f":"IF(A29<>\"\",IFERROR(VLOOKUP(Y29,Tabelas!B:D,3,0),0),\"\")","v":0},{"$f":"IF(A29<>\"\",IFERROR(VLOOKUP(Z29,Tabelas!B:D,3,0),0),\"\")","v":0},{"$f":"IF(A29<>\"\",IFERROR(VLOOKUP(AA29,Tabelas!B:D,3,0),0),\"\")","v":0},{"$f":"IF(A29<>\"\",IFERROR(VLOOKUP(AB29,Tabelas!B:D,3,0),0),\"\")","v":0},{"$f":"IF(A29<>\"\",IFERROR(VLOOKUP(AC29,Tabelas!B:D,3,0),0),\"\")","v":0},{"$f":"IF(A29<>\"\",IFERROR(VLOOKUP(AD29,Tabelas!B:D,3,0),0),\"\")","v":0},{"$f":"IF(A29<>\"\",IFERROR(VLOOKUP(AE29,Tabelas!B:D,3,0),0),\"\")","v":0},{"$f":"IF(A29<>\"\",IFERROR(VLOOKUP(AF29,Tabelas!B:D,3,0),0),\"\")","v":0},{"$f":"IF(A29<>\"\",IFERROR(VLOOKUP(AG29,Tabelas!B:D,3,0),0),\"\")","v":0},{"$f":"IF(A29<>\"\",IFERROR(VLOOKUP(AH29,Tabelas!B:D,3,0),0),\"\")","v":0},{"$f":"IF(A29<>\"\",IFERROR(VLOOKUP(AI29,Tabelas!B:D,3,0),0),\"\")","v":0},{"$f":"IF(A29<>\"\",IFERROR(VLOOKUP(AJ29,Tabelas!B:D,3,0),0),\"\")","v":0},{"$f":"IF(A29<>\"\",IFERROR(VLOOKUP(AK29,Tabelas!B:D,3,0),0),\"\")","v":0},{"$f":"IF(A29<>\"\",IFERROR(VLOOKUP(AL29,Tabelas!B:D,3,0),0),\"\")","v":0},{"$f":"IF(A29<>\"\",IFERROR(VLOOKUP(AM29,Tabelas!B:D,3,0),0),\"\")","v":0},{"$f":"IF(A29<>\"\",IFERROR(VLOOKUP(AN29,Tabelas!B:D,3,0),0),\"\")","v":0},{"$f":"IF(A29<>\"\",IFERROR(VLOOKUP(AO29,Tabelas!B:D,3,0),0),\"\")","v":0},{"$f":"IF(A29<>\"\",IFERROR(VLOOKUP(AP29,Tabelas!B:D,3,0),0),\"\")","v":0},{"$f":"IF(A29<>\"\",IFERROR(VLOOKUP(AQ29,Tabelas!B:D,3,0),0),\"\")","v":0},0,0,0,0,0,0,0,0]
["FULANO 22",22,null,null,null,null,null,null,null,null,null,null,null,null,null,null,null,null,null,null,null,null,null,null,null,null,null,null,null,null,null,null,null,null,null,null,null,null,null,null,null,null,null,{"$f":"IF(A30<>\"\",IFERROR(VLOOKUP(M30,Tabelas!B:D,3,0),0),\"\")","v":0},{"$f":"IF(A30<>\"\",IFERROR(VLOOKUP(N30,Tabelas!B:D,3,0),0),\"\")","v":0},{"$f":"IF(A30<>\"\",IFERROR(VLOOKUP(O30,Tabelas!B:D,3,0),0),\"\")","v":0},{"$f":"IF(A30<>\"\",IFERROR(VLOOKUP(P30,Tabelas!B:D,3,0),0),\"\")","v":0},{"$f":"IF(A30<>\"\",IFERROR(VLOOKUP(Q30,Tabelas!B:D,3,0),0),\"\")","v":0},{"$f":"IF(A30<>\"\",IFERROR(VLOOKUP(R30,Tabelas!B:D,3,0),0),\"\")","v":0},{"$f":"IF(A30<>\"\",IFERROR(VLOOKUP(S30,Tabelas!B:D,3,0),0),\"\")","v":0},{"$f":"IF(A30<>\"\",IFERROR(VLOOKUP(T30,Tabelas!B:D,3,0),0),\"\")","v":0},{"$f":"IF(A30<>\"\",IFERROR(VLOOKUP(U30,Tabelas!B:D,3,0),0),\"\")","v":0},{"$f":"IF(A30<>\"\",IFERROR(VLOOKUP(V30,Tabelas!B:D,3,0),0),\"\")","v":0},{"$f":"IF(A30<>\"\",IFERROR(VLOOKUP(W30,Tabelas!B:D,3,0),0),\"\")","v":0},{"$f":"IF(A30<>\"\",IFERROR(VLOOKUP(X30,Tabelas!B:D,3,0),0),\"\")","v":0},{"$f":"IF(A30<>\"\",IFERROR(VLOOKUP(Y30,Tabelas!B:D,3,0),0),\"\")","v":0},{"$f":"IF(A30<>\"\",IFERROR(VLOOKUP(Z30,Tabelas!B:D,3,0),0),\"\")","v":0},{"$f":"IF(A30<>\"\",IFERROR(VLOOKUP(AA30,Tabelas!B:D,3,0),0),\"\")","v":0},{"$f":"IF(A30<>\"\",IFERROR(VLOOKUP(AB30,Tabelas!B:D,3,0),0),\"\")","v":0},{"$f":"IF(A30<>\"\",IFERROR(VLOOKUP(AC30,Tabelas!B:D,3,0),0),\"\")","v":0},{"$f":"IF(A30<>\"\",IFERROR(VLOOKUP(AD30,Tabelas!B:D,3,0),0),\"\")","v":0},{"$f":"IF(A30<>\"\",IFERROR(VLOOKUP(AE30,Tabelas!B:D,3,0),0),\"\")","v":0},{"$f":"IF(A30<>\"\",IFERROR(VLOOKUP(AF30,Tabelas!B:D,3,0),0),\"\")","v":0},{"$f":"IF(A30<>\"\",IFERROR(VLOOKUP(AG30,Tabelas!B:D,3,0),0),\"\")","v":0},{"$f":"IF(A30<>\"\",IFERROR(VLOOKUP(AH30,Tabelas!B:D,3,0),0),\"\")","v":0},{"$f":"IF(A30<>\"\",IFERROR(VLOOKUP(AI30,Tabelas!B:D,3,0),0),\"\")","v":0},{"$f":"IF(A30<>\"\",IFERROR(VLOOKUP(AJ30,Tabelas!B:D,3,0),0),\"\")","v":0},{"$f":"IF(A30<>\"\",IFERROR(VLOOKUP(AK30,Tabelas!B:D,3,0),0),\"\")","v":0},{"$f":"IF(A30<>\"\",IFERROR(VLOOKUP(AL30,Tabelas!B:D,3,0),0),\"\")","v":0},{"$f":"IF(A30<>\"\",IFERROR(VLOOKUP(AM30,Tabelas!B:D,3,0),0),\"\")","v":0},{"$f":"IF(A30<>\"\",IFERROR(VLOOKUP(AN30,Tabelas!B:D,3,0),0),\"\")","v":0},{"$f":"IF(A30<>\"\",IFERROR(VLOOKUP(AO30,Tabelas!B:D,3,0),0),\"\")","v":0},{"$f":"IF(A30<>\"\",IFERROR(VLOOKUP(AP30,Tabelas!B:D,3,0),0),\"\")","v":0},{"$f":"IF(A30<>\"\",IFERROR(VLOOKUP(AQ30,Tabelas!B:D,3,0),0),\"\")","v":0},0,0,0,0,0,0,0,0]
["FULANO 23",23,null,null,null,null,null,null,null,null,null,null,null,null,null,null,null,null,null,null,null,null,null,null,null,null,null,null,null,null,null,null,null,null,null,null,null,null,null,null,null,null,null,{"$f":"IF(A31<>\"\",IFERROR(VLOOKUP(M31,Tabelas!B:D,3,0),0),\"\")","v":0},{"$f":"IF(A31<>\"\",IFERROR(VLOOKUP(N31,Tabelas!B:D,3,0),0),\"\")","v":0},{"$f":"IF(A31<>\"\",IFERROR(VLOOKUP(O31,Tabelas!B:D,3,0),0),\"\")","v":0},{"$f":"IF(A31<>\"\",IFERROR(VLOOKUP(P31,Tabelas!B:D,3,0),0),\"\")","v":0},{"$f":"IF(A31<>\"\",IFERROR(VLOOKUP(Q31,Tabelas!B:D,3,0),0),\"\")","v":0},{"$f":"IF(A31<>\"\",IFERROR(VLOOKUP(R31,Tabelas!B:D,3,0),0),\"\")","v":0},{"$f":"IF(A31<>\"\",IFERROR(VLOOKUP(S31,Tabelas!B:D,3,0),0),\"\")","v":0},{"$f":"IF(A31<>\"\",IFERROR(VLOOKUP(T31,Tabelas!B:D,3,0),0),\"\")","v":0},{"$f":"IF(A31<>\"\",IFERROR(VLOOKUP(U31,Tabelas!B:D,3,0),0),\"\")","v":0},{"$f":"IF(A31<>\"\",IFERROR(VLOOKUP(V31,Tabelas!B:D,3,0),0),\"\")","v":0},{"$f":"IF(A31<>\"\",IFERROR(VLOOKUP(W31,Tabelas!B:D,3,0),0),\"\")","v":0},{"$f":"IF(A31<>\"\",IFERROR(VLOOKUP(X31,Tabelas!B:D,3,0),0),\"\")","v":0},{"$f":"IF(A31<>\"\",IFERROR(VLOOKUP(Y31,Tabelas!B:D,3,0),0),\"\")","v":0},{"$f":"IF(A31<>\"\",IFERROR(VLOOKUP(Z31,Tabelas!B:D,3,0),0),\"\")","v":0},{"$f":"IF(A31<>\"\",IFERROR(VLOOKUP(AA31,Tabelas!B:D,3,0),0),\"\")","v":0},{"$f":"IF(A31<>\"\",IFERROR(VLOOKUP(AB31,Tabelas!B:D,3,0),0),\"\")","v":0},{"$f":"IF(A31<>\"\",IFERROR(VLOOKUP(AC31,Tabelas!B:D,3,0),0),\"\")","v":0},{"$f":"IF(A31<>\"\",IFERROR(VLOOKUP(AD31,Tabelas!B:D,3,0),0),\"\")","v":0},{"$f":"IF(A31<>\"\",IFERROR(VLOOKUP(AE31,Tabelas!B:D,3,0),0),\"\")","v":0},{"$f":"IF(A31<>\"\",IFERROR(VLOOKUP(AF31,Tabelas!B:D,3,0),0),\"\")","v":0},{"$f":"IF(A31<>\"\",IFERROR(VLOOKUP(AG31,Tabelas!B:D,3,0),0),\"\")","v":0},{"$f":"IF(A31<>\"\",IFERROR(VLOOKUP(AH31,Tabelas!B:D,3,0),0),\"\")","v":0},{"$f":"IF(A31<>\"\",IFERROR(VLOOKUP(AI31,Tabelas!B:D,3,0),0),\"\")","v":0},{"$f":"IF(A31<>\"\",IFERROR(VLOOKUP(AJ31,Tabelas!B:D,3,0),0),\"\")","v":0},{"$f":"IF(A31<>\"\",IFERROR(VLOOKUP(AK31,Tabelas!B:D,3,0),0),\"\")","v":0},{"$f":"IF(A31<>\"\",IFERROR(VLOOKUP(AL31,Tabelas!B:D,3,0),0),\"\")","v":0},{"$f":"IF(A31<>\"\",IFERROR(VLOOKUP(AM31,Tabelas!B:D,3,0),0),\"\")","v":0},{"$f":"IF(A31<>\"\",IFERROR(VLOOKUP(AN31,Tabelas!B:D,3,0),0),\"\")","v":0},{"$f":"IF(A31<>\"\",IFERROR(VLOOKUP(AO31,Tabelas!B:D,3,0),0),\"\")","v":0},{"$f":"IF(A31<>\"\",IFERROR(VLOOKUP(AP31,Tabelas!B:D,3,0),0),\"\")","v":0},{"$f":"IF(A31<>\"\",IFERROR(VLOOKUP(AQ31,Tabelas!B:D,3,0),0),\"\")","v":0},0,0,0,0,0,0,0,0]
["FULANO 24",24,null,null,null,null,null,null,null,null,null,null,null,null,null,null,null,null,null,null,null,null,null,null,null,null,null,null,null,null,null,null,null,null,null,null,null,null,null,null,null,null,null,{"$f":"IF(A32<>\"\",IFERROR(VLOOKUP(M32,Tabelas!B:D,3,0),0),\"\")","v":0},{"$f":"IF(A32<>\"\",IFERROR(VLOOKUP(N32,Tabelas!B:D,3,0),0),\"\")","v":0},{"$f":"IF(A32<>\"\",IFERROR(VLOOKUP(O32,Tabelas!B:D,3,0),0),\"\")","v":0},{"$f":"IF(A32<>\"\",IFERROR(VLOOKUP(P32,Tabelas!B:D,3,0),0),\"\")","v":0},{"$f":"IF(A32<>\"\",IFERROR(VLOOKUP(Q32,Tabelas!B:D,3,0),0),\"\")","v":0},{"$f":"IF(A32<>\"\",IFERROR(VLOOKUP(R32,Tabelas!B:D,3,0),0),\"\")","v":0},{"$f":"IF(A32<>\"\",IFERROR(VLOOKUP(S32,Tabelas!B:D,3,0),0),\"\")","v":0},{"$f":"IF(A32<>\"\",IFERROR(VLOOKUP(T32,Tabelas!B:D,3,0),0),\"\")","v":0},{"$f":"IF(A32<>\"\",IFERROR(VLOOKUP(U32,Tabelas!B:D,3,0),0),\"\")","v":0},{"$f":"IF(A32<>\"\",IFERROR(VLOOKUP(V32,Tabelas!B:D,3,0),0),\"\")","v":0},{"$f":"IF(A32<>\"\",IFERROR(VLOOKUP(W32,Tabelas!B:D,3,0),0),\"\")","v":0},{"$f":"IF(A32<>\"\",IFERROR(VLOOKUP(X32,Tabelas!B:D,3,0),0),\"\")","v":0},{"$f":"IF(A32<>\"\",IFERROR(VLOOKUP(Y32,Tabelas!B:D,3,0),0),\"\")","v":0},{"$f":"IF(A32<>\"\",IFERROR(VLOOKUP(Z32,Tabelas!B:D,3,0),0),\"\")","v":0},{"$f":"IF(A32<>\"\",IFERROR(VLOOKUP(AA32,Tabelas!B:D,3,0),0),\"\")","v":0},{"$f":"IF(A32<>\"\",IFERROR(VLOOKUP(AB32,Tabelas!B:D,3,0),0),\"\")","v":0},{"$f":"IF(A32<>\"\",IFERROR(VLOOKUP(AC32,Tabelas!B:D,3,0),0),\"\")","v":0},{"$f":"IF(A32<>\"\",IFERROR(VLOOKUP(AD32,Tabelas!B:D,3,0),0),\"\")","v":0},{"$f":"IF(A32<>\"\",IFERROR(VLOOKUP(AE32,Tabelas!B:D,3,0),0),\"\")","v":0},{"$f":"IF(A32<>\"\",IFERROR(VLOOKUP(AF32,Tabelas!B:D,3,0),0),\"\")","v":0},{"$f":"IF(A32<>\"\",IFERROR(VLOOKUP(AG32,Tabelas!B:D,3,0),0),\"\")","v":0},{"$f":"IF(A32<>\"\",IFERROR(VLOOKUP(AH32,Tabelas!B:D,3,0),0),\"\")","v":0},{"$f":"IF(A32<>\"\",IFERROR(VLOOKUP(AI32,Tabelas!B:D,3,0),0),\"\")","v":0},{"$f":"IF(A32<>\"\",IFERROR(VLOOKUP(AJ32,Tabelas!B:D,3,0),0),\"\")","v":0},{"$f":"IF(A32<>\"\",IFERROR(VLOOKUP(AK32,Tabelas!B:D,3,0),0),\"\")","v":0},{"$f":"IF(A32<>\"\",IFERROR(VLOOKUP(AL32,Tabelas!B:D,3,0),0),\"\")","v":0},{"$f":"IF(A32<>\"\",IFERROR(VLOOKUP(AM32,Tabelas!B:D,3,0),0),\"\")","v":0},{"$f":"IF(A32<>\"\",IFERROR(VLOOKUP(AN32,Tabelas!B:D,3,0),0),\"\")","v":0},{"$f":"IF(A32<>\"\",IFERROR(VLOOKUP(AO32,Tabelas!B:D,3,0),0),\"\")","v":0},{"$f":"IF(A32<>\"\",IFERROR(VLOOKUP(AP32,Tabelas!B:D,3,0),0),\"\")","v":0},{"$f":"IF(A32<>\"\",IFERROR(VLOOKUP(AQ32,Tabelas!B:D,3,0),0),\"\")","v":0},0,0,0,0,0,0,0,0]
["FULANO 25",25,null,null,null,null,null,null,null,null,null,null,null,null,null,null,null,null,null,null,null,null,null,null,null,null,null,null,null,null,null,null,null,null,null,null,null,null,null,null,null,null,null,{"$f":"IF(A33<>\"\",IFERROR(VLOOKUP(M33,Tabelas!B:D,3,0),0),\"\")","v":0},{"$f":"IF(A33<>\"\",IFERROR(VLOOKUP(N33,Tabelas!B:D,3,0),0),\"\")","v":0},{"$f":"IF(A33<>\"\",IFERROR(VLOOKUP(O33,Tabelas!B:D,3,0),0),\"\")","v":0},{"$f":"IF(A33<>\"\",IFERROR(VLOOKUP(P33,Tabelas!B:D,3,0),0),\"\")","v":0},{"$f":"IF(A33<>\"\",IFERROR(VLOOKUP(Q33,Tabelas!B:D,3,0),0),\"\")","v":0},{"$f":"IF(A33<>\"\",IFERROR(VLOOKUP(R33,Tabelas!B:D,3,0),0),\"\")","v":0},{"$f":"IF(A33<>\"\",IFERROR(VLOOKUP(S33,Tabelas!B:D,3,0),0),\"\")","v":0},{"$f":"IF(A33<>\"\",IFERROR(VLOOKUP(T33,Tabelas!B:D,3,0),0),\"\")","v":0},{"$f":"IF(A33<>\"\",IFERROR(VLOOKUP(U33,Tabelas!B:D,3,0),0),\"\")","v":0},{"$f":"IF(A33<>\"\",IFERROR(VLOOKUP(V33,Tabelas!B:D,3,0),0),\"\")","v":0},{"$f":"IF(A33<>\"\",IFERROR(VLOOKUP(W33,Tabelas!B:D,3,0),0),\"\")","v":0},{"$f":"IF(A33<>\"\",IFERROR(VLOOKUP(X33,Tabelas!B:D,3,0),0),\"\")","v":0},{"$f":"IF(A33<>\"\",IFERROR(VLOOKUP(Y33,Tabelas!B:D,3,0),0),\"\")","v":0},{"$f":"IF(A33<>\"\",IFERROR(VLOOKUP(Z33,Tabelas!B:D,3,0),0),\"\")","v":0},{"$f":"IF(A33<>\"\",IFERROR(VLOOKUP(AA33,Tabelas!B:D,3,0),0),\"\")","v":0},{"$f":"IF(A33<>\"\",IFERROR(VLOOKUP(AB33,Tabelas!B:D,3,0),0),\"\")","v":0},{"$f":"IF(A33<>\"\",IFERROR(VLOOKUP(AC33,Tabelas!B:D,3,0),0),\"\")","v":0},{"$f":"IF(A33<>\"\",IFERROR(VLOOKUP(AD33,Tabelas!B:D,3,0),0),\"\")","v":0},{"$f":"IF(A33<>\"\",IFERROR(VLOOKUP(AE33,Tabelas!B:D,3,0),0),\"\")","v":0},{"$f":"IF(A33<>\"\",IFERROR(VLOOKUP(AF33,Tabelas!B:D,3,0),0),\"\")","v":0},{"$f":"IF(A33<>\"\",IFERROR(VLOOKUP(AG33,Tabelas!B:D,3,0),0),\"\")","v":0},{"$f":"IF(A33<>\"\",IFERROR(VLOOKUP(AH33,Tabelas!B:D,3,0),0),\"\")","v":0},{"$f":"IF(A33<>\"\",IFERROR(VLOOKUP(AI33,Tabelas!B:D,3,0),0),\"\")","v":0},{"$f":"IF(A33<>\"\",IFERROR(VLOOKUP(AJ33,Tabelas!B:D,3,0),0),\"\")","v":0},{"$f":"IF(A33<>\"\",IFERROR(VLOOKUP(AK33,Tabelas!B:D,3,0),0),\"\")","v":0},{"$f":"IF(A33<>\"\",IFERROR(VLOOKUP(AL33,Tabelas!B:D,3,0),0),\"\")","v":0},{"$f":"IF(A33<>\"\",IFERROR(VLOOKUP(AM33,Tabelas!B:D,3,0),0),\"\")","v":0},{"$f":"IF(A33<>\"\",IFERROR(VLOOKUP(AN33,Tabelas!B:D,3,0),0),\"\")","v":0},{"$f":"IF(A33<>\"\",IFERROR(VLOOKUP(AO33,Tabelas!B:D,3,0),0),\"\")","v":0},{"$f":"IF(A33<>\"\",IFERROR(VLOOKUP(AP33,Tabelas!B:D,3,0),0),\"\")","v":0},{"$f":"IF(A33<>\"\",IFERROR(VLOOKUP(AQ33,Tabelas!B:D,3,0),0),\"\")","v":0},0,0,0,0,0,0,0,0]
["FULANO 26",26,null,null,null,null,null,null,null,null,null,null,null,null,null,null,null,null,null,null,null,null,null,null,null,null,null,null,null,null,null,null,null,null,null,null,null,null,null,null,null,null,null,{"$f":"IF(A34<>\"\",IFERROR(VLOOKUP(M34,Tabelas!B:D,3,0),0),\"\")","v":0},{"$f":"IF(A34<>\"\",IFERROR(VLOOKUP(N34,Tabelas!B:D,3,0),0),\"\")","v":0},{"$f":"IF(A34<>\"\",IFERROR(VLOOKUP(O34,Tabelas!B:D,3,0),0),\"\")","v":0},{"$f":"IF(A34<>\"\",IFERROR(VLOOKUP(P34,Tabelas!B:D,3,0),0),\"\")","v":0},{"$f":"IF(A34<>\"\",IFERROR(VLOOKUP(Q34,Tabelas!B:D,3,0),0),\"\")","v":0},{"$f":"IF(A34<>\"\",IFERROR(VLOOKUP(R34,Tabelas!B:D,3,0),0),\"\")","v":0},{"$f":"IF(A34<>\"\",IFERROR(VLOOKUP(S34,Tabelas!B:D,3,0),0),\"\")","v":0},{"$f":"IF(A34<>\"\",IFERROR(VLOOKUP(T34,Tabelas!B:D,3,0),0),\"\")","v":0},{"$f":"IF(A34<>\"\",IFERROR(VLOOKUP(U34,Tabelas!B:D,3,0),0),\"\")","v":0},{"$f":"IF(A34<>\"\",IFERROR(VLOOKUP(V34,Tabelas!B:D,3,0),0),\"\")","v":0},{"$f":"IF(A34<>\"\",IFERROR(VLOOKUP(W34,Tabelas!B:D,3,0),0),\"\")","v":0},{"$f":"IF(A34<>\"\",IFERROR(VLOOKUP(X34,Tabelas!B:D,3,0),0),\"\")","v":0},{"$f":"IF(A34<>\"\",IFERROR(VLOOKUP(Y34,Tabelas!B:D,3,0),0),\"\")","v":0},{"$f":"IF(A34<>\"\",IFERROR(VLOOKUP(Z34,Tabelas!B:D,3,0),0),\"\")","v":0},{"$f":"IF(A34<>\"\",IFERROR(VLOOKUP(AA34,Tabelas!B:D,3,0),0),\"\")","v":0},{"$f":"IF(A34<>\"\",IFERROR(VLOOKUP(AB34,Tabelas!B:D,3,0),0),\"\")","v":0},{"$f":"IF(A34<>\"\",IFERROR(VLOOKUP(AC34,Tabelas!B:D,3,0),0),\"\")","v":0},{"$f":"IF(A34<>\"\",IFERROR(VLOOKUP(AD34,Tabelas!B:D,3,0),0),\"\")","v":0},{"$f":"IF(A34<>\"\",IFERROR(VLOOKUP(AE34,Tabelas!B:D,3,0),0),\"\")","v":0},{"$f":"IF(A34<>\"\",IFERROR(VLOOKUP(AF34,Tabelas!B:D,3,0),0),\"\")","v":0},{"$f":"IF(A34<>\"\",IFERROR(VLOOKUP(AG34,Tabelas!B:D,3,0),0),\"\")","v":0},{"$f":"IF(A34<>\"\",IFERROR(VLOOKUP(AH34,Tabelas!B:D,3,0),0),\"\")","v":0},{"$f":"IF(A34<>\"\",IFERROR(VLOOKUP(AI34,Tabelas!B:D,3,0),0),\"\")","v":0},{"$f":"IF(A34<>\"\",IFERROR(VLOOKUP(AJ34,Tabelas!B:D,3,0),0),\"\")","v":0},{"$f":"IF(A34<>\"\",IFERROR(VLOOKUP(AK34,Tabelas!B:D,3,0),0),\"\")","v":0},{"$f":"IF(A34<>\"\",IFERROR(VLOOKUP(AL34,Tabelas!B:D,3,0),0),\"\")","v":0},{"$f":"IF(A34<>\"\",IFERROR(VLOOKUP(AM34,Tabelas!B:D,3,0),0),\"\")","v":0},{"$f":"IF(A34<>\"\",IFERROR(VLOOKUP(AN34,Tabelas!B:D,3,0),0),\"\")","v":0},{"$f":"IF(A34<>\"\",IFERROR(VLOOKUP(AO34,Tabelas!B:D,3,0),0),\"\")","v":0},{"$f":"IF(A34<>\"\",IFERROR(VLOOKUP(AP34,Tabelas!B:D,3,0),0),\"\")","v":0},{"$f":"IF(A34<>\"\",IFERROR(VLOOKUP(AQ34,Tabelas!B:D,3,0),0),\"\")","v":0},0,0,0,0,0,0,0,0]
["FULANO 27",27,null,null,null,null,null,null,null,null,null,null,null,null,null,null,null,null,null,null,null,null,null,null,null,null,null,null,null,null,null,null,null,null,null,null,null,null,null,null,null,null,null,{"$f":"IF(A35<>\"\",IFERROR(VLOOKUP(M35,Tabelas!B:D,3,0),0),\"\")","v":0},{"$f":"IF(A35<>\"\",IFERROR(VLOOKUP(N35,Tabelas!B:D,3,0),0),\"\")","v":0},{"$f":"IF(A35<>\"\",IFERROR(VLOOKUP(O35,Tabelas!B:D,3,0),0),\"\")","v":0},{"$f":"IF(A35<>\"\",IFERROR(VLOOKUP(P35,Tabelas!B:D,3,0),0),\"\")","v":0},{"$f":"IF(A35<>\"\",IFERROR(VLOOKUP(Q35,Tabelas!B:D,3,0),0),\"\")","v":0},{"$f":"IF(A35<>\"\",IFERROR(VLOOKUP(R35,Tabelas!B:D,3,0),0),\"\")","v":0},{"$f":"IF(A35<>\"\",IFERROR(VLOOKUP(S35,Tabelas!B:D,3,0),0),\"\")","v":0},{"$f":"IF(A35<>\"\",IFERROR(VLOOKUP(T35,Tabelas!B:D,3,0),0),\"\")","v":0},{"$f":"IF(A35<>\"\",IFERROR(VLOOKUP(U35,Tabelas!B:D,3,0),0),\"\")","v":0},{"$f":"IF(A35<>\"\",IFERROR(VLOOKUP(V35,Tabelas!B:D,3,0),0),\"\")","v":0},{"$f":"IF(A35<>\"\",IFERROR(VLOOKUP(W35,Tabelas!B:D,3,0),0),\"\")","v":0},{"$f":"IF(A35<>\"\",IFERROR(VLOOKUP(X35,Tabelas!B:D,3,0),0),\"\")","v":0},{"$f":"IF(A35<>\"\",IFERROR(VLOOKUP(Y35,Tabelas!B:D,3,0),0),\"\")","v":0},{"$f":"IF(A35<>\"\",IFERROR(VLOOKUP(Z35,Tabelas!B:D,3,0),0),\"\")","v":0},{"$f":"IF(A35<>\"\",IFERROR(VLOOKUP(AA35,Tabelas!B:D,3,0),0),\"\")","v":0},{"$f":"IF(A35<>\"\",IFERROR(VLOOKUP(AB35,Tabelas!B:D,3,0),0),\"\")","v":0},{"$f":"IF(A35<>\"\",IFERROR(VLOOKUP(AC35,Tabelas!B:D,3,0),0),\"\")","v":0},{"$f":"IF(A35<>\"\",IFERROR(VLOOKUP(AD35,Tabelas!B:D,3,0),0),\"\")","v":0},{"$f":"IF(A35<>\"\",IFERROR(VLOOKUP(AE35,Tabelas!B:D,3,0),0),\"\")","v":0},{"$f":"IF(A35<>\"\",IFERROR(VLOOKUP(AF35,Tabelas!B:D,3,0),0),\"\")","v":0},{"$f":"IF(A35<>\"\",IFERROR(VLOOKUP(AG35,Tabelas!B:D,3,0),0),\"\")","v":0},{"$f":"IF(A35<>\"\",IFERROR(VLOOKUP(AH35,Tabelas!B:D,3,0),0),\"\")","v":0},{"$f":"IF(A35<>\"\",IFERROR(VLOOKUP(AI35,Tabelas!B:D,3,0),0),\"\")","v":0},{"$f":"IF(A35<>\"\",IFERROR(VLOOKUP(AJ35,Tabelas!B:D,3,0),0),\"\")","v":0},{"$f":"IF(A35<>\"\",IFERROR(VLOOKUP(AK35,Tabelas!B:D,3,0),0),\"\")","v":0},{"$f":"IF(A35<>\"\",IFERROR(VLOOKUP(AL35,Tabelas!B:D,3,0),0),\"\")","v":0},{"$f":"IF(A35<>\"\",IFERROR(VLOOKUP(AM35,Tabelas!B:D,3,0),0),\"\")","v":0},{"$f":"IF(A35<>\"\",IFERROR(VLOOKUP(AN35,Tabelas!B:D,3,0),0),\"\")","v":0},{"$f":"IF(A35<>\"\",IFERROR(VLOOKUP(AO35,Tabelas!B:D,3,0),0),\"\")","v":0},{"$f":"IF(A35<>\"\",IFERROR(VLOOKUP(AP35,Tabelas!B:D,3,0),0),\"\")","v":0},{"$f":"IF(A35<>\"\",IFERROR(VLOOKUP(AQ35,Tabelas!B:D,3,0),0),\"\")","v":0},0,{"$f":"IF(A35<>\"\",COUNTIF(M35:AQ35,\"LM\")+COUNTIF(M35:AQ35,\"L*\")+COUNTIF(M35:AQ35,\"LP\"),\"\")","v":0},0,0,0,0,0,0]
["TOTAL PROFISSIONAIS MATUTINO",null,null,null,null,null,null,null,null,null,null,null,{"$f":"IF(COUNTIF(Julho!AQ9:AQ35,\"PR5\")+COUNTIF(Julho!AQ9:AQ35,\"PR6\")+COUNTIF(Julho!AQ9:AQ35,\"PR7\")+COUNTIF(Julho!AQ9:AQ35,\"PR8\")+COUNTIF(Julho!AQ9:AQ35,\"PR9\")+COUNTIF(M9:M35,\"M*\")+ COUNTIF(M9:M35, \"D*\")-COUNTIF(M9:M35,\"DSR\")+COUNTIF(M9:M35,\"PR1\")+COUNTIF(M9:M35,\"PR2\")+COUNTIF(M9:M35,\"PR3\")+COUNTIF(M9:M35,\"PR4\")<>0,COUNTIF(Julho!AQ9:AQ35,\"PR5\")+COUNTIF(Julho!AQ9:AQ35,\"PR6\")+COUNTIF(Julho!AQ9:AQ35,\"PR7\")+COUNTIF(Julho!AQ9:AQ35,\"PR8\")+COUNTIF(Julho!AQ9:AQ35,\"PR9\")+COUNTIF(M9:M35,\"M*\")+ COUNTIF(M9:M35, \"D*\")-COUNTIF(M9:M35,\"DSR\")+COUNTIF(M9:M35,\"PR1\")+COUNTIF(M9:M35,\"PR2\")+COUNTIF(M9:M35,\"PR3\")+COUNTIF(M9:M35,\"PR4\"),\"\")","v":""},{"$f":"IF(COUNTIF(N9:N35,\"M*\")+ COUNTIF(N9:N35, \"D*\")-COUNTIF(N9:N35,\"DSR\")+COUNTIF(M9:M35,\"PR5\")+COUNTIF(M9:M35,\"PR6\")+COUNTIF(M9:M35,\"PR7\")+COUNTIF(M9:M35,\"PR8\")+COUNTIF(M9:M35,\"PR9\")+COUNTIF(N9:N35,\"PR1\")+COUNTIF(N9:N35,\"PR2\")+COUNTIF(N9:N35,\"PR3\")+COUNTIF(N9:N35,\"PR4\")<>0,COUNTIF(N9:N35,\"M*\")+ COUNTIF(N9:N35, \"D*\")-COUNTIF(N9:N35,\"DSR\")+COUNTIF(M9:M35,\"PR5\")+COUNTIF(M9:M35,\"PR6\")+COUNTIF(M9:M35,\"PR7\")+COUNTIF(M9:M35,\"PR8\")+COUNTIF(M9:M35,\"PR9\")+COUNTIF(N9:N35,\"PR1\")+COUNTIF(N9:N35,\"PR2\")+COUNTIF(N9:N35,\"PR3\")+COUNTIF(N9:N35,\"PR4\"),\"\")","v":""},{"$f":"IF(COUNTIF(O9:O35,\"M*\")+ COUNTIF(O9:O35, \"D*\")-COUNTIF(O9:O35,\"DSR\")+COUNTIF(N9:N35,\"PR5\")+COUNTIF(N9:N35,\"PR6\")+COUNTIF(N9:N35,\"PR7\")+COUNTIF(N9:N35,\"PR8\")+COUNTIF(N9:N35,\"PR9\")+COUNTIF(O9:O35,\"PR1\")+COUNTIF(O9:O35,\"PR2\")+COUNTIF(O9:O35,\"PR3\")+COUNTIF(O9:O35,\"PR4\")<>0,COUNTIF(O9:O35,\"M*\")+ COUNTIF(O9:O35, \"D*\")-COUNTIF(O9:O35,\"DSR\")+COUNTIF(N9:N35,\"PR5\")+COUNTIF(N9:N35,\"PR6\")+COUNTIF(N9:N35,\"PR7\")+COUNTIF(N9:N35,\"PR8\")+COUNTIF(N9:N35,\"PR9\")+COUNTIF(O9:O35,\"PR1\")+COUNTIF(O9:O35,\"PR2\")+COUNTIF(O9:O35,\"PR3\")+COUNTIF(O9:O35,\"PR4\"),\"\")","v":""},"","","","","","","","","","","","","","","","","","","","","","","","","","","","",null,null,null,null,null,null,null,null,null,null,null,null,null,null,null,null,null,null,null,null,null,null,null,null,null,null,null,null,null,null,null,{"$f":"SUM(BW9:BW35)","v":0},{"$f":"SUM(BX9:BX35)","v":0},0,0,0,0,0,0]
["TOTAL DE PROFISSIONAIS VESPERTINO",null,null,null,null,null,null,null,null,null,null,null,{"$f":"IF(COUNTIF(Julho!AQ9:AQ35,\"PR5\")+COUNTIF(Julho!AQ9:AQ35,\"PR6\")+COUNTIF(Julho!AQ9:AQ35,\"PR7\")+COUNTIF(Julho!AQ9:AQ35,\"PR8\")+COUNTIF(Julho!AQ9:AQ35,\"PR9\")+COUNTIF(M9:M35,\"MT*\") + COUNTIF(M9:M35, \"D*\") + COUNTIF(M9:M35,\"T*\")-COUNTIF(M9:M35,\"DSR\")+COUNTIF(M9:M35,\"PR1\")+COUNTIF(M9:M35,\"PR2\")+COUNTIF(M9:M35,\"PR3\")+COUNTIF(M9:M35,\"PR4\")<>0,COUNTIF(Julho!AQ9:AQ35,\"PR5\")+COUNTIF(Julho!AQ9:AQ35,\"PR6\")+COUNTIF(Julho!AQ9:AQ35,\"PR7\")+COUNTIF(Julho!AQ9:AQ35,\"PR8\")+COUNTIF(Julho!AQ9:AQ35,\"PR9\")+COUNTIF(M9:M35,\"MT*\") + COUNTIF(M9:M35, \"D*\") + COUNTIF(M9:M35,\"T*\")+COUNTIF(M9:M35,\"PR1\")+COUNTIF(M9:M35,\"PR2\")+COUNTIF(M9:M35,\"PR3\")+COUNTIF(M9:M35,\"PR4\")-COUNTIF(M9:M35,\"DSR\"),\"\")","v":""},{"$f":"IF(COUNTIF(N9:N35,\"MT*\") + COUNTIF(N9:N35, \"D*\") + COUNTIF(N9:N35,\"T*\")-COUNTIF(N9:N35,\"DSR\")+COUNTIF(M9:M35,\"PR5\")+COUNTIF(M9:M35,\"PR6\")+COUNTIF(M9:M35,\"PR7\")+COUNTIF(M9:M35,\"PR8\")+COUNTIF(M9:M35,\"PR9\")+COUNTIF(N9:N35,\"PR1\")+COUNTIF(N9:N35,\"PR2\")+COUNTIF(N9:N35,\"PR3\")+COUNTIF(N9:N35,\"PR4\")<>0,COUNTIF(N9:N35,\"MT*\") + COUNTIF(N9:N35, \"D*\") + COUNTIF(N9:N35,\"T*\")+COUNTIF(M9:M35,\"PR5\")+COUNTIF(M9:M35,\"PR6\")+COUNTIF(M9:M35,\"PR7\")+COUNTIF(M9:M35,\"PR8\")+COUNTIF(M9:M35,\"PR9\")+COUNTIF(N9:N35,\"PR1\")+COUNTIF(N9:N35,\"PR2\")+COUNTIF(N9:N35,\"PR3\")+COUNTIF(N9:N35,\"PR4\")-COUNTIF(N9:N35,\"DSR\"),\"\")","v":""},{"$f":"IF(COUNTIF(O9:O35,\"MT*\") + COUNTIF(O9:O35, \"D*\") + COUNTIF(O9:O35,\"T*\")-COUNTIF(O9:O35,\"DSR\")+COUNTIF(N9:N35,\"PR5\")+COUNTIF(N9:N35,\"PR6\")+COUNTIF(N9:N35,\"PR7\")+COUNTIF(N9:N35,\"PR8\")+COUNTIF(N9:N35,\"PR9\")+COUNTIF(O9:O35,\"PR1\")+COUNTIF(O9:O35,\"PR2\")+COUNTIF(O9:O35,\"PR3\")+COUNTIF(O9:O35,\"PR4\")<>0,COUNTIF(O9:O35,\"MT*\") + COUNTIF(O9:O35, \"D*\") + COUNTIF(O9:O35,\"T*\")+COUNTIF(N9:N35,\"PR5\")+COUNTIF(N9:N35,\"PR6\")+COUNTIF(N9:N35,\"PR7\")+COUNTIF(N9:N35,\"PR8\")+COUNTIF(N9:N35,\"PR9\")+COUNTIF(O9:O35,\"PR1\")+COUNTIF(O9:O35,\"PR2\")+COUNTIF(O9:O35,\"PR3\")+COUNTIF(O9:O35,\"PR4\")-COUNTIF(O9:O35,\"DSR\"),\"\")","v":""},"","","","","","","","","","","","","","","","","","","","","","","","","","","","",{"$f":"IF(A37<>\"\",IFERROR(VLOOKUP(M37,Tabelas!B:D,3,0),0),\"\")","v":0},{"$f":"IF(A37<>\"\",IFERROR(VLOOKUP(N37,Tabelas!B:D,3,0),0),\"\")","v":0},{"$f":"IF(A37<>\"\",IFERROR(VLOOKUP(O37,Tabelas!B:D,3,0),0),\"\")","v":0},{"$f":"IF(A37<>\"\",IFERROR(VLOOKUP(P37,Tabelas!B:D,3,0),0),\"\")","v":0},{"$f":"IF(A37<>\"\",IFERROR(VLOOKUP(Q37,Tabelas!B:D,3,0),0),\"\")","v":0},{"$f":"IF(A37<>\"\",IFERROR(VLOOKUP(R37,Tabelas!B:D,3,0),0),\"\")","v":0},{"$f":"IF(A37<>\"\",IFERROR(VLOOKUP(S37,Tabelas!B:D,3,0),0),\"\")","v":0},{"$f":"IF(A37<>\"\",IFERROR(VLOOKUP(T37,Tabelas!B:D,3,0),0),\"\")","v":0},{"$f":"IF(A37<>\"\",IFERROR(VLOOKUP(U37,Tabelas!B:D,3,0),0),\"\")","v":0},{"$f":"IF(A37<>\"\",IFERROR(VLOOKUP(V37,Tabelas!B:D,3,0),0),\"\")","v":0},{"$f":"IF(A37<>\"\",IFERROR(VLOOKUP(W37,Tabelas!B:D,3,0),0),\"\")","v":0},{"$f":"IF(A37<>\"\",IFERROR(VLOOKUP(X37,Tabelas!B:D,3,0),0),\"\")","v":0},{"$f":"IF(A37<>\"\",IFERROR(VLOOKUP(Y37,Tabelas!B:D,3,0),0),\"\")","v":0},{"$f":"IF(A37<>\"\",IFERROR(VLOOKUP(Z37,Tabelas!B:D,3,0),0),\"\")","v":0},{"$f":"IF(A37<>\"\",IFERROR(VLOOKUP(AA37,Tabelas!B:D,3,0),0),\"\")","v":0},{"$f":"IF(A37<>\"\",IFERROR(VLOOKUP(AB37,Tabelas!B:D,3,0),0),\"\")","v":0},{"$f":"IF(A37<>\"\",IFERROR(VLOOKUP(AC37,Tabelas!B:D,3,0),0),\"\")","v":0},{"$f":"IF(A37<>\"\",IFERROR(VLOOKUP(AD37,Tabelas!B:D,3,0),0),\"\")","v":0},{"$f":"IF(A37<>\"\",IFERROR(VLOOKUP(AE37,Tabelas!B:D,3,0),0),\"\")","v":0},{"$f":"IF(A37<>\"\",IFERROR(VLOOKUP(AF37,Tabelas!B:D,3,0),0),\"\")","v":0},{"$f":"IF(A37<>\"\",IFERROR(VLOOKUP(AG37,Tabelas!B:D,3,0),0),\"\")","v":0},{"$f":"IF(A37<>\"\",IFERROR(VLOOKUP(AH37,Tabelas!B:D,3,0),0),\"\")","v":0},{"$f":"IF(A37<>\"\",IFERROR(VLOOKUP(AI37,Tabelas!B:D,3,0),0),\"\")","v":0},{"$f":"IF(A37<>\"\",IFERROR(VLOOKUP(AJ37,Tabelas!B:D,3,0),0),\"\")","v":0},{"$f":"IF(A37<>\"\",IFERROR(VLOOKUP(AK37,Tabelas!B:D,3,0),0),\"\")","v":0},{"$f":"IF(A37<>\"\",IFERROR(VLOOKUP(AL37,Tabelas!B:D,3,0),0),\"\")","v":0},{"$f":"IF(A37<>\"\",IFERROR(VLOOKUP(AM37,Tabelas!B:D,3,0),0),\"\")","v":0},{"$f":"IF(A37<>\"\",IFERROR(VLOOKUP(AN37,Tabelas!B:D,3,0),0),\"\")","v":0},{"$f":"IF(A37<>\"\",IFERROR(VLOOKUP(AO37,Tabelas!B:D,3,0),0),\"\")","v":0},{"$f":"IF(A37<>\"\",IFERROR(VLOOKUP(AP37,Tabelas!B:D,3,0),0),\"\")","v":0},{"$f":"IF(A37<>\"\",IFERROR(VLOOKUP(AQ37,Tabelas!B:D,3,0),0),\"\")","v":0}]
["TOTAL DE PROFISSIONAIS NOTURNO",null,null,null,null,null,null,null,null,null,null,null,{"$f":"IF(COUNTIF(M9:M37,\"N?*\") + COUNTIF(M9:M37, \"DN*\")+COUNTIF(M9:M35,\"PR*\")<>0,COUNTIF(M9:M37,\"N?*\") + COUNTIF(M9:M37, \"DN*\")+COUNTIF(M9:M35,\"PR*\"),\"\")","v":""},{"$f":"IF(COUNTIF(N9:N37,\"N?*\") + COUNTIF(N9:N37, \"DN*\")+COUNTIF(N9:N35,\"PR*\")<>0,COUNTIF(N9:N37,\"N?*\") + COUNTIF(N9:N37, \"DN*\")+COUNTIF(N9:N35,\"PR*\"),\"\")","v":""},"","","","","","","","","","","","","","","","","","","","","","","","","","","","","",{"$f":"IF(A38<>\"\",IFERROR(VLOOKUP(M38,Tabelas!B:D,3,0),0),\"\")","v":0},{"$f":"IF(A38<>\"\",IFERROR(VLOOKUP(N38,Tabelas!B:D,3,0),0),\"\")","v":0},{"$f":"IF(A38<>\"\",IFERROR(VLOOKUP(O38,Tabelas!B:D,3,0),0),\"\")","v":0},{"$f":"IF(A38<>\"\",IFERROR(VLOOKUP(P38,Tabelas!B:D,3,0),0),\"\")","v":0},{"$f":"IF(A38<>\"\",IFERROR(VLOOKUP(Q38,Tabelas!B:D,3,0),0),\"\")","v":0},{"$f":"IF(A38<>\"\",IFERROR(VLOOKUP(R38,Tabelas!B:D,3,0),0),\"\")","v":0},{"$f":"IF(A38<>\"\",IFERROR(VLOOKUP(S38,Tabelas!B:D,3,0),0),\"\")","v":0},{"$f":"IF(A38<>\"\",IFERROR(VLOOKUP(T38,Tabelas!B:D,3,0),0),\"\")","v":0},{"$f":"IF(A38<>\"\",IFERROR(VLOOKUP(U38,Tabelas!B:D,3,0),0),\"\")","v":0},{"$f":"IF(A38<>\"\",IFERROR(VLOOKUP(V38,Tabelas!B:D,3,0),0),\"\")","v":0},{"$f":"IF(A38<>\"\",IFERROR(VLOOKUP(W38,Tabelas!B:D,3,0),0),\"\")","v":0},{"$f":"IF(A38<>\"\",IFERROR(VLOOKUP(X38,Tabelas!B:D,3,0),0),\"\")","v":0},{"$f":"IF(A38<>\"\",IFERROR(VLOOKUP(Y38,Tabelas!B:D,3,0),0),\"\")","v":0},{"$f":"IF(A38<>\"\",IFERROR(VLOOKUP(Z38,Tabelas!B:D,3,0),0),\"\")","v":0},{"$f":"IF(A38<>\"\",IFERROR(VLOOKUP(AA38,Tabelas!B:D,3,0),0),\"\")","v":0},{"$f":"IF(A38<>\"\",IFERROR(VLOOKUP(AB38,Tabelas!B:D,3,0),0),\"\")","v":0},{"$f":"IF(A38<>\"\",IFERROR(VLOOKUP(AC38,Tabelas!B:D,3,0),0),\"\")","v":0},{"$f":"IF(A38<>\"\",IFERROR(VLOOKUP(AD38,Tabelas!B:D,3,0),0),\"\")","v":0},{"$f":"IF(A38<>\"\",IFERROR(VLOOKUP(AE38,Tabelas!B:D,3,0),0),\"\")","v":0},{"$f":"IF(A38<>\"\",IFERROR(VLOOKUP(AF38,Tabelas!B:D,3,0),0),\"\")","v":0},{"$f":"IF(A38<>\"\",IFERROR(VLOOKUP(AG38,Tabelas!B:D,3,0),0),\"\")","v":0},{"$f":"IF(A38<>\"\",IFERROR(VLOOKUP(AH38,Tabelas!B:D,3,0),0),\"\")","v":0},{"$f":"IF(A38<>\"\",IFERROR(VLOOKUP(AI38,Tabelas!B:D,3,0),0),\"\")","v":0},{"$f":"IF(A38<>\"\",IFERROR(VLOOKUP(AJ38,Tabelas!B:D,3,0),0),\"\")","v":0},{"$f":"IF(A38<>\"\",IFERROR(VLOOKUP(AK38,Tabelas!B:D,3,0),0),\"\")","v":0},{"$f":"IF(A38<>\"\",IFERROR(VLOOKUP(AL38,Tabelas!B:D,3,0),0),\"\")","v":0},{"$f":"IF(A38<>\"\",IFERROR(VLOOKUP(AM38,Tabelas!B:D,3,0),0),\"\")","v":0},{"$f":"IF(A38<>\"\",IFERROR(VLOOKUP(AN38,Tabelas!B:D,3,0),0),\"\")","v":0},{"$f":"IF(A38<>\"\",IFERROR(VLOOKUP(AO38,Tabelas!B:D,3,0),0),\"\")","v":0},{"$f":"IF(A38<>\"\",IFERROR(VLOOKUP(AP38,Tabelas!B:D,3,0),0),\"\")","v":0},{"$f":"IF(A38<>\"\",IFERROR(VLOOKUP(AQ38,Tabelas!B:D,3,0),0),\"\")","v":0}]
[null,null,null,null,null,null,null,null,null,null,null,null,null,null,null,null,null,null,null,null,null,null,null,null,null,null,null,null,null,null,null,null,null,null,null,null,null,null,null,null,null,null,null,{"$f":"IF(A39<>\"\",IFERROR(VLOOKUP(M39,Tabelas!B:D,3,0),0),\"\")","v":""},{"$f":"IF(A39<>\"\",IFERROR(VLOOKUP(N39,Tabelas!B:D,3,0),0),\"\")","v":""},{"$f":"IF(A39<>\"\",IFERROR(VLOOKUP(O39,Tabelas!B:D,3,0),0),\"\")","v":""},{"$f":"IF(A39<>\"\",IFERROR(VLOOKUP(P39,Tabelas!B:D,3,0),0),\"\")","v":""},{"$f":"IF(A39<>\"\",IFERROR(VLOOKUP(Q39,Tabelas!B:D,3,0),0),\"\")","v":""},{"$f":"IF(A39<>\"\",IFERROR(VLOOKUP(R39,Tabelas!B:D,3,0),0),\"\")","v":""},{"$f":"IF(A39<>\"\",IFERROR(VLOOKUP(S39,Tabelas!B:D,3,0),0),\"\")","v":""},{"$f":"IF(A39<>\"\",IFERROR(VLOOKUP(T39,Tabelas!B:D,3,0),0),\"\")","v":""},{"$f":"IF(A39<>\"\",IFERROR(VLOOKUP(U39,Tabelas!B:D,3,0),0),\"\")","v":""},{"$f":"IF(A39<>\"\",IFERROR(VLOOKUP(V39,Tabelas!B:D,3,0),0),\"\")","v":""},{"$f":"IF(A39<>\"\",IFERROR(VLOOKUP(W39,Tabelas!B:D,3,0),0),\"\")","v":""},{"$f":"IF(A39<>\"\",IFERROR(VLOOKUP(X39,Tabelas!B:D,3,0),0),\"\")","v":""},{"$f":"IF(A39<>\"\",IFERROR(VLOOKUP(Y39,Tabelas!B:D,3,0),0),\"\")","v":""},{"$f":"IF(A39<>\"\",IFERROR(VLOOKUP(Z39,Tabelas!B:D,3,0),0),\"\")","v":""},{"$f":"IF(A39<>\"\",IFERROR(VLOOKUP(AA39,Tabelas!B:D,3,0),0),\"\")","v":""},{"$f":"IF(A39<>\"\",IFERROR(VLOOKUP(AB39,Tabelas!B:D,3,0),0),\"\")","v":""},{"$f":"IF(A39<>\"\",IFERROR(VLOOKUP(AC39,Tabelas!B:D,3,0),0),\"\")","v":""},{"$f":"IF(A39<>\"\",IFERROR(VLOOKUP(AD39,Tabelas!B:D,3,0),0),\"\")","v":""},{"$f":"IF(A39<>\"\",IFERROR(VLOOKUP(AE39,Tabelas!B:D,3,0),0),\"\")","v":""},{"$f":"IF(A39<>\"\",IFERROR(VLOOKUP(AF39,Tabelas!B:D,3,0),0),\"\")","v":""},{"$f":"IF(A39<>\"\",IFERROR(VLOOKUP(AG39,Tabelas!B:D,3,0),0),\"\")","v":""},{"$f":"IF(A39<>\"\",IFERROR(VLOOKUP(AH39,Tabelas!B:D,3,0),0),\"\")","v":""},{"$f":"IF(A39<>\"\",IFERROR(VLOOKUP(AI39,Tabelas!B:D,3,0),0),\"\")","v":""},{"$f":"IF(A39<>\"\",IFERROR(VLOOKUP(AJ39,Tabelas!B:D,3,0),0),\"\")","v":""},{"$f":"IF(A39<>\"\",IFERROR(VLOOKUP(AK39,Tabelas!B:D,3,0),0),\"\")","v":""},{"$f":"IF(A39<>\"\",IFERROR(VLOOKUP(AL39,Tabelas!B:D,3,0),0),\"\")","v":""},{"$f":"IF(A39<>\"\",IFERROR(VLOOKUP(AM39,Tabelas!B:D,3,0),0),\"\")","v":""},{"$f":"IF(A39<>\"\",IFERROR(VLOOKUP(AN39,Tabelas!B:D,3,0),0),\"\")","v":""},{"$f":"IF(A39<>\"\",IFERROR(VLOOKUP(AO39,Tabelas!B:D,3,0),0),\"\")","v":""},{"$f":"IF(A39<>\"\",IFERROR(VLOOKUP(AP39,Tabelas!B:D,3,0),0),\"\")","v":""},{"$f":"IF(A39<>\"\",IFERROR(VLOOKUP(AQ39,Tabelas!B:D,3,0),0),\"\")","v":""}]
["Legenda:"]
["Licença Maternidade","LM","Férias",null,null,null,null,null,null,"FE",null,"Ponto Facultativo",null,null,null,null,null,null,null,"PF","Manhã *",null,null,null,null,null,null,"M","Diurno (8 hrs) *",null,null,null,null,null,null,"MT"]
["Licença Paternidade","LP","Feriado",null,null,null,null,null,null,"FD",null,"Abono **",null,null,null,null,null,null,null,"AB","Tarde *",null,null,null,null,null,null,"T","Dia/ noite (24 hrs) *",null,null,null,null,null,null,"DN"]
["Licença Médica/Odontológica","L","Descanso Semanal Remunerado",null,null,null,null,null,null,"DSR",null,"Compensação de Horas",null,null,null,null,null,null,null,"CH","Plantão Dia (12 hrs) *",null,null,null,null,null,null,"D"]
["Licença Capacitação","LC","Recesso",null,null,null,null,null,null,"RC",null,"Afastamento**",null,null,null,null,null,null,null,"AF","Plantão Noite (12 hrs) *",null,null,null,null,null,null,"N"]
[]
[]
[]
[]
[]
["OBSERVAÇÕES:"]
["* Para inserção das legendas referentes às jornadas de trabalho, verificar a Tabela 1 do Anexo 12629162 do Ofício-Circular - SEI nº 9/2021/SDR/CAP/DGP-EBSERH."]
["** Para inserção das legendas referentes aos Afastamentos previstos em lei e às Compensações de horas, verificar a Tabela 2 do Anexo 12629162 do Ofício-Circular - SEI nº 9/2021/SDR/CAP/DGP-EBSERH."]

{"sheet":"Setembro","index":8,"n_rows":52,"n_cols":82,"rows_kept":52,"cut":false,"hidden":false,"merged":[[40,28,40,34],[41,2,41,8],[41,9,41,10],[41,11,41,18],[41,20,41,26],[41,28,41,34],[43,2,43,8],[43,9,43,10],[43,11,43,18],[43,20,43,26],[40,2,40,8],[40,9,40,10],[40,11,40,18],[40,20,40,26],[42,2,42,8],[42,9,42,10],[42,11,42,18],[42,20,42,26],[5,2,7,2],[5,3,7,3],[5,4,7,4],[6,81,7,81],[6,77,7,77],[6,78,7,78],[5,5,7,5],[5,75,5,81],[6,80,7,80],[36,0,36,11],[37,0,37,11],[35,78,37,78],[35,79,37,79],[35,80,37,80],[35,0,35,11],[35,74,37,74],[35,75,37,75],[35,76,37,76],[35,77,37,77],[5,0,7,0],[5,1,7,1],[35,81,37,81],[5,6,5,11],[5,12,5,42],[6,79,7,79],[6,11,7,11],[6,75,7,75],[6,76,7,76],[6,6,7,6],[6,7,7,7],[6,8,7,8],[6,9,7,9],[6,10,7,10],[5,43,5,73],[5,74,7,74],[1,0,1,42],[2,0,2,42],[3,0,3,42],[4,1,4,20],[4,23,4,34],[4,37,4,42]]}
[]
[]
["NOME DO HU"]
["ESCALA MENSAL DE TRABALHO"]
["DIVISÃO /SETOR/UNIDADE:",null,null,null,null,null,null,null,null,null,null,null,null,null,null,null,null,null,null,null,null,"MÊS:",null,"Setembro",null,null,null,null,null,null,null,null,null,null,null,"ANO:",null,2023]
["NOME COMPLETO","SIAPE","     Registro Conselho Classe","Cargo","Vínculo","    C.H Sem","INTERVALO",null,null,null,null,null,"DIAS DO MÊS",null,null,null,null,null,null,null,null,null,null,null,null,null,null,null,null,null,null,null,null,null,null,null,null,null,null,null,null,null,null,"CÁLCULO DAS HORAS",null,null,null,null,null,null,null,null,null,null,null,null,null,null,null,null,null,null,null,null,null,null,null,null,null,null,null,null,null,null,"CH Men.","Dias"]
[null,null,null,null,null,null,"15' M","15' T","15' N","1H D","1H N","2H",1,2,3,4,5,6,7,8,9,10,11,12,13,14,15,16,17,18,19,20,21,22,23,24,25,{"$f":"IF(DAY(DATE(AL5,VLOOKUP(X5,Tabelas!M:N,2,0)+1,1)-1)>=26,26,\"\")","v":26},{"$f":"IF(DAY(DATE(AL5,VLOOKUP(X5,Tabelas!M:N,2,0)+1,1)-1)>=27,27,\"\")","v":27},{"$f":"IF(DAY(DATE(AL5,VLOOKUP(X5,Tabelas!M:N,2,0)+1,1)-1)>=28,28,\"\")","v":28},{"$f":"IF(DAY(DATE(AL5,VLOOKUP(X5,Tabelas!M:N,2,0)+1,1)-1)>=29,29,\"\")","v":29},{"$f":"IF(DAY(DATE(AL5,VLOOKUP(X5,Tabelas!M:N,2,0)+1,1)-1)>=30,30,\"\")","v":30},{"$f":"IF(DAY(DATE(AL5,VLOOKUP(X5,Tabelas!M:N,2,0)+1,1)-1)>=31,31,\"\")","v":""},null,null,null,null,null,null,null,null,null,null,null,null,null,null,null,null,null,null,null,null,null,null,null,null,null,null,null,null,null,null,null,null,"LM/LP/L","AB","FE","LC","CH","AF  "," Total Afast."]
[null,null,null,null,null,null,null,null,null,null,null,null,{"$f":"IF(M7<>\"\",IFERROR(VLOOKUP(WEEKDAY(CONCATENATE(M7,$X$5,$AL$5)),Tabelas!$I:$J,2,0),\"\"),\"\")","v":"SEX"},{"$f":"IF(N7<>\"\",IFERROR(VLOOKUP(WEEKDAY(CONCATENATE(N7,$X$5,$AL$5)),Tabelas!$I:$J,2,0),\"\"),\"\")","v":"SAB"},{"$f":"IF(O7<>\"\",IFERROR(VLOOKUP(WEEKDAY(CONCATENATE(O7,$X$5,$AL$5)),Tabelas!$I:$J,2,0),\"\"),\"\")","v":"DOM"},{"$f":"IF(P7<>\"\",IFERROR(VLOOKUP(WEEKDAY(CONCATENATE(P7,$X$5,$AL$5)),Tabelas!$I:$J,2,0),\"\"),\"\")","v":"SEG"},{"$f":"IF(Q7<>\"\",IFERROR(VLOOKUP(WEEKDAY(CONCATENATE(Q7,$X$5,$AL$5)),Tabelas!$I:$J,2,0),\"\"),\"\")","v":"TER"},{"$f":"IF(R7<>\"\",IFERROR(VLOOKUP(WEEKDAY(CONCATENATE(R7,$X$5,$AL$5)),Tabelas!$I:$J,2,0),\"\"),\"\")","v":"QUA"},{"$f":"IF(S7<>\"\",IFERROR(VLOOKUP(WEEKDAY(CONCATENATE(S7,$X$5,$AL$5)),Tabelas!$I:$J,2,0),\"\"),\"\")","v":"QUI"},{"$f":"IF(T7<>\"\",IFERROR(VLOOKUP(WEEKDAY(CONCATENATE(T7,$X$5,$AL$5)),Tabelas!$I:$J,2,0),\"\"),\"\")","v":"SEX"},{"$f":"IF(U7<>\"\",IFERROR(VLOOKUP(WEEKDAY(CONCATENATE(U7,$X$5,$AL$5)),Tabelas!$I:$J,2,0),\"\"),\"\")","v":"SAB"},{"$f":"IF(V7<>\"\",IFERROR(VLOOKUP(WEEKDAY(CONCATENATE(V7,$X$5,$AL$5)),Tabelas!$I:$J,2,0),\"\"),\"\")","v":"DOM"},{"$f":"IF(W7<>\"\",IFERROR(VLOOKUP(WEEKDAY(CONCATENATE(W7,$X$5,$AL$5)),Tabelas!$I:$J,2,0),\"\"),\"\")","v":"SEG"},{"$f":"IF(X7<>\"\",IFERROR(VLOOKUP(WEEKDAY(CONCATENATE(X7,$X$5,$AL$5)),Tabelas!$I:$J,2,0),\"\"),\"\")","v":"TER"},{"$f":"IF(Y7<>\"\",IFERROR(VLOOKUP(WEEKDAY(CONCATENATE(Y7,$X$5,$AL$5)),Tabelas!$I:$J,2,0),\"\"),\"\")","v":"QUA"},{"$f":"IF(Z7<>\"\",IFERROR(VLOOKUP(WEEKDAY(CONCATENATE(Z7,$X$5,$AL$5)),Tabelas!$I:$J,2,0),\"\"),\"\")","v":"QUI"},{"$f":"IF(AA7<>\"\",IFERROR(VLOOKUP(WEEKDAY(CONCATENATE(AA7,$X$5,$AL$5)),Tabelas!$I:$J,2,0),\"\"),\"\")","v":"SEX"},{"$f":"IF(AB7<>\"\",IFERROR(VLOOKUP(WEEKDAY(CONCATENATE(AB7,$X$5,$AL$5)),Tabelas!$I:$J,2,0),\"\"),\"\")","v":"SAB"},{"$f":"IF(AC7<>\"\",IFERROR(VLOOKUP(WEEKDAY(CONCATENATE(AC7,$X$5,$AL$5)),Tabelas!$I:$J,2,0),\"\"),\"\")","v":"DOM"},{"$f":"IF(AD7<>\"\",IFERROR(VLOOKUP(WEEKDAY(CONCATENATE(AD7,$X$5,$AL$5)),Tabelas!$I:$J,2,0),\"\"),\"\")","v":"SEG"},{"$f":"IF(AE7<>\"\",IFERROR(VLOOKUP(WEEKDAY(CONCATENATE(AE7,$X$5,$AL$5)),Tabelas!$I:$J,2,0),\"\"),\"\")","v":"TER"},{"$f":"IF(AF7<>\"\",IFERROR(VLOOKUP(WEEKDAY(CONCATENATE(AF7,$X$5,$AL$5)),Tabelas!$I:$J,2,0),\"\"),\"\")","v":"QUA"},{"$f":"IF(AG7<>\"\",IFERROR(VLOOKUP(WEEKDAY(CONCATENATE(AG7,$X$5,$AL$5)),Tabelas!$I:$J,2,0),\"\"),\"\")","v":"QUI"},{"$f":"IF(AH7<>\"\",IFERROR(VLOOKUP(WEEKDAY(CONCATENATE(AH7,$X$5,$AL$5)),Tabelas!$I:$J,2,0),\"\"),\"\")","v":"SEX"},{"$f":"IF(AI7<>\"\",IFERROR(VLOOKUP(WEEKDAY(CONCATENATE(AI7,$X$5,$AL$5)),Tabelas!$I:$J,2,0),\"\"),\"\")","v":"SAB"},{"$f":"IF(AJ7<>\"\",IFERROR(VLOOKUP(WEEKDAY(CONCATENATE(AJ7,$X$5,$AL$5)),Tabelas!$I:$J,2,0),\"\"),\"\")","v":"DOM"},{"$f":"IF(AK7<>\"\",IFERROR(VLOOKUP(WEEKDAY(CONCATENATE(AK7,$X$5,$AL$5)),Tabelas!$I:$J,2,0),\"\"),\"\")","v":"SEG"},{"$f":"IF(AL7<>\"\",IFERROR(VLOOKUP(WEEKDAY(CONCATENATE(AL7,$X$5,$AL$5)),Tabelas!$I:$J,2,0),\"\"),\"\")","v":"TER"},{"$f":"IF(AM7<>\"\",IFERROR(VLOOKUP(WEEKDAY(CONCATENATE(AM7,$X$5,$AL$5)),Tabelas!$I:$J,2,0),\"\"),\"\")","v":"QUA"},{"$f":"IF(AN7<>\"\",IFERROR(VLOOKUP(WEEKDAY(CONCATENATE(AN7,$X$5,$AL$5)),Tabelas!$I:$J,2,0),\"\"),\"\")","v":"QUI"},{"$f":"IF(AO7<>\"\",IFERROR(VLOOKUP(WEEKDAY(CONCATENATE(AO7,$X$5,$AL$5)),Tabelas!$I:$J,2,0),\"\"),\"\")","v":"SEX"},{"$f":"IF(AP7<>\"\",IFERROR(VLOOKUP(WEEKDAY(CONCATENATE(AP7,$X$5,$AL$5)),Tabelas!$I:$J,2,0),\"\"),\"\")","v":"SAB"},{"$f":"IF(AQ7<>\"\",IFERROR(VLOOKUP(WEEKDAY(CONCATENATE(AQ7,$X$5,$AL$5)),Tabelas!$I:$J,2,0),\"\"),\"\")","v":""},1,2,3,4,5,6,7,8,9,10,11,12,13,14,15,16,17,18,19,20,21,22,23,24,25,26,27,28,29,30,31]
["FULANO 1",1,null,null,null,null,null,null,null,null,null,null,null,null,null,null,null,null,null,null,null,null,null,null,null,null,null,null,null,null,null,null,null,null,null,null,null,null,null,null,null,null,null,{"$f":"IF(A9<>\"\",IFERROR(VLOOKUP(M9,Tabelas!B:D,3,0),0),\"\")","v":0},{"$f":"IF(A9<>\"\",IFERROR(VLOOKUP(N9,Tabelas!B:D,3,0),0),\"\")","v":0},{"$f":"IF(A9<>\"\",IFERROR(VLOOKUP(O9,Tabelas!B:D,3,0),0),\"\")","v":0},{"$f":"IF(A9<>\"\",IFERROR(VLOOKUP(P9,Tabelas!B:D,3,0),0),\"\")","v":0},{"$f":"IF(A9<>\"\",IFERROR(VLOOKUP(Q9,Tabelas!B:D,3,0),0),\"\")","v":0},{"$f":"IF(A9<>\"\",IFERROR(VLOOKUP(R9,Tabelas!B:D,3,0),0),\"\")","v":0},{"$f":"IF(A9<>\"\",IFERROR(VLOOKUP(S9,Tabelas!B:D,3,0),0),\"\")","v":0},{"$f":"IF(A9<>\"\",IFERROR(VLOOKUP(T9,Tabelas!B:D,3,0),0),\"\")","v":0},{"$f":"IF(A9<>\"\",IFERROR(VLOOKUP(U9,Tabelas!B:D,3,0),0),\"\")","v":0},{"$f":"IF(A9<>\"\",IFERROR(VLOOKUP(V9,Tabelas!B:D,3,0),0),\"\")","v":0},{"$f":"IF(A9<>\"\",IFERROR(VLOOKUP(W9,Tabelas!B:D,3,0),0),\"\")","v":0},{"$f":"IF(A9<>\"\",IFERROR(VLOOKUP(X9,Tabelas!B:D,3,0),0),\"\")","v":0},{"$f":"IF(A9<>\"\",IFERROR(VLOOKUP(Y9,Tabelas!B:D,3,0),0),\"\")","v":0},{"$f":"IF(A9<>\"\",IFERROR(VLOOKUP(Z9,Tabelas!B:D,3,0),0),\"\")","v":0},{"$f":"IF(A9<>\"\",IFERROR(VLOOKUP(AA9,Tabelas!B:D,3,0),0),\"\")","v":0},{"$f":"IF(A9<>\"\",IFERROR(VLOOKUP(AB9,Tabelas!B:D,3,0),0),\"\")","v":0},{"$f":"IF(A9<>\"\",IFERROR(VLOOKUP(AC9,Tabelas!B:D,3,0),0),\"\")","v":0},{"$f":"IF(A9<>\"\",IFERROR(VLOOKUP(AD9,Tabelas!B:D,3,0),0),\"\")","v":0},{"$f":"IF(A9<>\"\",IFERROR(VLOOKUP(AE9,Tabelas!B:D,3,0),0),\"\")","v":0},{"$f":"IF(A9<>\"\",IFERROR(VLOOKUP(AF9,Tabelas!B:D,3,0),0),\"\")","v":0},{"$f":"IF(A9<>\"\",IFERROR(VLOOKUP(AG9,Tabelas!B:D,3,0),0),\"\")","v":0},{"$f":"IF(A9<>\"\",IFERROR(VLOOKUP(AH9,Tabelas!B:D,3,0),0),\"\")","v":0},{"$f":"IF(A9<>\"\",IFERROR(VLOOKUP(AI9,Tabelas!B:D,3,0),0),\"\")","v":0},{"$f":"IF(A9<>\"\",IFERROR(VLOOKUP(AJ9,Tabelas!B:D,3,0),0),\"\")","v":0},{"$f":"IF(A9<>\"\",IFERROR(VLOOKUP(AK9,Tabelas!B:D,3,0),0),\"\")","v":0},{"$f":"IF(A9<>\"\",IFERROR(VLOOKUP(AL9,Tabelas!B:D,3,0),0),\"\")","v":0},{"$f":"IF(A9<>\"\",IFERROR(VLOOKUP(AM9,Tabelas!B:D,3,0),0),\"\")","v":0},{"$f":"IF(A9<>\"\",IFERROR(VLOOKUP(AN9,Tabelas!B:D,3,0),0),\"\")","v":0},{"$f":"IF(A9<>\"\",IFERROR(VLOOKUP(AO9,Tabelas!B:D,3,0),0),\"\")","v":0},{"$f":"IF(A9<>\"\",IFERROR(VLOOKUP(AP9,Tabelas!B:D,3,0),0),\"\")","v":0},{"$f":"IF(A9<>\"\",IFERROR(VLOOKUP(AQ9,Tabelas!B:D,3,0),0),\"\")","v":0},{"$f":"IF(AND(A9<>\"\",E9=\"Ebserh\"),SUM(AR9:BV9)+COUNTIF(M9:AQ9,\"N*\")+COUNTIF(M9:AQ9,\"DN*\"),IF(AND(A9<>\"\",E9<>\"Ebserh\"),SUM(AR9:BV9),\"\"))","v":0},{"$f":"IF(A9<>\"\",COUNTIF(M9:AQ9,\"LM\")+COUNTIF(M9:AQ9,\"L*\")+COUNTIF(M9:AQ9,\"LP\"),\"\")","v":0},{"$f":"IF(A9<>\"\",COUNTIF(M9:AQ9,\"AB*\"),\"\")","v":0},{"$f":"IF(A9<>\"\",COUNTIF(M9:AQ9,\"FE\"),\"\")","v":0},{"$f":"IF(A9<>\"\",COUNTIF(M9:AQ9,\"LC\"),\"\")","v":0},{"$f":"IF(A9<>\"\",COUNTIF(M9:AQ9,\"CH*\"),\"\")","v":0},{"$f":"IF(A9<>\"\",COUNTIF(M9:AQ9,\"AF1\")+COUNTIF(M9:AQ9,\"AF2\")+COUNTIF(M9:AQ9,\"AF3\")+COUNTIF(M9:AQ9,\"AF4\")+COUNTIF(M9:AQ9,\"AF5\")+COUNTIF(M9:AQ9,\"AF6\")+COUNTIF(M9:AQ9,\"AF7\")+COUNTIF(M9:AQ9,\"AF8\")+COUNTIF(M9:AQ9,\"AF9\")+COUNTIF(M9:AQ9,\"AF10\")+COUNTIF(M9:AQ9,\"AF11\")+COUNTIF(M9:AQ9,\"AF12\")+COUNTIF(M9:AQ9,\"AF13\")+COUNTIF(M9:AQ9,\"AF14\"),\"\")","v":0},{"$f":"IF(A9<>\"\",COUNTIF(M9:AQ9,\"CH*\")+COUNTIF(M9:AQ9,\"L*\")+COUNTIF(M9:AQ9,\"LM\")+COUNTIF(M9:AQ9,\"LP\")+COUNTIF(M9:AQ9,\"LC\")+COUNTIF(M9:AQ9,\"AB*\")+COUNTIF(M9:AQ9,\"AF1\")+COUNTIF(M9:AQ9,\"AF2\")+COUNTIF(M9:AQ9,\"AF3\")+COUNTIF(M9:AQ9,\"AF4\")+COUNTIF(M9:AQ9,\"AF5\")+COUNTIF(M9:AQ9,\"AF6\")+COUNTIF(M9:AQ9,\"AF7\")+COUNTIF(M9:AQ9,\"AF8\")+COUNTIF(M9:AQ9,\"AF9\")+COUNTIF(M9:AQ9,\"AF10\")+COUNTIF(M9:AQ9,\"AF11\")+COUNTIF(M9:AQ9,\"AF12\")+COUNTIF(M9:AQ9,\"AF13\")+COUNTIF(M9:AQ9,\"AF14\")+COUNTIF(M9:AQ9,\"RC\")+COUNTIF(M9:AQ9,\"FO\")+COUNTIF(M9:AQ9,\"FE\"),\"\")","v":0}]
["FULANO 2",2,null,null,null,null,null,null,null,null,null,null,null,null,null,null,null,null,null,null,null,null,null,null,null,null,null,null,null,null,null,null,null,null,null,null,null,null,null,null,null,null,null,{"$f":"IF(A10<>\"\",IFERROR(VLOOKUP(M10,Tabelas!B:D,3,0),0),\"\")","v":0},{"$f":"IF(A10<>\"\",IFERROR(VLOOKUP(N10,Tabelas!B:D,3,0),0),\"\")","v":0},{"$f":"IF(A10<>\"\",IFERROR(VLOOKUP(O10,Tabelas!B:D,3,0),0),\"\")","v":0},{"$f":"IF(A10<>\"\",IFERROR(VLOOKUP(P10,Tabelas!B:D,3,0),0),\"\")","v":0},{"$f":"IF(A10<>\"\",IFERROR(VLOOKUP(Q10,Tabelas!B:D,3,0),0),\"\")","v":0},{"$f":"IF(A10<>\"\",IFERROR(VLOOKUP(R10,Tabelas!B:D,3,0),0),\"\")","v":0},{"$f":"IF(A10<>\"\",IFERROR(VLOOKUP(S10,Tabelas!B:D,3,0),0),\"\")","v":0},{"$f":"IF(A10<>\"\",IFERROR(VLOOKUP(T10,Tabelas!B:D,3,0),0),\"\")","v":0},{"$f":"IF(A10<>\"\",IFERROR(VLOOKUP(U10,Tabelas!B:D,3,0),0),\"\")","v":0},{"$f":"IF(A10<>\"\",IFERROR(VLOOKUP(V10,Tabelas!B:D,3,0),0),\"\")","v":0},{"$f":"IF(A10<>\"\",IFERROR(VLOOKUP(W10,Tabelas!B:D,3,0),0),\"\")","v":0},{"$f":"IF(A10<>\"\",IFERROR(VLOOKUP(X10,Tabelas!B:D,3,0),0),\"\")","v":0},{"$f":"IF(A10<>\"\",IFERROR(VLOOKUP(Y10,Tabelas!B:D,3,0),0),\"\")","v":0},{"$f":"IF(A10<>\"\",IFERROR(VLOOKUP(Z10,Tabelas!B:D,3,0),0),\"\")","v":0},{"$f":"IF(A10<>\"\",IFERROR(VLOOKUP(AA10,Tabelas!B:D,3,0),0),\"\")","v":0},{"$f":"IF(A10<>\"\",IFERROR(VLOOKUP(AB10,Tabelas!B:D,3,0),0),\"\")","v":0},{"$f":"IF(A10<>\"\",IFERROR(VLOOKUP(AC10,Tabelas!B:D,3,0),0),\"\")","v":0},{"$f":"IF(A10<>\"\",IFERROR(VLOOKUP(AD10,Tabelas!B:D,3,0),0),\"\")","v":0},{"$f":"IF(A10<>\"\",IFERROR(VLOOKUP(AE10,Tabelas!B:D,3,0),0),\"\")","v":0},{"$f":"IF(A10<>\"\",IFERROR(VLOOKUP(AF10,Tabelas!B:D,3,0),0),\"\")","v":0},{"$f":"IF(A10<>\"\",IFERROR(VLOOKUP(AG10,Tabelas!B:D,3,0),0),\"\")","v":0},{"$f":"IF(A10<>\"\",IFERROR(VLOOKUP(AH10,Tabelas!B:D,3,0),0),\"\")","v":0},{"$f":"IF(A10<>\"\",IFERROR(VLOOKUP(AI10,Tabelas!B:D,3,0),0),\"\")","v":0},{"$f":"IF(A10<>\"\",IFERROR(VLOOKUP(AJ10,Tabelas!B:D,3,0),0),\"\")","v":0},{"$f":"IF(A10<>\"\",IFERROR(VLOOKUP(AK10,Tabelas!B:D,3,0),0),\"\")","v":0},{"$f":"IF(A10<>\"\",IFERROR(VLOOKUP(AL10,Tabelas!B:D,3,0),0),\"\")","v":0},{"$f":"IF(A10<>\"\",IFERROR(VLOOKUP(AM10,Tabelas!B:D,3,0),0),\"\")","v":0},{"$f":"IF(A10<>\"\",IFERROR(VLOOKUP(AN10,Tabelas!B:D,3,0),0),\"\")","v":0},{"$f":"IF(A10<>\"\",IFERROR(VLOOKUP(AO10,Tabelas!B:D,3,0),0),\"\")","v":0},{"$f":"IF(A10<>\"\",IFERROR(VLOOKUP(AP10,Tabelas!B:D,3,0),0),\"\")","v":0},{"$f":"IF(A10<>\"\",IFERROR(VLOOKUP(AQ10,Tabelas!B:D,3,0),0),\"\")","v":0},{"$f":"IF(AND(A10<>\"\",E10=\"Ebserh\"),SUM(AR10:BV10)+COUNTIF(M10:AQ10,\"N*\")+COUNTIF(M10:AQ10,\"DN*\"),IF(AND(A10<>\"\",E10<>\"Ebserh\"),SUM(AR10:BV10),\"\"))","v":0},{"$f":"IF(A10<>\"\",COUNTIF(M10:AQ10,\"LM\")+COUNTIF(M10:AQ10,\"L*\")+COUNTIF(M10:AQ10,\"LP\"),\"\")","v":0},{"$f":"IF(A10<>\"\",COUNTIF(M10:AQ10,\"AB*\"),\"\")","v":0},{"$f":"IF(A10<>\"\",COUNTIF(M10:AQ10,\"FE\"),\"\")","v":0},{"$f":"IF(A10<>\"\",COUNTIF(M10:AQ10,\"LC\"),\"\")","v":0},{"$f":"IF(A10<>\"\",COUNTIF(M10:AQ10,\"CH*\"),\"\")","v":0},{"$f":"IF(A10<>\"\",COUNTIF(M10:AQ10,\"AF1\")+COUNTIF(M10:AQ10,\"AF2\")+COUNTIF(M10:AQ10,\"AF3\")+COUNTIF(M10:AQ10,\"AF4\")+COUNTIF(M10:AQ10,\"AF5\")+COUNTIF(M10:AQ10,\"AF6\")+COUNTIF(M10:AQ10,\"AF7\")+COUNTIF(M10:AQ10,\"AF8\")+COUNTIF(M10:AQ10,\"AF9\")+COUNTIF(M10:AQ10,\"AF10\")+COUNTIF(M10:AQ10,\"AF11\")+COUNTIF(M10:AQ10,\"AF12\")+COUNTIF(M10:AQ10,\"AF13\")+COUNTIF(M10:AQ10,\"AF14\"),\"\")","v":0},{"$f":"IF(A10<>\"\",COUNTIF(M10:AQ10,\"CH*\")+COUNTIF(M10:AQ10,\"L*\")+COUNTIF(M10:AQ10,\"LM\")+COUNTIF(M10:AQ10,\"LP\")+COUNTIF(M10:AQ10,\"LC\")+COUNTIF(M10:AQ10,\"AB*\")+COUNTIF(M10:AQ10,\"AF1\")+COUNTIF(M10:AQ10,\"AF2\")+COUNTIF(M10:AQ10,\"AF3\")+COUNTIF(M10:AQ10,\"AF4\")+COUNTIF(M10:AQ10,\"AF5\")+COUNTIF(M10:AQ10,\"AF6\")+COUNTIF(M10:AQ10,\"AF7\")+COUNTIF(M10:AQ10,\"AF8\")+COUNTIF(M10:AQ10,\"AF9\")+COUNTIF(M10:AQ10,\"AF10\")+COUNTIF(M10:AQ10,\"AF11\")+COUNTIF(M10:AQ10,\"AF12\")+COUNTIF(M10:AQ10,\"AF13\")+COUNTIF(M10:AQ10,\"AF14\")+COUNTIF(M10:AQ10,\"RC\")+COUNTIF(M10:AQ10,\"FO\")+COUNTIF(M10:AQ10,\"FE\"),\"\")","v":0}]
["FULANO 3",3,null,null,null,null,null,null,null,null,null,null,null,null,null,null,null,null,null,null,null,null,null,null,null,null,null,null,null,null,null,null,null,null,null,null,null,null,null,null,null,null,null,{"$f":"IF(A11<>\"\",IFERROR(VLOOKUP(M11,Tabelas!B:D,3,0),0),\"\")","v":0},{"$f":"IF(A11<>\"\",IFERROR(VLOOKUP(N11,Tabelas!B:D,3,0),0),\"\")","v":0},{"$f":"IF(A11<>\"\",IFERROR(VLOOKUP(O11,Tabelas!B:D,3,0),0),\"\")","v":0},{"$f":"IF(A11<>\"\",IFERROR(VLOOKUP(P11,Tabelas!B:D,3,0),0),\"\")","v":0},{"$f":"IF(A11<>\"\",IFERROR(VLOOKUP(Q11,Tabelas!B:D,3,0),0),\"\")","v":0},{"$f":"IF(A11<>\"\",IFERROR(VLOOKUP(R11,Tabelas!B:D,3,0),0),\"\")","v":0},{"$f":"IF(A11<>\"\",IFERROR(VLOOKUP(S11,Tabelas!B:D,3,0),0),\"\")","v":0},{"$f":"IF(A11<>\"\",IFERROR(VLOOKUP(T11,Tabelas!B:D,3,0),0),\"\")","v":0},{"$f":"IF(A11<>\"\",IFERROR(VLOOKUP(U11,Tabelas!B:D,3,0),0),\"\")","v":0},{"$f":"IF(A11<>\"\",IFERROR(VLOOKUP(V11,Tabelas!B:D,3,0),0),\"\")","v":0},{"$f":"IF(A11<>\"\",IFERROR(VLOOKUP(W11,Tabelas!B:D,3,0),0),\"\")","v":0},{"$f":"IF(A11<>\"\",IFERROR(VLOOKUP(X11,Tabelas!B:D,3,0),0),\"\")","v":0},{"$f":"IF(A11<>\"\",IFERROR(VLOOKUP(Y11,Tabelas!B:D,3,0),0),\"\")","v":0},{"$f":"IF(A11<>\"\",IFERROR(VLOOKUP(Z11,Tabelas!B:D,3,0),0),\"\")","v":0},{"$f":"IF(A11<>\"\",IFERROR(VLOOKUP(AA11,Tabelas!B:D,3,0),0),\"\")","v":0},{"$f":"IF(A11<>\"\",IFERROR(VLOOKUP(AB11,Tabelas!B:D,3,0),0),\"\")","v":0},{"$f":"IF(A11<>\"\",IFERROR(VLOOKUP(AC11,Tabelas!B:D,3,0),0),\"\")","v":0},{"$f":"IF(A11<>\"\",IFERROR(VLOOKUP(AD11,Tabelas!B:D,3,0),0),\"\")","v":0},{"$f":"IF(A11<>\"\",IFERROR(VLOOKUP(AE11,Tabelas!B:D,3,0),0),\"\")","v":0},{"$f":"IF(A11<>\"\",IFERROR(VLOOKUP(AF11,Tabelas!B:D,3,0),0),\"\")","v":0},{"$f":"IF(A11<>\"\",IFERROR(VLOOKUP(AG11,Tabelas!B:D,3,0),0),\"\")","v":0},{"$f":"IF(A11<>\"\",IFERROR(VLOOKUP(AH11,Tabelas!B:D,3,0),0),\"\")","v":0},{"$f":"IF(A11<>\"\",IFERROR(VLOOKUP(AI11,Tabelas!B:D,3,0),0),\"\")","v":0},{"$f":"IF(A11<>\"\",IFERROR(VLOOKUP(AJ11,Tabelas!B:D,3,0),0),\"\")","v":0},{"$f":"IF(A11<>\"\",IFERROR(VLOOKUP(AK11,Tabelas!B:D,3,0),0),\"\")","v":0},{"$f":"IF(A11<>\"\",IFERROR(VLOOKUP(AL11,Tabelas!B:D,3,0),0),\"\")","v":0},{"$f":"IF(A11<>\"\",IFERROR(VLOOKUP(AM11,Tabelas!B:D,3,0),0),\"\")","v":0},{"$f":"IF(A11<>\"\",IFERROR(VLOOKUP(AN11,Tabelas!B:D,3,0),0),\"\")","v":0},{"$f":"IF(A11<>\"\",IFERROR(VLOOKUP(AO11,Tabelas!B:D,3,0),0),\"\")","v":0},{"$f":"IF(A11<>\"\",IFERROR(VLOOKUP(AP11,Tabelas!B:D,3,0),0),\"\")","v":0},{"$f":"IF(A11<>\"\",IFERROR(VLOOKUP(AQ11,Tabelas!B:D,3,0),0),\"\")","v":0},0,0,0,0,0,0,0,0]
["FULANO 4",4,null,null,null,null,null,null,null,null,null,null,null,null,null,null,null,null,null,null,null,null,null,null,null,null,null,null,null,null,null,null,null,null,null,null,null,null,null,null,null,null,null,{"$f":"IF(A12<>\"\",IFERROR(VLOOKUP(M12,Tabelas!B:D,3,0),0),\"\")","v":0},{"$f":"IF(A12<>\"\",IFERROR(VLOOKUP(N12,Tabelas!B:D,3,0),0),\"\")","v":0},{"$f":"IF(A12<>\"\",IFERROR(VLOOKUP(O12,Tabelas!B:D,3,0),0),\"\")","v":0},{"$f":"IF(A12<>\"\",IFERROR(VLOOKUP(P12,Tabelas!B:D,3,0),0),\"\")","v":0},{"$f":"IF(A12<>\"\",IFERROR(VLOOKUP(Q12,Tabelas!B:D,3,0),0),\"\")","v":0},{"$f":"IF(A12<>\"\",IFERROR(VLOOKUP(R12,Tabelas!B:D,3,0),0),\"\")","v":0},{"$f":"IF(A12<>\"\",IFERROR(VLOOKUP(S12,Tabelas!B:D,3,0),0),\"\")","v":0},{"$f":"IF(A12<>\"\",IFERROR(VLOOKUP(T12,Tabelas!B:D,3,0),0),\"\")","v":0},{"$f":"IF(A12<>\"\",IFERROR(VLOOKUP(U12,Tabelas!B:D,3,0),0),\"\")","v":0},{"$f":"IF(A12<>\"\",IFERROR(VLOOKUP(V12,Tabelas!B:D,3,0),0),\"\")","v":0},{"$f":"IF(A12<>\"\",IFERROR(VLOOKUP(W12,Tabelas!B:D,3,0),0),\"\")","v":0},{"$f":"IF(A12<>\"\",IFERROR(VLOOKUP(X12,Tabelas!B:D,3,0),0),\"\")","v":0},{"$f":"IF(A12<>\"\",IFERROR(VLOOKUP(Y12,Tabelas!B:D,3,0),0),\"\")","v":0},{"$f":"IF(A12<>\"\",IFERROR(VLOOKUP(Z12,Tabelas!B:D,3,0),0),\"\")","v":0},{"$f":"IF(A12<>\"\",IFERROR(VLOOKUP(AA12,Tabelas!B:D,3,0),0),\"\")","v":0},{"$f":"IF(A12<>\"\",IFERROR(VLOOKUP(AB12,Tabelas!B:D,3,0),0),\"\")","v":0},{"$f":"IF(A12<>\"\",IFERROR(VLOOKUP(AC12,Tabelas!B:D,3,0),0),\"\")","v":0},{"$f":"IF(A12<>\"\",IFERROR(VLOOKUP(AD12,Tabelas!B:D,3,0),0),\"\")","v":0},{"$f":"IF(A12<>\"\",IFERROR(VLOOKUP(AE12,Tabelas!B:D,3,0),0),\"\")","v":0},{"$f":"IF(A12<>\"\",IFERROR(VLOOKUP(AF12,Tabelas!B:D,3,0),0),\"\")","v":0},{"$f":"IF(A12<>\"\",IFERROR(VLOOKUP(AG12,Tabelas!B:D,3,0),0),\"\")","v":0},{"$f":"IF(A12<>\"\",IFERROR(VLOOKUP(AH12,Tabelas!B:D,3,0),0),\"\")","v":0},{"$f":"IF(A12<>\"\",IFERROR(VLOOKUP(AI12,Tabelas!B:D,3,0),0),\"\")","v":0},{"$f":"IF(A12<>\"\",IFERROR(VLOOKUP(AJ12,Tabelas!B:D,3,0),0),\"\")","v":0},{"$f":"IF(A12<>\"\",IFERROR(VLOOKUP(AK12,Tabelas!B:D,3,0),0),\"\")","v":0},{"$f":"IF(A12<>\"\",IFERROR(VLOOKUP(AL12,Tabelas!B:D,3,0),0),\"\")","v":0},{"$f":"IF(A12<>\"\",IFERROR(VLOOKUP(AM12,Tabelas!B:D,3,0),0),\"\")","v":0},{"$f":"IF(A12<>\"\",IFERROR(VLOOKUP(AN12,Tabelas!B:D,3,0),0),\"\")","v":0},{"$f":"IF(A12<>\"\",IFERROR(VLOOKUP(AO12,Tabelas!B:D,3,0),0),\"\")","v":0},{"$f":"IF(A12<>\"\",IFERROR(VLOOKUP(AP12,Tabelas!B:D,3,0),0),\"\")","v":0},{"$f":"IF(A12<>\"\",IFERROR(VLOOKUP(AQ12,Tabelas!B:D,3,0),0),\"\")","v":0},0,0,0,0,0,0,0,0]
["FULANO 5",5,null,null,null,null,null,null,null,null,null,null,null,null,null,null,null,null,null,null,null,null,null,null,null,null,null,null,null,null,null,null,null,null,null,null,null,null,null,null,null,null,null,{"$f":"IF(A13<>\"\",IFERROR(VLOOKUP(M13,Tabelas!B:D,3,0),0),\"\")","v":0},{"$f":"IF(A13<>\"\",IFERROR(VLOOKUP(N13,Tabelas!B:D,3,0),0),\"\")","v":0},{"$f":"IF(A13<>\"\",IFERROR(VLOOKUP(O13,Tabelas!B:D,3,0),0),\"\")","v":0},{"$f":"IF(A13<>\"\",IFERROR(VLOOKUP(P13,Tabelas!B:D,3,0),0),\"\")","v":0},{"$f":"IF(A13<>\"\",IFERROR(VLOOKUP(Q13,Tabelas!B:D,3,0),0),\"\")","v":0},{"$f":"IF(A13<>\"\",IFERROR(VLOOKUP(R13,Tabelas!B:D,3,0),0),\"\")","v":0},{"$f":"IF(A13<>\"\",IFERROR(VLOOKUP(S13,Tabelas!B:D,3,0),0),\"\")","v":0},{"$f":"IF(A13<>\"\",IFERROR(VLOOKUP(T13,Tabelas!B:D,3,0),0),\"\")","v":0},{"$f":"IF(A13<>\"\",IFERROR(VLOOKUP(U13,Tabelas!B:D,3,0),0),\"\")","v":0},{"$f":"IF(A13<>\"\",IFERROR(VLOOKUP(V13,Tabelas!B:D,3,0),0),\"\")","v":0},{"$f":"IF(A13<>\"\",IFERROR(VLOOKUP(W13,Tabelas!B:D,3,0),0),\"\")","v":0},{"$f":"IF(A13<>\"\",IFERROR(VLOOKUP(X13,Tabelas!B:D,3,0),0),\"\")","v":0},{"$f":"IF(A13<>\"\",IFERROR(VLOOKUP(Y13,Tabelas!B:D,3,0),0),\"\")","v":0},{"$f":"IF(A13<>\"\",IFERROR(VLOOKUP(Z13,Tabelas!B:D,3,0),0),\"\")","v":0},{"$f":"IF(A13<>\"\",IFERROR(VLOOKUP(AA13,Tabelas!B:D,3,0),0),\"\")","v":0},{"$f":"IF(A13<>\"\",IFERROR(VLOOKUP(AB13,Tabelas!B:D,3,0),0),\"\")","v":0},{"$f":"IF(A13<>\"\",IFERROR(VLOOKUP(AC13,Tabelas!B:D,3,0),0),\"\")","v":0},{"$f":"IF(A13<>\"\",IFERROR(VLOOKUP(AD13,Tabelas!B:D,3,0),0),\"\")","v":0},{"$f":"IF(A13<>\"\",IFERROR(VLOOKUP(AE13,Tabelas!B:D,3,0),0),\"\")","v":0},{"$f":"IF(A13<>\"\",IFERROR(VLOOKUP(AF13,Tabelas!B:D,3,0),0),\"\")","v":0},{"$f":"IF(A13<>\"\",IFERROR(VLOOKUP(AG13,Tabelas!B:D,3,0),0),\"\")","v":0},{"$f":"IF(A13<>\"\",IFERROR(VLOOKUP(AH13,Tabelas!B:D,3,0),0),\"\")","v":0},{"$f":"IF(A13<>\"\",IFERROR(VLOOKUP(AI13,Tabelas!B:D,3,0),0),\"\")","v":0},{"$f":"IF(A13<>\"\",IFERROR(VLOOKUP(AJ13,Tabelas!B:D,3,0),0),\"\")","v":0},{"$f":"IF(A13<>\"\",IFERROR(VLOOKUP(AK13,Tabelas!B:D,3,0),0),\"\")","v":0},{"$f":"IF(A13<>\"\",IFERROR(VLOOKUP(AL13,Tabelas!B:D,3,0),0),\"\")","v":0},{"$f":"IF(A13<>\"\",IFERROR(VLOOKUP(AM13,Tabelas!B:D,3,0),0),\"\")","v":0},{"$f":"IF(A13<>\"\",IFERROR(VLOOKUP(AN13,Tabelas!B:D,3,0),0),\"\")","v":0},{"$f":"IF(A13<>\"\",IFERROR(VLOOKUP(AO13,Tabelas!B:D,3,0),0),\"\")","v":0},{"$f":"IF(A13<>\"\",IFERROR(VLOOKUP(AP13,Tabelas!B:D,3,0),0),\"\")","v":0},{"$f":"IF(A13<>\"\",IFERROR(VLOOKUP(AQ13,Tabelas!B:D,3,0),0),\"\")","v":0},0,0,0,0,0,0,0,0]
["FULANO 6",6,null,null,null,null,null,null,null,null,null,null,null,null,null,null,null,null,null,null,null,null,null,null,null,null,null,null,null,null,null,null,null,null,null,null,null,null,null,null,null,null,null,{"$f":"IF(A14<>\"\",IFERROR(VLOOKUP(M14,Tabelas!B:D,3,0),0),\"\")","v":0},{"$f":"IF(A14<>\"\",IFERROR(VLOOKUP(N14,Tabelas!B:D,3,0),0),\"\")","v":0},{"$f":"IF(A14<>\"\",IFERROR(VLOOKUP(O14,Tabelas!B:D,3,0),0),\"\")","v":0},{"$f":"IF(A14<>\"\",IFERROR(VLOOKUP(P14,Tabelas!B:D,3,0),0),\"\")","v":0},{"$f":"IF(A14<>\"\",IFERROR(VLOOKUP(Q14,Tabelas!B:D,3,0),0),\"\")","v":0},{"$f":"IF(A14<>\"\",IFERROR(VLOOKUP(R14,Tabelas!B:D,3,0),0),\"\")","v":0},{"$f":"IF(A14<>\"\",IFERROR(VLOOKUP(S14,Tabelas!B:D,3,0),0),\"\")","v":0},{"$f":"IF(A14<>\"\",IFERROR(VLOOKUP(T14,Tabelas!B:D,3,0),0),\"\")","v":0},{"$f":"IF(A14<>\"\",IFERROR(VLOOKUP(U14,Tabelas!B:D,3,0),0),\"\")","v":0},{"$f":"IF(A14<>\"\",IFERROR(VLOOKUP(V14,Tabelas!B:D,3,0),0),\"\")","v":0},{"$f":"IF(A14<>\"\",IFERROR(VLOOKUP(W14,Tabelas!B:D,3,0),0),\"\")","v":0},{"$f":"IF(A14<>\"\",IFERROR(VLOOKUP(X14,Tabelas!B:D,3,0),0),\"\")","v":0},{"$f":"IF(A14<>\"\",IFERROR(VLOOKUP(Y14,Tabelas!B:D,3,0),0),\"\")","v":0},{"$f":"IF(A14<>\"\",IFERROR(VLOOKUP(Z14,Tabelas!B:D,3,0),0),\"\")","v":0},{"$f":"IF(A14<>\"\",IFERROR(VLOOKUP(AA14,Tabelas!B:D,3,0),0),\"\")","v":0},{"$f":"IF(A14<>\"\",IFERROR(VLOOKUP(AB14,Tabelas!B:D,3,0),0),\"\")","v":0},{"$f":"IF(A14<>\"\",IFERROR(VLOOKUP(AC14,Tabelas!B:D,3,0),0),\"\")","v":0},{"$f":"IF(A14<>\"\",IFERROR(VLOOKUP(AD14,Tabelas!B:D,3,0),0),\"\")","v":0},{"$f":"IF(A14<>\"\",IFERROR(VLOOKUP(AE14,Tabelas!B:D,3,0),0),\"\")","v":0},{"$f":"IF(A14<>\"\",IFERROR(VLOOKUP(AF14,Tabelas!B:D,3,0),0),\"\")","v":0},{"$f":"IF(A14<>\"\",IFERROR(VLOOKUP(AG14,Tabelas!B:D,3,0),0),\"\")","v":0},{"$f":"IF(A14<>\"\",IFERROR(VLOOKUP(AH14,Tabelas!B:D,3,0),0),\"\")","v":0},{"$f":"IF(A14<>\"\",IFERROR(VLOOKUP(AI14,Tabelas!B:D,3,0),0),\"\")","v":0},{"$f":"IF(A14<>\"\",IFERROR(VLOOKUP(AJ14,Tabelas!B:D,3,0),0),\"\")","v":0},{"$f":"IF(A14<>\"\",IFERROR(VLOOKUP(AK14,Tabelas!B:D,3,0),0),\"\")","v":0},{"$f":"IF(A14<>\"\",IFERROR(VLOOKUP(AL14,Tabelas!B:D,3,0),0),\"\")","v":0},{"$f":"IF(A14<>\"\",IFERROR(VLOOKUP(AM14,Tabelas!B:D,3,0),0),\"\")","v":0},{"$f":"IF(A14<>\"\",IFERROR(VLOOKUP(AN14,Tabelas!B:D,3,0),0),\"\")","v":0},{"$f":"IF(A14<>\"\",IFERROR(VLOOKUP(AO14,Tabelas!B:D,3,0),0),\"\")","v":0},{"$f":"IF(A14<>\"\",IFERROR(VLOOKUP(AP14,Tabelas!B:D,3,0),0),\"\")","v":0},{"$f":"IF(A14<>\"\",IFERROR(VLOOKUP(AQ14,Tabelas!B:D,3,0),0),\"\")","v":0},0,0,0,0,0,0,0,0]
["FULANO 7",7,null,null,null,null,null,null,null,null,null,null,null,null,null,null,null,null,null,null,null,null,null,null,null,null,null,null,null,null,null,null,null,null,null,null,null,null,null,null,null,null,null,{"$f":"IF(A15<>\"\",IFERROR(VLOOKUP(M15,Tabelas!B:D,3,0),0),\"\")","v":0},{"$f":"IF(A15<>\"\",IFERROR(VLOOKUP(N15,Tabelas!B:D,3,0),0),\"\")","v":0},{"$f":"IF(A15<>\"\",IFERROR(VLOOKUP(O15,Tabelas!B:D,3,0),0),\"\")","v":0},{"$f":"IF(A15<>\"\",IFERROR(VLOOKUP(P15,Tabelas!B:D,3,0),0),\"\")","v":0},{"$f":"IF(A15<>\"\",IFERROR(VLOOKUP(Q15,Tabelas!B:D,3,0),0),\"\")","v":0},{"$f":"IF(A15<>\"\",IFERROR(VLOOKUP(R15,Tabelas!B:D,3,0),0),\"\")","v":0},{"$f":"IF(A15<>\"\",IFERROR(VLOOKUP(S15,Tabelas!B:D,3,0),0),\"\")","v":0},{"$f":"IF(A15<>\"\",IFERROR(VLOOKUP(T15,Tabelas!B:D,3,0),0),\"\")","v":0},{"$f":"IF(A15<>\"\",IFERROR(VLOOKUP(U15,Tabelas!B:D,3,0),0),\"\")","v":0},{"$f":"IF(A15<>\"\",IFERROR(VLOOKUP(V15,Tabelas!B:D,3,0),0),\"\")","v":0},{"$f":"IF(A15<>\"\",IFERROR(VLOOKUP(W15,Tabelas!B:D,3,0),0),\"\")","v":0},{"$f":"IF(A15<>\"\",IFERROR(VLOOKUP(X15,Tabelas!B:D,3,0),0),\"\")","v":0},{"$f":"IF(A15<>\"\",IFERROR(VLOOKUP(Y15,Tabelas!B:D,3,0),0),\"\")","v":0},{"$f":"IF(A15<>\"\",IFERROR(VLOOKUP(Z15,Tabelas!B:D,3,0),0),\"\")","v":0},{"$f":"IF(A15<>\"\",IFERROR(VLOOKUP(AA15,Tabelas!B:D,3,0),0),\"\")","v":0},{"$f":"IF(A15<>\"\",IFERROR(VLOOKUP(AB15,Tabelas!B:D,3,0),0),\"\")","v":0},{"$f":"IF(A15<>\"\",IFERROR(VLOOKUP(AC15,Tabelas!B:D,3,0),0),\"\")","v":0},{"$f":"IF(A15<>\"\",IFERROR(VLOOKUP(AD15,Tabelas!B:D,3,0),0),\"\")","v":0},{"$f":"IF(A15<>\"\",IFERROR(VLOOKUP(AE15,Tabelas!B:D,3,0),0),\"\")","v":0},{"$f":"IF(A15<>\"\",IFERROR(VLOOKUP(AF15,Tabelas!B:D,3,0),0),\"\")","v":0},{"$f":"IF(A15<>\"\",IFERROR(VLOOKUP(AG15,Tabelas!B:D,3,0),0),\"\")","v":0},{"$f":"IF(A15<>\"\",IFERROR(VLOOKUP(AH15,Tabelas!B:D,3,0),0),\"\")","v":0},{"$f":"IF(A15<>\"\",IFERROR(VLOOKUP(AI15,Tabelas!B:D,3,0),0),\"\")","v":0},{"$f":"IF(A15<>\"\",IFERROR(VLOOKUP(AJ15,Tabelas!B:D,3,0),0),\"\")","v":0},{"$f":"IF(A15<>\"\",IFERROR(VLOOKUP(AK15,Tabelas!B:D,3,0),0),\"\")","v":0},{"$f":"IF(A15<>\"\",IFERROR(VLOOKUP(AL15,Tabelas!B:D,3,0),0),\"\")","v":0},{"$f":"IF(A15<>\"\",IFERROR(VLOOKUP(AM15,Tabelas!B:D,3,0),0),\"\")","v":0},{"$f":"IF(A15<>\"\",IFERROR(VLOOKUP(AN15,Tabelas!B:D,3,0),0),\"\")","v":0},{"$f":"IF(A15<>\"\",IFERROR(VLOOKUP(AO15,Tabelas!B:D,3,0),0),\"\")","v":0},{"$f":"IF(A15<>\"\",IFERROR(VLOOKUP(AP15,Tabelas!B:D,3,0),0),\"\")","v":0},{"$f":"IF(A15<>\"\",IFERROR(VLOOKUP(AQ15,Tabelas!B:D,3,0),0),\"\")","v":0},0,0,0,0,0,0,0,0]
["FULANO 8",8,null,null,null,null,null,null,null,null,null,null,null,null,null,null,null,null,null,null,null,null,null,null,null,null,null,null,null,null,null,null,null,null,null,null,null,null,null,null,null,null,null,{"$f":"IF(A16<>\"\",IFERROR(VLOOKUP(M16,Tabelas!B:D,3,0),0),\"\")","v":0},{"$f":"IF(A16<>\"\",IFERROR(VLOOKUP(N16,Tabelas!B:D,3,0),0),\"\")","v":0},{"$f":"IF(A16<>\"\",IFERROR(VLOOKUP(O16,Tabelas!B:D,3,0),0),\"\")","v":0},{"$f":"IF(A16<>\"\",IFERROR(VLOOKUP(P16,Tabelas!B:D,3,0),0),\"\")","v":0},{"$f":"IF(A16<>\"\",IFERROR(VLOOKUP(Q16,Tabelas!B:D,3,0),0),\"\")","v":0},{"$f":"IF(A16<>\"\",IFERROR(VLOOKUP(R16,Tabelas!B:D,3,0),0),\"\")","v":0},{"$f":"IF(A16<>\"\",IFERROR(VLOOKUP(S16,Tabelas!B:D,3,0),0),\"\")","v":0},{"$f":"IF(A16<>\"\",IFERROR(VLOOKUP(T16,Tabelas!B:D,3,0),0),\"\")","v":0},{"$f":"IF(A16<>\"\",IFERROR(VLOOKUP(U16,Tabelas!B:D,3,0),0),\"\")","v":0},{"$f":"IF(A16<>\"\",IFERROR(VLOOKUP(V16,Tabelas!B:D,3,0),0),\"\")","v":0},{"$f":"IF(A16<>\"\",IFERROR(VLOOKUP(W16,Tabelas!B:D,3,0),0),\"\")","v":0},{"$f":"IF(A16<>\"\",IFERROR(VLOOKUP(X16,Tabelas!B:D,3,0),0),\"\")","v":0},{"$f":"IF(A16<>\"\",IFERROR(VLOOKUP(Y16,Tabelas!B:D,3,0),0),\"\")","v":0},{"$f":"IF(A16<>\"\",IFERROR(VLOOKUP(Z16,Tabelas!B:D,3,0),0),\"\")","v":0},{"$f":"IF(A16<>\"\",IFERROR(VLOOKUP(AA16,Tabelas!B:D,3,0),0),\"\")","v":0},{"$f":"IF(A16<>\"\",IFERROR(VLOOKUP(AB16,Tabelas!B:D,3,0),0),\"\")","v":0},{"$f":"IF(A16<>\"\",IFERROR(VLOOKUP(AC16,Tabelas!B:D,3,0),0),\"\")","v":0},{"$f":"IF(A16<>\"\",IFERROR(VLOOKUP(AD16,Tabelas!B:D,3,0),0),\"\")","v":0},{"$f":"IF(A16<>\"\",IFERROR(VLOOKUP(AE16,Tabelas!B:D,3,0),0),\"\")","v":0},{"$f":"IF(A16<>\"\",IFERROR(VLOOKUP(AF16,Tabelas!B:D,3,0),0),\"\")","v":0},{"$f":"IF(A16<>\"\",IFERROR(VLOOKUP(AG16,Tabelas!B:D,3,0),0),\"\")","v":0},{"$f":"IF(A16<>\"\",IFERROR(VLOOKUP(AH16,Tabelas!B:D,3,0),0),\"\")","v":0},{"$f":"IF(A16<>\"\",IFERROR(VLOOKUP(AI16,Tabelas!B:D,3,0),0),\"\")","v":0},{"$f":"IF(A16<>\"\",IFERROR(VLOOKUP(AJ16,Tabelas!B:D,3,0),0),\"\")","v":0},{"$f":"IF(A16<>\"\",IFERROR(VLOOKUP(AK16,Tabelas!B:D,3,0),0),\"\")","v":0},{"$f":"IF(A16<>\"\",IFERROR(VLOOKUP(AL16,Tabelas!B:D,3,0),0),\"\")","v":0},{"$f":"IF(A16<>\"\",IFERROR(VLOOKUP(AM16,Tabelas!B:D,3,0),0),\"\")","v":0},{"$f":"IF(A16<>\"\",IFERROR(VLOOKUP(AN16,Tabelas!B:D,3,0),0),\"\")","v":0},{"$f":"IF(A16<>\"\",IFERROR(VLOOKUP(AO16,Tabelas!B:D,3,0),0),\"\")","v":0},{"$f":"IF(A16<>\"\",IFERROR(VLOOKUP(AP16,Tabelas!B:D,3,0),0),\"\")","v":0},{"$f":"IF(A16<>\"\",IFERROR(VLOOKUP(AQ16,Tabelas!B:D,3,0),0),\"\")","v":0},0,0,0,0,0,0,0,0]
["FULANO 9",9,null,null,null,null,null,null,null,null,null,null,null,null,null,null,null,null,null,null,null,null,null,null,null,null,null,null,null,null,null,null,null,null,null,null,null,null,null,null,null,null,null,{"$f":"IF(A17<>\"\",IFERROR(VLOOKUP(M17,Tabelas!B:D,3,0),0),\"\")","v":0},{"$f":"IF(A17<>\"\",IFERROR(VLOOKUP(N17,Tabelas!B:D,3,0),0),\"\")","v":0},{"$f":"IF(A17<>\"\",IFERROR(VLOOKUP(O17,Tabelas!B:D,3,0),0),\"\")","v":0},{"$f":"IF(A17<>\"\",IFERROR(VLOOKUP(P17,Tabelas!B:D,3,0),0),\"\")","v":0},{"$f":"IF(A17<>\"\",IFERROR(VLOOKUP(Q17,Tabelas!B:D,3,0),0),\"\")","v":0},{"$f":"IF(A17<>\"\",IFERROR(VLOOKUP(R17,Tabelas!B:D,3,0),0),\"\")","v":0},{"$f":"IF(A17<>\"\",IFERROR(VLOOKUP(S17,Tabelas!B:D,3,0),0),\"\")","v":0},{"$f":"IF(A17<>\"\",IFERROR(VLOOKUP(T17,Tabelas!B:D,3,0),0),\"\")","v":0},{"$f":"IF(A17<>\"\",IFERROR(VLOOKUP(U17,Tabelas!B:D,3,0),0),\"\")","v":0},{"$f":"IF(A17<>\"\",IFERROR(VLOOKUP(V17,Tabelas!B:D,3,0),0),\"\")","v":0},{"$f":"IF(A17<>\"\",IFERROR(VLOOKUP(W17,Tabelas!B:D,3,0),0),\"\")","v":0},{"$f":"IF(A17<>\"\",IFERROR(VLOOKUP(X17,Tabelas!B:D,3,0),0),\"\")","v":0},{"$f":"IF(A17<>\"\",IFERROR(VLOOKUP(Y17,Tabelas!B:D,3,0),0),\"\")","v":0},{"$f":"IF(A17<>\"\",IFERROR(VLOOKUP(Z17,Tabelas!B:D,3,0),0),\"\")","v":0},{"$f":"IF(A17<>\"\",IFERROR(VLOOKUP(AA17,Tabelas!B:D,3,0),0),\"\")","v":0},{"$f":"IF(A17<>\"\",IFERROR(VLOOKUP(AB17,Tabelas!B:D,3,0),0),\"\")","v":0},{"$f":"IF(A17<>\"\",IFERROR(VLOOKUP(AC17,Tabelas!B:D,3,0),0),\"\")","v":0},{"$f":"IF(A17<>\"\",IFERROR(VLOOKUP(AD17,Tabelas!B:D,3,0),0),\"\")","v":0},{"$f":"IF(A17<>\"\",IFERROR(VLOOKUP(AE17,Tabelas!B:D,3,0),0),\"\")","v":0},{"$f":"IF(A17<>\"\",IFERROR(VLOOKUP(AF17,Tabelas!B:D,3,0),0),\"\")","v":0},{"$f":"IF(A17<>\"\",IFERROR(VLOOKUP(AG17,Tabelas!B:D,3,0),0),\"\")","v":0},{"$f":"IF(A17<>\"\",IFERROR(VLOOKUP(AH17,Tabelas!B:D,3,0),0),\"\")","v":0},{"$f":"IF(A17<>\"\",IFERROR(VLOOKUP(AI17,Tabelas!B:D,3,0),0),\"\")","v":0},{"$f":"IF(A17<>\"\",IFERROR(VLOOKUP(AJ17,Tabelas!B:D,3,0),0),\"\")","v":0},{"$f":"IF(A17<>\"\",IFERROR(VLOOKUP(AK17,Tabelas!B:D,3,0),0),\"\")","v":0},{"$f":"IF(A17<>\"\",IFERROR(VLOOKUP(AL17,Tabelas!B:D,3,0),0),\"\")","v":0},{"$f":"IF(A17<>\"\",IFERROR(VLOOKUP(AM17,Tabelas!B:D,3,0),0),\"\")","v":0},{"$f":"IF(A17<>\"\",IFERROR(VLOOKUP(AN17,Tabelas!B:D,3,0),0),\"\")","v":0},{"$f":"IF(A17<>\"\",IFERROR(VLOOKUP(AO17,Tabelas!B:D,3,0),0),\"\")","v":0},{"$f":"IF(A17<>\"\",IFERROR(VLOOKUP(AP17,Tabelas!B:D,3,0),0),\"\")","v":0},{"$f":"IF(A17<>\"\",IFERROR(VLOOKUP(AQ17,Tabelas!B:D,3,0),0),\"\")","v":0},0,0,0,0,0,0,0,0]
["FULANO 10",10,null,null,null,null,null,null,null,null,null,null,null,null,null,null,null,null,null,null,null,null,null,null,null,null,null,null,null,null,null,null,null,null,null,null,null,null,null,null,null,null,null,{"$f":"IF(A18<>\"\",IFERROR(VLOOKUP(M18,Tabelas!B:D,3,0),0),\"\")","v":0},{"$f":"IF(A18<>\"\",IFERROR(VLOOKUP(N18,Tabelas!B:D,3,0),0),\"\")","v":0},{"$f":"IF(A18<>\"\",IFERROR(VLOOKUP(O18,Tabelas!B:D,3,0),0),\"\")","v":0},{"$f":"IF(A18<>\"\",IFERROR(VLOOKUP(P18,Tabelas!B:D,3,0),0),\"\")","v":0},{"$f":"IF(A18<>\"\",IFERROR(VLOOKUP(Q18,Tabelas!B:D,3,0),0),\"\")","v":0},{"$f":"IF(A18<>\"\",IFERROR(VLOOKUP(R18,Tabelas!B:D,3,0),0),\"\")","v":0},{"$f":"IF(A18<>\"\",IFERROR(VLOOKUP(S18,Tabelas!B:D,3,0),0),\"\")","v":0},{"$f":"IF(A18<>\"\",IFERROR(VLOOKUP(T18,Tabelas!B:D,3,0),0),\"\")","v":0},{"$f":"IF(A18<>\"\",IFERROR(VLOOKUP(U18,Tabelas!B:D,3,0),0),\"\")","v":0},{"$f":"IF(A18<>\"\",IFERROR(VLOOKUP(V18,Tabelas!B:D,3,0),0),\"\")","v":0},{"$f":"IF(A18<>\"\",IFERROR(VLOOKUP(W18,Tabelas!B:D,3,0),0),\"\")","v":0},{"$f":"IF(A18<>\"\",IFERROR(VLOOKUP(X18,Tabelas!B:D,3,0),0),\"\")","v":0},{"$f":"IF(A18<>\"\",IFERROR(VLOOKUP(Y18,Tabelas!B:D,3,0),0),\"\")","v":0},{"$f":"IF(A18<>\"\",IFERROR(VLOOKUP(Z18,Tabelas!B:D,3,0),0),\"\")","v":0},{"$f":"IF(A18<>\"\",IFERROR(VLOOKUP(AA18,Tabelas!B:D,3,0),0),\"\")","v":0},{"$f":"IF(A18<>\"\",IFERROR(VLOOKUP(AB18,Tabelas!B:D,3,0),0),\"\")","v":0},{"$f":"IF(A18<>\"\",IFERROR(VLOOKUP(AC18,Tabelas!B:D,3,0),0),\"\")","v":0},{"$f":"IF(A18<>\"\",IFERROR(VLOOKUP(AD18,Tabelas!B:D,3,0),0),\"\")","v":0},{"$f":"IF(A18<>\"\",IFERROR(VLOOKUP(AE18,Tabelas!B:D,3,0),0),\"\")","v":0},{"$f":"IF(A18<>\"\",IFERROR(VLOOKUP(AF18,Tabelas!B:D,3,0),0),\"\")","v":0},{"$f":"IF(A18<>\"\",IFERROR(VLOOKUP(AG18,Tabelas!B:D,3,0),0),\"\")","v":0},{"$f":"IF(A18<>\"\",IFERROR(VLOOKUP(AH18,Tabelas!B:D,3,0),0),\"\")","v":0},{"$f":"IF(A18<>\"\",IFERROR(VLOOKUP(AI18,Tabelas!B:D,3,0),0),\"\")","v":0},{"$f":"IF(A18<>\"\",IFERROR(VLOOKUP(AJ18,Tabelas!B:D,3,0),0),\"\")","v":0},{"$f":"IF(A18<>\"\",IFERROR(VLOOKUP(AK18,Tabelas!B:D,3,0),0),\"\")","v":0},{"$f":"IF(A18<>\"\",IFERROR(VLOOKUP(AL18,Tabelas!B:D,3,0),0),\"\")","v":0},{"$f":"IF(A18<>\"\",IFERROR(VLOOKUP(AM18,Tabelas!B:D,3,0),0),\"\")","v":0},{"$f":"IF(A18<>\"\",IFERROR(VLOOKUP(AN18,Tabelas!B:D,3,0),0),\"\")","v":0},{"$f":"IF(A18<>\"\",IFERROR(VLOOKUP(AO18,Tabelas!B:D,3,0),0),\"\")","v":0},{"$f":"IF(A18<>\"\",IFERROR(VLOOKUP(AP18,Tabelas!B:D,3,0),0),\"\")","v":0},{"$f":"IF(A18<>\"\",IFERROR(VLOOKUP(AQ18,Tabelas!B:D,3,0),0),\"\")","v":0},0,0,0,0,0,0,0,0]
["FULANO 11",11,null,null,null,null,null,null,null,null,null,null,null,null,null,null,null,null,null,null,null,null,null,null,null,null,null,null,null,null,null,null,null,null,null,null,null,null,null,null,null,null,null,{"$f":"IF(A19<>\"\",IFERROR(VLOOKUP(M19,Tabelas!B:D,3,0),0),\"\")","v":0},{"$f":"IF(A19<>\"\",IFERROR(VLOOKUP(N19,Tabelas!B:D,3,0),0),\"\")","v":0},{"$f":"IF(A19<>\"\",IFERROR(VLOOKUP(O19,Tabelas!B:D,3,0),0),\"\")","v":0},{"$f":"IF(A19<>\"\",IFERROR(VLOOKUP(P19,Tabelas!B:D,3,0),0),\"\")","v":0},{"$f":"IF(A19<>\"\",IFERROR(VLOOKUP(Q19,Tabelas!B:D,3,0),0),\"\")","v":0},{"$f":"IF(A19<>\"\",IFERROR(VLOOKUP(R19,Tabelas!B:D,3,0),0),\"\")","v":0},{"$f":"IF(A19<>\"\",IFERROR(VLOOKUP(S19,Tabelas!B:D,3,0),0),\"\")","v":0},{"$f":"IF(A19<>\"\",IFERROR(VLOOKUP(T19,Tabelas!B:D,3,0),0),\"\")","v":0},{"$f":"IF(A19<>\"\",IFERROR(VLOOKUP(U19,Tabelas!B:D,3,0),0),\"\")","v":0},{"$f":"IF(A19<>\"\",IFERROR(VLOOKUP(V19,Tabelas!B:D,3,0),0),\"\")","v":0},{"$f":"IF(A19<>\"\",IFERROR(VLOOKUP(W19,Tabelas!B:D,3,0),0),\"\")","v":0},{"$f":"IF(A19<>\"\",IFERROR(VLOOKUP(X19,Tabelas!B:D,3,0),0),\"\")","v":0},{"$f":"IF(A19<>\"\",IFERROR(VLOOKUP(Y19,Tabelas!B:D,3,0),0),\"\")","v":0},{"$f":"IF(A19<>\"\",IFERROR(VLOOKUP(Z19,Tabelas!B:D,3,0),0),\"\")","v":0},{"$f":"IF(A19<>\"\",IFERROR(VLOOKUP(AA19,Tabelas!B:D,3,0),0),\"\")","v":0},{"$f":"IF(A19<>\"\",IFERROR(VLOOKUP(AB19,Tabelas!B:D,3,0),0),\"\")","v":0},{"$f":"IF(A19<>\"\",IFERROR(VLOOKUP(AC19,Tabelas!B:D,3,0),0),\"\")","v":0},{"$f":"IF(A19<>\"\",IFERROR(VLOOKUP(AD19,Tabelas!B:D,3,0),0),\"\")","v":0},{"$f":"IF(A19<>\"\",IFERROR(VLOOKUP(AE19,Tabelas!B:D,3,0),0),\"\")","v":0},{"$f":"IF(A19<>\"\",IFERROR(VLOOKUP(AF19,Tabelas!B:D,3,0),0),\"\")","v":0},{"$f":"IF(A19<>\"\",IFERROR(VLOOKUP(AG19,Tabelas!B:D,3,0),0),\"\")","v":0},{"$f":"IF(A19<>\"\",IFERROR(VLOOKUP(AH19,Tabelas!B:D,3,0),0),\"\")","v":0},{"$f":"IF(A19<>\"\",IFERROR(VLOOKUP(AI19,Tabelas!B:D,3,0),0),\"\")","v":0},{"$f":"IF(A19<>\"\",IFERROR(VLOOKUP(AJ19,Tabelas!B:D,3,0),0),\"\")","v":0},{"$f":"IF(A19<>\"\",IFERROR(VLOOKUP(AK19,Tabelas!B:D,3,0),0),\"\")","v":0},{"$f":"IF(A19<>\"\",IFERROR(VLOOKUP(AL19,Tabelas!B:D,3,0),0),\"\")","v":0},{"$f":"IF(A19<>\"\",IFERROR(VLOOKUP(AM19,Tabelas!B:D,3,0),0),\"\")","v":0},{"$f":"IF(A19<>\"\",IFERROR(VLOOKUP(AN19,Tabelas!B:D,3,0),0),\"\")","v":0},{"$f":"IF(A19<>\"\",IFERROR(VLOOKUP(AO19,Tabelas!B:D,3,0),0),\"\")","v":0},{"$f":"IF(A19<>\"\",IFERROR(VLOOKUP(AP19,Tabelas!B:D,3,0),0),\"\")","v":0},{"$f":"IF(A19<>\"\",IFERROR(VLOOKUP(AQ19,Tabelas!B:D,3,0),0),\"\")","v":0},0,0,0,0,0,0,0,0]
["FULANO 12",12,null,null,null,null,null,null,null,null,null,null,null,null,null,null,null,null,null,null,null,null,null,null,null,null,null,null,null,null,null,null,null,null,null,null,null,null,null,null,null,null,null,{"$f":"IF(A20<>\"\",IFERROR(VLOOKUP(M20,Tabelas!B:D,3,0),0),\"\")","v":0},{"$f":"IF(A20<>\"\",IFERROR(VLOOKUP(N20,Tabelas!B:D,3,0),0),\"\")","v":0},{"$f":"IF(A20<>\"\",IFERROR(VLOOKUP(O20,Tabelas!B:D,3,0),0),\"\")","v":0},{"$f":"IF(A20<>\"\",IFERROR(VLOOKUP(P20,Tabelas!B:D,3,0),0),\"\")","v":0},{"$f":"IF(A20<>\"\",IFERROR(VLOOKUP(Q20,Tabelas!B:D,3,0),0),\"\")","v":0},{"$f":"IF(A20<>\"\",IFERROR(VLOOKUP(R20,Tabelas!B:D,3,0),0),\"\")","v":0},{"$f":"IF(A20<>\"\",IFERROR(VLOOKUP(S20,Tabelas!B:D,3,0),0),\"\")","v":0},{"$f":"IF(A20<>\"\",IFERROR(VLOOKUP(T20,Tabelas!B:D,3,0),0),\"\")","v":0},{"$f":"IF(A20<>\"\",IFERROR(VLOOKUP(U20,Tabelas!B:D,3,0),0),\"\")","v":0},{"$f":"IF(A20<>\"\",IFERROR(VLOOKUP(V20,Tabelas!B:D,3,0),0),\"\")","v":0},{"$f":"IF(A20<>\"\",IFERROR(VLOOKUP(W20,Tabelas!B:D,3,0),0),\"\")","v":0},{"$f":"IF(A20<>\"\",IFERROR(VLOOKUP(X20,Tabelas!B:D,3,0),0),\"\")","v":0},{"$f":"IF(A20<>\"\",IFERROR(VLOOKUP(Y20,Tabelas!B:D,3,0),0),\"\")","v":0},{"$f":"IF(A20<>\"\",IFERROR(VLOOKUP(Z20,Tabelas!B:D,3,0),0),\"\")","v":0},{"$f":"IF(A20<>\"\",IFERROR(VLOOKUP(AA20,Tabelas!B:D,3,0),0),\"\")","v":0},{"$f":"IF(A20<>\"\",IFERROR(VLOOKUP(AB20,Tabelas!B:D,3,0),0),\"\")","v":0},{"$f":"IF(A20<>\"\",IFERROR(VLOOKUP(AC20,Tabelas!B:D,3,0),0),\"\")","v":0},{"$f":"IF(A20<>\"\",IFERROR(VLOOKUP(AD20,Tabelas!B:D,3,0),0),\"\")","v":0},{"$f":"IF(A20<>\"\",IFERROR(VLOOKUP(AE20,Tabelas!B:D,3,0),0),\"\")","v":0},{"$f":"IF(A20<>\"\",IFERROR(VLOOKUP(AF20,Tabelas!B:D,3,0),0),\"\")","v":0},{"$f":"IF(A20<>\"\",IFERROR(VLOOKUP(AG20,Tabelas!B:D,3,0),0),\"\")","v":0},{"$f":"IF(A20<>\"\",IFERROR(VLOOKUP(AH20,Tabelas!B:D,3,0),0),\"\")","v":0},{"$f":"IF(A20<>\"\",IFERROR(VLOOKUP(AI20,Tabelas!B:D,3,0),0),\"\")","v":0},{"$f":"IF(A20<>\"\",IFERROR(VLOOKUP(AJ20,Tabelas!B:D,3,0),0),\"\")","v":0},{"$f":"IF(A20<>\"\",IFERROR(VLOOKUP(AK20,Tabelas!B:D,3,0),0),\"\")","v":0},{"$f":"IF(A20<>\"\",IFERROR(VLOOKUP(AL20,Tabelas!B:D,3,0),0),\"\")","v":0},{"$f":"IF(A20<>\"\",IFERROR(VLOOKUP(AM20,Tabelas!B:D,3,0),0),\"\")","v":0},{"$f":"IF(A20<>\"\",IFERROR(VLOOKUP(AN20,Tabelas!B:D,3,0),0),\"\")","v":0},{"$f":"IF(A20<>\"\",IFERROR(VLOOKUP(AO20,Tabelas!B:D,3,0),0),\"\")","v":0},{"$f":"IF(A20<>\"\",IFERROR(VLOOKUP(AP20,Tabelas!B:D,3,0),0),\"\")","v":0},{"$f":"IF(A20<>\"\",IFERROR(VLOOKUP(AQ20,Tabelas!B:D,3,0),0),\"\")","v":0},0,0,0,0,0,0,0,0]
["FULANO 13",13,null,null,null,null,null,null,null,null,null,null,null,null,null,null,null,null,null,null,null,null,null,null,null,null,null,null,null,null,null,null,null,null,null,null,null,null,null,null,null,null,null,{"$f":"IF(A21<>\"\",IFERROR(VLOOKUP(M21,Tabelas!B:D,3,0),0),\"\")","v":0},{"$f":"IF(A21<>\"\",IFERROR(VLOOKUP(N21,Tabelas!B:D,3,0),0),\"\")","v":0},{"$f":"IF(A21<>\"\",IFERROR(VLOOKUP(O21,Tabelas!B:D,3,0),0),\"\")","v":0},{"$f":"IF(A21<>\"\",IFERROR(VLOOKUP(P21,Tabelas!B:D,3,0),0),\"\")","v":0},{"$f":"IF(A21<>\"\",IFERROR(VLOOKUP(Q21,Tabelas!B:D,3,0),0),\"\")","v":0},{"$f":"IF(A21<>\"\",IFERROR(VLOOKUP(R21,Tabelas!B:D,3,0),0),\"\")","v":0},{"$f":"IF(A21<>\"\",IFERROR(VLOOKUP(S21,Tabelas!B:D,3,0),0),\"\")","v":0},{"$f":"IF(A21<>\"\",IFERROR(VLOOKUP(T21,Tabelas!B:D,3,0),0),\"\")","v":0},{"$f":"IF(A21<>\"\",IFERROR(VLOOKUP(U21,Tabelas!B:D,3,0),0),\"\")","v":0},{"$f":"IF(A21<>\"\",IFERROR(VLOOKUP(V21,Tabelas!B:D,3,0),0),\"\")","v":0},{"$f":"IF(A21<>\"\",IFERROR(VLOOKUP(W21,Tabelas!B:D,3,0),0),\"\")","v":0},{"$f":"IF(A21<>\"\",IFERROR(VLOOKUP(X21,Tabelas!B:D,3,0),0),\"\")","v":0},{"$f":"IF(A21<>\"\",IFERROR(VLOOKUP(Y21,Tabelas!B:D,3,0),0),\"\")","v":0},{"$f":"IF(A21<>\"\",IFERROR(VLOOKUP(Z21,Tabelas!B:D,3,0),0),\"\")","v":0},{"$f":"IF(A21<>\"\",IFERROR(VLOOKUP(AA21,Tabelas!B:D,3,0),0),\"\")","v":0},{"$f":"IF(A21<>\"\",IFERROR(VLOOKUP(AB21,Tabelas!B:D,3,0),0),\"\")","v":0},{"$f":"IF(A21<>\"\",IFERROR(VLOOKUP(AC21,Tabelas!B:D,3,0),0),\"\")","v":0},{"$f":"IF(A21<>\"\",IFERROR(VLOOKUP(AD21,Tabelas!B:D,3,0),0),\"\")","v":0},{"$f":"IF(A21<>\"\",IFERROR(VLOOKUP(AE21,Tabelas!B:D,3,0),0),\"\")","v":0},{"$f":"IF(A21<>\"\",IFERROR(VLOOKUP(AF21,Tabelas!B:D,3,0),0),\"\")","v":0},{"$f":"IF(A21<>\"\",IFERROR(VLOOKUP(AG21,Tabelas!B:D,3,0),0),\"\")","v":0},{"$f":"IF(A21<>\"\",IFERROR(VLOOKUP(AH21,Tabelas!B:D,3,0),0),\"\")","v":0},{"$f":"IF(A21<>\"\",IFERROR(VLOOKUP(AI21,Tabelas!B:D,3,0),0),\"\")","v":0},{"$f":"IF(A21<>\"\",IFERROR(VLOOKUP(AJ21,Tabelas!B:D,3,0),0),\"\")","v":0},{"$f":"IF(A21<>\"\",IFERROR(VLOOKUP(AK21,Tabelas!B:D,3,0),0),\"\")","v":0},{"$f":"IF(A21<>\"\",IFERROR(VLOOKUP(AL21,Tabelas!B:D,3,0),0),\"\")","v":0},{"$f":"IF(A21<>\"\",IFERROR(VLOOKUP(AM21,Tabelas!B:D,3,0),0),\"\")","v":0},{"$f":"IF(A21<>\"\",IFERROR(VLOOKUP(AN21,Tabelas!B:D,3,0),0),\"\")","v":0},{"$f":"IF(A21<>\"\",IFERROR(VLOOKUP(AO21,Tabelas!B:D,3,0),0),\"\")","v":0},{"$f":"IF(A21<>\"\",IFERROR(VLOOKUP(AP21,Tabelas!B:D,3,0),0),\"\")","v":0},{"$f":"IF(A21<>\"\",IFERROR(VLOOKUP(AQ21,Tabelas!B:D,3,0),0),\"\")","v":0},0,0,0,0,0,0,0,0]
["FULANO 14",14,null,null,null,null,null,null,null,null,null,null,null,null,null,null,null,null,null,null,null,null,null,null,null,null,null,null,null,null,null,null,null,null,null,null,null,null,null,null,null,null,null,{"$f":"IF(A22<>\"\",IFERROR(VLOOKUP(M22,Tabelas!B:D,3,0),0),\"\")","v":0},{"$f":"IF(A22<>\"\",IFERROR(VLOOKUP(N22,Tabelas!B:D,3,0),0),\"\")","v":0},{"$f":"IF(A22<>\"\",IFERROR(VLOOKUP(O22,Tabelas!B:D,3,0),0),\"\")","v":0},{"$f":"IF(A22<>\"\",IFERROR(VLOOKUP(P22,Tabelas!B:D,3,0),0),\"\")","v":0},{"$f":"IF(A22<>\"\",IFERROR(VLOOKUP(Q22,Tabelas!B:D,3,0),0),\"\")","v":0},{"$f":"IF(A22<>\"\",IFERROR(VLOOKUP(R22,Tabelas!B:D,3,0),0),\"\")","v":0},{"$f":"IF(A22<>\"\",IFERROR(VLOOKUP(S22,Tabelas!B:D,3,0),0),\"\")","v":0},{"$f":"IF(A22<>\"\",IFERROR(VLOOKUP(T22,Tabelas!B:D,3,0),0),\"\")","v":0},{"$f":"IF(A22<>\"\",IFERROR(VLOOKUP(U22,Tabelas!B:D,3,0),0),\"\")","v":0},{"$f":"IF(A22<>\"\",IFERROR(VLOOKUP(V22,Tabelas!B:D,3,0),0),\"\")","v":0},{"$f":"IF(A22<>\"\",IFERROR(VLOOKUP(W22,Tabelas!B:D,3,0),0),\"\")","v":0},{"$f":"IF(A22<>\"\",IFERROR(VLOOKUP(X22,Tabelas!B:D,3,0),0),\"\")","v":0},{"$f":"IF(A22<>\"\",IFERROR(VLOOKUP(Y22,Tabelas!B:D,3,0),0),\"\")","v":0},{"$f":"IF(A22<>\"\",IFERROR(VLOOKUP(Z22,Tabelas!B:D,3,0),0),\"\")","v":0},{"$f":"IF(A22<>\"\",IFERROR(VLOOKUP(AA22,Tabelas!B:D,3,0),0),\"\")","v":0},{"$f":"IF(A22<>\"\",IFERROR(VLOOKUP(AB22,Tabelas!B:D,3,0),0),\"\")","v":0},{"$f":"IF(A22<>\"\",IFERROR(VLOOKUP(AC22,Tabelas!B:D,3,0),0),\"\")","v":0},{"$f":"IF(A22<>\"\",IFERROR(VLOOKUP(AD22,Tabelas!B:D,3,0),0),\"\")","v":0},{"$f":"IF(A22<>\"\",IFERROR(VLOOKUP(AE22,Tabelas!B:D,3,0),0),\"\")","v":0},{"$f":"IF(A22<>\"\",IFERROR(VLOOKUP(AF22,Tabelas!B:D,3,0),0),\"\")","v":0},{"$f":"IF(A22<>\"\",IFERROR(VLOOKUP(AG22,Tabelas!B:D,3,0),0),\"\")","v":0},{"$f":"IF(A22<>\"\",IFERROR(VLOOKUP(AH22,Tabelas!B:D,3,0),0),\"\")","v":0},{"$f":"IF(A22<>\"\",IFERROR(VLOOKUP(AI22,Tabelas!B:D,3,0),0),\"\")","v":0},{"$f":"IF(A22<>\"\",IFERROR(VLOOKUP(AJ22,Tabelas!B:D,3,0),0),\"\")","v":0},{"$f":"IF(A22<>\"\",IFERROR(VLOOKUP(AK22,Tabelas!B:D,3,0),0),\"\")","v":0},{"$f":"IF(A22<>\"\",IFERROR(VLOOKUP(AL22,Tabelas!B:D,3,0),0),\"\")","v":0},{"$f":"IF(A22<>\"\",IFERROR(VLOOKUP(AM22,Tabelas!B:D,3,0),0),\"\")","v":0},{"$f":"IF(A22<>\"\",IFERROR(VLOOKUP(AN22,Tabelas!B:D,3,0),0),\"\")","v":0},{"$f":"IF(A22<>\"\",IFERROR(VLOOKUP(AO22,Tabelas!B:D,3,0),0),\"\")","v":0},{"$f":"IF(A22<>\"\",IFERROR(VLOOKUP(AP22,Tabelas!B:D,3,0),0),\"\")","v":0},{"$f":"IF(A22<>\"\",IFERROR(VLOOKUP(AQ22,Tabelas!B:D,3,0),0),\"\")","v":0},0,0,0,0,0,0,0,0]
["FULANO 15",15,null,null,null,null,null,null,null,null,null,null,null,null,null,null,null,null,null,null,null,null,null,null,null,null,null,null,null,null,null,null,null,null,null,null,null,null,null,null,null,null,null,{"$f":"IF(A23<>\"\",IFERROR(VLOOKUP(M23,Tabelas!B:D,3,0),0),\"\")","v":0},{"$f":"IF(A23<>\"\",IFERROR(VLOOKUP(N23,Tabelas!B:D,3,0),0),\"\")","v":0},{"$f":"IF(A23<>\"\",IFERROR(VLOOKUP(O23,Tabelas!B:D,3,0),0),\"\")","v":0},{"$f":"IF(A23<>\"\",IFERROR(VLOOKUP(P23,Tabelas!B:D,3,0),0),\"\")","v":0},{"$f":"IF(A23<>\"\",IFERROR(VLOOKUP(Q23,Tabelas!B:D,3,0),0),\"\")","v":0},{"$f":"IF(A23<>\"\",IFERROR(VLOOKUP(R23,Tabelas!B:D,3,0),0),\"\")","v":0},{"$f":"IF(A23<>\"\",IFERROR(VLOOKUP(S23,Tabelas!B:D,3,0),0),\"\")","v":0},{"$f":"IF(A23<>\"\",IFERROR(VLOOKUP(T23,Tabelas!B:D,3,0),0),\"\")","v":0},{"$f":"IF(A23<>\"\",IFERROR(VLOOKUP(U23,Tabelas!B:D,3,0),0),\"\")","v":0},{"$f":"IF(A23<>\"\",IFERROR(VLOOKUP(V23,Tabelas!B:D,3,0),0),\"\")","v":0},{"$f":"IF(A23<>\"\",IFERROR(VLOOKUP(W23,Tabelas!B:D,3,0),0),\"\")","v":0},{"$f":"IF(A23<>\"\",IFERROR(VLOOKUP(X23,Tabelas!B:D,3,0),0),\"\")","v":0},{"$f":"IF(A23<>\"\",IFERROR(VLOOKUP(Y23,Tabelas!B:D,3,0),0),\"\")","v":0},{"$f":"IF(A23<>\"\",IFERROR(VLOOKUP(Z23,Tabelas!B:D,3,0),0),\"\")","v":0},{"$f":"IF(A23<>\"\",IFERROR(VLOOKUP(AA23,Tabelas!B:D,3,0),0),\"\")","v":0},{"$f":"IF(A23<>\"\",IFERROR(VLOOKUP(AB23,Tabelas!B:D,3,0),0),\"\")","v":0},{"$f":"IF(A23<>\"\",IFERROR(VLOOKUP(AC23,Tabelas!B:D,3,0),0),\"\")","v":0},{"$f":"IF(A23<>\"\",IFERROR(VLOOKUP(AD23,Tabelas!B:D,3,0),0),\"\")","v":0},{"$f":"IF(A23<>\"\",IFERROR(VLOOKUP(AE23,Tabelas!B:D,3,0),0),\"\")","v":0},{"$f":"IF(A23<>\"\",IFERROR(VLOOKUP(AF23,Tabelas!B:D,3,0),0),\"\")","v":0},{"$f":"IF(A23<>\"\",IFERROR(VLOOKUP(AG23,Tabelas!B:D,3,0),0),\"\")","v":0},{"$f":"IF(A23<>\"\",IFERROR(VLOOKUP(AH23,Tabelas!B:D,3,0),0),\"\")","v":0},{"$f":"IF(A23<>\"\",IFERROR(VLOOKUP(AI23,Tabelas!B:D,3,0),0),\"\")","v":0},{"$f":"IF(A23<>\"\",IFERROR(VLOOKUP(AJ23,Tabelas!B:D,3,0),0),\"\")","v":0},{"$f":"IF(A23<>\"\",IFERROR(VLOOKUP(AK23,Tabelas!B:D,3,0),0),\"\")","v":0},{"$f":"IF(A23<>\"\",IFERROR(VLOOKUP(AL23,Tabelas!B:D,3,0),0),\"\")","v":0},{"$f":"IF(A23<>\"\",IFERROR(VLOOKUP(AM23,Tabelas!B:D,3,0),0),\"\")","v":0},{"$f":"IF(A23<>\"\",IFERROR(VLOOKUP(AN23,Tabelas!B:D,3,0),0),\"\")","v":0},{"$f":"IF(A23<>\"\",IFERROR(VLOOKUP(AO23,Tabelas!B:D,3,0),0),\"\")","v":0},{"$f":"IF(A23<>\"\",IFERROR(VLOOKUP(AP23,Tabelas!B:D,3,0),0),\"\")","v":0},{"$f":"IF(A23<>\"\",IFERROR(VLOOKUP(AQ23,Tabelas!B:D,3,0),0),\"\")","v":0},0,0,0,0,0,0,0,0]
["FULANO 16",16,null,null,null,null,null,null,null,null,null,null,null,null,null,null,null,null,null,null,null,null,null,null,null,null,null,null,null,null,null,null,null,null,null,null,null,null,null,null,null,null,null,{"$f":"IF(A24<>\"\",IFERROR(VLOOKUP(M24,Tabelas!B:D,3,0),0),\"\")","v":0},{"$f":"IF(A24<>\"\",IFERROR(VLOOKUP(N24,Tabelas!B:D,3,0),0),\"\")","v":0},{"$f":"IF(A24<>\"\",IFERROR(VLOOKUP(O24,Tabelas!B:D,3,0),0),\"\")","v":0},{"$f":"IF(A24<>\"\",IFERROR(VLOOKUP(P24,Tabelas!B:D,3,0),0),\"\")","v":0},{"$f":"IF(A24<>\"\",IFERROR(VLOOKUP(Q24,Tabelas!B:D,3,0),0),\"\")","v":0},{"$f":"IF(A24<>\"\",IFERROR(VLOOKUP(R24,Tabelas!B:D,3,0),0),\"\")","v":0},{"$f":"IF(A24<>\"\",IFERROR(VLOOKUP(S24,Tabelas!B:D,3,0),0),\"\")","v":0},{"$f":"IF(A24<>\"\",IFERROR(VLOOKUP(T24,Tabelas!B:D,3,0),0),\"\")","v":0},{"$f":"IF(A24<>\"\",IFERROR(VLOOKUP(U24,Tabelas!B:D,3,0),0),\"\")","v":0},{"$f":"IF(A24<>\"\",IFERROR(VLOOKUP(V24,Tabelas!B:D,3,0),0),\"\")","v":0},{"$f":"IF(A24<>\"\",IFERROR(VLOOKUP(W24,Tabelas!B:D,3,0),0),\"\")","v":0},{"$f":"IF(A24<>\"\",IFERROR(VLOOKUP(X24,Tabelas!B:D,3,0),0),\"\")","v":0},{"$f":"IF(A24<>\"\",IFERROR(VLOOKUP(Y24,Tabelas!B:D,3,0),0),\"\")","v":0},{"$f":"IF(A24<>\"\",IFERROR(VLOOKUP(Z24,Tabelas!B:D,3,0),0),\"\")","v":0},{"$f":"IF(A24<>\"\",IFERROR(VLOOKUP(AA24,Tabelas!B:D,3,0),0),\"\")","v":0},{"$f":"IF(A24<>\"\",IFERROR(VLOOKUP(AB24,Tabelas!B:D,3,0),0),\"\")","v":0},{"$f":"IF(A24<>\"\",IFERROR(VLOOKUP(AC24,Tabelas!B:D,3,0),0),\"\")","v":0},{"$f":"IF(A24<>\"\",IFERROR(VLOOKUP(AD24,Tabelas!B:D,3,0),0),\"\")","v":0},{"$f":"IF(A24<>\"\",IFERROR(VLOOKUP(AE24,Tabelas!B:D,3,0),0),\"\")","v":0},{"$f":"IF(A24<>\"\",IFERROR(VLOOKUP(AF24,Tabelas!B:D,3,0),0),\"\")","v":0},{"$f":"IF(A24<>\"\",IFERROR(VLOOKUP(AG24,Tabelas!B:D,3,0),0),\"\")","v":0},{"$f":"IF(A24<>\"\",IFERROR(VLOOKUP(AH24,Tabelas!B:D,3,0),0),\"\")","v":0},{"$f":"IF(A24<>\"\",IFERROR(VLOOKUP(AI24,Tabelas!B:D,3,0),0),\"\")","v":0},{"$f":"IF(A24<>\"\",IFERROR(VLOOKUP(AJ24,Tabelas!B:D,3,0),0),\"\")","v":0},{"$f":"IF(A24<>\"\",IFERROR(VLOOKUP(AK24,Tabelas!B:D,3,0),0),\"\")","v":0},{"$f":"IF(A24<>\"\",IFERROR(VLOOKUP(AL24,Tabelas!B:D,3,0),0),\"\")","v":0},{"$f":"IF(A24<>\"\",IFERROR(VLOOKUP(AM24,Tabelas!B:D,3,0),0),\"\")","v":0},{"$f":"IF(A24<>\"\",IFERROR(VLOOKUP(AN24,Tabelas!B:D,3,0),0),\"\")","v":0},{"$f":"IF(A24<>\"\",IFERROR(VLOOKUP(AO24,Tabelas!B:D,3,0),0),\"\")","v":0},{"$f":"IF(A24<>\"\",IFERROR(VLOOKUP(AP24,Tabelas!B:D,3,0),0),\"\")","v":0},{"$f":"IF(A24<>\"\",IFERROR(VLOOKUP(AQ24,Tabelas!B:D,3,0),0),\"\")","v":0},0,0,0,0,0,0,0,0]
["FULANO 17",17,null,null,null,null,null,null,null,null,null,null,null,null,null,null,null,null,null,null,null,null,null,null,null,null,null,null,null,null,null,null,null,null,null,null,null,null,null,null,null,null,null,{"$f":"IF(A25<>\"\",IFERROR(VLOOKUP(M25,Tabelas!B:D,3,0),0),\"\")","v":0},{"$f":"IF(A25<>\"\",IFERROR(VLOOKUP(N25,Tabelas!B:D,3,0),0),\"\")","v":0},{"$f":"IF(A25<>\"\",IFERROR(VLOOKUP(O25,Tabelas!B:D,3,0),0),\"\")","v":0},{"$f":"IF(A25<>\"\",IFERROR(VLOOKUP(P25,Tabelas!B:D,3,0),0),\"\")","v":0},{"$f":"IF(A25<>\"\",IFERROR(VLOOKUP(Q25,Tabelas!B:D,3,0),0),\"\")","v":0},{"$f":"IF(A25<>\"\",IFERROR(VLOOKUP(R25,Tabelas!B:D,3,0),0),\"\")","v":0},{"$f":"IF(A25<>\"\",IFERROR(VLOOKUP(S25,Tabelas!B:D,3,0),0),\"\")","v":0},{"$f":"IF(A25<>\"\",IFERROR(VLOOKUP(T25,Tabelas!B:D,3,0),0),\"\")","v":0},{"$f":"IF(A25<>\"\",IFERROR(VLOOKUP(U25,Tabelas!B:D,3,0),0),\"\")","v":0},{"$f":"IF(A25<>\"\",IFERROR(VLOOKUP(V25,Tabelas!B:D,3,0),0),\"\")","v":0},{"$f":"IF(A25<>\"\",IFERROR(VLOOKUP(W25,Tabelas!B:D,3,0),0),\"\")","v":0},{"$f":"IF(A25<>\"\",IFERROR(VLOOKUP(X25,Tabelas!B:D,3,0),0),\"\")","v":0},{"$f":"IF(A25<>\"\",IFERROR(VLOOKUP(Y25,Tabelas!B:D,3,0),0),\"\")","v":0},{"$f":"IF(A25<>\"\",IFERROR(VLOOKUP(Z25,Tabelas!B:D,3,0),0),\"\")","v":0},{"$f":"IF(A25<>\"\",IFERROR(VLOOKUP(AA25,Tabelas!B:D,3,0),0),\"\")","v":0},{"$f":"IF(A25<>\"\",IFERROR(VLOOKUP(AB25,Tabelas!B:D,3,0),0),\"\")","v":0},{"$f":"IF(A25<>\"\",IFERROR(VLOOKUP(AC25,Tabelas!B:D,3,0),0),\"\")","v":0},{"$f":"IF(A25<>\"\",IFERROR(VLOOKUP(AD25,Tabelas!B:D,3,0),0),\"\")","v":0},{"$f":"IF(A25<>\"\",IFERROR(VLOOKUP(AE25,Tabelas!B:D,3,0),0),\"\")","v":0},{"$f":"IF(A25<>\"\",IFERROR(VLOOKUP(AF25,Tabelas!B:D,3,0),0),\"\")","v":0},{"$f":"IF(A25<>\"\",IFERROR(VLOOKUP(AG25,Tabelas!B:D,3,0),0),\"\")","v":0},{"$f":"IF(A25<>\"\",IFERROR(VLOOKUP(AH25,Tabelas!B:D,3,0),0),\"\")","v":0},{"$f":"IF(A25<>\"\",IFERROR(VLOOKUP(AI25,Tabelas!B:D,3,0),0),\"\")","v":0},{"$f":"IF(A25<>\"\",IFERROR(VLOOKUP(AJ25,Tabelas!B:D,3,0),0),\"\")","v":0},{"$f":"IF(A25<>\"\",IFERROR(VLOOKUP(AK25,Tabelas!B:D,3,0),0),\"\")","v":0},{"$f":"IF(A25<>\"\",IFERROR(VLOOKUP(AL25,Tabelas!B:D,3,0),0),\"\")","v":0},{"$f":"IF(A25<>\"\",IFERROR(VLOOKUP(AM25,Tabelas!B:D,3,0),0),\"\")","v":0},{"$f":"IF(A25<>\"\",IFERROR(VLOOKUP(AN25,Tabelas!B:D,3,0),0),\"\")","v":0},{"$f":"IF(A25<>\"\",IFERROR(VLOOKUP(AO25,Tabelas!B:D,3,0),0),\"\")","v":0},{"$f":"IF(A25<>\"\",IFERROR(VLOOKUP(AP25,Tabelas!B:D,3,0),0),\"\")","v":0},{"$f":"IF(A25<>\"\",IFERROR(VLOOKUP(AQ25,Tabelas!B:D,3,0),0),\"\")","v":0},0,0,0,0,0,0,0,0]
["FULANO 18",18,null,null,null,null,null,null,null,null,null,null,null,null,null,null,null,null,null,null,null,null,null,null,null,null,null,null,null,null,null,null,null,null,null,null,null,null,null,null,null,null,null,{"$f":"IF(A26<>\"\",IFERROR(VLOOKUP(M26,Tabelas!B:D,3,0),0),\"\")","v":0},{"$f":"IF(A26<>\"\",IFERROR(VLOOKUP(N26,Tabelas!B:D,3,0),0),\"\")","v":0},{"$f":"IF(A26<>\"\",IFERROR(VLOOKUP(O26,Tabelas!B:D,3,0),0),\"\")","v":0},{"$f":"IF(A26<>\"\",IFERROR(VLOOKUP(P26,Tabelas!B:D,3,0),0),\"\")","v":0},{"$f":"IF(A26<>\"\",IFERROR(VLOOKUP(Q26,Tabelas!B:D,3,0),0),\"\")","v":0},{"$f":"IF(A26<>\"\",IFERROR(VLOOKUP(R26,Tabelas!B:D,3,0),0),\"\")","v":0},{"$f":"IF(A26<>\"\",IFERROR(VLOOKUP(S26,Tabelas!B:D,3,0),0),\"\")","v":0},{"$f":"IF(A26<>\"\",IFERROR(VLOOKUP(T26,Tabelas!B:D,3,0),0),\"\")","v":0},{"$f":"IF(A26<>\"\",IFERROR(VLOOKUP(U26,Tabelas!B:D,3,0),0),\"\")","v":0},{"$f":"IF(A26<>\"\",IFERROR(VLOOKUP(V26,Tabelas!B:D,3,0),0),\"\")","v":0},{"$f":"IF(A26<>\"\",IFERROR(VLOOKUP(W26,Tabelas!B:D,3,0),0),\"\")","v":0},{"$f":"IF(A26<>\"\",IFERROR(VLOOKUP(X26,Tabelas!B:D,3,0),0),\"\")","v":0},{"$f":"IF(A26<>\"\",IFERROR(VLOOKUP(Y26,Tabelas!B:D,3,0),0),\"\")","v":0},{"$f":"IF(A26<>\"\",IFERROR(VLOOKUP(Z26,Tabelas!B:D,3,0),0),\"\")","v":0},{"$f":"IF(A26<>\"\",IFERROR(VLOOKUP(AA26,Tabelas!B:D,3,0),0),\"\")","v":0},{"$f":"IF(A26<>\"\",IFERROR(VLOOKUP(AB26,Tabelas!B:D,3,0),0),\"\")","v":0},{"$f":"IF(A26<>\"\",IFERROR(VLOOKUP(AC26,Tabelas!B:D,3,0),0),\"\")","v":0},{"$f":"IF(A26<>\"\",IFERROR(VLOOKUP(AD26,Tabelas!B:D,3,0),0),\"\")","v":0},{"$f":"IF(A26<>\"\",IFERROR(VLOOKUP(AE26,Tabelas!B:D,3,0),0),\"\")","v":0},{"$f":"IF(A26<>\"\",IFERROR(VLOOKUP(AF26,Tabelas!B:D,3,0),0),\"\")","v":0},{"$f":"IF(A26<>\"\",IFERROR(VLOOKUP(AG26,Tabelas!B:D,3,0),0),\"\")","v":0},{"$f":"IF(A26<>\"\",IFERROR(VLOOKUP(AH26,Tabelas!B:D,3,0),0),\"\")","v":0},{"$f":"IF(A26<>\"\",IFERROR(VLOOKUP(AI26,Tabelas!B:D,3,0),0),\"\")","v":0},{"$f":"IF(A26<>\"\",IFERROR(VLOOKUP(AJ26,Tabelas!B:D,3,0),0),\"\")","v":0},{"$f":"IF(A26<>\"\",IFERROR(VLOOKUP(AK26,Tabelas!B:D,3,0),0),\"\")","v":0},{"$f":"IF(A26<>\"\",IFERROR(VLOOKUP(AL26,Tabelas!B:D,3,0),0),\"\")","v":0},{"$f":"IF(A26<>\"\",IFERROR(VLOOKUP(AM26,Tabelas!B:D,3,0),0),\"\")","v":0},{"$f":"IF(A26<>\"\",IFERROR(VLOOKUP(AN26,Tabelas!B:D,3,0),0),\"\")","v":0},{"$f":"IF(A26<>\"\",IFERROR(VLOOKUP(AO26,Tabelas!B:D,3,0),0),\"\")","v":0},{"$f":"IF(A26<>\"\",IFERROR(VLOOKUP(AP26,Tabelas!B:D,3,0),0),\"\")","v":0},{"$f":"IF(A26<>\"\",IFERROR(VLOOKUP(AQ26,Tabelas!B:D,3,0),0),\"\")","v":0},0,0,0,0,0,0,0,0]
["FULANO 19",19,null,null,null,null,null,null,null,null,null,null,null,null,null,null,null,null,null,null,null,null,null,null,null,null,null,null,null,null,null,null,null,null,null,null,null,null,null,null,null,null,null,{"$f":"IF(A27<>\"\",IFERROR(VLOOKUP(M27,Tabelas!B:D,3,0),0),\"\")","v":0},{"$f":"IF(A27<>\"\",IFERROR(VLOOKUP(N27,Tabelas!B:D,3,0),0),\"\")","v":0},{"$f":"IF(A27<>\"\",IFERROR(VLOOKUP(O27,Tabelas!B:D,3,0),0),\"\")","v":0},{"$f":"IF(A27<>\"\",IFERROR(VLOOKUP(P27,Tabelas!B:D,3,0),0),\"\")","v":0},{"$f":"IF(A27<>\"\",IFERROR(VLOOKUP(Q27,Tabelas!B:D,3,0),0),\"\")","v":0},{"$f":"IF(A27<>\"\",IFERROR(VLOOKUP(R27,Tabelas!B:D,3,0),0),\"\")","v":0},{"$f":"IF(A27<>\"\",IFERROR(VLOOKUP(S27,Tabelas!B:D,3,0),0),\"\")","v":0},{"$f":"IF(A27<>\"\",IFERROR(VLOOKUP(T27,Tabelas!B:D,3,0),0),\"\")","v":0},{"$f":"IF(A27<>\"\",IFERROR(VLOOKUP(U27,Tabelas!B:D,3,0),0),\"\")","v":0},{"$f":"IF(A27<>\"\",IFERROR(VLOOKUP(V27,Tabelas!B:D,3,0),0),\"\")","v":0},{"$f":"IF(A27<>\"\",IFERROR(VLOOKUP(W27,Tabelas!B:D,3,0),0),\"\")","v":0},{"$f":"IF(A27<>\"\",IFERROR(VLOOKUP(X27,Tabelas!B:D,3,0),0),\"\")","v":0},{"$f":"IF(A27<>\"\",IFERROR(VLOOKUP(Y27,Tabelas!B:D,3,0),0),\"\")","v":0},{"$f":"IF(A27<>\"\",IFERROR(VLOOKUP(Z27,Tabelas!B:D,3,0),0),\"\")","v":0},{"$f":"IF(A27<>\"\",IFERROR(VLOOKUP(AA27,Tabelas!B:D,3,0),0),\"\")","v":0},{"$f":"IF(A27<>\"\",IFERROR(VLOOKUP(AB27,Tabelas!B:D,3,0),0),\"\")","v":0},{"$f":"IF(A27<>\"\",IFERROR(VLOOKUP(AC27,Tabelas!B:D,3,0),0),\"\")","v":0},{"$f":"IF(A27<>\"\",IFERROR(VLOOKUP(AD27,Tabelas!B:D,3,0),0),\"\")","v":0},{"$f":"IF(A27<>\"\",IFERROR(VLOOKUP(AE27,Tabelas!B:D,3,0),0),\"\")","v":0},{"$f":"IF(A27<>\"\",IFERROR(VLOOKUP(AF27,Tabelas!B:D,3,0),0),\"\")","v":0},{"$f":"IF(A27<>\"\",IFERROR(VLOOKUP(AG27,Tabelas!B:D,3,0),0),\"\")","v":0},{"$f":"IF(A27<>\"\",IFERROR(VLOOKUP(AH27,Tabelas!B:D,3,0),0),\"\")","v":0},{"$f":"IF(A27<>\"\",IFERROR(VLOOKUP(AI27,Tabelas!B:D,3,0),0),\"\")","v":0},{"$f":"IF(A27<>\"\",IFERROR(VLOOKUP(AJ27,Tabelas!B:D,3,0),0),\"\")","v":0},{"$f":"IF(A27<>\"\",IFERROR(VLOOKUP(AK27,Tabelas!B:D,3,0),0),\"\")","v":0},{"$f":"IF(A27<>\"\",IFERROR(VLOOKUP(AL27,Tabelas!B:D,3,0),0),\"\")","v":0},{"$f":"IF(A27<>\"\",IFERROR(VLOOKUP(AM27,Tabelas!B:D,3,0),0),\"\")","v":0},{"$f":"IF(A27<>\"\",IFERROR(VLOOKUP(AN27,Tabelas!B:D,3,0),0),\"\")","v":0},{"$f":"IF(A27<>\"\",IFERROR(VLOOKUP(AO27,Tabelas!B:D,3,0),0),\"\")","v":0},{"$f":"IF(A27<>\"\",IFERROR(VLOOKUP(AP27,Tabelas!B:D,3,0),0),\"\")","v":0},{"$f":"IF(A27<>\"\",IFERROR(VLOOKUP(AQ27,Tabelas!B:D,3,0),0),\"\")","v":0},0,0,0,{"$f":"IF(A27<>\"\",COUNTIF(M27:AQ27,\"FE\"),\"\")","v":0},0,0,0,0]
["FULANO 20",20,null,null,null,null,null,null,null,null,null,null,null,null,null,null,null,null,null,null,null,null,null,null,null,null,null,null,null,null,null,null,null,null,null,null,null,null,null,null,null,null,null,{"$f":"IF(A28<>\"\",IFERROR(VLOOKUP(M28,Tabelas!B:D,3,0),0),\"\")","v":0},{"$f":"IF(A28<>\"\",IFERROR(VLOOKUP(N28,Tabelas!B:D,3,0),0),\"\")","v":0},{"$f":"IF(A28<>\"\",IFERROR(VLOOKUP(O28,Tabelas!B:D,3,0),0),\"\")","v":0},{"$f":"IF(A28<>\"\",IFERROR(VLOOKUP(P28,Tabelas!B:D,3,0),0),\"\")","v":0},{"$f":"IF(A28<>\"\",IFERROR(VLOOKUP(Q28,Tabelas!B:D,3,0),0),\"\")","v":0},{"$f":"IF(A28<>\"\",IFERROR(VLOOKUP(R28,Tabelas!B:D,3,0),0),\"\")","v":0},{"$f":"IF(A28<>\"\",IFERROR(VLOOKUP(S28,Tabelas!B:D,3,0),0),\"\")","v":0},{"$f":"IF(A28<>\"\",IFERROR(VLOOKUP(T28,Tabelas!B:D,3,0),0),\"\")","v":0},{"$f":"IF(A28<>\"\",IFERROR(VLOOKUP(U28,Tabelas!B:D,3,0),0),\"\")","v":0},{"$f":"IF(A28<>\"\",IFERROR(VLOOKUP(V28,Tabelas!B:D,3,0),0),\"\")","v":0},{"$f":"IF(A28<>\"\",IFERROR(VLOOKUP(W28,Tabelas!B:D,3,0),0),\"\")","v":0},{"$f":"IF(A28<>\"\",IFERROR(VLOOKUP(X28,Tabelas!B:D,3,0),0),\"\")","v":0},{"$f":"IF(A28<>\"\",IFERROR(VLOOKUP(Y28,Tabelas!B:D,3,0),0),\"\")","v":0},{"$f":"IF(A28<>\"\",IFERROR(VLOOKUP(Z28,Tabelas!B:D,3,0),0),\"\")","v":0},{"$f":"IF(A28<>\"\",IFERROR(VLOOKUP(AA28,Tabelas!B:D,3,0),0),\"\")","v":0},{"$f":"IF(A28<>\"\",IFERROR(VLOOKUP(AB28,Tabelas!B:D,3,0),0),\"\")","v":0},{"$f":"IF(A28<>\"\",IFERROR(VLOOKUP(AC28,Tabelas!B:D,3,0),0),\"\")","v":0},{"$f":"IF(A28<>\"\",IFERROR(VLOOKUP(AD28,Tabelas!B:D,3,0),0),\"\")","v":0},{"$f":"IF(A28<>\"\",IFERROR(VLOOKUP(AE28,Tabelas!B:D,3,0),0),\"\")","v":0},{"$f":"IF(A28<>\"\",IFERROR(VLOOKUP(AF28,Tabelas!B:D,3,0),0),\"\")","v":0},{"$f":"IF(A28<>\"\",IFERROR(VLOOKUP(AG28,Tabelas!B:D,3,0),0),\"\")","v":0},{"$f":"IF(A28<>\"\",IFERROR(VLOOKUP(AH28,Tabelas!B:D,3,0),0),\"\")","v":0},{"$f":"IF(A28<>\"\",IFERROR(VLOOKUP(AI28,Tabelas!B:D,3,0),0),\"\")","v":0},{"$f":"IF(A28<>\"\",IFERROR(VLOOKUP(AJ28,Tabelas!B:D,3,0),0),\"\")","v":0},{"$f":"IF(A28<>\"\",IFERROR(VLOOKUP(AK28,Tabelas!B:D,3,0),0),\"\")","v":0},{"$f":"IF(A28<>\"\",IFERROR(VLOOKUP(AL28,Tabelas!B:D,3,0),0),\"\")","v":0},{"$f":"IF(A28<>\"\",IFERROR(VLOOKUP(AM28,Tabelas!B:D,3,0),0),\"\")","v":0},{"$f":"IF(A28<>\"\",IFERROR(VLOOKUP(AN28,Tabelas!B:D,3,0),0),\"\")","v":0},{"$f":"IF(A28<>\"\",IFERROR(VLOOKUP(AO28,Tabelas!B:D,3,0),0),\"\")","v":0},{"$f":"IF(A28<>\"\",IFERROR(VLOOKUP(AP28,Tabelas!B:D,3,0),0),\"\")","v":0},{"$f":"IF(A28<>\"\",IFERROR(VLOOKUP(AQ28,Tabelas!B:D,3,0),0),\"\")","v":0},0,0,0,0,0,0,0,0]
["FULANO 21",21,null,null,null,null,null,null,null,null,null,null,null,null,null,null,null,null,null,null,null,null,null,null,null,null,null,null,null,null,null,null,null,null,null,null,null,null,null,null,null,null,null,{"$f":"IF(A29<>\"\",IFERROR(VLOOKUP(M29,Tabelas!B:D,3,0),0),\"\")","v":0},{"$f":"IF(A29<>\"\",IFERROR(VLOOKUP(N29,Tabelas!B:D,3,0),0),\"\")","v":0},{"$f":"IF(A29<>\"\",IFERROR(VLOOKUP(O29,Tabelas!B:D,3,0),0),\"\")","v":0},{"$f":"IF(A29<>\"\",IFERROR(VLOOKUP(P29,Tabelas!B:D,3,0),0),\"\")","v":0},{"$f":"IF(A29<>\"\",IFERROR(VLOOKUP(Q29,Tabelas!B:D,3,0),0),\"\")","v":0},{"$f":"IF(A29<>\"\",IFERROR(VLOOKUP(R29,Tabelas!B:D,3,0),0),\"\")","v":0},{"$f":"IF(A29<>\"\",IFERROR(VLOOKUP(S29,Tabelas!B:D,3,0),0),\"\")","v":0},{"$f":"IF(A29<>\"\",IFERROR(VLOOKUP(T29,Tabelas!B:D,3,0),0),\"\")","v":0},{"$f":"IF(A29<>\"\",IFERROR(VLOOKUP(U29,Tabelas!B:D,3,0),0),\"\")","v":0},{"$f":"IF(A29<>\"\",IFERROR(VLOOKUP(V29,Tabelas!B:D,3,0),0),\"\")","v":0},{"$f":"IF(A29<>\"\",IFERROR(VLOOKUP(W29,Tabelas!B:D,3,0),0),\"\")","v":0},{"$f":"IF(A29<>\"\",IFERROR(VLOOKUP(X29,Tabelas!B:D,3,0),0),\"\")","v":0},{"$f":"IF(A29<>\"\",IFERROR(VLOOKUP(Y29,Tabelas!B:D,3,0),0),\"\")","v":0},{"$f":"IF(A29<>\"\",IFERROR(VLOOKUP(Z29,Tabelas!B:D,3,0),0),\"\")","v":0},{"$f":"IF(A29<>\"\",IFERROR(VLOOKUP(AA29,Tabelas!B:D,3,0),0),\"\")","v":0},{"$f":"IF(A29<>\"\",IFERROR(VLOOKUP(AB29,Tabelas!B:D,3,0),0),\"\")","v":0},{"$f":"IF(A29<>\"\",IFERROR(VLOOKUP(AC29,Tabelas!B:D,3,0),0),\"\")","v":0},{"$f":"IF(A29<>\"\",IFERROR(VLOOKUP(AD29,Tabelas!B:D,3,0),0),\"\")","v":0},{"$f":"IF(A29<>\"\",IFERROR(VLOOKUP(AE29,Tabelas!B:D,3,0),0),\"\")","v":0},{"$f":"IF(A29<>\"\",IFERROR(VLOOKUP(AF29,Tabelas!B:D,3,0),0),\"\")","v":0},{"$f":"IF(A29<>\"\",IFERROR(VLOOKUP(AG29,Tabelas!B:D,3,0),0),\"\")","v":0},{"$f":"IF(A29<>\"\",IFERROR(VLOOKUP(AH29,Tabelas!B:D,3,0),0),\"\")","v":0},{"$f":"IF(A29<>\"\",IFERROR(VLOOKUP(AI29,Tabelas!B:D,3,0),0),\"\")","v":0},{"$f":"IF(A29<>\"\",IFERROR(VLOOKUP(AJ29,Tabelas!B:D,3,0),0),\"\")","v":0},{"$f":"IF(A29<>\"\",IFERROR(VLOOKUP(AK29,Tabelas!B:D,3,0),0),\"\")","v":0},{"$f":"IF(A29<>\"\",IFERROR(VLOOKUP(AL29,Tabelas!B:D,3,0),0),\"\")","v":0},{"$f":"IF(A29<>\"\",IFERROR(VLOOKUP(AM29,Tabelas!B:D,3,0),0),\"\")","v":0},{"$f":"IF(A29<>\"\",IFERROR(VLOOKUP(AN29,Tabelas!B:D,3,0),0),\"\")","v":0},{"$f":"IF(A29<>\"\",IFERROR(VLOOKUP(AO29,Tabelas!B:D,3,0),0),\"\")","v":0},{"$f":"IF(A29<>\"\",IFERROR(VLOOKUP(AP29,Tabelas!B:D,3,0),0),\"\")","v":0},{"$f":"IF(A29<>\"\",IFERROR(VLOOKUP(AQ29,Tabelas!B:D,3,0),0),\"\")","v":0},0,0,0,0,0,0,0,0]
["FULANO 22",22,null,null,null,null,null,null,null,null,null,null,null,null,null,null,null,null,null,null,null,null,null,null,null,null,null,null,null,null,null,null,null,null,null,null,null,null,null,null,null,null,null,{"$f":"IF(A30<>\"\",IFERROR(VLOOKUP(M30,Tabelas!B:D,3,0),0),\"\")","v":0},{"$f":"IF(A30<>\"\",IFERROR(VLOOKUP(N30,Tabelas!B:D,3,0),0),\"\")","v":0},{"$f":"IF(A30<>\"\",IFERROR(VLOOKUP(O30,Tabelas!B:D,3,0),0),\"\")","v":0},{"$f":"IF(A30<>\"\",IFERROR(VLOOKUP(P30,Tabelas!B:D,3,0),0),\"\")","v":0},{"$f":"IF(A30<>\"\",IFERROR(VLOOKUP(Q30,Tabelas!B:D,3,0),0),\"\")","v":0},{"$f":"IF(A30<>\"\",IFERROR(VLOOKUP(R30,Tabelas!B:D,3,0),0),\"\")","v":0},{"$f":"IF(A30<>\"\",IFERROR(VLOOKUP(S30,Tabelas!B:D,3,0),0),\"\")","v":0},{"$f":"IF(A30<>\"\",IFERROR(VLOOKUP(T30,Tabelas!B:D,3,0),0),\"\")","v":0},{"$f":"IF(A30<>\"\",IFERROR(VLOOKUP(U30,Tabelas!B:D,3,0),0),\"\")","v":0},{"$f":"IF(A30<>\"\",IFERROR(VLOOKUP(V30,Tabelas!B:D,3,0),0),\"\")","v":0},{"$f":"IF(A30<>\"\",IFERROR(VLOOKUP(W30,Tabelas!B:D,3,0),0),\"\")","v":0},{"$f":"IF(A30<>\"\",IFERROR(VLOOKUP(X30,Tabelas!B:D,3,0),0),\"\")","v":0},{"$f":"IF(A30<>\"\",IFERROR(VLOOKUP(Y30,Tabelas!B:D,3,0),0),\"\")","v":0},{"$f":"IF(A30<>\"\",IFERROR(VLOOKUP(Z30,Tabelas!B:D,3,0),0),\"\")","v":0},{"$f":"IF(A30<>\"\",IFERROR(VLOOKUP(AA30,Tabelas!B:D,3,0),0),\"\")","v":0},{"$f":"IF(A30<>\"\",IFERROR(VLOOKUP(AB30,Tabelas!B:D,3,0),0),\"\")","v":0},{"$f":"IF(A30<>\"\",IFERROR(VLOOKUP(AC30,Tabelas!B:D,3,0),0),\"\")","v":0},{"$f":"IF(A30<>\"\",IFERROR(VLOOKUP(AD30,Tabelas!B:D,3,0),0),\"\")","v":0},{"$f":"IF(A30<>\"\",IFERROR(VLOOKUP(AE30,Tabelas!B:D,3,0),0),\"\")","v":0},{"$f":"IF(A30<>\"\",IFERROR(VLOOKUP(AF30,Tabelas!B:D,3,0),0),\"\")","v":0},{"$f":"IF(A30<>\"\",IFERROR(VLOOKUP(AG30,Tabelas!B:D,3,0),0),\"\")","v":0},{"$f":"IF(A30<>\"\",IFERROR(VLOOKUP(AH30,Tabelas!B:D,3,0),0),\"\")","v":0},{"$f":"IF(A30<>\"\",IFERROR(VLOOKUP(AI30,Tabelas!B:D,3,0),0),\"\")","v":0},{"$f":"IF(A30<>\"\",IFERROR(VLOOKUP(AJ30,Tabelas!B:D,3,0),0),\"\")","v":0},{"$f":"IF(A30<>\"\",IFERROR(VLOOKUP(AK30,Tabelas!B:D,3,0),0),\"\")","v":0},{"$f":"IF(A30<>\"\",IFERROR(VLOOKUP(AL30,Tabelas!B:D,3,0),0),\"\")","v":0},{"$f":"IF(A30<>\"\",IFERROR(VLOOKUP(AM30,Tabelas!B:D,3,0),0),\"\")","v":0},{"$f":"IF(A30<>\"\",IFERROR(VLOOKUP(AN30,Tabelas!B:D,3,0),0),\"\")","v":0},{"$f":"IF(A30<>\"\",IFERROR(VLOOKUP(AO30,Tabelas!B:D,3,0),0),\"\")","v":0},{"$f":"IF(A30<>\"\",IFERROR(VLOOKUP(AP30,Tabelas!B:D,3,0),0),\"\")","v":0},{"$f":"IF(A30<>\"\",IFERROR(VLOOKUP(AQ30,Tabelas!B:D,3,0),0),\"\")","v":0},0,0,0,0,0,0,0,0]
["FULANO 23",23,null,null,null,null,null,null,null,null,null,null,null,null,null,null,null,null,null,null,null,null,null,null,null,null,null,null,null,null,null,null,null,null,null,null,null,null,null,null,null,null,null,{"$f":"IF(A31<>\"\",IFERROR(VLOOKUP(M31,Tabelas!B:D,3,0),0),\"\")","v":0},{"$f":"IF(A31<>\"\",IFERROR(VLOOKUP(N31,Tabelas!B:D,3,0),0),\"\")","v":0},{"$f":"IF(A31<>\"\",IFERROR(VLOOKUP(O31,Tabelas!B:D,3,0),0),\"\")","v":0},{"$f":"IF(A31<>\"\",IFERROR(VLOOKUP(P31,Tabelas!B:D,3,0),0),\"\")","v":0},{"$f":"IF(A31<>\"\",IFERROR(VLOOKUP(Q31,Tabelas!B:D,3,0),0),\"\")","v":0},{"$f":"IF(A31<>\"\",IFERROR(VLOOKUP(R31,Tabelas!B:D,3,0),0),\"\")","v":0},{"$f":"IF(A31<>\"\",IFERROR(VLOOKUP(S31,Tabelas!B:D,3,0),0),\"\")","v":0},{"$f":"IF(A31<>\"\",IFERROR(VLOOKUP(T31,Tabelas!B:D,3,0),0),\"\")","v":0},{"$f":"IF(A31<>\"\",IFERROR(VLOOKUP(U31,Tabelas!B:D,3,0),0),\"\")","v":0},{"$f":"IF(A31<>\"\",IFERROR(VLOOKUP(V31,Tabelas!B:D,3,0),0),\"\")","v":0},{"$f":"IF(A31<>\"\",IFERROR(VLOOKUP(W31,Tabelas!B:D,3,0),0),\"\")","v":0},{"$f":"IF(A31<>\"\",IFERROR(VLOOKUP(X31,Tabelas!B:D,3,0),0),\"\")","v":0},{"$f":"IF(A31<>\"\",IFERROR(VLOOKUP(Y31,Tabelas!B:D,3,0),0),\"\")","v":0},{"$f":"IF(A31<>\"\",IFERROR(VLOOKUP(Z31,Tabelas!B:D,3,0),0),\"\")","v":0},{"$f":"IF(A31<>\"\",IFERROR(VLOOKUP(AA31,Tabelas!B:D,3,0),0),\"\")","v":0},{"$f":"IF(A31<>\"\",IFERROR(VLOOKUP(AB31,Tabelas!B:D,3,0),0),\"\")","v":0},{"$f":"IF(A31<>\"\",IFERROR(VLOOKUP(AC31,Tabelas!B:D,3,0),0),\"\")","v":0},{"$f":"IF(A31<>\"\",IFERROR(VLOOKUP(AD31,Tabelas!B:D,3,0),0),\"\")","v":0},{"$f":"IF(A31<>\"\",IFERROR(VLOOKUP(AE31,Tabelas!B:D,3,0),0),\"\")","v":0},{"$f":"IF(A31<>\"\",IFERROR(VLOOKUP(AF31,Tabelas!B:D,3,0),0),\"\")","v":0},{"$f":"IF(A31<>\"\",IFERROR(VLOOKUP(AG31,Tabelas!B:D,3,0),0),\"\")","v":0},{"$f":"IF(A31<>\"\",IFERROR(VLOOKUP(AH31,Tabelas!B:D,3,0),0),\"\")","v":0},{"$f":"IF(A31<>\"\",IFERROR(VLOOKUP(AI31,Tabelas!B:D,3,0),0),\"\")","v":0},{"$f":"IF(A31<>\"\",IFERROR(VLOOKUP(AJ31,Tabelas!B:D,3,0),0),\"\")","v":0},{"$f":"IF(A31<>\"\",IFERROR(VLOOKUP(AK31,Tabelas!B:D,3,0),0),\"\")","v":0},{"$f":"IF(A31<>\"\",IFERROR(VLOOKUP(AL31,Tabelas!B:D,3,0),0),\"\")","v":0},{"$f":"IF(A31<>\"\",IFERROR(VLOOKUP(AM31,Tabelas!B:D,3,0),0),\"\")","v":0},{"$f":"IF(A31<>\"\",IFERROR(VLOOKUP(AN31,Tabelas!B:D,3,0),0),\"\")","v":0},{"$f":"IF(A31<>\"\",IFERROR(VLOOKUP(AO31,Tabelas!B:D,3,0),0),\"\")","v":0},{"$f":"IF(A31<>\"\",IFERROR(VLOOKUP(AP31,Tabelas!B:D,3,0),0),\"\")","v":0},{"$f":"IF(A31<>\"\",IFERROR(VLOOKUP(AQ31,Tabelas!B:D,3,0),0),\"\")","v":0},0,0,0,0,0,0,0,0]
["FULANO 24",24,null,null,null,null,null,null,null,null,null,null,null,null,null,null,null,null,null,null,null,null,null,null,null,null,null,null,null,null,null,null,null,null,null,null,null,null,null,null,null,null,null,{"$f":"IF(A32<>\"\",IFERROR(VLOOKUP(M32,Tabelas!B:D,3,0),0),\"\")","v":0},{"$f":"IF(A32<>\"\",IFERROR(VLOOKUP(N32,Tabelas!B:D,3,0),0),\"\")","v":0},{"$f":"IF(A32<>\"\",IFERROR(VLOOKUP(O32,Tabelas!B:D,3,0),0),\"\")","v":0},{"$f":"IF(A32<>\"\",IFERROR(VLOOKUP(P32,Tabelas!B:D,3,0),0),\"\")","v":0},{"$f":"IF(A32<>\"\",IFERROR(VLOOKUP(Q32,Tabelas!B:D,3,0),0),\"\")","v":0},{"$f":"IF(A32<>\"\",IFERROR(VLOOKUP(R32,Tabelas!B:D,3,0),0),\"\")","v":0},{"$f":"IF(A32<>\"\",IFERROR(VLOOKUP(S32,Tabelas!B:D,3,0),0),\"\")","v":0},{"$f":"IF(A32<>\"\",IFERROR(VLOOKUP(T32,Tabelas!B:D,3,0),0),\"\")","v":0},{"$f":"IF(A32<>\"\",IFERROR(VLOOKUP(U32,Tabelas!B:D,3,0),0),\"\")","v":0},{"$f":"IF(A32<>\"\",IFERROR(VLOOKUP(V32,Tabelas!B:D,3,0),0),\"\")","v":0},{"$f":"IF(A32<>\"\",IFERROR(VLOOKUP(W32,Tabelas!B:D,3,0),0),\"\")","v":0},{"$f":"IF(A32<>\"\",IFERROR(VLOOKUP(X32,Tabelas!B:D,3,0),0),\"\")","v":0},{"$f":"IF(A32<>\"\",IFERROR(VLOOKUP(Y32,Tabelas!B:D,3,0),0),\"\")","v":0},{"$f":"IF(A32<>\"\",IFERROR(VLOOKUP(Z32,Tabelas!B:D,3,0),0),\"\")","v":0},{"$f":"IF(A32<>\"\",IFERROR(VLOOKUP(AA32,Tabelas!B:D,3,0),0),\"\")","v":0},{"$f":"IF(A32<>\"\",IFERROR(VLOOKUP(AB32,Tabelas!B:D,3,0),0),\"\")","v":0},{"$f":"IF(A32<>\"\",IFERROR(VLOOKUP(AC32,Tabelas!B:D,3,0),0),\"\")","v":0},{"$f":"IF(A32<>\"\",IFERROR(VLOOKUP(AD32,Tabelas!B:D,3,0),0),\"\")","v":0},{"$f":"IF(A32<>\"\",IFERROR(VLOOKUP(AE32,Tabelas!B:D,3,0),0),\"\")","v":0},{"$f":"IF(A32<>\"\",IFERROR(VLOOKUP(AF32,Tabelas!B:D,3,0),0),\"\")","v":0},{"$f":"IF(A32<>\"\",IFERROR(VLOOKUP(AG32,Tabelas!B:D,3,0),0),\"\")","v":0},{"$f":"IF(A32<>\"\",IFERROR(VLOOKUP(AH32,Tabelas!B:D,3,0),0),\"\")","v":0},{"$f":"IF(A32<>\"\",IFERROR(VLOOKUP(AI32,Tabelas!B:D,3,0),0),\"\")","v":0},{"$f":"IF(A32<>\"\",IFERROR(VLOOKUP(AJ32,Tabelas!B:D,3,0),0),\"\")","v":0},{"$f":"IF(A32<>\"\",IFERROR(VLOOKUP(AK32,Tabelas!B:D,3,0),0),\"\")","v":0},{"$f":"IF(A32<>\"\",IFERROR(VLOOKUP(AL32,Tabelas!B:D,3,0),0),\"\")","v":0},{"$f":"IF(A32<>\"\",IFERROR(VLOOKUP(AM32,Tabelas!B:D,3,0),0),\"\")","v":0},{"$f":"IF(A32<>\"\",IFERROR(VLOOKUP(AN32,Tabelas!B:D,3,0),0),\"\")","v":0},{"$f":"IF(A32<>\"\",IFERROR(VLOOKUP(AO32,Tabelas!B:D,3,0),0),\"\")","v":0},{"$f":"IF(A32<>\"\",IFERROR(VLOOKUP(AP32,Tabelas!B:D,3,0),0),\"\")","v":0},{"$f":"IF(A32<>\"\",IFERROR(VLOOKUP(AQ32,Tabelas!B:D,3,0),0),\"\")","v":0},0,0,0,0,0,0,0,0]
["FULANO 25",25,null,null,null,null,null,null,null,null,null,null,null,null,null,null,null,null,null,null,null,null,null,null,null,null,null,null,null,null,null,null,null,null,null,null,null,null,null,null,null,null,null,{"$f":"IF(A33<>\"\",IFERROR(VLOOKUP(M33,Tabelas!B:D,3,0),0),\"\")","v":0},{"$f":"IF(A33<>\"\",IFERROR(VLOOKUP(N33,Tabelas!B:D,3,0),0),\"\")","v":0},{"$f":"IF(A33<>\"\",IFERROR(VLOOKUP(O33,Tabelas!B:D,3,0),0),\"\")","v":0},{"$f":"IF(A33<>\"\",IFERROR(VLOOKUP(P33,Tabelas!B:D,3,0),0),\"\")","v":0},{"$f":"IF(A33<>\"\",IFERROR(VLOOKUP(Q33,Tabelas!B:D,3,0),0),\"\")","v":0},{"$f":"IF(A33<>\"\",IFERROR(VLOOKUP(R33,Tabelas!B:D,3,0),0),\"\")","v":0},{"$f":"IF(A33<>\"\",IFERROR(VLOOKUP(S33,Tabelas!B:D,3,0),0),\"\")","v":0},{"$f":"IF(A33<>\"\",IFERROR(VLOOKUP(T33,Tabelas!B:D,3,0),0),\"\")","v":0},{"$f":"IF(A33<>\"\",IFERROR(VLOOKUP(U33,Tabelas!B:D,3,0),0),\"\")","v":0},{"$f":"IF(A33<>\"\",IFERROR(VLOOKUP(V33,Tabelas!B:D,3,0),0),\"\")","v":0},{"$f":"IF(A33<>\"\",IFERROR(VLOOKUP(W33,Tabelas!B:D,3,0),0),\"\")","v":0},{"$f":"IF(A33<>\"\",IFERROR(VLOOKUP(X33,Tabelas!B:D,3,0),0),\"\")","v":0},{"$f":"IF(A33<>\"\",IFERROR(VLOOKUP(Y33,Tabelas!B:D,3,0),0),\"\")","v":0},{"$f":"IF(A33<>\"\",IFERROR(VLOOKUP(Z33,Tabelas!B:D,3,0),0),\"\")","v":0},{"$f":"IF(A33<>\"\",IFERROR(VLOOKUP(AA33,Tabelas!B:D,3,0),0),\"\")","v":0},{"$f":"IF(A33<>\"\",IFERROR(VLOOKUP(AB33,Tabelas!B:D,3,0),0),\"\")","v":0},{"$f":"IF(A33<>\"\",IFERROR(VLOOKUP(AC33,Tabelas!B:D,3,0),0),\"\")","v":0},{"$f":"IF(A33<>\"\",IFERROR(VLOOKUP(AD33,Tabelas!B:D,3,0),0),\"\")","v":0},{"$f":"IF(A33<>\"\",IFERROR(VLOOKUP(AE33,Tabelas!B:D,3,0),0),\"\")","v":0},{"$f":"IF(A33<>\"\",IFERROR(VLOOKUP(AF33,Tabelas!B:D,3,0),0),\"\")","v":0},{"$f":"IF(A33<>\"\",IFERROR(VLOOKUP(AG33,Tabelas!B:D,3,0),0),\"\")","v":0},{"$f":"IF(A33<>\"\",IFERROR(VLOOKUP(AH33,Tabelas!B:D,3,0),0),\"\")","v":0},{"$f":"IF(A33<>\"\",IFERROR(VLOOKUP(AI33,Tabelas!B:D,3,0),0),\"\")","v":0},{"$f":"IF(A33<>\"\",IFERROR(VLOOKUP(AJ33,Tabelas!B:D,3,0),0),\"\")","v":0},{"$f":"IF(A33<>\"\",IFERROR(VLOOKUP(AK33,Tabelas!B:D,3,0),0),\"\")","v":0},{"$f":"IF(A33<>\"\",IFERROR(VLOOKUP(AL33,Tabelas!B:D,3,0),0),\"\")","v":0},{"$f":"IF(A33<>\"\",IFERROR(VLOOKUP(AM33,Tabelas!B:D,3,0),0),\"\")","v":0},{"$f":"IF(A33<>\"\",IFERROR(VLOOKUP(AN33,Tabelas!B:D,3,0),0),\"\")","v":0},{"$f":"IF(A33<>\"\",IFERROR(VLOOKUP(AO33,Tabelas!B:D,3,0),0),\"\")","v":0},{"$f":"IF(A33<>\"\",IFERROR(VLOOKUP(AP33,Tabelas!B:D,3,0),0),\"\")","v":0},{"$f":"IF(A33<>\"\",IFERROR(VLOOKUP(AQ33,Tabelas!B:D,3,0),0),\"\")","v":0},0,0,0,0,0,0,0,0]
["FULANO 26",26,null,null,null,null,null,null,null,null,null,null,null,null,null,null,null,null,null,null,null,null,null,null,null,null,null,null,null,null,null,null,null,null,null,null,null,null,null,null,null,null,null,{"$f":"IF(A34<>\"\",IFERROR(VLOOKUP(M34,Tabelas!B:D,3,0),0),\"\")","v":0},{"$f":"IF(A34<>\"\",IFERROR(VLOOKUP(N34,Tabelas!B:D,3,0),0),\"\")","v":0},{"$f":"IF(A34<>\"\",IFERROR(VLOOKUP(O34,Tabelas!B:D,3,0),0),\"\")","v":0},{"$f":"IF(A34<>\"\",IFERROR(VLOOKUP(P34,Tabelas!B:D,3,0),0),\"\")","v":0},{"$f":"IF(A34<>\"\",IFERROR(VLOOKUP(Q34,Tabelas!B:D,3,0),0),\"\")","v":0},{"$f":"IF(A34<>\"\",IFERROR(VLOOKUP(R34,Tabelas!B:D,3,0),0),\"\")","v":0},{"$f":"IF(A34<>\"\",IFERROR(VLOOKUP(S34,Tabelas!B:D,3,0),0),\"\")","v":0},{"$f":"IF(A34<>\"\",IFERROR(VLOOKUP(T34,Tabelas!B:D,3,0),0),\"\")","v":0},{"$f":"IF(A34<>\"\",IFERROR(VLOOKUP(U34,Tabelas!B:D,3,0),0),\"\")","v":0},{"$f":"IF(A34<>\"\",IFERROR(VLOOKUP(V34,Tabelas!B:D,3,0),0),\"\")","v":0},{"$f":"IF(A34<>\"\",IFERROR(VLOOKUP(W34,Tabelas!B:D,3,0),0),\"\")","v":0},{"$f":"IF(A34<>\"\",IFERROR(VLOOKUP(X34,Tabelas!B:D,3,0),0),\"\")","v":0},{"$f":"IF(A34<>\"\",IFERROR(VLOOKUP(Y34,Tabelas!B:D,3,0),0),\"\")","v":0},{"$f":"IF(A34<>\"\",IFERROR(VLOOKUP(Z34,Tabelas!B:D,3,0),0),\"\")","v":0},{"$f":"IF(A34<>\"\",IFERROR(VLOOKUP(AA34,Tabelas!B:D,3,0),0),\"\")","v":0},{"$f":"IF(A34<>\"\",IFERROR(VLOOKUP(AB34,Tabelas!B:D,3,0),0),\"\")","v":0},{"$f":"IF(A34<>\"\",IFERROR(VLOOKUP(AC34,Tabelas!B:D,3,0),0),\"\")","v":0},{"$f":"IF(A34<>\"\",IFERROR(VLOOKUP(AD34,Tabelas!B:D,3,0),0),\"\")","v":0},{"$f":"IF(A34<>\"\",IFERROR(VLOOKUP(AE34,Tabelas!B:D,3,0),0),\"\")","v":0},{"$f":"IF(A34<>\"\",IFERROR(VLOOKUP(AF34,Tabelas!B:D,3,0),0),\"\")","v":0},{"$f":"IF(A34<>\"\",IFERROR(VLOOKUP(AG34,Tabelas!B:D,3,0),0),\"\")","v":0},{"$f":"IF(A34<>\"\",IFERROR(VLOOKUP(AH34,Tabelas!B:D,3,0),0),\"\")","v":0},{"$f":"IF(A34<>\"\",IFERROR(VLOOKUP(AI34,Tabelas!B:D,3,0),0),\"\")","v":0},{"$f":"IF(A34<>\"\",IFERROR(VLOOKUP(AJ34,Tabelas!B:D,3,0),0),\"\")","v":0},{"$f":"IF(A34<>\"\",IFERROR(VLOOKUP(AK34,Tabelas!B:D,3,0),0),\"\")","v":0},{"$f":"IF(A34<>\"\",IFERROR(VLOOKUP(AL34,Tabelas!B:D,3,0),0),\"\")","v":0},{"$f":"IF(A34<>\"\",IFERROR(VLOOKUP(AM34,Tabelas!B:D,3,0),0),\"\")","v":0},{"$f":"IF(A34<>\"\",IFERROR(VLOOKUP(AN34,Tabelas!B:D,3,0),0),\"\")","v":0},{"$f":"IF(A34<>\"\",IFERROR(VLOOKUP(AO34,Tabelas!B:D,3,0),0),\"\")","v":0},{"$f":"IF(A34<>\"\",IFERROR(VLOOKUP(AP34,Tabelas!B:D,3,0),0),\"\")","v":0},{"$f":"IF(A34<>\"\",IFERROR(VLOOKUP(AQ34,Tabelas!B:D,3,0),0),\"\")","v":0},0,0,0,0,0,0,0,0]
["FULANO 27",27,null,null,null,null,null,null,null,null,null,null,null,null,null,null,null,null,null,null,null,null,null,null,null,null,null,null,null,null,null,null,null,null,null,null,null,null,null,null,null,null,null,{"$f":"IF(A35<>\"\",IFERROR(VLOOKUP(M35,Tabelas!B:D,3,0),0),\"\")","v":0},{"$f":"IF(A35<>\"\",IFERROR(VLOOKUP(N35,Tabelas!B:D,3,0),0),\"\")","v":0},{"$f":"IF(A35<>\"\",IFERROR(VLOOKUP(O35,Tabelas!B:D,3,0),0),\"\")","v":0},{"$f":"IF(A35<>\"\",IFERROR(VLOOKUP(P35,Tabelas!B:D,3,0),0),\"\")","v":0},{"$f":"IF(A35<>\"\",IFERROR(VLOOKUP(Q35,Tabelas!B:D,3,0),0),\"\")","v":0},{"$f":"IF(A35<>\"\",IFERROR(VLOOKUP(R35,Tabelas!B:D,3,0),0),\"\")","v":0},{"$f":"IF(A35<>\"\",IFERROR(VLOOKUP(S35,Tabelas!B:D,3,0),0),\"\")","v":0},{"$f":"IF(A35<>\"\",IFERROR(VLOOKUP(T35,Tabelas!B:D,3,0),0),\"\")","v":0},{"$f":"IF(A35<>\"\",IFERROR(VLOOKUP(U35,Tabelas!B:D,3,0),0),\"\")","v":0},{"$f":"IF(A35<>\"\",IFERROR(VLOOKUP(V35,Tabelas!B:D,3,0),0),\"\")","v":0},{"$f":"IF(A35<>\"\",IFERROR(VLOOKUP(W35,Tabelas!B:D,3,0),0),\"\")","v":0},{"$f":"IF(A35<>\"\",IFERROR(VLOOKUP(X35,Tabelas!B:D,3,0),0),\"\")","v":0},{"$f":"IF(A35<>\"\",IFERROR(VLOOKUP(Y35,Tabelas!B:D,3,0),0),\"\")","v":0},{"$f":"IF(A35<>\"\",IFERROR(VLOOKUP(Z35,Tabelas!B:D,3,0),0),\"\")","v":0},{"$f":"IF(A35<>\"\",IFERROR(VLOOKUP(AA35,Tabelas!B:D,3,0),0),\"\")","v":0},{"$f":"IF(A35<>\"\",IFERROR(VLOOKUP(AB35,Tabelas!B:D,3,0),0),\"\")","v":0},{"$f":"IF(A35<>\"\",IFERROR(VLOOKUP(AC35,Tabelas!B:D,3,0),0),\"\")","v":0},{"$f":"IF(A35<>\"\",IFERROR(VLOOKUP(AD35,Tabelas!B:D,3,0),0),\"\")","v":0},{"$f":"IF(A35<>\"\",IFERROR(VLOOKUP(AE35,Tabelas!B:D,3,0),0),\"\")","v":0},{"$f":"IF(A35<>\"\",IFERROR(VLOOKUP(AF35,Tabelas!B:D,3,0),0),\"\")","v":0},{"$f":"IF(A35<>\"\",IFERROR(VLOOKUP(AG35,Tabelas!B:D,3,0),0),\"\")","v":0},{"$f":"IF(A35<>\"\",IFERROR(VLOOKUP(AH35,Tabelas!B:D,3,0),0),\"\")","v":0},{"$f":"IF(A35<>\"\",IFERROR(VLOOKUP(AI35,Tabelas!B:D,3,0),0),\"\")","v":0},{"$f":"IF(A35<>\"\",IFERROR(VLOOKUP(AJ35,Tabelas!B:D,3,0),0),\"\")","v":0},{"$f":"IF(A35<>\"\",IFERROR(VLOOKUP(AK35,Tabelas!B:D,3,0),0),\"\")","v":0},{"$f":"IF(A35<>\"\",IFERROR(VLOOKUP(AL35,Tabelas!B:D,3,0),0),\"\")","v":0},{"$f":"IF(A35<>\"\",IFERROR(VLOOKUP(AM35,Tabelas!B:D,3,0),0),\"\")","v":0},{"$f":"IF(A35<>\"\",IFERROR(VLOOKUP(AN35,Tabelas!B:D,3,0),0),\"\")","v":0},{"$f":"IF(A35<>\"\",IFERROR(VLOOKUP(AO35,Tabelas!B:D,3,0),0),\"\")","v":0},{"$f":"IF(A35<>\"\",IFERROR(VLOOKUP(AP35,Tabelas!B:D,3,0),0),\"\")","v":0},{"$f":"IF(A35<>\"\",IFERROR(VLOOKUP(AQ35,Tabelas!B:D,3,0),0),\"\")","v":0},0,0,0,0,0,0,0,0]
["TOTAL PROFISSIONAIS MATUTINO",null,null,null,null,null,null,null,null,null,null,null,{"$f":"IF(COUNTIF(Agosto!AQ9:AQ35,\"PR5\")+COUNTIF(Agosto!AQ9:AQ35,\"PR6\")+COUNTIF(Agosto!AQ9:AQ35,\"PR7\")+COUNTIF(Agosto!AQ9:AQ35,\"PR8\")+COUNTIF(Agosto!AQ9:AQ35,\"PR9\")+COUNTIF(M9:M35,\"M*\")+ COUNTIF(M9:M35, \"D*\")-COUNTIF(M9:M35,\"DSR\")+COUNTIF(M9:M35,\"PR1\")+COUNTIF(M9:M35,\"PR2\")+COUNTIF(M9:M35,\"PR3\")+COUNTIF(M9:M35,\"PR4\")<>0,COUNTIF(Agosto!AQ9:AQ35,\"PR5\")+COUNTIF(Agosto!AQ9:AQ35,\"PR6\")+COUNTIF(Agosto!AQ9:AQ35,\"PR7\")+COUNTIF(Agosto!AQ9:AQ35,\"PR8\")+COUNTIF(Agosto!AQ9:AQ35,\"PR9\")+COUNTIF(M9:M35,\"M*\")+ COUNTIF(M9:M35, \"D*\")-COUNTIF(M9:M35,\"DSR\")+COUNTIF(M9:M35,\"PR1\")+COUNTIF(M9:M35,\"PR2\")+COUNTIF(M9:M35,\"PR3\")+COUNTIF(M9:M35,\"PR4\"),\"\")","v":""},{"$f":"IF(COUNTIF(N9:N35,\"M*\")+ COUNTIF(N9:N35, \"D*\")-COUNTIF(N9:N35,\"DSR\")+COUNTIF(M9:M35,\"PR5\")+COUNTIF(M9:M35,\"PR6\")+COUNTIF(M9:M35,\"PR7\")+COUNTIF(M9:M35,\"PR8\")+COUNTIF(M9:M35,\"PR9\")+COUNTIF(N9:N35,\"PR1\")+COUNTIF(N9:N35,\"PR2\")+COUNTIF(N9:N35,\"PR3\")+COUNTIF(N9:N35,\"PR4\")<>0,COUNTIF(N9:N35,\"M*\")+ COUNTIF(N9:N35, \"D*\")-COUNTIF(N9:N35,\"DSR\")+COUNTIF(M9:M35,\"PR5\")+COUNTIF(M9:M35,\"PR6\")+COUNTIF(M9:M35,\"PR7\")+COUNTIF(M9:M35,\"PR8\")+COUNTIF(M9:M35,\"PR9\")+COUNTIF(N9:N35,\"PR1\")+COUNTIF(N9:N35,\"PR2\")+COUNTIF(N9:N35,\"PR3\")+COUNTIF(N9:N35,\"PR4\"),\"\")","v":""},{"$f":"IF(COUNTIF(O9:O35,\"M*\")+ COUNTIF(O9:O35, \"D*\")-COUNTIF(O9:O35,\"DSR\")+COUNTIF(N9:N35,\"PR5\")+COUNTIF(N9:N35,\"PR6\")+COUNTIF(N9:N35,\"PR7\")+COUNTIF(N9:N35,\"PR8\")+COUNTIF(N9:N35,\"PR9\")+COUNTIF(O9:O35,\"PR1\")+COUNTIF(O9:O35,\"PR2\")+COUNTIF(O9:O35,\"PR3\")+COUNTIF(O9:O35,\"PR4\")<>0,COUNTIF(O9:O35,\"M*\")+ COUNTIF(O9:O35, \"D*\")-COUNTIF(O9:O35,\"DSR\")+COUNTIF(N9:N35,\"PR5\")+COUNTIF(N9:N35,\"PR6\")+COUNTIF(N9:N35,\"PR7\")+COUNTIF(N9:N35,\"PR8\")+COUNTIF(N9:N35,\"PR9\")+COUNTIF(O9:O35,\"PR1\")+COUNTIF(O9:O35,\"PR2\")+COUNTIF(O9:O35,\"PR3\")+COUNTIF(O9:O35,\"PR4\"),\"\")","v":""},"","","","","","","","","","","","","","","","","","","","","","","","","","","",null,null,null,null,null,null,null,null,null,null,null,null,null,null,null,null,null,null,null,null,null,null,null,null,null,null,null,null,null,null,null,null,{"$f":"SUM(BW9:BW35)","v":0},{"$f":"SUM(BX9:BX35)","v":0},0,0,0,0,0,0]
["TOTAL DE PROFISSIONAIS VESPERTINO",null,null,null,null,null,null,null,null,null,null,null,{"$f":"IF(COUNTIF(Agosto!AQ9:AQ35,\"PR5\")+COUNTIF(Agosto!AQ9:AQ35,\"PR6\")+COUNTIF(Agosto!AQ9:AQ35,\"PR7\")+COUNTIF(Agosto!AQ9:AQ35,\"PR8\")+COUNTIF(Agosto!AQ9:AQ35,\"PR9\")+COUNTIF(M9:M35,\"MT*\") + COUNTIF(M9:M35, \"D*\") + COUNTIF(M9:M35,\"T*\")-COUNTIF(M9:M35,\"DSR\")+COUNTIF(M9:M35,\"PR1\")+COUNTIF(M9:M35,\"PR2\")+COUNTIF(M9:M35,\"PR3\")+COUNTIF(M9:M35,\"PR4\")<>0,COUNTIF(Agosto!AQ9:AQ35,\"PR5\")+COUNTIF(Agosto!AQ9:AQ35,\"PR6\")+COUNTIF(Agosto!AQ9:AQ35,\"PR7\")+COUNTIF(Agosto!AQ9:AQ35,\"PR8\")+COUNTIF(Agosto!AQ9:AQ35,\"PR9\")+COUNTIF(M9:M35,\"MT*\") + COUNTIF(M9:M35, \"D*\") + COUNTIF(M9:M35,\"T*\")+COUNTIF(M9:M35,\"PR1\")+COUNTIF(M9:M35,\"PR2\")+COUNTIF(M9:M35,\"PR3\")+COUNTIF(M9:M35,\"PR4\")-COUNTIF(M9:M35,\"DSR\"),\"\")","v":""},{"$f":"IF(COUNTIF(N9:N35,\"MT*\") + COUNTIF(N9:N35, \"D*\") + COUNTIF(N9:N35,\"T*\")-COUNTIF(N9:N35,\"DSR\")+COUNTIF(M9:M35,\"PR5\")+COUNTIF(M9:M35,\"PR6\")+COUNTIF(M9:M35,\"PR7\")+COUNTIF(M9:M35,\"PR8\")+COUNTIF(M9:M35,\"PR9\")+COUNTIF(N9:N35,\"PR1\")+COUNTIF(N9:N35,\"PR2\")+COUNTIF(N9:N35,\"PR3\")+COUNTIF(N9:N35,\"PR4\")<>0,COUNTIF(N9:N35,\"MT*\") + COUNTIF(N9:N35, \"D*\") + COUNTIF(N9:N35,\"T*\")+COUNTIF(M9:M35,\"PR5\")+COUNTIF(M9:M35,\"PR6\")+COUNTIF(M9:M35,\"PR7\")+COUNTIF(M9:M35,\"PR8\")+COUNTIF(M9:M35,\"PR9\")+COUNTIF(N9:N35,\"PR1\")+COUNTIF(N9:N35,\"PR2\")+COUNTIF(N9:N35,\"PR3\")+COUNTIF(N9:N35,\"PR4\")-COUNTIF(N9:N35,\"DSR\"),\"\")","v":""},{"$f":"IF(COUNTIF(O9:O35,\"MT*\") + COUNTIF(O9:O35, \"D*\") + COUNTIF(O9:O35,\"T*\")-COUNTIF(O9:O35,\"DSR\")+COUNTIF(N9:N35,\"PR5\")+COUNTIF(N9:N35,\"PR6\")+COUNTIF(N9:N35,\"PR7\")+COUNTIF(N9:N35,\"PR8\")+COUNTIF(N9:N35,\"PR9\")+COUNTIF(O9:O35,\"PR1\")+COUNTIF(O9:O35,\"PR2\")+COUNTIF(O9:O35,\"PR3\")+COUNTIF(O9:O35,\"PR4\")<>0,COUNTIF(O9:O35,\"MT*\") + COUNTIF(O9:O35, \"D*\") + COUNTIF(O9:O35,\"T*\")+COUNTIF(N9:N35,\"PR5\")+COUNTIF(N9:N35,\"PR6\")+COUNTIF(N9:N35,\"PR7\")+COUNTIF(N9:N35,\"PR8\")+COUNTIF(N9:N35,\"PR9\")+COUNTIF(O9:O35,\"PR1\")+COUNTIF(O9:O35,\"PR2\")+COUNTIF(O9:O35,\"PR3\")+COUNTIF(O9:O35,\"PR4\")-COUNTIF(O9:O35,\"DSR\"),\"\")","v":""},"","","","","","","","","","","","","","","","","","","","","","","","","","","",null,{"$f":"IF(A37<>\"\",IFERROR(VLOOKUP(M37,Tabelas!B:D,3,0),0),\"\")","v":0},{"$f":"IF(A37<>\"\",IFERROR(VLOOKUP(N37,Tabelas!B:D,3,0),0),\"\")","v":0},{"$f":"IF(A37<>\"\",IFERROR(VLOOKUP(O37,Tabelas!B:D,3,0),0),\"\")","v":0},{"$f":"IF(A37<>\"\",IFERROR(VLOOKUP(P37,Tabelas!B:D,3,0),0),\"\")","v":0},{"$f":"IF(A37<>\"\",IFERROR(VLOOKUP(Q37,Tabelas!B:D,3,0),0),\"\")","v":0},{"$f":"IF(A37<>\"\",IFERROR(VLOOKUP(R37,Tabelas!B:D,3,0),0),\"\")","v":0},{"$f":"IF(A37<>\"\",IFERROR(VLOOKUP(S37,Tabelas!B:D,3,0),0),\"\")","v":0},{"$f":"IF(A37<>\"\",IFERROR(VLOOKUP(T37,Tabelas!B:D,3,0),0),\"\")","v":0},{"$f":"IF(A37<>\"\",IFERROR(VLOOKUP(U37,Tabelas!B:D,3,0),0),\"\")","v":0},{"$f":"IF(A37<>\"\",IFERROR(VLOOKUP(V37,Tabelas!B:D,3,0),0),\"\")","v":0},{"$f":"IF(A37<>\"\",IFERROR(VLOOKUP(W37,Tabelas!B:D,3,0),0),\"\")","v":0},{"$f":"IF(A37<>\"\",IFERROR(VLOOKUP(X37,Tabelas!B:D,3,0),0),\"\")","v":0},{"$f":"IF(A37<>\"\",IFERROR(VLOOKUP(Y37,Tabelas!B:D,3,0),0),\"\")","v":0},{"$f":"IF(A37<>\"\",IFERROR(VLOOKUP(Z37,Tabelas!B:D,3,0),0),\"\")","v":0},{"$f":"IF(A37<>\"\",IFERROR(VLOOKUP(AA37,Tabelas!B:D,3,0),0),\"\")","v":0},{"$f":"IF(A37<>\"\",IFERROR(VLOOKUP(AB37,Tabelas!B:D,3,0),0),\"\")","v":0},{"$f":"IF(A37<>\"\",IFERROR(VLOOKUP(AC37,Tabelas!B:D,3,0),0),\"\")","v":0},{"$f":"IF(A37<>\"\",IFERROR(VLOOKUP(AD37,Tabelas!B:D,3,0),0),\"\")","v":0},{"$f":"IF(A37<>\"\",IFERROR(VLOOKUP(AE37,Tabelas!B:D,3,0),0),\"\")","v":0},{"$f":"IF(A37<>\"\",IFERROR(VLOOKUP(AF37,Tabelas!B:D,3,0),0),\"\")","v":0},{"$f":"IF(A37<>\"\",IFERROR(VLOOKUP(AG37,Tabelas!B:D,3,0),0),\"\")","v":0},{"$f":"IF(A37<>\"\",IFERROR(VLOOKUP(AH37,Tabelas!B:D,3,0),0),\"\")","v":0},{"$f":"IF(A37<>\"\",IFERROR(VLOOKUP(AI37,Tabelas!B:D,3,0),0),\"\")","v":0},{"$f":"IF(A37<>\"\",IFERROR(VLOOKUP(AJ37,Tabelas!B:D,3,0),0),\"\")","v":0},{"$f":"IF(A37<>\"\",IFERROR(VLOOKUP(AK37,Tabelas!B:D,3,0),0),\"\")","v":0},{"$f":"IF(A37<>\"\",IFERROR(VLOOKUP(AL37,Tabelas!B:D,3,0),0),\"\")","v":0},{"$f":"IF(A37<>\"\",IFERROR(VLOOKUP(AM37,Tabelas!B:D,3,0),0),\"\")","v":0},{"$f":"IF(A37<>\"\",IFERROR(VLOOKUP(AN37,Tabelas!B:D,3,0),0),\"\")","v":0},{"$f":"IF(A37<>\"\",IFERROR(VLOOKUP(AO37,Tabelas!B:D,3,0),0),\"\")","v":0},{"$f":"IF(A37<>\"\",IFERROR(VLOOKUP(AP37,Tabelas!B:D,3,0),0),\"\")","v":0},{"$f":"IF(A37<>\"\",IFERROR(VLOOKUP(AQ37,Tabelas!B:D,3,0),0),\"\")","v":0}]
["TOTAL DE PROFISSIONAIS NOTURNO",null,null,null,null,null,null,null,null,null,null,null,{"$f":"IF(COUNTIF(M9:M37,\"N?*\") + COUNTIF(M9:M37, \"DN*\")+COUNTIF(M9:M35,\"PR*\")<>0,COUNTIF(M9:M37,\"N?*\") + COUNTIF(M9:M37, \"DN*\")+COUNTIF(M9:M35,\"PR*\"),\"\")","v":""},{"$f":"IF(COUNTIF(N9:N37,\"N?*\") + COUNTIF(N9:N37, \"DN*\")+COUNTIF(N9:N35,\"PR*\")<>0,COUNTIF(N9:N37,\"N?*\") + COUNTIF(N9:N37, \"DN*\")+COUNTIF(N9:N35,\"PR*\"),\"\")","v":""},"","","","","","","","","","","","","","","","","","","","","","","","","","","","",null,{"$f":"IF(A38<>\"\",IFERROR(VLOOKUP(M38,Tabelas!B:D,3,0),0),\"\")","v":0},{"$f":"IF(A38<>\"\",IFERROR(VLOOKUP(N38,Tabelas!B:D,3,0),0),\"\")","v":0},{"$f":"IF(A38<>\"\",IFERROR(VLOOKUP(O38,Tabelas!B:D,3,0),0),\"\")","v":0},{"$f":"IF(A38<>\"\",IFERROR(VLOOKUP(P38,Tabelas!B:D,3,0),0),\"\")","v":0},{"$f":"IF(A38<>\"\",IFERROR(VLOOKUP(Q38,Tabelas!B:D,3,0),0),\"\")","v":0},{"$f":"IF(A38<>\"\",IFERROR(VLOOKUP(R38,Tabelas!B:D,3,0),0),\"\")","v":0},{"$f":"IF(A38<>\"\",IFERROR(VLOOKUP(S38,Tabelas!B:D,3,0),0),\"\")","v":0},{"$f":"IF(A38<>\"\",IFERROR(VLOOKUP(T38,Tabelas!B:D,3,0),0),\"\")","v":0},{"$f":"IF(A38<>\"\",IFERROR(VLOOKUP(U38,Tabelas!B:D,3,0),0),\"\")","v":0},{"$f":"IF(A38<>\"\",IFERROR(VLOOKUP(V38,Tabelas!B:D,3,0),0),\"\")","v":0},{"$f":"IF(A38<>\"\",IFERROR(VLOOKUP(W38,Tabelas!B:D,3,0),0),\"\")","v":0},{"$f":"IF(A38<>\"\",IFERROR(VLOOKUP(X38,Tabelas!B:D,3,0),0),\"\")","v":0},{"$f":"IF(A38<>\"\",IFERROR(VLOOKUP(Y38,Tabelas!B:D,3,0),0),\"\")","v":0},{"$f":"IF(A38<>\"\",IFERROR(VLOOKUP(Z38,Tabelas!B:D,3,0),0),\"\")","v":0},{"$f":"IF(A38<>\"\",IFERROR(VLOOKUP(AA38,Tabelas!B:D,3,0),0),\"\")","v":0},{"$f":"IF(A38<>\"\",IFERROR(VLOOKUP(AB38,Tabelas!B:D,3,0),0),\"\")","v":0},{"$f":"IF(A38<>\"\",IFERROR(VLOOKUP(AC38,Tabelas!B:D,3,0),0),\"\")","v":0},{"$f":"IF(A38<>\"\",IFERROR(VLOOKUP(AD38,Tabelas!B:D,3,0),0),\"\")","v":0},{"$f":"IF(A38<>\"\",IFERROR(VLOOKUP(AE38,Tabelas!B:D,3,0),0),\"\")","v":0},{"$f":"IF(A38<>\"\",IFERROR(VLOOKUP(AF38,Tabelas!B:D,3,0),0),\"\")","v":0},{"$f":"IF(A38<>\"\",IFERROR(VLOOKUP(AG38,Tabelas!B:D,3,0),0),\"\")","v":0},{"$f":"IF(A38<>\"\",IFERROR(VLOOKUP(AH38,Tabelas!B:D,3,0),0),\"\")","v":0},{"$f":"IF(A38<>\"\",IFERROR(VLOOKUP(AI38,Tabelas!B:D,3,0),0),\"\")","v":0},{"$f":"IF(A38<>\"\",IFERROR(VLOOKUP(AJ38,Tabelas!B:D,3,0),0),\"\")","v":0},{"$f":"IF(A38<>\"\",IFERROR(VLOOKUP(AK38,Tabelas!B:D,3,0),0),\"\")","v":0},{"$f":"IF(A38<>\"\",IFERROR(VLOOKUP(AL38,Tabelas!B:D,3,0),0),\"\")","v":0},{"$f":"IF(A38<>\"\",IFERROR(VLOOKUP(AM38,Tabelas!B:D,3,0),0),\"\")","v":0},{"$f":"IF(A38<>\"\",IFERROR(VLOOKUP(AN38,Tabelas!B:D,3,0),0),\"\")","v":0},{"$f":"IF(A38<>\"\",IFERROR(VLOOKUP(AO38,Tabelas!B:D,3,0),0),\"\")","v":0},{"$f":"IF(A38<>\"\",IFERROR(VLOOKUP(AP38,Tabelas!B:D,3,0),0),\"\")","v":0},{"$f":"IF(A38<>\"\",IFERROR(VLOOKUP(AQ38,Tabelas!B:D,3,0),0),\"\")","v":0}]
[null,null,null,null,null,null,null,null,null,null,null,null,null,null,null,null,null,null,null,null,null,null,null,null,null,null,null,null,null,null,null,null,null,null,null,null,null,null,null,null,null,null,null,{"$f":"IF(A39<>\"\",IFERROR(VLOOKUP(M39,Tabelas!B:D,3,0),0),\"\")","v":""},{"$f":"IF(A39<>\"\",IFERROR(VLOOKUP(N39,Tabelas!B:D,3,0),0),\"\")","v":""},{"$f":"IF(A39<>\"\",IFERROR(VLOOKUP(O39,Tabelas!B:D,3,0),0),\"\")","v":""},{"$f":"IF(A39<>\"\",IFERROR(VLOOKUP(P39,Tabelas!B:D,3,0),0),\"\")","v":""},{"$f":"IF(A39<>\"\",IFERROR(VLOOKUP(Q39,Tabelas!B:D,3,0),0),\"\")","v":""},{"$f":"IF(A39<>\"\",IFERROR(VLOOKUP(R39,Tabelas!B:D,3,0),0),\"\")","v":""},{"$f":"IF(A39<>\"\",IFERROR(VLOOKUP(S39,Tabelas!B:D,3,0),0),\"\")","v":""},{"$f":"IF(A39<>\"\",IFERROR(VLOOKUP(T39,Tabelas!B:D,3,0),0),\"\")","v":""},{"$f":"IF(A39<>\"\",IFERROR(VLOOKUP(U39,Tabelas!B:D,3,0),0),\"\")","v":""},{"$f":"IF(A39<>\"\",IFERROR(VLOOKUP(V39,Tabelas!B:D,3,0),0),\"\")","v":""},{"$f":"IF(A39<>\"\",IFERROR(VLOOKUP(W39,Tabelas!B:D,3,0),0),\"\")","v":""},{"$f":"IF(A39<>\"\",IFERROR(VLOOKUP(X39,Tabelas!B:D,3,0),0),\"\")","v":""},{"$f":"IF(A39<>\"\",IFERROR(VLOOKUP(Y39,Tabelas!B:D,3,0),0),\"\")","v":""},{"$f":"IF(A39<>\"\",IFERROR(VLOOKUP(Z39,Tabelas!B:D,3,0),0),\"\")","v":""},{"$f":"IF(A39<>\"\",IFERROR(VLOOKUP(AA39,Tabelas!B:D,3,0),0),\"\")","v":""},{"$f":"IF(A39<>\"\",IFERROR(VLOOKUP(AB39,Tabelas!B:D,3,0),0),\"\")","v":""},{"$f":"IF(A39<>\"\",IFERROR(VLOOKUP(AC39,Tabelas!B:D,3,0),0),\"\")","v":""},{"$f":"IF(A39<>\"\",IFERROR(VLOOKUP(AD39,Tabelas!B:D,3,0),0),\"\")","v":""},{"$f":"IF(A39<>\"\",IFERROR(VLOOKUP(AE39,Tabelas!B:D,3,0),0),\"\")","v":""},{"$f":"IF(A39<>\"\",IFERROR(VLOOKUP(AF39,Tabelas!B:D,3,0),0),\"\")","v":""},{"$f":"IF(A39<>\"\",IFERROR(VLOOKUP(AG39,Tabelas!B:D,3,0),0),\"\")","v":""},{"$f":"IF(A39<>\"\",IFERROR(VLOOKUP(AH39,Tabelas!B:D,3,0),0),\"\")","v":""},{"$f":"IF(A39<>\"\",IFERROR(VLOOKUP(AI39,Tabelas!B:D,3,0),0),\"\")","v":""},{"$f":"IF(A39<>\"\",IFERROR(VLOOKUP(AJ39,Tabelas!B:D,3,0),0),\"\")","v":""},{"$f":"IF(A39<>\"\",IFERROR(VLOOKUP(AK39,Tabelas!B:D,3,0),0),\"\")","v":""},{"$f":"IF(A39<>\"\",IFERROR(VLOOKUP(AL39,Tabelas!B:D,3,0),0),\"\")","v":""},{"$f":"IF(A39<>\"\",IFERROR(VLOOKUP(AM39,Tabelas!B:D,3,0),0),\"\")","v":""},{"$f":"IF(A39<>\"\",IFERROR(VLOOKUP(AN39,Tabelas!B:D,3,0),0),\"\")","v":""},{"$f":"IF(A39<>\"\",IFERROR(VLOOKUP(AO39,Tabelas!B:D,3,0),0),\"\")","v":""},{"$f":"IF(A39<>\"\",IFERROR(VLOOKUP(AP39,Tabelas!B:D,3,0),0),\"\")","v":""},{"$f":"IF(A39<>\"\",IFERROR(VLOOKUP(AQ39,Tabelas!B:D,3,0),0),\"\")","v":""}]
["Legenda:"]
["Licença Maternidade","LM","Férias",null,null,null,null,null,null,"FE",null,"Ponto Facultativo",null,null,null,null,null,null,null,"PF","Manhã *",null,null,null,null,null,null,"M","Diurno (8 hrs) *",null,null,null,null,null,null,"MT"]
["Licença Paternidade","LP","Feriado",null,null,null,null,null,null,"FD",null,"Abono **",null,null,null,null,null,null,null,"AB","Tarde *",null,null,null,null,null,null,"T","Dia/ noite (24 hrs) *",null,null,null,null,null,null,"DN"]
["Licença Médica/Odontológica","L","Descanso Semanal Remunerado",null,null,null,null,null,null,"DSR",null,"Compensação de Horas",null,null,null,null,null,null,null,"CH","Plantão Dia (12 hrs) *",null,null,null,null,null,null,"D"]
["Licença Capacitação","LC","Recesso",null,null,null,null,null,null,"RC",null,"Afastamento**",null,null,null,null,null,null,null,"AF","Plantão Noite (12 hrs) *",null,null,null,null,null,null,"N"]
[]
[]
[]
[]
[]
["OBSERVAÇÕES:"]
["* Para inserção das legendas referentes às jornadas de trabalho, verificar a Tabela 1 do Anexo 12629162 do Ofício-Circular - SEI nº 9/2021/SDR/CAP/DGP-EBSERH."]
["** Para inserção das legendas referentes aos Afastamentos previstos em lei e às Compensações de horas, verificar a Tabela 2 do Anexo 12629162 do Ofício-Circular - SEI nº 9/2021/SDR/CAP/DGP-EBSERH."]

{"sheet":"Outubro","index":9,"n_rows":52,"n_cols":82,"rows_kept":52,"cut":false,"hidden":false,"merged":[[40,28,40,34],[41,2,41,8],[41,9,41,10],[41,11,41,18],[41,20,41,26],[41,28,41,34],[43,2,43,8],[43,9,43,10],[43,11,43,18],[43,20,43,26],[40,2,40,8],[40,9,40,10],[40,11,40,18],[40,20,40,26],[42,2,42,8],[42,9,42,10],[42,11,42,18],[42,20,42,26],[5,2,7,2],[5,3,7,3],[5,4,7,4],[6,81,7,81],[6,77,7,77],[6,78,7,78],[5,5,7,5],[5,75,5,81],[6,80,7,80],[36,0,36,11],[37,0,37,11],[35,78,37,78],[35,79,37,79],[35,80,37,80],[35,0,35,11],[35,74,37,74],[35,75,37,75],[35,76,37,76],[35,77,37,77],[5,0,7,0],[5,1,7,1],[35,81,37,81],[5,6,5,11],[5,12,5,42],[6,79,7,79],[6,11,7,11],[6,75,7,75],[6,76,7,76],[6,6,7,6],[6,7,7,7],[6,8,7,8],[6,9,7,9],[6,10,7,10],[5,43,5,73],[5,74,7,74],[1,0,1,42],[2,0,2,42],[3,0,3,42],[4,1,4,20],[4,23,4,34],[4,37,4,42]]}
[]
[]
["NOME DO HU"]
["ESCALA MENSAL DE TRABALHO"]
["DIVISÃO /SETOR/UNIDADE:",null,null,null,null,null,null,null,null,null,null,null,null,null,null,null,null,null,null,null,null,"MÊS:",null,"Outubro",null,null,null,null,null,null,null,null,null,null,null,"ANO:",null,2023]
["NOME COMPLETO","SIAPE","     Registro Conselho Classe","Cargo","Vínculo","    C.H Sem","INTERVALO",null,null,null,null,null,"DIAS DO MÊS",null,null,null,null,null,null,null,null,null,null,null,null,null,null,null,null,null,null,null,null,null,null,null,null,null,null,null,null,null,null,"CÁLCULO DAS HORAS",null,null,null,null,null,null,null,null,null,null,null,null,null,null,null,null,null,null,null,null,null,null,null,null,null,null,null,null,null,null,"CH Men.","Dias"]
[null,null,null,null,null,null,"15' M","15' T","15' N","1H D","1H N","2H",1,2,3,4,5,6,7,8,9,10,11,12,13,14,15,16,17,18,19,20,21,22,23,24,25,{"$f":"IF(DAY(DATE(AL5,VLOOKUP(X5,Tabelas!M:N,2,0)+1,1)-1)>=26,26,\"\")","v":26},{"$f":"IF(DAY(DATE(AL5,VLOOKUP(X5,Tabelas!M:N,2,0)+1,1)-1)>=27,27,\"\")","v":27},{"$f":"IF(DAY(DATE(AL5,VLOOKUP(X5,Tabelas!M:N,2,0)+1,1)-1)>=28,28,\"\")","v":28},{"$f":"IF(DAY(DATE(AL5,VLOOKUP(X5,Tabelas!M:N,2,0)+1,1)-1)>=29,29,\"\")","v":29},{"$f":"IF(DAY(DATE(AL5,VLOOKUP(X5,Tabelas!M:N,2,0)+1,1)-1)>=30,30,\"\")","v":30},{"$f":"IF(DAY(DATE(AL5,VLOOKUP(X5,Tabelas!M:N,2,0)+1,1)-1)>=31,31,\"\")","v":31},null,null,null,null,null,null,null,null,null,null,null,null,null,null,null,null,null,null,null,null,null,null,null,null,null,null,null,null,null,null,null,null,"LM/LP/L","AB","FE","LC","CH","AF  "," Total Afast."]
[null,null,null,null,null,null,null,null,null,null,null,null,{"$f":"IF(M7<>\"\",IFERROR(VLOOKUP(WEEKDAY(CONCATENATE(M7,$X$5,$AL$5)),Tabelas!$I:$J,2,0),\"\"),\"\")","v":"DOM"},{"$f":"IF(N7<>\"\",IFERROR(VLOOKUP(WEEKDAY(CONCATENATE(N7,$X$5,$AL$5)),Tabelas!$I:$J,2,0),\"\"),\"\")","v":"SEG"},{"$f":"IF(O7<>\"\",IFERROR(VLOOKUP(WEEKDAY(CONCATENATE(O7,$X$5,$AL$5)),Tabelas!$I:$J,2,0),\"\"),\"\")","v":"TER"},{"$f":"IF(P7<>\"\",IFERROR(VLOOKUP(WEEKDAY(CONCATENATE(P7,$X$5,$AL$5)),Tabelas!$I:$J,2,0),\"\"),\"\")","v":"QUA"},{"$f":"IF(Q7<>\"\",IFERROR(VLOOKUP(WEEKDAY(CONCATENATE(Q7,$X$5,$AL$5)),Tabelas!$I:$J,2,0),\"\"),\"\")","v":"QUI"},{"$f":"IF(R7<>\"\",IFERROR(VLOOKUP(WEEKDAY(CONCATENATE(R7,$X$5,$AL$5)),Tabelas!$I:$J,2,0),\"\"),\"\")","v":"SEX"},{"$f":"IF(S7<>\"\",IFERROR(VLOOKUP(WEEKDAY(CONCATENATE(S7,$X$5,$AL$5)),Tabelas!$I:$J,2,0),\"\"),\"\")","v":"SAB"},{"$f":"IF(T7<>\"\",IFERROR(VLOOKUP(WEEKDAY(CONCATENATE(T7,$X$5,$AL$5)),Tabelas!$I:$J,2,0),\"\"),\"\")","v":"DOM"},{"$f":"IF(U7<>\"\",IFERROR(VLOOKUP(WEEKDAY(CONCATENATE(U7,$X$5,$AL$5)),Tabelas!$I:$J,2,0),\"\"),\"\")","v":"SEG"},{"$f":"IF(V7<>\"\",IFERROR(VLOOKUP(WEEKDAY(CONCATENATE(V7,$X$5,$AL$5)),Tabelas!$I:$J,2,0),\"\"),\"\")","v":"TER"},{"$f":"IF(W7<>\"\",IFERROR(VLOOKUP(WEEKDAY(CONCATENATE(W7,$X$5,$AL$5)),Tabelas!$I:$J,2,0),\"\"),\"\")","v":"QUA"},{"$f":"IF(X7<>\"\",IFERROR(VLOOKUP(WEEKDAY(CONCATENATE(X7,$X$5,$AL$5)),Tabelas!$I:$J,2,0),\"\"),\"\")","v":"QUI"},{"$f":"IF(Y7<>\"\",IFERROR(VLOOKUP(WEEKDAY(CONCATENATE(Y7,$X$5,$AL$5)),Tabelas!$I:$J,2,0),\"\"),\"\")","v":"SEX"},{"$f":"IF(Z7<>\"\",IFERROR(VLOOKUP(WEEKDAY(CONCATENATE(Z7,$X$5,$AL$5)),Tabelas!$I:$J,2,0),\"\"),\"\")","v":"SAB"},{"$f":"IF(AA7<>\"\",IFERROR(VLOOKUP(WEEKDAY(CONCATENATE(AA7,$X$5,$AL$5)),Tabelas!$I:$J,2,0),\"\"),\"\")","v":"DOM"},{"$f":"IF(AB7<>\"\",IFERROR(VLOOKUP(WEEKDAY(CONCATENATE(AB7,$X$5,$AL$5)),Tabelas!$I:$J,2,0),\"\"),\"\")","v":"SEG"},{"$f":"IF(AC7<>\"\",IFERROR(VLOOKUP(WEEKDAY(CONCATENATE(AC7,$X$5,$AL$5)),Tabelas!$I:$J,2,0),\"\"),\"\")","v":"TER"},{"$f":"IF(AD7<>\"\",IFERROR(VLOOKUP(WEEKDAY(CONCATENATE(AD7,$X$5,$AL$5)),Tabelas!$I:$J,2,0),\"\"),\"\")","v":"QUA"},{"$f":"IF(AE7<>\"\",IFERROR(VLOOKUP(WEEKDAY(CONCATENATE(AE7,$X$5,$AL$5)),Tabelas!$I:$J,2,0),\"\"),\"\")","v":"QUI"},{"$f":"IF(AF7<>\"\",IFERROR(VLOOKUP(WEEKDAY(CONCATENATE(AF7,$X$5,$AL$5)),Tabelas!$I:$J,2,0),\"\"),\"\")","v":"SEX"},{"$f":"IF(AG7<>\"\",IFERROR(VLOOKUP(WEEKDAY(CONCATENATE(AG7,$X$5,$AL$5)),Tabelas!$I:$J,2,0),\"\"),\"\")","v":"SAB"},{"$f":"IF(AH7<>\"\",IFERROR(VLOOKUP(WEEKDAY(CONCATENATE(AH7,$X$5,$AL$5)),Tabelas!$I:$J,2,0),\"\"),\"\")","v":"DOM"},{"$f":"IF(AI7<>\"\",IFERROR(VLOOKUP(WEEKDAY(CONCATENATE(AI7,$X$5,$AL$5)),Tabelas!$I:$J,2,0),\"\"),\"\")","v":"SEG"},{"$f":"IF(AJ7<>\"\",IFERROR(VLOOKUP(WEEKDAY(CONCATENATE(AJ7,$X$5,$AL$5)),Tabelas!$I:$J,2,0),\"\"),\"\")","v":"TER"},{"$f":"IF(AK7<>\"\",IFERROR(VLOOKUP(WEEKDAY(CONCATENATE(AK7,$X$5,$AL$5)),Tabelas!$I:$J,2,0),\"\"),\"\")","v":"QUA"},{"$f":"IF(AL7<>\"\",IFERROR(VLOOKUP(WEEKDAY(CONCATENATE(AL7,$X$5,$AL$5)),Tabelas!$I:$J,2,0),\"\"),\"\")","v":"QUI"},{"$f":"IF(AM7<>\"\",IFERROR(VLOOKUP(WEEKDAY(CONCATENATE(AM7,$X$5,$AL$5)),Tabelas!$I:$J,2,0),\"\"),\"\")","v":"SEX"},{"$f":"IF(AN7<>\"\",IFERROR(VLOOKUP(WEEKDAY(CONCATENATE(AN7,$X$5,$AL$5)),Tabelas!$I:$J,2,0),\"\"),\"\")","v":"SAB"},{"$f":"IF(AO7<>\"\",IFERROR(VLOOKUP(WEEKDAY(CONCATENATE(AO7,$X$5,$AL$5)),Tabelas!$I:$J,2,0),\"\"),\"\")","v":"DOM"},{"$f":"IF(AP7<>\"\",IFERROR(VLOOKUP(WEEKDAY(CONCATENATE(AP7,$X$5,$AL$5)),Tabelas!$I:$J,2,0),\"\"),\"\")","v":"SEG"},{"$f":"IF(AQ7<>\"\",IFERROR(VLOOKUP(WEEKDAY(CONCATENATE(AQ7,$X$5,$AL$5)),Tabelas!$I:$J,2,0),\"\"),\"\")","v":"TER"},1,2,3,4,5,6,7,8,9,10,11,12,13,14,15,16,17,18,19,20,21,22,23,24,25,26,27,28,29,30,31]
["FULANO 1",1,null,null,null,null,null,null,null,null,null,null,null,null,null,null,null,null,null,null,null,null,null,null,null,null,null,null,null,null,null,null,null,null,null,null,null,null,null,null,null,null,null,{"$f":"IF(A9<>\"\",IFERROR(VLOOKUP(M9,Tabelas!B:D,3,0),0),\"\")","v":0},{"$f":"IF(A9<>\"\",IFERROR(VLOOKUP(N9,Tabelas!B:D,3,0),0),\"\")","v":0},{"$f":"IF(A9<>\"\",IFERROR(VLOOKUP(O9,Tabelas!B:D,3,0),0),\"\")","v":0},{"$f":"IF(A9<>\"\",IFERROR(VLOOKUP(P9,Tabelas!B:D,3,0),0),\"\")","v":0},{"$f":"IF(A9<>\"\",IFERROR(VLOOKUP(Q9,Tabelas!B:D,3,0),0),\"\")","v":0},{"$f":"IF(A9<>\"\",IFERROR(VLOOKUP(R9,Tabelas!B:D,3,0),0),\"\")","v":0},{"$f":"IF(A9<>\"\",IFERROR(VLOOKUP(S9,Tabelas!B:D,3,0),0),\"\")","v":0},{"$f":"IF(A9<>\"\",IFERROR(VLOOKUP(T9,Tabelas!B:D,3,0),0),\"\")","v":0},{"$f":"IF(A9<>\"\",IFERROR(VLOOKUP(U9,Tabelas!B:D,3,0),0),\"\")","v":0},{"$f":"IF(A9<>\"\",IFERROR(VLOOKUP(V9,Tabelas!B:D,3,0),0),\"\")","v":0},{"$f":"IF(A9<>\"\",IFERROR(VLOOKUP(W9,Tabelas!B:D,3,0),0),\"\")","v":0},{"$f":"IF(A9<>\"\",IFERROR(VLOOKUP(X9,Tabelas!B:D,3,0),0),\"\")","v":0},{"$f":"IF(A9<>\"\",IFERROR(VLOOKUP(Y9,Tabelas!B:D,3,0),0),\"\")","v":0},{"$f":"IF(A9<>\"\",IFERROR(VLOOKUP(Z9,Tabelas!B:D,3,0),0),\"\")","v":0},{"$f":"IF(A9<>\"\",IFERROR(VLOOKUP(AA9,Tabelas!B:D,3,0),0),\"\")","v":0},{"$f":"IF(A9<>\"\",IFERROR(VLOOKUP(AB9,Tabelas!B:D,3,0),0),\"\")","v":0},{"$f":"IF(A9<>\"\",IFERROR(VLOOKUP(AC9,Tabelas!B:D,3,0),0),\"\")","v":0},{"$f":"IF(A9<>\"\",IFERROR(VLOOKUP(AD9,Tabelas!B:D,3,0),0),\"\")","v":0},{"$f":"IF(A9<>\"\",IFERROR(VLOOKUP(AE9,Tabelas!B:D,3,0),0),\"\")","v":0},{"$f":"IF(A9<>\"\",IFERROR(VLOOKUP(AF9,Tabelas!B:D,3,0),0),\"\")","v":0},{"$f":"IF(A9<>\"\",IFERROR(VLOOKUP(AG9,Tabelas!B:D,3,0),0),\"\")","v":0},{"$f":"IF(A9<>\"\",IFERROR(VLOOKUP(AH9,Tabelas!B:D,3,0),0),\"\")","v":0},{"$f":"IF(A9<>\"\",IFERROR(VLOOKUP(AI9,Tabelas!B:D,3,0),0),\"\")","v":0},{"$f":"IF(A9<>\"\",IFERROR(VLOOKUP(AJ9,Tabelas!B:D,3,0),0),\"\")","v":0},{"$f":"IF(A9<>\"\",IFERROR(VLOOKUP(AK9,Tabelas!B:D,3,0),0),\"\")","v":0},{"$f":"IF(A9<>\"\",IFERROR(VLOOKUP(AL9,Tabelas!B:D,3,0),0),\"\")","v":0},{"$f":"IF(A9<>\"\",IFERROR(VLOOKUP(AM9,Tabelas!B:D,3,0),0),\"\")","v":0},{"$f":"IF(A9<>\"\",IFERROR(VLOOKUP(AN9,Tabelas!B:D,3,0),0),\"\")","v":0},{"$f":"IF(A9<>\"\",IFERROR(VLOOKUP(AO9,Tabelas!B:D,3,0),0),\"\")","v":0},{"$f":"IF(A9<>\"\",IFERROR(VLOOKUP(AP9,Tabelas!B:D,3,0),0),\"\")","v":0},{"$f":"IF(A9<>\"\",IFERROR(VLOOKUP(AQ9,Tabelas!B:D,3,0),0),\"\")","v":0},{"$f":"IF(AND(A9<>\"\",E9=\"Ebserh\"),SUM(AR9:BV9)+COUNTIF(M9:AQ9,\"N*\")+COUNTIF(M9:AQ9,\"DN*\"),IF(AND(A9<>\"\",E9<>\"Ebserh\"),SUM(AR9:BV9),\"\"))","v":0},{"$f":"IF(A9<>\"\",COUNTIF(M9:AQ9,\"LM\")+COUNTIF(M9:AQ9,\"L*\")+COUNTIF(M9:AQ9,\"LP\"),\"\")","v":0},{"$f":"IF(A9<>\"\",COUNTIF(M9:AQ9,\"AB*\"),\"\")","v":0},{"$f":"IF(A9<>\"\",COUNTIF(M9:AQ9,\"FE\"),\"\")","v":0},{"$f":"IF(A9<>\"\",COUNTIF(M9:AQ9,\"LC\"),\"\")","v":0},{"$f":"IF(A9<>\"\",COUNTIF(M9:AQ9,\"CH*\"),\"\")","v":0},{"$f":"IF(A9<>\"\",COUNTIF(M9:AQ9,\"AF1\")+COUNTIF(M9:AQ9,\"AF2\")+COUNTIF(M9:AQ9,\"AF3\")+COUNTIF(M9:AQ9,\"AF4\")+COUNTIF(M9:AQ9,\"AF5\")+COUNTIF(M9:AQ9,\"AF6\")+COUNTIF(M9:AQ9,\"AF7\")+COUNTIF(M9:AQ9,\"AF8\")+COUNTIF(M9:AQ9,\"AF9\")+COUNTIF(M9:AQ9,\"AF10\")+COUNTIF(M9:AQ9,\"AF11\")+COUNTIF(M9:AQ9,\"AF12\")+COUNTIF(M9:AQ9,\"AF13\")+COUNTIF(M9:AQ9,\"AF14\"),\"\")","v":0},{"$f":"IF(A9<>\"\",COUNTIF(M9:AQ9,\"CH*\")+COUNTIF(M9:AQ9,\"L*\")+COUNTIF(M9:AQ9,\"LM\")+COUNTIF(M9:AQ9,\"LP\")+COUNTIF(M9:AQ9,\"LC\")+COUNTIF(M9:AQ9,\"AB*\")+COUNTIF(M9:AQ9,\"AF1\")+COUNTIF(M9:AQ9,\"AF2\")+COUNTIF(M9:AQ9,\"AF3\")+COUNTIF(M9:AQ9,\"AF4\")+COUNTIF(M9:AQ9,\"AF5\")+COUNTIF(M9:AQ9,\"AF6\")+COUNTIF(M9:AQ9,\"AF7\")+COUNTIF(M9:AQ9,\"AF8\")+COUNTIF(M9:AQ9,\"AF9\")+COUNTIF(M9:AQ9,\"AF10\")+COUNTIF(M9:AQ9,\"AF11\")+COUNTIF(M9:AQ9,\"AF12\")+COUNTIF(M9:AQ9,\"AF13\")+COUNTIF(M9:AQ9,\"AF14\")+COUNTIF(M9:AQ9,\"RC\")+COUNTIF(M9:AQ9,\"FO\")+COUNTIF(M9:AQ9,\"FE\"),\"\")","v":0}]
["FULANO 2",2,null,null,null,null,null,null,null,null,null,null,null,null,null,null,null,null,null,null,null,null,null,null,null,null,null,null,null,null,null,null,null,null,null,null,null,null,null,null,null,null,null,{"$f":"IF(A10<>\"\",IFERROR(VLOOKUP(M10,Tabelas!B:D,3,0),0),\"\")","v":0},{"$f":"IF(A10<>\"\",IFERROR(VLOOKUP(N10,Tabelas!B:D,3,0),0),\"\")","v":0},{"$f":"IF(A10<>\"\",IFERROR(VLOOKUP(O10,Tabelas!B:D,3,0),0),\"\")","v":0},{"$f":"IF(A10<>\"\",IFERROR(VLOOKUP(P10,Tabelas!B:D,3,0),0),\"\")","v":0},{"$f":"IF(A10<>\"\",IFERROR(VLOOKUP(Q10,Tabelas!B:D,3,0),0),\"\")","v":0},{"$f":"IF(A10<>\"\",IFERROR(VLOOKUP(R10,Tabelas!B:D,3,0),0),\"\")","v":0},{"$f":"IF(A10<>\"\",IFERROR(VLOOKUP(S10,Tabelas!B:D,3,0),0),\"\")","v":0},{"$f":"IF(A10<>\"\",IFERROR(VLOOKUP(T10,Tabelas!B:D,3,0),0),\"\")","v":0},{"$f":"IF(A10<>\"\",IFERROR(VLOOKUP(U10,Tabelas!B:D,3,0),0),\"\")","v":0},{"$f":"IF(A10<>\"\",IFERROR(VLOOKUP(V10,Tabelas!B:D,3,0),0),\"\")","v":0},{"$f":"IF(A10<>\"\",IFERROR(VLOOKUP(W10,Tabelas!B:D,3,0),0),\"\")","v":0},{"$f":"IF(A10<>\"\",IFERROR(VLOOKUP(X10,Tabelas!B:D,3,0),0),\"\")","v":0},{"$f":"IF(A10<>\"\",IFERROR(VLOOKUP(Y10,Tabelas!B:D,3,0),0),\"\")","v":0},{"$f":"IF(A10<>\"\",IFERROR(VLOOKUP(Z10,Tabelas!B:D,3,0),0),\"\")","v":0},{"$f":"IF(A10<>\"\",IFERROR(VLOOKUP(AA10,Tabelas!B:D,3,0),0),\"\")","v":0},{"$f":"IF(A10<>\"\",IFERROR(VLOOKUP(AB10,Tabelas!B:D,3,0),0),\"\")","v":0},{"$f":"IF(A10<>\"\",IFERROR(VLOOKUP(AC10,Tabelas!B:D,3,0),0),\"\")","v":0},{"$f":"IF(A10<>\"\",IFERROR(VLOOKUP(AD10,Tabelas!B:D,3,0),0),\"\")","v":0},{"$f":"IF(A10<>\"\",IFERROR(VLOOKUP(AE10,Tabelas!B:D,3,0),0),\"\")","v":0},{"$f":"IF(A10<>\"\",IFERROR(VLOOKUP(AF10,Tabelas!B:D,3,0),0),\"\")","v":0},{"$f":"IF(A10<>\"\",IFERROR(VLOOKUP(AG10,Tabelas!B:D,3,0),0),\"\")","v":0},{"$f":"IF(A10<>\"\",IFERROR(VLOOKUP(AH10,Tabelas!B:D,3,0),0),\"\")","v":0},{"$f":"IF(A10<>\"\",IFERROR(VLOOKUP(AI10,Tabelas!B:D,3,0),0),\"\")","v":0},{"$f":"IF(A10<>\"\",IFERROR(VLOOKUP(AJ10,Tabelas!B:D,3,0),0),\"\")","v":0},{"$f":"IF(A10<>\"\",IFERROR(VLOOKUP(AK10,Tabelas!B:D,3,0),0),\"\")","v":0},{"$f":"IF(A10<>\"\",IFERROR(VLOOKUP(AL10,Tabelas!B:D,3,0),0),\"\")","v":0},{"$f":"IF(A10<>\"\",IFERROR(VLOOKUP(AM10,Tabelas!B:D,3,0),0),\"\")","v":0},{"$f":"IF(A10<>\"\",IFERROR(VLOOKUP(AN10,Tabelas!B:D,3,0),0),\"\")","v":0},{"$f":"IF(A10<>\"\",IFERROR(VLOOKUP(AO10,Tabelas!B:D,3,0),0),\"\")","v":0},{"$f":"IF(A10<>\"\",IFERROR(VLOOKUP(AP10,Tabelas!B:D,3,0),0),\"\")","v":0},{"$f":"IF(A10<>\"\",IFERROR(VLOOKUP(AQ10,Tabelas!B:D,3,0),0),\"\")","v":0},{"$f":"IF(AND(A10<>\"\",E10=\"Ebserh\"),SUM(AR10:BV10)+COUNTIF(M10:AQ10,\"N*\")+COUNTIF(M10:AQ10,\"DN*\"),IF(AND(A10<>\"\",E10<>\"Ebserh\"),SUM(AR10:BV10),\"\"))","v":0},{"$f":"IF(A10<>\"\",COUNTIF(M10:AQ10,\"LM\")+COUNTIF(M10:AQ10,\"L*\")+COUNTIF(M10:AQ10,\"LP\"),\"\")","v":0},{"$f":"IF(A10<>\"\",COUNTIF(M10:AQ10,\"AB*\"),\"\")","v":0},{"$f":"IF(A10<>\"\",COUNTIF(M10:AQ10,\"FE\"),\"\")","v":0},{"$f":"IF(A10<>\"\",COUNTIF(M10:AQ10,\"LC\"),\"\")","v":0},{"$f":"IF(A10<>\"\",COUNTIF(M10:AQ10,\"CH*\"),\"\")","v":0},{"$f":"IF(A10<>\"\",COUNTIF(M10:AQ10,\"AF1\")+COUNTIF(M10:AQ10,\"AF2\")+COUNTIF(M10:AQ10,\"AF3\")+COUNTIF(M10:AQ10,\"AF4\")+COUNTIF(M10:AQ10,\"AF5\")+COUNTIF(M10:AQ10,\"AF6\")+COUNTIF(M10:AQ10,\"AF7\")+COUNTIF(M10:AQ10,\"AF8\")+COUNTIF(M10:AQ10,\"AF9\")+COUNTIF(M10:AQ10,\"AF10\")+COUNTIF(M10:AQ10,\"AF11\")+COUNTIF(M10:AQ10,\"AF12\")+COUNTIF(M10:AQ10,\"AF13\")+COUNTIF(M10:AQ10,\"AF14\"),\"\")","v":0},{"$f":"IF(A10<>\"\",COUNTIF(M10:AQ10,\"CH*\")+COUNTIF(M10:AQ10,\"L*\")+COUNTIF(M10:AQ10,\"LM\")+COUNTIF(M10:AQ10,\"LP\")+COUNTIF(M10:AQ10,\"LC\")+COUNTIF(M10:AQ10,\"AB*\")+COUNTIF(M10:AQ10,\"AF1\")+COUNTIF(M10:AQ10,\"AF2\")+COUNTIF(M10:AQ10,\"AF3\")+COUNTIF(M10:AQ10,\"AF4\")+COUNTIF(M10:AQ10,\"AF5\")+COUNTIF(M10:AQ10,\"AF6\")+COUNTIF(M10:AQ10,\"AF7\")+COUNTIF(M10:AQ10,\"AF8\")+COUNTIF(M10:AQ10,\"AF9\")+COUNTIF(M10:AQ10,\"AF10\")+COUNTIF(M10:AQ10,\"AF11\")+COUNTIF(M10:AQ10,\"AF12\")+COUNTIF(M10:AQ10,\"AF13\")+COUNTIF(M10:AQ10,\"AF14\")+COUNTIF(M10:AQ10,\"RC\")+COUNTIF(M10:AQ10,\"FO\")+COUNTIF(M10:AQ10,\"FE\"),\"\")","v":0}]
["FULANO 3",3,null,null,null,null,null,null,null,null,null,null,null,null,null,null,null,null,null,null,null,null,null,null,null,null,null,null,null,null,null,null,null,null,null,null,null,null,null,null,null,null,null,{"$f":"IF(A11<>\"\",IFERROR(VLOOKUP(M11,Tabelas!B:D,3,0),0),\"\")","v":0},{"$f":"IF(A11<>\"\",IFERROR(VLOOKUP(N11,Tabelas!B:D,3,0),0),\"\")","v":0},{"$f":"IF(A11<>\"\",IFERROR(VLOOKUP(O11,Tabelas!B:D,3,0),0),\"\")","v":0},{"$f":"IF(A11<>\"\",IFERROR(VLOOKUP(P11,Tabelas!B:D,3,0),0),\"\")","v":0},{"$f":"IF(A11<>\"\",IFERROR(VLOOKUP(Q11,Tabelas!B:D,3,0),0),\"\")","v":0},{"$f":"IF(A11<>\"\",IFERROR(VLOOKUP(R11,Tabelas!B:D,3,0),0),\"\")","v":0},{"$f":"IF(A11<>\"\",IFERROR(VLOOKUP(S11,Tabelas!B:D,3,0),0),\"\")","v":0},{"$f":"IF(A11<>\"\",IFERROR(VLOOKUP(T11,Tabelas!B:D,3,0),0),\"\")","v":0},{"$f":"IF(A11<>\"\",IFERROR(VLOOKUP(U11,Tabelas!B:D,3,0),0),\"\")","v":0},{"$f":"IF(A11<>\"\",IFERROR(VLOOKUP(V11,Tabelas!B:D,3,0),0),\"\")","v":0},{"$f":"IF(A11<>\"\",IFERROR(VLOOKUP(W11,Tabelas!B:D,3,0),0),\"\")","v":0},{"$f":"IF(A11<>\"\",IFERROR(VLOOKUP(X11,Tabelas!B:D,3,0),0),\"\")","v":0},{"$f":"IF(A11<>\"\",IFERROR(VLOOKUP(Y11,Tabelas!B:D,3,0),0),\"\")","v":0},{"$f":"IF(A11<>\"\",IFERROR(VLOOKUP(Z11,Tabelas!B:D,3,0),0),\"\")","v":0},{"$f":"IF(A11<>\"\",IFERROR(VLOOKUP(AA11,Tabelas!B:D,3,0),0),\"\")","v":0},{"$f":"IF(A11<>\"\",IFERROR(VLOOKUP(AB11,Tabelas!B:D,3,0),0),\"\")","v":0},{"$f":"IF(A11<>\"\",IFERROR(VLOOKUP(AC11,Tabelas!B:D,3,0),0),\"\")","v":0},{"$f":"IF(A11<>\"\",IFERROR(VLOOKUP(AD11,Tabelas!B:D,3,0),0),\"\")","v":0},{"$f":"IF(A11<>\"\",IFERROR(VLOOKUP(AE11,Tabelas!B:D,3,0),0),\"\")","v":0},{"$f":"IF(A11<>\"\",IFERROR(VLOOKUP(AF11,Tabelas!B:D,3,0),0),\"\")","v":0},{"$f":"IF(A11<>\"\",IFERROR(VLOOKUP(AG11,Tabelas!B:D,3,0),0),\"\")","v":0},{"$f":"IF(A11<>\"\",IFERROR(VLOOKUP(AH11,Tabelas!B:D,3,0),0),\"\")","v":0},{"$f":"IF(A11<>\"\",IFERROR(VLOOKUP(AI11,Tabelas!B:D,3,0),0),\"\")","v":0},{"$f":"IF(A11<>\"\",IFERROR(VLOOKUP(AJ11,Tabelas!B:D,3,0),0),\"\")","v":0},{"$f":"IF(A11<>\"\",IFERROR(VLOOKUP(AK11,Tabelas!B:D,3,0),0),\"\")","v":0},{"$f":"IF(A11<>\"\",IFERROR(VLOOKUP(AL11,Tabelas!B:D,3,0),0),\"\")","v":0},{"$f":"IF(A11<>\"\",IFERROR(VLOOKUP(AM11,Tabelas!B:D,3,0),0),\"\")","v":0},{"$f":"IF(A11<>\"\",IFERROR(VLOOKUP(AN11,Tabelas!B:D,3,0),0),\"\")","v":0},{"$f":"IF(A11<>\"\",IFERROR(VLOOKUP(AO11,Tabelas!B:D,3,0),0),\"\")","v":0},{"$f":"IF(A11<>\"\",IFERROR(VLOOKUP(AP11,Tabelas!B:D,3,0),0),\"\")","v":0},{"$f":"IF(A11<>\"\",IFERROR(VLOOKUP(AQ11,Tabelas!B:D,3,0),0),\"\")","v":0},0,0,0,0,0,0,0,0]
["FULANO 4",4,null,null,null,null,null,null,null,null,null,null,null,null,null,null,null,null,null,null,null,null,null,null,null,null,null,null,null,null,null,null,null,null,null,null,null,null,null,null,null,null,null,{"$f":"IF(A12<>\"\",IFERROR(VLOOKUP(M12,Tabelas!B:D,3,0),0),\"\")","v":0},{"$f":"IF(A12<>\"\",IFERROR(VLOOKUP(N12,Tabelas!B:D,3,0),0),\"\")","v":0},{"$f":"IF(A12<>\"\",IFERROR(VLOOKUP(O12,Tabelas!B:D,3,0),0),\"\")","v":0},{"$f":"IF(A12<>\"\",IFERROR(VLOOKUP(P12,Tabelas!B:D,3,0),0),\"\")","v":0},{"$f":"IF(A12<>\"\",IFERROR(VLOOKUP(Q12,Tabelas!B:D,3,0),0),\"\")","v":0},{"$f":"IF(A12<>\"\",IFERROR(VLOOKUP(R12,Tabelas!B:D,3,0),0),\"\")","v":0},{"$f":"IF(A12<>\"\",IFERROR(VLOOKUP(S12,Tabelas!B:D,3,0),0),\"\")","v":0},{"$f":"IF(A12<>\"\",IFERROR(VLOOKUP(T12,Tabelas!B:D,3,0),0),\"\")","v":0},{"$f":"IF(A12<>\"\",IFERROR(VLOOKUP(U12,Tabelas!B:D,3,0),0),\"\")","v":0},{"$f":"IF(A12<>\"\",IFERROR(VLOOKUP(V12,Tabelas!B:D,3,0),0),\"\")","v":0},{"$f":"IF(A12<>\"\",IFERROR(VLOOKUP(W12,Tabelas!B:D,3,0),0),\"\")","v":0},{"$f":"IF(A12<>\"\",IFERROR(VLOOKUP(X12,Tabelas!B:D,3,0),0),\"\")","v":0},{"$f":"IF(A12<>\"\",IFERROR(VLOOKUP(Y12,Tabelas!B:D,3,0),0),\"\")","v":0},{"$f":"IF(A12<>\"\",IFERROR(VLOOKUP(Z12,Tabelas!B:D,3,0),0),\"\")","v":0},{"$f":"IF(A12<>\"\",IFERROR(VLOOKUP(AA12,Tabelas!B:D,3,0),0),\"\")","v":0},{"$f":"IF(A12<>\"\",IFERROR(VLOOKUP(AB12,Tabelas!B:D,3,0),0),\"\")","v":0},{"$f":"IF(A12<>\"\",IFERROR(VLOOKUP(AC12,Tabelas!B:D,3,0),0),\"\")","v":0},{"$f":"IF(A12<>\"\",IFERROR(VLOOKUP(AD12,Tabelas!B:D,3,0),0),\"\")","v":0},{"$f":"IF(A12<>\"\",IFERROR(VLOOKUP(AE12,Tabelas!B:D,3,0),0),\"\")","v":0},{"$f":"IF(A12<>\"\",IFERROR(VLOOKUP(AF12,Tabelas!B:D,3,0),0),\"\")","v":0},{"$f":"IF(A12<>\"\",IFERROR(VLOOKUP(AG12,Tabelas!B:D,3,0),0),\"\")","v":0},{"$f":"IF(A12<>\"\",IFERROR(VLOOKUP(AH12,Tabelas!B:D,3,0),0),\"\")","v":0},{"$f":"IF(A12<>\"\",IFERROR(VLOOKUP(AI12,Tabelas!B:D,3,0),0),\"\")","v":0},{"$f":"IF(A12<>\"\",IFERROR(VLOOKUP(AJ12,Tabelas!B:D,3,0),0),\"\")","v":0},{"$f":"IF(A12<>\"\",IFERROR(VLOOKUP(AK12,Tabelas!B:D,3,0),0),\"\")","v":0},{"$f":"IF(A12<>\"\",IFERROR(VLOOKUP(AL12,Tabelas!B:D,3,0),0),\"\")","v":0},{"$f":"IF(A12<>\"\",IFERROR(VLOOKUP(AM12,Tabelas!B:D,3,0),0),\"\")","v":0},{"$f":"IF(A12<>\"\",IFERROR(VLOOKUP(AN12,Tabelas!B:D,3,0),0),\"\")","v":0},{"$f":"IF(A12<>\"\",IFERROR(VLOOKUP(AO12,Tabelas!B:D,3,0),0),\"\")","v":0},{"$f":"IF(A12<>\"\",IFERROR(VLOOKUP(AP12,Tabelas!B:D,3,0),0),\"\")","v":0},{"$f":"IF(A12<>\"\",IFERROR(VLOOKUP(AQ12,Tabelas!B:D,3,0),0),\"\")","v":0},0,0,0,0,0,0,0,0]
["FULANO 5",5,null,null,null,null,null,null,null,null,null,null,null,null,null,null,null,null,null,null,null,null,null,null,null,null,null,null,null,null,null,null,null,null,null,null,null,null,null,null,null,null,null,{"$f":"IF(A13<>\"\",IFERROR(VLOOKUP(M13,Tabelas!B:D,3,0),0),\"\")","v":0},{"$f":"IF(A13<>\"\",IFERROR(VLOOKUP(N13,Tabelas!B:D,3,0),0),\"\")","v":0},{"$f":"IF(A13<>\"\",IFERROR(VLOOKUP(O13,Tabelas!B:D,3,0),0),\"\")","v":0},{"$f":"IF(A13<>\"\",IFERROR(VLOOKUP(P13,Tabelas!B:D,3,0),0),\"\")","v":0},{"$f":"IF(A13<>\"\",IFERROR(VLOOKUP(Q13,Tabelas!B:D,3,0),0),\"\")","v":0},{"$f":"IF(A13<>\"\",IFERROR(VLOOKUP(R13,Tabelas!B:D,3,0),0),\"\")","v":0},{"$f":"IF(A13<>\"\",IFERROR(VLOOKUP(S13,Tabelas!B:D,3,0),0),\"\")","v":0},{"$f":"IF(A13<>\"\",IFERROR(VLOOKUP(T13,Tabelas!B:D,3,0),0),\"\")","v":0},{"$f":"IF(A13<>\"\",IFERROR(VLOOKUP(U13,Tabelas!B:D,3,0),0),\"\")","v":0},{"$f":"IF(A13<>\"\",IFERROR(VLOOKUP(V13,Tabelas!B:D,3,0),0),\"\")","v":0},{"$f":"IF(A13<>\"\",IFERROR(VLOOKUP(W13,Tabelas!B:D,3,0),0),\"\")","v":0},{"$f":"IF(A13<>\"\",IFERROR(VLOOKUP(X13,Tabelas!B:D,3,0),0),\"\")","v":0},{"$f":"IF(A13<>\"\",IFERROR(VLOOKUP(Y13,Tabelas!B:D,3,0),0),\"\")","v":0},{"$f":"IF(A13<>\"\",IFERROR(VLOOKUP(Z13,Tabelas!B:D,3,0),0),\"\")","v":0},{"$f":"IF(A13<>\"\",IFERROR(VLOOKUP(AA13,Tabelas!B:D,3,0),0),\"\")","v":0},{"$f":"IF(A13<>\"\",IFERROR(VLOOKUP(AB13,Tabelas!B:D,3,0),0),\"\")","v":0},{"$f":"IF(A13<>\"\",IFERROR(VLOOKUP(AC13,Tabelas!B:D,3,0),0),\"\")","v":0},{"$f":"IF(A13<>\"\",IFERROR(VLOOKUP(AD13,Tabelas!B:D,3,0),0),\"\")","v":0},{"$f":"IF(A13<>\"\",IFERROR(VLOOKUP(AE13,Tabelas!B:D,3,0),0),\"\")","v":0},{"$f":"IF(A13<>\"\",IFERROR(VLOOKUP(AF13,Tabelas!B:D,3,0),0),\"\")","v":0},{"$f":"IF(A13<>\"\",IFERROR(VLOOKUP(AG13,Tabelas!B:D,3,0),0),\"\")","v":0},{"$f":"IF(A13<>\"\",IFERROR(VLOOKUP(AH13,Tabelas!B:D,3,0),0),\"\")","v":0},{"$f":"IF(A13<>\"\",IFERROR(VLOOKUP(AI13,Tabelas!B:D,3,0),0),\"\")","v":0},{"$f":"IF(A13<>\"\",IFERROR(VLOOKUP(AJ13,Tabelas!B:D,3,0),0),\"\")","v":0},{"$f":"IF(A13<>\"\",IFERROR(VLOOKUP(AK13,Tabelas!B:D,3,0),0),\"\")","v":0},{"$f":"IF(A13<>\"\",IFERROR(VLOOKUP(AL13,Tabelas!B:D,3,0),0),\"\")","v":0},{"$f":"IF(A13<>\"\",IFERROR(VLOOKUP(AM13,Tabelas!B:D,3,0),0),\"\")","v":0},{"$f":"IF(A13<>\"\",IFERROR(VLOOKUP(AN13,Tabelas!B:D,3,0),0),\"\")","v":0},{"$f":"IF(A13<>\"\",IFERROR(VLOOKUP(AO13,Tabelas!B:D,3,0),0),\"\")","v":0},{"$f":"IF(A13<>\"\",IFERROR(VLOOKUP(AP13,Tabelas!B:D,3,0),0),\"\")","v":0},{"$f":"IF(A13<>\"\",IFERROR(VLOOKUP(AQ13,Tabelas!B:D,3,0),0),\"\")","v":0},0,0,0,0,0,0,0,0]
["FULANO 6",6,null,null,null,null,null,null,null,null,null,null,null,null,null,null,null,null,null,null,null,null,null,null,null,null,null,null,null,null,null,null,null,null,null,null,null,null,null,null,null,null,null,{"$f":"IF(A14<>\"\",IFERROR(VLOOKUP(M14,Tabelas!B:D,3,0),0),\"\")","v":0},{"$f":"IF(A14<>\"\",IFERROR(VLOOKUP(N14,Tabelas!B:D,3,0),0),\"\")","v":0},{"$f":"IF(A14<>\"\",IFERROR(VLOOKUP(O14,Tabelas!B:D,3,0),0),\"\")","v":0},{"$f":"IF(A14<>\"\",IFERROR(VLOOKUP(P14,Tabelas!B:D,3,0),0),\"\")","v":0},{"$f":"IF(A14<>\"\",IFERROR(VLOOKUP(Q14,Tabelas!B:D,3,0),0),\"\")","v":0},{"$f":"IF(A14<>\"\",IFERROR(VLOOKUP(R14,Tabelas!B:D,3,0),0),\"\")","v":0},{"$f":"IF(A14<>\"\",IFERROR(VLOOKUP(S14,Tabelas!B:D,3,0),0),\"\")","v":0},{"$f":"IF(A14<>\"\",IFERROR(VLOOKUP(T14,Tabelas!B:D,3,0),0),\"\")","v":0},{"$f":"IF(A14<>\"\",IFERROR(VLOOKUP(U14,Tabelas!B:D,3,0),0),\"\")","v":0},{"$f":"IF(A14<>\"\",IFERROR(VLOOKUP(V14,Tabelas!B:D,3,0),0),\"\")","v":0},{"$f":"IF(A14<>\"\",IFERROR(VLOOKUP(W14,Tabelas!B:D,3,0),0),\"\")","v":0},{"$f":"IF(A14<>\"\",IFERROR(VLOOKUP(X14,Tabelas!B:D,3,0),0),\"\")","v":0},{"$f":"IF(A14<>\"\",IFERROR(VLOOKUP(Y14,Tabelas!B:D,3,0),0),\"\")","v":0},{"$f":"IF(A14<>\"\",IFERROR(VLOOKUP(Z14,Tabelas!B:D,3,0),0),\"\")","v":0},{"$f":"IF(A14<>\"\",IFERROR(VLOOKUP(AA14,Tabelas!B:D,3,0),0),\"\")","v":0},{"$f":"IF(A14<>\"\",IFERROR(VLOOKUP(AB14,Tabelas!B:D,3,0),0),\"\")","v":0},{"$f":"IF(A14<>\"\",IFERROR(VLOOKUP(AC14,Tabelas!B:D,3,0),0),\"\")","v":0},{"$f":"IF(A14<>\"\",IFERROR(VLOOKUP(AD14,Tabelas!B:D,3,0),0),\"\")","v":0},{"$f":"IF(A14<>\"\",IFERROR(VLOOKUP(AE14,Tabelas!B:D,3,0),0),\"\")","v":0},{"$f":"IF(A14<>\"\",IFERROR(VLOOKUP(AF14,Tabelas!B:D,3,0),0),\"\")","v":0},{"$f":"IF(A14<>\"\",IFERROR(VLOOKUP(AG14,Tabelas!B:D,3,0),0),\"\")","v":0},{"$f":"IF(A14<>\"\",IFERROR(VLOOKUP(AH14,Tabelas!B:D,3,0),0),\"\")","v":0},{"$f":"IF(A14<>\"\",IFERROR(VLOOKUP(AI14,Tabelas!B:D,3,0),0),\"\")","v":0},{"$f":"IF(A14<>\"\",IFERROR(VLOOKUP(AJ14,Tabelas!B:D,3,0),0),\"\")","v":0},{"$f":"IF(A14<>\"\",IFERROR(VLOOKUP(AK14,Tabelas!B:D,3,0),0),\"\")","v":0},{"$f":"IF(A14<>\"\",IFERROR(VLOOKUP(AL14,Tabelas!B:D,3,0),0),\"\")","v":0},{"$f":"IF(A14<>\"\",IFERROR(VLOOKUP(AM14,Tabelas!B:D,3,0),0),\"\")","v":0},{"$f":"IF(A14<>\"\",IFERROR(VLOOKUP(AN14,Tabelas!B:D,3,0),0),\"\")","v":0},{"$f":"IF(A14<>\"\",IFERROR(VLOOKUP(AO14,Tabelas!B:D,3,0),0),\"\")","v":0},{"$f":"IF(A14<>\"\",IFERROR(VLOOKUP(AP14,Tabelas!B:D,3,0),0),\"\")","v":0},{"$f":"IF(A14<>\"\",IFERROR(VLOOKUP(AQ14,Tabelas!B:D,3,0),0),\"\")","v":0},0,0,0,0,0,0,0,0]
["FULANO 7",7,null,null,null,null,null,null,null,null,null,null,null,null,null,null,null,null,null,null,null,null,null,null,null,null,null,null,null,null,null,null,null,null,null,null,null,null,null,null,null,null,null,{"$f":"IF(A15<>\"\",IFERROR(VLOOKUP(M15,Tabelas!B:D,3,0),0),\"\")","v":0},{"$f":"IF(A15<>\"\",IFERROR(VLOOKUP(N15,Tabelas!B:D,3,0),0),\"\")","v":0},{"$f":"IF(A15<>\"\",IFERROR(VLOOKUP(O15,Tabelas!B:D,3,0),0),\"\")","v":0},{"$f":"IF(A15<>\"\",IFERROR(VLOOKUP(P15,Tabelas!B:D,3,0),0),\"\")","v":0},{"$f":"IF(A15<>\"\",IFERROR(VLOOKUP(Q15,Tabelas!B:D,3,0),0),\"\")","v":0},{"$f":"IF(A15<>\"\",IFERROR(VLOOKUP(R15,Tabelas!B:D,3,0),0),\"\")","v":0},{"$f":"IF(A15<>\"\",IFERROR(VLOOKUP(S15,Tabelas!B:D,3,0),0),\"\")","v":0},{"$f":"IF(A15<>\"\",IFERROR(VLOOKUP(T15,Tabelas!B:D,3,0),0),\"\")","v":0},{"$f":"IF(A15<>\"\",IFERROR(VLOOKUP(U15,Tabelas!B:D,3,0),0),\"\")","v":0},{"$f":"IF(A15<>\"\",IFERROR(VLOOKUP(V15,Tabelas!B:D,3,0),0),\"\")","v":0},{"$f":"IF(A15<>\"\",IFERROR(VLOOKUP(W15,Tabelas!B:D,3,0),0),\"\")","v":0},{"$f":"IF(A15<>\"\",IFERROR(VLOOKUP(X15,Tabelas!B:D,3,0),0),\"\")","v":0},{"$f":"IF(A15<>\"\",IFERROR(VLOOKUP(Y15,Tabelas!B:D,3,0),0),\"\")","v":0},{"$f":"IF(A15<>\"\",IFERROR(VLOOKUP(Z15,Tabelas!B:D,3,0),0),\"\")","v":0},{"$f":"IF(A15<>\"\",IFERROR(VLOOKUP(AA15,Tabelas!B:D,3,0),0),\"\")","v":0},{"$f":"IF(A15<>\"\",IFERROR(VLOOKUP(AB15,Tabelas!B:D,3,0),0),\"\")","v":0},{"$f":"IF(A15<>\"\",IFERROR(VLOOKUP(AC15,Tabelas!B:D,3,0),0),\"\")","v":0},{"$f":"IF(A15<>\"\",IFERROR(VLOOKUP(AD15,Tabelas!B:D,3,0),0),\"\")","v":0},{"$f":"IF(A15<>\"\",IFERROR(VLOOKUP(AE15,Tabelas!B:D,3,0),0),\"\")","v":0},{"$f":"IF(A15<>\"\",IFERROR(VLOOKUP(AF15,Tabelas!B:D,3,0),0),\"\")","v":0},{"$f":"IF(A15<>\"\",IFERROR(VLOOKUP(AG15,Tabelas!B:D,3,0),0),\"\")","v":0},{"$f":"IF(A15<>\"\",IFERROR(VLOOKUP(AH15,Tabelas!B:D,3,0),0),\"\")","v":0},{"$f":"IF(A15<>\"\",IFERROR(VLOOKUP(AI15,Tabelas!B:D,3,0),0),\"\")","v":0},{"$f":"IF(A15<>\"\",IFERROR(VLOOKUP(AJ15,Tabelas!B:D,3,0),0),\"\")","v":0},{"$f":"IF(A15<>\"\",IFERROR(VLOOKUP(AK15,Tabelas!B:D,3,0),0),\"\")","v":0},{"$f":"IF(A15<>\"\",IFERROR(VLOOKUP(AL15,Tabelas!B:D,3,0),0),\"\")","v":0},{"$f":"IF(A15<>\"\",IFERROR(VLOOKUP(AM15,Tabelas!B:D,3,0),0),\"\")","v":0},{"$f":"IF(A15<>\"\",IFERROR(VLOOKUP(AN15,Tabelas!B:D,3,0),0),\"\")","v":0},{"$f":"IF(A15<>\"\",IFERROR(VLOOKUP(AO15,Tabelas!B:D,3,0),0),\"\")","v":0},{"$f":"IF(A15<>\"\",IFERROR(VLOOKUP(AP15,Tabelas!B:D,3,0),0),\"\")","v":0},{"$f":"IF(A15<>\"\",IFERROR(VLOOKUP(AQ15,Tabelas!B:D,3,0),0),\"\")","v":0},0,0,0,0,0,0,0,0]
["FULANO 8",8,null,null,null,null,null,null,null,null,null,null,null,null,null,null,null,null,null,null,null,null,null,null,null,null,null,null,null,null,null,null,null,null,null,null,null,null,null,null,null,null,null,{"$f":"IF(A16<>\"\",IFERROR(VLOOKUP(M16,Tabelas!B:D,3,0),0),\"\")","v":0},{"$f":"IF(A16<>\"\",IFERROR(VLOOKUP(N16,Tabelas!B:D,3,0),0),\"\")","v":0},{"$f":"IF(A16<>\"\",IFERROR(VLOOKUP(O16,Tabelas!B:D,3,0),0),\"\")","v":0},{"$f":"IF(A16<>\"\",IFERROR(VLOOKUP(P16,Tabelas!B:D,3,0),0),\"\")","v":0},{"$f":"IF(A16<>\"\",IFERROR(VLOOKUP(Q16,Tabelas!B:D,3,0),0),\"\")","v":0},{"$f":"IF(A16<>\"\",IFERROR(VLOOKUP(R16,Tabelas!B:D,3,0),0),\"\")","v":0},{"$f":"IF(A16<>\"\",IFERROR(VLOOKUP(S16,Tabelas!B:D,3,0),0),\"\")","v":0},{"$f":"IF(A16<>\"\",IFERROR(VLOOKUP(T16,Tabelas!B:D,3,0),0),\"\")","v":0},{"$f":"IF(A16<>\"\",IFERROR(VLOOKUP(U16,Tabelas!B:D,3,0),0),\"\")","v":0},{"$f":"IF(A16<>\"\",IFERROR(VLOOKUP(V16,Tabelas!B:D,3,0),0),\"\")","v":0},{"$f":"IF(A16<>\"\",IFERROR(VLOOKUP(W16,Tabelas!B:D,3,0),0),\"\")","v":0},{"$f":"IF(A16<>\"\",IFERROR(VLOOKUP(X16,Tabelas!B:D,3,0),0),\"\")","v":0},{"$f":"IF(A16<>\"\",IFERROR(VLOOKUP(Y16,Tabelas!B:D,3,0),0),\"\")","v":0},{"$f":"IF(A16<>\"\",IFERROR(VLOOKUP(Z16,Tabelas!B:D,3,0),0),\"\")","v":0},{"$f":"IF(A16<>\"\",IFERROR(VLOOKUP(AA16,Tabelas!B:D,3,0),0),\"\")","v":0},{"$f":"IF(A16<>\"\",IFERROR(VLOOKUP(AB16,Tabelas!B:D,3,0),0),\"\")","v":0},{"$f":"IF(A16<>\"\",IFERROR(VLOOKUP(AC16,Tabelas!B:D,3,0),0),\"\")","v":0},{"$f":"IF(A16<>\"\",IFERROR(VLOOKUP(AD16,Tabelas!B:D,3,0),0),\"\")","v":0},{"$f":"IF(A16<>\"\",IFERROR(VLOOKUP(AE16,Tabelas!B:D,3,0),0),\"\")","v":0},{"$f":"IF(A16<>\"\",IFERROR(VLOOKUP(AF16,Tabelas!B:D,3,0),0),\"\")","v":0},{"$f":"IF(A16<>\"\",IFERROR(VLOOKUP(AG16,Tabelas!B:D,3,0),0),\"\")","v":0},{"$f":"IF(A16<>\"\",IFERROR(VLOOKUP(AH16,Tabelas!B:D,3,0),0),\"\")","v":0},{"$f":"IF(A16<>\"\",IFERROR(VLOOKUP(AI16,Tabelas!B:D,3,0),0),\"\")","v":0},{"$f":"IF(A16<>\"\",IFERROR(VLOOKUP(AJ16,Tabelas!B:D,3,0),0),\"\")","v":0},{"$f":"IF(A16<>\"\",IFERROR(VLOOKUP(AK16,Tabelas!B:D,3,0),0),\"\")","v":0},{"$f":"IF(A16<>\"\",IFERROR(VLOOKUP(AL16,Tabelas!B:D,3,0),0),\"\")","v":0},{"$f":"IF(A16<>\"\",IFERROR(VLOOKUP(AM16,Tabelas!B:D,3,0),0),\"\")","v":0},{"$f":"IF(A16<>\"\",IFERROR(VLOOKUP(AN16,Tabelas!B:D,3,0),0),\"\")","v":0},{"$f":"IF(A16<>\"\",IFERROR(VLOOKUP(AO16,Tabelas!B:D,3,0),0),\"\")","v":0},{"$f":"IF(A16<>\"\",IFERROR(VLOOKUP(AP16,Tabelas!B:D,3,0),0),\"\")","v":0},{"$f":"IF(A16<>\"\",IFERROR(VLOOKUP(AQ16,Tabelas!B:D,3,0),0),\"\")","v":0},0,0,0,0,0,0,0,0]
["FULANO 9",9,null,null,null,null,null,null,null,null,null,null,null,null,null,null,null,null,null,null,null,null,null,null,null,null,null,null,null,null,null,null,null,null,null,null,null,null,null,null,null,null,null,{"$f":"IF(A17<>\"\",IFERROR(VLOOKUP(M17,Tabelas!B:D,3,0),0),\"\")","v":0},{"$f":"IF(A17<>\"\",IFERROR(VLOOKUP(N17,Tabelas!B:D,3,0),0),\"\")","v":0},{"$f":"IF(A17<>\"\",IFERROR(VLOOKUP(O17,Tabelas!B:D,3,0),0),\"\")","v":0},{"$f":"IF(A17<>\"\",IFERROR(VLOOKUP(P17,Tabelas!B:D,3,0),0),\"\")","v":0},{"$f":"IF(A17<>\"\",IFERROR(VLOOKUP(Q17,Tabelas!B:D,3,0),0),\"\")","v":0},{"$f":"IF(A17<>\"\",IFERROR(VLOOKUP(R17,Tabelas!B:D,3,0),0),\"\")","v":0},{"$f":"IF(A17<>\"\",IFERROR(VLOOKUP(S17,Tabelas!B:D,3,0),0),\"\")","v":0},{"$f":"IF(A17<>\"\",IFERROR(VLOOKUP(T17,Tabelas!B:D,3,0),0),\"\")","v":0},{"$f":"IF(A17<>\"\",IFERROR(VLOOKUP(U17,Tabelas!B:D,3,0),0),\"\")","v":0},{"$f":"IF(A17<>\"\",IFERROR(VLOOKUP(V17,Tabelas!B:D,3,0),0),\"\")","v":0},{"$f":"IF(A17<>\"\",IFERROR(VLOOKUP(W17,Tabelas!B:D,3,0),0),\"\")","v":0},{"$f":"IF(A17<>\"\",IFERROR(VLOOKUP(X17,Tabelas!B:D,3,0),0),\"\")","v":0},{"$f":"IF(A17<>\"\",IFERROR(VLOOKUP(Y17,Tabelas!B:D,3,0),0),\"\")","v":0},{"$f":"IF(A17<>\"\",IFERROR(VLOOKUP(Z17,Tabelas!B:D,3,0),0),\"\")","v":0},{"$f":"IF(A17<>\"\",IFERROR(VLOOKUP(AA17,Tabelas!B:D,3,0),0),\"\")","v":0},{"$f":"IF(A17<>\"\",IFERROR(VLOOKUP(AB17,Tabelas!B:D,3,0),0),\"\")","v":0},{"$f":"IF(A17<>\"\",IFERROR(VLOOKUP(AC17,Tabelas!B:D,3,0),0),\"\")","v":0},{"$f":"IF(A17<>\"\",IFERROR(VLOOKUP(AD17,Tabelas!B:D,3,0),0),\"\")","v":0},{"$f":"IF(A17<>\"\",IFERROR(VLOOKUP(AE17,Tabelas!B:D,3,0),0),\"\")","v":0},{"$f":"IF(A17<>\"\",IFERROR(VLOOKUP(AF17,Tabelas!B:D,3,0),0),\"\")","v":0},{"$f":"IF(A17<>\"\",IFERROR(VLOOKUP(AG17,Tabelas!B:D,3,0),0),\"\")","v":0},{"$f":"IF(A17<>\"\",IFERROR(VLOOKUP(AH17,Tabelas!B:D,3,0),0),\"\")","v":0},{"$f":"IF(A17<>\"\",IFERROR(VLOOKUP(AI17,Tabelas!B:D,3,0),0),\"\")","v":0},{"$f":"IF(A17<>\"\",IFERROR(VLOOKUP(AJ17,Tabelas!B:D,3,0),0),\"\")","v":0},{"$f":"IF(A17<>\"\",IFERROR(VLOOKUP(AK17,Tabelas!B:D,3,0),0),\"\")","v":0},{"$f":"IF(A17<>\"\",IFERROR(VLOOKUP(AL17,Tabelas!B:D,3,0),0),\"\")","v":0},{"$f":"IF(A17<>\"\",IFERROR(VLOOKUP(AM17,Tabelas!B:D,3,0),0),\"\")","v":0},{"$f":"IF(A17<>\"\",IFERROR(VLOOKUP(AN17,Tabelas!B:D,3,0),0),\"\")","v":0},{"$f":"IF(A17<>\"\",IFERROR(VLOOKUP(AO17,Tabelas!B:D,3,0),0),\"\")","v":0},{"$f":"IF(A17<>\"\",IFERROR(VLOOKUP(AP17,Tabelas!B:D,3,0),0),\"\")","v":0},{"$f":"IF(A17<>\"\",IFERROR(VLOOKUP(AQ17,Tabelas!B:D,3,0),0),\"\")","v":0},0,0,0,0,0,0,0,0]
["FULANO 10",10,null,null,null,null,null,null,null,null,null,null,null,null,null,null,null,null,null,null,null,null,null,null,null,null,null,null,null,null,null,null,null,null,null,null,null,null,null,null,null,null,null,{"$f":"IF(A18<>\"\",IFERROR(VLOOKUP(M18,Tabelas!B:D,3,0),0),\"\")","v":0},{"$f":"IF(A18<>\"\",IFERROR(VLOOKUP(N18,Tabelas!B:D,3,0),0),\"\")","v":0},{"$f":"IF(A18<>\"\",IFERROR(VLOOKUP(O18,Tabelas!B:D,3,0),0),\"\")","v":0},{"$f":"IF(A18<>\"\",IFERROR(VLOOKUP(P18,Tabelas!B:D,3,0),0),\"\")","v":0},{"$f":"IF(A18<>\"\",IFERROR(VLOOKUP(Q18,Tabelas!B:D,3,0),0),\"\")","v":0},{"$f":"IF(A18<>\"\",IFERROR(VLOOKUP(R18,Tabelas!B:D,3,0),0),\"\")","v":0},{"$f":"IF(A18<>\"\",IFERROR(VLOOKUP(S18,Tabelas!B:D,3,0),0),\"\")","v":0},{"$f":"IF(A18<>\"\",IFERROR(VLOOKUP(T18,Tabelas!B:D,3,0),0),\"\")","v":0},{"$f":"IF(A18<>\"\",IFERROR(VLOOKUP(U18,Tabelas!B:D,3,0),0),\"\")","v":0},{"$f":"IF(A18<>\"\",IFERROR(VLOOKUP(V18,Tabelas!B:D,3,0),0),\"\")","v":0},{"$f":"IF(A18<>\"\",IFERROR(VLOOKUP(W18,Tabelas!B:D,3,0),0),\"\")","v":0},{"$f":"IF(A18<>\"\",IFERROR(VLOOKUP(X18,Tabelas!B:D,3,0),0),\"\")","v":0},{"$f":"IF(A18<>\"\",IFERROR(VLOOKUP(Y18,Tabelas!B:D,3,0),0),\"\")","v":0},{"$f":"IF(A18<>\"\",IFERROR(VLOOKUP(Z18,Tabelas!B:D,3,0),0),\"\")","v":0},{"$f":"IF(A18<>\"\",IFERROR(VLOOKUP(AA18,Tabelas!B:D,3,0),0),\"\")","v":0},{"$f":"IF(A18<>\"\",IFERROR(VLOOKUP(AB18,Tabelas!B:D,3,0),0),\"\")","v":0},{"$f":"IF(A18<>\"\",IFERROR(VLOOKUP(AC18,Tabelas!B:D,3,0),0),\"\")","v":0},{"$f":"IF(A18<>\"\",IFERROR(VLOOKUP(AD18,Tabelas!B:D,3,0),0),\"\")","v":0},{"$f":"IF(A18<>\"\",IFERROR(VLOOKUP(AE18,Tabelas!B:D,3,0),0),\"\")","v":0},{"$f":"IF(A18<>\"\",IFERROR(VLOOKUP(AF18,Tabelas!B:D,3,0),0),\"\")","v":0},{"$f":"IF(A18<>\"\",IFERROR(VLOOKUP(AG18,Tabelas!B:D,3,0),0),\"\")","v":0},{"$f":"IF(A18<>\"\",IFERROR(VLOOKUP(AH18,Tabelas!B:D,3,0),0),\"\")","v":0},{"$f":"IF(A18<>\"\",IFERROR(VLOOKUP(AI18,Tabelas!B:D,3,0),0),\"\")","v":0},{"$f":"IF(A18<>\"\",IFERROR(VLOOKUP(AJ18,Tabelas!B:D,3,0),0),\"\")","v":0},{"$f":"IF(A18<>\"\",IFERROR(VLOOKUP(AK18,Tabelas!B:D,3,0),0),\"\")","v":0},{"$f":"IF(A18<>\"\",IFERROR(VLOOKUP(AL18,Tabelas!B:D,3,0),0),\"\")","v":0},{"$f":"IF(A18<>\"\",IFERROR(VLOOKUP(AM18,Tabelas!B:D,3,0),0),\"\")","v":0},{"$f":"IF(A18<>\"\",IFERROR(VLOOKUP(AN18,Tabelas!B:D,3,0),0),\"\")","v":0},{"$f":"IF(A18<>\"\",IFERROR(VLOOKUP(AO18,Tabelas!B:D,3,0),0),\"\")","v":0},{"$f":"IF(A18<>\"\",IFERROR(VLOOKUP(AP18,Tabelas!B:D,3,0),0),\"\")","v":0},{"$f":"IF(A18<>\"\",IFERROR(VLOOKUP(AQ18,Tabelas!B:D,3,0),0),\"\")","v":0},0,0,0,0,0,0,0,0]
["FULANO 11",11,null,null,null,null,null,null,null,null,null,null,null,null,null,null,null,null,null,null,null,null,null,null,null,null,null,null,null,null,null,null,null,null,null,null,null,null,null,null,null,null,null,{"$f":"IF(A19<>\"\",IFERROR(VLOOKUP(M19,Tabelas!B:D,3,0),0),\"\")","v":0},{"$f":"IF(A19<>\"\",IFERROR(VLOOKUP(N19,Tabelas!B:D,3,0),0),\"\")","v":0},{"$f":"IF(A19<>\"\",IFERROR(VLOOKUP(O19,Tabelas!B:D,3,0),0),\"\")","v":0},{"$f":"IF(A19<>\"\",IFERROR(VLOOKUP(P19,Tabelas!B:D,3,0),0),\"\")","v":0},{"$f":"IF(A19<>\"\",IFERROR(VLOOKUP(Q19,Tabelas!B:D,3,0),0),\"\")","v":0},{"$f":"IF(A19<>\"\",IFERROR(VLOOKUP(R19,Tabelas!B:D,3,0),0),\"\")","v":0},{"$f":"IF(A19<>\"\",IFERROR(VLOOKUP(S19,Tabelas!B:D,3,0),0),\"\")","v":0},{"$f":"IF(A19<>\"\",IFERROR(VLOOKUP(T19,Tabelas!B:D,3,0),0),\"\")","v":0},{"$f":"IF(A19<>\"\",IFERROR(VLOOKUP(U19,Tabelas!B:D,3,0),0),\"\")","v":0},{"$f":"IF(A19<>\"\",IFERROR(VLOOKUP(V19,Tabelas!B:D,3,0),0),\"\")","v":0},{"$f":"IF(A19<>\"\",IFERROR(VLOOKUP(W19,Tabelas!B:D,3,0),0),\"\")","v":0},{"$f":"IF(A19<>\"\",IFERROR(VLOOKUP(X19,Tabelas!B:D,3,0),0),\"\")","v":0},{"$f":"IF(A19<>\"\",IFERROR(VLOOKUP(Y19,Tabelas!B:D,3,0),0),\"\")","v":0},{"$f":"IF(A19<>\"\",IFERROR(VLOOKUP(Z19,Tabelas!B:D,3,0),0),\"\")","v":0},{"$f":"IF(A19<>\"\",IFERROR(VLOOKUP(AA19,Tabelas!B:D,3,0),0),\"\")","v":0},{"$f":"IF(A19<>\"\",IFERROR(VLOOKUP(AB19,Tabelas!B:D,3,0),0),\"\")","v":0},{"$f":"IF(A19<>\"\",IFERROR(VLOOKUP(AC19,Tabelas!B:D,3,0),0),\"\")","v":0},{"$f":"IF(A19<>\"\",IFERROR(VLOOKUP(AD19,Tabelas!B:D,3,0),0),\"\")","v":0},{"$f":"IF(A19<>\"\",IFERROR(VLOOKUP(AE19,Tabelas!B:D,3,0),0),\"\")","v":0},{"$f":"IF(A19<>\"\",IFERROR(VLOOKUP(AF19,Tabelas!B:D,3,0),0),\"\")","v":0},{"$f":"IF(A19<>\"\",IFERROR(VLOOKUP(AG19,Tabelas!B:D,3,0),0),\"\")","v":0},{"$f":"IF(A19<>\"\",IFERROR(VLOOKUP(AH19,Tabelas!B:D,3,0),0),\"\")","v":0},{"$f":"IF(A19<>\"\",IFERROR(VLOOKUP(AI19,Tabelas!B:D,3,0),0),\"\")","v":0},{"$f":"IF(A19<>\"\",IFERROR(VLOOKUP(AJ19,Tabelas!B:D,3,0),0),\"\")","v":0},{"$f":"IF(A19<>\"\",IFERROR(VLOOKUP(AK19,Tabelas!B:D,3,0),0),\"\")","v":0},{"$f":"IF(A19<>\"\",IFERROR(VLOOKUP(AL19,Tabelas!B:D,3,0),0),\"\")","v":0},{"$f":"IF(A19<>\"\",IFERROR(VLOOKUP(AM19,Tabelas!B:D,3,0),0),\"\")","v":0},{"$f":"IF(A19<>\"\",IFERROR(VLOOKUP(AN19,Tabelas!B:D,3,0),0),\"\")","v":0},{"$f":"IF(A19<>\"\",IFERROR(VLOOKUP(AO19,Tabelas!B:D,3,0),0),\"\")","v":0},{"$f":"IF(A19<>\"\",IFERROR(VLOOKUP(AP19,Tabelas!B:D,3,0),0),\"\")","v":0},{"$f":"IF(A19<>\"\",IFERROR(VLOOKUP(AQ19,Tabelas!B:D,3,0),0),\"\")","v":0},0,0,0,0,0,0,0,0]
["FULANO 12",12,null,null,null,null,null,null,null,null,null,null,null,null,null,null,null,null,null,null,null,null,null,null,null,null,null,null,null,null,null,null,null,null,null,null,null,null,null,null,null,null,null,{"$f":"IF(A20<>\"\",IFERROR(VLOOKUP(M20,Tabelas!B:D,3,0),0),\"\")","v":0},{"$f":"IF(A20<>\"\",IFERROR(VLOOKUP(N20,Tabelas!B:D,3,0),0),\"\")","v":0},{"$f":"IF(A20<>\"\",IFERROR(VLOOKUP(O20,Tabelas!B:D,3,0),0),\"\")","v":0},{"$f":"IF(A20<>\"\",IFERROR(VLOOKUP(P20,Tabelas!B:D,3,0),0),\"\")","v":0},{"$f":"IF(A20<>\"\",IFERROR(VLOOKUP(Q20,Tabelas!B:D,3,0),0),\"\")","v":0},{"$f":"IF(A20<>\"\",IFERROR(VLOOKUP(R20,Tabelas!B:D,3,0),0),\"\")","v":0},{"$f":"IF(A20<>\"\",IFERROR(VLOOKUP(S20,Tabelas!B:D,3,0),0),\"\")","v":0},{"$f":"IF(A20<>\"\",IFERROR(VLOOKUP(T20,Tabelas!B:D,3,0),0),\"\")","v":0},{"$f":"IF(A20<>\"\",IFERROR(VLOOKUP(U20,Tabelas!B:D,3,0),0),\"\")","v":0},{"$f":"IF(A20<>\"\",IFERROR(VLOOKUP(V20,Tabelas!B:D,3,0),0),\"\")","v":0},{"$f":"IF(A20<>\"\",IFERROR(VLOOKUP(W20,Tabelas!B:D,3,0),0),\"\")","v":0},{"$f":"IF(A20<>\"\",IFERROR(VLOOKUP(X20,Tabelas!B:D,3,0),0),\"\")","v":0},{"$f":"IF(A20<>\"\",IFERROR(VLOOKUP(Y20,Tabelas!B:D,3,0),0),\"\")","v":0},{"$f":"IF(A20<>\"\",IFERROR(VLOOKUP(Z20,Tabelas!B:D,3,0),0),\"\")","v":0},{"$f":"IF(A20<>\"\",IFERROR(VLOOKUP(AA20,Tabelas!B:D,3,0),0),\"\")","v":0},{"$f":"IF(A20<>\"\",IFERROR(VLOOKUP(AB20,Tabelas!B:D,3,0),0),\"\")","v":0},{"$f":"IF(A20<>\"\",IFERROR(VLOOKUP(AC20,Tabelas!B:D,3,0),0),\"\")","v":0},{"$f":"IF(A20<>\"\",IFERROR(VLOOKUP(AD20,Tabelas!B:D,3,0),0),\"\")","v":0},{"$f":"IF(A20<>\"\",IFERROR(VLOOKUP(AE20,Tabelas!B:D,3,0),0),\"\")","v":0},{"$f":"IF(A20<>\"\",IFERROR(VLOOKUP(AF20,Tabelas!B:D,3,0),0),\"\")","v":0},{"$f":"IF(A20<>\"\",IFERROR(VLOOKUP(AG20,Tabelas!B:D,3,0),0),\"\")","v":0},{"$f":"IF(A20<>\"\",IFERROR(VLOOKUP(AH20,Tabelas!B:D,3,0),0),\"\")","v":0},{"$f":"IF(A20<>\"\",IFERROR(VLOOKUP(AI20,Tabelas!B:D,3,0),0),\"\")","v":0},{"$f":"IF(A20<>\"\",IFERROR(VLOOKUP(AJ20,Tabelas!B:D,3,0),0),\"\")","v":0},{"$f":"IF(A20<>\"\",IFERROR(VLOOKUP(AK20,Tabelas!B:D,3,0),0),\"\")","v":0},{"$f":"IF(A20<>\"\",IFERROR(VLOOKUP(AL20,Tabelas!B:D,3,0),0),\"\")","v":0},{"$f":"IF(A20<>\"\",IFERROR(VLOOKUP(AM20,Tabelas!B:D,3,0),0),\"\")","v":0},{"$f":"IF(A20<>\"\",IFERROR(VLOOKUP(AN20,Tabelas!B:D,3,0),0),\"\")","v":0},{"$f":"IF(A20<>\"\",IFERROR(VLOOKUP(AO20,Tabelas!B:D,3,0),0),\"\")","v":0},{"$f":"IF(A20<>\"\",IFERROR(VLOOKUP(AP20,Tabelas!B:D,3,0),0),\"\")","v":0},{"$f":"IF(A20<>\"\",IFERROR(VLOOKUP(AQ20,Tabelas!B:D,3,0),0),\"\")","v":0},0,0,0,0,0,0,0,0]
["FULANO 13",13,null,null,null,null,null,null,null,null,null,null,null,null,null,null,null,null,null,null,null,null,null,null,null,null,null,null,null,null,null,null,null,null,null,null,null,null,null,null,null,null,null,{"$f":"IF(A21<>\"\",IFERROR(VLOOKUP(M21,Tabelas!B:D,3,0),0),\"\")","v":0},{"$f":"IF(A21<>\"\",IFERROR(VLOOKUP(N21,Tabelas!B:D,3,0),0),\"\")","v":0},{"$f":"IF(A21<>\"\",IFERROR(VLOOKUP(O21,Tabelas!B:D,3,0),0),\"\")","v":0},{"$f":"IF(A21<>\"\",IFERROR(VLOOKUP(P21,Tabelas!B:D,3,0),0),\"\")","v":0},{"$f":"IF(A21<>\"\",IFERROR(VLOOKUP(Q21,Tabelas!B:D,3,0),0),\"\")","v":0},{"$f":"IF(A21<>\"\",IFERROR(VLOOKUP(R21,Tabelas!B:D,3,0),0),\"\")","v":0},{"$f":"IF(A21<>\"\",IFERROR(VLOOKUP(S21,Tabelas!B:D,3,0),0),\"\")","v":0},{"$f":"IF(A21<>\"\",IFERROR(VLOOKUP(T21,Tabelas!B:D,3,0),0),\"\")","v":0},{"$f":"IF(A21<>\"\",IFERROR(VLOOKUP(U21,Tabelas!B:D,3,0),0),\"\")","v":0},{"$f":"IF(A21<>\"\",IFERROR(VLOOKUP(V21,Tabelas!B:D,3,0),0),\"\")","v":0},{"$f":"IF(A21<>\"\",IFERROR(VLOOKUP(W21,Tabelas!B:D,3,0),0),\"\")","v":0},{"$f":"IF(A21<>\"\",IFERROR(VLOOKUP(X21,Tabelas!B:D,3,0),0),\"\")","v":0},{"$f":"IF(A21<>\"\",IFERROR(VLOOKUP(Y21,Tabelas!B:D,3,0),0),\"\")","v":0},{"$f":"IF(A21<>\"\",IFERROR(VLOOKUP(Z21,Tabelas!B:D,3,0),0),\"\")","v":0},{"$f":"IF(A21<>\"\",IFERROR(VLOOKUP(AA21,Tabelas!B:D,3,0),0),\"\")","v":0},{"$f":"IF(A21<>\"\",IFERROR(VLOOKUP(AB21,Tabelas!B:D,3,0),0),\"\")","v":0},{"$f":"IF(A21<>\"\",IFERROR(VLOOKUP(AC21,Tabelas!B:D,3,0),0),\"\")","v":0},{"$f":"IF(A21<>\"\",IFERROR(VLOOKUP(AD21,Tabelas!B:D,3,0),0),\"\")","v":0},{"$f":"IF(A21<>\"\",IFERROR(VLOOKUP(AE21,Tabelas!B:D,3,0),0),\"\")","v":0},{"$f":"IF(A21<>\"\",IFERROR(VLOOKUP(AF21,Tabelas!B:D,3,0),0),\"\")","v":0},{"$f":"IF(A21<>\"\",IFERROR(VLOOKUP(AG21,Tabelas!B:D,3,0),0),\"\")","v":0},{"$f":"IF(A21<>\"\",IFERROR(VLOOKUP(AH21,Tabelas!B:D,3,0),0),\"\")","v":0},{"$f":"IF(A21<>\"\",IFERROR(VLOOKUP(AI21,Tabelas!B:D,3,0),0),\"\")","v":0},{"$f":"IF(A21<>\"\",IFERROR(VLOOKUP(AJ21,Tabelas!B:D,3,0),0),\"\")","v":0},{"$f":"IF(A21<>\"\",IFERROR(VLOOKUP(AK21,Tabelas!B:D,3,0),0),\"\")","v":0},{"$f":"IF(A21<>\"\",IFERROR(VLOOKUP(AL21,Tabelas!B:D,3,0),0),\"\")","v":0},{"$f":"IF(A21<>\"\",IFERROR(VLOOKUP(AM21,Tabelas!B:D,3,0),0),\"\")","v":0},{"$f":"IF(A21<>\"\",IFERROR(VLOOKUP(AN21,Tabelas!B:D,3,0),0),\"\")","v":0},{"$f":"IF(A21<>\"\",IFERROR(VLOOKUP(AO21,Tabelas!B:D,3,0),0),\"\")","v":0},{"$f":"IF(A21<>\"\",IFERROR(VLOOKUP(AP21,Tabelas!B:D,3,0),0),\"\")","v":0},{"$f":"IF(A21<>\"\",IFERROR(VLOOKUP(AQ21,Tabelas!B:D,3,0),0),\"\")","v":0},0,0,0,0,0,0,0,0]
["FULANO 14",14,null,null,null,null,null,null,null,null,null,null,null,null,null,null,null,null,null,null,null,null,null,null,null,null,null,null,null,null,null,null,null,null,null,null,null,null,null,null,null,null,null,{"$f":"IF(A22<>\"\",IFERROR(VLOOKUP(M22,Tabelas!B:D,3,0),0),\"\")","v":0},{"$f":"IF(A22<>\"\",IFERROR(VLOOKUP(N22,Tabelas!B:D,3,0),0),\"\")","v":0},{"$f":"IF(A22<>\"\",IFERROR(VLOOKUP(O22,Tabelas!B:D,3,0),0),\"\")","v":0},{"$f":"IF(A22<>\"\",IFERROR(VLOOKUP(P22,Tabelas!B:D,3,0),0),\"\")","v":0},{"$f":"IF(A22<>\"\",IFERROR(VLOOKUP(Q22,Tabelas!B:D,3,0),0),\"\")","v":0},{"$f":"IF(A22<>\"\",IFERROR(VLOOKUP(R22,Tabelas!B:D,3,0),0),\"\")","v":0},{"$f":"IF(A22<>\"\",IFERROR(VLOOKUP(S22,Tabelas!B:D,3,0),0),\"\")","v":0},{"$f":"IF(A22<>\"\",IFERROR(VLOOKUP(T22,Tabelas!B:D,3,0),0),\"\")","v":0},{"$f":"IF(A22<>\"\",IFERROR(VLOOKUP(U22,Tabelas!B:D,3,0),0),\"\")","v":0},{"$f":"IF(A22<>\"\",IFERROR(VLOOKUP(V22,Tabelas!B:D,3,0),0),\"\")","v":0},{"$f":"IF(A22<>\"\",IFERROR(VLOOKUP(W22,Tabelas!B:D,3,0),0),\"\")","v":0},{"$f":"IF(A22<>\"\",IFERROR(VLOOKUP(X22,Tabelas!B:D,3,0),0),\"\")","v":0},{"$f":"IF(A22<>\"\",IFERROR(VLOOKUP(Y22,Tabelas!B:D,3,0),0),\"\")","v":0},{"$f":"IF(A22<>\"\",IFERROR(VLOOKUP(Z22,Tabelas!B:D,3,0),0),\"\")","v":0},{"$f":"IF(A22<>\"\",IFERROR(VLOOKUP(AA22,Tabelas!B:D,3,0),0),\"\")","v":0},{"$f":"IF(A22<>\"\",IFERROR(VLOOKUP(AB22,Tabelas!B:D,3,0),0),\"\")","v":0},{"$f":"IF(A22<>\"\",IFERROR(VLOOKUP(AC22,Tabelas!B:D,3,0),0),\"\")","v":0},{"$f":"IF(A22<>\"\",IFERROR(VLOOKUP(AD22,Tabelas!B:D,3,0),0),\"\")","v":0},{"$f":"IF(A22<>\"\",IFERROR(VLOOKUP(AE22,Tabelas!B:D,3,0),0),\"\")","v":0},{"$f":"IF(A22<>\"\",IFERROR(VLOOKUP(AF22,Tabelas!B:D,3,0),0),\"\")","v":0},{"$f":"IF(A22<>\"\",IFERROR(VLOOKUP(AG22,Tabelas!B:D,3,0),0),\"\")","v":0},{"$f":"IF(A22<>\"\",IFERROR(VLOOKUP(AH22,Tabelas!B:D,3,0),0),\"\")","v":0},{"$f":"IF(A22<>\"\",IFERROR(VLOOKUP(AI22,Tabelas!B:D,3,0),0),\"\")","v":0},{"$f":"IF(A22<>\"\",IFERROR(VLOOKUP(AJ22,Tabelas!B:D,3,0),0),\"\")","v":0},{"$f":"IF(A22<>\"\",IFERROR(VLOOKUP(AK22,Tabelas!B:D,3,0),0),\"\")","v":0},{"$f":"IF(A22<>\"\",IFERROR(VLOOKUP(AL22,Tabelas!B:D,3,0),0),\"\")","v":0},{"$f":"IF(A22<>\"\",IFERROR(VLOOKUP(AM22,Tabelas!B:D,3,0),0),\"\")","v":0},{"$f":"IF(A22<>\"\",IFERROR(VLOOKUP(AN22,Tabelas!B:D,3,0),0),\"\")","v":0},{"$f":"IF(A22<>\"\",IFERROR(VLOOKUP(AO22,Tabelas!B:D,3,0),0),\"\")","v":0},{"$f":"IF(A22<>\"\",IFERROR(VLOOKUP(AP22,Tabelas!B:D,3,0),0),\"\")","v":0},{"$f":"IF(A22<>\"\",IFERROR(VLOOKUP(AQ22,Tabelas!B:D,3,0),0),\"\")","v":0},0,0,0,0,0,0,0,0]
["FULANO 15",15,null,null,null,null,null,null,null,null,null,null,null,null,null,null,null,null,null,null,null,null,null,null,null,null,null,null,null,null,null,null,null,null,null,null,null,null,null,null,null,null,null,{"$f":"IF(A23<>\"\",IFERROR(VLOOKUP(M23,Tabelas!B:D,3,0),0),\"\")","v":0},{"$f":"IF(A23<>\"\",IFERROR(VLOOKUP(N23,Tabelas!B:D,3,0),0),\"\")","v":0},{"$f":"IF(A23<>\"\",IFERROR(VLOOKUP(O23,Tabelas!B:D,3,0),0),\"\")","v":0},{"$f":"IF(A23<>\"\",IFERROR(VLOOKUP(P23,Tabelas!B:D,3,0),0),\"\")","v":0},{"$f":"IF(A23<>\"\",IFERROR(VLOOKUP(Q23,Tabelas!B:D,3,0),0),\"\")","v":0},{"$f":"IF(A23<>\"\",IFERROR(VLOOKUP(R23,Tabelas!B:D,3,0),0),\"\")","v":0},{"$f":"IF(A23<>\"\",IFERROR(VLOOKUP(S23,Tabelas!B:D,3,0),0),\"\")","v":0},{"$f":"IF(A23<>\"\",IFERROR(VLOOKUP(T23,Tabelas!B:D,3,0),0),\"\")","v":0},{"$f":"IF(A23<>\"\",IFERROR(VLOOKUP(U23,Tabelas!B:D,3,0),0),\"\")","v":0},{"$f":"IF(A23<>\"\",IFERROR(VLOOKUP(V23,Tabelas!B:D,3,0),0),\"\")","v":0},{"$f":"IF(A23<>\"\",IFERROR(VLOOKUP(W23,Tabelas!B:D,3,0),0),\"\")","v":0},{"$f":"IF(A23<>\"\",IFERROR(VLOOKUP(X23,Tabelas!B:D,3,0),0),\"\")","v":0},{"$f":"IF(A23<>\"\",IFERROR(VLOOKUP(Y23,Tabelas!B:D,3,0),0),\"\")","v":0},{"$f":"IF(A23<>\"\",IFERROR(VLOOKUP(Z23,Tabelas!B:D,3,0),0),\"\")","v":0},{"$f":"IF(A23<>\"\",IFERROR(VLOOKUP(AA23,Tabelas!B:D,3,0),0),\"\")","v":0},{"$f":"IF(A23<>\"\",IFERROR(VLOOKUP(AB23,Tabelas!B:D,3,0),0),\"\")","v":0},{"$f":"IF(A23<>\"\",IFERROR(VLOOKUP(AC23,Tabelas!B:D,3,0),0),\"\")","v":0},{"$f":"IF(A23<>\"\",IFERROR(VLOOKUP(AD23,Tabelas!B:D,3,0),0),\"\")","v":0},{"$f":"IF(A23<>\"\",IFERROR(VLOOKUP(AE23,Tabelas!B:D,3,0),0),\"\")","v":0},{"$f":"IF(A23<>\"\",IFERROR(VLOOKUP(AF23,Tabelas!B:D,3,0),0),\"\")","v":0},{"$f":"IF(A23<>\"\",IFERROR(VLOOKUP(AG23,Tabelas!B:D,3,0),0),\"\")","v":0},{"$f":"IF(A23<>\"\",IFERROR(VLOOKUP(AH23,Tabelas!B:D,3,0),0),\"\")","v":0},{"$f":"IF(A23<>\"\",IFERROR(VLOOKUP(AI23,Tabelas!B:D,3,0),0),\"\")","v":0},{"$f":"IF(A23<>\"\",IFERROR(VLOOKUP(AJ23,Tabelas!B:D,3,0),0),\"\")","v":0},{"$f":"IF(A23<>\"\",IFERROR(VLOOKUP(AK23,Tabelas!B:D,3,0),0),\"\")","v":0},{"$f":"IF(A23<>\"\",IFERROR(VLOOKUP(AL23,Tabelas!B:D,3,0),0),\"\")","v":0},{"$f":"IF(A23<>\"\",IFERROR(VLOOKUP(AM23,Tabelas!B:D,3,0),0),\"\")","v":0},{"$f":"IF(A23<>\"\",IFERROR(VLOOKUP(AN23,Tabelas!B:D,3,0),0),\"\")","v":0},{"$f":"IF(A23<>\"\",IFERROR(VLOOKUP(AO23,Tabelas!B:D,3,0),0),\"\")","v":0},{"$f":"IF(A23<>\"\",IFERROR(VLOOKUP(AP23,Tabelas!B:D,3,0),0),\"\")","v":0},{"$f":"IF(A23<>\"\",IFERROR(VLOOKUP(AQ23,Tabelas!B:D,3,0),0),\"\")","v":0},0,0,0,0,0,0,0,0]
["FULANO 16",16,null,null,null,null,null,null,null,null,null,null,null,null,null,null,null,null,null,null,null,null,null,null,null,null,null,null,null,null,null,null,null,null,null,null,null,null,null,null,null,null,null,{"$f":"IF(A24<>\"\",IFERROR(VLOOKUP(M24,Tabelas!B:D,3,0),0),\"\")","v":0},{"$f":"IF(A24<>\"\",IFERROR(VLOOKUP(N24,Tabelas!B:D,3,0),0),\"\")","v":0},{"$f":"IF(A24<>\"\",IFERROR(VLOOKUP(O24,Tabelas!B:D,3,0),0),\"\")","v":0},{"$f":"IF(A24<>\"\",IFERROR(VLOOKUP(P24,Tabelas!B:D,3,0),0),\"\")","v":0},{"$f":"IF(A24<>\"\",IFERROR(VLOOKUP(Q24,Tabelas!B:D,3,0),0),\"\")","v":0},{"$f":"IF(A24<>\"\",IFERROR(VLOOKUP(R24,Tabelas!B:D,3,0),0),\"\")","v":0},{"$f":"IF(A24<>\"\",IFERROR(VLOOKUP(S24,Tabelas!B:D,3,0),0),\"\")","v":0},{"$f":"IF(A24<>\"\",IFERROR(VLOOKUP(T24,Tabelas!B:D,3,0),0),\"\")","v":0},{"$f":"IF(A24<>\"\",IFERROR(VLOOKUP(U24,Tabelas!B:D,3,0),0),\"\")","v":0},{"$f":"IF(A24<>\"\",IFERROR(VLOOKUP(V24,Tabelas!B:D,3,0),0),\"\")","v":0},{"$f":"IF(A24<>\"\",IFERROR(VLOOKUP(W24,Tabelas!B:D,3,0),0),\"\")","v":0},{"$f":"IF(A24<>\"\",IFERROR(VLOOKUP(X24,Tabelas!B:D,3,0),0),\"\")","v":0},{"$f":"IF(A24<>\"\",IFERROR(VLOOKUP(Y24,Tabelas!B:D,3,0),0),\"\")","v":0},{"$f":"IF(A24<>\"\",IFERROR(VLOOKUP(Z24,Tabelas!B:D,3,0),0),\"\")","v":0},{"$f":"IF(A24<>\"\",IFERROR(VLOOKUP(AA24,Tabelas!B:D,3,0),0),\"\")","v":0},{"$f":"IF(A24<>\"\",IFERROR(VLOOKUP(AB24,Tabelas!B:D,3,0),0),\"\")","v":0},{"$f":"IF(A24<>\"\",IFERROR(VLOOKUP(AC24,Tabelas!B:D,3,0),0),\"\")","v":0},{"$f":"IF(A24<>\"\",IFERROR(VLOOKUP(AD24,Tabelas!B:D,3,0),0),\"\")","v":0},{"$f":"IF(A24<>\"\",IFERROR(VLOOKUP(AE24,Tabelas!B:D,3,0),0),\"\")","v":0},{"$f":"IF(A24<>\"\",IFERROR(VLOOKUP(AF24,Tabelas!B:D,3,0),0),\"\")","v":0},{"$f":"IF(A24<>\"\",IFERROR(VLOOKUP(AG24,Tabelas!B:D,3,0),0),\"\")","v":0},{"$f":"IF(A24<>\"\",IFERROR(VLOOKUP(AH24,Tabelas!B:D,3,0),0),\"\")","v":0},{"$f":"IF(A24<>\"\",IFERROR(VLOOKUP(AI24,Tabelas!B:D,3,0),0),\"\")","v":0},{"$f":"IF(A24<>\"\",IFERROR(VLOOKUP(AJ24,Tabelas!B:D,3,0),0),\"\")","v":0},{"$f":"IF(A24<>\"\",IFERROR(VLOOKUP(AK24,Tabelas!B:D,3,0),0),\"\")","v":0},{"$f":"IF(A24<>\"\",IFERROR(VLOOKUP(AL24,Tabelas!B:D,3,0),0),\"\")","v":0},{"$f":"IF(A24<>\"\",IFERROR(VLOOKUP(AM24,Tabelas!B:D,3,0),0),\"\")","v":0},{"$f":"IF(A24<>\"\",IFERROR(VLOOKUP(AN24,Tabelas!B:D,3,0),0),\"\")","v":0},{"$f":"IF(A24<>\"\",IFERROR(VLOOKUP(AO24,Tabelas!B:D,3,0),0),\"\")","v":0},{"$f":"IF(A24<>\"\",IFERROR(VLOOKUP(AP24,Tabelas!B:D,3,0),0),\"\")","v":0},{"$f":"IF(A24<>\"\",IFERROR(VLOOKUP(AQ24,Tabelas!B:D,3,0),0),\"\")","v":0},0,0,0,0,0,0,0,0]
["FULANO 17",17,null,null,null,null,null,null,null,null,null,null,null,null,null,null,null,null,null,null,null,null,null,null,null,null,null,null,null,null,null,null,null,null,null,null,null,null,null,null,null,null,null,{"$f":"IF(A25<>\"\",IFERROR(VLOOKUP(M25,Tabelas!B:D,3,0),0),\"\")","v":0},{"$f":"IF(A25<>\"\",IFERROR(VLOOKUP(N25,Tabelas!B:D,3,0),0),\"\")","v":0},{"$f":"IF(A25<>\"\",IFERROR(VLOOKUP(O25,Tabelas!B:D,3,0),0),\"\")","v":0},{"$f":"IF(A25<>\"\",IFERROR(VLOOKUP(P25,Tabelas!B:D,3,0),0),\"\")","v":0},{"$f":"IF(A25<>\"\",IFERROR(VLOOKUP(Q25,Tabelas!B:D,3,0),0),\"\")","v":0},{"$f":"IF(A25<>\"\",IFERROR(VLOOKUP(R25,Tabelas!B:D,3,0),0),\"\")","v":0},{"$f":"IF(A25<>\"\",IFERROR(VLOOKUP(S25,Tabelas!B:D,3,0),0),\"\")","v":0},{"$f":"IF(A25<>\"\",IFERROR(VLOOKUP(T25,Tabelas!B:D,3,0),0),\"\")","v":0},{"$f":"IF(A25<>\"\",IFERROR(VLOOKUP(U25,Tabelas!B:D,3,0),0),\"\")","v":0},{"$f":"IF(A25<>\"\",IFERROR(VLOOKUP(V25,Tabelas!B:D,3,0),0),\"\")","v":0},{"$f":"IF(A25<>\"\",IFERROR(VLOOKUP(W25,Tabelas!B:D,3,0),0),\"\")","v":0},{"$f":"IF(A25<>\"\",IFERROR(VLOOKUP(X25,Tabelas!B:D,3,0),0),\"\")","v":0},{"$f":"IF(A25<>\"\",IFERROR(VLOOKUP(Y25,Tabelas!B:D,3,0),0),\"\")","v":0},{"$f":"IF(A25<>\"\",IFERROR(VLOOKUP(Z25,Tabelas!B:D,3,0),0),\"\")","v":0},{"$f":"IF(A25<>\"\",IFERROR(VLOOKUP(AA25,Tabelas!B:D,3,0),0),\"\")","v":0},{"$f":"IF(A25<>\"\",IFERROR(VLOOKUP(AB25,Tabelas!B:D,3,0),0),\"\")","v":0},{"$f":"IF(A25<>\"\",IFERROR(VLOOKUP(AC25,Tabelas!B:D,3,0),0),\"\")","v":0},{"$f":"IF(A25<>\"\",IFERROR(VLOOKUP(AD25,Tabelas!B:D,3,0),0),\"\")","v":0},{"$f":"IF(A25<>\"\",IFERROR(VLOOKUP(AE25,Tabelas!B:D,3,0),0),\"\")","v":0},{"$f":"IF(A25<>\"\",IFERROR(VLOOKUP(AF25,Tabelas!B:D,3,0),0),\"\")","v":0},{"$f":"IF(A25<>\"\",IFERROR(VLOOKUP(AG25,Tabelas!B:D,3,0),0),\"\")","v":0},{"$f":"IF(A25<>\"\",IFERROR(VLOOKUP(AH25,Tabelas!B:D,3,0),0),\"\")","v":0},{"$f":"IF(A25<>\"\",IFERROR(VLOOKUP(AI25,Tabelas!B:D,3,0),0),\"\")","v":0},{"$f":"IF(A25<>\"\",IFERROR(VLOOKUP(AJ25,Tabelas!B:D,3,0),0),\"\")","v":0},{"$f":"IF(A25<>\"\",IFERROR(VLOOKUP(AK25,Tabelas!B:D,3,0),0),\"\")","v":0},{"$f":"IF(A25<>\"\",IFERROR(VLOOKUP(AL25,Tabelas!B:D,3,0),0),\"\")","v":0},{"$f":"IF(A25<>\"\",IFERROR(VLOOKUP(AM25,Tabelas!B:D,3,0),0),\"\")","v":0},{"$f":"IF(A25<>\"\",IFERROR(VLOOKUP(AN25,Tabelas!B:D,3,0),0),\"\")","v":0},{"$f":"IF(A25<>\"\",IFERROR(VLOOKUP(AO25,Tabelas!B:D,3,0),0),\"\")","v":0},{"$f":"IF(A25<>\"\",IFERROR(VLOOKUP(AP25,Tabelas!B:D,3,0),0),\"\")","v":0},{"$f":"IF(A25<>\"\",IFERROR(VLOOKUP(AQ25,Tabelas!B:D,3,0),0),\"\")","v":0},0,0,0,0,0,0,0,0]
["FULANO 18",18,null,null,null,null,null,null,null,null,null,null,null,null,null,null,null,null,null,null,null,null,null,null,null,null,null,null,null,null,null,null,null,null,null,null,null,null,null,null,null,null,null,{"$f":"IF(A26<>\"\",IFERROR(VLOOKUP(M26,Tabelas!B:D,3,0),0),\"\")","v":0},{"$f":"IF(A26<>\"\",IFERROR(VLOOKUP(N26,Tabelas!B:D,3,0),0),\"\")","v":0},{"$f":"IF(A26<>\"\",IFERROR(VLOOKUP(O26,Tabelas!B:D,3,0),0),\"\")","v":0},{"$f":"IF(A26<>\"\",IFERROR(VLOOKUP(P26,Tabelas!B:D,3,0),0),\"\")","v":0},{"$f":"IF(A26<>\"\",IFERROR(VLOOKUP(Q26,Tabelas!B:D,3,0),0),\"\")","v":0},{"$f":"IF(A26<>\"\",IFERROR(VLOOKUP(R26,Tabelas!B:D,3,0),0),\"\")","v":0},{"$f":"IF(A26<>\"\",IFERROR(VLOOKUP(S26,Tabelas!B:D,3,0),0),\"\")","v":0},{"$f":"IF(A26<>\"\",IFERROR(VLOOKUP(T26,Tabelas!B:D,3,0),0),\"\")","v":0},{"$f":"IF(A26<>\"\",IFERROR(VLOOKUP(U26,Tabelas!B:D,3,0),0),\"\")","v":0},{"$f":"IF(A26<>\"\",IFERROR(VLOOKUP(V26,Tabelas!B:D,3,0),0),\"\")","v":0},{"$f":"IF(A26<>\"\",IFERROR(VLOOKUP(W26,Tabelas!B:D,3,0),0),\"\")","v":0},{"$f":"IF(A26<>\"\",IFERROR(VLOOKUP(X26,Tabelas!B:D,3,0),0),\"\")","v":0},{"$f":"IF(A26<>\"\",IFERROR(VLOOKUP(Y26,Tabelas!B:D,3,0),0),\"\")","v":0},{"$f":"IF(A26<>\"\",IFERROR(VLOOKUP(Z26,Tabelas!B:D,3,0),0),\"\")","v":0},{"$f":"IF(A26<>\"\",IFERROR(VLOOKUP(AA26,Tabelas!B:D,3,0),0),\"\")","v":0},{"$f":"IF(A26<>\"\",IFERROR(VLOOKUP(AB26,Tabelas!B:D,3,0),0),\"\")","v":0},{"$f":"IF(A26<>\"\",IFERROR(VLOOKUP(AC26,Tabelas!B:D,3,0),0),\"\")","v":0},{"$f":"IF(A26<>\"\",IFERROR(VLOOKUP(AD26,Tabelas!B:D,3,0),0),\"\")","v":0},{"$f":"IF(A26<>\"\",IFERROR(VLOOKUP(AE26,Tabelas!B:D,3,0),0),\"\")","v":0},{"$f":"IF(A26<>\"\",IFERROR(VLOOKUP(AF26,Tabelas!B:D,3,0),0),\"\")","v":0},{"$f":"IF(A26<>\"\",IFERROR(VLOOKUP(AG26,Tabelas!B:D,3,0),0),\"\")","v":0},{"$f":"IF(A26<>\"\",IFERROR(VLOOKUP(AH26,Tabelas!B:D,3,0),0),\"\")","v":0},{"$f":"IF(A26<>\"\",IFERROR(VLOOKUP(AI26,Tabelas!B:D,3,0),0),\"\")","v":0},{"$f":"IF(A26<>\"\",IFERROR(VLOOKUP(AJ26,Tabelas!B:D,3,0),0),\"\")","v":0},{"$f":"IF(A26<>\"\",IFERROR(VLOOKUP(AK26,Tabelas!B:D,3,0),0),\"\")","v":0},{"$f":"IF(A26<>\"\",IFERROR(VLOOKUP(AL26,Tabelas!B:D,3,0),0),\"\")","v":0},{"$f":"IF(A26<>\"\",IFERROR(VLOOKUP(AM26,Tabelas!B:D,3,0),0),\"\")","v":0},{"$f":"IF(A26<>\"\",IFERROR(VLOOKUP(AN26,Tabelas!B:D,3,0),0),\"\")","v":0},{"$f":"IF(A26<>\"\",IFERROR(VLOOKUP(AO26,Tabelas!B:D,3,0),0),\"\")","v":0},{"$f":"IF(A26<>\"\",IFERROR(VLOOKUP(AP26,Tabelas!B:D,3,0),0),\"\")","v":0},{"$f":"IF(A26<>\"\",IFERROR(VLOOKUP(AQ26,Tabelas!B:D,3,0),0),\"\")","v":0},0,0,0,0,0,0,0,0]
["FULANO 19",19,null,null,null,null,null,null,null,null,null,null,null,null,null,null,null,null,null,null,null,null,null,null,null,null,null,null,null,null,null,null,null,null,null,null,null,null,null,null,null,null,null,{"$f":"IF(A27<>\"\",IFERROR(VLOOKUP(M27,Tabelas!B:D,3,0),0),\"\")","v":0},{"$f":"IF(A27<>\"\",IFERROR(VLOOKUP(N27,Tabelas!B:D,3,0),0),\"\")","v":0},{"$f":"IF(A27<>\"\",IFERROR(VLOOKUP(O27,Tabelas!B:D,3,0),0),\"\")","v":0},{"$f":"IF(A27<>\"\",IFERROR(VLOOKUP(P27,Tabelas!B:D,3,0),0),\"\")","v":0},{"$f":"IF(A27<>\"\",IFERROR(VLOOKUP(Q27,Tabelas!B:D,3,0),0),\"\")","v":0},{"$f":"IF(A27<>\"\",IFERROR(VLOOKUP(R27,Tabelas!B:D,3,0),0),\"\")","v":0},{"$f":"IF(A27<>\"\",IFERROR(VLOOKUP(S27,Tabelas!B:D,3,0),0),\"\")","v":0},{"$f":"IF(A27<>\"\",IFERROR(VLOOKUP(T27,Tabelas!B:D,3,0),0),\"\")","v":0},{"$f":"IF(A27<>\"\",IFERROR(VLOOKUP(U27,Tabelas!B:D,3,0),0),\"\")","v":0},{"$f":"IF(A27<>\"\",IFERROR(VLOOKUP(V27,Tabelas!B:D,3,0),0),\"\")","v":0},{"$f":"IF(A27<>\"\",IFERROR(VLOOKUP(W27,Tabelas!B:D,3,0),0),\"\")","v":0},{"$f":"IF(A27<>\"\",IFERROR(VLOOKUP(X27,Tabelas!B:D,3,0),0),\"\")","v":0},{"$f":"IF(A27<>\"\",IFERROR(VLOOKUP(Y27,Tabelas!B:D,3,0),0),\"\")","v":0},{"$f":"IF(A27<>\"\",IFERROR(VLOOKUP(Z27,Tabelas!B:D,3,0),0),\"\")","v":0},{"$f":"IF(A27<>\"\",IFERROR(VLOOKUP(AA27,Tabelas!B:D,3,0),0),\"\")","v":0},{"$f":"IF(A27<>\"\",IFERROR(VLOOKUP(AB27,Tabelas!B:D,3,0),0),\"\")","v":0},{"$f":"IF(A27<>\"\",IFERROR(VLOOKUP(AC27,Tabelas!B:D,3,0),0),\"\")","v":0},{"$f":"IF(A27<>\"\",IFERROR(VLOOKUP(AD27,Tabelas!B:D,3,0),0),\"\")","v":0},{"$f":"IF(A27<>\"\",IFERROR(VLOOKUP(AE27,Tabelas!B:D,3,0),0),\"\")","v":0},{"$f":"IF(A27<>\"\",IFERROR(VLOOKUP(AF27,Tabelas!B:D,3,0),0),\"\")","v":0},{"$f":"IF(A27<>\"\",IFERROR(VLOOKUP(AG27,Tabelas!B:D,3,0),0),\"\")","v":0},{"$f":"IF(A27<>\"\",IFERROR(VLOOKUP(AH27,Tabelas!B:D,3,0),0),\"\")","v":0},{"$f":"IF(A27<>\"\",IFERROR(VLOOKUP(AI27,Tabelas!B:D,3,0),0),\"\")","v":0},{"$f":"IF(A27<>\"\",IFERROR(VLOOKUP(AJ27,Tabelas!B:D,3,0),0),\"\")","v":0},{"$f":"IF(A27<>\"\",IFERROR(VLOOKUP(AK27,Tabelas!B:D,3,0),0),\"\")","v":0},{"$f":"IF(A27<>\"\",IFERROR(VLOOKUP(AL27,Tabelas!B:D,3,0),0),\"\")","v":0},{"$f":"IF(A27<>\"\",IFERROR(VLOOKUP(AM27,Tabelas!B:D,3,0),0),\"\")","v":0},{"$f":"IF(A27<>\"\",IFERROR(VLOOKUP(AN27,Tabelas!B:D,3,0),0),\"\")","v":0},{"$f":"IF(A27<>\"\",IFERROR(VLOOKUP(AO27,Tabelas!B:D,3,0),0),\"\")","v":0},{"$f":"IF(A27<>\"\",IFERROR(VLOOKUP(AP27,Tabelas!B:D,3,0),0),\"\")","v":0},{"$f":"IF(A27<>\"\",IFERROR(VLOOKUP(AQ27,Tabelas!B:D,3,0),0),\"\")","v":0},0,0,0,0,0,0,0,0]
["FULANO 20",20,null,null,null,null,null,null,null,null,null,null,null,null,null,null,null,null,null,null,null,null,null,null,null,null,null,null,null,null,null,null,null,null,null,null,null,null,null,null,null,null,null,{"$f":"IF(A28<>\"\",IFERROR(VLOOKUP(M28,Tabelas!B:D,3,0),0),\"\")","v":0},{"$f":"IF(A28<>\"\",IFERROR(VLOOKUP(N28,Tabelas!B:D,3,0),0),\"\")","v":0},{"$f":"IF(A28<>\"\",IFERROR(VLOOKUP(O28,Tabelas!B:D,3,0),0),\"\")","v":0},{"$f":"IF(A28<>\"\",IFERROR(VLOOKUP(P28,Tabelas!B:D,3,0),0),\"\")","v":0},{"$f":"IF(A28<>\"\",IFERROR(VLOOKUP(Q28,Tabelas!B:D,3,0),0),\"\")","v":0},{"$f":"IF(A28<>\"\",IFERROR(VLOOKUP(R28,Tabelas!B:D,3,0),0),\"\")","v":0},{"$f":"IF(A28<>\"\",IFERROR(VLOOKUP(S28,Tabelas!B:D,3,0),0),\"\")","v":0},{"$f":"IF(A28<>\"\",IFERROR(VLOOKUP(T28,Tabelas!B:D,3,0),0),\"\")","v":0},{"$f":"IF(A28<>\"\",IFERROR(VLOOKUP(U28,Tabelas!B:D,3,0),0),\"\")","v":0},{"$f":"IF(A28<>\"\",IFERROR(VLOOKUP(V28,Tabelas!B:D,3,0),0),\"\")","v":0},{"$f":"IF(A28<>\"\",IFERROR(VLOOKUP(W28,Tabelas!B:D,3,0),0),\"\")","v":0},{"$f":"IF(A28<>\"\",IFERROR(VLOOKUP(X28,Tabelas!B:D,3,0),0),\"\")","v":0},{"$f":"IF(A28<>\"\",IFERROR(VLOOKUP(Y28,Tabelas!B:D,3,0),0),\"\")","v":0},{"$f":"IF(A28<>\"\",IFERROR(VLOOKUP(Z28,Tabelas!B:D,3,0),0),\"\")","v":0},{"$f":"IF(A28<>\"\",IFERROR(VLOOKUP(AA28,Tabelas!B:D,3,0),0),\"\")","v":0},{"$f":"IF(A28<>\"\",IFERROR(VLOOKUP(AB28,Tabelas!B:D,3,0),0),\"\")","v":0},{"$f":"IF(A28<>\"\",IFERROR(VLOOKUP(AC28,Tabelas!B:D,3,0),0),\"\")","v":0},{"$f":"IF(A28<>\"\",IFERROR(VLOOKUP(AD28,Tabelas!B:D,3,0),0),\"\")","v":0},{"$f":"IF(A28<>\"\",IFERROR(VLOOKUP(AE28,Tabelas!B:D,3,0),0),\"\")","v":0},{"$f":"IF(A28<>\"\",IFERROR(VLOOKUP(AF28,Tabelas!B:D,3,0),0),\"\")","v":0},{"$f":"IF(A28<>\"\",IFERROR(VLOOKUP(AG28,Tabelas!B:D,3,0),0),\"\")","v":0},{"$f":"IF(A28<>\"\",IFERROR(VLOOKUP(AH28,Tabelas!B:D,3,0),0),\"\")","v":0},{"$f":"IF(A28<>\"\",IFERROR(VLOOKUP(AI28,Tabelas!B:D,3,0),0),\"\")","v":0},{"$f":"IF(A28<>\"\",IFERROR(VLOOKUP(AJ28,Tabelas!B:D,3,0),0),\"\")","v":0},{"$f":"IF(A28<>\"\",IFERROR(VLOOKUP(AK28,Tabelas!B:D,3,0),0),\"\")","v":0},{"$f":"IF(A28<>\"\",IFERROR(VLOOKUP(AL28,Tabelas!B:D,3,0),0),\"\")","v":0},{"$f":"IF(A28<>\"\",IFERROR(VLOOKUP(AM28,Tabelas!B:D,3,0),0),\"\")","v":0},{"$f":"IF(A28<>\"\",IFERROR(VLOOKUP(AN28,Tabelas!B:D,3,0),0),\"\")","v":0},{"$f":"IF(A28<>\"\",IFERROR(VLOOKUP(AO28,Tabelas!B:D,3,0),0),\"\")","v":0},{"$f":"IF(A28<>\"\",IFERROR(VLOOKUP(AP28,Tabelas!B:D,3,0),0),\"\")","v":0},{"$f":"IF(A28<>\"\",IFERROR(VLOOKUP(AQ28,Tabelas!B:D,3,0),0),\"\")","v":0},0,0,0,0,0,0,0,0]
["FULANO 21",21,null,null,null,null,null,null,null,null,null,null,null,null,null,null,null,null,null,null,null,null,null,null,null,null,null,null,null,null,null,null,null,null,null,null,null,null,null,null,null,null,null,{"$f":"IF(A29<>\"\",IFERROR(VLOOKUP(M29,Tabelas!B:D,3,0),0),\"\")","v":0},{"$f":"IF(A29<>\"\",IFERROR(VLOOKUP(N29,Tabelas!B:D,3,0),0),\"\")","v":0},{"$f":"IF(A29<>\"\",IFERROR(VLOOKUP(O29,Tabelas!B:D,3,0),0),\"\")","v":0},{"$f":"IF(A29<>\"\",IFERROR(VLOOKUP(P29,Tabelas!B:D,3,0),0),\"\")","v":0},{"$f":"IF(A29<>\"\",IFERROR(VLOOKUP(Q29,Tabelas!B:D,3,0),0),\"\")","v":0},{"$f":"IF(A29<>\"\",IFERROR(VLOOKUP(R29,Tabelas!B:D,3,0),0),\"\")","v":0},{"$f":"IF(A29<>\"\",IFERROR(VLOOKUP(S29,Tabelas!B:D,3,0),0),\"\")","v":0},{"$f":"IF(A29<>\"\",IFERROR(VLOOKUP(T29,Tabelas!B:D,3,0),0),\"\")","v":0},{"$f":"IF(A29<>\"\",IFERROR(VLOOKUP(U29,Tabelas!B:D,3,0),0),\"\")","v":0},{"$f":"IF(A29<>\"\",IFERROR(VLOOKUP(V29,Tabelas!B:D,3,0),0),\"\")","v":0},{"$f":"IF(A29<>\"\",IFERROR(VLOOKUP(W29,Tabelas!B:D,3,0),0),\"\")","v":0},{"$f":"IF(A29<>\"\",IFERROR(VLOOKUP(X29,Tabelas!B:D,3,0),0),\"\")","v":0},{"$f":"IF(A29<>\"\",IFERROR(VLOOKUP(Y29,Tabelas!B:D,3,0),0),\"\")","v":0},{"$f":"IF(A29<>\"\",IFERROR(VLOOKUP(Z29,Tabelas!B:D,3,0),0),\"\")","v":0},{"$f":"IF(A29<>\"\",IFERROR(VLOOKUP(AA29,Tabelas!B:D,3,0),0),\"\")","v":0},{"$f":"IF(A29<>\"\",IFERROR(VLOOKUP(AB29,Tabelas!B:D,3,0),0),\"\")","v":0},{"$f":"IF(A29<>\"\",IFERROR(VLOOKUP(AC29,Tabelas!B:D,3,0),0),\"\")","v":0},{"$f":"IF(A29<>\"\",IFERROR(VLOOKUP(AD29,Tabelas!B:D,3,0),0),\"\")","v":0},{"$f":"IF(A29<>\"\",IFERROR(VLOOKUP(AE29,Tabelas!B:D,3,0),0),\"\")","v":0},{"$f":"IF(A29<>\"\",IFERROR(VLOOKUP(AF29,Tabelas!B:D,3,0),0),\"\")","v":0},{"$f":"IF(A29<>\"\",IFERROR(VLOOKUP(AG29,Tabelas!B:D,3,0),0),\"\")","v":0},{"$f":"IF(A29<>\"\",IFERROR(VLOOKUP(AH29,Tabelas!B:D,3,0),0),\"\")","v":0},{"$f":"IF(A29<>\"\",IFERROR(VLOOKUP(AI29,Tabelas!B:D,3,0),0),\"\")","v":0},{"$f":"IF(A29<>\"\",IFERROR(VLOOKUP(AJ29,Tabelas!B:D,3,0),0),\"\")","v":0},{"$f":"IF(A29<>\"\",IFERROR(VLOOKUP(AK29,Tabelas!B:D,3,0),0),\"\")","v":0},{"$f":"IF(A29<>\"\",IFERROR(VLOOKUP(AL29,Tabelas!B:D,3,0),0),\"\")","v":0},{"$f":"IF(A29<>\"\",IFERROR(VLOOKUP(AM29,Tabelas!B:D,3,0),0),\"\")","v":0},{"$f":"IF(A29<>\"\",IFERROR(VLOOKUP(AN29,Tabelas!B:D,3,0),0),\"\")","v":0},{"$f":"IF(A29<>\"\",IFERROR(VLOOKUP(AO29,Tabelas!B:D,3,0),0),\"\")","v":0},{"$f":"IF(A29<>\"\",IFERROR(VLOOKUP(AP29,Tabelas!B:D,3,0),0),\"\")","v":0},{"$f":"IF(A29<>\"\",IFERROR(VLOOKUP(AQ29,Tabelas!B:D,3,0),0),\"\")","v":0},0,0,0,0,0,0,0,0]
["FULANO 22",22,null,null,null,null,null,null,null,null,null,null,null,null,null,null,null,null,null,null,null,null,null,null,null,null,null,null,null,null,null,null,null,null,null,null,null,null,null,null,null,null,null,{"$f":"IF(A30<>\"\",IFERROR(VLOOKUP(M30,Tabelas!B:D,3,0),0),\"\")","v":0},{"$f":"IF(A30<>\"\",IFERROR(VLOOKUP(N30,Tabelas!B:D,3,0),0),\"\")","v":0},{"$f":"IF(A30<>\"\",IFERROR(VLOOKUP(O30,Tabelas!B:D,3,0),0),\"\")","v":0},{"$f":"IF(A30<>\"\",IFERROR(VLOOKUP(P30,Tabelas!B:D,3,0),0),\"\")","v":0},{"$f":"IF(A30<>\"\",IFERROR(VLOOKUP(Q30,Tabelas!B:D,3,0),0),\"\")","v":0},{"$f":"IF(A30<>\"\",IFERROR(VLOOKUP(R30,Tabelas!B:D,3,0),0),\"\")","v":0},{"$f":"IF(A30<>\"\",IFERROR(VLOOKUP(S30,Tabelas!B:D,3,0),0),\"\")","v":0},{"$f":"IF(A30<>\"\",IFERROR(VLOOKUP(T30,Tabelas!B:D,3,0),0),\"\")","v":0},{"$f":"IF(A30<>\"\",IFERROR(VLOOKUP(U30,Tabelas!B:D,3,0),0),\"\")","v":0},{"$f":"IF(A30<>\"\",IFERROR(VLOOKUP(V30,Tabelas!B:D,3,0),0),\"\")","v":0},{"$f":"IF(A30<>\"\",IFERROR(VLOOKUP(W30,Tabelas!B:D,3,0),0),\"\")","v":0},{"$f":"IF(A30<>\"\",IFERROR(VLOOKUP(X30,Tabelas!B:D,3,0),0),\"\")","v":0},{"$f":"IF(A30<>\"\",IFERROR(VLOOKUP(Y30,Tabelas!B:D,3,0),0),\"\")","v":0},{"$f":"IF(A30<>\"\",IFERROR(VLOOKUP(Z30,Tabelas!B:D,3,0),0),\"\")","v":0},{"$f":"IF(A30<>\"\",IFERROR(VLOOKUP(AA30,Tabelas!B:D,3,0),0),\"\")","v":0},{"$f":"IF(A30<>\"\",IFERROR(VLOOKUP(AB30,Tabelas!B:D,3,0),0),\"\")","v":0},{"$f":"IF(A30<>\"\",IFERROR(VLOOKUP(AC30,Tabelas!B:D,3,0),0),\"\")","v":0},{"$f":"IF(A30<>\"\",IFERROR(VLOOKUP(AD30,Tabelas!B:D,3,0),0),\"\")","v":0},{"$f":"IF(A30<>\"\",IFERROR(VLOOKUP(AE30,Tabelas!B:D,3,0),0),\"\")","v":0},{"$f":"IF(A30<>\"\",IFERROR(VLOOKUP(AF30,Tabelas!B:D,3,0),0),\"\")","v":0},{"$f":"IF(A30<>\"\",IFERROR(VLOOKUP(AG30,Tabelas!B:D,3,0),0),\"\")","v":0},{"$f":"IF(A30<>\"\",IFERROR(VLOOKUP(AH30,Tabelas!B:D,3,0),0),\"\")","v":0},{"$f":"IF(A30<>\"\",IFERROR(VLOOKUP(AI30,Tabelas!B:D,3,0),0),\"\")","v":0},{"$f":"IF(A30<>\"\",IFERROR(VLOOKUP(AJ30,Tabelas!B:D,3,0),0),\"\")","v":0},{"$f":"IF(A30<>\"\",IFERROR(VLOOKUP(AK30,Tabelas!B:D,3,0),0),\"\")","v":0},{"$f":"IF(A30<>\"\",IFERROR(VLOOKUP(AL30,Tabelas!B:D,3,0),0),\"\")","v":0},{"$f":"IF(A30<>\"\",IFERROR(VLOOKUP(AM30,Tabelas!B:D,3,0),0),\"\")","v":0},{"$f":"IF(A30<>\"\",IFERROR(VLOOKUP(AN30,Tabelas!B:D,3,0),0),\"\")","v":0},{"$f":"IF(A30<>\"\",IFERROR(VLOOKUP(AO30,Tabelas!B:D,3,0),0),\"\")","v":0},{"$f":"IF(A30<>\"\",IFERROR(VLOOKUP(AP30,Tabelas!B:D,3,0),0),\"\")","v":0},{"$f":"IF(A30<>\"\",IFERROR(VLOOKUP(AQ30,Tabelas!B:D,3,0),0),\"\")","v":0},0,0,0,0,0,0,0,0]
["FULANO 23",23,null,null,null,null,null,null,null,null,null,null,null,null,null,null,null,null,null,null,null,null,null,null,null,null,null,null,null,null,null,null,null,null,null,null,null,null,null,null,null,null,null,{"$f":"IF(A31<>\"\",IFERROR(VLOOKUP(M31,Tabelas!B:D,3,0),0),\"\")","v":0},{"$f":"IF(A31<>\"\",IFERROR(VLOOKUP(N31,Tabelas!B:D,3,0),0),\"\")","v":0},{"$f":"IF(A31<>\"\",IFERROR(VLOOKUP(O31,Tabelas!B:D,3,0),0),\"\")","v":0},{"$f":"IF(A31<>\"\",IFERROR(VLOOKUP(P31,Tabelas!B:D,3,0),0),\"\")","v":0},{"$f":"IF(A31<>\"\",IFERROR(VLOOKUP(Q31,Tabelas!B:D,3,0),0),\"\")","v":0},{"$f":"IF(A31<>\"\",IFERROR(VLOOKUP(R31,Tabelas!B:D,3,0),0),\"\")","v":0},{"$f":"IF(A31<>\"\",IFERROR(VLOOKUP(S31,Tabelas!B:D,3,0),0),\"\")","v":0},{"$f":"IF(A31<>\"\",IFERROR(VLOOKUP(T31,Tabelas!B:D,3,0),0),\"\")","v":0},{"$f":"IF(A31<>\"\",IFERROR(VLOOKUP(U31,Tabelas!B:D,3,0),0),\"\")","v":0},{"$f":"IF(A31<>\"\",IFERROR(VLOOKUP(V31,Tabelas!B:D,3,0),0),\"\")","v":0},{"$f":"IF(A31<>\"\",IFERROR(VLOOKUP(W31,Tabelas!B:D,3,0),0),\"\")","v":0},{"$f":"IF(A31<>\"\",IFERROR(VLOOKUP(X31,Tabelas!B:D,3,0),0),\"\")","v":0},{"$f":"IF(A31<>\"\",IFERROR(VLOOKUP(Y31,Tabelas!B:D,3,0),0),\"\")","v":0},{"$f":"IF(A31<>\"\",IFERROR(VLOOKUP(Z31,Tabelas!B:D,3,0),0),\"\")","v":0},{"$f":"IF(A31<>\"\",IFERROR(VLOOKUP(AA31,Tabelas!B:D,3,0),0),\"\")","v":0},{"$f":"IF(A31<>\"\",IFERROR(VLOOKUP(AB31,Tabelas!B:D,3,0),0),\"\")","v":0},{"$f":"IF(A31<>\"\",IFERROR(VLOOKUP(AC31,Tabelas!B:D,3,0),0),\"\")","v":0},{"$f":"IF(A31<>\"\",IFERROR(VLOOKUP(AD31,Tabelas!B:D,3,0),0),\"\")","v":0},{"$f":"IF(A31<>\"\",IFERROR(VLOOKUP(AE31,Tabelas!B:D,3,0),0),\"\")","v":0},{"$f":"IF(A31<>\"\",IFERROR(VLOOKUP(AF31,Tabelas!B:D,3,0),0),\"\")","v":0},{"$f":"IF(A31<>\"\",IFERROR(VLOOKUP(AG31,Tabelas!B:D,3,0),0),\"\")","v":0},{"$f":"IF(A31<>\"\",IFERROR(VLOOKUP(AH31,Tabelas!B:D,3,0),0),\"\")","v":0},{"$f":"IF(A31<>\"\",IFERROR(VLOOKUP(AI31,Tabelas!B:D,3,0),0),\"\")","v":0},{"$f":"IF(A31<>\"\",IFERROR(VLOOKUP(AJ31,Tabelas!B:D,3,0),0),\"\")","v":0},{"$f":"IF(A31<>\"\",IFERROR(VLOOKUP(AK31,Tabelas!B:D,3,0),0),\"\")","v":0},{"$f":"IF(A31<>\"\",IFERROR(VLOOKUP(AL31,Tabelas!B:D,3,0),0),\"\")","v":0},{"$f":"IF(A31<>\"\",IFERROR(VLOOKUP(AM31,Tabelas!B:D,3,0),0),\"\")","v":0},{"$f":"IF(A31<>\"\",IFERROR(VLOOKUP(AN31,Tabelas!B:D,3,0),0),\"\")","v":0},{"$f":"IF(A31<>\"\",IFERROR(VLOOKUP(AO31,Tabelas!B:D,3,0),0),\"\")","v":0},{"$f":"IF(A31<>\"\",IFERROR(VLOOKUP(AP31,Tabelas!B:D,3,0),0),\"\")","v":0},{"$f":"IF(A31<>\"\",IFERROR(VLOOKUP(AQ31,Tabelas!B:D,3,0),0),\"\")","v":0},0,0,0,0,0,0,0,0]
["FULANO 24",24,null,null,null,null,null,null,null,null,null,null,null,null,null,null,null,null,null,null,null,null,null,null,null,null,null,null,null,null,null,null,null,null,null,null,null,null,null,null,null,null,null,{"$f":"IF(A32<>\"\",IFERROR(VLOOKUP(M32,Tabelas!B:D,3,0),0),\"\")","v":0},{"$f":"IF(A32<>\"\",IFERROR(VLOOKUP(N32,Tabelas!B:D,3,0),0),\"\")","v":0},{"$f":"IF(A32<>\"\",IFERROR(VLOOKUP(O32,Tabelas!B:D,3,0),0),\"\")","v":0},{"$f":"IF(A32<>\"\",IFERROR(VLOOKUP(P32,Tabelas!B:D,3,0),0),\"\")","v":0},{"$f":"IF(A32<>\"\",IFERROR(VLOOKUP(Q32,Tabelas!B:D,3,0),0),\"\")","v":0},{"$f":"IF(A32<>\"\",IFERROR(VLOOKUP(R32,Tabelas!B:D,3,0),0),\"\")","v":0},{"$f":"IF(A32<>\"\",IFERROR(VLOOKUP(S32,Tabelas!B:D,3,0),0),\"\")","v":0},{"$f":"IF(A32<>\"\",IFERROR(VLOOKUP(T32,Tabelas!B:D,3,0),0),\"\")","v":0},{"$f":"IF(A32<>\"\",IFERROR(VLOOKUP(U32,Tabelas!B:D,3,0),0),\"\")","v":0},{"$f":"IF(A32<>\"\",IFERROR(VLOOKUP(V32,Tabelas!B:D,3,0),0),\"\")","v":0},{"$f":"IF(A32<>\"\",IFERROR(VLOOKUP(W32,Tabelas!B:D,3,0),0),\"\")","v":0},{"$f":"IF(A32<>\"\",IFERROR(VLOOKUP(X32,Tabelas!B:D,3,0),0),\"\")","v":0},{"$f":"IF(A32<>\"\",IFERROR(VLOOKUP(Y32,Tabelas!B:D,3,0),0),\"\")","v":0},{"$f":"IF(A32<>\"\",IFERROR(VLOOKUP(Z32,Tabelas!B:D,3,0),0),\"\")","v":0},{"$f":"IF(A32<>\"\",IFERROR(VLOOKUP(AA32,Tabelas!B:D,3,0),0),\"\")","v":0},{"$f":"IF(A32<>\"\",IFERROR(VLOOKUP(AB32,Tabelas!B:D,3,0),0),\"\")","v":0},{"$f":"IF(A32<>\"\",IFERROR(VLOOKUP(AC32,Tabelas!B:D,3,0),0),\"\")","v":0},{"$f":"IF(A32<>\"\",IFERROR(VLOOKUP(AD32,Tabelas!B:D,3,0),0),\"\")","v":0},{"$f":"IF(A32<>\"\",IFERROR(VLOOKUP(AE32,Tabelas!B:D,3,0),0),\"\")","v":0},{"$f":"IF(A32<>\"\",IFERROR(VLOOKUP(AF32,Tabelas!B:D,3,0),0),\"\")","v":0},{"$f":"IF(A32<>\"\",IFERROR(VLOOKUP(AG32,Tabelas!B:D,3,0),0),\"\")","v":0},{"$f":"IF(A32<>\"\",IFERROR(VLOOKUP(AH32,Tabelas!B:D,3,0),0),\"\")","v":0},{"$f":"IF(A32<>\"\",IFERROR(VLOOKUP(AI32,Tabelas!B:D,3,0),0),\"\")","v":0},{"$f":"IF(A32<>\"\",IFERROR(VLOOKUP(AJ32,Tabelas!B:D,3,0),0),\"\")","v":0},{"$f":"IF(A32<>\"\",IFERROR(VLOOKUP(AK32,Tabelas!B:D,3,0),0),\"\")","v":0},{"$f":"IF(A32<>\"\",IFERROR(VLOOKUP(AL32,Tabelas!B:D,3,0),0),\"\")","v":0},{"$f":"IF(A32<>\"\",IFERROR(VLOOKUP(AM32,Tabelas!B:D,3,0),0),\"\")","v":0},{"$f":"IF(A32<>\"\",IFERROR(VLOOKUP(AN32,Tabelas!B:D,3,0),0),\"\")","v":0},{"$f":"IF(A32<>\"\",IFERROR(VLOOKUP(AO32,Tabelas!B:D,3,0),0),\"\")","v":0},{"$f":"IF(A32<>\"\",IFERROR(VLOOKUP(AP32,Tabelas!B:D,3,0),0),\"\")","v":0},{"$f":"IF(A32<>\"\",IFERROR(VLOOKUP(AQ32,Tabelas!B:D,3,0),0),\"\")","v":0},0,0,0,0,0,0,0,0]
["FULANO 25",25,null,null,null,null,null,null,null,null,null,null,null,null,null,null,null,null,null,null,null,null,null,null,null,null,null,null,null,null,null,null,null,null,null,null,null,null,null,null,null,null,null,{"$f":"IF(A33<>\"\",IFERROR(VLOOKUP(M33,Tabelas!B:D,3,0),0),\"\")","v":0},{"$f":"IF(A33<>\"\",IFERROR(VLOOKUP(N33,Tabelas!B:D,3,0),0),\"\")","v":0},{"$f":"IF(A33<>\"\",IFERROR(VLOOKUP(O33,Tabelas!B:D,3,0),0),\"\")","v":0},{"$f":"IF(A33<>\"\",IFERROR(VLOOKUP(P33,Tabelas!B:D,3,0),0),\"\")","v":0},{"$f":"IF(A33<>\"\",IFERROR(VLOOKUP(Q33,Tabelas!B:D,3,0),0),\"\")","v":0},{"$f":"IF(A33<>\"\",IFERROR(VLOOKUP(R33,Tabelas!B:D,3,0),0),\"\")","v":0},{"$f":"IF(A33<>\"\",IFERROR(VLOOKUP(S33,Tabelas!B:D,3,0),0),\"\")","v":0},{"$f":"IF(A33<>\"\",IFERROR(VLOOKUP(T33,Tabelas!B:D,3,0),0),\"\")","v":0},{"$f":"IF(A33<>\"\",IFERROR(VLOOKUP(U33,Tabelas!B:D,3,0),0),\"\")","v":0},{"$f":"IF(A33<>\"\",IFERROR(VLOOKUP(V33,Tabelas!B:D,3,0),0),\"\")","v":0},{"$f":"IF(A33<>\"\",IFERROR(VLOOKUP(W33,Tabelas!B:D,3,0),0),\"\")","v":0},{"$f":"IF(A33<>\"\",IFERROR(VLOOKUP(X33,Tabelas!B:D,3,0),0),\"\")","v":0},{"$f":"IF(A33<>\"\",IFERROR(VLOOKUP(Y33,Tabelas!B:D,3,0),0),\"\")","v":0},{"$f":"IF(A33<>\"\",IFERROR(VLOOKUP(Z33,Tabelas!B:D,3,0),0),\"\")","v":0},{"$f":"IF(A33<>\"\",IFERROR(VLOOKUP(AA33,Tabelas!B:D,3,0),0),\"\")","v":0},{"$f":"IF(A33<>\"\",IFERROR(VLOOKUP(AB33,Tabelas!B:D,3,0),0),\"\")","v":0},{"$f":"IF(A33<>\"\",IFERROR(VLOOKUP(AC33,Tabelas!B:D,3,0),0),\"\")","v":0},{"$f":"IF(A33<>\"\",IFERROR(VLOOKUP(AD33,Tabelas!B:D,3,0),0),\"\")","v":0},{"$f":"IF(A33<>\"\",IFERROR(VLOOKUP(AE33,Tabelas!B:D,3,0),0),\"\")","v":0},{"$f":"IF(A33<>\"\",IFERROR(VLOOKUP(AF33,Tabelas!B:D,3,0),0),\"\")","v":0},{"$f":"IF(A33<>\"\",IFERROR(VLOOKUP(AG33,Tabelas!B:D,3,0),0),\"\")","v":0},{"$f":"IF(A33<>\"\",IFERROR(VLOOKUP(AH33,Tabelas!B:D,3,0),0),\"\")","v":0},{"$f":"IF(A33<>\"\",IFERROR(VLOOKUP(AI33,Tabelas!B:D,3,0),0),\"\")","v":0},{"$f":"IF(A33<>\"\",IFERROR(VLOOKUP(AJ33,Tabelas!B:D,3,0),0),\"\")","v":0},{"$f":"IF(A33<>\"\",IFERROR(VLOOKUP(AK33,Tabelas!B:D,3,0),0),\"\")","v":0},{"$f":"IF(A33<>\"\",IFERROR(VLOOKUP(AL33,Tabelas!B:D,3,0),0),\"\")","v":0},{"$f":"IF(A33<>\"\",IFERROR(VLOOKUP(AM33,Tabelas!B:D,3,0),0),\"\")","v":0},{"$f":"IF(A33<>\"\",IFERROR(VLOOKUP(AN33,Tabelas!B:D,3,0),0),\"\")","v":0},{"$f":"IF(A33<>\"\",IFERROR(VLOOKUP(AO33,Tabelas!B:D,3,0),0),\"\")","v":0},{"$f":"IF(A33<>\"\",IFERROR(VLOOKUP(AP33,Tabelas!B:D,3,0),0),\"\")","v":0},{"$f":"IF(A33<>\"\",IFERROR(VLOOKUP(AQ33,Tabelas!B:D,3,0),0),\"\")","v":0},0,0,0,0,0,0,0,0]
["FULANO 26",26,null,null,null,null,null,null,null,null,null,null,null,null,null,null,null,null,null,null,null,null,null,null,null,null,null,null,null,null,null,null,null,null,null,null,null,null,null,null,null,null,null,{"$f":"IF(A34<>\"\",IFERROR(VLOOKUP(M34,Tabelas!B:D,3,0),0),\"\")","v":0},{"$f":"IF(A34<>\"\",IFERROR(VLOOKUP(N34,Tabelas!B:D,3,0),0),\"\")","v":0},{"$f":"IF(A34<>\"\",IFERROR(VLOOKUP(O34,Tabelas!B:D,3,0),0),\"\")","v":0},{"$f":"IF(A34<>\"\",IFERROR(VLOOKUP(P34,Tabelas!B:D,3,0),0),\"\")","v":0},{"$f":"IF(A34<>\"\",IFERROR(VLOOKUP(Q34,Tabelas!B:D,3,0),0),\"\")","v":0},{"$f":"IF(A34<>\"\",IFERROR(VLOOKUP(R34,Tabelas!B:D,3,0),0),\"\")","v":0},{"$f":"IF(A34<>\"\",IFERROR(VLOOKUP(S34,Tabelas!B:D,3,0),0),\"\")","v":0},{"$f":"IF(A34<>\"\",IFERROR(VLOOKUP(T34,Tabelas!B:D,3,0),0),\"\")","v":0},{"$f":"IF(A34<>\"\",IFERROR(VLOOKUP(U34,Tabelas!B:D,3,0),0),\"\")","v":0},{"$f":"IF(A34<>\"\",IFERROR(VLOOKUP(V34,Tabelas!B:D,3,0),0),\"\")","v":0},{"$f":"IF(A34<>\"\",IFERROR(VLOOKUP(W34,Tabelas!B:D,3,0),0),\"\")","v":0},{"$f":"IF(A34<>\"\",IFERROR(VLOOKUP(X34,Tabelas!B:D,3,0),0),\"\")","v":0},{"$f":"IF(A34<>\"\",IFERROR(VLOOKUP(Y34,Tabelas!B:D,3,0),0),\"\")","v":0},{"$f":"IF(A34<>\"\",IFERROR(VLOOKUP(Z34,Tabelas!B:D,3,0),0),\"\")","v":0},{"$f":"IF(A34<>\"\",IFERROR(VLOOKUP(AA34,Tabelas!B:D,3,0),0),\"\")","v":0},{"$f":"IF(A34<>\"\",IFERROR(VLOOKUP(AB34,Tabelas!B:D,3,0),0),\"\")","v":0},{"$f":"IF(A34<>\"\",IFERROR(VLOOKUP(AC34,Tabelas!B:D,3,0),0),\"\")","v":0},{"$f":"IF(A34<>\"\",IFERROR(VLOOKUP(AD34,Tabelas!B:D,3,0),0),\"\")","v":0},{"$f":"IF(A34<>\"\",IFERROR(VLOOKUP(AE34,Tabelas!B:D,3,0),0),\"\")","v":0},{"$f":"IF(A34<>\"\",IFERROR(VLOOKUP(AF34,Tabelas!B:D,3,0),0),\"\")","v":0},{"$f":"IF(A34<>\"\",IFERROR(VLOOKUP(AG34,Tabelas!B:D,3,0),0),\"\")","v":0},{"$f":"IF(A34<>\"\",IFERROR(VLOOKUP(AH34,Tabelas!B:D,3,0),0),\"\")","v":0},{"$f":"IF(A34<>\"\",IFERROR(VLOOKUP(AI34,Tabelas!B:D,3,0),0),\"\")","v":0},{"$f":"IF(A34<>\"\",IFERROR(VLOOKUP(AJ34,Tabelas!B:D,3,0),0),\"\")","v":0},{"$f":"IF(A34<>\"\",IFERROR(VLOOKUP(AK34,Tabelas!B:D,3,0),0),\"\")","v":0},{"$f":"IF(A34<>\"\",IFERROR(VLOOKUP(AL34,Tabelas!B:D,3,0),0),\"\")","v":0},{"$f":"IF(A34<>\"\",IFERROR(VLOOKUP(AM34,Tabelas!B:D,3,0),0),\"\")","v":0},{"$f":"IF(A34<>\"\",IFERROR(VLOOKUP(AN34,Tabelas!B:D,3,0),0),\"\")","v":0},{"$f":"IF(A34<>\"\",IFERROR(VLOOKUP(AO34,Tabelas!B:D,3,0),0),\"\")","v":0},{"$f":"IF(A34<>\"\",IFERROR(VLOOKUP(AP34,Tabelas!B:D,3,0),0),\"\")","v":0},{"$f":"IF(A34<>\"\",IFERROR(VLOOKUP(AQ34,Tabelas!B:D,3,0),0),\"\")","v":0},0,0,0,0,0,0,0,0]
["FULANO 27",27,null,null,null,null,null,null,null,null,null,null,null,null,null,null,null,null,null,null,null,null,null,null,null,null,null,null,null,null,null,null,null,null,null,null,null,null,null,null,null,null,null,{"$f":"IF(A35<>\"\",IFERROR(VLOOKUP(M35,Tabelas!B:D,3,0),0),\"\")","v":0},{"$f":"IF(A35<>\"\",IFERROR(VLOOKUP(N35,Tabelas!B:D,3,0),0),\"\")","v":0},{"$f":"IF(A35<>\"\",IFERROR(VLOOKUP(O35,Tabelas!B:D,3,0),0),\"\")","v":0},{"$f":"IF(A35<>\"\",IFERROR(VLOOKUP(P35,Tabelas!B:D,3,0),0),\"\")","v":0},{"$f":"IF(A35<>\"\",IFERROR(VLOOKUP(Q35,Tabelas!B:D,3,0),0),\"\")","v":0},{"$f":"IF(A35<>\"\",IFERROR(VLOOKUP(R35,Tabelas!B:D,3,0),0),\"\")","v":0},{"$f":"IF(A35<>\"\",IFERROR(VLOOKUP(S35,Tabelas!B:D,3,0),0),\"\")","v":0},{"$f":"IF(A35<>\"\",IFERROR(VLOOKUP(T35,Tabelas!B:D,3,0),0),\"\")","v":0},{"$f":"IF(A35<>\"\",IFERROR(VLOOKUP(U35,Tabelas!B:D,3,0),0),\"\")","v":0},{"$f":"IF(A35<>\"\",IFERROR(VLOOKUP(V35,Tabelas!B:D,3,0),0),\"\")","v":0},{"$f":"IF(A35<>\"\",IFERROR(VLOOKUP(W35,Tabelas!B:D,3,0),0),\"\")","v":0},{"$f":"IF(A35<>\"\",IFERROR(VLOOKUP(X35,Tabelas!B:D,3,0),0),\"\")","v":0},{"$f":"IF(A35<>\"\",IFERROR(VLOOKUP(Y35,Tabelas!B:D,3,0),0),\"\")","v":0},{"$f":"IF(A35<>\"\",IFERROR(VLOOKUP(Z35,Tabelas!B:D,3,0),0),\"\")","v":0},{"$f":"IF(A35<>\"\",IFERROR(VLOOKUP(AA35,Tabelas!B:D,3,0),0),\"\")","v":0},{"$f":"IF(A35<>\"\",IFERROR(VLOOKUP(AB35,Tabelas!B:D,3,0),0),\"\")","v":0},{"$f":"IF(A35<>\"\",IFERROR(VLOOKUP(AC35,Tabelas!B:D,3,0),0),\"\")","v":0},{"$f":"IF(A35<>\"\",IFERROR(VLOOKUP(AD35,Tabelas!B:D,3,0),0),\"\")","v":0},{"$f":"IF(A35<>\"\",IFERROR(VLOOKUP(AE35,Tabelas!B:D,3,0),0),\"\")","v":0},{"$f":"IF(A35<>\"\",IFERROR(VLOOKUP(AF35,Tabelas!B:D,3,0),0),\"\")","v":0},{"$f":"IF(A35<>\"\",IFERROR(VLOOKUP(AG35,Tabelas!B:D,3,0),0),\"\")","v":0},{"$f":"IF(A35<>\"\",IFERROR(VLOOKUP(AH35,Tabelas!B:D,3,0),0),\"\")","v":0},{"$f":"IF(A35<>\"\",IFERROR(VLOOKUP(AI35,Tabelas!B:D,3,0),0),\"\")","v":0},{"$f":"IF(A35<>\"\",IFERROR(VLOOKUP(AJ35,Tabelas!B:D,3,0),0),\"\")","v":0},{"$f":"IF(A35<>\"\",IFERROR(VLOOKUP(AK35,Tabelas!B:D,3,0),0),\"\")","v":0},{"$f":"IF(A35<>\"\",IFERROR(VLOOKUP(AL35,Tabelas!B:D,3,0),0),\"\")","v":0},{"$f":"IF(A35<>\"\",IFERROR(VLOOKUP(AM35,Tabelas!B:D,3,0),0),\"\")","v":0},{"$f":"IF(A35<>\"\",IFERROR(VLOOKUP(AN35,Tabelas!B:D,3,0),0),\"\")","v":0},{"$f":"IF(A35<>\"\",IFERROR(VLOOKUP(AO35,Tabelas!B:D,3,0),0),\"\")","v":0},{"$f":"IF(A35<>\"\",IFERROR(VLOOKUP(AP35,Tabelas!B:D,3,0),0),\"\")","v":0},{"$f":"IF(A35<>\"\",IFERROR(VLOOKUP(AQ35,Tabelas!B:D,3,0),0),\"\")","v":0},0,0,0,0,0,0,0,0]
["TOTAL PROFISSIONAIS MATUTINO",null,null,null,null,null,null,null,null,null,null,null,{"$f":"IF(COUNTIF(Setembro!AP9:AP35,\"PR5\")+COUNTIF(Setembro!AP9:AP35,\"PR6\")+COUNTIF(Setembro!AP9:AP35,\"PR7\")+COUNTIF(Setembro!AP9:AP35,\"PR8\")+COUNTIF(Setembro!AP9:AP35,\"PR9\")+COUNTIF(M9:M35,\"M*\")+ COUNTIF(M9:M35, \"D*\")-COUNTIF(M9:M35,\"DSR\")+COUNTIF(M9:M35,\"PR1\")+COUNTIF(M9:M35,\"PR2\")+COUNTIF(M9:M35,\"PR3\")+COUNTIF(M9:M35,\"PR4\")<>0,COUNTIF(Setembro!AP9:AP35,\"PR5\")+COUNTIF(Setembro!AP9:AP35,\"PR6\")+COUNTIF(Setembro!AP9:AP35,\"PR7\")+COUNTIF(Setembro!AP9:AP35,\"PR8\")+COUNTIF(Setembro!AP9:AP35,\"PR9\")+COUNTIF(M9:M35,\"M*\")+ COUNTIF(M9:M35, \"D*\")-COUNTIF(M9:M35,\"DSR\")+COUNTIF(M9:M35,\"PR1\")+COUNTIF(M9:M35,\"PR2\")+COUNTIF(M9:M35,\"PR3\")+COUNTIF(M9:M35,\"PR4\"),\"\")","v":""},{"$f":"IF(COUNTIF(N9:N35,\"M*\")+ COUNTIF(N9:N35, \"D*\")-COUNTIF(N9:N35,\"DSR\")+COUNTIF(M9:M35,\"PR5\")+COUNTIF(M9:M35,\"PR6\")+COUNTIF(M9:M35,\"PR7\")+COUNTIF(M9:M35,\"PR8\")+COUNTIF(M9:M35,\"PR9\")+COUNTIF(N9:N35,\"PR1\")+COUNTIF(N9:N35,\"PR2\")+COUNTIF(N9:N35,\"PR3\")+COUNTIF(N9:N35,\"PR4\")<>0,COUNTIF(N9:N35,\"M*\")+ COUNTIF(N9:N35, \"D*\")-COUNTIF(N9:N35,\"DSR\")+COUNTIF(M9:M35,\"PR5\")+COUNTIF(M9:M35,\"PR6\")+COUNTIF(M9:M35,\"PR7\")+COUNTIF(M9:M35,\"PR8\")+COUNTIF(M9:M35,\"PR9\")+COUNTIF(N9:N35,\"PR1\")+COUNTIF(N9:N35,\"PR2\")+COUNTIF(N9:N35,\"PR3\")+COUNTIF(N9:N35,\"PR4\"),\"\")","v":""},{"$f":"IF(COUNTIF(O9:O35,\"M*\")+ COUNTIF(O9:O35, \"D*\")-COUNTIF(O9:O35,\"DSR\")+COUNTIF(N9:N35,\"PR5\")+COUNTIF(N9:N35,\"PR6\")+COUNTIF(N9:N35,\"PR7\")+COUNTIF(N9:N35,\"PR8\")+COUNTIF(N9:N35,\"PR9\")+COUNTIF(O9:O35,\"PR1\")+COUNTIF(O9:O35,\"PR2\")+COUNTIF(O9:O35,\"PR3\")+COUNTIF(O9:O35,\"PR4\")<>0,COUNTIF(O9:O35,\"M*\")+ COUNTIF(O9:O35, \"D*\")-COUNTIF(O9:O35,\"DSR\")+COUNTIF(N9:N35,\"PR5\")+COUNTIF(N9:N35,\"PR6\")+COUNTIF(N9:N35,\"PR7\")+COUNTIF(N9:N35,\"PR8\")+COUNTIF(N9:N35,\"PR9\")+COUNTIF(O9:O35,\"PR1\")+COUNTIF(O9:O35,\"PR2\")+COUNTIF(O9:O35,\"PR3\")+COUNTIF(O9:O35,\"PR4\"),\"\")","v":""},"","","","","","","","","","","","","","","","","","","","","","","","","","","","",null,null,null,null,null,null,null,null,null,null,null,null,null,null,null,null,null,null,null,null,null,null,null,null,null,null,null,null,null,null,null,{"$f":"SUM(BW9:BW35)","v":0},{"$f":"SUM(BX9:BX35)","v":0},0,0,0,0,0,0]
["TOTAL DE PROFISSIONAIS VESPERTINO",null,null,null,null,null,null,null,null,null,null,null,{"$f":"IF(COUNTIF(Setembro!AP9:AP35,\"PR5\")+COUNTIF(Setembro!AP9:AP35,\"PR6\")+COUNTIF(Setembro!AP9:AP35,\"PR7\")+COUNTIF(Setembro!AP9:AP35,\"PR8\")+COUNTIF(Setembro!AP9:AP35,\"PR9\")+COUNTIF(M9:M35,\"MT*\") + COUNTIF(M9:M35, \"D*\") + COUNTIF(M9:M35,\"T*\")-COUNTIF(M9:M35,\"DSR\")+COUNTIF(M9:M35,\"PR1\")+COUNTIF(M9:M35,\"PR2\")+COUNTIF(M9:M35,\"PR3\")+COUNTIF(M9:M35,\"PR4\")<>0,COUNTIF(Setembro!AP9:AP35,\"PR5\")+COUNTIF(Setembro!AP9:AP35,\"PR6\")+COUNTIF(Setembro!AP9:AP35,\"PR7\")+COUNTIF(Setembro!AP9:AP35,\"PR8\")+COUNTIF(Setembro!AP9:AP35,\"PR9\")+COUNTIF(M9:M35,\"MT*\") + COUNTIF(M9:M35, \"D*\") + COUNTIF(M9:M35,\"T*\")+COUNTIF(M9:M35,\"PR1\")+COUNTIF(M9:M35,\"PR2\")+COUNTIF(M9:M35,\"PR3\")+COUNTIF(M9:M35,\"PR4\")-COUNTIF(M9:M35,\"DSR\"),\"\")","v":""},{"$f":"IF(COUNTIF(N9:N35,\"MT*\") + COUNTIF(N9:N35, \"D*\") + COUNTIF(N9:N35,\"T*\")-COUNTIF(N9:N35,\"DSR\")+COUNTIF(M9:M35,\"PR5\")+COUNTIF(M9:M35,\"PR6\")+COUNTIF(M9:M35,\"PR7\")+COUNTIF(M9:M35,\"PR8\")+COUNTIF(M9:M35,\"PR9\")+COUNTIF(N9:N35,\"PR1\")+COUNTIF(N9:N35,\"PR2\")+COUNTIF(N9:N35,\"PR3\")+COUNTIF(N9:N35,\"PR4\")<>0,COUNTIF(N9:N35,\"MT*\") + COUNTIF(N9:N35, \"D*\") + COUNTIF(N9:N35,\"T*\")+COUNTIF(M9:M35,\"PR5\")+COUNTIF(M9:M35,\"PR6\")+COUNTIF(M9:M35,\"PR7\")+COUNTIF(M9:M35,\"PR8\")+COUNTIF(M9:M35,\"PR9\")+COUNTIF(N9:N35,\"PR1\")+COUNTIF(N9:N35,\"PR2\")+COUNTIF(N9:N35,\"PR3\")+COUNTIF(N9:N35,\"PR4\")-COUNTIF(N9:N35,\"DSR\"),\"\")","v":""},{"$f":"IF(COUNTIF(O9:O35,\"MT*\") + COUNTIF(O9:O35, \"D*\") + COUNTIF(O9:O35,\"T*\")-COUNTIF(O9:O35,\"DSR\")+COUNTIF(N9:N35,\"PR5\")+COUNTIF(N9:N35,\"PR6\")+COUNTIF(N9:N35,\"PR7\")+COUNTIF(N9:N35,\"PR8\")+COUNTIF(N9:N35,\"PR9\")+COUNTIF(O9:O35,\"PR1\")+COUNTIF(O9:O35,\"PR2\")+COUNTIF(O9:O35,\"PR3\")+COUNTIF(O9:O35,\"PR4\")<>0,COUNTIF(O9:O35,\"MT*\") + COUNTIF(O9:O35, \"D*\") + COUNTIF(O9:O35,\"T*\")+COUNTIF(N9:N35,\"PR5\")+COUNTIF(N9:N35,\"PR6\")+COUNTIF(N9:N35,\"PR7\")+COUNTIF(N9:N35,\"PR8\")+COUNTIF(N9:N35,\"PR9\")+COUNTIF(O9:O35,\"PR1\")+COUNTIF(O9:O35,\"PR2\")+COUNTIF(O9:O35,\"PR3\")+COUNTIF(O9:O35,\"PR4\")-COUNTIF(O9:O35,\"DSR\"),\"\")","v":""},"","","","","","","","","","","","","","","","","","","","","","","","","","","","",{"$f":"IF(A37<>\"\",IFERROR(VLOOKUP(M37,Tabelas!B:D,3,0),0),\"\")","v":0},{"$f":"IF(A37<>\"\",IFERROR(VLOOKUP(N37,Tabelas!B:D,3,0),0),\"\")","v":0},{"$f":"IF(A37<>\"\",IFERROR(VLOOKUP(O37,Tabelas!B:D,3,0),0),\"\")","v":0},{"$f":"IF(A37<>\"\",IFERROR(VLOOKUP(P37,Tabelas!B:D,3,0),0),\"\")","v":0},{"$f":"IF(A37<>\"\",IFERROR(VLOOKUP(Q37,Tabelas!B:D,3,0),0),\"\")","v":0},{"$f":"IF(A37<>\"\",IFERROR(VLOOKUP(R37,Tabelas!B:D,3,0),0),\"\")","v":0},{"$f":"IF(A37<>\"\",IFERROR(VLOOKUP(S37,Tabelas!B:D,3,0),0),\"\")","v":0},{"$f":"IF(A37<>\"\",IFERROR(VLOOKUP(T37,Tabelas!B:D,3,0),0),\"\")","v":0},{"$f":"IF(A37<>\"\",IFERROR(VLOOKUP(U37,Tabelas!B:D,3,0),0),\"\")","v":0},{"$f":"IF(A37<>\"\",IFERROR(VLOOKUP(V37,Tabelas!B:D,3,0),0),\"\")","v":0},{"$f":"IF(A37<>\"\",IFERROR(VLOOKUP(W37,Tabelas!B:D,3,0),0),\"\")","v":0},{"$f":"IF(A37<>\"\",IFERROR(VLOOKUP(X37,Tabelas!B:D,3,0),0),\"\")","v":0},{"$f":"IF(A37<>\"\",IFERROR(VLOOKUP(Y37,Tabelas!B:D,3,0),0),\"\")","v":0},{"$f":"IF(A37<>\"\",IFERROR(VLOOKUP(Z37,Tabelas!B:D,3,0),0),\"\")","v":0},{"$f":"IF(A37<>\"\",IFERROR(VLOOKUP(AA37,Tabelas!B:D,3,0),0),\"\")","v":0},{"$f":"IF(A37<>\"\",IFERROR(VLOOKUP(AB37,Tabelas!B:D,3,0),0),\"\")","v":0},{"$f":"IF(A37<>\"\",IFERROR(VLOOKUP(AC37,Tabelas!B:D,3,0),0),\"\")","v":0},{"$f":"IF(A37<>\"\",IFERROR(VLOOKUP(AD37,Tabelas!B:D,3,0),0),\"\")","v":0},{"$f":"IF(A37<>\"\",IFERROR(VLOOKUP(AE37,Tabelas!B:D,3,0),0),\"\")","v":0},{"$f":"IF(A37<>\"\",IFERROR(VLOOKUP(AF37,Tabelas!B:D,3,0),0),\"\")","v":0},{"$f":"IF(A37<>\"\",IFERROR(VLOOKUP(AG37,Tabelas!B:D,3,0),0),\"\")","v":0},{"$f":"IF(A37<>\"\",IFERROR(VLOOKUP(AH37,Tabelas!B:D,3,0),0),\"\")","v":0},{"$f":"IF(A37<>\"\",IFERROR(VLOOKUP(AI37,Tabelas!B:D,3,0),0),\"\")","v":0},{"$f":"IF(A37<>\"\",IFERROR(VLOOKUP(AJ37,Tabelas!B:D,3,0),0),\"\")","v":0},{"$f":"IF(A37<>\"\",IFERROR(VLOOKUP(AK37,Tabelas!B:D,3,0),0),\"\")","v":0},{"$f":"IF(A37<>\"\",IFERROR(VLOOKUP(AL37,Tabelas!B:D,3,0),0),\"\")","v":0},{"$f":"IF(A37<>\"\",IFERROR(VLOOKUP(AM37,Tabelas!B:D,3,0),0),\"\")","v":0},{"$f":"IF(A37<>\"\",IFERROR(VLOOKUP(AN37,Tabelas!B:D,3,0),0),\"\")","v":0},{"$f":"IF(A37<>\"\",IFERROR(VLOOKUP(AO37,Tabelas!B:D,3,0),0),\"\")","v":0},{"$f":"IF(A37<>\"\",IFERROR(VLOOKUP(AP37,Tabelas!B:D,3,0),0),\"\")","v":0},{"$f":"IF(A37<>\"\",IFERROR(VLOOKUP(AQ37,Tabelas!B:D,3,0),0),\"\")","v":0}]
["TOTAL DE PROFISSIONAIS NOTURNO",null,null,null,null,null,null,null,null,null,null,null,{"$f":"IF(COUNTIF(M9:M37,\"N?*\") + COUNTIF(M9:M37, \"DN*\")+COUNTIF(M9:M35,\"PR*\")<>0,COUNTIF(M9:M37,\"N?*\") + COUNTIF(M9:M37, \"DN*\")+COUNTIF(M9:M35,\"PR*\"),\"\")","v":""},{"$f":"IF(COUNTIF(N9:N37,\"N?*\") + COUNTIF(N9:N37, \"DN*\")+COUNTIF(N9:N35,\"PR*\")<>0,COUNTIF(N9:N37,\"N?*\") + COUNTIF(N9:N37, \"DN*\")+COUNTIF(N9:N35,\"PR*\"),\"\")","v":""},"","","","","","","","","","","","","","","","","","","","","","","","","","","","","",{"$f":"IF(A38<>\"\",IFERROR(VLOOKUP(M38,Tabelas!B:D,3,0),0),\"\")","v":0},{"$f":"IF(A38<>\"\",IFERROR(VLOOKUP(N38,Tabelas!B:D,3,0),0),\"\")","v":0},{"$f":"IF(A38<>\"\",IFERROR(VLOOKUP(O38,Tabelas!B:D,3,0),0),\"\")","v":0},{"$f":"IF(A38<>\"\",IFERROR(VLOOKUP(P38,Tabelas!B:D,3,0),0),\"\")","v":0},{"$f":"IF(A38<>\"\",IFERROR(VLOOKUP(Q38,Tabelas!B:D,3,0),0),\"\")","v":0},{"$f":"IF(A38<>\"\",IFERROR(VLOOKUP(R38,Tabelas!B:D,3,0),0),\"\")","v":0},{"$f":"IF(A38<>\"\",IFERROR(VLOOKUP(S38,Tabelas!B:D,3,0),0),\"\")","v":0},{"$f":"IF(A38<>\"\",IFERROR(VLOOKUP(T38,Tabelas!B:D,3,0),0),\"\")","v":0},{"$f":"IF(A38<>\"\",IFERROR(VLOOKUP(U38,Tabelas!B:D,3,0),0),\"\")","v":0},{"$f":"IF(A38<>\"\",IFERROR(VLOOKUP(V38,Tabelas!B:D,3,0),0),\"\")","v":0},{"$f":"IF(A38<>\"\",IFERROR(VLOOKUP(W38,Tabelas!B:D,3,0),0),\"\")","v":0},{"$f":"IF(A38<>\"\",IFERROR(VLOOKUP(X38,Tabelas!B:D,3,0),0),\"\")","v":0},{"$f":"IF(A38<>\"\",IFERROR(VLOOKUP(Y38,Tabelas!B:D,3,0),0),\"\")","v":0},{"$f":"IF(A38<>\"\",IFERROR(VLOOKUP(Z38,Tabelas!B:D,3,0),0),\"\")","v":0},{"$f":"IF(A38<>\"\",IFERROR(VLOOKUP(AA38,Tabelas!B:D,3,0),0),\"\")","v":0},{"$f":"IF(A38<>\"\",IFERROR(VLOOKUP(AB38,Tabelas!B:D,3,0),0),\"\")","v":0},{"$f":"IF(A38<>\"\",IFERROR(VLOOKUP(AC38,Tabelas!B:D,3,0),0),\"\")","v":0},{"$f":"IF(A38<>\"\",IFERROR(VLOOKUP(AD38,Tabelas!B:D,3,0),0),\"\")","v":0},{"$f":"IF(A38<>\"\",IFERROR(VLOOKUP(AE38,Tabelas!B:D,3,0),0),\"\")","v":0},{"$f":"IF(A38<>\"\",IFERROR(VLOOKUP(AF38,Tabelas!B:D,3,0),0),\"\")","v":0},{"$f":"IF(A38<>\"\",IFERROR(VLOOKUP(AG38,Tabelas!B:D,3,0),0),\"\")","v":0},{"$f":"IF(A38<>\"\",IFERROR(VLOOKUP(AH38,Tabelas!B:D,3,0),0),\"\")","v":0},{"$f":"IF(A38<>\"\",IFERROR(VLOOKUP(AI38,Tabelas!B:D,3,0),0),\"\")","v":0},{"$f":"IF(A38<>\"\",IFERROR(VLOOKUP(AJ38,Tabelas!B:D,3,0),0),\"\")","v":0},{"$f":"IF(A38<>\"\",IFERROR(VLOOKUP(AK38,Tabelas!B:D,3,0),0),\"\")","v":0},{"$f":"IF(A38<>\"\",IFERROR(VLOOKUP(AL38,Tabelas!B:D,3,0),0),\"\")","v":0},{"$f":"IF(A38<>\"\",IFERROR(VLOOKUP(AM38,Tabelas!B:D,3,0),0),\"\")","v":0},{"$f":"IF(A38<>\"\",IFERROR(VLOOKUP(AN38,Tabelas!B:D,3,0),0),\"\")","v":0},{"$f":"IF(A38<>\"\",IFERROR(VLOOKUP(AO38,Tabelas!B:D,3,0),0),\"\")","v":0},{"$f":"IF(A38<>\"\",IFERROR(VLOOKUP(AP38,Tabelas!B:D,3,0),0),\"\")","v":0},{"$f":"IF(A38<>\"\",IFERROR(VLOOKUP(AQ38,Tabelas!B:D,3,0),0),\"\")","v":0}]
[null,null,null,null,null,null,null,null,null,null,null,null,null,null,null,null,null,null,null,null,null,null,null,null,null,null,null,null,null,null,null,null,null,null,null,null,null,null,null,null,null,null,null,{"$f":"IF(A39<>\"\",IFERROR(VLOOKUP(M39,Tabelas!B:D,3,0),0),\"\")","v":""},{"$f":"IF(A39<>\"\",IFERROR(VLOOKUP(N39,Tabelas!B:D,3,0),0),\"\")","v":""},{"$f":"IF(A39<>\"\",IFERROR(VLOOKUP(O39,Tabelas!B:D,3,0),0),\"\")","v":""},{"$f":"IF(A39<>\"\",IFERROR(VLOOKUP(P39,Tabelas!B:D,3,0),0),\"\")","v":""},{"$f":"IF(A39<>\"\",IFERROR(VLOOKUP(Q39,Tabelas!B:D,3,0),0),\"\")","v":""},{"$f":"IF(A39<>\"\",IFERROR(VLOOKUP(R39,Tabelas!B:D,3,0),0),\"\")","v":""},{"$f":"IF(A39<>\"\",IFERROR(VLOOKUP(S39,Tabelas!B:D,3,0),0),\"\")","v":""},{"$f":"IF(A39<>\"\",IFERROR(VLOOKUP(T39,Tabelas!B:D,3,0),0),\"\")","v":""},{"$f":"IF(A39<>\"\",IFERROR(VLOOKUP(U39,Tabelas!B:D,3,0),0),\"\")","v":""},{"$f":"IF(A39<>\"\",IFERROR(VLOOKUP(V39,Tabelas!B:D,3,0),0),\"\")","v":""},{"$f":"IF(A39<>\"\",IFERROR(VLOOKUP(W39,Tabelas!B:D,3,0),0),\"\")","v":""},{"$f":"IF(A39<>\"\",IFERROR(VLOOKUP(X39,Tabelas!B:D,3,0),0),\"\")","v":""},{"$f":"IF(A39<>\"\",IFERROR(VLOOKUP(Y39,Tabelas!B:D,3,0),0),\"\")","v":""},{"$f":"IF(A39<>\"\",IFERROR(VLOOKUP(Z39,Tabelas!B:D,3,0),0),\"\")","v":""},{"$f":"IF(A39<>\"\",IFERROR(VLOOKUP(AA39,Tabelas!B:D,3,0),0),\"\")","v":""},{"$f":"IF(A39<>\"\",IFERROR(VLOOKUP(AB39,Tabelas!B:D,3,0),0),\"\")","v":""},{"$f":"IF(A39<>\"\",IFERROR(VLOOKUP(AC39,Tabelas!B:D,3,0),0),\"\")","v":""},{"$f":"IF(A39<>\"\",IFERROR(VLOOKUP(AD39,Tabelas!B:D,3,0),0),\"\")","v":""},{"$f":"IF(A39<>\"\",IFERROR(VLOOKUP(AE39,Tabelas!B:D,3,0),0),\"\")","v":""},{"$f":"IF(A39<>\"\",IFERROR(VLOOKUP(AF39,Tabelas!B:D,3,0),0),\"\")","v":""},{"$f":"IF(A39<>\"\",IFERROR(VLOOKUP(AG39,Tabelas!B:D,3,0),0),\"\")","v":""},{"$f":"IF(A39<>\"\",IFERROR(VLOOKUP(AH39,Tabelas!B:D,3,0),0),\"\")","v":""},{"$f":"IF(A39<>\"\",IFERROR(VLOOKUP(AI39,Tabelas!B:D,3,0),0),\"\")","v":""},{"$f":"IF(A39<>\"\",IFERROR(VLOOKUP(AJ39,Tabelas!B:D,3,0),0),\"\")","v":""},{"$f":"IF(A39<>\"\",IFERROR(VLOOKUP(AK39,Tabelas!B:D,3,0),0),\"\")","v":""},{"$f":"IF(A39<>\"\",IFERROR(VLOOKUP(AL39,Tabelas!B:D,3,0),0),\"\")","v":""},{"$f":"IF(A39<>\"\",IFERROR(VLOOKUP(AM39,Tabelas!B:D,3,0),0),\"\")","v":""},{"$f":"IF(A39<>\"\",IFERROR(VLOOKUP(AN39,Tabelas!B:D,3,0),0),\"\")","v":""},{"$f":"IF(A39<>\"\",IFERROR(VLOOKUP(AO39,Tabelas!B:D,3,0),0),\"\")","v":""},{"$f":"IF(A39<>\"\",IFERROR(VLOOKUP(AP39,Tabelas!B:D,3,0),0),\"\")","v":""},{"$f":"IF(A39<>\"\",IFERROR(VLOOKUP(AQ39,Tabelas!B:D,3,0),0),\"\")","v":""}]
["Legenda:"]
["Licença Maternidade","LM","Férias",null,null,null,null,null,null,"FE",null,"Ponto Facultativo",null,null,null,null,null,null,null,"PF","Manhã *",null,null,null,null,null,null,"M","Diurno (8 hrs) *",null,null,null,null,null,null,"MT"]
["Licença Paternidade","LP","Feriado",null,null,null,null,null,null,"FD",null,"Abono **",null,null,null,null,null,null,null,"AB","Tarde *",null,null,null,null,null,null,"T","Dia/ noite (24 hrs) *",null,null,null,null,null,null,"DN"]
["Licença Médica/Odontológica","L","Descanso Semanal Remunerado",null,null,null,null,null,null,"DSR",null,"Compensação de Horas",null,null,null,null,null,null,null,"CH","Plantão Dia (12 hrs) *",null,null,null,null,null,null,"D"]
["Licença Capacitação","LC","Recesso",null,null,null,null,null,null,"RC",null,"Afastamento**",null,null,null,null,null,null,null,"AF","Plantão Noite (12 hrs) *",null,null,null,null,null,null,"N"]
[]
[]
[]
[]
[]
["OBSERVAÇÕES:"]
["* Para inserção das legendas referentes às jornadas de trabalho, verificar a Tabela 1 do Anexo 12629162 do Ofício-Circular - SEI nº 9/2021/SDR/CAP/DGP-EBSERH."]
["** Para inserção das legendas referentes aos Afastamentos previstos em lei e às Compensações de horas, verificar a Tabela 2 do Anexo 12629162 do Ofício-Circular - SEI nº 9/2021/SDR/CAP/DGP-EBSERH."]

{"sheet":"Novembro","index":10,"n_rows":52,"n_cols":82,"rows_kept":52,"cut":false,"hidden":false,"merged":[[43,2,43,8],[43,9,43,10],[43,11,43,18],[43,20,43,26],[40,28,40,34],[41,2,41,8],[41,9,41,10],[41,11,41,18],[41,20,41,26],[41,28,41,34],[40,2,40,8],[40,9,40,10],[40,11,40,18],[40,20,40,26],[42,2,42,8],[42,9,42,10],[42,11,42,18],[42,20,42,26],[5,2,7,2],[5,3,7,3],[5,4,7,4],[6,81,7,81],[6,77,7,77],[6,78,7,78],[36,0,36,11],[37,0,37,11],[35,78,37,78],[35,79,37,79],[35,80,37,80],[35,0,35,11],[35,74,37,74],[35,75,37,75],[35,76,37,76],[35,77,37,77],[5,5,7,5],[5,0,7,0],[5,1,7,1],[35,81,37,81],[5,6,5,11],[5,12,5,42],[6,79,7,79],[6,11,7,11],[6,75,7,75],[6,76,7,76],[6,6,7,6],[6,7,7,7],[6,8,7,8],[6,9,7,9],[6,10,7,10],[5,43,5,73],[5,74,7,74],[5,75,5,81],[6,80,7,80],[1,0,1,42],[2,0,2,42],[3,0,3,42],[4,1,4,20],[4,23,4,34],[4,37,4,42]]}
[]
[]
["NOME DO HU"]
["ESCALA MENSAL DE TRABALHO"]
["DIVISÃO /SETOR/UNIDADE:",null,null,null,null,null,null,null,null,null,null,null,null,null,null,null,null,null,null,null,null,"MÊS:",null,"Novembro",null,null,null,null,null,null,null,null,null,null,null,"ANO:",null,2023]
["NOME COMPLETO","SIAPE","     Registro Conselho Classe","Cargo","Vínculo","    C.H Sem","INTERVALO",null,null,null,null,null,"DIAS DO MÊS",null,null,null,null,null,null,null,null,null,null,null,null,null,null,null,null,null,null,null,null,null,null,null,null,null,null,null,null,null,null,"CÁLCULO DAS HORAS",null,null,null,null,null,null,null,null,null,null,null,null,null,null,null,null,null,null,null,null,null,null,null,null,null,null,null,null,null,null,"CH Men.","Dias"]
[null,null,null,null,null,null,"15' M","15' T","15' N","1H D","1H N","2H",1,2,3,4,5,6,7,8,9,10,11,12,13,14,15,16,17,18,19,20,21,22,23,24,25,{"$f":"IF(DAY(DATE(AL5,VLOOKUP(X5,Tabelas!M:N,2,0)+1,1)-1)>=26,26,\"\")","v":26},{"$f":"IF(DAY(DATE(AL5,VLOOKUP(X5,Tabelas!M:N,2,0)+1,1)-1)>=27,27,\"\")","v":27},{"$f":"IF(DAY(DATE(AL5,VLOOKUP(X5,Tabelas!M:N,2,0)+1,1)-1)>=28,28,\"\")","v":28},{"$f":"IF(DAY(DATE(AL5,VLOOKUP(X5,Tabelas!M:N,2,0)+1,1)-1)>=29,29,\"\")","v":29},{"$f":"IF(DAY(DATE(AL5,VLOOKUP(X5,Tabelas!M:N,2,0)+1,1)-1)>=30,30,\"\")","v":30},{"$f":"IF(DAY(DATE(AL5,VLOOKUP(X5,Tabelas!M:N,2,0)+1,1)-1)>=31,31,\"\")","v":""},null,null,null,null,null,null,null,null,null,null,null,null,null,null,null,null,null,null,null,null,null,null,null,null,null,null,null,null,null,null,null,null,"LM/LP/L","AB","FE","LC","CH","AF  "," Total Afast."]
[null,null,null,null,null,null,null,null,null,null,null,null,{"$f":"IF(M7<>\"\",IFERROR(VLOOKUP(WEEKDAY(CONCATENATE(M7,$X$5,$AL$5)),Tabelas!$I:$J,2,0),\"\"),\"\")","v":"QUA"},{"$f":"IF(N7<>\"\",IFERROR(VLOOKUP(WEEKDAY(CONCATENATE(N7,$X$5,$AL$5)),Tabelas!$I:$J,2,0),\"\"),\"\")","v":"QUI"},{"$f":"IF(O7<>\"\",IFERROR(VLOOKUP(WEEKDAY(CONCATENATE(O7,$X$5,$AL$5)),Tabelas!$I:$J,2,0),\"\"),\"\")","v":"SEX"},{"$f":"IF(P7<>\"\",IFERROR(VLOOKUP(WEEKDAY(CONCATENATE(P7,$X$5,$AL$5)),Tabelas!$I:$J,2,0),\"\"),\"\")","v":"SAB"},{"$f":"IF(Q7<>\"\",IFERROR(VLOOKUP(WEEKDAY(CONCATENATE(Q7,$X$5,$AL$5)),Tabelas!$I:$J,2,0),\"\"),\"\")","v":"DOM"},{"$f":"IF(R7<>\"\",IFERROR(VLOOKUP(WEEKDAY(CONCATENATE(R7,$X$5,$AL$5)),Tabelas!$I:$J,2,0),\"\"),\"\")","v":"SEG"},{"$f":"IF(S7<>\"\",IFERROR(VLOOKUP(WEEKDAY(CONCATENATE(S7,$X$5,$AL$5)),Tabelas!$I:$J,2,0),\"\"),\"\")","v":"TER"},{"$f":"IF(T7<>\"\",IFERROR(VLOOKUP(WEEKDAY(CONCATENATE(T7,$X$5,$AL$5)),Tabelas!$I:$J,2,0),\"\"),\"\")","v":"QUA"},{"$f":"IF(U7<>\"\",IFERROR(VLOOKUP(WEEKDAY(CONCATENATE(U7,$X$5,$AL$5)),Tabelas!$I:$J,2,0),\"\"),\"\")","v":"QUI"},{"$f":"IF(V7<>\"\",IFERROR(VLOOKUP(WEEKDAY(CONCATENATE(V7,$X$5,$AL$5)),Tabelas!$I:$J,2,0),\"\"),\"\")","v":"SEX"},{"$f":"IF(W7<>\"\",IFERROR(VLOOKUP(WEEKDAY(CONCATENATE(W7,$X$5,$AL$5)),Tabelas!$I:$J,2,0),\"\"),\"\")","v":"SAB"},{"$f":"IF(X7<>\"\",IFERROR(VLOOKUP(WEEKDAY(CONCATENATE(X7,$X$5,$AL$5)),Tabelas!$I:$J,2,0),\"\"),\"\")","v":"DOM"},{"$f":"IF(Y7<>\"\",IFERROR(VLOOKUP(WEEKDAY(CONCATENATE(Y7,$X$5,$AL$5)),Tabelas!$I:$J,2,0),\"\"),\"\")","v":"SEG"},{"$f":"IF(Z7<>\"\",IFERROR(VLOOKUP(WEEKDAY(CONCATENATE(Z7,$X$5,$AL$5)),Tabelas!$I:$J,2,0),\"\"),\"\")","v":"TER"},{"$f":"IF(AA7<>\"\",IFERROR(VLOOKUP(WEEKDAY(CONCATENATE(AA7,$X$5,$AL$5)),Tabelas!$I:$J,2,0),\"\"),\"\")","v":"QUA"},{"$f":"IF(AB7<>\"\",IFERROR(VLOOKUP(WEEKDAY(CONCATENATE(AB7,$X$5,$AL$5)),Tabelas!$I:$J,2,0),\"\"),\"\")","v":"QUI"},{"$f":"IF(AC7<>\"\",IFERROR(VLOOKUP(WEEKDAY(CONCATENATE(AC7,$X$5,$AL$5)),Tabelas!$I:$J,2,0),\"\"),\"\")","v":"SEX"},{"$f":"IF(AD7<>\"\",IFERROR(VLOOKUP(WEEKDAY(CONCATENATE(AD7,$X$5,$AL$5)),Tabelas!$I:$J,2,0),\"\"),\"\")","v":"SAB"},{"$f":"IF(AE7<>\"\",IFERROR(VLOOKUP(WEEKDAY(CONCATENATE(AE7,$X$5,$AL$5)),Tabelas!$I:$J,2,0),\"\"),\"\")","v":"DOM"},{"$f":"IF(AF7<>\"\",IFERROR(VLOOKUP(WEEKDAY(CONCATENATE(AF7,$X$5,$AL$5)),Tabelas!$I:$J,2,0),\"\"),\"\")","v":"SEG"},{"$f":"IF(AG7<>\"\",IFERROR(VLOOKUP(WEEKDAY(CONCATENATE(AG7,$X$5,$AL$5)),Tabelas!$I:$J,2,0),\"\"),\"\")","v":"TER"},{"$f":"IF(AH7<>\"\",IFERROR(VLOOKUP(WEEKDAY(CONCATENATE(AH7,$X$5,$AL$5)),Tabelas!$I:$J,2,0),\"\"),\"\")","v":"QUA"},{"$f":"IF(AI7<>\"\",IFERROR(VLOOKUP(WEEKDAY(CONCATENATE(AI7,$X$5,$AL$5)),Tabelas!$I:$J,2,0),\"\"),\"\")","v":"QUI"},{"$f":"IF(AJ7<>\"\",IFERROR(VLOOKUP(WEEKDAY(CONCATENATE(AJ7,$X$5,$AL$5)),Tabelas!$I:$J,2,0),\"\"),\"\")","v":"SEX"},{"$f":"IF(AK7<>\"\",IFERROR(VLOOKUP(WEEKDAY(CONCATENATE(AK7,$X$5,$AL$5)),Tabelas!$I:$J,2,0),\"\"),\"\")","v":"SAB"},{"$f":"IF(AL7<>\"\",IFERROR(VLOOKUP(WEEKDAY(CONCATENATE(AL7,$X$5,$AL$5)),Tabelas!$I:$J,2,0),\"\"),\"\")","v":"DOM"},{"$f":"IF(AM7<>\"\",IFERROR(VLOOKUP(WEEKDAY(CONCATENATE(AM7,$X$5,$AL$5)),Tabelas!$I:$J,2,0),\"\"),\"\")","v":"SEG"},{"$f":"IF(AN7<>\"\",IFERROR(VLOOKUP(WEEKDAY(CONCATENATE(AN7,$X$5,$AL$5)),Tabelas!$I:$J,2,0),\"\"),\"\")","v":"TER"},{"$f":"IF(AO7<>\"\",IFERROR(VLOOKUP(WEEKDAY(CONCATENATE(AO7,$X$5,$AL$5)),Tabelas!$I:$J,2,0),\"\"),\"\")","v":"QUA"},{"$f":"IF(AP7<>\"\",IFERROR(VLOOKUP(WEEKDAY(CONCATENATE(AP7,$X$5,$AL$5)),Tabelas!$I:$J,2,0),\"\"),\"\")","v":"QUI"},{"$f":"IF(AQ7<>\"\",IFERROR(VLOOKUP(WEEKDAY(CONCATENATE(AQ7,$X$5,$AL$5)),Tabelas!$I:$J,2,0),\"\"),\"\")","v":""},1,2,3,4,5,6,7,8,9,10,11,12,13,14,15,16,17,18,19,20,21,22,23,24,25,26,27,28,29,30,31]
["FULANO 1",1,null,null,null,null,null,null,null,null,null,null,null,null,null,null,null,null,null,null,null,null,null,null,null,null,null,null,null,null,null,null,null,null,null,null,null,null,null,null,null,null,null,{"$f":"IF(A9<>\"\",IFERROR(VLOOKUP(M9,Tabelas!B:D,3,0),0),\"\")","v":0},{"$f":"IF(A9<>\"\",IFERROR(VLOOKUP(N9,Tabelas!B:D,3,0),0),\"\")","v":0},{"$f":"IF(A9<>\"\",IFERROR(VLOOKUP(O9,Tabelas!B:D,3,0),0),\"\")","v":0},{"$f":"IF(A9<>\"\",IFERROR(VLOOKUP(P9,Tabelas!B:D,3,0),0),\"\")","v":0},{"$f":"IF(A9<>\"\",IFERROR(VLOOKUP(Q9,Tabelas!B:D,3,0),0),\"\")","v":0},{"$f":"IF(A9<>\"\",IFERROR(VLOOKUP(R9,Tabelas!B:D,3,0),0),\"\")","v":0},{"$f":"IF(A9<>\"\",IFERROR(VLOOKUP(S9,Tabelas!B:D,3,0),0),\"\")","v":0},{"$f":"IF(A9<>\"\",IFERROR(VLOOKUP(T9,Tabelas!B:D,3,0),0),\"\")","v":0},{"$f":"IF(A9<>\"\",IFERROR(VLOOKUP(U9,Tabelas!B:D,3,0),0),\"\")","v":0},{"$f":"IF(A9<>\"\",IFERROR(VLOOKUP(V9,Tabelas!B:D,3,0),0),\"\")","v":0},{"$f":"IF(A9<>\"\",IFERROR(VLOOKUP(W9,Tabelas!B:D,3,0),0),\"\")","v":0},{"$f":"IF(A9<>\"\",IFERROR(VLOOKUP(X9,Tabelas!B:D,3,0),0),\"\")","v":0},{"$f":"IF(A9<>\"\",IFERROR(VLOOKUP(Y9,Tabelas!B:D,3,0),0),\"\")","v":0},{"$f":"IF(A9<>\"\",IFERROR(VLOOKUP(Z9,Tabelas!B:D,3,0),0),\"\")","v":0},{"$f":"IF(A9<>\"\",IFERROR(VLOOKUP(AA9,Tabelas!B:D,3,0),0),\"\")","v":0},{"$f":"IF(A9<>\"\",IFERROR(VLOOKUP(AB9,Tabelas!B:D,3,0),0),\"\")","v":0},{"$f":"IF(A9<>\"\",IFERROR(VLOOKUP(AC9,Tabelas!B:D,3,0),0),\"\")","v":0},{"$f":"IF(A9<>\"\",IFERROR(VLOOKUP(AD9,Tabelas!B:D,3,0),0),\"\")","v":0},{"$f":"IF(A9<>\"\",IFERROR(VLOOKUP(AE9,Tabelas!B:D,3,0),0),\"\")","v":0},{"$f":"IF(A9<>\"\",IFERROR(VLOOKUP(AF9,Tabelas!B:D,3,0),0),\"\")","v":0},{"$f":"IF(A9<>\"\",IFERROR(VLOOKUP(AG9,Tabelas!B:D,3,0),0),\"\")","v":0},{"$f":"IF(A9<>\"\",IFERROR(VLOOKUP(AH9,Tabelas!B:D,3,0),0),\"\")","v":0},{"$f":"IF(A9<>\"\",IFERROR(VLOOKUP(AI9,Tabelas!B:D,3,0),0),\"\")","v":0},{"$f":"IF(A9<>\"\",IFERROR(VLOOKUP(AJ9,Tabelas!B:D,3,0),0),\"\")","v":0},{"$f":"IF(A9<>\"\",IFERROR(VLOOKUP(AK9,Tabelas!B:D,3,0),0),\"\")","v":0},{"$f":"IF(A9<>\"\",IFERROR(VLOOKUP(AL9,Tabelas!B:D,3,0),0),\"\")","v":0},{"$f":"IF(A9<>\"\",IFERROR(VLOOKUP(AM9,Tabelas!B:D,3,0),0),\"\")","v":0},{"$f":"IF(A9<>\"\",IFERROR(VLOOKUP(AN9,Tabelas!B:D,3,0),0),\"\")","v":0},{"$f":"IF(A9<>\"\",IFERROR(VLOOKUP(AO9,Tabelas!B:D,3,0),0),\"\")","v":0},{"$f":"IF(A9<>\"\",IFERROR(VLOOKUP(AP9,Tabelas!B:D,3,0),0),\"\")","v":0},{"$f":"IF(A9<>\"\",IFERROR(VLOOKUP(AQ9,Tabelas!B:D,3,0),0),\"\")","v":0},{"$f":"IF(AND(A9<>\"\",E9=\"Ebserh\"),SUM(AR9:BV9)+COUNTIF(M9:AQ9,\"N*\")+COUNTIF(M9:AQ9,\"DN*\"),IF(AND(A9<>\"\",E9<>\"Ebserh\"),SUM(AR9:BV9),\"\"))","v":0},{"$f":"IF(A9<>\"\",COUNTIF(M9:AQ9,\"LM\")+COUNTIF(M9:AQ9,\"L*\")+COUNTIF(M9:AQ9,\"LP\"),\"\")","v":0},{"$f":"IF(A9<>\"\",COUNTIF(M9:AQ9,\"AB*\"),\"\")","v":0},{"$f":"IF(A9<>\"\",COUNTIF(M9:AQ9,\"FE\"),\"\")","v":0},{"$f":"IF(A9<>\"\",COUNTIF(M9:AQ9,\"LC\"),\"\")","v":0},{"$f":"IF(A9<>\"\",COUNTIF(M9:AQ9,\"CH*\"),\"\")","v":0},{"$f":"IF(A9<>\"\",COUNTIF(M9:AQ9,\"AF1\")+COUNTIF(M9:AQ9,\"AF2\")+COUNTIF(M9:AQ9,\"AF3\")+COUNTIF(M9:AQ9,\"AF4\")+COUNTIF(M9:AQ9,\"AF5\")+COUNTIF(M9:AQ9,\"AF6\")+COUNTIF(M9:AQ9,\"AF7\")+COUNTIF(M9:AQ9,\"AF8\")+COUNTIF(M9:AQ9,\"AF9\")+COUNTIF(M9:AQ9,\"AF10\")+COUNTIF(M9:AQ9,\"AF11\")+COUNTIF(M9:AQ9,\"AF12\")+COUNTIF(M9:AQ9,\"AF13\")+COUNTIF(M9:AQ9,\"AF14\"),\"\")","v":0},{"$f":"IF(A9<>\"\",COUNTIF(M9:AQ9,\"CH*\")+COUNTIF(M9:AQ9,\"L*\")+COUNTIF(M9:AQ9,\"LM\")+COUNTIF(M9:AQ9,\"LP\")+COUNTIF(M9:AQ9,\"LC\")+COUNTIF(M9:AQ9,\"AB*\")+COUNTIF(M9:AQ9,\"AF1\")+COUNTIF(M9:AQ9,\"AF2\")+COUNTIF(M9:AQ9,\"AF3\")+COUNTIF(M9:AQ9,\"AF4\")+COUNTIF(M9:AQ9,\"AF5\")+COUNTIF(M9:AQ9,\"AF6\")+COUNTIF(M9:AQ9,\"AF7\")+COUNTIF(M9:AQ9,\"AF8\")+COUNTIF(M9:AQ9,\"AF9\")+COUNTIF(M9:AQ9,\"AF10\")+COUNTIF(M9:AQ9,\"AF11\")+COUNTIF(M9:AQ9,\"AF12\")+COUNTIF(M9:AQ9,\"AF13\")+COUNTIF(M9:AQ9,\"AF14\")+COUNTIF(M9:AQ9,\"RC\")+COUNTIF(M9:AQ9,\"FO\")+COUNTIF(M9:AQ9,\"FE\"),\"\")","v":0}]
["FULANO 2",2,null,null,null,null,null,null,null,null,null,null,null,null,null,null,null,null,null,null,null,null,null,null,null,null,null,null,null,null,null,null,null,null,null,null,null,null,null,null,null,null,null,{"$f":"IF(A10<>\"\",IFERROR(VLOOKUP(M10,Tabelas!B:D,3,0),0),\"\")","v":0},{"$f":"IF(A10<>\"\",IFERROR(VLOOKUP(N10,Tabelas!B:D,3,0),0),\"\")","v":0},{"$f":"IF(A10<>\"\",IFERROR(VLOOKUP(O10,Tabelas!B:D,3,0),0),\"\")","v":0},{"$f":"IF(A10<>\"\",IFERROR(VLOOKUP(P10,Tabelas!B:D,3,0),0),\"\")","v":0},{"$f":"IF(A10<>\"\",IFERROR(VLOOKUP(Q10,Tabelas!B:D,3,0),0),\"\")","v":0},{"$f":"IF(A10<>\"\",IFERROR(VLOOKUP(R10,Tabelas!B:D,3,0),0),\"\")","v":0},{"$f":"IF(A10<>\"\",IFERROR(VLOOKUP(S10,Tabelas!B:D,3,0),0),\"\")","v":0},{"$f":"IF(A10<>\"\",IFERROR(VLOOKUP(T10,Tabelas!B:D,3,0),0),\"\")","v":0},{"$f":"IF(A10<>\"\",IFERROR(VLOOKUP(U10,Tabelas!B:D,3,0),0),\"\")","v":0},{"$f":"IF(A10<>\"\",IFERROR(VLOOKUP(V10,Tabelas!B:D,3,0),0),\"\")","v":0},{"$f":"IF(A10<>\"\",IFERROR(VLOOKUP(W10,Tabelas!B:D,3,0),0),\"\")","v":0},{"$f":"IF(A10<>\"\",IFERROR(VLOOKUP(X10,Tabelas!B:D,3,0),0),\"\")","v":0},{"$f":"IF(A10<>\"\",IFERROR(VLOOKUP(Y10,Tabelas!B:D,3,0),0),\"\")","v":0},{"$f":"IF(A10<>\"\",IFERROR(VLOOKUP(Z10,Tabelas!B:D,3,0),0),\"\")","v":0},{"$f":"IF(A10<>\"\",IFERROR(VLOOKUP(AA10,Tabelas!B:D,3,0),0),\"\")","v":0},{"$f":"IF(A10<>\"\",IFERROR(VLOOKUP(AB10,Tabelas!B:D,3,0),0),\"\")","v":0},{"$f":"IF(A10<>\"\",IFERROR(VLOOKUP(AC10,Tabelas!B:D,3,0),0),\"\")","v":0},{"$f":"IF(A10<>\"\",IFERROR(VLOOKUP(AD10,Tabelas!B:D,3,0),0),\"\")","v":0},{"$f":"IF(A10<>\"\",IFERROR(VLOOKUP(AE10,Tabelas!B:D,3,0),0),\"\")","v":0},{"$f":"IF(A10<>\"\",IFERROR(VLOOKUP(AF10,Tabelas!B:D,3,0),0),\"\")","v":0},{"$f":"IF(A10<>\"\",IFERROR(VLOOKUP(AG10,Tabelas!B:D,3,0),0),\"\")","v":0},{"$f":"IF(A10<>\"\",IFERROR(VLOOKUP(AH10,Tabelas!B:D,3,0),0),\"\")","v":0},{"$f":"IF(A10<>\"\",IFERROR(VLOOKUP(AI10,Tabelas!B:D,3,0),0),\"\")","v":0},{"$f":"IF(A10<>\"\",IFERROR(VLOOKUP(AJ10,Tabelas!B:D,3,0),0),\"\")","v":0},{"$f":"IF(A10<>\"\",IFERROR(VLOOKUP(AK10,Tabelas!B:D,3,0),0),\"\")","v":0},{"$f":"IF(A10<>\"\",IFERROR(VLOOKUP(AL10,Tabelas!B:D,3,0),0),\"\")","v":0},{"$f":"IF(A10<>\"\",IFERROR(VLOOKUP(AM10,Tabelas!B:D,3,0),0),\"\")","v":0},{"$f":"IF(A10<>\"\",IFERROR(VLOOKUP(AN10,Tabelas!B:D,3,0),0),\"\")","v":0},{"$f":"IF(A10<>\"\",IFERROR(VLOOKUP(AO10,Tabelas!B:D,3,0),0),\"\")","v":0},{"$f":"IF(A10<>\"\",IFERROR(VLOOKUP(AP10,Tabelas!B:D,3,0),0),\"\")","v":0},{"$f":"IF(A10<>\"\",IFERROR(VLOOKUP(AQ10,Tabelas!B:D,3,0),0),\"\")","v":0},{"$f":"IF(AND(A10<>\"\",E10=\"Ebserh\"),SUM(AR10:BV10)+COUNTIF(M10:AQ10,\"N*\")+COUNTIF(M10:AQ10,\"DN*\"),IF(AND(A10<>\"\",E10<>\"Ebserh\"),SUM(AR10:BV10),\"\"))","v":0},{"$f":"IF(A10<>\"\",COUNTIF(M10:AQ10,\"LM\")+COUNTIF(M10:AQ10,\"L*\")+COUNTIF(M10:AQ10,\"LP\"),\"\")","v":0},{"$f":"IF(A10<>\"\",COUNTIF(M10:AQ10,\"AB*\"),\"\")","v":0},{"$f":"IF(A10<>\"\",COUNTIF(M10:AQ10,\"FE\"),\"\")","v":0},{"$f":"IF(A10<>\"\",COUNTIF(M10:AQ10,\"LC\"),\"\")","v":0},{"$f":"IF(A10<>\"\",COUNTIF(M10:AQ10,\"CH*\"),\"\")","v":0},{"$f":"IF(A10<>\"\",COUNTIF(M10:AQ10,\"AF1\")+COUNTIF(M10:AQ10,\"AF2\")+COUNTIF(M10:AQ10,\"AF3\")+COUNTIF(M10:AQ10,\"AF4\")+COUNTIF(M10:AQ10,\"AF5\")+COUNTIF(M10:AQ10,\"AF6\")+COUNTIF(M10:AQ10,\"AF7\")+COUNTIF(M10:AQ10,\"AF8\")+COUNTIF(M10:AQ10,\"AF9\")+COUNTIF(M10:AQ10,\"AF10\")+COUNTIF(M10:AQ10,\"AF11\")+COUNTIF(M10:AQ10,\"AF12\")+COUNTIF(M10:AQ10,\"AF13\")+COUNTIF(M10:AQ10,\"AF14\"),\"\")","v":0},{"$f":"IF(A10<>\"\",COUNTIF(M10:AQ10,\"CH*\")+COUNTIF(M10:AQ10,\"L*\")+COUNTIF(M10:AQ10,\"LM\")+COUNTIF(M10:AQ10,\"LP\")+COUNTIF(M10:AQ10,\"LC\")+COUNTIF(M10:AQ10,\"AB*\")+COUNTIF(M10:AQ10,\"AF1\")+COUNTIF(M10:AQ10,\"AF2\")+COUNTIF(M10:AQ10,\"AF3\")+COUNTIF(M10:AQ10,\"AF4\")+COUNTIF(M10:AQ10,\"AF5\")+COUNTIF(M10:AQ10,\"AF6\")+COUNTIF(M10:AQ10,\"AF7\")+COUNTIF(M10:AQ10,\"AF8\")+COUNTIF(M10:AQ10,\"AF9\")+COUNTIF(M10:AQ10,\"AF10\")+COUNTIF(M10:AQ10,\"AF11\")+COUNTIF(M10:AQ10,\"AF12\")+COUNTIF(M10:AQ10,\"AF13\")+COUNTIF(M10:AQ10,\"AF14\")+COUNTIF(M10:AQ10,\"RC\")+COUNTIF(M10:AQ10,\"FO\")+COUNTIF(M10:AQ10,\"FE\"),\"\")","v":0}]
["FULANO 3",3,null,null,null,null,null,null,null,null,null,null,null,null,null,null,null,null,null,null,null,null,null,null,null,null,null,null,null,null,null,null,null,null,null,null,null,null,null,null,null,null,null,{"$f":"IF(A11<>\"\",IFERROR(VLOOKUP(M11,Tabelas!B:D,3,0),0),\"\")","v":0},{"$f":"IF(A11<>\"\",IFERROR(VLOOKUP(N11,Tabelas!B:D,3,0),0),\"\")","v":0},{"$f":"IF(A11<>\"\",IFERROR(VLOOKUP(O11,Tabelas!B:D,3,0),0),\"\")","v":0},{"$f":"IF(A11<>\"\",IFERROR(VLOOKUP(P11,Tabelas!B:D,3,0),0),\"\")","v":0},{"$f":"IF(A11<>\"\",IFERROR(VLOOKUP(Q11,Tabelas!B:D,3,0),0),\"\")","v":0},{"$f":"IF(A11<>\"\",IFERROR(VLOOKUP(R11,Tabelas!B:D,3,0),0),\"\")","v":0},{"$f":"IF(A11<>\"\",IFERROR(VLOOKUP(S11,Tabelas!B:D,3,0),0),\"\")","v":0},{"$f":"IF(A11<>\"\",IFERROR(VLOOKUP(T11,Tabelas!B:D,3,0),0),\"\")","v":0},{"$f":"IF(A11<>\"\",IFERROR(VLOOKUP(U11,Tabelas!B:D,3,0),0),\"\")","v":0},{"$f":"IF(A11<>\"\",IFERROR(VLOOKUP(V11,Tabelas!B:D,3,0),0),\"\")","v":0},{"$f":"IF(A11<>\"\",IFERROR(VLOOKUP(W11,Tabelas!B:D,3,0),0),\"\")","v":0},{"$f":"IF(A11<>\"\",IFERROR(VLOOKUP(X11,Tabelas!B:D,3,0),0),\"\")","v":0},{"$f":"IF(A11<>\"\",IFERROR(VLOOKUP(Y11,Tabelas!B:D,3,0),0),\"\")","v":0},{"$f":"IF(A11<>\"\",IFERROR(VLOOKUP(Z11,Tabelas!B:D,3,0),0),\"\")","v":0},{"$f":"IF(A11<>\"\",IFERROR(VLOOKUP(AA11,Tabelas!B:D,3,0),0),\"\")","v":0},{"$f":"IF(A11<>\"\",IFERROR(VLOOKUP(AB11,Tabelas!B:D,3,0),0),\"\")","v":0},{"$f":"IF(A11<>\"\",IFERROR(VLOOKUP(AC11,Tabelas!B:D,3,0),0),\"\")","v":0},{"$f":"IF(A11<>\"\",IFERROR(VLOOKUP(AD11,Tabelas!B:D,3,0),0),\"\")","v":0},{"$f":"IF(A11<>\"\",IFERROR(VLOOKUP(AE11,Tabelas!B:D,3,0),0),\"\")","v":0},{"$f":"IF(A11<>\"\",IFERROR(VLOOKUP(AF11,Tabelas!B:D,3,0),0),\"\")","v":0},{"$f":"IF(A11<>\"\",IFERROR(VLOOKUP(AG11,Tabelas!B:D,3,0),0),\"\")","v":0},{"$f":"IF(A11<>\"\",IFERROR(VLOOKUP(AH11,Tabelas!B:D,3,0),0),\"\")","v":0},{"$f":"IF(A11<>\"\",IFERROR(VLOOKUP(AI11,Tabelas!B:D,3,0),0),\"\")","v":0},{"$f":"IF(A11<>\"\",IFERROR(VLOOKUP(AJ11,Tabelas!B:D,3,0),0),\"\")","v":0},{"$f":"IF(A11<>\"\",IFERROR(VLOOKUP(AK11,Tabelas!B:D,3,0),0),\"\")","v":0},{"$f":"IF(A11<>\"\",IFERROR(VLOOKUP(AL11,Tabelas!B:D,3,0),0),\"\")","v":0},{"$f":"IF(A11<>\"\",IFERROR(VLOOKUP(AM11,Tabelas!B:D,3,0),0),\"\")","v":0},{"$f":"IF(A11<>\"\",IFERROR(VLOOKUP(AN11,Tabelas!B:D,3,0),0),\"\")","v":0},{"$f":"IF(A11<>\"\",IFERROR(VLOOKUP(AO11,Tabelas!B:D,3,0),0),\"\")","v":0},{"$f":"IF(A11<>\"\",IFERROR(VLOOKUP(AP11,Tabelas!B:D,3,0),0),\"\")","v":0},{"$f":"IF(A11<>\"\",IFERROR(VLOOKUP(AQ11,Tabelas!B:D,3,0),0),\"\")","v":0},0,0,0,0,0,0,0,0]
["FULANO 4",4,null,null,null,null,null,null,null,null,null,null,null,null,null,null,null,null,null,null,null,null,null,null,null,null,null,null,null,null,null,null,null,null,null,null,null,null,null,null,null,null,null,{"$f":"IF(A12<>\"\",IFERROR(VLOOKUP(M12,Tabelas!B:D,3,0),0),\"\")","v":0},{"$f":"IF(A12<>\"\",IFERROR(VLOOKUP(N12,Tabelas!B:D,3,0),0),\"\")","v":0},{"$f":"IF(A12<>\"\",IFERROR(VLOOKUP(O12,Tabelas!B:D,3,0),0),\"\")","v":0},{"$f":"IF(A12<>\"\",IFERROR(VLOOKUP(P12,Tabelas!B:D,3,0),0),\"\")","v":0},{"$f":"IF(A12<>\"\",IFERROR(VLOOKUP(Q12,Tabelas!B:D,3,0),0),\"\")","v":0},{"$f":"IF(A12<>\"\",IFERROR(VLOOKUP(R12,Tabelas!B:D,3,0),0),\"\")","v":0},{"$f":"IF(A12<>\"\",IFERROR(VLOOKUP(S12,Tabelas!B:D,3,0),0),\"\")","v":0},{"$f":"IF(A12<>\"\",IFERROR(VLOOKUP(T12,Tabelas!B:D,3,0),0),\"\")","v":0},{"$f":"IF(A12<>\"\",IFERROR(VLOOKUP(U12,Tabelas!B:D,3,0),0),\"\")","v":0},{"$f":"IF(A12<>\"\",IFERROR(VLOOKUP(V12,Tabelas!B:D,3,0),0),\"\")","v":0},{"$f":"IF(A12<>\"\",IFERROR(VLOOKUP(W12,Tabelas!B:D,3,0),0),\"\")","v":0},{"$f":"IF(A12<>\"\",IFERROR(VLOOKUP(X12,Tabelas!B:D,3,0),0),\"\")","v":0},{"$f":"IF(A12<>\"\",IFERROR(VLOOKUP(Y12,Tabelas!B:D,3,0),0),\"\")","v":0},{"$f":"IF(A12<>\"\",IFERROR(VLOOKUP(Z12,Tabelas!B:D,3,0),0),\"\")","v":0},{"$f":"IF(A12<>\"\",IFERROR(VLOOKUP(AA12,Tabelas!B:D,3,0),0),\"\")","v":0},{"$f":"IF(A12<>\"\",IFERROR(VLOOKUP(AB12,Tabelas!B:D,3,0),0),\"\")","v":0},{"$f":"IF(A12<>\"\",IFERROR(VLOOKUP(AC12,Tabelas!B:D,3,0),0),\"\")","v":0},{"$f":"IF(A12<>\"\",IFERROR(VLOOKUP(AD12,Tabelas!B:D,3,0),0),\"\")","v":0},{"$f":"IF(A12<>\"\",IFERROR(VLOOKUP(AE12,Tabelas!B:D,3,0),0),\"\")","v":0},{"$f":"IF(A12<>\"\",IFERROR(VLOOKUP(AF12,Tabelas!B:D,3,0),0),\"\")","v":0},{"$f":"IF(A12<>\"\",IFERROR(VLOOKUP(AG12,Tabelas!B:D,3,0),0),\"\")","v":0},{"$f":"IF(A12<>\"\",IFERROR(VLOOKUP(AH12,Tabelas!B:D,3,0),0),\"\")","v":0},{"$f":"IF(A12<>\"\",IFERROR(VLOOKUP(AI12,Tabelas!B:D,3,0),0),\"\")","v":0},{"$f":"IF(A12<>\"\",IFERROR(VLOOKUP(AJ12,Tabelas!B:D,3,0),0),\"\")","v":0},{"$f":"IF(A12<>\"\",IFERROR(VLOOKUP(AK12,Tabelas!B:D,3,0),0),\"\")","v":0},{"$f":"IF(A12<>\"\",IFERROR(VLOOKUP(AL12,Tabelas!B:D,3,0),0),\"\")","v":0},{"$f":"IF(A12<>\"\",IFERROR(VLOOKUP(AM12,Tabelas!B:D,3,0),0),\"\")","v":0},{"$f":"IF(A12<>\"\",IFERROR(VLOOKUP(AN12,Tabelas!B:D,3,0),0),\"\")","v":0},{"$f":"IF(A12<>\"\",IFERROR(VLOOKUP(AO12,Tabelas!B:D,3,0),0),\"\")","v":0},{"$f":"IF(A12<>\"\",IFERROR(VLOOKUP(AP12,Tabelas!B:D,3,0),0),\"\")","v":0},{"$f":"IF(A12<>\"\",IFERROR(VLOOKUP(AQ12,Tabelas!B:D,3,0),0),\"\")","v":0},0,0,0,0,0,0,0,0]
["FULANO 5",5,null,null,null,null,null,null,null,null,null,null,null,null,null,null,null,null,null,null,null,null,null,null,null,null,null,null,null,null,null,null,null,null,null,null,null,null,null,null,null,null,null,{"$f":"IF(A13<>\"\",IFERROR(VLOOKUP(M13,Tabelas!B:D,3,0),0),\"\")","v":0},{"$f":"IF(A13<>\"\",IFERROR(VLOOKUP(N13,Tabelas!B:D,3,0),0),\"\")","v":0},{"$f":"IF(A13<>\"\",IFERROR(VLOOKUP(O13,Tabelas!B:D,3,0),0),\"\")","v":0},{"$f":"IF(A13<>\"\",IFERROR(VLOOKUP(P13,Tabelas!B:D,3,0),0),\"\")","v":0},{"$f":"IF(A13<>\"\",IFERROR(VLOOKUP(Q13,Tabelas!B:D,3,0),0),\"\")","v":0},{"$f":"IF(A13<>\"\",IFERROR(VLOOKUP(R13,Tabelas!B:D,3,0),0),\"\")","v":0},{"$f":"IF(A13<>\"\",IFERROR(VLOOKUP(S13,Tabelas!B:D,3,0),0),\"\")","v":0},{"$f":"IF(A13<>\"\",IFERROR(VLOOKUP(T13,Tabelas!B:D,3,0),0),\"\")","v":0},{"$f":"IF(A13<>\"\",IFERROR(VLOOKUP(U13,Tabelas!B:D,3,0),0),\"\")","v":0},{"$f":"IF(A13<>\"\",IFERROR(VLOOKUP(V13,Tabelas!B:D,3,0),0),\"\")","v":0},{"$f":"IF(A13<>\"\",IFERROR(VLOOKUP(W13,Tabelas!B:D,3,0),0),\"\")","v":0},{"$f":"IF(A13<>\"\",IFERROR(VLOOKUP(X13,Tabelas!B:D,3,0),0),\"\")","v":0},{"$f":"IF(A13<>\"\",IFERROR(VLOOKUP(Y13,Tabelas!B:D,3,0),0),\"\")","v":0},{"$f":"IF(A13<>\"\",IFERROR(VLOOKUP(Z13,Tabelas!B:D,3,0),0),\"\")","v":0},{"$f":"IF(A13<>\"\",IFERROR(VLOOKUP(AA13,Tabelas!B:D,3,0),0),\"\")","v":0},{"$f":"IF(A13<>\"\",IFERROR(VLOOKUP(AB13,Tabelas!B:D,3,0),0),\"\")","v":0},{"$f":"IF(A13<>\"\",IFERROR(VLOOKUP(AC13,Tabelas!B:D,3,0),0),\"\")","v":0},{"$f":"IF(A13<>\"\",IFERROR(VLOOKUP(AD13,Tabelas!B:D,3,0),0),\"\")","v":0},{"$f":"IF(A13<>\"\",IFERROR(VLOOKUP(AE13,Tabelas!B:D,3,0),0),\"\")","v":0},{"$f":"IF(A13<>\"\",IFERROR(VLOOKUP(AF13,Tabelas!B:D,3,0),0),\"\")","v":0},{"$f":"IF(A13<>\"\",IFERROR(VLOOKUP(AG13,Tabelas!B:D,3,0),0),\"\")","v":0},{"$f":"IF(A13<>\"\",IFERROR(VLOOKUP(AH13,Tabelas!B:D,3,0),0),\"\")","v":0},{"$f":"IF(A13<>\"\",IFERROR(VLOOKUP(AI13,Tabelas!B:D,3,0),0),\"\")","v":0},{"$f":"IF(A13<>\"\",IFERROR(VLOOKUP(AJ13,Tabelas!B:D,3,0),0),\"\")","v":0},{"$f":"IF(A13<>\"\",IFERROR(VLOOKUP(AK13,Tabelas!B:D,3,0),0),\"\")","v":0},{"$f":"IF(A13<>\"\",IFERROR(VLOOKUP(AL13,Tabelas!B:D,3,0),0),\"\")","v":0},{"$f":"IF(A13<>\"\",IFERROR(VLOOKUP(AM13,Tabelas!B:D,3,0),0),\"\")","v":0},{"$f":"IF(A13<>\"\",IFERROR(VLOOKUP(AN13,Tabelas!B:D,3,0),0),\"\")","v":0},{"$f":"IF(A13<>\"\",IFERROR(VLOOKUP(AO13,Tabelas!B:D,3,0),0),\"\")","v":0},{"$f":"IF(A13<>\"\",IFERROR(VLOOKUP(AP13,Tabelas!B:D,3,0),0),\"\")","v":0},{"$f":"IF(A13<>\"\",IFERROR(VLOOKUP(AQ13,Tabelas!B:D,3,0),0),\"\")","v":0},0,0,0,0,0,0,0,0]
["FULANO 6",6,null,null,null,null,null,null,null,null,null,null,null,null,null,null,null,null,null,null,null,null,null,null,null,null,null,null,null,null,null,null,null,null,null,null,null,null,null,null,null,null,null,{"$f":"IF(A14<>\"\",IFERROR(VLOOKUP(M14,Tabelas!B:D,3,0),0),\"\")","v":0},{"$f":"IF(A14<>\"\",IFERROR(VLOOKUP(N14,Tabelas!B:D,3,0),0),\"\")","v":0},{"$f":"IF(A14<>\"\",IFERROR(VLOOKUP(O14,Tabelas!B:D,3,0),0),\"\")","v":0},{"$f":"IF(A14<>\"\",IFERROR(VLOOKUP(P14,Tabelas!B:D,3,0),0),\"\")","v":0},{"$f":"IF(A14<>\"\",IFERROR(VLOOKUP(Q14,Tabelas!B:D,3,0),0),\"\")","v":0},{"$f":"IF(A14<>\"\",IFERROR(VLOOKUP(R14,Tabelas!B:D,3,0),0),\"\")","v":0},{"$f":"IF(A14<>\"\",IFERROR(VLOOKUP(S14,Tabelas!B:D,3,0),0),\"\")","v":0},{"$f":"IF(A14<>\"\",IFERROR(VLOOKUP(T14,Tabelas!B:D,3,0),0),\"\")","v":0},{"$f":"IF(A14<>\"\",IFERROR(VLOOKUP(U14,Tabelas!B:D,3,0),0),\"\")","v":0},{"$f":"IF(A14<>\"\",IFERROR(VLOOKUP(V14,Tabelas!B:D,3,0),0),\"\")","v":0},{"$f":"IF(A14<>\"\",IFERROR(VLOOKUP(W14,Tabelas!B:D,3,0),0),\"\")","v":0},{"$f":"IF(A14<>\"\",IFERROR(VLOOKUP(X14,Tabelas!B:D,3,0),0),\"\")","v":0},{"$f":"IF(A14<>\"\",IFERROR(VLOOKUP(Y14,Tabelas!B:D,3,0),0),\"\")","v":0},{"$f":"IF(A14<>\"\",IFERROR(VLOOKUP(Z14,Tabelas!B:D,3,0),0),\"\")","v":0},{"$f":"IF(A14<>\"\",IFERROR(VLOOKUP(AA14,Tabelas!B:D,3,0),0),\"\")","v":0},{"$f":"IF(A14<>\"\",IFERROR(VLOOKUP(AB14,Tabelas!B:D,3,0),0),\"\")","v":0},{"$f":"IF(A14<>\"\",IFERROR(VLOOKUP(AC14,Tabelas!B:D,3,0),0),\"\")","v":0},{"$f":"IF(A14<>\"\",IFERROR(VLOOKUP(AD14,Tabelas!B:D,3,0),0),\"\")","v":0},{"$f":"IF(A14<>\"\",IFERROR(VLOOKUP(AE14,Tabelas!B:D,3,0),0),\"\")","v":0},{"$f":"IF(A14<>\"\",IFERROR(VLOOKUP(AF14,Tabelas!B:D,3,0),0),\"\")","v":0},{"$f":"IF(A14<>\"\",IFERROR(VLOOKUP(AG14,Tabelas!B:D,3,0),0),\"\")","v":0},{"$f":"IF(A14<>\"\",IFERROR(VLOOKUP(AH14,Tabelas!B:D,3,0),0),\"\")","v":0},{"$f":"IF(A14<>\"\",IFERROR(VLOOKUP(AI14,Tabelas!B:D,3,0),0),\"\")","v":0},{"$f":"IF(A14<>\"\",IFERROR(VLOOKUP(AJ14,Tabelas!B:D,3,0),0),\"\")","v":0},{"$f":"IF(A14<>\"\",IFERROR(VLOOKUP(AK14,Tabelas!B:D,3,0),0),\"\")","v":0},{"$f":"IF(A14<>\"\",IFERROR(VLOOKUP(AL14,Tabelas!B:D,3,0),0),\"\")","v":0},{"$f":"IF(A14<>\"\",IFERROR(VLOOKUP(AM14,Tabelas!B:D,3,0),0),\"\")","v":0},{"$f":"IF(A14<>\"\",IFERROR(VLOOKUP(AN14,Tabelas!B:D,3,0),0),\"\")","v":0},{"$f":"IF(A14<>\"\",IFERROR(VLOOKUP(AO14,Tabelas!B:D,3,0),0),\"\")","v":0},{"$f":"IF(A14<>\"\",IFERROR(VLOOKUP(AP14,Tabelas!B:D,3,0),0),\"\")","v":0},{"$f":"IF(A14<>\"\",IFERROR(VLOOKUP(AQ14,Tabelas!B:D,3,0),0),\"\")","v":0},0,0,0,0,0,0,0,0]
["FULANO 7",7,null,null,null,null,null,null,null,null,null,null,null,null,null,null,null,null,null,null,null,null,null,null,null,null,null,null,null,null,null,null,null,null,null,null,null,null,null,null,null,null,null,{"$f":"IF(A15<>\"\",IFERROR(VLOOKUP(M15,Tabelas!B:D,3,0),0),\"\")","v":0},{"$f":"IF(A15<>\"\",IFERROR(VLOOKUP(N15,Tabelas!B:D,3,0),0),\"\")","v":0},{"$f":"IF(A15<>\"\",IFERROR(VLOOKUP(O15,Tabelas!B:D,3,0),0),\"\")","v":0},{"$f":"IF(A15<>\"\",IFERROR(VLOOKUP(P15,Tabelas!B:D,3,0),0),\"\")","v":0},{"$f":"IF(A15<>\"\",IFERROR(VLOOKUP(Q15,Tabelas!B:D,3,0),0),\"\")","v":0},{"$f":"IF(A15<>\"\",IFERROR(VLOOKUP(R15,Tabelas!B:D,3,0),0),\"\")","v":0},{"$f":"IF(A15<>\"\",IFERROR(VLOOKUP(S15,Tabelas!B:D,3,0),0),\"\")","v":0},{"$f":"IF(A15<>\"\",IFERROR(VLOOKUP(T15,Tabelas!B:D,3,0),0),\"\")","v":0},{"$f":"IF(A15<>\"\",IFERROR(VLOOKUP(U15,Tabelas!B:D,3,0),0),\"\")","v":0},{"$f":"IF(A15<>\"\",IFERROR(VLOOKUP(V15,Tabelas!B:D,3,0),0),\"\")","v":0},{"$f":"IF(A15<>\"\",IFERROR(VLOOKUP(W15,Tabelas!B:D,3,0),0),\"\")","v":0},{"$f":"IF(A15<>\"\",IFERROR(VLOOKUP(X15,Tabelas!B:D,3,0),0),\"\")","v":0},{"$f":"IF(A15<>\"\",IFERROR(VLOOKUP(Y15,Tabelas!B:D,3,0),0),\"\")","v":0},{"$f":"IF(A15<>\"\",IFERROR(VLOOKUP(Z15,Tabelas!B:D,3,0),0),\"\")","v":0},{"$f":"IF(A15<>\"\",IFERROR(VLOOKUP(AA15,Tabelas!B:D,3,0),0),\"\")","v":0},{"$f":"IF(A15<>\"\",IFERROR(VLOOKUP(AB15,Tabelas!B:D,3,0),0),\"\")","v":0},{"$f":"IF(A15<>\"\",IFERROR(VLOOKUP(AC15,Tabelas!B:D,3,0),0),\"\")","v":0},{"$f":"IF(A15<>\"\",IFERROR(VLOOKUP(AD15,Tabelas!B:D,3,0),0),\"\")","v":0},{"$f":"IF(A15<>\"\",IFERROR(VLOOKUP(AE15,Tabelas!B:D,3,0),0),\"\")","v":0},{"$f":"IF(A15<>\"\",IFERROR(VLOOKUP(AF15,Tabelas!B:D,3,0),0),\"\")","v":0},{"$f":"IF(A15<>\"\",IFERROR(VLOOKUP(AG15,Tabelas!B:D,3,0),0),\"\")","v":0},{"$f":"IF(A15<>\"\",IFERROR(VLOOKUP(AH15,Tabelas!B:D,3,0),0),\"\")","v":0},{"$f":"IF(A15<>\"\",IFERROR(VLOOKUP(AI15,Tabelas!B:D,3,0),0),\"\")","v":0},{"$f":"IF(A15<>\"\",IFERROR(VLOOKUP(AJ15,Tabelas!B:D,3,0),0),\"\")","v":0},{"$f":"IF(A15<>\"\",IFERROR(VLOOKUP(AK15,Tabelas!B:D,3,0),0),\"\")","v":0},{"$f":"IF(A15<>\"\",IFERROR(VLOOKUP(AL15,Tabelas!B:D,3,0),0),\"\")","v":0},{"$f":"IF(A15<>\"\",IFERROR(VLOOKUP(AM15,Tabelas!B:D,3,0),0),\"\")","v":0},{"$f":"IF(A15<>\"\",IFERROR(VLOOKUP(AN15,Tabelas!B:D,3,0),0),\"\")","v":0},{"$f":"IF(A15<>\"\",IFERROR(VLOOKUP(AO15,Tabelas!B:D,3,0),0),\"\")","v":0},{"$f":"IF(A15<>\"\",IFERROR(VLOOKUP(AP15,Tabelas!B:D,3,0),0),\"\")","v":0},{"$f":"IF(A15<>\"\",IFERROR(VLOOKUP(AQ15,Tabelas!B:D,3,0),0),\"\")","v":0},0,0,0,0,0,0,0,0]
["FULANO 8",8,null,null,null,null,null,null,null,null,null,null,null,null,null,null,null,null,null,null,null,null,null,null,null,null,null,null,null,null,null,null,null,null,null,null,null,null,null,null,null,null,null,{"$f":"IF(A16<>\"\",IFERROR(VLOOKUP(M16,Tabelas!B:D,3,0),0),\"\")","v":0},{"$f":"IF(A16<>\"\",IFERROR(VLOOKUP(N16,Tabelas!B:D,3,0),0),\"\")","v":0},{"$f":"IF(A16<>\"\",IFERROR(VLOOKUP(O16,Tabelas!B:D,3,0),0),\"\")","v":0},{"$f":"IF(A16<>\"\",IFERROR(VLOOKUP(P16,Tabelas!B:D,3,0),0),\"\")","v":0},{"$f":"IF(A16<>\"\",IFERROR(VLOOKUP(Q16,Tabelas!B:D,3,0),0),\"\")","v":0},{"$f":"IF(A16<>\"\",IFERROR(VLOOKUP(R16,Tabelas!B:D,3,0),0),\"\")","v":0},{"$f":"IF(A16<>\"\",IFERROR(VLOOKUP(S16,Tabelas!B:D,3,0),0),\"\")","v":0},{"$f":"IF(A16<>\"\",IFERROR(VLOOKUP(T16,Tabelas!B:D,3,0),0),\"\")","v":0},{"$f":"IF(A16<>\"\",IFERROR(VLOOKUP(U16,Tabelas!B:D,3,0),0),\"\")","v":0},{"$f":"IF(A16<>\"\",IFERROR(VLOOKUP(V16,Tabelas!B:D,3,0),0),\"\")","v":0},{"$f":"IF(A16<>\"\",IFERROR(VLOOKUP(W16,Tabelas!B:D,3,0),0),\"\")","v":0},{"$f":"IF(A16<>\"\",IFERROR(VLOOKUP(X16,Tabelas!B:D,3,0),0),\"\")","v":0},{"$f":"IF(A16<>\"\",IFERROR(VLOOKUP(Y16,Tabelas!B:D,3,0),0),\"\")","v":0},{"$f":"IF(A16<>\"\",IFERROR(VLOOKUP(Z16,Tabelas!B:D,3,0),0),\"\")","v":0},{"$f":"IF(A16<>\"\",IFERROR(VLOOKUP(AA16,Tabelas!B:D,3,0),0),\"\")","v":0},{"$f":"IF(A16<>\"\",IFERROR(VLOOKUP(AB16,Tabelas!B:D,3,0),0),\"\")","v":0},{"$f":"IF(A16<>\"\",IFERROR(VLOOKUP(AC16,Tabelas!B:D,3,0),0),\"\")","v":0},{"$f":"IF(A16<>\"\",IFERROR(VLOOKUP(AD16,Tabelas!B:D,3,0),0),\"\")","v":0},{"$f":"IF(A16<>\"\",IFERROR(VLOOKUP(AE16,Tabelas!B:D,3,0),0),\"\")","v":0},{"$f":"IF(A16<>\"\",IFERROR(VLOOKUP(AF16,Tabelas!B:D,3,0),0),\"\")","v":0},{"$f":"IF(A16<>\"\",IFERROR(VLOOKUP(AG16,Tabelas!B:D,3,0),0),\"\")","v":0},{"$f":"IF(A16<>\"\",IFERROR(VLOOKUP(AH16,Tabelas!B:D,3,0),0),\"\")","v":0},{"$f":"IF(A16<>\"\",IFERROR(VLOOKUP(AI16,Tabelas!B:D,3,0),0),\"\")","v":0},{"$f":"IF(A16<>\"\",IFERROR(VLOOKUP(AJ16,Tabelas!B:D,3,0),0),\"\")","v":0},{"$f":"IF(A16<>\"\",IFERROR(VLOOKUP(AK16,Tabelas!B:D,3,0),0),\"\")","v":0},{"$f":"IF(A16<>\"\",IFERROR(VLOOKUP(AL16,Tabelas!B:D,3,0),0),\"\")","v":0},{"$f":"IF(A16<>\"\",IFERROR(VLOOKUP(AM16,Tabelas!B:D,3,0),0),\"\")","v":0},{"$f":"IF(A16<>\"\",IFERROR(VLOOKUP(AN16,Tabelas!B:D,3,0),0),\"\")","v":0},{"$f":"IF(A16<>\"\",IFERROR(VLOOKUP(AO16,Tabelas!B:D,3,0),0),\"\")","v":0},{"$f":"IF(A16<>\"\",IFERROR(VLOOKUP(AP16,Tabelas!B:D,3,0),0),\"\")","v":0},{"$f":"IF(A16<>\"\",IFERROR(VLOOKUP(AQ16,Tabelas!B:D,3,0),0),\"\")","v":0},0,0,0,0,0,0,0,0]
["FULANO 9",9,null,null,null,null,null,null,null,null,null,null,null,null,null,null,null,null,null,null,null,null,null,null,null,null,null,null,null,null,null,null,null,null,null,null,null,null,null,null,null,null,null,{"$f":"IF(A17<>\"\",IFERROR(VLOOKUP(M17,Tabelas!B:D,3,0),0),\"\")","v":0},{"$f":"IF(A17<>\"\",IFERROR(VLOOKUP(N17,Tabelas!B:D,3,0),0),\"\")","v":0},{"$f":"IF(A17<>\"\",IFERROR(VLOOKUP(O17,Tabelas!B:D,3,0),0),\"\")","v":0},{"$f":"IF(A17<>\"\",IFERROR(VLOOKUP(P17,Tabelas!B:D,3,0),0),\"\")","v":0},{"$f":"IF(A17<>\"\",IFERROR(VLOOKUP(Q17,Tabelas!B:D,3,0),0),\"\")","v":0},{"$f":"IF(A17<>\"\",IFERROR(VLOOKUP(R17,Tabelas!B:D,3,0),0),\"\")","v":0},{"$f":"IF(A17<>\"\",IFERROR(VLOOKUP(S17,Tabelas!B:D,3,0),0),\"\")","v":0},{"$f":"IF(A17<>\"\",IFERROR(VLOOKUP(T17,Tabelas!B:D,3,0),0),\"\")","v":0},{"$f":"IF(A17<>\"\",IFERROR(VLOOKUP(U17,Tabelas!B:D,3,0),0),\"\")","v":0},{"$f":"IF(A17<>\"\",IFERROR(VLOOKUP(V17,Tabelas!B:D,3,0),0),\"\")","v":0},{"$f":"IF(A17<>\"\",IFERROR(VLOOKUP(W17,Tabelas!B:D,3,0),0),\"\")","v":0},{"$f":"IF(A17<>\"\",IFERROR(VLOOKUP(X17,Tabelas!B:D,3,0),0),\"\")","v":0},{"$f":"IF(A17<>\"\",IFERROR(VLOOKUP(Y17,Tabelas!B:D,3,0),0),\"\")","v":0},{"$f":"IF(A17<>\"\",IFERROR(VLOOKUP(Z17,Tabelas!B:D,3,0),0),\"\")","v":0},{"$f":"IF(A17<>\"\",IFERROR(VLOOKUP(AA17,Tabelas!B:D,3,0),0),\"\")","v":0},{"$f":"IF(A17<>\"\",IFERROR(VLOOKUP(AB17,Tabelas!B:D,3,0),0),\"\")","v":0},{"$f":"IF(A17<>\"\",IFERROR(VLOOKUP(AC17,Tabelas!B:D,3,0),0),\"\")","v":0},{"$f":"IF(A17<>\"\",IFERROR(VLOOKUP(AD17,Tabelas!B:D,3,0),0),\"\")","v":0},{"$f":"IF(A17<>\"\",IFERROR(VLOOKUP(AE17,Tabelas!B:D,3,0),0),\"\")","v":0},{"$f":"IF(A17<>\"\",IFERROR(VLOOKUP(AF17,Tabelas!B:D,3,0),0),\"\")","v":0},{"$f":"IF(A17<>\"\",IFERROR(VLOOKUP(AG17,Tabelas!B:D,3,0),0),\"\")","v":0},{"$f":"IF(A17<>\"\",IFERROR(VLOOKUP(AH17,Tabelas!B:D,3,0),0),\"\")","v":0},{"$f":"IF(A17<>\"\",IFERROR(VLOOKUP(AI17,Tabelas!B:D,3,0),0),\"\")","v":0},{"$f":"IF(A17<>\"\",IFERROR(VLOOKUP(AJ17,Tabelas!B:D,3,0),0),\"\")","v":0},{"$f":"IF(A17<>\"\",IFERROR(VLOOKUP(AK17,Tabelas!B:D,3,0),0),\"\")","v":0},{"$f":"IF(A17<>\"\",IFERROR(VLOOKUP(AL17,Tabelas!B:D,3,0),0),\"\")","v":0},{"$f":"IF(A17<>\"\",IFERROR(VLOOKUP(AM17,Tabelas!B:D,3,0),0),\"\")","v":0},{"$f":"IF(A17<>\"\",IFERROR(VLOOKUP(AN17,Tabelas!B:D,3,0),0),\"\")","v":0},{"$f":"IF(A17<>\"\",IFERROR(VLOOKUP(AO17,Tabelas!B:D,3,0),0),\"\")","v":0},{"$f":"IF(A17<>\"\",IFERROR(VLOOKUP(AP17,Tabelas!B:D,3,0),0),\"\")","v":0},{"$f":"IF(A17<>\"\",IFERROR(VLOOKUP(AQ17,Tabelas!B:D,3,0),0),\"\")","v":0},0,0,0,0,0,0,0,0]
["FULANO 10",10,null,null,null,null,null,null,null,null,null,null,null,null,null,null,null,null,null,null,null,null,null,null,null,null,null,null,null,null,null,null,null,null,null,null,null,null,null,null,null,null,null,{"$f":"IF(A18<>\"\",IFERROR(VLOOKUP(M18,Tabelas!B:D,3,0),0),\"\")","v":0},{"$f":"IF(A18<>\"\",IFERROR(VLOOKUP(N18,Tabelas!B:D,3,0),0),\"\")","v":0},{"$f":"IF(A18<>\"\",IFERROR(VLOOKUP(O18,Tabelas!B:D,3,0),0),\"\")","v":0},{"$f":"IF(A18<>\"\",IFERROR(VLOOKUP(P18,Tabelas!B:D,3,0),0),\"\")","v":0},{"$f":"IF(A18<>\"\",IFERROR(VLOOKUP(Q18,Tabelas!B:D,3,0),0),\"\")","v":0},{"$f":"IF(A18<>\"\",IFERROR(VLOOKUP(R18,Tabelas!B:D,3,0),0),\"\")","v":0},{"$f":"IF(A18<>\"\",IFERROR(VLOOKUP(S18,Tabelas!B:D,3,0),0),\"\")","v":0},{"$f":"IF(A18<>\"\",IFERROR(VLOOKUP(T18,Tabelas!B:D,3,0),0),\"\")","v":0},{"$f":"IF(A18<>\"\",IFERROR(VLOOKUP(U18,Tabelas!B:D,3,0),0),\"\")","v":0},{"$f":"IF(A18<>\"\",IFERROR(VLOOKUP(V18,Tabelas!B:D,3,0),0),\"\")","v":0},{"$f":"IF(A18<>\"\",IFERROR(VLOOKUP(W18,Tabelas!B:D,3,0),0),\"\")","v":0},{"$f":"IF(A18<>\"\",IFERROR(VLOOKUP(X18,Tabelas!B:D,3,0),0),\"\")","v":0},{"$f":"IF(A18<>\"\",IFERROR(VLOOKUP(Y18,Tabelas!B:D,3,0),0),\"\")","v":0},{"$f":"IF(A18<>\"\",IFERROR(VLOOKUP(Z18,Tabelas!B:D,3,0),0),\"\")","v":0},{"$f":"IF(A18<>\"\",IFERROR(VLOOKUP(AA18,Tabelas!B:D,3,0),0),\"\")","v":0},{"$f":"IF(A18<>\"\",IFERROR(VLOOKUP(AB18,Tabelas!B:D,3,0),0),\"\")","v":0},{"$f":"IF(A18<>\"\",IFERROR(VLOOKUP(AC18,Tabelas!B:D,3,0),0),\"\")","v":0},{"$f":"IF(A18<>\"\",IFERROR(VLOOKUP(AD18,Tabelas!B:D,3,0),0),\"\")","v":0},{"$f":"IF(A18<>\"\",IFERROR(VLOOKUP(AE18,Tabelas!B:D,3,0),0),\"\")","v":0},{"$f":"IF(A18<>\"\",IFERROR(VLOOKUP(AF18,Tabelas!B:D,3,0),0),\"\")","v":0},{"$f":"IF(A18<>\"\",IFERROR(VLOOKUP(AG18,Tabelas!B:D,3,0),0),\"\")","v":0},{"$f":"IF(A18<>\"\",IFERROR(VLOOKUP(AH18,Tabelas!B:D,3,0),0),\"\")","v":0},{"$f":"IF(A18<>\"\",IFERROR(VLOOKUP(AI18,Tabelas!B:D,3,0),0),\"\")","v":0},{"$f":"IF(A18<>\"\",IFERROR(VLOOKUP(AJ18,Tabelas!B:D,3,0),0),\"\")","v":0},{"$f":"IF(A18<>\"\",IFERROR(VLOOKUP(AK18,Tabelas!B:D,3,0),0),\"\")","v":0},{"$f":"IF(A18<>\"\",IFERROR(VLOOKUP(AL18,Tabelas!B:D,3,0),0),\"\")","v":0},{"$f":"IF(A18<>\"\",IFERROR(VLOOKUP(AM18,Tabelas!B:D,3,0),0),\"\")","v":0},{"$f":"IF(A18<>\"\",IFERROR(VLOOKUP(AN18,Tabelas!B:D,3,0),0),\"\")","v":0},{"$f":"IF(A18<>\"\",IFERROR(VLOOKUP(AO18,Tabelas!B:D,3,0),0),\"\")","v":0},{"$f":"IF(A18<>\"\",IFERROR(VLOOKUP(AP18,Tabelas!B:D,3,0),0),\"\")","v":0},{"$f":"IF(A18<>\"\",IFERROR(VLOOKUP(AQ18,Tabelas!B:D,3,0),0),\"\")","v":0},0,0,0,0,0,0,0,0]
["FULANO 11",11,null,null,null,null,null,null,null,null,null,null,null,null,null,null,null,null,null,null,null,null,null,null,null,null,null,null,null,null,null,null,null,null,null,null,null,null,null,null,null,null,null,{"$f":"IF(A19<>\"\",IFERROR(VLOOKUP(M19,Tabelas!B:D,3,0),0),\"\")","v":0},{"$f":"IF(A19<>\"\",IFERROR(VLOOKUP(N19,Tabelas!B:D,3,0),0),\"\")","v":0},{"$f":"IF(A19<>\"\",IFERROR(VLOOKUP(O19,Tabelas!B:D,3,0),0),\"\")","v":0},{"$f":"IF(A19<>\"\",IFERROR(VLOOKUP(P19,Tabelas!B:D,3,0),0),\"\")","v":0},{"$f":"IF(A19<>\"\",IFERROR(VLOOKUP(Q19,Tabelas!B:D,3,0),0),\"\")","v":0},{"$f":"IF(A19<>\"\",IFERROR(VLOOKUP(R19,Tabelas!B:D,3,0),0),\"\")","v":0},{"$f":"IF(A19<>\"\",IFERROR(VLOOKUP(S19,Tabelas!B:D,3,0),0),\"\")","v":0},{"$f":"IF(A19<>\"\",IFERROR(VLOOKUP(T19,Tabelas!B:D,3,0),0),\"\")","v":0},{"$f":"IF(A19<>\"\",IFERROR(VLOOKUP(U19,Tabelas!B:D,3,0),0),\"\")","v":0},{"$f":"IF(A19<>\"\",IFERROR(VLOOKUP(V19,Tabelas!B:D,3,0),0),\"\")","v":0},{"$f":"IF(A19<>\"\",IFERROR(VLOOKUP(W19,Tabelas!B:D,3,0),0),\"\")","v":0},{"$f":"IF(A19<>\"\",IFERROR(VLOOKUP(X19,Tabelas!B:D,3,0),0),\"\")","v":0},{"$f":"IF(A19<>\"\",IFERROR(VLOOKUP(Y19,Tabelas!B:D,3,0),0),\"\")","v":0},{"$f":"IF(A19<>\"\",IFERROR(VLOOKUP(Z19,Tabelas!B:D,3,0),0),\"\")","v":0},{"$f":"IF(A19<>\"\",IFERROR(VLOOKUP(AA19,Tabelas!B:D,3,0),0),\"\")","v":0},{"$f":"IF(A19<>\"\",IFERROR(VLOOKUP(AB19,Tabelas!B:D,3,0),0),\"\")","v":0},{"$f":"IF(A19<>\"\",IFERROR(VLOOKUP(AC19,Tabelas!B:D,3,0),0),\"\")","v":0},{"$f":"IF(A19<>\"\",IFERROR(VLOOKUP(AD19,Tabelas!B:D,3,0),0),\"\")","v":0},{"$f":"IF(A19<>\"\",IFERROR(VLOOKUP(AE19,Tabelas!B:D,3,0),0),\"\")","v":0},{"$f":"IF(A19<>\"\",IFERROR(VLOOKUP(AF19,Tabelas!B:D,3,0),0),\"\")","v":0},{"$f":"IF(A19<>\"\",IFERROR(VLOOKUP(AG19,Tabelas!B:D,3,0),0),\"\")","v":0},{"$f":"IF(A19<>\"\",IFERROR(VLOOKUP(AH19,Tabelas!B:D,3,0),0),\"\")","v":0},{"$f":"IF(A19<>\"\",IFERROR(VLOOKUP(AI19,Tabelas!B:D,3,0),0),\"\")","v":0},{"$f":"IF(A19<>\"\",IFERROR(VLOOKUP(AJ19,Tabelas!B:D,3,0),0),\"\")","v":0},{"$f":"IF(A19<>\"\",IFERROR(VLOOKUP(AK19,Tabelas!B:D,3,0),0),\"\")","v":0},{"$f":"IF(A19<>\"\",IFERROR(VLOOKUP(AL19,Tabelas!B:D,3,0),0),\"\")","v":0},{"$f":"IF(A19<>\"\",IFERROR(VLOOKUP(AM19,Tabelas!B:D,3,0),0),\"\")","v":0},{"$f":"IF(A19<>\"\",IFERROR(VLOOKUP(AN19,Tabelas!B:D,3,0),0),\"\")","v":0},{"$f":"IF(A19<>\"\",IFERROR(VLOOKUP(AO19,Tabelas!B:D,3,0),0),\"\")","v":0},{"$f":"IF(A19<>\"\",IFERROR(VLOOKUP(AP19,Tabelas!B:D,3,0),0),\"\")","v":0},{"$f":"IF(A19<>\"\",IFERROR(VLOOKUP(AQ19,Tabelas!B:D,3,0),0),\"\")","v":0},0,0,0,0,0,0,0,0]
["FULANO 12",12,null,null,null,null,null,null,null,null,null,null,null,null,null,null,null,null,null,null,null,null,null,null,null,null,null,null,null,null,null,null,null,null,null,null,null,null,null,null,null,null,null,{"$f":"IF(A20<>\"\",IFERROR(VLOOKUP(M20,Tabelas!B:D,3,0),0),\"\")","v":0},{"$f":"IF(A20<>\"\",IFERROR(VLOOKUP(N20,Tabelas!B:D,3,0),0),\"\")","v":0},{"$f":"IF(A20<>\"\",IFERROR(VLOOKUP(O20,Tabelas!B:D,3,0),0),\"\")","v":0},{"$f":"IF(A20<>\"\",IFERROR(VLOOKUP(P20,Tabelas!B:D,3,0),0),\"\")","v":0},{"$f":"IF(A20<>\"\",IFERROR(VLOOKUP(Q20,Tabelas!B:D,3,0),0),\"\")","v":0},{"$f":"IF(A20<>\"\",IFERROR(VLOOKUP(R20,Tabelas!B:D,3,0),0),\"\")","v":0},{"$f":"IF(A20<>\"\",IFERROR(VLOOKUP(S20,Tabelas!B:D,3,0),0),\"\")","v":0},{"$f":"IF(A20<>\"\",IFERROR(VLOOKUP(T20,Tabelas!B:D,3,0),0),\"\")","v":0},{"$f":"IF(A20<>\"\",IFERROR(VLOOKUP(U20,Tabelas!B:D,3,0),0),\"\")","v":0},{"$f":"IF(A20<>\"\",IFERROR(VLOOKUP(V20,Tabelas!B:D,3,0),0),\"\")","v":0},{"$f":"IF(A20<>\"\",IFERROR(VLOOKUP(W20,Tabelas!B:D,3,0),0),\"\")","v":0},{"$f":"IF(A20<>\"\",IFERROR(VLOOKUP(X20,Tabelas!B:D,3,0),0),\"\")","v":0},{"$f":"IF(A20<>\"\",IFERROR(VLOOKUP(Y20,Tabelas!B:D,3,0),0),\"\")","v":0},{"$f":"IF(A20<>\"\",IFERROR(VLOOKUP(Z20,Tabelas!B:D,3,0),0),\"\")","v":0},{"$f":"IF(A20<>\"\",IFERROR(VLOOKUP(AA20,Tabelas!B:D,3,0),0),\"\")","v":0},{"$f":"IF(A20<>\"\",IFERROR(VLOOKUP(AB20,Tabelas!B:D,3,0),0),\"\")","v":0},{"$f":"IF(A20<>\"\",IFERROR(VLOOKUP(AC20,Tabelas!B:D,3,0),0),\"\")","v":0},{"$f":"IF(A20<>\"\",IFERROR(VLOOKUP(AD20,Tabelas!B:D,3,0),0),\"\")","v":0},{"$f":"IF(A20<>\"\",IFERROR(VLOOKUP(AE20,Tabelas!B:D,3,0),0),\"\")","v":0},{"$f":"IF(A20<>\"\",IFERROR(VLOOKUP(AF20,Tabelas!B:D,3,0),0),\"\")","v":0},{"$f":"IF(A20<>\"\",IFERROR(VLOOKUP(AG20,Tabelas!B:D,3,0),0),\"\")","v":0},{"$f":"IF(A20<>\"\",IFERROR(VLOOKUP(AH20,Tabelas!B:D,3,0),0),\"\")","v":0},{"$f":"IF(A20<>\"\",IFERROR(VLOOKUP(AI20,Tabelas!B:D,3,0),0),\"\")","v":0},{"$f":"IF(A20<>\"\",IFERROR(VLOOKUP(AJ20,Tabelas!B:D,3,0),0),\"\")","v":0},{"$f":"IF(A20<>\"\",IFERROR(VLOOKUP(AK20,Tabelas!B:D,3,0),0),\"\")","v":0},{"$f":"IF(A20<>\"\",IFERROR(VLOOKUP(AL20,Tabelas!B:D,3,0),0),\"\")","v":0},{"$f":"IF(A20<>\"\",IFERROR(VLOOKUP(AM20,Tabelas!B:D,3,0),0),\"\")","v":0},{"$f":"IF(A20<>\"\",IFERROR(VLOOKUP(AN20,Tabelas!B:D,3,0),0),\"\")","v":0},{"$f":"IF(A20<>\"\",IFERROR(VLOOKUP(AO20,Tabelas!B:D,3,0),0),\"\")","v":0},{"$f":"IF(A20<>\"\",IFERROR(VLOOKUP(AP20,Tabelas!B:D,3,0),0),\"\")","v":0},{"$f":"IF(A20<>\"\",IFERROR(VLOOKUP(AQ20,Tabelas!B:D,3,0),0),\"\")","v":0},0,0,0,0,0,0,0,0]
["FULANO 13",13,null,null,null,null,null,null,null,null,null,null,null,null,null,null,null,null,null,null,null,null,null,null,null,null,null,null,null,null,null,null,null,null,null,null,null,null,null,null,null,null,null,{"$f":"IF(A21<>\"\",IFERROR(VLOOKUP(M21,Tabelas!B:D,3,0),0),\"\")","v":0},{"$f":"IF(A21<>\"\",IFERROR(VLOOKUP(N21,Tabelas!B:D,3,0),0),\"\")","v":0},{"$f":"IF(A21<>\"\",IFERROR(VLOOKUP(O21,Tabelas!B:D,3,0),0),\"\")","v":0},{"$f":"IF(A21<>\"\",IFERROR(VLOOKUP(P21,Tabelas!B:D,3,0),0),\"\")","v":0},{"$f":"IF(A21<>\"\",IFERROR(VLOOKUP(Q21,Tabelas!B:D,3,0),0),\"\")","v":0},{"$f":"IF(A21<>\"\",IFERROR(VLOOKUP(R21,Tabelas!B:D,3,0),0),\"\")","v":0},{"$f":"IF(A21<>\"\",IFERROR(VLOOKUP(S21,Tabelas!B:D,3,0),0),\"\")","v":0},{"$f":"IF(A21<>\"\",IFERROR(VLOOKUP(T21,Tabelas!B:D,3,0),0),\"\")","v":0},{"$f":"IF(A21<>\"\",IFERROR(VLOOKUP(U21,Tabelas!B:D,3,0),0),\"\")","v":0},{"$f":"IF(A21<>\"\",IFERROR(VLOOKUP(V21,Tabelas!B:D,3,0),0),\"\")","v":0},{"$f":"IF(A21<>\"\",IFERROR(VLOOKUP(W21,Tabelas!B:D,3,0),0),\"\")","v":0},{"$f":"IF(A21<>\"\",IFERROR(VLOOKUP(X21,Tabelas!B:D,3,0),0),\"\")","v":0},{"$f":"IF(A21<>\"\",IFERROR(VLOOKUP(Y21,Tabelas!B:D,3,0),0),\"\")","v":0},{"$f":"IF(A21<>\"\",IFERROR(VLOOKUP(Z21,Tabelas!B:D,3,0),0),\"\")","v":0},{"$f":"IF(A21<>\"\",IFERROR(VLOOKUP(AA21,Tabelas!B:D,3,0),0),\"\")","v":0},{"$f":"IF(A21<>\"\",IFERROR(VLOOKUP(AB21,Tabelas!B:D,3,0),0),\"\")","v":0},{"$f":"IF(A21<>\"\",IFERROR(VLOOKUP(AC21,Tabelas!B:D,3,0),0),\"\")","v":0},{"$f":"IF(A21<>\"\",IFERROR(VLOOKUP(AD21,Tabelas!B:D,3,0),0),\"\")","v":0},{"$f":"IF(A21<>\"\",IFERROR(VLOOKUP(AE21,Tabelas!B:D,3,0),0),\"\")","v":0},{"$f":"IF(A21<>\"\",IFERROR(VLOOKUP(AF21,Tabelas!B:D,3,0),0),\"\")","v":0},{"$f":"IF(A21<>\"\",IFERROR(VLOOKUP(AG21,Tabelas!B:D,3,0),0),\"\")","v":0},{"$f":"IF(A21<>\"\",IFERROR(VLOOKUP(AH21,Tabelas!B:D,3,0),0),\"\")","v":0},{"$f":"IF(A21<>\"\",IFERROR(VLOOKUP(AI21,Tabelas!B:D,3,0),0),\"\")","v":0},{"$f":"IF(A21<>\"\",IFERROR(VLOOKUP(AJ21,Tabelas!B:D,3,0),0),\"\")","v":0},{"$f":"IF(A21<>\"\",IFERROR(VLOOKUP(AK21,Tabelas!B:D,3,0),0),\"\")","v":0},{"$f":"IF(A21<>\"\",IFERROR(VLOOKUP(AL21,Tabelas!B:D,3,0),0),\"\")","v":0},{"$f":"IF(A21<>\"\",IFERROR(VLOOKUP(AM21,Tabelas!B:D,3,0),0),\"\")","v":0},{"$f":"IF(A21<>\"\",IFERROR(VLOOKUP(AN21,Tabelas!B:D,3,0),0),\"\")","v":0},{"$f":"IF(A21<>\"\",IFERROR(VLOOKUP(AO21,Tabelas!B:D,3,0),0),\"\")","v":0},{"$f":"IF(A21<>\"\",IFERROR(VLOOKUP(AP21,Tabelas!B:D,3,0),0),\"\")","v":0},{"$f":"IF(A21<>\"\",IFERROR(VLOOKUP(AQ21,Tabelas!B:D,3,0),0),\"\")","v":0},0,0,0,0,0,0,0,0]
["FULANO 14",14,null,null,null,null,null,null,null,null,null,null,null,null,null,null,null,null,null,null,null,null,null,null,null,null,null,null,null,null,null,null,null,null,null,null,null,null,null,null,null,null,null,{"$f":"IF(A22<>\"\",IFERROR(VLOOKUP(M22,Tabelas!B:D,3,0),0),\"\")","v":0},{"$f":"IF(A22<>\"\",IFERROR(VLOOKUP(N22,Tabelas!B:D,3,0),0),\"\")","v":0},{"$f":"IF(A22<>\"\",IFERROR(VLOOKUP(O22,Tabelas!B:D,3,0),0),\"\")","v":0},{"$f":"IF(A22<>\"\",IFERROR(VLOOKUP(P22,Tabelas!B:D,3,0),0),\"\")","v":0},{"$f":"IF(A22<>\"\",IFERROR(VLOOKUP(Q22,Tabelas!B:D,3,0),0),\"\")","v":0},{"$f":"IF(A22<>\"\",IFERROR(VLOOKUP(R22,Tabelas!B:D,3,0),0),\"\")","v":0},{"$f":"IF(A22<>\"\",IFERROR(VLOOKUP(S22,Tabelas!B:D,3,0),0),\"\")","v":0},{"$f":"IF(A22<>\"\",IFERROR(VLOOKUP(T22,Tabelas!B:D,3,0),0),\"\")","v":0},{"$f":"IF(A22<>\"\",IFERROR(VLOOKUP(U22,Tabelas!B:D,3,0),0),\"\")","v":0},{"$f":"IF(A22<>\"\",IFERROR(VLOOKUP(V22,Tabelas!B:D,3,0),0),\"\")","v":0},{"$f":"IF(A22<>\"\",IFERROR(VLOOKUP(W22,Tabelas!B:D,3,0),0),\"\")","v":0},{"$f":"IF(A22<>\"\",IFERROR(VLOOKUP(X22,Tabelas!B:D,3,0),0),\"\")","v":0},{"$f":"IF(A22<>\"\",IFERROR(VLOOKUP(Y22,Tabelas!B:D,3,0),0),\"\")","v":0},{"$f":"IF(A22<>\"\",IFERROR(VLOOKUP(Z22,Tabelas!B:D,3,0),0),\"\")","v":0},{"$f":"IF(A22<>\"\",IFERROR(VLOOKUP(AA22,Tabelas!B:D,3,0),0),\"\")","v":0},{"$f":"IF(A22<>\"\",IFERROR(VLOOKUP(AB22,Tabelas!B:D,3,0),0),\"\")","v":0},{"$f":"IF(A22<>\"\",IFERROR(VLOOKUP(AC22,Tabelas!B:D,3,0),0),\"\")","v":0},{"$f":"IF(A22<>\"\",IFERROR(VLOOKUP(AD22,Tabelas!B:D,3,0),0),\"\")","v":0},{"$f":"IF(A22<>\"\",IFERROR(VLOOKUP(AE22,Tabelas!B:D,3,0),0),\"\")","v":0},{"$f":"IF(A22<>\"\",IFERROR(VLOOKUP(AF22,Tabelas!B:D,3,0),0),\"\")","v":0},{"$f":"IF(A22<>\"\",IFERROR(VLOOKUP(AG22,Tabelas!B:D,3,0),0),\"\")","v":0},{"$f":"IF(A22<>\"\",IFERROR(VLOOKUP(AH22,Tabelas!B:D,3,0),0),\"\")","v":0},{"$f":"IF(A22<>\"\",IFERROR(VLOOKUP(AI22,Tabelas!B:D,3,0),0),\"\")","v":0},{"$f":"IF(A22<>\"\",IFERROR(VLOOKUP(AJ22,Tabelas!B:D,3,0),0),\"\")","v":0},{"$f":"IF(A22<>\"\",IFERROR(VLOOKUP(AK22,Tabelas!B:D,3,0),0),\"\")","v":0},{"$f":"IF(A22<>\"\",IFERROR(VLOOKUP(AL22,Tabelas!B:D,3,0),0),\"\")","v":0},{"$f":"IF(A22<>\"\",IFERROR(VLOOKUP(AM22,Tabelas!B:D,3,0),0),\"\")","v":0},{"$f":"IF(A22<>\"\",IFERROR(VLOOKUP(AN22,Tabelas!B:D,3,0),0),\"\")","v":0},{"$f":"IF(A22<>\"\",IFERROR(VLOOKUP(AO22,Tabelas!B:D,3,0),0),\"\")","v":0},{"$f":"IF(A22<>\"\",IFERROR(VLOOKUP(AP22,Tabelas!B:D,3,0),0),\"\")","v":0},{"$f":"IF(A22<>\"\",IFERROR(VLOOKUP(AQ22,Tabelas!B:D,3,0),0),\"\")","v":0},0,0,0,0,0,0,0,0]
["FULANO 15",15,null,null,null,null,null,null,null,null,null,null,null,null,null,null,null,null,null,null,null,null,null,null,null,null,null,null,null,null,null,null,null,null,null,null,null,null,null,null,null,null,null,{"$f":"IF(A23<>\"\",IFERROR(VLOOKUP(M23,Tabelas!B:D,3,0),0),\"\")","v":0},{"$f":"IF(A23<>\"\",IFERROR(VLOOKUP(N23,Tabelas!B:D,3,0),0),\"\")","v":0},{"$f":"IF(A23<>\"\",IFERROR(VLOOKUP(O23,Tabelas!B:D,3,0),0),\"\")","v":0},{"$f":"IF(A23<>\"\",IFERROR(VLOOKUP(P23,Tabelas!B:D,3,0),0),\"\")","v":0},{"$f":"IF(A23<>\"\",IFERROR(VLOOKUP(Q23,Tabelas!B:D,3,0),0),\"\")","v":0},{"$f":"IF(A23<>\"\",IFERROR(VLOOKUP(R23,Tabelas!B:D,3,0),0),\"\")","v":0},{"$f":"IF(A23<>\"\",IFERROR(VLOOKUP(S23,Tabelas!B:D,3,0),0),\"\")","v":0},{"$f":"IF(A23<>\"\",IFERROR(VLOOKUP(T23,Tabelas!B:D,3,0),0),\"\")","v":0},{"$f":"IF(A23<>\"\",IFERROR(VLOOKUP(U23,Tabelas!B:D,3,0),0),\"\")","v":0},{"$f":"IF(A23<>\"\",IFERROR(VLOOKUP(V23,Tabelas!B:D,3,0),0),\"\")","v":0},{"$f":"IF(A23<>\"\",IFERROR(VLOOKUP(W23,Tabelas!B:D,3,0),0),\"\")","v":0},{"$f":"IF(A23<>\"\",IFERROR(VLOOKUP(X23,Tabelas!B:D,3,0),0),\"\")","v":0},{"$f":"IF(A23<>\"\",IFERROR(VLOOKUP(Y23,Tabelas!B:D,3,0),0),\"\")","v":0},{"$f":"IF(A23<>\"\",IFERROR(VLOOKUP(Z23,Tabelas!B:D,3,0),0),\"\")","v":0},{"$f":"IF(A23<>\"\",IFERROR(VLOOKUP(AA23,Tabelas!B:D,3,0),0),\"\")","v":0},{"$f":"IF(A23<>\"\",IFERROR(VLOOKUP(AB23,Tabelas!B:D,3,0),0),\"\")","v":0},{"$f":"IF(A23<>\"\",IFERROR(VLOOKUP(AC23,Tabelas!B:D,3,0),0),\"\")","v":0},{"$f":"IF(A23<>\"\",IFERROR(VLOOKUP(AD23,Tabelas!B:D,3,0),0),\"\")","v":0},{"$f":"IF(A23<>\"\",IFERROR(VLOOKUP(AE23,Tabelas!B:D,3,0),0),\"\")","v":0},{"$f":"IF(A23<>\"\",IFERROR(VLOOKUP(AF23,Tabelas!B:D,3,0),0),\"\")","v":0},{"$f":"IF(A23<>\"\",IFERROR(VLOOKUP(AG23,Tabelas!B:D,3,0),0),\"\")","v":0},{"$f":"IF(A23<>\"\",IFERROR(VLOOKUP(AH23,Tabelas!B:D,3,0),0),\"\")","v":0},{"$f":"IF(A23<>\"\",IFERROR(VLOOKUP(AI23,Tabelas!B:D,3,0),0),\"\")","v":0},{"$f":"IF(A23<>\"\",IFERROR(VLOOKUP(AJ23,Tabelas!B:D,3,0),0),\"\")","v":0},{"$f":"IF(A23<>\"\",IFERROR(VLOOKUP(AK23,Tabelas!B:D,3,0),0),\"\")","v":0},{"$f":"IF(A23<>\"\",IFERROR(VLOOKUP(AL23,Tabelas!B:D,3,0),0),\"\")","v":0},{"$f":"IF(A23<>\"\",IFERROR(VLOOKUP(AM23,Tabelas!B:D,3,0),0),\"\")","v":0},{"$f":"IF(A23<>\"\",IFERROR(VLOOKUP(AN23,Tabelas!B:D,3,0),0),\"\")","v":0},{"$f":"IF(A23<>\"\",IFERROR(VLOOKUP(AO23,Tabelas!B:D,3,0),0),\"\")","v":0},{"$f":"IF(A23<>\"\",IFERROR(VLOOKUP(AP23,Tabelas!B:D,3,0),0),\"\")","v":0},{"$f":"IF(A23<>\"\",IFERROR(VLOOKUP(AQ23,Tabelas!B:D,3,0),0),\"\")","v":0},0,0,0,0,0,0,0,0]
["FULANO 16",16,null,null,null,null,null,null,null,null,null,null,null,null,null,null,null,null,null,null,null,null,null,null,null,null,null,null,null,null,null,null,null,null,null,null,null,null,null,null,null,null,null,{"$f":"IF(A24<>\"\",IFERROR(VLOOKUP(M24,Tabelas!B:D,3,0),0),\"\")","v":0},{"$f":"IF(A24<>\"\",IFERROR(VLOOKUP(N24,Tabelas!B:D,3,0),0),\"\")","v":0},{"$f":"IF(A24<>\"\",IFERROR(VLOOKUP(O24,Tabelas!B:D,3,0),0),\"\")","v":0},{"$f":"IF(A24<>\"\",IFERROR(VLOOKUP(P24,Tabelas!B:D,3,0),0),\"\")","v":0},{"$f":"IF(A24<>\"\",IFERROR(VLOOKUP(Q24,Tabelas!B:D,3,0),0),\"\")","v":0},{"$f":"IF(A24<>\"\",IFERROR(VLOOKUP(R24,Tabelas!B:D,3,0),0),\"\")","v":0},{"$f":"IF(A24<>\"\",IFERROR(VLOOKUP(S24,Tabelas!B:D,3,0),0),\"\")","v":0},{"$f":"IF(A24<>\"\",IFERROR(VLOOKUP(T24,Tabelas!B:D,3,0),0),\"\")","v":0},{"$f":"IF(A24<>\"\",IFERROR(VLOOKUP(U24,Tabelas!B:D,3,0),0),\"\")","v":0},{"$f":"IF(A24<>\"\",IFERROR(VLOOKUP(V24,Tabelas!B:D,3,0),0),\"\")","v":0},{"$f":"IF(A24<>\"\",IFERROR(VLOOKUP(W24,Tabelas!B:D,3,0),0),\"\")","v":0},{"$f":"IF(A24<>\"\",IFERROR(VLOOKUP(X24,Tabelas!B:D,3,0),0),\"\")","v":0},{"$f":"IF(A24<>\"\",IFERROR(VLOOKUP(Y24,Tabelas!B:D,3,0),0),\"\")","v":0},{"$f":"IF(A24<>\"\",IFERROR(VLOOKUP(Z24,Tabelas!B:D,3,0),0),\"\")","v":0},{"$f":"IF(A24<>\"\",IFERROR(VLOOKUP(AA24,Tabelas!B:D,3,0),0),\"\")","v":0},{"$f":"IF(A24<>\"\",IFERROR(VLOOKUP(AB24,Tabelas!B:D,3,0),0),\"\")","v":0},{"$f":"IF(A24<>\"\",IFERROR(VLOOKUP(AC24,Tabelas!B:D,3,0),0),\"\")","v":0},{"$f":"IF(A24<>\"\",IFERROR(VLOOKUP(AD24,Tabelas!B:D,3,0),0),\"\")","v":0},{"$f":"IF(A24<>\"\",IFERROR(VLOOKUP(AE24,Tabelas!B:D,3,0),0),\"\")","v":0},{"$f":"IF(A24<>\"\",IFERROR(VLOOKUP(AF24,Tabelas!B:D,3,0),0),\"\")","v":0},{"$f":"IF(A24<>\"\",IFERROR(VLOOKUP(AG24,Tabelas!B:D,3,0),0),\"\")","v":0},{"$f":"IF(A24<>\"\",IFERROR(VLOOKUP(AH24,Tabelas!B:D,3,0),0),\"\")","v":0},{"$f":"IF(A24<>\"\",IFERROR(VLOOKUP(AI24,Tabelas!B:D,3,0),0),\"\")","v":0},{"$f":"IF(A24<>\"\",IFERROR(VLOOKUP(AJ24,Tabelas!B:D,3,0),0),\"\")","v":0},{"$f":"IF(A24<>\"\",IFERROR(VLOOKUP(AK24,Tabelas!B:D,3,0),0),\"\")","v":0},{"$f":"IF(A24<>\"\",IFERROR(VLOOKUP(AL24,Tabelas!B:D,3,0),0),\"\")","v":0},{"$f":"IF(A24<>\"\",IFERROR(VLOOKUP(AM24,Tabelas!B:D,3,0),0),\"\")","v":0},{"$f":"IF(A24<>\"\",IFERROR(VLOOKUP(AN24,Tabelas!B:D,3,0),0),\"\")","v":0},{"$f":"IF(A24<>\"\",IFERROR(VLOOKUP(AO24,Tabelas!B:D,3,0),0),\"\")","v":0},{"$f":"IF(A24<>\"\",IFERROR(VLOOKUP(AP24,Tabelas!B:D,3,0),0),\"\")","v":0},{"$f":"IF(A24<>\"\",IFERROR(VLOOKUP(AQ24,Tabelas!B:D,3,0),0),\"\")","v":0},0,0,0,0,0,0,0,0]
["FULANO 17",17,null,null,null,null,null,null,null,null,null,null,null,null,null,null,null,null,null,null,null,null,null,null,null,null,null,null,null,null,null,null,null,null,null,null,null,null,null,null,null,null,null,{"$f":"IF(A25<>\"\",IFERROR(VLOOKUP(M25,Tabelas!B:D,3,0),0),\"\")","v":0},{"$f":"IF(A25<>\"\",IFERROR(VLOOKUP(N25,Tabelas!B:D,3,0),0),\"\")","v":0},{"$f":"IF(A25<>\"\",IFERROR(VLOOKUP(O25,Tabelas!B:D,3,0),0),\"\")","v":0},{"$f":"IF(A25<>\"\",IFERROR(VLOOKUP(P25,Tabelas!B:D,3,0),0),\"\")","v":0},{"$f":"IF(A25<>\"\",IFERROR(VLOOKUP(Q25,Tabelas!B:D,3,0),0),\"\")","v":0},{"$f":"IF(A25<>\"\",IFERROR(VLOOKUP(R25,Tabelas!B:D,3,0),0),\"\")","v":0},{"$f":"IF(A25<>\"\",IFERROR(VLOOKUP(S25,Tabelas!B:D,3,0),0),\"\")","v":0},{"$f":"IF(A25<>\"\",IFERROR(VLOOKUP(T25,Tabelas!B:D,3,0),0),\"\")","v":0},{"$f":"IF(A25<>\"\",IFERROR(VLOOKUP(U25,Tabelas!B:D,3,0),0),\"\")","v":0},{"$f":"IF(A25<>\"\",IFERROR(VLOOKUP(V25,Tabelas!B:D,3,0),0),\"\")","v":0},{"$f":"IF(A25<>\"\",IFERROR(VLOOKUP(W25,Tabelas!B:D,3,0),0),\"\")","v":0},{"$f":"IF(A25<>\"\",IFERROR(VLOOKUP(X25,Tabelas!B:D,3,0),0),\"\")","v":0},{"$f":"IF(A25<>\"\",IFERROR(VLOOKUP(Y25,Tabelas!B:D,3,0),0),\"\")","v":0},{"$f":"IF(A25<>\"\",IFERROR(VLOOKUP(Z25,Tabelas!B:D,3,0),0),\"\")","v":0},{"$f":"IF(A25<>\"\",IFERROR(VLOOKUP(AA25,Tabelas!B:D,3,0),0),\"\")","v":0},{"$f":"IF(A25<>\"\",IFERROR(VLOOKUP(AB25,Tabelas!B:D,3,0),0),\"\")","v":0},{"$f":"IF(A25<>\"\",IFERROR(VLOOKUP(AC25,Tabelas!B:D,3,0),0),\"\")","v":0},{"$f":"IF(A25<>\"\",IFERROR(VLOOKUP(AD25,Tabelas!B:D,3,0),0),\"\")","v":0},{"$f":"IF(A25<>\"\",IFERROR(VLOOKUP(AE25,Tabelas!B:D,3,0),0),\"\")","v":0},{"$f":"IF(A25<>\"\",IFERROR(VLOOKUP(AF25,Tabelas!B:D,3,0),0),\"\")","v":0},{"$f":"IF(A25<>\"\",IFERROR(VLOOKUP(AG25,Tabelas!B:D,3,0),0),\"\")","v":0},{"$f":"IF(A25<>\"\",IFERROR(VLOOKUP(AH25,Tabelas!B:D,3,0),0),\"\")","v":0},{"$f":"IF(A25<>\"\",IFERROR(VLOOKUP(AI25,Tabelas!B:D,3,0),0),\"\")","v":0},{"$f":"IF(A25<>\"\",IFERROR(VLOOKUP(AJ25,Tabelas!B:D,3,0),0),\"\")","v":0},{"$f":"IF(A25<>\"\",IFERROR(VLOOKUP(AK25,Tabelas!B:D,3,0),0),\"\")","v":0},{"$f":"IF(A25<>\"\",IFERROR(VLOOKUP(AL25,Tabelas!B:D,3,0),0),\"\")","v":0},{"$f":"IF(A25<>\"\",IFERROR(VLOOKUP(AM25,Tabelas!B:D,3,0),0),\"\")","v":0},{"$f":"IF(A25<>\"\",IFERROR(VLOOKUP(AN25,Tabelas!B:D,3,0),0),\"\")","v":0},{"$f":"IF(A25<>\"\",IFERROR(VLOOKUP(AO25,Tabelas!B:D,3,0),0),\"\")","v":0},{"$f":"IF(A25<>\"\",IFERROR(VLOOKUP(AP25,Tabelas!B:D,3,0),0),\"\")","v":0},{"$f":"IF(A25<>\"\",IFERROR(VLOOKUP(AQ25,Tabelas!B:D,3,0),0),\"\")","v":0},0,0,0,0,0,0,0,0]
["FULANO 18",18,null,null,null,null,null,null,null,null,null,null,null,null,null,null,null,null,null,null,null,null,null,null,null,null,null,null,null,null,null,null,null,null,null,null,null,null,null,null,null,null,null,{"$f":"IF(A26<>\"\",IFERROR(VLOOKUP(M26,Tabelas!B:D,3,0),0),\"\")","v":0},{"$f":"IF(A26<>\"\",IFERROR(VLOOKUP(N26,Tabelas!B:D,3,0),0),\"\")","v":0},{"$f":"IF(A26<>\"\",IFERROR(VLOOKUP(O26,Tabelas!B:D,3,0),0),\"\")","v":0},{"$f":"IF(A26<>\"\",IFERROR(VLOOKUP(P26,Tabelas!B:D,3,0),0),\"\")","v":0},{"$f":"IF(A26<>\"\",IFERROR(VLOOKUP(Q26,Tabelas!B:D,3,0),0),\"\")","v":0},{"$f":"IF(A26<>\"\",IFERROR(VLOOKUP(R26,Tabelas!B:D,3,0),0),\"\")","v":0},{"$f":"IF(A26<>\"\",IFERROR(VLOOKUP(S26,Tabelas!B:D,3,0),0),\"\")","v":0},{"$f":"IF(A26<>\"\",IFERROR(VLOOKUP(T26,Tabelas!B:D,3,0),0),\"\")","v":0},{"$f":"IF(A26<>\"\",IFERROR(VLOOKUP(U26,Tabelas!B:D,3,0),0),\"\")","v":0},{"$f":"IF(A26<>\"\",IFERROR(VLOOKUP(V26,Tabelas!B:D,3,0),0),\"\")","v":0},{"$f":"IF(A26<>\"\",IFERROR(VLOOKUP(W26,Tabelas!B:D,3,0),0),\"\")","v":0},{"$f":"IF(A26<>\"\",IFERROR(VLOOKUP(X26,Tabelas!B:D,3,0),0),\"\")","v":0},{"$f":"IF(A26<>\"\",IFERROR(VLOOKUP(Y26,Tabelas!B:D,3,0),0),\"\")","v":0},{"$f":"IF(A26<>\"\",IFERROR(VLOOKUP(Z26,Tabelas!B:D,3,0),0),\"\")","v":0},{"$f":"IF(A26<>\"\",IFERROR(VLOOKUP(AA26,Tabelas!B:D,3,0),0),\"\")","v":0},{"$f":"IF(A26<>\"\",IFERROR(VLOOKUP(AB26,Tabelas!B:D,3,0),0),\"\")","v":0},{"$f":"IF(A26<>\"\",IFERROR(VLOOKUP(AC26,Tabelas!B:D,3,0),0),\"\")","v":0},{"$f":"IF(A26<>\"\",IFERROR(VLOOKUP(AD26,Tabelas!B:D,3,0),0),\"\")","v":0},{"$f":"IF(A26<>\"\",IFERROR(VLOOKUP(AE26,Tabelas!B:D,3,0),0),\"\")","v":0},{"$f":"IF(A26<>\"\",IFERROR(VLOOKUP(AF26,Tabelas!B:D,3,0),0),\"\")","v":0},{"$f":"IF(A26<>\"\",IFERROR(VLOOKUP(AG26,Tabelas!B:D,3,0),0),\"\")","v":0},{"$f":"IF(A26<>\"\",IFERROR(VLOOKUP(AH26,Tabelas!B:D,3,0),0),\"\")","v":0},{"$f":"IF(A26<>\"\",IFERROR(VLOOKUP(AI26,Tabelas!B:D,3,0),0),\"\")","v":0},{"$f":"IF(A26<>\"\",IFERROR(VLOOKUP(AJ26,Tabelas!B:D,3,0),0),\"\")","v":0},{"$f":"IF(A26<>\"\",IFERROR(VLOOKUP(AK26,Tabelas!B:D,3,0),0),\"\")","v":0},{"$f":"IF(A26<>\"\",IFERROR(VLOOKUP(AL26,Tabelas!B:D,3,0),0),\"\")","v":0},{"$f":"IF(A26<>\"\",IFERROR(VLOOKUP(AM26,Tabelas!B:D,3,0),0),\"\")","v":0},{"$f":"IF(A26<>\"\",IFERROR(VLOOKUP(AN26,Tabelas!B:D,3,0),0),\"\")","v":0},{"$f":"IF(A26<>\"\",IFERROR(VLOOKUP(AO26,Tabelas!B:D,3,0),0),\"\")","v":0},{"$f":"IF(A26<>\"\",IFERROR(VLOOKUP(AP26,Tabelas!B:D,3,0),0),\"\")","v":0},{"$f":"IF(A26<>\"\",IFERROR(VLOOKUP(AQ26,Tabelas!B:D,3,0),0),\"\")","v":0},0,0,0,0,0,0,0,0]
["FULANO 19",19,null,null,null,null,null,null,null,null,null,null,null,null,null,null,null,null,null,null,null,null,null,null,null,null,null,null,null,null,null,null,null,null,null,null,null,null,null,null,null,null,null,{"$f":"IF(A27<>\"\",IFERROR(VLOOKUP(M27,Tabelas!B:D,3,0),0),\"\")","v":0},{"$f":"IF(A27<>\"\",IFERROR(VLOOKUP(N27,Tabelas!B:D,3,0),0),\"\")","v":0},{"$f":"IF(A27<>\"\",IFERROR(VLOOKUP(O27,Tabelas!B:D,3,0),0),\"\")","v":0},{"$f":"IF(A27<>\"\",IFERROR(VLOOKUP(P27,Tabelas!B:D,3,0),0),\"\")","v":0},{"$f":"IF(A27<>\"\",IFERROR(VLOOKUP(Q27,Tabelas!B:D,3,0),0),\"\")","v":0},{"$f":"IF(A27<>\"\",IFERROR(VLOOKUP(R27,Tabelas!B:D,3,0),0),\"\")","v":0},{"$f":"IF(A27<>\"\",IFERROR(VLOOKUP(S27,Tabelas!B:D,3,0),0),\"\")","v":0},{"$f":"IF(A27<>\"\",IFERROR(VLOOKUP(T27,Tabelas!B:D,3,0),0),\"\")","v":0},{"$f":"IF(A27<>\"\",IFERROR(VLOOKUP(U27,Tabelas!B:D,3,0),0),\"\")","v":0},{"$f":"IF(A27<>\"\",IFERROR(VLOOKUP(V27,Tabelas!B:D,3,0),0),\"\")","v":0},{"$f":"IF(A27<>\"\",IFERROR(VLOOKUP(W27,Tabelas!B:D,3,0),0),\"\")","v":0},{"$f":"IF(A27<>\"\",IFERROR(VLOOKUP(X27,Tabelas!B:D,3,0),0),\"\")","v":0},{"$f":"IF(A27<>\"\",IFERROR(VLOOKUP(Y27,Tabelas!B:D,3,0),0),\"\")","v":0},{"$f":"IF(A27<>\"\",IFERROR(VLOOKUP(Z27,Tabelas!B:D,3,0),0),\"\")","v":0},{"$f":"IF(A27<>\"\",IFERROR(VLOOKUP(AA27,Tabelas!B:D,3,0),0),\"\")","v":0},{"$f":"IF(A27<>\"\",IFERROR(VLOOKUP(AB27,Tabelas!B:D,3,0),0),\"\")","v":0},{"$f":"IF(A27<>\"\",IFERROR(VLOOKUP(AC27,Tabelas!B:D,3,0),0),\"\")","v":0},{"$f":"IF(A27<>\"\",IFERROR(VLOOKUP(AD27,Tabelas!B:D,3,0),0),\"\")","v":0},{"$f":"IF(A27<>\"\",IFERROR(VLOOKUP(AE27,Tabelas!B:D,3,0),0),\"\")","v":0},{"$f":"IF(A27<>\"\",IFERROR(VLOOKUP(AF27,Tabelas!B:D,3,0),0),\"\")","v":0},{"$f":"IF(A27<>\"\",IFERROR(VLOOKUP(AG27,Tabelas!B:D,3,0),0),\"\")","v":0},{"$f":"IF(A27<>\"\",IFERROR(VLOOKUP(AH27,Tabelas!B:D,3,0),0),\"\")","v":0},{"$f":"IF(A27<>\"\",IFERROR(VLOOKUP(AI27,Tabelas!B:D,3,0),0),\"\")","v":0},{"$f":"IF(A27<>\"\",IFERROR(VLOOKUP(AJ27,Tabelas!B:D,3,0),0),\"\")","v":0},{"$f":"IF(A27<>\"\",IFERROR(VLOOKUP(AK27,Tabelas!B:D,3,0),0),\"\")","v":0},{"$f":"IF(A27<>\"\",IFERROR(VLOOKUP(AL27,Tabelas!B:D,3,0),0),\"\")","v":0},{"$f":"IF(A27<>\"\",IFERROR(VLOOKUP(AM27,Tabelas!B:D,3,0),0),\"\")","v":0},{"$f":"IF(A27<>\"\",IFERROR(VLOOKUP(AN27,Tabelas!B:D,3,0),0),\"\")","v":0},{"$f":"IF(A27<>\"\",IFERROR(VLOOKUP(AO27,Tabelas!B:D,3,0),0),\"\")","v":0},{"$f":"IF(A27<>\"\",IFERROR(VLOOKUP(AP27,Tabelas!B:D,3,0),0),\"\")","v":0},{"$f":"IF(A27<>\"\",IFERROR(VLOOKUP(AQ27,Tabelas!B:D,3,0),0),\"\")","v":0},0,0,0,0,0,0,0,0]
["FULANO 20",20,null,null,null,null,null,null,null,null,null,null,null,null,null,null,null,null,null,null,null,null,null,null,null,null,null,null,null,null,null,null,null,null,null,null,null,null,null,null,null,null,null,{"$f":"IF(A28<>\"\",IFERROR(VLOOKUP(M28,Tabelas!B:D,3,0),0),\"\")","v":0},{"$f":"IF(A28<>\"\",IFERROR(VLOOKUP(N28,Tabelas!B:D,3,0),0),\"\")","v":0},{"$f":"IF(A28<>\"\",IFERROR(VLOOKUP(O28,Tabelas!B:D,3,0),0),\"\")","v":0},{"$f":"IF(A28<>\"\",IFERROR(VLOOKUP(P28,Tabelas!B:D,3,0),0),\"\")","v":0},{"$f":"IF(A28<>\"\",IFERROR(VLOOKUP(Q28,Tabelas!B:D,3,0),0),\"\")","v":0},{"$f":"IF(A28<>\"\",IFERROR(VLOOKUP(R28,Tabelas!B:D,3,0),0),\"\")","v":0},{"$f":"IF(A28<>\"\",IFERROR(VLOOKUP(S28,Tabelas!B:D,3,0),0),\"\")","v":0},{"$f":"IF(A28<>\"\",IFERROR(VLOOKUP(T28,Tabelas!B:D,3,0),0),\"\")","v":0},{"$f":"IF(A28<>\"\",IFERROR(VLOOKUP(U28,Tabelas!B:D,3,0),0),\"\")","v":0},{"$f":"IF(A28<>\"\",IFERROR(VLOOKUP(V28,Tabelas!B:D,3,0),0),\"\")","v":0},{"$f":"IF(A28<>\"\",IFERROR(VLOOKUP(W28,Tabelas!B:D,3,0),0),\"\")","v":0},{"$f":"IF(A28<>\"\",IFERROR(VLOOKUP(X28,Tabelas!B:D,3,0),0),\"\")","v":0},{"$f":"IF(A28<>\"\",IFERROR(VLOOKUP(Y28,Tabelas!B:D,3,0),0),\"\")","v":0},{"$f":"IF(A28<>\"\",IFERROR(VLOOKUP(Z28,Tabelas!B:D,3,0),0),\"\")","v":0},{"$f":"IF(A28<>\"\",IFERROR(VLOOKUP(AA28,Tabelas!B:D,3,0),0),\"\")","v":0},{"$f":"IF(A28<>\"\",IFERROR(VLOOKUP(AB28,Tabelas!B:D,3,0),0),\"\")","v":0},{"$f":"IF(A28<>\"\",IFERROR(VLOOKUP(AC28,Tabelas!B:D,3,0),0),\"\")","v":0},{"$f":"IF(A28<>\"\",IFERROR(VLOOKUP(AD28,Tabelas!B:D,3,0),0),\"\")","v":0},{"$f":"IF(A28<>\"\",IFERROR(VLOOKUP(AE28,Tabelas!B:D,3,0),0),\"\")","v":0},{"$f":"IF(A28<>\"\",IFERROR(VLOOKUP(AF28,Tabelas!B:D,3,0),0),\"\")","v":0},{"$f":"IF(A28<>\"\",IFERROR(VLOOKUP(AG28,Tabelas!B:D,3,0),0),\"\")","v":0},{"$f":"IF(A28<>\"\",IFERROR(VLOOKUP(AH28,Tabelas!B:D,3,0),0),\"\")","v":0},{"$f":"IF(A28<>\"\",IFERROR(VLOOKUP(AI28,Tabelas!B:D,3,0),0),\"\")","v":0},{"$f":"IF(A28<>\"\",IFERROR(VLOOKUP(AJ28,Tabelas!B:D,3,0),0),\"\")","v":0},{"$f":"IF(A28<>\"\",IFERROR(VLOOKUP(AK28,Tabelas!B:D,3,0),0),\"\")","v":0},{"$f":"IF(A28<>\"\",IFERROR(VLOOKUP(AL28,Tabelas!B:D,3,0),0),\"\")","v":0},{"$f":"IF(A28<>\"\",IFERROR(VLOOKUP(AM28,Tabelas!B:D,3,0),0),\"\")","v":0},{"$f":"IF(A28<>\"\",IFERROR(VLOOKUP(AN28,Tabelas!B:D,3,0),0),\"\")","v":0},{"$f":"IF(A28<>\"\",IFERROR(VLOOKUP(AO28,Tabelas!B:D,3,0),0),\"\")","v":0},{"$f":"IF(A28<>\"\",IFERROR(VLOOKUP(AP28,Tabelas!B:D,3,0),0),\"\")","v":0},{"$f":"IF(A28<>\"\",IFERROR(VLOOKUP(AQ28,Tabelas!B:D,3,0),0),\"\")","v":0},0,0,0,0,0,0,0,0]
["FULANO 21",21,null,null,null,null,null,null,null,null,null,null,null,null,null,null,null,null,null,null,null,null,null,null,null,null,null,null,null,null,null,null,null,null,null,null,null,null,null,null,null,null,null,{"$f":"IF(A29<>\"\",IFERROR(VLOOKUP(M29,Tabelas!B:D,3,0),0),\"\")","v":0},{"$f":"IF(A29<>\"\",IFERROR(VLOOKUP(N29,Tabelas!B:D,3,0),0),\"\")","v":0},{"$f":"IF(A29<>\"\",IFERROR(VLOOKUP(O29,Tabelas!B:D,3,0),0),\"\")","v":0},{"$f":"IF(A29<>\"\",IFERROR(VLOOKUP(P29,Tabelas!B:D,3,0),0),\"\")","v":0},{"$f":"IF(A29<>\"\",IFERROR(VLOOKUP(Q29,Tabelas!B:D,3,0),0),\"\")","v":0},{"$f":"IF(A29<>\"\",IFERROR(VLOOKUP(R29,Tabelas!B:D,3,0),0),\"\")","v":0},{"$f":"IF(A29<>\"\",IFERROR(VLOOKUP(S29,Tabelas!B:D,3,0),0),\"\")","v":0},{"$f":"IF(A29<>\"\",IFERROR(VLOOKUP(T29,Tabelas!B:D,3,0),0),\"\")","v":0},{"$f":"IF(A29<>\"\",IFERROR(VLOOKUP(U29,Tabelas!B:D,3,0),0),\"\")","v":0},{"$f":"IF(A29<>\"\",IFERROR(VLOOKUP(V29,Tabelas!B:D,3,0),0),\"\")","v":0},{"$f":"IF(A29<>\"\",IFERROR(VLOOKUP(W29,Tabelas!B:D,3,0),0),\"\")","v":0},{"$f":"IF(A29<>\"\",IFERROR(VLOOKUP(X29,Tabelas!B:D,3,0),0),\"\")","v":0},{"$f":"IF(A29<>\"\",IFERROR(VLOOKUP(Y29,Tabelas!B:D,3,0),0),\"\")","v":0},{"$f":"IF(A29<>\"\",IFERROR(VLOOKUP(Z29,Tabelas!B:D,3,0),0),\"\")","v":0},{"$f":"IF(A29<>\"\",IFERROR(VLOOKUP(AA29,Tabelas!B:D,3,0),0),\"\")","v":0},{"$f":"IF(A29<>\"\",IFERROR(VLOOKUP(AB29,Tabelas!B:D,3,0),0),\"\")","v":0},{"$f":"IF(A29<>\"\",IFERROR(VLOOKUP(AC29,Tabelas!B:D,3,0),0),\"\")","v":0},{"$f":"IF(A29<>\"\",IFERROR(VLOOKUP(AD29,Tabelas!B:D,3,0),0),\"\")","v":0},{"$f":"IF(A29<>\"\",IFERROR(VLOOKUP(AE29,Tabelas!B:D,3,0),0),\"\")","v":0},{"$f":"IF(A29<>\"\",IFERROR(VLOOKUP(AF29,Tabelas!B:D,3,0),0),\"\")","v":0},{"$f":"IF(A29<>\"\",IFERROR(VLOOKUP(AG29,Tabelas!B:D,3,0),0),\"\")","v":0},{"$f":"IF(A29<>\"\",IFERROR(VLOOKUP(AH29,Tabelas!B:D,3,0),0),\"\")","v":0},{"$f":"IF(A29<>\"\",IFERROR(VLOOKUP(AI29,Tabelas!B:D,3,0),0),\"\")","v":0},{"$f":"IF(A29<>\"\",IFERROR(VLOOKUP(AJ29,Tabelas!B:D,3,0),0),\"\")","v":0},{"$f":"IF(A29<>\"\",IFERROR(VLOOKUP(AK29,Tabelas!B:D,3,0),0),\"\")","v":0},{"$f":"IF(A29<>\"\",IFERROR(VLOOKUP(AL29,Tabelas!B:D,3,0),0),\"\")","v":0},{"$f":"IF(A29<>\"\",IFERROR(VLOOKUP(AM29,Tabelas!B:D,3,0),0),\"\")","v":0},{"$f":"IF(A29<>\"\",IFERROR(VLOOKUP(AN29,Tabelas!B:D,3,0),0),\"\")","v":0},{"$f":"IF(A29<>\"\",IFERROR(VLOOKUP(AO29,Tabelas!B:D,3,0),0),\"\")","v":0},{"$f":"IF(A29<>\"\",IFERROR(VLOOKUP(AP29,Tabelas!B:D,3,0),0),\"\")","v":0},{"$f":"IF(A29<>\"\",IFERROR(VLOOKUP(AQ29,Tabelas!B:D,3,0),0),\"\")","v":0},0,0,0,0,0,0,0,0]
["FULANO 22",22,null,null,null,null,null,null,null,null,null,null,null,null,null,null,null,null,null,null,null,null,null,null,null,null,null,null,null,null,null,null,null,null,null,null,null,null,null,null,null,null,null,{"$f":"IF(A30<>\"\",IFERROR(VLOOKUP(M30,Tabelas!B:D,3,0),0),\"\")","v":0},{"$f":"IF(A30<>\"\",IFERROR(VLOOKUP(N30,Tabelas!B:D,3,0),0),\"\")","v":0},{"$f":"IF(A30<>\"\",IFERROR(VLOOKUP(O30,Tabelas!B:D,3,0),0),\"\")","v":0},{"$f":"IF(A30<>\"\",IFERROR(VLOOKUP(P30,Tabelas!B:D,3,0),0),\"\")","v":0},{"$f":"IF(A30<>\"\",IFERROR(VLOOKUP(Q30,Tabelas!B:D,3,0),0),\"\")","v":0},{"$f":"IF(A30<>\"\",IFERROR(VLOOKUP(R30,Tabelas!B:D,3,0),0),\"\")","v":0},{"$f":"IF(A30<>\"\",IFERROR(VLOOKUP(S30,Tabelas!B:D,3,0),0),\"\")","v":0},{"$f":"IF(A30<>\"\",IFERROR(VLOOKUP(T30,Tabelas!B:D,3,0),0),\"\")","v":0},{"$f":"IF(A30<>\"\",IFERROR(VLOOKUP(U30,Tabelas!B:D,3,0),0),\"\")","v":0},{"$f":"IF(A30<>\"\",IFERROR(VLOOKUP(V30,Tabelas!B:D,3,0),0),\"\")","v":0},{"$f":"IF(A30<>\"\",IFERROR(VLOOKUP(W30,Tabelas!B:D,3,0),0),\"\")","v":0},{"$f":"IF(A30<>\"\",IFERROR(VLOOKUP(X30,Tabelas!B:D,3,0),0),\"\")","v":0},{"$f":"IF(A30<>\"\",IFERROR(VLOOKUP(Y30,Tabelas!B:D,3,0),0),\"\")","v":0},{"$f":"IF(A30<>\"\",IFERROR(VLOOKUP(Z30,Tabelas!B:D,3,0),0),\"\")","v":0},{"$f":"IF(A30<>\"\",IFERROR(VLOOKUP(AA30,Tabelas!B:D,3,0),0),\"\")","v":0},{"$f":"IF(A30<>\"\",IFERROR(VLOOKUP(AB30,Tabelas!B:D,3,0),0),\"\")","v":0},{"$f":"IF(A30<>\"\",IFERROR(VLOOKUP(AC30,Tabelas!B:D,3,0),0),\"\")","v":0},{"$f":"IF(A30<>\"\",IFERROR(VLOOKUP(AD30,Tabelas!B:D,3,0),0),\"\")","v":0},{"$f":"IF(A30<>\"\",IFERROR(VLOOKUP(AE30,Tabelas!B:D,3,0),0),\"\")","v":0},{"$f":"IF(A30<>\"\",IFERROR(VLOOKUP(AF30,Tabelas!B:D,3,0),0),\"\")","v":0},{"$f":"IF(A30<>\"\",IFERROR(VLOOKUP(AG30,Tabelas!B:D,3,0),0),\"\")","v":0},{"$f":"IF(A30<>\"\",IFERROR(VLOOKUP(AH30,Tabelas!B:D,3,0),0),\"\")","v":0},{"$f":"IF(A30<>\"\",IFERROR(VLOOKUP(AI30,Tabelas!B:D,3,0),0),\"\")","v":0},{"$f":"IF(A30<>\"\",IFERROR(VLOOKUP(AJ30,Tabelas!B:D,3,0),0),\"\")","v":0},{"$f":"IF(A30<>\"\",IFERROR(VLOOKUP(AK30,Tabelas!B:D,3,0),0),\"\")","v":0},{"$f":"IF(A30<>\"\",IFERROR(VLOOKUP(AL30,Tabelas!B:D,3,0),0),\"\")","v":0},{"$f":"IF(A30<>\"\",IFERROR(VLOOKUP(AM30,Tabelas!B:D,3,0),0),\"\")","v":0},{"$f":"IF(A30<>\"\",IFERROR(VLOOKUP(AN30,Tabelas!B:D,3,0),0),\"\")","v":0},{"$f":"IF(A30<>\"\",IFERROR(VLOOKUP(AO30,Tabelas!B:D,3,0),0),\"\")","v":0},{"$f":"IF(A30<>\"\",IFERROR(VLOOKUP(AP30,Tabelas!B:D,3,0),0),\"\")","v":0},{"$f":"IF(A30<>\"\",IFERROR(VLOOKUP(AQ30,Tabelas!B:D,3,0),0),\"\")","v":0},0,0,0,0,0,0,0,0]
["FULANO 23",23,null,null,null,null,null,null,null,null,null,null,null,null,null,null,null,null,null,null,null,null,null,null,null,null,null,null,null,null,null,null,null,null,null,null,null,null,null,null,null,null,null,{"$f":"IF(A31<>\"\",IFERROR(VLOOKUP(M31,Tabelas!B:D,3,0),0),\"\")","v":0},{"$f":"IF(A31<>\"\",IFERROR(VLOOKUP(N31,Tabelas!B:D,3,0),0),\"\")","v":0},{"$f":"IF(A31<>\"\",IFERROR(VLOOKUP(O31,Tabelas!B:D,3,0),0),\"\")","v":0},{"$f":"IF(A31<>\"\",IFERROR(VLOOKUP(P31,Tabelas!B:D,3,0),0),\"\")","v":0},{"$f":"IF(A31<>\"\",IFERROR(VLOOKUP(Q31,Tabelas!B:D,3,0),0),\"\")","v":0},{"$f":"IF(A31<>\"\",IFERROR(VLOOKUP(R31,Tabelas!B:D,3,0),0),\"\")","v":0},{"$f":"IF(A31<>\"\",IFERROR(VLOOKUP(S31,Tabelas!B:D,3,0),0),\"\")","v":0},{"$f":"IF(A31<>\"\",IFERROR(VLOOKUP(T31,Tabelas!B:D,3,0),0),\"\")","v":0},{"$f":"IF(A31<>\"\",IFERROR(VLOOKUP(U31,Tabelas!B:D,3,0),0),\"\")","v":0},{"$f":"IF(A31<>\"\",IFERROR(VLOOKUP(V31,Tabelas!B:D,3,0),0),\"\")","v":0},{"$f":"IF(A31<>\"\",IFERROR(VLOOKUP(W31,Tabelas!B:D,3,0),0),\"\")","v":0},{"$f":"IF(A31<>\"\",IFERROR(VLOOKUP(X31,Tabelas!B:D,3,0),0),\"\")","v":0},{"$f":"IF(A31<>\"\",IFERROR(VLOOKUP(Y31,Tabelas!B:D,3,0),0),\"\")","v":0},{"$f":"IF(A31<>\"\",IFERROR(VLOOKUP(Z31,Tabelas!B:D,3,0),0),\"\")","v":0},{"$f":"IF(A31<>\"\",IFERROR(VLOOKUP(AA31,Tabelas!B:D,3,0),0),\"\")","v":0},{"$f":"IF(A31<>\"\",IFERROR(VLOOKUP(AB31,Tabelas!B:D,3,0),0),\"\")","v":0},{"$f":"IF(A31<>\"\",IFERROR(VLOOKUP(AC31,Tabelas!B:D,3,0),0),\"\")","v":0},{"$f":"IF(A31<>\"\",IFERROR(VLOOKUP(AD31,Tabelas!B:D,3,0),0),\"\")","v":0},{"$f":"IF(A31<>\"\",IFERROR(VLOOKUP(AE31,Tabelas!B:D,3,0),0),\"\")","v":0},{"$f":"IF(A31<>\"\",IFERROR(VLOOKUP(AF31,Tabelas!B:D,3,0),0),\"\")","v":0},{"$f":"IF(A31<>\"\",IFERROR(VLOOKUP(AG31,Tabelas!B:D,3,0),0),\"\")","v":0},{"$f":"IF(A31<>\"\",IFERROR(VLOOKUP(AH31,Tabelas!B:D,3,0),0),\"\")","v":0},{"$f":"IF(A31<>\"\",IFERROR(VLOOKUP(AI31,Tabelas!B:D,3,0),0),\"\")","v":0},{"$f":"IF(A31<>\"\",IFERROR(VLOOKUP(AJ31,Tabelas!B:D,3,0),0),\"\")","v":0},{"$f":"IF(A31<>\"\",IFERROR(VLOOKUP(AK31,Tabelas!B:D,3,0),0),\"\")","v":0},{"$f":"IF(A31<>\"\",IFERROR(VLOOKUP(AL31,Tabelas!B:D,3,0),0),\"\")","v":0},{"$f":"IF(A31<>\"\",IFERROR(VLOOKUP(AM31,Tabelas!B:D,3,0),0),\"\")","v":0},{"$f":"IF(A31<>\"\",IFERROR(VLOOKUP(AN31,Tabelas!B:D,3,0),0),\"\")","v":0},{"$f":"IF(A31<>\"\",IFERROR(VLOOKUP(AO31,Tabelas!B:D,3,0),0),\"\")","v":0},{"$f":"IF(A31<>\"\",IFERROR(VLOOKUP(AP31,Tabelas!B:D,3,0),0),\"\")","v":0},{"$f":"IF(A31<>\"\",IFERROR(VLOOKUP(AQ31,Tabelas!B:D,3,0),0),\"\")","v":0},0,0,0,0,0,0,0,0]
["FULANO 24",24,null,null,null,null,null,null,null,null,null,null,null,null,null,null,null,null,null,null,null,null,null,null,null,null,null,null,null,null,null,null,null,null,null,null,null,null,null,null,null,null,null,{"$f":"IF(A32<>\"\",IFERROR(VLOOKUP(M32,Tabelas!B:D,3,0),0),\"\")","v":0},{"$f":"IF(A32<>\"\",IFERROR(VLOOKUP(N32,Tabelas!B:D,3,0),0),\"\")","v":0},{"$f":"IF(A32<>\"\",IFERROR(VLOOKUP(O32,Tabelas!B:D,3,0),0),\"\")","v":0},{"$f":"IF(A32<>\"\",IFERROR(VLOOKUP(P32,Tabelas!B:D,3,0),0),\"\")","v":0},{"$f":"IF(A32<>\"\",IFERROR(VLOOKUP(Q32,Tabelas!B:D,3,0),0),\"\")","v":0},{"$f":"IF(A32<>\"\",IFERROR(VLOOKUP(R32,Tabelas!B:D,3,0),0),\"\")","v":0},{"$f":"IF(A32<>\"\",IFERROR(VLOOKUP(S32,Tabelas!B:D,3,0),0),\"\")","v":0},{"$f":"IF(A32<>\"\",IFERROR(VLOOKUP(T32,Tabelas!B:D,3,0),0),\"\")","v":0},{"$f":"IF(A32<>\"\",IFERROR(VLOOKUP(U32,Tabelas!B:D,3,0),0),\"\")","v":0},{"$f":"IF(A32<>\"\",IFERROR(VLOOKUP(V32,Tabelas!B:D,3,0),0),\"\")","v":0},{"$f":"IF(A32<>\"\",IFERROR(VLOOKUP(W32,Tabelas!B:D,3,0),0),\"\")","v":0},{"$f":"IF(A32<>\"\",IFERROR(VLOOKUP(X32,Tabelas!B:D,3,0),0),\"\")","v":0},{"$f":"IF(A32<>\"\",IFERROR(VLOOKUP(Y32,Tabelas!B:D,3,0),0),\"\")","v":0},{"$f":"IF(A32<>\"\",IFERROR(VLOOKUP(Z32,Tabelas!B:D,3,0),0),\"\")","v":0},{"$f":"IF(A32<>\"\",IFERROR(VLOOKUP(AA32,Tabelas!B:D,3,0),0),\"\")","v":0},{"$f":"IF(A32<>\"\",IFERROR(VLOOKUP(AB32,Tabelas!B:D,3,0),0),\"\")","v":0},{"$f":"IF(A32<>\"\",IFERROR(VLOOKUP(AC32,Tabelas!B:D,3,0),0),\"\")","v":0},{"$f":"IF(A32<>\"\",IFERROR(VLOOKUP(AD32,Tabelas!B:D,3,0),0),\"\")","v":0},{"$f":"IF(A32<>\"\",IFERROR(VLOOKUP(AE32,Tabelas!B:D,3,0),0),\"\")","v":0},{"$f":"IF(A32<>\"\",IFERROR(VLOOKUP(AF32,Tabelas!B:D,3,0),0),\"\")","v":0},{"$f":"IF(A32<>\"\",IFERROR(VLOOKUP(AG32,Tabelas!B:D,3,0),0),\"\")","v":0},{"$f":"IF(A32<>\"\",IFERROR(VLOOKUP(AH32,Tabelas!B:D,3,0),0),\"\")","v":0},{"$f":"IF(A32<>\"\",IFERROR(VLOOKUP(AI32,Tabelas!B:D,3,0),0),\"\")","v":0},{"$f":"IF(A32<>\"\",IFERROR(VLOOKUP(AJ32,Tabelas!B:D,3,0),0),\"\")","v":0},{"$f":"IF(A32<>\"\",IFERROR(VLOOKUP(AK32,Tabelas!B:D,3,0),0),\"\")","v":0},{"$f":"IF(A32<>\"\",IFERROR(VLOOKUP(AL32,Tabelas!B:D,3,0),0),\"\")","v":0},{"$f":"IF(A32<>\"\",IFERROR(VLOOKUP(AM32,Tabelas!B:D,3,0),0),\"\")","v":0},{"$f":"IF(A32<>\"\",IFERROR(VLOOKUP(AN32,Tabelas!B:D,3,0),0),\"\")","v":0},{"$f":"IF(A32<>\"\",IFERROR(VLOOKUP(AO32,Tabelas!B:D,3,0),0),\"\")","v":0},{"$f":"IF(A32<>\"\",IFERROR(VLOOKUP(AP32,Tabelas!B:D,3,0),0),\"\")","v":0},{"$f":"IF(A32<>\"\",IFERROR(VLOOKUP(AQ32,Tabelas!B:D,3,0),0),\"\")","v":0},0,0,0,0,0,0,0,0]
["FULANO 25",25,null,null,null,null,null,null,null,null,null,null,null,null,null,null,null,null,null,null,null,null,null,null,null,null,null,null,null,null,null,null,null,null,null,null,null,null,null,null,null,null,null,{"$f":"IF(A33<>\"\",IFERROR(VLOOKUP(M33,Tabelas!B:D,3,0),0),\"\")","v":0},{"$f":"IF(A33<>\"\",IFERROR(VLOOKUP(N33,Tabelas!B:D,3,0),0),\"\")","v":0},{"$f":"IF(A33<>\"\",IFERROR(VLOOKUP(O33,Tabelas!B:D,3,0),0),\"\")","v":0},{"$f":"IF(A33<>\"\",IFERROR(VLOOKUP(P33,Tabelas!B:D,3,0),0),\"\")","v":0},{"$f":"IF(A33<>\"\",IFERROR(VLOOKUP(Q33,Tabelas!B:D,3,0),0),\"\")","v":0},{"$f":"IF(A33<>\"\",IFERROR(VLOOKUP(R33,Tabelas!B:D,3,0),0),\"\")","v":0},{"$f":"IF(A33<>\"\",IFERROR(VLOOKUP(S33,Tabelas!B:D,3,0),0),\"\")","v":0},{"$f":"IF(A33<>\"\",IFERROR(VLOOKUP(T33,Tabelas!B:D,3,0),0),\"\")","v":0},{"$f":"IF(A33<>\"\",IFERROR(VLOOKUP(U33,Tabelas!B:D,3,0),0),\"\")","v":0},{"$f":"IF(A33<>\"\",IFERROR(VLOOKUP(V33,Tabelas!B:D,3,0),0),\"\")","v":0},{"$f":"IF(A33<>\"\",IFERROR(VLOOKUP(W33,Tabelas!B:D,3,0),0),\"\")","v":0},{"$f":"IF(A33<>\"\",IFERROR(VLOOKUP(X33,Tabelas!B:D,3,0),0),\"\")","v":0},{"$f":"IF(A33<>\"\",IFERROR(VLOOKUP(Y33,Tabelas!B:D,3,0),0),\"\")","v":0},{"$f":"IF(A33<>\"\",IFERROR(VLOOKUP(Z33,Tabelas!B:D,3,0),0),\"\")","v":0},{"$f":"IF(A33<>\"\",IFERROR(VLOOKUP(AA33,Tabelas!B:D,3,0),0),\"\")","v":0},{"$f":"IF(A33<>\"\",IFERROR(VLOOKUP(AB33,Tabelas!B:D,3,0),0),\"\")","v":0},{"$f":"IF(A33<>\"\",IFERROR(VLOOKUP(AC33,Tabelas!B:D,3,0),0),\"\")","v":0},{"$f":"IF(A33<>\"\",IFERROR(VLOOKUP(AD33,Tabelas!B:D,3,0),0),\"\")","v":0},{"$f":"IF(A33<>\"\",IFERROR(VLOOKUP(AE33,Tabelas!B:D,3,0),0),\"\")","v":0},{"$f":"IF(A33<>\"\",IFERROR(VLOOKUP(AF33,Tabelas!B:D,3,0),0),\"\")","v":0},{"$f":"IF(A33<>\"\",IFERROR(VLOOKUP(AG33,Tabelas!B:D,3,0),0),\"\")","v":0},{"$f":"IF(A33<>\"\",IFERROR(VLOOKUP(AH33,Tabelas!B:D,3,0),0),\"\")","v":0},{"$f":"IF(A33<>\"\",IFERROR(VLOOKUP(AI33,Tabelas!B:D,3,0),0),\"\")","v":0},{"$f":"IF(A33<>\"\",IFERROR(VLOOKUP(AJ33,Tabelas!B:D,3,0),0),\"\")","v":0},{"$f":"IF(A33<>\"\",IFERROR(VLOOKUP(AK33,Tabelas!B:D,3,0),0),\"\")","v":0},{"$f":"IF(A33<>\"\",IFERROR(VLOOKUP(AL33,Tabelas!B:D,3,0),0),\"\")","v":0},{"$f":"IF(A33<>\"\",IFERROR(VLOOKUP(AM33,Tabelas!B:D,3,0),0),\"\")","v":0},{"$f":"IF(A33<>\"\",IFERROR(VLOOKUP(AN33,Tabelas!B:D,3,0),0),\"\")","v":0},{"$f":"IF(A33<>\"\",IFERROR(VLOOKUP(AO33,Tabelas!B:D,3,0),0),\"\")","v":0},{"$f":"IF(A33<>\"\",IFERROR(VLOOKUP(AP33,Tabelas!B:D,3,0),0),\"\")","v":0},{"$f":"IF(A33<>\"\",IFERROR(VLOOKUP(AQ33,Tabelas!B:D,3,0),0),\"\")","v":0},0,0,0,0,0,0,0,0]
["FULANO 26",26,null,null,null,null,null,null,null,null,null,null,null,null,null,null,null,null,null,null,null,null,null,null,null,null,null,null,null,null,null,null,null,null,null,null,null,null,null,null,null,null,null,{"$f":"IF(A34<>\"\",IFERROR(VLOOKUP(M34,Tabelas!B:D,3,0),0),\"\")","v":0},{"$f":"IF(A34<>\"\",IFERROR(VLOOKUP(N34,Tabelas!B:D,3,0),0),\"\")","v":0},{"$f":"IF(A34<>\"\",IFERROR(VLOOKUP(O34,Tabelas!B:D,3,0),0),\"\")","v":0},{"$f":"IF(A34<>\"\",IFERROR(VLOOKUP(P34,Tabelas!B:D,3,0),0),\"\")","v":0},{"$f":"IF(A34<>\"\",IFERROR(VLOOKUP(Q34,Tabelas!B:D,3,0),0),\"\")","v":0},{"$f":"IF(A34<>\"\",IFERROR(VLOOKUP(R34,Tabelas!B:D,3,0),0),\"\")","v":0},{"$f":"IF(A34<>\"\",IFERROR(VLOOKUP(S34,Tabelas!B:D,3,0),0),\"\")","v":0},{"$f":"IF(A34<>\"\",IFERROR(VLOOKUP(T34,Tabelas!B:D,3,0),0),\"\")","v":0},{"$f":"IF(A34<>\"\",IFERROR(VLOOKUP(U34,Tabelas!B:D,3,0),0),\"\")","v":0},{"$f":"IF(A34<>\"\",IFERROR(VLOOKUP(V34,Tabelas!B:D,3,0),0),\"\")","v":0},{"$f":"IF(A34<>\"\",IFERROR(VLOOKUP(W34,Tabelas!B:D,3,0),0),\"\")","v":0},{"$f":"IF(A34<>\"\",IFERROR(VLOOKUP(X34,Tabelas!B:D,3,0),0),\"\")","v":0},{"$f":"IF(A34<>\"\",IFERROR(VLOOKUP(Y34,Tabelas!B:D,3,0),0),\"\")","v":0},{"$f":"IF(A34<>\"\",IFERROR(VLOOKUP(Z34,Tabelas!B:D,3,0),0),\"\")","v":0},{"$f":"IF(A34<>\"\",IFERROR(VLOOKUP(AA34,Tabelas!B:D,3,0),0),\"\")","v":0},{"$f":"IF(A34<>\"\",IFERROR(VLOOKUP(AB34,Tabelas!B:D,3,0),0),\"\")","v":0},{"$f":"IF(A34<>\"\",IFERROR(VLOOKUP(AC34,Tabelas!B:D,3,0),0),\"\")","v":0},{"$f":"IF(A34<>\"\",IFERROR(VLOOKUP(AD34,Tabelas!B:D,3,0),0),\"\")","v":0},{"$f":"IF(A34<>\"\",IFERROR(VLOOKUP(AE34,Tabelas!B:D,3,0),0),\"\")","v":0},{"$f":"IF(A34<>\"\",IFERROR(VLOOKUP(AF34,Tabelas!B:D,3,0),0),\"\")","v":0},{"$f":"IF(A34<>\"\",IFERROR(VLOOKUP(AG34,Tabelas!B:D,3,0),0),\"\")","v":0},{"$f":"IF(A34<>\"\",IFERROR(VLOOKUP(AH34,Tabelas!B:D,3,0),0),\"\")","v":0},{"$f":"IF(A34<>\"\",IFERROR(VLOOKUP(AI34,Tabelas!B:D,3,0),0),\"\")","v":0},{"$f":"IF(A34<>\"\",IFERROR(VLOOKUP(AJ34,Tabelas!B:D,3,0),0),\"\")","v":0},{"$f":"IF(A34<>\"\",IFERROR(VLOOKUP(AK34,Tabelas!B:D,3,0),0),\"\")","v":0},{"$f":"IF(A34<>\"\",IFERROR(VLOOKUP(AL34,Tabelas!B:D,3,0),0),\"\")","v":0},{"$f":"IF(A34<>\"\",IFERROR(VLOOKUP(AM34,Tabelas!B:D,3,0),0),\"\")","v":0},{"$f":"IF(A34<>\"\",IFERROR(VLOOKUP(AN34,Tabelas!B:D,3,0),0),\"\")","v":0},{"$f":"IF(A34<>\"\",IFERROR(VLOOKUP(AO34,Tabelas!B:D,3,0),0),\"\")","v":0},{"$f":"IF(A34<>\"\",IFERROR(VLOOKUP(AP34,Tabelas!B:D,3,0),0),\"\")","v":0},{"$f":"IF(A34<>\"\",IFERROR(VLOOKUP(AQ34,Tabelas!B:D,3,0),0),\"\")","v":0},0,0,0,0,0,0,0,0]
["FULANO 27",27,null,null,null,null,null,null,null,null,null,null,null,null,null,null,null,null,null,null,null,null,null,null,null,null,null,null,null,null,null,null,null,null,null,null,null,null,null,null,null,null,null,{"$f":"IF(A35<>\"\",IFERROR(VLOOKUP(M35,Tabelas!B:D,3,0),0),\"\")","v":0},{"$f":"IF(A35<>\"\",IFERROR(VLOOKUP(N35,Tabelas!B:D,3,0),0),\"\")","v":0},{"$f":"IF(A35<>\"\",IFERROR(VLOOKUP(O35,Tabelas!B:D,3,0),0),\"\")","v":0},{"$f":"IF(A35<>\"\",IFERROR(VLOOKUP(P35,Tabelas!B:D,3,0),0),\"\")","v":0},{"$f":"IF(A35<>\"\",IFERROR(VLOOKUP(Q35,Tabelas!B:D,3,0),0),\"\")","v":0},{"$f":"IF(A35<>\"\",IFERROR(VLOOKUP(R35,Tabelas!B:D,3,0),0),\"\")","v":0},{"$f":"IF(A35<>\"\",IFERROR(VLOOKUP(S35,Tabelas!B:D,3,0),0),\"\")","v":0},{"$f":"IF(A35<>\"\",IFERROR(VLOOKUP(T35,Tabelas!B:D,3,0),0),\"\")","v":0},{"$f":"IF(A35<>\"\",IFERROR(VLOOKUP(U35,Tabelas!B:D,3,0),0),\"\")","v":0},{"$f":"IF(A35<>\"\",IFERROR(VLOOKUP(V35,Tabelas!B:D,3,0),0),\"\")","v":0},{"$f":"IF(A35<>\"\",IFERROR(VLOOKUP(W35,Tabelas!B:D,3,0),0),\"\")","v":0},{"$f":"IF(A35<>\"\",IFERROR(VLOOKUP(X35,Tabelas!B:D,3,0),0),\"\")","v":0},{"$f":"IF(A35<>\"\",IFERROR(VLOOKUP(Y35,Tabelas!B:D,3,0),0),\"\")","v":0},{"$f":"IF(A35<>\"\",IFERROR(VLOOKUP(Z35,Tabelas!B:D,3,0),0),\"\")","v":0},{"$f":"IF(A35<>\"\",IFERROR(VLOOKUP(AA35,Tabelas!B:D,3,0),0),\"\")","v":0},{"$f":"IF(A35<>\"\",IFERROR(VLOOKUP(AB35,Tabelas!B:D,3,0),0),\"\")","v":0},{"$f":"IF(A35<>\"\",IFERROR(VLOOKUP(AC35,Tabelas!B:D,3,0),0),\"\")","v":0},{"$f":"IF(A35<>\"\",IFERROR(VLOOKUP(AD35,Tabelas!B:D,3,0),0),\"\")","v":0},{"$f":"IF(A35<>\"\",IFERROR(VLOOKUP(AE35,Tabelas!B:D,3,0),0),\"\")","v":0},{"$f":"IF(A35<>\"\",IFERROR(VLOOKUP(AF35,Tabelas!B:D,3,0),0),\"\")","v":0},{"$f":"IF(A35<>\"\",IFERROR(VLOOKUP(AG35,Tabelas!B:D,3,0),0),\"\")","v":0},{"$f":"IF(A35<>\"\",IFERROR(VLOOKUP(AH35,Tabelas!B:D,3,0),0),\"\")","v":0},{"$f":"IF(A35<>\"\",IFERROR(VLOOKUP(AI35,Tabelas!B:D,3,0),0),\"\")","v":0},{"$f":"IF(A35<>\"\",IFERROR(VLOOKUP(AJ35,Tabelas!B:D,3,0),0),\"\")","v":0},{"$f":"IF(A35<>\"\",IFERROR(VLOOKUP(AK35,Tabelas!B:D,3,0),0),\"\")","v":0},{"$f":"IF(A35<>\"\",IFERROR(VLOOKUP(AL35,Tabelas!B:D,3,0),0),\"\")","v":0},{"$f":"IF(A35<>\"\",IFERROR(VLOOKUP(AM35,Tabelas!B:D,3,0),0),\"\")","v":0},{"$f":"IF(A35<>\"\",IFERROR(VLOOKUP(AN35,Tabelas!B:D,3,0),0),\"\")","v":0},{"$f":"IF(A35<>\"\",IFERROR(VLOOKUP(AO35,Tabelas!B:D,3,0),0),\"\")","v":0},{"$f":"IF(A35<>\"\",IFERROR(VLOOKUP(AP35,Tabelas!B:D,3,0),0),\"\")","v":0},{"$f":"IF(A35<>\"\",IFERROR(VLOOKUP(AQ35,Tabelas!B:D,3,0),0),\"\")","v":0},0,0,0,0,0,0,0,{"$f":"IF(A35<>\"\",COUNTIF(M35:AQ35,\"CH*\")+COUNTIF(M35:AQ35,\"L*\")+COUNTIF(M35:AQ35,\"LM\")+COUNTIF(M35:AQ35,\"LP\")+COUNTIF(M35:AQ35,\"LC\")+COUNTIF(M35:AQ35,\"AB*\")+COUNTIF(M35:AQ35,\"AF1\")+COUNTIF(M35:AQ35,\"AF2\")+COUNTIF(M35:AQ35,\"AF3\")+COUNTIF(M35:AQ35,\"AF4\")+COUNTIF(M35:AQ35,\"AF5\")+COUNTIF(M35:AQ35,\"AF6\")+COUNTIF(M35:AQ35,\"AF7\")+COUNTIF(M35:AQ35,\"AF8\")+COUNTIF(M35:AQ35,\"AF9\")+COUNTIF(M35:AQ35,\"AF10\")+COUNTIF(M35:AQ35,\"AF11\")+COUNTIF(M35:AQ35,\"AF12\")+COUNTIF(M35:AQ35,\"AF13\")+COUNTIF(M35:AQ35,\"AF14\")+COUNTIF(M35:AQ35,\"RC\")+COUNTIF(M35:AQ35,\"FO\")+COUNTIF(M35:AQ35,\"FE\"),\"\")","v":0}]
["TOTAL PROFISSIONAIS MATUTINO",null,null,null,null,null,null,null,null,null,null,null,{"$f":"IF(COUNTIF(Outubro!AQ9:AQ35,\"PR5\")+COUNTIF(Outubro!AQ9:AQ35,\"PR6\")+COUNTIF(Outubro!AQ9:AQ35,\"PR7\")+COUNTIF(Outubro!AQ9:AQ35,\"PR8\")+COUNTIF(Outubro!AQ9:AQ35,\"PR9\")+COUNTIF(M9:M35,\"M*\")+ COUNTIF(M9:M35, \"D*\")-COUNTIF(M9:M35,\"DSR\")+COUNTIF(M9:M35,\"PR1\")+COUNTIF(M9:M35,\"PR2\")+COUNTIF(M9:M35,\"PR3\")+COUNTIF(M9:M35,\"PR4\")<>0,COUNTIF(Outubro!AQ9:AQ35,\"PR5\")+COUNTIF(Outubro!AQ9:AQ35,\"PR6\")+COUNTIF(Outubro!AQ9:AQ35,\"PR7\")+COUNTIF(Outubro!AQ9:AQ35,\"PR8\")+COUNTIF(Outubro!AQ9:AQ35,\"PR9\")+COUNTIF(M9:M35,\"M*\")+ COUNTIF(M9:M35, \"D*\")-COUNTIF(M9:M35,\"DSR\")+COUNTIF(M9:M35,\"PR1\")+COUNTIF(M9:M35,\"PR2\")+COUNTIF(M9:M35,\"PR3\")+COUNTIF(M9:M35,\"PR4\"),\"\")","v":""},{"$f":"IF(COUNTIF(N9:N35,\"M*\")+ COUNTIF(N9:N35, \"D*\")-COUNTIF(N9:N35,\"DSR\")+COUNTIF(M9:M35,\"PR5\")+COUNTIF(M9:M35,\"PR6\")+COUNTIF(M9:M35,\"PR7\")+COUNTIF(M9:M35,\"PR8\")+COUNTIF(M9:M35,\"PR9\")+COUNTIF(N9:N35,\"PR1\")+COUNTIF(N9:N35,\"PR2\")+COUNTIF(N9:N35,\"PR3\")+COUNTIF(N9:N35,\"PR4\")<>0,COUNTIF(N9:N35,\"M*\")+ COUNTIF(N9:N35, \"D*\")-COUNTIF(N9:N35,\"DSR\")+COUNTIF(M9:M35,\"PR5\")+COUNTIF(M9:M35,\"PR6\")+COUNTIF(M9:M35,\"PR7\")+COUNTIF(M9:M35,\"PR8\")+COUNTIF(M9:M35,\"PR9\")+COUNTIF(N9:N35,\"PR1\")+COUNTIF(N9:N35,\"PR2\")+COUNTIF(N9:N35,\"PR3\")+COUNTIF(N9:N35,\"PR4\"),\"\")","v":""},{"$f":"IF(COUNTIF(O9:O35,\"M*\")+ COUNTIF(O9:O35, \"D*\")-COUNTIF(O9:O35,\"DSR\")+COUNTIF(N9:N35,\"PR5\")+COUNTIF(N9:N35,\"PR6\")+COUNTIF(N9:N35,\"PR7\")+COUNTIF(N9:N35,\"PR8\")+COUNTIF(N9:N35,\"PR9\")+COUNTIF(O9:O35,\"PR1\")+COUNTIF(O9:O35,\"PR2\")+COUNTIF(O9:O35,\"PR3\")+COUNTIF(O9:O35,\"PR4\")<>0,COUNTIF(O9:O35,\"M*\")+ COUNTIF(O9:O35, \"D*\")-COUNTIF(O9:O35,\"DSR\")+COUNTIF(N9:N35,\"PR5\")+COUNTIF(N9:N35,\"PR6\")+COUNTIF(N9:N35,\"PR7\")+COUNTIF(N9:N35,\"PR8\")+COUNTIF(N9:N35,\"PR9\")+COUNTIF(O9:O35,\"PR1\")+COUNTIF(O9:O35,\"PR2\")+COUNTIF(O9:O35,\"PR3\")+COUNTIF(O9:O35,\"PR4\"),\"\")","v":""},"","","","","","","","","","","","","","","","","","","","","","","","","","","",null,null,null,null,null,null,null,null,null,null,null,null,null,null,null,null,null,null,null,null,null,null,null,null,null,null,null,null,null,null,null,null,{"$f":"SUM(BW9:BW35)","v":0},{"$f":"SUM(BX9:BX35)","v":0},0,0,0,0,0,0]
["TOTAL DE PROFISSIONAIS VESPERTINO",null,null,null,null,null,null,null,null,null,null,null,{"$f":"IF(COUNTIF(Outubro!AQ9:AQ35,\"PR5\")+COUNTIF(Outubro!AQ9:AQ35,\"PR6\")+COUNTIF(Outubro!AQ9:AQ35,\"PR7\")+COUNTIF(Outubro!AQ9:AQ35,\"PR8\")+COUNTIF(Outubro!AQ9:AQ35,\"PR9\")+COUNTIF(M9:M35,\"MT*\") + COUNTIF(M9:M35, \"D*\") + COUNTIF(M9:M35,\"T*\")-COUNTIF(M9:M35,\"DSR\")+COUNTIF(M9:M35,\"PR1\")+COUNTIF(M9:M35,\"PR2\")+COUNTIF(M9:M35,\"PR3\")+COUNTIF(M9:M35,\"PR4\")<>0,COUNTIF(Outubro!AQ9:AQ35,\"PR5\")+COUNTIF(Outubro!AQ9:AQ35,\"PR6\")+COUNTIF(Outubro!AQ9:AQ35,\"PR7\")+COUNTIF(Outubro!AQ9:AQ35,\"PR8\")+COUNTIF(Outubro!AQ9:AQ35,\"PR9\")+COUNTIF(M9:M35,\"MT*\") + COUNTIF(M9:M35, \"D*\") + COUNTIF(M9:M35,\"T*\")+COUNTIF(M9:M35,\"PR1\")+COUNTIF(M9:M35,\"PR2\")+COUNTIF(M9:M35,\"PR3\")+COUNTIF(M9:M35,\"PR4\")-COUNTIF(M9:M35,\"DSR\"),\"\")","v":""},{"$f":"IF(COUNTIF(N9:N35,\"MT*\") + COUNTIF(N9:N35, \"D*\") + COUNTIF(N9:N35,\"T*\")-COUNTIF(N9:N35,\"DSR\")+COUNTIF(M9:M35,\"PR5\")+COUNTIF(M9:M35,\"PR6\")+COUNTIF(M9:M35,\"PR7\")+COUNTIF(M9:M35,\"PR8\")+COUNTIF(M9:M35,\"PR9\")+COUNTIF(N9:N35,\"PR1\")+COUNTIF(N9:N35,\"PR2\")+COUNTIF(N9:N35,\"PR3\")+COUNTIF(N9:N35,\"PR4\")<>0,COUNTIF(N9:N35,\"MT*\") + COUNTIF(N9:N35, \"D*\") + COUNTIF(N9:N35,\"T*\")+COUNTIF(M9:M35,\"PR5\")+COUNTIF(M9:M35,\"PR6\")+COUNTIF(M9:M35,\"PR7\")+COUNTIF(M9:M35,\"PR8\")+COUNTIF(M9:M35,\"PR9\")+COUNTIF(N9:N35,\"PR1\")+COUNTIF(N9:N35,\"PR2\")+COUNTIF(N9:N35,\"PR3\")+COUNTIF(N9:N35,\"PR4\")-COUNTIF(N9:N35,\"DSR\"),\"\")","v":""},{"$f":"IF(COUNTIF(O9:O35,\"MT*\") + COUNTIF(O9:O35, \"D*\") + COUNTIF(O9:O35,\"T*\")-COUNTIF(O9:O35,\"DSR\")+COUNTIF(N9:N35,\"PR5\")+COUNTIF(N9:N35,\"PR6\")+COUNTIF(N9:N35,\"PR7\")+COUNTIF(N9:N35,\"PR8\")+COUNTIF(N9:N35,\"PR9\")+COUNTIF(O9:O35,\"PR1\")+COUNTIF(O9:O35,\"PR2\")+COUNTIF(O9:O35,\"PR3\")+COUNTIF(O9:O35,\"PR4\")<>0,COUNTIF(O9:O35,\"MT*\") + COUNTIF(O9:O35, \"D*\") + COUNTIF(O9:O35,\"T*\")+COUNTIF(N9:N35,\"PR5\")+COUNTIF(N9:N35,\"PR6\")+COUNTIF(N9:N35,\"PR7\")+COUNTIF(N9:N35,\"PR8\")+COUNTIF(N9:N35,\"PR9\")+COUNTIF(O9:O35,\"PR1\")+COUNTIF(O9:O35,\"PR2\")+COUNTIF(O9:O35,\"PR3\")+COUNTIF(O9:O35,\"PR4\")-COUNTIF(O9:O35,\"DSR\"),\"\")","v":""},"","","","","","","","","","","","","","","","","","","","","","","","","","","",null,{"$f":"IF(A37<>\"\",IFERROR(VLOOKUP(M37,Tabelas!B:D,3,0),0),\"\")","v":0},{"$f":"IF(A37<>\"\",IFERROR(VLOOKUP(N37,Tabelas!B:D,3,0),0),\"\")","v":0},{"$f":"IF(A37<>\"\",IFERROR(VLOOKUP(O37,Tabelas!B:D,3,0),0),\"\")","v":0},{"$f":"IF(A37<>\"\",IFERROR(VLOOKUP(P37,Tabelas!B:D,3,0),0),\"\")","v":0},{"$f":"IF(A37<>\"\",IFERROR(VLOOKUP(Q37,Tabelas!B:D,3,0),0),\"\")","v":0},{"$f":"IF(A37<>\"\",IFERROR(VLOOKUP(R37,Tabelas!B:D,3,0),0),\"\")","v":0},{"$f":"IF(A37<>\"\",IFERROR(VLOOKUP(S37,Tabelas!B:D,3,0),0),\"\")","v":0},{"$f":"IF(A37<>\"\",IFERROR(VLOOKUP(T37,Tabelas!B:D,3,0),0),\"\")","v":0},{"$f":"IF(A37<>\"\",IFERROR(VLOOKUP(U37,Tabelas!B:D,3,0),0),\"\")","v":0},{"$f":"IF(A37<>\"\",IFERROR(VLOOKUP(V37,Tabelas!B:D,3,0),0),\"\")","v":0},{"$f":"IF(A37<>\"\",IFERROR(VLOOKUP(W37,Tabelas!B:D,3,0),0),\"\")","v":0},{"$f":"IF(A37<>\"\",IFERROR(VLOOKUP(X37,Tabelas!B:D,3,0),0),\"\")","v":0},{"$f":"IF(A37<>\"\",IFERROR(VLOOKUP(Y37,Tabelas!B:D,3,0),0),\"\")","v":0},{"$f":"IF(A37<>\"\",IFERROR(VLOOKUP(Z37,Tabelas!B:D,3,0),0),\"\")","v":0},{"$f":"IF(A37<>\"\",IFERROR(VLOOKUP(AA37,Tabelas!B:D,3,0),0),\"\")","v":0},{"$f":"IF(A37<>\"\",IFERROR(VLOOKUP(AB37,Tabelas!B:D,3,0),0),\"\")","v":0},{"$f":"IF(A37<>\"\",IFERROR(VLOOKUP(AC37,Tabelas!B:D,3,0),0),\"\")","v":0},{"$f":"IF(A37<>\"\",IFERROR(VLOOKUP(AD37,Tabelas!B:D,3,0),0),\"\")","v":0},{"$f":"IF(A37<>\"\",IFERROR(VLOOKUP(AE37,Tabelas!B:D,3,0),0),\"\")","v":0},{"$f":"IF(A37<>\"\",IFERROR(VLOOKUP(AF37,Tabelas!B:D,3,0),0),\"\")","v":0},{"$f":"IF(A37<>\"\",IFERROR(VLOOKUP(AG37,Tabelas!B:D,3,0),0),\"\")","v":0},{"$f":"IF(A37<>\"\",IFERROR(VLOOKUP(AH37,Tabelas!B:D,3,0),0),\"\")","v":0},{"$f":"IF(A37<>\"\",IFERROR(VLOOKUP(AI37,Tabelas!B:D,3,0),0),\"\")","v":0},{"$f":"IF(A37<>\"\",IFERROR(VLOOKUP(AJ37,Tabelas!B:D,3,0),0),\"\")","v":0},{"$f":"IF(A37<>\"\",IFERROR(VLOOKUP(AK37,Tabelas!B:D,3,0),0),\"\")","v":0},{"$f":"IF(A37<>\"\",IFERROR(VLOOKUP(AL37,Tabelas!B:D,3,0),0),\"\")","v":0},{"$f":"IF(A37<>\"\",IFERROR(VLOOKUP(AM37,Tabelas!B:D,3,0),0),\"\")","v":0},{"$f":"IF(A37<>\"\",IFERROR(VLOOKUP(AN37,Tabelas!B:D,3,0),0),\"\")","v":0},{"$f":"IF(A37<>\"\",IFERROR(VLOOKUP(AO37,Tabelas!B:D,3,0),0),\"\")","v":0},{"$f":"IF(A37<>\"\",IFERROR(VLOOKUP(AP37,Tabelas!B:D,3,0),0),\"\")","v":0},{"$f":"IF(A37<>\"\",IFERROR(VLOOKUP(AQ37,Tabelas!B:D,3,0),0),\"\")","v":0}]
["TOTAL DE PROFISSIONAIS NOTURNO",null,null,null,null,null,null,null,null,null,null,null,{"$f":"IF(COUNTIF(M9:M37,\"N?*\") + COUNTIF(M9:M37, \"DN*\")+COUNTIF(M9:M35,\"PR*\")<>0,COUNTIF(M9:M37,\"N?*\") + COUNTIF(M9:M37, \"DN*\")+COUNTIF(M9:M35,\"PR*\"),\"\")","v":""},{"$f":"IF(COUNTIF(N9:N37,\"N?*\") + COUNTIF(N9:N37, \"DN*\")+COUNTIF(N9:N35,\"PR*\")<>0,COUNTIF(N9:N37,\"N?*\") + COUNTIF(N9:N37, \"DN*\")+COUNTIF(N9:N35,\"PR*\"),\"\")","v":""},"","","","","","","","","","","","","","","","","","","","","","","","","","","","",null,{"$f":"IF(A38<>\"\",IFERROR(VLOOKUP(M38,Tabelas!B:D,3,0),0),\"\")","v":0},{"$f":"IF(A38<>\"\",IFERROR(VLOOKUP(N38,Tabelas!B:D,3,0),0),\"\")","v":0},{"$f":"IF(A38<>\"\",IFERROR(VLOOKUP(O38,Tabelas!B:D,3,0),0),\"\")","v":0},{"$f":"IF(A38<>\"\",IFERROR(VLOOKUP(P38,Tabelas!B:D,3,0),0),\"\")","v":0},{"$f":"IF(A38<>\"\",IFERROR(VLOOKUP(Q38,Tabelas!B:D,3,0),0),\"\")","v":0},{"$f":"IF(A38<>\"\",IFERROR(VLOOKUP(R38,Tabelas!B:D,3,0),0),\"\")","v":0},{"$f":"IF(A38<>\"\",IFERROR(VLOOKUP(S38,Tabelas!B:D,3,0),0),\"\")","v":0},{"$f":"IF(A38<>\"\",IFERROR(VLOOKUP(T38,Tabelas!B:D,3,0),0),\"\")","v":0},{"$f":"IF(A38<>\"\",IFERROR(VLOOKUP(U38,Tabelas!B:D,3,0),0),\"\")","v":0},{"$f":"IF(A38<>\"\",IFERROR(VLOOKUP(V38,Tabelas!B:D,3,0),0),\"\")","v":0},{"$f":"IF(A38<>\"\",IFERROR(VLOOKUP(W38,Tabelas!B:D,3,0),0),\"\")","v":0},{"$f":"IF(A38<>\"\",IFERROR(VLOOKUP(X38,Tabelas!B:D,3,0),0),\"\")","v":0},{"$f":"IF(A38<>\"\",IFERROR(VLOOKUP(Y38,Tabelas!B:D,3,0),0),\"\")","v":0},{"$f":"IF(A38<>\"\",IFERROR(VLOOKUP(Z38,Tabelas!B:D,3,0),0),\"\")","v":0},{"$f":"IF(A38<>\"\",IFERROR(VLOOKUP(AA38,Tabelas!B:D,3,0),0),\"\")","v":0},{"$f":"IF(A38<>\"\",IFERROR(VLOOKUP(AB38,Tabelas!B:D,3,0),0),\"\")","v":0},{"$f":"IF(A38<>\"\",IFERROR(VLOOKUP(AC38,Tabelas!B:D,3,0),0),\"\")","v":0},{"$f":"IF(A38<>\"\",IFERROR(VLOOKUP(AD38,Tabelas!B:D,3,0),0),\"\")","v":0},{"$f":"IF(A38<>\"\",IFERROR(VLOOKUP(AE38,Tabelas!B:D,3,0),0),\"\")","v":0},{"$f":"IF(A38<>\"\",IFERROR(VLOOKUP(AF38,Tabelas!B:D,3,0),0),\"\")","v":0},{"$f":"IF(A38<>\"\",IFERROR(VLOOKUP(AG38,Tabelas!B:D,3,0),0),\"\")","v":0},{"$f":"IF(A38<>\"\",IFERROR(VLOOKUP(AH38,Tabelas!B:D,3,0),0),\"\")","v":0},{"$f":"IF(A38<>\"\",IFERROR(VLOOKUP(AI38,Tabelas!B:D,3,0),0),\"\")","v":0},{"$f":"IF(A38<>\"\",IFERROR(VLOOKUP(AJ38,Tabelas!B:D,3,0),0),\"\")","v":0},{"$f":"IF(A38<>\"\",IFERROR(VLOOKUP(AK38,Tabelas!B:D,3,0),0),\"\")","v":0},{"$f":"IF(A38<>\"\",IFERROR(VLOOKUP(AL38,Tabelas!B:D,3,0),0),\"\")","v":0},{"$f":"IF(A38<>\"\",IFERROR(VLOOKUP(AM38,Tabelas!B:D,3,0),0),\"\")","v":0},{"$f":"IF(A38<>\"\",IFERROR(VLOOKUP(AN38,Tabelas!B:D,3,0),0),\"\")","v":0},{"$f":"IF(A38<>\"\",IFERROR(VLOOKUP(AO38,Tabelas!B:D,3,0),0),\"\")","v":0},{"$f":"IF(A38<>\"\",IFERROR(VLOOKUP(AP38,Tabelas!B:D,3,0),0),\"\")","v":0},{"$f":"IF(A38<>\"\",IFERROR(VLOOKUP(AQ38,Tabelas!B:D,3,0),0),\"\")","v":0}]
[null,null,null,null,null,null,null,null,null,null,null,null,null,null,null,null,null,null,null,null,null,null,null,null,null,null,null,null,null,null,null,null,null,null,null,null,null,null,null,null,null,null,null,{"$f":"IF(A39<>\"\",IFERROR(VLOOKUP(M39,Tabelas!B:D,3,0),0),\"\")","v":""},{"$f":"IF(A39<>\"\",IFERROR(VLOOKUP(N39,Tabelas!B:D,3,0),0),\"\")","v":""},{"$f":"IF(A39<>\"\",IFERROR(VLOOKUP(O39,Tabelas!B:D,3,0),0),\"\")","v":""},{"$f":"IF(A39<>\"\",IFERROR(VLOOKUP(P39,Tabelas!B:D,3,0),0),\"\")","v":""},{"$f":"IF(A39<>\"\",IFERROR(VLOOKUP(Q39,Tabelas!B:D,3,0),0),\"\")","v":""},{"$f":"IF(A39<>\"\",IFERROR(VLOOKUP(R39,Tabelas!B:D,3,0),0),\"\")","v":""},{"$f":"IF(A39<>\"\",IFERROR(VLOOKUP(S39,Tabelas!B:D,3,0),0),\"\")","v":""},{"$f":"IF(A39<>\"\",IFERROR(VLOOKUP(T39,Tabelas!B:D,3,0),0),\"\")","v":""},{"$f":"IF(A39<>\"\",IFERROR(VLOOKUP(U39,Tabelas!B:D,3,0),0),\"\")","v":""},{"$f":"IF(A39<>\"\",IFERROR(VLOOKUP(V39,Tabelas!B:D,3,0),0),\"\")","v":""},{"$f":"IF(A39<>\"\",IFERROR(VLOOKUP(W39,Tabelas!B:D,3,0),0),\"\")","v":""},{"$f":"IF(A39<>\"\",IFERROR(VLOOKUP(X39,Tabelas!B:D,3,0),0),\"\")","v":""},{"$f":"IF(A39<>\"\",IFERROR(VLOOKUP(Y39,Tabelas!B:D,3,0),0),\"\")","v":""},{"$f":"IF(A39<>\"\",IFERROR(VLOOKUP(Z39,Tabelas!B:D,3,0),0),\"\")","v":""},{"$f":"IF(A39<>\"\",IFERROR(VLOOKUP(AA39,Tabelas!B:D,3,0),0),\"\")","v":""},{"$f":"IF(A39<>\"\",IFERROR(VLOOKUP(AB39,Tabelas!B:D,3,0),0),\"\")","v":""},{"$f":"IF(A39<>\"\",IFERROR(VLOOKUP(AC39,Tabelas!B:D,3,0),0),\"\")","v":""},{"$f":"IF(A39<>\"\",IFERROR(VLOOKUP(AD39,Tabelas!B:D,3,0),0),\"\")","v":""},{"$f":"IF(A39<>\"\",IFERROR(VLOOKUP(AE39,Tabelas!B:D,3,0),0),\"\")","v":""},{"$f":"IF(A39<>\"\",IFERROR(VLOOKUP(AF39,Tabelas!B:D,3,0),0),\"\")","v":""},{"$f":"IF(A39<>\"\",IFERROR(VLOOKUP(AG39,Tabelas!B:D,3,0),0),\"\")","v":""},{"$f":"IF(A39<>\"\",IFERROR(VLOOKUP(AH39,Tabelas!B:D,3,0),0),\"\")","v":""},{"$f":"IF(A39<>\"\",IFERROR(VLOOKUP(AI39,Tabelas!B:D,3,0),0),\"\")","v":""},{"$f":"IF(A39<>\"\",IFERROR(VLOOKUP(AJ39,Tabelas!B:D,3,0),0),\"\")","v":""},{"$f":"IF(A39<>\"\",IFERROR(VLOOKUP(AK39,Tabelas!B:D,3,0),0),\"\")","v":""},{"$f":"IF(A39<>\"\",IFERROR(VLOOKUP(AL39,Tabelas!B:D,3,0),0),\"\")","v":""},{"$f":"IF(A39<>\"\",IFERROR(VLOOKUP(AM39,Tabelas!B:D,3,0),0),\"\")","v":""},{"$f":"IF(A39<>\"\",IFERROR(VLOOKUP(AN39,Tabelas!B:D,3,0),0),\"\")","v":""},{"$f":"IF(A39<>\"\",IFERROR(VLOOKUP(AO39,Tabelas!B:D,3,0),0),\"\")","v":""},{"$f":"IF(A39<>\"\",IFERROR(VLOOKUP(AP39,Tabelas!B:D,3,0),0),\"\")","v":""},{"$f":"IF(A39<>\"\",IFERROR(VLOOKUP(AQ39,Tabelas!B:D,3,0),0),\"\")","v":""}]
["Legenda:"]
["Licença Maternidade","LM","Férias",null,null,null,null,null,null,"FE",null,"Ponto Facultativo",null,null,null,null,null,null,null,"PF","Manhã *",null,null,null,null,null,null,"M","Diurno (8 hrs) *",null,null,null,null,null,null,"MT"]
["Licença Paternidade","LP","Feriado",null,null,null,null,null,null,"FD",null,"Abono **",null,null,null,null,null,null,null,"AB","Tarde *",null,null,null,null,null,null,"T","Dia/ noite (24 hrs) *",null,null,null,null,null,null,"DN"]
["Licença Médica/Odontológica","L","Descanso Semanal Remunerado",null,null,null,null,null,null,"DSR",null,"Compensação de Horas",null,null,null,null,null,null,null,"CH","Plantão Dia (12 hrs) *",null,null,null,null,null,null,"D"]
["Licença Capacitação","LC","Recesso",null,null,null,null,null,null,"RC",null,"Afastamento**",null,null,null,null,null,null,null,"AF","Plantão Noite (12 hrs) *",null,null,null,null,null,null,"N"]
[]
[]
[]
[]
[]
["OBSERVAÇÕES:"]
["* Para inserção das legendas referentes às jornadas de trabalho, verificar a Tabela 1 do Anexo 12629162 do Ofício-Circular - SEI nº 9/2021/SDR/CAP/DGP-EBSERH."]
["** Para inserção das legendas referentes aos Afastamentos previstos em lei e às Compensações de horas, verificar a Tabela 2 do Anexo 12629162 do Ofício-Circular - SEI nº 9/2021/SDR/CAP/DGP-EBSERH."]

{"sheet":"Dezembro","index":11,"n_rows":52,"n_cols":82,"rows_kept":52,"cut":false,"hidden":false,"merged":[[43,2,43,8],[43,9,43,10],[43,11,43,18],[43,20,43,26],[5,5,7,5],[5,4,7,4],[5,3,7,3],[5,2,7,2],[41,2,41,8],[41,9,41,10],[41,11,41,18],[41,20,41,26],[5,6,5,11],[5,12,5,42],[41,28,41,34],[42,2,42,8],[42,9,42,10],[42,11,42,18],[42,20,42,26],[35,81,37,81],[36,0,36,11],[37,0,37,11],[40,2,40,8],[40,9,40,10],[40,11,40,18],[40,20,40,26],[40,28,40,34],[35,78,37,78],[35,79,37,79],[35,80,37,80],[35,0,35,11],[35,74,37,74],[5,0,7,0],[5,1,7,1],[6,11,7,11],[6,75,7,75],[6,76,7,76],[6,6,7,6],[6,7,7,7],[6,8,7,8],[6,9,7,9],[6,10,7,10],[35,75,37,75],[35,76,37,76],[35,77,37,77],[5,43,5,73],[5,74,7,74],[5,75,5,81],[6,80,7,80],[6,81,7,81],[6,79,7,79],[6,77,7,77],[6,78,7,78],[1,0,1,42],[2,0,2,42],[3,0,3,42],[4,1,4,20],[4,23,4,34],[4,37,4,42]]}
[]
[]
["NOME DO HU"]
["ESCALA MENSAL DE TRABALHO"]
["DIVISÃO /SETOR/UNIDADE:",null,null,null,null,null,null,null,null,null,null,null,null,null,null,null,null,null,null,null,null,"MÊS:",null,"Dezembro",null,null,null,null,null,null,null,null,null,null,null,"ANO:",null,2023]
["NOME COMPLETO","SIAPE","Registro Conselho Classe","Cargo","Vínculo","C.H Sem","INTERVALO",null,null,null,null,null,"DIAS DO MÊS",null,null,null,null,null,null,null,null,null,null,null,null,null,null,null,null,null,null,null,null,null,null,null,null,null,null,null,null,null,null,"CÁLCULO DAS HORAS",null,null,null,null,null,null,null,null,null,null,null,null,null,null,null,null,null,null,null,null,null,null,null,null,null,null,null,null,null,null,"CH Men.","Dias"]
[null,null,null,null,null,null,"15' M","15' T","15' N","1H D","1H N","2H",1,2,3,4,5,6,7,8,9,10,11,12,13,14,15,16,17,18,19,20,21,22,23,24,25,{"$f":"IF(DAY(DATE(AL5,VLOOKUP(X5,Tabelas!M:N,2,0)+1,1)-1)>=26,26,\"\")","v":26},{"$f":"IF(DAY(DATE(AL5,VLOOKUP(X5,Tabelas!M:N,2,0)+1,1)-1)>=27,27,\"\")","v":27},{"$f":"IF(DAY(DATE(AL5,VLOOKUP(X5,Tabelas!M:N,2,0)+1,1)-1)>=28,28,\"\")","v":28},{"$f":"IF(DAY(DATE(AL5,VLOOKUP(X5,Tabelas!M:N,2,0)+1,1)-1)>=29,29,\"\")","v":29},{"$f":"IF(DAY(DATE(AL5,VLOOKUP(X5,Tabelas!M:N,2,0)+1,1)-1)>=30,30,\"\")","v":30},{"$f":"IF(DAY(DATE(AL5,VLOOKUP(X5,Tabelas!M:N,2,0)+1,1)-1)>=31,31,\"\")","v":31},null,null,null,null,null,null,null,null,null,null,null,null,null,null,null,null,null,null,null,null,null,null,null,null,null,null,null,null,null,null,null,null,"LM/LP/L","AB","FE","LC","CH","AF  "," Total Afast."]
[null,null,null,null,null,null,null,null,null,null,null,null,{"$f":"IF(M7<>\"\",IFERROR(VLOOKUP(WEEKDAY(CONCATENATE(M7,$X$5,$AL$5)),Tabelas!$I:$J,2,0),\"\"),\"\")","v":"SEX"},{"$f":"IF(N7<>\"\",IFERROR(VLOOKUP(WEEKDAY(CONCATENATE(N7,$X$5,$AL$5)),Tabelas!$I:$J,2,0),\"\"),\"\")","v":"SAB"},{"$f":"IF(O7<>\"\",IFERROR(VLOOKUP(WEEKDAY(CONCATENATE(O7,$X$5,$AL$5)),Tabelas!$I:$J,2,0),\"\"),\"\")","v":"DOM"},{"$f":"IF(P7<>\"\",IFERROR(VLOOKUP(WEEKDAY(CONCATENATE(P7,$X$5,$AL$5)),Tabelas!$I:$J,2,0),\"\"),\"\")","v":"SEG"},{"$f":"IF(Q7<>\"\",IFERROR(VLOOKUP(WEEKDAY(CONCATENATE(Q7,$X$5,$AL$5)),Tabelas!$I:$J,2,0),\"\"),\"\")","v":"TER"},{"$f":"IF(R7<>\"\",IFERROR(VLOOKUP(WEEKDAY(CONCATENATE(R7,$X$5,$AL$5)),Tabelas!$I:$J,2,0),\"\"),\"\")","v":"QUA"},{"$f":"IF(S7<>\"\",IFERROR(VLOOKUP(WEEKDAY(CONCATENATE(S7,$X$5,$AL$5)),Tabelas!$I:$J,2,0),\"\"),\"\")","v":"QUI"},{"$f":"IF(T7<>\"\",IFERROR(VLOOKUP(WEEKDAY(CONCATENATE(T7,$X$5,$AL$5)),Tabelas!$I:$J,2,0),\"\"),\"\")","v":"SEX"},{"$f":"IF(U7<>\"\",IFERROR(VLOOKUP(WEEKDAY(CONCATENATE(U7,$X$5,$AL$5)),Tabelas!$I:$J,2,0),\"\"),\"\")","v":"SAB"},{"$f":"IF(V7<>\"\",IFERROR(VLOOKUP(WEEKDAY(CONCATENATE(V7,$X$5,$AL$5)),Tabelas!$I:$J,2,0),\"\"),\"\")","v":"DOM"},{"$f":"IF(W7<>\"\",IFERROR(VLOOKUP(WEEKDAY(CONCATENATE(W7,$X$5,$AL$5)),Tabelas!$I:$J,2,0),\"\"),\"\")","v":"SEG"},{"$f":"IF(X7<>\"\",IFERROR(VLOOKUP(WEEKDAY(CONCATENATE(X7,$X$5,$AL$5)),Tabelas!$I:$J,2,0),\"\"),\"\")","v":"TER"},{"$f":"IF(Y7<>\"\",IFERROR(VLOOKUP(WEEKDAY(CONCATENATE(Y7,$X$5,$AL$5)),Tabelas!$I:$J,2,0),\"\"),\"\")","v":"QUA"},{"$f":"IF(Z7<>\"\",IFERROR(VLOOKUP(WEEKDAY(CONCATENATE(Z7,$X$5,$AL$5)),Tabelas!$I:$J,2,0),\"\"),\"\")","v":"QUI"},{"$f":"IF(AA7<>\"\",IFERROR(VLOOKUP(WEEKDAY(CONCATENATE(AA7,$X$5,$AL$5)),Tabelas!$I:$J,2,0),\"\"),\"\")","v":"SEX"},{"$f":"IF(AB7<>\"\",IFERROR(VLOOKUP(WEEKDAY(CONCATENATE(AB7,$X$5,$AL$5)),Tabelas!$I:$J,2,0),\"\"),\"\")","v":"SAB"},{"$f":"IF(AC7<>\"\",IFERROR(VLOOKUP(WEEKDAY(CONCATENATE(AC7,$X$5,$AL$5)),Tabelas!$I:$J,2,0),\"\"),\"\")","v":"DOM"},{"$f":"IF(AD7<>\"\",IFERROR(VLOOKUP(WEEKDAY(CONCATENATE(AD7,$X$5,$AL$5)),Tabelas!$I:$J,2,0),\"\"),\"\")","v":"SEG"},{"$f":"IF(AE7<>\"\",IFERROR(VLOOKUP(WEEKDAY(CONCATENATE(AE7,$X$5,$AL$5)),Tabelas!$I:$J,2,0),\"\"),\"\")","v":"TER"},{"$f":"IF(AF7<>\"\",IFERROR(VLOOKUP(WEEKDAY(CONCATENATE(AF7,$X$5,$AL$5)),Tabelas!$I:$J,2,0),\"\"),\"\")","v":"QUA"},{"$f":"IF(AG7<>\"\",IFERROR(VLOOKUP(WEEKDAY(CONCATENATE(AG7,$X$5,$AL$5)),Tabelas!$I:$J,2,0),\"\"),\"\")","v":"QUI"},{"$f":"IF(AH7<>\"\",IFERROR(VLOOKUP(WEEKDAY(CONCATENATE(AH7,$X$5,$AL$5)),Tabelas!$I:$J,2,0),\"\"),\"\")","v":"SEX"},{"$f":"IF(AI7<>\"\",IFERROR(VLOOKUP(WEEKDAY(CONCATENATE(AI7,$X$5,$AL$5)),Tabelas!$I:$J,2,0),\"\"),\"\")","v":"SAB"},{"$f":"IF(AJ7<>\"\",IFERROR(VLOOKUP(WEEKDAY(CONCATENATE(AJ7,$X$5,$AL$5)),Tabelas!$I:$J,2,0),\"\"),\"\")","v":"DOM"},{"$f":"IF(AK7<>\"\",IFERROR(VLOOKUP(WEEKDAY(CONCATENATE(AK7,$X$5,$AL$5)),Tabelas!$I:$J,2,0),\"\"),\"\")","v":"SEG"},{"$f":"IF(AL7<>\"\",IFERROR(VLOOKUP(WEEKDAY(CONCATENATE(AL7,$X$5,$AL$5)),Tabelas!$I:$J,2,0),\"\"),\"\")","v":"TER"},{"$f":"IF(AM7<>\"\",IFERROR(VLOOKUP(WEEKDAY(CONCATENATE(AM7,$X$5,$AL$5)),Tabelas!$I:$J,2,0),\"\"),\"\")","v":"QUA"},{"$f":"IF(AN7<>\"\",IFERROR(VLOOKUP(WEEKDAY(CONCATENATE(AN7,$X$5,$AL$5)),Tabelas!$I:$J,2,0),\"\"),\"\")","v":"QUI"},{"$f":"IF(AO7<>\"\",IFERROR(VLOOKUP(WEEKDAY(CONCATENATE(AO7,$X$5,$AL$5)),Tabelas!$I:$J,2,0),\"\"),\"\")","v":"SEX"},{"$f":"IF(AP7<>\"\",IFERROR(VLOOKUP(WEEKDAY(CONCATENATE(AP7,$X$5,$AL$5)),Tabelas!$I:$J,2,0),\"\"),\"\")","v":"SAB"},{"$f":"IF(AQ7<>\"\",IFERROR(VLOOKUP(WEEKDAY(CONCATENATE(AQ7,$X$5,$AL$5)),Tabelas!$I:$J,2,0),\"\"),\"\")","v":"DOM"},1,2,3,4,5,6,7,8,9,10,11,12,13,14,15,16,17,18,19,20,21,22,23,24,25,26,27,28,29,30,31]
["FULANO 1",1,null,null,null,null,null,null,null,null,null,null,null,null,null,null,null,null,null,null,null,null,null,null,null,null,null,null,null,null,null,null,null,null,null,null,null,null,null,null,null,"L8",null,{"$f":"IF(A9<>\"\",IFERROR(VLOOKUP(M9,Tabelas!B:D,3,0),0),\"\")","v":0},{"$f":"IF(A9<>\"\",IFERROR(VLOOKUP(N9,Tabelas!B:D,3,0),0),\"\")","v":0},{"$f":"IF(A9<>\"\",IFERROR(VLOOKUP(O9,Tabelas!B:D,3,0),0),\"\")","v":0},{"$f":"IF(A9<>\"\",IFERROR(VLOOKUP(P9,Tabelas!B:D,3,0),0),\"\")","v":0},{"$f":"IF(A9<>\"\",IFERROR(VLOOKUP(Q9,Tabelas!B:D,3,0),0),\"\")","v":0},{"$f":"IF(A9<>\"\",IFERROR(VLOOKUP(R9,Tabelas!B:D,3,0),0),\"\")","v":0},{"$f":"IF(A9<>\"\",IFERROR(VLOOKUP(S9,Tabelas!B:D,3,0),0),\"\")","v":0},{"$f":"IF(A9<>\"\",IFERROR(VLOOKUP(T9,Tabelas!B:D,3,0),0),\"\")","v":0},{"$f":"IF(A9<>\"\",IFERROR(VLOOKUP(U9,Tabelas!B:D,3,0),0),\"\")","v":0},{"$f":"IF(A9<>\"\",IFERROR(VLOOKUP(V9,Tabelas!B:D,3,0),0),\"\")","v":0},{"$f":"IF(A9<>\"\",IFERROR(VLOOKUP(W9,Tabelas!B:D,3,0),0),\"\")","v":0},{"$f":"IF(A9<>\"\",IFERROR(VLOOKUP(X9,Tabelas!B:D,3,0),0),\"\")","v":0},{"$f":"IF(A9<>\"\",IFERROR(VLOOKUP(Y9,Tabelas!B:D,3,0),0),\"\")","v":0},{"$f":"IF(A9<>\"\",IFERROR(VLOOKUP(Z9,Tabelas!B:D,3,0),0),\"\")","v":0},{"$f":"IF(A9<>\"\",IFERROR(VLOOKUP(AA9,Tabelas!B:D,3,0),0),\"\")","v":0},{"$f":"IF(A9<>\"\",IFERROR(VLOOKUP(AB9,Tabelas!B:D,3,0),0),\"\")","v":0},{"$f":"IF(A9<>\"\",IFERROR(VLOOKUP(AC9,Tabelas!B:D,3,0),0),\"\")","v":0},{"$f":"IF(A9<>\"\",IFERROR(VLOOKUP(AD9,Tabelas!B:D,3,0),0),\"\")","v":0},{"$f":"IF(A9<>\"\",IFERROR(VLOOKUP(AE9,Tabelas!B:D,3,0),0),\"\")","v":0},{"$f":"IF(A9<>\"\",IFERROR(VLOOKUP(AF9,Tabelas!B:D,3,0),0),\"\")","v":0},{"$f":"IF(A9<>\"\",IFERROR(VLOOKUP(AG9,Tabelas!B:D,3,0),0),\"\")","v":0},{"$f":"IF(A9<>\"\",IFERROR(VLOOKUP(AH9,Tabelas!B:D,3,0),0),\"\")","v":0},{"$f":"IF(A9<>\"\",IFERROR(VLOOKUP(AI9,Tabelas!B:D,3,0),0),\"\")","v":0},{"$f":"IF(A9<>\"\",IFERROR(VLOOKUP(AJ9,Tabelas!B:D,3,0),0),\"\")","v":0},{"$f":"IF(A9<>\"\",IFERROR(VLOOKUP(AK9,Tabelas!B:D,3,0),0),\"\")","v":0},{"$f":"IF(A9<>\"\",IFERROR(VLOOKUP(AL9,Tabelas!B:D,3,0),0),\"\")","v":0},{"$f":"IF(A9<>\"\",IFERROR(VLOOKUP(AM9,Tabelas!B:D,3,0),0),\"\")","v":0},{"$f":"IF(A9<>\"\",IFERROR(VLOOKUP(AN9,Tabelas!B:D,3,0),0),\"\")","v":0},{"$f":"IF(A9<>\"\",IFERROR(VLOOKUP(AO9,Tabelas!B:D,3,0),0),\"\")","v":0},{"$f":"IF(A9<>\"\",IFERROR(VLOOKUP(AP9,Tabelas!B:D,3,0),0),\"\")","v":8},{"$f":"IF(A9<>\"\",IFERROR(VLOOKUP(AQ9,Tabelas!B:D,3,0),0),\"\")","v":0},{"$f":"IF(AND(A9<>\"\",E9=\"Ebserh\"),SUM(AR9:BV9)+COUNTIF(M9:AQ9,\"N*\")+COUNTIF(M9:AQ9,\"DN*\"),IF(AND(A9<>\"\",E9<>\"Ebserh\"),SUM(AR9:BV9),\"\"))","v":8},{"$f":"IF(A9<>\"\",COUNTIF(M9:AQ9,\"LM\")+COUNTIF(M9:AQ9,\"L*\")+COUNTIF(M9:AQ9,\"LP\"),\"\")","v":1},{"$f":"IF(A9<>\"\",COUNTIF(M9:AQ9,\"AB*\"),\"\")","v":0},{"$f":"IF(A9<>\"\",COUNTIF(M9:AQ9,\"FE*\"),\"\")","v":0},{"$f":"IF(A9<>\"\",COUNTIF(M9:AQ9,\"LC\"),\"\")","v":0},{"$f":"IF(A9<>\"\",COUNTIF(M9:AQ9,\"CH*\"),\"\")","v":0},{"$f":"IF(A9<>\"\",COUNTIF(M9:AQ9,\"AF1\")+COUNTIF(M9:AQ9,\"AF2\")+COUNTIF(M9:AQ9,\"AF3\")+COUNTIF(M9:AQ9,\"AF4\")+COUNTIF(M9:AQ9,\"AF5\")+COUNTIF(M9:AQ9,\"AF6\")+COUNTIF(M9:AQ9,\"AF7\")+COUNTIF(M9:AQ9,\"AF8\")+COUNTIF(M9:AQ9,\"AF9\")+COUNTIF(M9:AQ9,\"AF10\")+COUNTIF(M9:AQ9,\"AF11\")+COUNTIF(M9:AQ9,\"AF12\")+COUNTIF(M9:AQ9,\"AF13\")+COUNTIF(M9:AQ9,\"AF14\"),\"\")","v":0},{"$f":"IF(A9<>\"\",COUNTIF(M9:AQ9,\"CH*\")+COUNTIF(M9:AQ9,\"L*\")+COUNTIF(M9:AQ9,\"LM\")+COUNTIF(M9:AQ9,\"LP\")+COUNTIF(M9:AQ9,\"LC\")+COUNTIF(M9:AQ9,\"AB*\")+COUNTIF(M9:AQ9,\"AF1\")+COUNTIF(M9:AQ9,\"AF2\")+COUNTIF(M9:AQ9,\"AF3\")+COUNTIF(M9:AQ9,\"AF4\")+COUNTIF(M9:AQ9,\"AF5\")+COUNTIF(M9:AQ9,\"AF6\")+COUNTIF(M9:AQ9,\"AF7\")+COUNTIF(M9:AQ9,\"AF8\")+COUNTIF(M9:AQ9,\"AF9\")+COUNTIF(M9:AQ9,\"AF10\")+COUNTIF(M9:AQ9,\"AF11\")+COUNTIF(M9:AQ9,\"AF12\")+COUNTIF(M9:AQ9,\"AF13\")+COUNTIF(M9:AQ9,\"AF14\")+COUNTIF(M9:AQ9,\"RC\")+COUNTIF(M9:AQ9,\"FO\")+COUNTIF(M9:AQ9,\"FE\"),\"\")","v":1}]
["FULANO 2",2,null,null,null,null,null,null,null,null,null,null,null,null,null,null,null,null,null,null,null,null,null,null,null,null,null,null,null,null,null,null,null,null,null,null,null,null,null,null,null,null,null,{"$f":"IF(A10<>\"\",IFERROR(VLOOKUP(M10,Tabelas!B:D,3,0),0),\"\")","v":0},{"$f":"IF(A10<>\"\",IFERROR(VLOOKUP(N10,Tabelas!B:D,3,0),0),\"\")","v":0},{"$f":"IF(A10<>\"\",IFERROR(VLOOKUP(O10,Tabelas!B:D,3,0),0),\"\")","v":0},{"$f":"IF(A10<>\"\",IFERROR(VLOOKUP(P10,Tabelas!B:D,3,0),0),\"\")","v":0},{"$f":"IF(A10<>\"\",IFERROR(VLOOKUP(Q10,Tabelas!B:D,3,0),0),\"\")","v":0},{"$f":"IF(A10<>\"\",IFERROR(VLOOKUP(R10,Tabelas!B:D,3,0),0),\"\")","v":0},{"$f":"IF(A10<>\"\",IFERROR(VLOOKUP(S10,Tabelas!B:D,3,0),0),\"\")","v":0},{"$f":"IF(A10<>\"\",IFERROR(VLOOKUP(T10,Tabelas!B:D,3,0),0),\"\")","v":0},{"$f":"IF(A10<>\"\",IFERROR(VLOOKUP(U10,Tabelas!B:D,3,0),0),\"\")","v":0},{"$f":"IF(A10<>\"\",IFERROR(VLOOKUP(V10,Tabelas!B:D,3,0),0),\"\")","v":0},{"$f":"IF(A10<>\"\",IFERROR(VLOOKUP(W10,Tabelas!B:D,3,0),0),\"\")","v":0},{"$f":"IF(A10<>\"\",IFERROR(VLOOKUP(X10,Tabelas!B:D,3,0),0),\"\")","v":0},{"$f":"IF(A10<>\"\",IFERROR(VLOOKUP(Y10,Tabelas!B:D,3,0),0),\"\")","v":0},{"$f":"IF(A10<>\"\",IFERROR(VLOOKUP(Z10,Tabelas!B:D,3,0),0),\"\")","v":0},{"$f":"IF(A10<>\"\",IFERROR(VLOOKUP(AA10,Tabelas!B:D,3,0),0),\"\")","v":0},{"$f":"IF(A10<>\"\",IFERROR(VLOOKUP(AB10,Tabelas!B:D,3,0),0),\"\")","v":0},{"$f":"IF(A10<>\"\",IFERROR(VLOOKUP(AC10,Tabelas!B:D,3,0),0),\"\")","v":0},{"$f":"IF(A10<>\"\",IFERROR(VLOOKUP(AD10,Tabelas!B:D,3,0),0),\"\")","v":0},{"$f":"IF(A10<>\"\",IFERROR(VLOOKUP(AE10,Tabelas!B:D,3,0),0),\"\")","v":0},{"$f":"IF(A10<>\"\",IFERROR(VLOOKUP(AF10,Tabelas!B:D,3,0),0),\"\")","v":0},{"$f":"IF(A10<>\"\",IFERROR(VLOOKUP(AG10,Tabelas!B:D,3,0),0),\"\")","v":0},{"$f":"IF(A10<>\"\",IFERROR(VLOOKUP(AH10,Tabelas!B:D,3,0),0),\"\")","v":0},{"$f":"IF(A10<>\"\",IFERROR(VLOOKUP(AI10,Tabelas!B:D,3,0),0),\"\")","v":0},{"$f":"IF(A10<>\"\",IFERROR(VLOOKUP(AJ10,Tabelas!B:D,3,0),0),\"\")","v":0},{"$f":"IF(A10<>\"\",IFERROR(VLOOKUP(AK10,Tabelas!B:D,3,0),0),\"\")","v":0},{"$f":"IF(A10<>\"\",IFERROR(VLOOKUP(AL10,Tabelas!B:D,3,0),0),\"\")","v":0},{"$f":"IF(A10<>\"\",IFERROR(VLOOKUP(AM10,Tabelas!B:D,3,0),0),\"\")","v":0},{"$f":"IF(A10<>\"\",IFERROR(VLOOKUP(AN10,Tabelas!B:D,3,0),0),\"\")","v":0},{"$f":"IF(A10<>\"\",IFERROR(VLOOKUP(AO10,Tabelas!B:D,3,0),0),\"\")","v":0},{"$f":"IF(A10<>\"\",IFERROR(VLOOKUP(AP10,Tabelas!B:D,3,0),0),\"\")","v":0},{"$f":"IF(A10<>\"\",IFERROR(VLOOKUP(AQ10,Tabelas!B:D,3,0),0),\"\")","v":0},{"$f":"IF(AND(A10<>\"\",E10=\"Ebserh\"),SUM(AR10:BV10)+COUNTIF(M10:AQ10,\"N*\")+COUNTIF(M10:AQ10,\"DN*\"),IF(AND(A10<>\"\",E10<>\"Ebserh\"),SUM(AR10:BV10),\"\"))","v":0},{"$f":"IF(A10<>\"\",COUNTIF(M10:AQ10,\"LM\")+COUNTIF(M10:AQ10,\"L*\")+COUNTIF(M10:AQ10,\"LP\"),\"\")","v":0},{"$f":"IF(A10<>\"\",COUNTIF(M10:AQ10,\"AB*\"),\"\")","v":0},{"$f":"IF(A10<>\"\",COUNTIF(M10:AQ10,\"FE*\"),\"\")","v":0},{"$f":"IF(A10<>\"\",COUNTIF(M10:AQ10,\"LC\"),\"\")","v":0},{"$f":"IF(A10<>\"\",COUNTIF(M10:AQ10,\"CH*\"),\"\")","v":0},{"$f":"IF(A10<>\"\",COUNTIF(M10:AQ10,\"AF1\")+COUNTIF(M10:AQ10,\"AF2\")+COUNTIF(M10:AQ10,\"AF3\")+COUNTIF(M10:AQ10,\"AF4\")+COUNTIF(M10:AQ10,\"AF5\")+COUNTIF(M10:AQ10,\"AF6\")+COUNTIF(M10:AQ10,\"AF7\")+COUNTIF(M10:AQ10,\"AF8\")+COUNTIF(M10:AQ10,\"AF9\")+COUNTIF(M10:AQ10,\"AF10\")+COUNTIF(M10:AQ10,\"AF11\")+COUNTIF(M10:AQ10,\"AF12\")+COUNTIF(M10:AQ10,\"AF13\")+COUNTIF(M10:AQ10,\"AF14\"),\"\")","v":0},{"$f":"IF(A10<>\"\",COUNTIF(M10:AQ10,\"CH*\")+COUNTIF(M10:AQ10,\"L*\")+COUNTIF(M10:AQ10,\"LM\")+COUNTIF(M10:AQ10,\"LP\")+COUNTIF(M10:AQ10,\"LC\")+COUNTIF(M10:AQ10,\"AB*\")+COUNTIF(M10:AQ10,\"AF1\")+COUNTIF(M10:AQ10,\"AF2\")+COUNTIF(M10:AQ10,\"AF3\")+COUNTIF(M10:AQ10,\"AF4\")+COUNTIF(M10:AQ10,\"AF5\")+COUNTIF(M10:AQ10,\"AF6\")+COUNTIF(M10:AQ10,\"AF7\")+COUNTIF(M10:AQ10,\"AF8\")+COUNTIF(M10:AQ10,\"AF9\")+COUNTIF(M10:AQ10,\"AF10\")+COUNTIF(M10:AQ10,\"AF11\")+COUNTIF(M10:AQ10,\"AF12\")+COUNTIF(M10:AQ10,\"AF13\")+COUNTIF(M10:AQ10,\"AF14\")+COUNTIF(M10:AQ10,\"RC\")+COUNTIF(M10:AQ10,\"FO\")+COUNTIF(M10:AQ10,\"FE\"),\"\")","v":0}]
["FULANO 3",3,null,null,null,null,null,null,null,null,null,null,null,null,null,null,null,null,null,null,null,null,null,null,null,null,null,null,null,null,null,null,null,null,null,null,null,null,null,null,null,null,null,{"$f":"IF(A11<>\"\",IFERROR(VLOOKUP(M11,Tabelas!B:D,3,0),0),\"\")","v":0},{"$f":"IF(A11<>\"\",IFERROR(VLOOKUP(N11,Tabelas!B:D,3,0),0),\"\")","v":0},{"$f":"IF(A11<>\"\",IFERROR(VLOOKUP(O11,Tabelas!B:D,3,0),0),\"\")","v":0},{"$f":"IF(A11<>\"\",IFERROR(VLOOKUP(P11,Tabelas!B:D,3,0),0),\"\")","v":0},{"$f":"IF(A11<>\"\",IFERROR(VLOOKUP(Q11,Tabelas!B:D,3,0),0),\"\")","v":0},{"$f":"IF(A11<>\"\",IFERROR(VLOOKUP(R11,Tabelas!B:D,3,0),0),\"\")","v":0},{"$f":"IF(A11<>\"\",IFERROR(VLOOKUP(S11,Tabelas!B:D,3,0),0),\"\")","v":0},{"$f":"IF(A11<>\"\",IFERROR(VLOOKUP(T11,Tabelas!B:D,3,0),0),\"\")","v":0},{"$f":"IF(A11<>\"\",IFERROR(VLOOKUP(U11,Tabelas!B:D,3,0),0),\"\")","v":0},{"$f":"IF(A11<>\"\",IFERROR(VLOOKUP(V11,Tabelas!B:D,3,0),0),\"\")","v":0},{"$f":"IF(A11<>\"\",IFERROR(VLOOKUP(W11,Tabelas!B:D,3,0),0),\"\")","v":0},{"$f":"IF(A11<>\"\",IFERROR(VLOOKUP(X11,Tabelas!B:D,3,0),0),\"\")","v":0},{"$f":"IF(A11<>\"\",IFERROR(VLOOKUP(Y11,Tabelas!B:D,3,0),0),\"\")","v":0},{"$f":"IF(A11<>\"\",IFERROR(VLOOKUP(Z11,Tabelas!B:D,3,0),0),\"\")","v":0},{"$f":"IF(A11<>\"\",IFERROR(VLOOKUP(AA11,Tabelas!B:D,3,0),0),\"\")","v":0},{"$f":"IF(A11<>\"\",IFERROR(VLOOKUP(AB11,Tabelas!B:D,3,0),0),\"\")","v":0},{"$f":"IF(A11<>\"\",IFERROR(VLOOKUP(AC11,Tabelas!B:D,3,0),0),\"\")","v":0},{"$f":"IF(A11<>\"\",IFERROR(VLOOKUP(AD11,Tabelas!B:D,3,0),0),\"\")","v":0},{"$f":"IF(A11<>\"\",IFERROR(VLOOKUP(AE11,Tabelas!B:D,3,0),0),\"\")","v":0},{"$f":"IF(A11<>\"\",IFERROR(VLOOKUP(AF11,Tabelas!B:D,3,0),0),\"\")","v":0},{"$f":"IF(A11<>\"\",IFERROR(VLOOKUP(AG11,Tabelas!B:D,3,0),0),\"\")","v":0},{"$f":"IF(A11<>\"\",IFERROR(VLOOKUP(AH11,Tabelas!B:D,3,0),0),\"\")","v":0},{"$f":"IF(A11<>\"\",IFERROR(VLOOKUP(AI11,Tabelas!B:D,3,0),0),\"\")","v":0},{"$f":"IF(A11<>\"\",IFERROR(VLOOKUP(AJ11,Tabelas!B:D,3,0),0),\"\")","v":0},{"$f":"IF(A11<>\"\",IFERROR(VLOOKUP(AK11,Tabelas!B:D,3,0),0),\"\")","v":0},{"$f":"IF(A11<>\"\",IFERROR(VLOOKUP(AL11,Tabelas!B:D,3,0),0),\"\")","v":0},{"$f":"IF(A11<>\"\",IFERROR(VLOOKUP(AM11,Tabelas!B:D,3,0),0),\"\")","v":0},{"$f":"IF(A11<>\"\",IFERROR(VLOOKUP(AN11,Tabelas!B:D,3,0),0),\"\")","v":0},{"$f":"IF(A11<>\"\",IFERROR(VLOOKUP(AO11,Tabelas!B:D,3,0),0),\"\")","v":0},{"$f":"IF(A11<>\"\",IFERROR(VLOOKUP(AP11,Tabelas!B:D,3,0),0),\"\")","v":0},{"$f":"IF(A11<>\"\",IFERROR(VLOOKUP(AQ11,Tabelas!B:D,3,0),0),\"\")","v":0},0,0,0,0,0,0,0,0]
["FULANO 4",4,null,null,null,null,null,null,null,null,null,null,null,null,null,null,null,null,null,null,null,null,null,null,null,null,null,null,null,null,null,null,null,null,null,null,null,null,null,null,null,null,null,{"$f":"IF(A12<>\"\",IFERROR(VLOOKUP(M12,Tabelas!B:D,3,0),0),\"\")","v":0},{"$f":"IF(A12<>\"\",IFERROR(VLOOKUP(N12,Tabelas!B:D,3,0),0),\"\")","v":0},{"$f":"IF(A12<>\"\",IFERROR(VLOOKUP(O12,Tabelas!B:D,3,0),0),\"\")","v":0},{"$f":"IF(A12<>\"\",IFERROR(VLOOKUP(P12,Tabelas!B:D,3,0),0),\"\")","v":0},{"$f":"IF(A12<>\"\",IFERROR(VLOOKUP(Q12,Tabelas!B:D,3,0),0),\"\")","v":0},{"$f":"IF(A12<>\"\",IFERROR(VLOOKUP(R12,Tabelas!B:D,3,0),0),\"\")","v":0},{"$f":"IF(A12<>\"\",IFERROR(VLOOKUP(S12,Tabelas!B:D,3,0),0),\"\")","v":0},{"$f":"IF(A12<>\"\",IFERROR(VLOOKUP(T12,Tabelas!B:D,3,0),0),\"\")","v":0},{"$f":"IF(A12<>\"\",IFERROR(VLOOKUP(U12,Tabelas!B:D,3,0),0),\"\")","v":0},{"$f":"IF(A12<>\"\",IFERROR(VLOOKUP(V12,Tabelas!B:D,3,0),0),\"\")","v":0},{"$f":"IF(A12<>\"\",IFERROR(VLOOKUP(W12,Tabelas!B:D,3,0),0),\"\")","v":0},{"$f":"IF(A12<>\"\",IFERROR(VLOOKUP(X12,Tabelas!B:D,3,0),0),\"\")","v":0},{"$f":"IF(A12<>\"\",IFERROR(VLOOKUP(Y12,Tabelas!B:D,3,0),0),\"\")","v":0},{"$f":"IF(A12<>\"\",IFERROR(VLOOKUP(Z12,Tabelas!B:D,3,0),0),\"\")","v":0},{"$f":"IF(A12<>\"\",IFERROR(VLOOKUP(AA12,Tabelas!B:D,3,0),0),\"\")","v":0},{"$f":"IF(A12<>\"\",IFERROR(VLOOKUP(AB12,Tabelas!B:D,3,0),0),\"\")","v":0},{"$f":"IF(A12<>\"\",IFERROR(VLOOKUP(AC12,Tabelas!B:D,3,0),0),\"\")","v":0},{"$f":"IF(A12<>\"\",IFERROR(VLOOKUP(AD12,Tabelas!B:D,3,0),0),\"\")","v":0},{"$f":"IF(A12<>\"\",IFERROR(VLOOKUP(AE12,Tabelas!B:D,3,0),0),\"\")","v":0},{"$f":"IF(A12<>\"\",IFERROR(VLOOKUP(AF12,Tabelas!B:D,3,0),0),\"\")","v":0},{"$f":"IF(A12<>\"\",IFERROR(VLOOKUP(AG12,Tabelas!B:D,3,0),0),\"\")","v":0},{"$f":"IF(A12<>\"\",IFERROR(VLOOKUP(AH12,Tabelas!B:D,3,0),0),\"\")","v":0},{"$f":"IF(A12<>\"\",IFERROR(VLOOKUP(AI12,Tabelas!B:D,3,0),0),\"\")","v":0},{"$f":"IF(A12<>\"\",IFERROR(VLOOKUP(AJ12,Tabelas!B:D,3,0),0),\"\")","v":0},{"$f":"IF(A12<>\"\",IFERROR(VLOOKUP(AK12,Tabelas!B:D,3,0),0),\"\")","v":0},{"$f":"IF(A12<>\"\",IFERROR(VLOOKUP(AL12,Tabelas!B:D,3,0),0),\"\")","v":0},{"$f":"IF(A12<>\"\",IFERROR(VLOOKUP(AM12,Tabelas!B:D,3,0),0),\"\")","v":0},{"$f":"IF(A12<>\"\",IFERROR(VLOOKUP(AN12,Tabelas!B:D,3,0),0),\"\")","v":0},{"$f":"IF(A12<>\"\",IFERROR(VLOOKUP(AO12,Tabelas!B:D,3,0),0),\"\")","v":0},{"$f":"IF(A12<>\"\",IFERROR(VLOOKUP(AP12,Tabelas!B:D,3,0),0),\"\")","v":0},{"$f":"IF(A12<>\"\",IFERROR(VLOOKUP(AQ12,Tabelas!B:D,3,0),0),\"\")","v":0},0,0,0,0,0,0,0,0]
["FULANO 5",5,null,null,null,null,null,null,null,null,null,null,null,null,null,null,null,null,null,null,null,null,null,null,null,null,null,null,null,null,null,null,null,null,null,null,null,null,null,null,null,null,null,{"$f":"IF(A13<>\"\",IFERROR(VLOOKUP(M13,Tabelas!B:D,3,0),0),\"\")","v":0},{"$f":"IF(A13<>\"\",IFERROR(VLOOKUP(N13,Tabelas!B:D,3,0),0),\"\")","v":0},{"$f":"IF(A13<>\"\",IFERROR(VLOOKUP(O13,Tabelas!B:D,3,0),0),\"\")","v":0},{"$f":"IF(A13<>\"\",IFERROR(VLOOKUP(P13,Tabelas!B:D,3,0),0),\"\")","v":0},{"$f":"IF(A13<>\"\",IFERROR(VLOOKUP(Q13,Tabelas!B:D,3,0),0),\"\")","v":0},{"$f":"IF(A13<>\"\",IFERROR(VLOOKUP(R13,Tabelas!B:D,3,0),0),\"\")","v":0},{"$f":"IF(A13<>\"\",IFERROR(VLOOKUP(S13,Tabelas!B:D,3,0),0),\"\")","v":0},{"$f":"IF(A13<>\"\",IFERROR(VLOOKUP(T13,Tabelas!B:D,3,0),0),\"\")","v":0},{"$f":"IF(A13<>\"\",IFERROR(VLOOKUP(U13,Tabelas!B:D,3,0),0),\"\")","v":0},{"$f":"IF(A13<>\"\",IFERROR(VLOOKUP(V13,Tabelas!B:D,3,0),0),\"\")","v":0},{"$f":"IF(A13<>\"\",IFERROR(VLOOKUP(W13,Tabelas!B:D,3,0),0),\"\")","v":0},{"$f":"IF(A13<>\"\",IFERROR(VLOOKUP(X13,Tabelas!B:D,3,0),0),\"\")","v":0},{"$f":"IF(A13<>\"\",IFERROR(VLOOKUP(Y13,Tabelas!B:D,3,0),0),\"\")","v":0},{"$f":"IF(A13<>\"\",IFERROR(VLOOKUP(Z13,Tabelas!B:D,3,0),0),\"\")","v":0},{"$f":"IF(A13<>\"\",IFERROR(VLOOKUP(AA13,Tabelas!B:D,3,0),0),\"\")","v":0},{"$f":"IF(A13<>\"\",IFERROR(VLOOKUP(AB13,Tabelas!B:D,3,0),0),\"\")","v":0},{"$f":"IF(A13<>\"\",IFERROR(VLOOKUP(AC13,Tabelas!B:D,3,0),0),\"\")","v":0},{"$f":"IF(A13<>\"\",IFERROR(VLOOKUP(AD13,Tabelas!B:D,3,0),0),\"\")","v":0},{"$f":"IF(A13<>\"\",IFERROR(VLOOKUP(AE13,Tabelas!B:D,3,0),0),\"\")","v":0},{"$f":"IF(A13<>\"\",IFERROR(VLOOKUP(AF13,Tabelas!B:D,3,0),0),\"\")","v":0},{"$f":"IF(A13<>\"\",IFERROR(VLOOKUP(AG13,Tabelas!B:D,3,0),0),\"\")","v":0},{"$f":"IF(A13<>\"\",IFERROR(VLOOKUP(AH13,Tabelas!B:D,3,0),0),\"\")","v":0},{"$f":"IF(A13<>\"\",IFERROR(VLOOKUP(AI13,Tabelas!B:D,3,0),0),\"\")","v":0},{"$f":"IF(A13<>\"\",IFERROR(VLOOKUP(AJ13,Tabelas!B:D,3,0),0),\"\")","v":0},{"$f":"IF(A13<>\"\",IFERROR(VLOOKUP(AK13,Tabelas!B:D,3,0),0),\"\")","v":0},{"$f":"IF(A13<>\"\",IFERROR(VLOOKUP(AL13,Tabelas!B:D,3,0),0),\"\")","v":0},{"$f":"IF(A13<>\"\",IFERROR(VLOOKUP(AM13,Tabelas!B:D,3,0),0),\"\")","v":0},{"$f":"IF(A13<>\"\",IFERROR(VLOOKUP(AN13,Tabelas!B:D,3,0),0),\"\")","v":0},{"$f":"IF(A13<>\"\",IFERROR(VLOOKUP(AO13,Tabelas!B:D,3,0),0),\"\")","v":0},{"$f":"IF(A13<>\"\",IFERROR(VLOOKUP(AP13,Tabelas!B:D,3,0),0),\"\")","v":0},{"$f":"IF(A13<>\"\",IFERROR(VLOOKUP(AQ13,Tabelas!B:D,3,0),0),\"\")","v":0},0,0,0,0,0,0,0,0]
["FULANO 6",6,null,null,null,null,null,null,null,null,null,null,null,null,null,null,null,null,null,null,null,null,null,null,null,null,null,null,null,null,null,null,null,null,null,null,null,null,null,null,null,null,null,{"$f":"IF(A14<>\"\",IFERROR(VLOOKUP(M14,Tabelas!B:D,3,0),0),\"\")","v":0},{"$f":"IF(A14<>\"\",IFERROR(VLOOKUP(N14,Tabelas!B:D,3,0),0),\"\")","v":0},{"$f":"IF(A14<>\"\",IFERROR(VLOOKUP(O14,Tabelas!B:D,3,0),0),\"\")","v":0},{"$f":"IF(A14<>\"\",IFERROR(VLOOKUP(P14,Tabelas!B:D,3,0),0),\"\")","v":0},{"$f":"IF(A14<>\"\",IFERROR(VLOOKUP(Q14,Tabelas!B:D,3,0),0),\"\")","v":0},{"$f":"IF(A14<>\"\",IFERROR(VLOOKUP(R14,Tabelas!B:D,3,0),0),\"\")","v":0},{"$f":"IF(A14<>\"\",IFERROR(VLOOKUP(S14,Tabelas!B:D,3,0),0),\"\")","v":0},{"$f":"IF(A14<>\"\",IFERROR(VLOOKUP(T14,Tabelas!B:D,3,0),0),\"\")","v":0},{"$f":"IF(A14<>\"\",IFERROR(VLOOKUP(U14,Tabelas!B:D,3,0),0),\"\")","v":0},{"$f":"IF(A14<>\"\",IFERROR(VLOOKUP(V14,Tabelas!B:D,3,0),0),\"\")","v":0},{"$f":"IF(A14<>\"\",IFERROR(VLOOKUP(W14,Tabelas!B:D,3,0),0),\"\")","v":0},{"$f":"IF(A14<>\"\",IFERROR(VLOOKUP(X14,Tabelas!B:D,3,0),0),\"\")","v":0},{"$f":"IF(A14<>\"\",IFERROR(VLOOKUP(Y14,Tabelas!B:D,3,0),0),\"\")","v":0},{"$f":"IF(A14<>\"\",IFERROR(VLOOKUP(Z14,Tabelas!B:D,3,0),0),\"\")","v":0},{"$f":"IF(A14<>\"\",IFERROR(VLOOKUP(AA14,Tabelas!B:D,3,0),0),\"\")","v":0},{"$f":"IF(A14<>\"\",IFERROR(VLOOKUP(AB14,Tabelas!B:D,3,0),0),\"\")","v":0},{"$f":"IF(A14<>\"\",IFERROR(VLOOKUP(AC14,Tabelas!B:D,3,0),0),\"\")","v":0},{"$f":"IF(A14<>\"\",IFERROR(VLOOKUP(AD14,Tabelas!B:D,3,0),0),\"\")","v":0},{"$f":"IF(A14<>\"\",IFERROR(VLOOKUP(AE14,Tabelas!B:D,3,0),0),\"\")","v":0},{"$f":"IF(A14<>\"\",IFERROR(VLOOKUP(AF14,Tabelas!B:D,3,0),0),\"\")","v":0},{"$f":"IF(A14<>\"\",IFERROR(VLOOKUP(AG14,Tabelas!B:D,3,0),0),\"\")","v":0},{"$f":"IF(A14<>\"\",IFERROR(VLOOKUP(AH14,Tabelas!B:D,3,0),0),\"\")","v":0},{"$f":"IF(A14<>\"\",IFERROR(VLOOKUP(AI14,Tabelas!B:D,3,0),0),\"\")","v":0},{"$f":"IF(A14<>\"\",IFERROR(VLOOKUP(AJ14,Tabelas!B:D,3,0),0),\"\")","v":0},{"$f":"IF(A14<>\"\",IFERROR(VLOOKUP(AK14,Tabelas!B:D,3,0),0),\"\")","v":0},{"$f":"IF(A14<>\"\",IFERROR(VLOOKUP(AL14,Tabelas!B:D,3,0),0),\"\")","v":0},{"$f":"IF(A14<>\"\",IFERROR(VLOOKUP(AM14,Tabelas!B:D,3,0),0),\"\")","v":0},{"$f":"IF(A14<>\"\",IFERROR(VLOOKUP(AN14,Tabelas!B:D,3,0),0),\"\")","v":0},{"$f":"IF(A14<>\"\",IFERROR(VLOOKUP(AO14,Tabelas!B:D,3,0),0),\"\")","v":0},{"$f":"IF(A14<>\"\",IFERROR(VLOOKUP(AP14,Tabelas!B:D,3,0),0),\"\")","v":0},{"$f":"IF(A14<>\"\",IFERROR(VLOOKUP(AQ14,Tabelas!B:D,3,0),0),\"\")","v":0},0,0,0,0,0,0,0,0]
["FULANO 7",7,null,null,null,null,null,null,null,null,null,null,null,null,null,null,null,null,null,null,null,null,null,null,null,null,null,null,null,null,null,null,null,null,null,null,null,null,null,null,null,null,null,{"$f":"IF(A15<>\"\",IFERROR(VLOOKUP(M15,Tabelas!B:D,3,0),0),\"\")","v":0},{"$f":"IF(A15<>\"\",IFERROR(VLOOKUP(N15,Tabelas!B:D,3,0),0),\"\")","v":0},{"$f":"IF(A15<>\"\",IFERROR(VLOOKUP(O15,Tabelas!B:D,3,0),0),\"\")","v":0},{"$f":"IF(A15<>\"\",IFERROR(VLOOKUP(P15,Tabelas!B:D,3,0),0),\"\")","v":0},{"$f":"IF(A15<>\"\",IFERROR(VLOOKUP(Q15,Tabelas!B:D,3,0),0),\"\")","v":0},{"$f":"IF(A15<>\"\",IFERROR(VLOOKUP(R15,Tabelas!B:D,3,0),0),\"\")","v":0},{"$f":"IF(A15<>\"\",IFERROR(VLOOKUP(S15,Tabelas!B:D,3,0),0),\"\")","v":0},{"$f":"IF(A15<>\"\",IFERROR(VLOOKUP(T15,Tabelas!B:D,3,0),0),\"\")","v":0},{"$f":"IF(A15<>\"\",IFERROR(VLOOKUP(U15,Tabelas!B:D,3,0),0),\"\")","v":0},{"$f":"IF(A15<>\"\",IFERROR(VLOOKUP(V15,Tabelas!B:D,3,0),0),\"\")","v":0},{"$f":"IF(A15<>\"\",IFERROR(VLOOKUP(W15,Tabelas!B:D,3,0),0),\"\")","v":0},{"$f":"IF(A15<>\"\",IFERROR(VLOOKUP(X15,Tabelas!B:D,3,0),0),\"\")","v":0},{"$f":"IF(A15<>\"\",IFERROR(VLOOKUP(Y15,Tabelas!B:D,3,0),0),\"\")","v":0},{"$f":"IF(A15<>\"\",IFERROR(VLOOKUP(Z15,Tabelas!B:D,3,0),0),\"\")","v":0},{"$f":"IF(A15<>\"\",IFERROR(VLOOKUP(AA15,Tabelas!B:D,3,0),0),\"\")","v":0},{"$f":"IF(A15<>\"\",IFERROR(VLOOKUP(AB15,Tabelas!B:D,3,0),0),\"\")","v":0},{"$f":"IF(A15<>\"\",IFERROR(VLOOKUP(AC15,Tabelas!B:D,3,0),0),\"\")","v":0},{"$f":"IF(A15<>\"\",IFERROR(VLOOKUP(AD15,Tabelas!B:D,3,0),0),\"\")","v":0},{"$f":"IF(A15<>\"\",IFERROR(VLOOKUP(AE15,Tabelas!B:D,3,0),0),\"\")","v":0},{"$f":"IF(A15<>\"\",IFERROR(VLOOKUP(AF15,Tabelas!B:D,3,0),0),\"\")","v":0},{"$f":"IF(A15<>\"\",IFERROR(VLOOKUP(AG15,Tabelas!B:D,3,0),0),\"\")","v":0},{"$f":"IF(A15<>\"\",IFERROR(VLOOKUP(AH15,Tabelas!B:D,3,0),0),\"\")","v":0},{"$f":"IF(A15<>\"\",IFERROR(VLOOKUP(AI15,Tabelas!B:D,3,0),0),\"\")","v":0},{"$f":"IF(A15<>\"\",IFERROR(VLOOKUP(AJ15,Tabelas!B:D,3,0),0),\"\")","v":0},{"$f":"IF(A15<>\"\",IFERROR(VLOOKUP(AK15,Tabelas!B:D,3,0),0),\"\")","v":0},{"$f":"IF(A15<>\"\",IFERROR(VLOOKUP(AL15,Tabelas!B:D,3,0),0),\"\")","v":0},{"$f":"IF(A15<>\"\",IFERROR(VLOOKUP(AM15,Tabelas!B:D,3,0),0),\"\")","v":0},{"$f":"IF(A15<>\"\",IFERROR(VLOOKUP(AN15,Tabelas!B:D,3,0),0),\"\")","v":0},{"$f":"IF(A15<>\"\",IFERROR(VLOOKUP(AO15,Tabelas!B:D,3,0),0),\"\")","v":0},{"$f":"IF(A15<>\"\",IFERROR(VLOOKUP(AP15,Tabelas!B:D,3,0),0),\"\")","v":0},{"$f":"IF(A15<>\"\",IFERROR(VLOOKUP(AQ15,Tabelas!B:D,3,0),0),\"\")","v":0},0,0,0,0,0,0,0,0]
["FULANO 8",8,null,null,null,null,null,null,null,null,null,null,null,null,null,null,null,null,null,null,null,null,null,null,null,null,null,null,null,null,null,null,null,null,null,null,null,null,null,null,null,null,null,{"$f":"IF(A16<>\"\",IFERROR(VLOOKUP(M16,Tabelas!B:D,3,0),0),\"\")","v":0},{"$f":"IF(A16<>\"\",IFERROR(VLOOKUP(N16,Tabelas!B:D,3,0),0),\"\")","v":0},{"$f":"IF(A16<>\"\",IFERROR(VLOOKUP(O16,Tabelas!B:D,3,0),0),\"\")","v":0},{"$f":"IF(A16<>\"\",IFERROR(VLOOKUP(P16,Tabelas!B:D,3,0),0),\"\")","v":0},{"$f":"IF(A16<>\"\",IFERROR(VLOOKUP(Q16,Tabelas!B:D,3,0),0),\"\")","v":0},{"$f":"IF(A16<>\"\",IFERROR(VLOOKUP(R16,Tabelas!B:D,3,0),0),\"\")","v":0},{"$f":"IF(A16<>\"\",IFERROR(VLOOKUP(S16,Tabelas!B:D,3,0),0),\"\")","v":0},{"$f":"IF(A16<>\"\",IFERROR(VLOOKUP(T16,Tabelas!B:D,3,0),0),\"\")","v":0},{"$f":"IF(A16<>\"\",IFERROR(VLOOKUP(U16,Tabelas!B:D,3,0),0),\"\")","v":0},{"$f":"IF(A16<>\"\",IFERROR(VLOOKUP(V16,Tabelas!B:D,3,0),0),\"\")","v":0},{"$f":"IF(A16<>\"\",IFERROR(VLOOKUP(W16,Tabelas!B:D,3,0),0),\"\")","v":0},{"$f":"IF(A16<>\"\",IFERROR(VLOOKUP(X16,Tabelas!B:D,3,0),0),\"\")","v":0},{"$f":"IF(A16<>\"\",IFERROR(VLOOKUP(Y16,Tabelas!B:D,3,0),0),\"\")","v":0},{"$f":"IF(A16<>\"\",IFERROR(VLOOKUP(Z16,Tabelas!B:D,3,0),0),\"\")","v":0},{"$f":"IF(A16<>\"\",IFERROR(VLOOKUP(AA16,Tabelas!B:D,3,0),0),\"\")","v":0},{"$f":"IF(A16<>\"\",IFERROR(VLOOKUP(AB16,Tabelas!B:D,3,0),0),\"\")","v":0},{"$f":"IF(A16<>\"\",IFERROR(VLOOKUP(AC16,Tabelas!B:D,3,0),0),\"\")","v":0},{"$f":"IF(A16<>\"\",IFERROR(VLOOKUP(AD16,Tabelas!B:D,3,0),0),\"\")","v":0},{"$f":"IF(A16<>\"\",IFERROR(VLOOKUP(AE16,Tabelas!B:D,3,0),0),\"\")","v":0},{"$f":"IF(A16<>\"\",IFERROR(VLOOKUP(AF16,Tabelas!B:D,3,0),0),\"\")","v":0},{"$f":"IF(A16<>\"\",IFERROR(VLOOKUP(AG16,Tabelas!B:D,3,0),0),\"\")","v":0},{"$f":"IF(A16<>\"\",IFERROR(VLOOKUP(AH16,Tabelas!B:D,3,0),0),\"\")","v":0},{"$f":"IF(A16<>\"\",IFERROR(VLOOKUP(AI16,Tabelas!B:D,3,0),0),\"\")","v":0},{"$f":"IF(A16<>\"\",IFERROR(VLOOKUP(AJ16,Tabelas!B:D,3,0),0),\"\")","v":0},{"$f":"IF(A16<>\"\",IFERROR(VLOOKUP(AK16,Tabelas!B:D,3,0),0),\"\")","v":0},{"$f":"IF(A16<>\"\",IFERROR(VLOOKUP(AL16,Tabelas!B:D,3,0),0),\"\")","v":0},{"$f":"IF(A16<>\"\",IFERROR(VLOOKUP(AM16,Tabelas!B:D,3,0),0),\"\")","v":0},{"$f":"IF(A16<>\"\",IFERROR(VLOOKUP(AN16,Tabelas!B:D,3,0),0),\"\")","v":0},{"$f":"IF(A16<>\"\",IFERROR(VLOOKUP(AO16,Tabelas!B:D,3,0),0),\"\")","v":0},{"$f":"IF(A16<>\"\",IFERROR(VLOOKUP(AP16,Tabelas!B:D,3,0),0),\"\")","v":0},{"$f":"IF(A16<>\"\",IFERROR(VLOOKUP(AQ16,Tabelas!B:D,3,0),0),\"\")","v":0},0,0,0,0,0,0,0,0]
["FULANO 9",9,null,null,null,null,null,null,null,null,null,null,null,null,null,null,null,null,null,null,null,null,null,null,null,null,null,null,null,null,null,null,null,null,null,null,null,null,null,null,null,null,null,{"$f":"IF(A17<>\"\",IFERROR(VLOOKUP(M17,Tabelas!B:D,3,0),0),\"\")","v":0},{"$f":"IF(A17<>\"\",IFERROR(VLOOKUP(N17,Tabelas!B:D,3,0),0),\"\")","v":0},{"$f":"IF(A17<>\"\",IFERROR(VLOOKUP(O17,Tabelas!B:D,3,0),0),\"\")","v":0},{"$f":"IF(A17<>\"\",IFERROR(VLOOKUP(P17,Tabelas!B:D,3,0),0),\"\")","v":0},{"$f":"IF(A17<>\"\",IFERROR(VLOOKUP(Q17,Tabelas!B:D,3,0),0),\"\")","v":0},{"$f":"IF(A17<>\"\",IFERROR(VLOOKUP(R17,Tabelas!B:D,3,0),0),\"\")","v":0},{"$f":"IF(A17<>\"\",IFERROR(VLOOKUP(S17,Tabelas!B:D,3,0),0),\"\")","v":0},{"$f":"IF(A17<>\"\",IFERROR(VLOOKUP(T17,Tabelas!B:D,3,0),0),\"\")","v":0},{"$f":"IF(A17<>\"\",IFERROR(VLOOKUP(U17,Tabelas!B:D,3,0),0),\"\")","v":0},{"$f":"IF(A17<>\"\",IFERROR(VLOOKUP(V17,Tabelas!B:D,3,0),0),\"\")","v":0},{"$f":"IF(A17<>\"\",IFERROR(VLOOKUP(W17,Tabelas!B:D,3,0),0),\"\")","v":0},{"$f":"IF(A17<>\"\",IFERROR(VLOOKUP(X17,Tabelas!B:D,3,0),0),\"\")","v":0},{"$f":"IF(A17<>\"\",IFERROR(VLOOKUP(Y17,Tabelas!B:D,3,0),0),\"\")","v":0},{"$f":"IF(A17<>\"\",IFERROR(VLOOKUP(Z17,Tabelas!B:D,3,0),0),\"\")","v":0},{"$f":"IF(A17<>\"\",IFERROR(VLOOKUP(AA17,Tabelas!B:D,3,0),0),\"\")","v":0},{"$f":"IF(A17<>\"\",IFERROR(VLOOKUP(AB17,Tabelas!B:D,3,0),0),\"\")","v":0},{"$f":"IF(A17<>\"\",IFERROR(VLOOKUP(AC17,Tabelas!B:D,3,0),0),\"\")","v":0},{"$f":"IF(A17<>\"\",IFERROR(VLOOKUP(AD17,Tabelas!B:D,3,0),0),\"\")","v":0},{"$f":"IF(A17<>\"\",IFERROR(VLOOKUP(AE17,Tabelas!B:D,3,0),0),\"\")","v":0},{"$f":"IF(A17<>\"\",IFERROR(VLOOKUP(AF17,Tabelas!B:D,3,0),0),\"\")","v":0},{"$f":"IF(A17<>\"\",IFERROR(VLOOKUP(AG17,Tabelas!B:D,3,0),0),\"\")","v":0},{"$f":"IF(A17<>\"\",IFERROR(VLOOKUP(AH17,Tabelas!B:D,3,0),0),\"\")","v":0},{"$f":"IF(A17<>\"\",IFERROR(VLOOKUP(AI17,Tabelas!B:D,3,0),0),\"\")","v":0},{"$f":"IF(A17<>\"\",IFERROR(VLOOKUP(AJ17,Tabelas!B:D,3,0),0),\"\")","v":0},{"$f":"IF(A17<>\"\",IFERROR(VLOOKUP(AK17,Tabelas!B:D,3,0),0),\"\")","v":0},{"$f":"IF(A17<>\"\",IFERROR(VLOOKUP(AL17,Tabelas!B:D,3,0),0),\"\")","v":0},{"$f":"IF(A17<>\"\",IFERROR(VLOOKUP(AM17,Tabelas!B:D,3,0),0),\"\")","v":0},{"$f":"IF(A17<>\"\",IFERROR(VLOOKUP(AN17,Tabelas!B:D,3,0),0),\"\")","v":0},{"$f":"IF(A17<>\"\",IFERROR(VLOOKUP(AO17,Tabelas!B:D,3,0),0),\"\")","v":0},{"$f":"IF(A17<>\"\",IFERROR(VLOOKUP(AP17,Tabelas!B:D,3,0),0),\"\")","v":0},{"$f":"IF(A17<>\"\",IFERROR(VLOOKUP(AQ17,Tabelas!B:D,3,0),0),\"\")","v":0},0,0,0,0,0,0,0,0]
["FULANO 10",10,null,null,null,null,null,null,null,null,null,null,null,null,null,null,null,null,null,null,null,null,null,null,null,null,null,null,null,null,null,null,null,null,null,null,null,null,null,null,null,null,null,{"$f":"IF(A18<>\"\",IFERROR(VLOOKUP(M18,Tabelas!B:D,3,0),0),\"\")","v":0},{"$f":"IF(A18<>\"\",IFERROR(VLOOKUP(N18,Tabelas!B:D,3,0),0),\"\")","v":0},{"$f":"IF(A18<>\"\",IFERROR(VLOOKUP(O18,Tabelas!B:D,3,0),0),\"\")","v":0},{"$f":"IF(A18<>\"\",IFERROR(VLOOKUP(P18,Tabelas!B:D,3,0),0),\"\")","v":0},{"$f":"IF(A18<>\"\",IFERROR(VLOOKUP(Q18,Tabelas!B:D,3,0),0),\"\")","v":0},{"$f":"IF(A18<>\"\",IFERROR(VLOOKUP(R18,Tabelas!B:D,3,0),0),\"\")","v":0},{"$f":"IF(A18<>\"\",IFERROR(VLOOKUP(S18,Tabelas!B:D,3,0),0),\"\")","v":0},{"$f":"IF(A18<>\"\",IFERROR(VLOOKUP(T18,Tabelas!B:D,3,0),0),\"\")","v":0},{"$f":"IF(A18<>\"\",IFERROR(VLOOKUP(U18,Tabelas!B:D,3,0),0),\"\")","v":0},{"$f":"IF(A18<>\"\",IFERROR(VLOOKUP(V18,Tabelas!B:D,3,0),0),\"\")","v":0},{"$f":"IF(A18<>\"\",IFERROR(VLOOKUP(W18,Tabelas!B:D,3,0),0),\"\")","v":0},{"$f":"IF(A18<>\"\",IFERROR(VLOOKUP(X18,Tabelas!B:D,3,0),0),\"\")","v":0},{"$f":"IF(A18<>\"\",IFERROR(VLOOKUP(Y18,Tabelas!B:D,3,0),0),\"\")","v":0},{"$f":"IF(A18<>\"\",IFERROR(VLOOKUP(Z18,Tabelas!B:D,3,0),0),\"\")","v":0},{"$f":"IF(A18<>\"\",IFERROR(VLOOKUP(AA18,Tabelas!B:D,3,0),0),\"\")","v":0},{"$f":"IF(A18<>\"\",IFERROR(VLOOKUP(AB18,Tabelas!B:D,3,0),0),\"\")","v":0},{"$f":"IF(A18<>\"\",IFERROR(VLOOKUP(AC18,Tabelas!B:D,3,0),0),\"\")","v":0},{"$f":"IF(A18<>\"\",IFERROR(VLOOKUP(AD18,Tabelas!B:D,3,0),0),\"\")","v":0},{"$f":"IF(A18<>\"\",IFERROR(VLOOKUP(AE18,Tabelas!B:D,3,0),0),\"\")","v":0},{"$f":"IF(A18<>\"\",IFERROR(VLOOKUP(AF18,Tabelas!B:D,3,0),0),\"\")","v":0},{"$f":"IF(A18<>\"\",IFERROR(VLOOKUP(AG18,Tabelas!B:D,3,0),0),\"\")","v":0},{"$f":"IF(A18<>\"\",IFERROR(VLOOKUP(AH18,Tabelas!B:D,3,0),0),\"\")","v":0},{"$f":"IF(A18<>\"\",IFERROR(VLOOKUP(AI18,Tabelas!B:D,3,0),0),\"\")","v":0},{"$f":"IF(A18<>\"\",IFERROR(VLOOKUP(AJ18,Tabelas!B:D,3,0),0),\"\")","v":0},{"$f":"IF(A18<>\"\",IFERROR(VLOOKUP(AK18,Tabelas!B:D,3,0),0),\"\")","v":0},{"$f":"IF(A18<>\"\",IFERROR(VLOOKUP(AL18,Tabelas!B:D,3,0),0),\"\")","v":0},{"$f":"IF(A18<>\"\",IFERROR(VLOOKUP(AM18,Tabelas!B:D,3,0),0),\"\")","v":0},{"$f":"IF(A18<>\"\",IFERROR(VLOOKUP(AN18,Tabelas!B:D,3,0),0),\"\")","v":0},{"$f":"IF(A18<>\"\",IFERROR(VLOOKUP(AO18,Tabelas!B:D,3,0),0),\"\")","v":0},{"$f":"IF(A18<>\"\",IFERROR(VLOOKUP(AP18,Tabelas!B:D,3,0),0),\"\")","v":0},{"$f":"IF(A18<>\"\",IFERROR(VLOOKUP(AQ18,Tabelas!B:D,3,0),0),\"\")","v":0},0,0,0,0,0,0,0,0]
["FULANO 11",11,null,null,null,null,null,null,null,null,null,null,null,null,null,null,null,null,null,null,null,null,null,null,null,null,null,null,null,null,null,null,null,null,null,null,null,null,null,null,null,null,null,{"$f":"IF(A19<>\"\",IFERROR(VLOOKUP(M19,Tabelas!B:D,3,0),0),\"\")","v":0},{"$f":"IF(A19<>\"\",IFERROR(VLOOKUP(N19,Tabelas!B:D,3,0),0),\"\")","v":0},{"$f":"IF(A19<>\"\",IFERROR(VLOOKUP(O19,Tabelas!B:D,3,0),0),\"\")","v":0},{"$f":"IF(A19<>\"\",IFERROR(VLOOKUP(P19,Tabelas!B:D,3,0),0),\"\")","v":0},{"$f":"IF(A19<>\"\",IFERROR(VLOOKUP(Q19,Tabelas!B:D,3,0),0),\"\")","v":0},{"$f":"IF(A19<>\"\",IFERROR(VLOOKUP(R19,Tabelas!B:D,3,0),0),\"\")","v":0},{"$f":"IF(A19<>\"\",IFERROR(VLOOKUP(S19,Tabelas!B:D,3,0),0),\"\")","v":0},{"$f":"IF(A19<>\"\",IFERROR(VLOOKUP(T19,Tabelas!B:D,3,0),0),\"\")","v":0},{"$f":"IF(A19<>\"\",IFERROR(VLOOKUP(U19,Tabelas!B:D,3,0),0),\"\")","v":0},{"$f":"IF(A19<>\"\",IFERROR(VLOOKUP(V19,Tabelas!B:D,3,0),0),\"\")","v":0},{"$f":"IF(A19<>\"\",IFERROR(VLOOKUP(W19,Tabelas!B:D,3,0),0),\"\")","v":0},{"$f":"IF(A19<>\"\",IFERROR(VLOOKUP(X19,Tabelas!B:D,3,0),0),\"\")","v":0},{"$f":"IF(A19<>\"\",IFERROR(VLOOKUP(Y19,Tabelas!B:D,3,0),0),\"\")","v":0},{"$f":"IF(A19<>\"\",IFERROR(VLOOKUP(Z19,Tabelas!B:D,3,0),0),\"\")","v":0},{"$f":"IF(A19<>\"\",IFERROR(VLOOKUP(AA19,Tabelas!B:D,3,0),0),\"\")","v":0},{"$f":"IF(A19<>\"\",IFERROR(VLOOKUP(AB19,Tabelas!B:D,3,0),0),\"\")","v":0},{"$f":"IF(A19<>\"\",IFERROR(VLOOKUP(AC19,Tabelas!B:D,3,0),0),\"\")","v":0},{"$f":"IF(A19<>\"\",IFERROR(VLOOKUP(AD19,Tabelas!B:D,3,0),0),\"\")","v":0},{"$f":"IF(A19<>\"\",IFERROR(VLOOKUP(AE19,Tabelas!B:D,3,0),0),\"\")","v":0},{"$f":"IF(A19<>\"\",IFERROR(VLOOKUP(AF19,Tabelas!B:D,3,0),0),\"\")","v":0},{"$f":"IF(A19<>\"\",IFERROR(VLOOKUP(AG19,Tabelas!B:D,3,0),0),\"\")","v":0},{"$f":"IF(A19<>\"\",IFERROR(VLOOKUP(AH19,Tabelas!B:D,3,0),0),\"\")","v":0},{"$f":"IF(A19<>\"\",IFERROR(VLOOKUP(AI19,Tabelas!B:D,3,0),0),\"\")","v":0},{"$f":"IF(A19<>\"\",IFERROR(VLOOKUP(AJ19,Tabelas!B:D,3,0),0),\"\")","v":0},{"$f":"IF(A19<>\"\",IFERROR(VLOOKUP(AK19,Tabelas!B:D,3,0),0),\"\")","v":0},{"$f":"IF(A19<>\"\",IFERROR(VLOOKUP(AL19,Tabelas!B:D,3,0),0),\"\")","v":0},{"$f":"IF(A19<>\"\",IFERROR(VLOOKUP(AM19,Tabelas!B:D,3,0),0),\"\")","v":0},{"$f":"IF(A19<>\"\",IFERROR(VLOOKUP(AN19,Tabelas!B:D,3,0),0),\"\")","v":0},{"$f":"IF(A19<>\"\",IFERROR(VLOOKUP(AO19,Tabelas!B:D,3,0),0),\"\")","v":0},{"$f":"IF(A19<>\"\",IFERROR(VLOOKUP(AP19,Tabelas!B:D,3,0),0),\"\")","v":0},{"$f":"IF(A19<>\"\",IFERROR(VLOOKUP(AQ19,Tabelas!B:D,3,0),0),\"\")","v":0},0,0,0,0,0,0,0,0]
["FULANO 12",12,null,null,null,null,null,null,null,null,null,null,null,null,null,null,null,null,null,null,null,null,null,null,null,null,null,null,null,null,null,null,null,null,null,null,null,null,null,null,null,null,null,{"$f":"IF(A20<>\"\",IFERROR(VLOOKUP(M20,Tabelas!B:D,3,0),0),\"\")","v":0},{"$f":"IF(A20<>\"\",IFERROR(VLOOKUP(N20,Tabelas!B:D,3,0),0),\"\")","v":0},{"$f":"IF(A20<>\"\",IFERROR(VLOOKUP(O20,Tabelas!B:D,3,0),0),\"\")","v":0},{"$f":"IF(A20<>\"\",IFERROR(VLOOKUP(P20,Tabelas!B:D,3,0),0),\"\")","v":0},{"$f":"IF(A20<>\"\",IFERROR(VLOOKUP(Q20,Tabelas!B:D,3,0),0),\"\")","v":0},{"$f":"IF(A20<>\"\",IFERROR(VLOOKUP(R20,Tabelas!B:D,3,0),0),\"\")","v":0},{"$f":"IF(A20<>\"\",IFERROR(VLOOKUP(S20,Tabelas!B:D,3,0),0),\"\")","v":0},{"$f":"IF(A20<>\"\",IFERROR(VLOOKUP(T20,Tabelas!B:D,3,0),0),\"\")","v":0},{"$f":"IF(A20<>\"\",IFERROR(VLOOKUP(U20,Tabelas!B:D,3,0),0),\"\")","v":0},{"$f":"IF(A20<>\"\",IFERROR(VLOOKUP(V20,Tabelas!B:D,3,0),0),\"\")","v":0},{"$f":"IF(A20<>\"\",IFERROR(VLOOKUP(W20,Tabelas!B:D,3,0),0),\"\")","v":0},{"$f":"IF(A20<>\"\",IFERROR(VLOOKUP(X20,Tabelas!B:D,3,0),0),\"\")","v":0},{"$f":"IF(A20<>\"\",IFERROR(VLOOKUP(Y20,Tabelas!B:D,3,0),0),\"\")","v":0},{"$f":"IF(A20<>\"\",IFERROR(VLOOKUP(Z20,Tabelas!B:D,3,0),0),\"\")","v":0},{"$f":"IF(A20<>\"\",IFERROR(VLOOKUP(AA20,Tabelas!B:D,3,0),0),\"\")","v":0},{"$f":"IF(A20<>\"\",IFERROR(VLOOKUP(AB20,Tabelas!B:D,3,0),0),\"\")","v":0},{"$f":"IF(A20<>\"\",IFERROR(VLOOKUP(AC20,Tabelas!B:D,3,0),0),\"\")","v":0},{"$f":"IF(A20<>\"\",IFERROR(VLOOKUP(AD20,Tabelas!B:D,3,0),0),\"\")","v":0},{"$f":"IF(A20<>\"\",IFERROR(VLOOKUP(AE20,Tabelas!B:D,3,0),0),\"\")","v":0},{"$f":"IF(A20<>\"\",IFERROR(VLOOKUP(AF20,Tabelas!B:D,3,0),0),\"\")","v":0},{"$f":"IF(A20<>\"\",IFERROR(VLOOKUP(AG20,Tabelas!B:D,3,0),0),\"\")","v":0},{"$f":"IF(A20<>\"\",IFERROR(VLOOKUP(AH20,Tabelas!B:D,3,0),0),\"\")","v":0},{"$f":"IF(A20<>\"\",IFERROR(VLOOKUP(AI20,Tabelas!B:D,3,0),0),\"\")","v":0},{"$f":"IF(A20<>\"\",IFERROR(VLOOKUP(AJ20,Tabelas!B:D,3,0),0),\"\")","v":0},{"$f":"IF(A20<>\"\",IFERROR(VLOOKUP(AK20,Tabelas!B:D,3,0),0),\"\")","v":0},{"$f":"IF(A20<>\"\",IFERROR(VLOOKUP(AL20,Tabelas!B:D,3,0),0),\"\")","v":0},{"$f":"IF(A20<>\"\",IFERROR(VLOOKUP(AM20,Tabelas!B:D,3,0),0),\"\")","v":0},{"$f":"IF(A20<>\"\",IFERROR(VLOOKUP(AN20,Tabelas!B:D,3,0),0),\"\")","v":0},{"$f":"IF(A20<>\"\",IFERROR(VLOOKUP(AO20,Tabelas!B:D,3,0),0),\"\")","v":0},{"$f":"IF(A20<>\"\",IFERROR(VLOOKUP(AP20,Tabelas!B:D,3,0),0),\"\")","v":0},{"$f":"IF(A20<>\"\",IFERROR(VLOOKUP(AQ20,Tabelas!B:D,3,0),0),\"\")","v":0},0,0,0,0,0,0,0,0]
["FULANO 13",13,null,null,null,null,null,null,null,null,null,null,null,null,null,null,null,null,null,null,null,null,null,null,null,null,null,null,null,null,null,null,null,null,null,null,null,null,null,null,null,null,null,{"$f":"IF(A21<>\"\",IFERROR(VLOOKUP(M21,Tabelas!B:D,3,0),0),\"\")","v":0},{"$f":"IF(A21<>\"\",IFERROR(VLOOKUP(N21,Tabelas!B:D,3,0),0),\"\")","v":0},{"$f":"IF(A21<>\"\",IFERROR(VLOOKUP(O21,Tabelas!B:D,3,0),0),\"\")","v":0},{"$f":"IF(A21<>\"\",IFERROR(VLOOKUP(P21,Tabelas!B:D,3,0),0),\"\")","v":0},{"$f":"IF(A21<>\"\",IFERROR(VLOOKUP(Q21,Tabelas!B:D,3,0),0),\"\")","v":0},{"$f":"IF(A21<>\"\",IFERROR(VLOOKUP(R21,Tabelas!B:D,3,0),0),\"\")","v":0},{"$f":"IF(A21<>\"\",IFERROR(VLOOKUP(S21,Tabelas!B:D,3,0),0),\"\")","v":0},{"$f":"IF(A21<>\"\",IFERROR(VLOOKUP(T21,Tabelas!B:D,3,0),0),\"\")","v":0},{"$f":"IF(A21<>\"\",IFERROR(VLOOKUP(U21,Tabelas!B:D,3,0),0),\"\")","v":0},{"$f":"IF(A21<>\"\",IFERROR(VLOOKUP(V21,Tabelas!B:D,3,0),0),\"\")","v":0},{"$f":"IF(A21<>\"\",IFERROR(VLOOKUP(W21,Tabelas!B:D,3,0),0),\"\")","v":0},{"$f":"IF(A21<>\"\",IFERROR(VLOOKUP(X21,Tabelas!B:D,3,0),0),\"\")","v":0},{"$f":"IF(A21<>\"\",IFERROR(VLOOKUP(Y21,Tabelas!B:D,3,0),0),\"\")","v":0},{"$f":"IF(A21<>\"\",IFERROR(VLOOKUP(Z21,Tabelas!B:D,3,0),0),\"\")","v":0},{"$f":"IF(A21<>\"\",IFERROR(VLOOKUP(AA21,Tabelas!B:D,3,0),0),\"\")","v":0},{"$f":"IF(A21<>\"\",IFERROR(VLOOKUP(AB21,Tabelas!B:D,3,0),0),\"\")","v":0},{"$f":"IF(A21<>\"\",IFERROR(VLOOKUP(AC21,Tabelas!B:D,3,0),0),\"\")","v":0},{"$f":"IF(A21<>\"\",IFERROR(VLOOKUP(AD21,Tabelas!B:D,3,0),0),\"\")","v":0},{"$f":"IF(A21<>\"\",IFERROR(VLOOKUP(AE21,Tabelas!B:D,3,0),0),\"\")","v":0},{"$f":"IF(A21<>\"\",IFERROR(VLOOKUP(AF21,Tabelas!B:D,3,0),0),\"\")","v":0},{"$f":"IF(A21<>\"\",IFERROR(VLOOKUP(AG21,Tabelas!B:D,3,0),0),\"\")","v":0},{"$f":"IF(A21<>\"\",IFERROR(VLOOKUP(AH21,Tabelas!B:D,3,0),0),\"\")","v":0},{"$f":"IF(A21<>\"\",IFERROR(VLOOKUP(AI21,Tabelas!B:D,3,0),0),\"\")","v":0},{"$f":"IF(A21<>\"\",IFERROR(VLOOKUP(AJ21,Tabelas!B:D,3,0),0),\"\")","v":0},{"$f":"IF(A21<>\"\",IFERROR(VLOOKUP(AK21,Tabelas!B:D,3,0),0),\"\")","v":0},{"$f":"IF(A21<>\"\",IFERROR(VLOOKUP(AL21,Tabelas!B:D,3,0),0),\"\")","v":0},{"$f":"IF(A21<>\"\",IFERROR(VLOOKUP(AM21,Tabelas!B:D,3,0),0),\"\")","v":0},{"$f":"IF(A21<>\"\",IFERROR(VLOOKUP(AN21,Tabelas!B:D,3,0),0),\"\")","v":0},{"$f":"IF(A21<>\"\",IFERROR(VLOOKUP(AO21,Tabelas!B:D,3,0),0),\"\")","v":0},{"$f":"IF(A21<>\"\",IFERROR(VLOOKUP(AP21,Tabelas!B:D,3,0),0),\"\")","v":0},{"$f":"IF(A21<>\"\",IFERROR(VLOOKUP(AQ21,Tabelas!B:D,3,0),0),\"\")","v":0},0,0,0,0,0,0,0,0]
["FULANO 14",14,null,null,null,null,null,null,null,null,null,null,null,null,null,null,null,null,null,null,null,null,null,null,null,null,null,null,null,null,null,null,null,null,null,null,null,null,null,null,null,null,null,{"$f":"IF(A22<>\"\",IFERROR(VLOOKUP(M22,Tabelas!B:D,3,0),0),\"\")","v":0},{"$f":"IF(A22<>\"\",IFERROR(VLOOKUP(N22,Tabelas!B:D,3,0),0),\"\")","v":0},{"$f":"IF(A22<>\"\",IFERROR(VLOOKUP(O22,Tabelas!B:D,3,0),0),\"\")","v":0},{"$f":"IF(A22<>\"\",IFERROR(VLOOKUP(P22,Tabelas!B:D,3,0),0),\"\")","v":0},{"$f":"IF(A22<>\"\",IFERROR(VLOOKUP(Q22,Tabelas!B:D,3,0),0),\"\")","v":0},{"$f":"IF(A22<>\"\",IFERROR(VLOOKUP(R22,Tabelas!B:D,3,0),0),\"\")","v":0},{"$f":"IF(A22<>\"\",IFERROR(VLOOKUP(S22,Tabelas!B:D,3,0),0),\"\")","v":0},{"$f":"IF(A22<>\"\",IFERROR(VLOOKUP(T22,Tabelas!B:D,3,0),0),\"\")","v":0},{"$f":"IF(A22<>\"\",IFERROR(VLOOKUP(U22,Tabelas!B:D,3,0),0),\"\")","v":0},{"$f":"IF(A22<>\"\",IFERROR(VLOOKUP(V22,Tabelas!B:D,3,0),0),\"\")","v":0},{"$f":"IF(A22<>\"\",IFERROR(VLOOKUP(W22,Tabelas!B:D,3,0),0),\"\")","v":0},{"$f":"IF(A22<>\"\",IFERROR(VLOOKUP(X22,Tabelas!B:D,3,0),0),\"\")","v":0},{"$f":"IF(A22<>\"\",IFERROR(VLOOKUP(Y22,Tabelas!B:D,3,0),0),\"\")","v":0},{"$f":"IF(A22<>\"\",IFERROR(VLOOKUP(Z22,Tabelas!B:D,3,0),0),\"\")","v":0},{"$f":"IF(A22<>\"\",IFERROR(VLOOKUP(AA22,Tabelas!B:D,3,0),0),\"\")","v":0},{"$f":"IF(A22<>\"\",IFERROR(VLOOKUP(AB22,Tabelas!B:D,3,0),0),\"\")","v":0},{"$f":"IF(A22<>\"\",IFERROR(VLOOKUP(AC22,Tabelas!B:D,3,0),0),\"\")","v":0},{"$f":"IF(A22<>\"\",IFERROR(VLOOKUP(AD22,Tabelas!B:D,3,0),0),\"\")","v":0},{"$f":"IF(A22<>\"\",IFERROR(VLOOKUP(AE22,Tabelas!B:D,3,0),0),\"\")","v":0},{"$f":"IF(A22<>\"\",IFERROR(VLOOKUP(AF22,Tabelas!B:D,3,0),0),\"\")","v":0},{"$f":"IF(A22<>\"\",IFERROR(VLOOKUP(AG22,Tabelas!B:D,3,0),0),\"\")","v":0},{"$f":"IF(A22<>\"\",IFERROR(VLOOKUP(AH22,Tabelas!B:D,3,0),0),\"\")","v":0},{"$f":"IF(A22<>\"\",IFERROR(VLOOKUP(AI22,Tabelas!B:D,3,0),0),\"\")","v":0},{"$f":"IF(A22<>\"\",IFERROR(VLOOKUP(AJ22,Tabelas!B:D,3,0),0),\"\")","v":0},{"$f":"IF(A22<>\"\",IFERROR(VLOOKUP(AK22,Tabelas!B:D,3,0),0),\"\")","v":0},{"$f":"IF(A22<>\"\",IFERROR(VLOOKUP(AL22,Tabelas!B:D,3,0),0),\"\")","v":0},{"$f":"IF(A22<>\"\",IFERROR(VLOOKUP(AM22,Tabelas!B:D,3,0),0),\"\")","v":0},{"$f":"IF(A22<>\"\",IFERROR(VLOOKUP(AN22,Tabelas!B:D,3,0),0),\"\")","v":0},{"$f":"IF(A22<>\"\",IFERROR(VLOOKUP(AO22,Tabelas!B:D,3,0),0),\"\")","v":0},{"$f":"IF(A22<>\"\",IFERROR(VLOOKUP(AP22,Tabelas!B:D,3,0),0),\"\")","v":0},{"$f":"IF(A22<>\"\",IFERROR(VLOOKUP(AQ22,Tabelas!B:D,3,0),0),\"\")","v":0},0,0,0,0,0,0,0,0]
["FULANO 15",15,null,null,null,null,null,null,null,null,null,null,null,null,null,null,null,null,null,null,null,null,null,null,null,null,null,null,null,null,null,null,null,null,null,null,null,null,null,null,null,null,null,{"$f":"IF(A23<>\"\",IFERROR(VLOOKUP(M23,Tabelas!B:D,3,0),0),\"\")","v":0},{"$f":"IF(A23<>\"\",IFERROR(VLOOKUP(N23,Tabelas!B:D,3,0),0),\"\")","v":0},{"$f":"IF(A23<>\"\",IFERROR(VLOOKUP(O23,Tabelas!B:D,3,0),0),\"\")","v":0},{"$f":"IF(A23<>\"\",IFERROR(VLOOKUP(P23,Tabelas!B:D,3,0),0),\"\")","v":0},{"$f":"IF(A23<>\"\",IFERROR(VLOOKUP(Q23,Tabelas!B:D,3,0),0),\"\")","v":0},{"$f":"IF(A23<>\"\",IFERROR(VLOOKUP(R23,Tabelas!B:D,3,0),0),\"\")","v":0},{"$f":"IF(A23<>\"\",IFERROR(VLOOKUP(S23,Tabelas!B:D,3,0),0),\"\")","v":0},{"$f":"IF(A23<>\"\",IFERROR(VLOOKUP(T23,Tabelas!B:D,3,0),0),\"\")","v":0},{"$f":"IF(A23<>\"\",IFERROR(VLOOKUP(U23,Tabelas!B:D,3,0),0),\"\")","v":0},{"$f":"IF(A23<>\"\",IFERROR(VLOOKUP(V23,Tabelas!B:D,3,0),0),\"\")","v":0},{"$f":"IF(A23<>\"\",IFERROR(VLOOKUP(W23,Tabelas!B:D,3,0),0),\"\")","v":0},{"$f":"IF(A23<>\"\",IFERROR(VLOOKUP(X23,Tabelas!B:D,3,0),0),\"\")","v":0},{"$f":"IF(A23<>\"\",IFERROR(VLOOKUP(Y23,Tabelas!B:D,3,0),0),\"\")","v":0},{"$f":"IF(A23<>\"\",IFERROR(VLOOKUP(Z23,Tabelas!B:D,3,0),0),\"\")","v":0},{"$f":"IF(A23<>\"\",IFERROR(VLOOKUP(AA23,Tabelas!B:D,3,0),0),\"\")","v":0},{"$f":"IF(A23<>\"\",IFERROR(VLOOKUP(AB23,Tabelas!B:D,3,0),0),\"\")","v":0},{"$f":"IF(A23<>\"\",IFERROR(VLOOKUP(AC23,Tabelas!B:D,3,0),0),\"\")","v":0},{"$f":"IF(A23<>\"\",IFERROR(VLOOKUP(AD23,Tabelas!B:D,3,0),0),\"\")","v":0},{"$f":"IF(A23<>\"\",IFERROR(VLOOKUP(AE23,Tabelas!B:D,3,0),0),\"\")","v":0},{"$f":"IF(A23<>\"\",IFERROR(VLOOKUP(AF23,Tabelas!B:D,3,0),0),\"\")","v":0},{"$f":"IF(A23<>\"\",IFERROR(VLOOKUP(AG23,Tabelas!B:D,3,0),0),\"\")","v":0},{"$f":"IF(A23<>\"\",IFERROR(VLOOKUP(AH23,Tabelas!B:D,3,0),0),\"\")","v":0},{"$f":"IF(A23<>\"\",IFERROR(VLOOKUP(AI23,Tabelas!B:D,3,0),0),\"\")","v":0},{"$f":"IF(A23<>\"\",IFERROR(VLOOKUP(AJ23,Tabelas!B:D,3,0),0),\"\")","v":0},{"$f":"IF(A23<>\"\",IFERROR(VLOOKUP(AK23,Tabelas!B:D,3,0),0),\"\")","v":0},{"$f":"IF(A23<>\"\",IFERROR(VLOOKUP(AL23,Tabelas!B:D,3,0),0),\"\")","v":0},{"$f":"IF(A23<>\"\",IFERROR(VLOOKUP(AM23,Tabelas!B:D,3,0),0),\"\")","v":0},{"$f":"IF(A23<>\"\",IFERROR(VLOOKUP(AN23,Tabelas!B:D,3,0),0),\"\")","v":0},{"$f":"IF(A23<>\"\",IFERROR(VLOOKUP(AO23,Tabelas!B:D,3,0),0),\"\")","v":0},{"$f":"IF(A23<>\"\",IFERROR(VLOOKUP(AP23,Tabelas!B:D,3,0),0),\"\")","v":0},{"$f":"IF(A23<>\"\",IFERROR(VLOOKUP(AQ23,Tabelas!B:D,3,0),0),\"\")","v":0},0,0,0,0,0,0,0,0]
["FULANO 16",16,null,null,null,null,null,null,null,null,null,null,null,null,null,null,null,null,null,null,null,null,null,null,null,null,null,null,null,null,null,null,null,null,null,null,null,null,null,null,null,null,null,{"$f":"IF(A24<>\"\",IFERROR(VLOOKUP(M24,Tabelas!B:D,3,0),0),\"\")","v":0},{"$f":"IF(A24<>\"\",IFERROR(VLOOKUP(N24,Tabelas!B:D,3,0),0),\"\")","v":0},{"$f":"IF(A24<>\"\",IFERROR(VLOOKUP(O24,Tabelas!B:D,3,0),0),\"\")","v":0},{"$f":"IF(A24<>\"\",IFERROR(VLOOKUP(P24,Tabelas!B:D,3,0),0),\"\")","v":0},{"$f":"IF(A24<>\"\",IFERROR(VLOOKUP(Q24,Tabelas!B:D,3,0),0),\"\")","v":0},{"$f":"IF(A24<>\"\",IFERROR(VLOOKUP(R24,Tabelas!B:D,3,0),0),\"\")","v":0},{"$f":"IF(A24<>\"\",IFERROR(VLOOKUP(S24,Tabelas!B:D,3,0),0),\"\")","v":0},{"$f":"IF(A24<>\"\",IFERROR(VLOOKUP(T24,Tabelas!B:D,3,0),0),\"\")","v":0},{"$f":"IF(A24<>\"\",IFERROR(VLOOKUP(U24,Tabelas!B:D,3,0),0),\"\")","v":0},{"$f":"IF(A24<>\"\",IFERROR(VLOOKUP(V24,Tabelas!B:D,3,0),0),\"\")","v":0},{"$f":"IF(A24<>\"\",IFERROR(VLOOKUP(W24,Tabelas!B:D,3,0),0),\"\")","v":0},{"$f":"IF(A24<>\"\",IFERROR(VLOOKUP(X24,Tabelas!B:D,3,0),0),\"\")","v":0},{"$f":"IF(A24<>\"\",IFERROR(VLOOKUP(Y24,Tabelas!B:D,3,0),0),\"\")","v":0},{"$f":"IF(A24<>\"\",IFERROR(VLOOKUP(Z24,Tabelas!B:D,3,0),0),\"\")","v":0},{"$f":"IF(A24<>\"\",IFERROR(VLOOKUP(AA24,Tabelas!B:D,3,0),0),\"\")","v":0},{"$f":"IF(A24<>\"\",IFERROR(VLOOKUP(AB24,Tabelas!B:D,3,0),0),\"\")","v":0},{"$f":"IF(A24<>\"\",IFERROR(VLOOKUP(AC24,Tabelas!B:D,3,0),0),\"\")","v":0},{"$f":"IF(A24<>\"\",IFERROR(VLOOKUP(AD24,Tabelas!B:D,3,0),0),\"\")","v":0},{"$f":"IF(A24<>\"\",IFERROR(VLOOKUP(AE24,Tabelas!B:D,3,0),0),\"\")","v":0},{"$f":"IF(A24<>\"\",IFERROR(VLOOKUP(AF24,Tabelas!B:D,3,0),0),\"\")","v":0},{"$f":"IF(A24<>\"\",IFERROR(VLOOKUP(AG24,Tabelas!B:D,3,0),0),\"\")","v":0},{"$f":"IF(A24<>\"\",IFERROR(VLOOKUP(AH24,Tabelas!B:D,3,0),0),\"\")","v":0},{"$f":"IF(A24<>\"\",IFERROR(VLOOKUP(AI24,Tabelas!B:D,3,0),0),\"\")","v":0},{"$f":"IF(A24<>\"\",IFERROR(VLOOKUP(AJ24,Tabelas!B:D,3,0),0),\"\")","v":0},{"$f":"IF(A24<>\"\",IFERROR(VLOOKUP(AK24,Tabelas!B:D,3,0),0),\"\")","v":0},{"$f":"IF(A24<>\"\",IFERROR(VLOOKUP(AL24,Tabelas!B:D,3,0),0),\"\")","v":0},{"$f":"IF(A24<>\"\",IFERROR(VLOOKUP(AM24,Tabelas!B:D,3,0),0),\"\")","v":0},{"$f":"IF(A24<>\"\",IFERROR(VLOOKUP(AN24,Tabelas!B:D,3,0),0),\"\")","v":0},{"$f":"IF(A24<>\"\",IFERROR(VLOOKUP(AO24,Tabelas!B:D,3,0),0),\"\")","v":0},{"$f":"IF(A24<>\"\",IFERROR(VLOOKUP(AP24,Tabelas!B:D,3,0),0),\"\")","v":0},{"$f":"IF(A24<>\"\",IFERROR(VLOOKUP(AQ24,Tabelas!B:D,3,0),0),\"\")","v":0},0,0,0,0,0,0,0,0]
["FULANO 17",17,null,null,null,null,null,null,null,null,null,null,null,null,null,null,null,null,null,null,null,null,null,null,null,null,null,null,null,null,null,null,null,null,null,null,null,null,null,null,null,null,null,{"$f":"IF(A25<>\"\",IFERROR(VLOOKUP(M25,Tabelas!B:D,3,0),0),\"\")","v":0},{"$f":"IF(A25<>\"\",IFERROR(VLOOKUP(N25,Tabelas!B:D,3,0),0),\"\")","v":0},{"$f":"IF(A25<>\"\",IFERROR(VLOOKUP(O25,Tabelas!B:D,3,0),0),\"\")","v":0},{"$f":"IF(A25<>\"\",IFERROR(VLOOKUP(P25,Tabelas!B:D,3,0),0),\"\")","v":0},{"$f":"IF(A25<>\"\",IFERROR(VLOOKUP(Q25,Tabelas!B:D,3,0),0),\"\")","v":0},{"$f":"IF(A25<>\"\",IFERROR(VLOOKUP(R25,Tabelas!B:D,3,0),0),\"\")","v":0},{"$f":"IF(A25<>\"\",IFERROR(VLOOKUP(S25,Tabelas!B:D,3,0),0),\"\")","v":0},{"$f":"IF(A25<>\"\",IFERROR(VLOOKUP(T25,Tabelas!B:D,3,0),0),\"\")","v":0},{"$f":"IF(A25<>\"\",IFERROR(VLOOKUP(U25,Tabelas!B:D,3,0),0),\"\")","v":0},{"$f":"IF(A25<>\"\",IFERROR(VLOOKUP(V25,Tabelas!B:D,3,0),0),\"\")","v":0},{"$f":"IF(A25<>\"\",IFERROR(VLOOKUP(W25,Tabelas!B:D,3,0),0),\"\")","v":0},{"$f":"IF(A25<>\"\",IFERROR(VLOOKUP(X25,Tabelas!B:D,3,0),0),\"\")","v":0},{"$f":"IF(A25<>\"\",IFERROR(VLOOKUP(Y25,Tabelas!B:D,3,0),0),\"\")","v":0},{"$f":"IF(A25<>\"\",IFERROR(VLOOKUP(Z25,Tabelas!B:D,3,0),0),\"\")","v":0},{"$f":"IF(A25<>\"\",IFERROR(VLOOKUP(AA25,Tabelas!B:D,3,0),0),\"\")","v":0},{"$f":"IF(A25<>\"\",IFERROR(VLOOKUP(AB25,Tabelas!B:D,3,0),0),\"\")","v":0},{"$f":"IF(A25<>\"\",IFERROR(VLOOKUP(AC25,Tabelas!B:D,3,0),0),\"\")","v":0},{"$f":"IF(A25<>\"\",IFERROR(VLOOKUP(AD25,Tabelas!B:D,3,0),0),\"\")","v":0},{"$f":"IF(A25<>\"\",IFERROR(VLOOKUP(AE25,Tabelas!B:D,3,0),0),\"\")","v":0},{"$f":"IF(A25<>\"\",IFERROR(VLOOKUP(AF25,Tabelas!B:D,3,0),0),\"\")","v":0},{"$f":"IF(A25<>\"\",IFERROR(VLOOKUP(AG25,Tabelas!B:D,3,0),0),\"\")","v":0},{"$f":"IF(A25<>\"\",IFERROR(VLOOKUP(AH25,Tabelas!B:D,3,0),0),\"\")","v":0},{"$f":"IF(A25<>\"\",IFERROR(VLOOKUP(AI25,Tabelas!B:D,3,0),0),\"\")","v":0},{"$f":"IF(A25<>\"\",IFERROR(VLOOKUP(AJ25,Tabelas!B:D,3,0),0),\"\")","v":0},{"$f":"IF(A25<>\"\",IFERROR(VLOOKUP(AK25,Tabelas!B:D,3,0),0),\"\")","v":0},{"$f":"IF(A25<>\"\",IFERROR(VLOOKUP(AL25,Tabelas!B:D,3,0),0),\"\")","v":0},{"$f":"IF(A25<>\"\",IFERROR(VLOOKUP(AM25,Tabelas!B:D,3,0),0),\"\")","v":0},{"$f":"IF(A25<>\"\",IFERROR(VLOOKUP(AN25,Tabelas!B:D,3,0),0),\"\")","v":0},{"$f":"IF(A25<>\"\",IFERROR(VLOOKUP(AO25,Tabelas!B:D,3,0),0),\"\")","v":0},{"$f":"IF(A25<>\"\",IFERROR(VLOOKUP(AP25,Tabelas!B:D,3,0),0),\"\")","v":0},{"$f":"IF(A25<>\"\",IFERROR(VLOOKUP(AQ25,Tabelas!B:D,3,0),0),\"\")","v":0},0,0,0,0,0,0,0,0]
["FULANO 18",18,null,null,null,null,null,null,null,null,null,null,null,null,null,null,null,null,null,null,null,null,null,null,null,null,null,null,null,null,null,null,null,null,null,null,null,null,null,null,null,null,null,{"$f":"IF(A26<>\"\",IFERROR(VLOOKUP(M26,Tabelas!B:D,3,0),0),\"\")","v":0},{"$f":"IF(A26<>\"\",IFERROR(VLOOKUP(N26,Tabelas!B:D,3,0),0),\"\")","v":0},{"$f":"IF(A26<>\"\",IFERROR(VLOOKUP(O26,Tabelas!B:D,3,0),0),\"\")","v":0},{"$f":"IF(A26<>\"\",IFERROR(VLOOKUP(P26,Tabelas!B:D,3,0),0),\"\")","v":0},{"$f":"IF(A26<>\"\",IFERROR(VLOOKUP(Q26,Tabelas!B:D,3,0),0),\"\")","v":0},{"$f":"IF(A26<>\"\",IFERROR(VLOOKUP(R26,Tabelas!B:D,3,0),0),\"\")","v":0},{"$f":"IF(A26<>\"\",IFERROR(VLOOKUP(S26,Tabelas!B:D,3,0),0),\"\")","v":0},{"$f":"IF(A26<>\"\",IFERROR(VLOOKUP(T26,Tabelas!B:D,3,0),0),\"\")","v":0},{"$f":"IF(A26<>\"\",IFERROR(VLOOKUP(U26,Tabelas!B:D,3,0),0),\"\")","v":0},{"$f":"IF(A26<>\"\",IFERROR(VLOOKUP(V26,Tabelas!B:D,3,0),0),\"\")","v":0},{"$f":"IF(A26<>\"\",IFERROR(VLOOKUP(W26,Tabelas!B:D,3,0),0),\"\")","v":0},{"$f":"IF(A26<>\"\",IFERROR(VLOOKUP(X26,Tabelas!B:D,3,0),0),\"\")","v":0},{"$f":"IF(A26<>\"\",IFERROR(VLOOKUP(Y26,Tabelas!B:D,3,0),0),\"\")","v":0},{"$f":"IF(A26<>\"\",IFERROR(VLOOKUP(Z26,Tabelas!B:D,3,0),0),\"\")","v":0},{"$f":"IF(A26<>\"\",IFERROR(VLOOKUP(AA26,Tabelas!B:D,3,0),0),\"\")","v":0},{"$f":"IF(A26<>\"\",IFERROR(VLOOKUP(AB26,Tabelas!B:D,3,0),0),\"\")","v":0},{"$f":"IF(A26<>\"\",IFERROR(VLOOKUP(AC26,Tabelas!B:D,3,0),0),\"\")","v":0},{"$f":"IF(A26<>\"\",IFERROR(VLOOKUP(AD26,Tabelas!B:D,3,0),0),\"\")","v":0},{"$f":"IF(A26<>\"\",IFERROR(VLOOKUP(AE26,Tabelas!B:D,3,0),0),\"\")","v":0},{"$f":"IF(A26<>\"\",IFERROR(VLOOKUP(AF26,Tabelas!B:D,3,0),0),\"\")","v":0},{"$f":"IF(A26<>\"\",IFERROR(VLOOKUP(AG26,Tabelas!B:D,3,0),0),\"\")","v":0},{"$f":"IF(A26<>\"\",IFERROR(VLOOKUP(AH26,Tabelas!B:D,3,0),0),\"\")","v":0},{"$f":"IF(A26<>\"\",IFERROR(VLOOKUP(AI26,Tabelas!B:D,3,0),0),\"\")","v":0},{"$f":"IF(A26<>\"\",IFERROR(VLOOKUP(AJ26,Tabelas!B:D,3,0),0),\"\")","v":0},{"$f":"IF(A26<>\"\",IFERROR(VLOOKUP(AK26,Tabelas!B:D,3,0),0),\"\")","v":0},{"$f":"IF(A26<>\"\",IFERROR(VLOOKUP(AL26,Tabelas!B:D,3,0),0),\"\")","v":0},{"$f":"IF(A26<>\"\",IFERROR(VLOOKUP(AM26,Tabelas!B:D,3,0),0),\"\")","v":0},{"$f":"IF(A26<>\"\",IFERROR(VLOOKUP(AN26,Tabelas!B:D,3,0),0),\"\")","v":0},{"$f":"IF(A26<>\"\",IFERROR(VLOOKUP(AO26,Tabelas!B:D,3,0),0),\"\")","v":0},{"$f":"IF(A26<>\"\",IFERROR(VLOOKUP(AP26,Tabelas!B:D,3,0),0),\"\")","v":0},{"$f":"IF(A26<>\"\",IFERROR(VLOOKUP(AQ26,Tabelas!B:D,3,0),0),\"\")","v":0},0,0,0,0,0,0,0,0]
["FULANO 19",19,null,null,null,null,null,null,null,null,null,null,null,null,null,null,null,null,null,null,null,null,null,null,null,null,null,null,null,null,null,null,null,null,null,null,null,null,null,null,null,null,null,{"$f":"IF(A27<>\"\",IFERROR(VLOOKUP(M27,Tabelas!B:D,3,0),0),\"\")","v":0},{"$f":"IF(A27<>\"\",IFERROR(VLOOKUP(N27,Tabelas!B:D,3,0),0),\"\")","v":0},{"$f":"IF(A27<>\"\",IFERROR(VLOOKUP(O27,Tabelas!B:D,3,0),0),\"\")","v":0},{"$f":"IF(A27<>\"\",IFERROR(VLOOKUP(P27,Tabelas!B:D,3,0),0),\"\")","v":0},{"$f":"IF(A27<>\"\",IFERROR(VLOOKUP(Q27,Tabelas!B:D,3,0),0),\"\")","v":0},{"$f":"IF(A27<>\"\",IFERROR(VLOOKUP(R27,Tabelas!B:D,3,0),0),\"\")","v":0},{"$f":"IF(A27<>\"\",IFERROR(VLOOKUP(S27,Tabelas!B:D,3,0),0),\"\")","v":0},{"$f":"IF(A27<>\"\",IFERROR(VLOOKUP(T27,Tabelas!B:D,3,0),0),\"\")","v":0},{"$f":"IF(A27<>\"\",IFERROR(VLOOKUP(U27,Tabelas!B:D,3,0),0),\"\")","v":0},{"$f":"IF(A27<>\"\",IFERROR(VLOOKUP(V27,Tabelas!B:D,3,0),0),\"\")","v":0},{"$f":"IF(A27<>\"\",IFERROR(VLOOKUP(W27,Tabelas!B:D,3,0),0),\"\")","v":0},{"$f":"IF(A27<>\"\",IFERROR(VLOOKUP(X27,Tabelas!B:D,3,0),0),\"\")","v":0},{"$f":"IF(A27<>\"\",IFERROR(VLOOKUP(Y27,Tabelas!B:D,3,0),0),\"\")","v":0},{"$f":"IF(A27<>\"\",IFERROR(VLOOKUP(Z27,Tabelas!B:D,3,0),0),\"\")","v":0},{"$f":"IF(A27<>\"\",IFERROR(VLOOKUP(AA27,Tabelas!B:D,3,0),0),\"\")","v":0},{"$f":"IF(A27<>\"\",IFERROR(VLOOKUP(AB27,Tabelas!B:D,3,0),0),\"\")","v":0},{"$f":"IF(A27<>\"\",IFERROR(VLOOKUP(AC27,Tabelas!B:D,3,0),0),\"\")","v":0},{"$f":"IF(A27<>\"\",IFERROR(VLOOKUP(AD27,Tabelas!B:D,3,0),0),\"\")","v":0},{"$f":"IF(A27<>\"\",IFERROR(VLOOKUP(AE27,Tabelas!B:D,3,0),0),\"\")","v":0},{"$f":"IF(A27<>\"\",IFERROR(VLOOKUP(AF27,Tabelas!B:D,3,0),0),\"\")","v":0},{"$f":"IF(A27<>\"\",IFERROR(VLOOKUP(AG27,Tabelas!B:D,3,0),0),\"\")","v":0},{"$f":"IF(A27<>\"\",IFERROR(VLOOKUP(AH27,Tabelas!B:D,3,0),0),\"\")","v":0},{"$f":"IF(A27<>\"\",IFERROR(VLOOKUP(AI27,Tabelas!B:D,3,0),0),\"\")","v":0},{"$f":"IF(A27<>\"\",IFERROR(VLOOKUP(AJ27,Tabelas!B:D,3,0),0),\"\")","v":0},{"$f":"IF(A27<>\"\",IFERROR(VLOOKUP(AK27,Tabelas!B:D,3,0),0),\"\")","v":0},{"$f":"IF(A27<>\"\",IFERROR(VLOOKUP(AL27,Tabelas!B:D,3,0),0),\"\")","v":0},{"$f":"IF(A27<>\"\",IFERROR(VLOOKUP(AM27,Tabelas!B:D,3,0),0),\"\")","v":0},{"$f":"IF(A27<>\"\",IFERROR(VLOOKUP(AN27,Tabelas!B:D,3,0),0),\"\")","v":0},{"$f":"IF(A27<>\"\",IFERROR(VLOOKUP(AO27,Tabelas!B:D,3,0),0),\"\")","v":0},{"$f":"IF(A27<>\"\",IFERROR(VLOOKUP(AP27,Tabelas!B:D,3,0),0),\"\")","v":0},{"$f":"IF(A27<>\"\",IFERROR(VLOOKUP(AQ27,Tabelas!B:D,3,0),0),\"\")","v":0},0,0,0,0,0,0,0,0]
["FULANO 20",20,null,null,null,null,null,null,null,null,null,null,null,null,null,null,null,null,null,null,null,null,null,null,null,null,null,null,null,null,null,null,null,null,null,null,null,null,null,null,null,null,null,{"$f":"IF(A28<>\"\",IFERROR(VLOOKUP(M28,Tabelas!B:D,3,0),0),\"\")","v":0},{"$f":"IF(A28<>\"\",IFERROR(VLOOKUP(N28,Tabelas!B:D,3,0),0),\"\")","v":0},{"$f":"IF(A28<>\"\",IFERROR(VLOOKUP(O28,Tabelas!B:D,3,0),0),\"\")","v":0},{"$f":"IF(A28<>\"\",IFERROR(VLOOKUP(P28,Tabelas!B:D,3,0),0),\"\")","v":0},{"$f":"IF(A28<>\"\",IFERROR(VLOOKUP(Q28,Tabelas!B:D,3,0),0),\"\")","v":0},{"$f":"IF(A28<>\"\",IFERROR(VLOOKUP(R28,Tabelas!B:D,3,0),0),\"\")","v":0},{"$f":"IF(A28<>\"\",IFERROR(VLOOKUP(S28,Tabelas!B:D,3,0),0),\"\")","v":0},{"$f":"IF(A28<>\"\",IFERROR(VLOOKUP(T28,Tabelas!B:D,3,0),0),\"\")","v":0},{"$f":"IF(A28<>\"\",IFERROR(VLOOKUP(U28,Tabelas!B:D,3,0),0),\"\")","v":0},{"$f":"IF(A28<>\"\",IFERROR(VLOOKUP(V28,Tabelas!B:D,3,0),0),\"\")","v":0},{"$f":"IF(A28<>\"\",IFERROR(VLOOKUP(W28,Tabelas!B:D,3,0),0),\"\")","v":0},{"$f":"IF(A28<>\"\",IFERROR(VLOOKUP(X28,Tabelas!B:D,3,0),0),\"\")","v":0},{"$f":"IF(A28<>\"\",IFERROR(VLOOKUP(Y28,Tabelas!B:D,3,0),0),\"\")","v":0},{"$f":"IF(A28<>\"\",IFERROR(VLOOKUP(Z28,Tabelas!B:D,3,0),0),\"\")","v":0},{"$f":"IF(A28<>\"\",IFERROR(VLOOKUP(AA28,Tabelas!B:D,3,0),0),\"\")","v":0},{"$f":"IF(A28<>\"\",IFERROR(VLOOKUP(AB28,Tabelas!B:D,3,0),0),\"\")","v":0},{"$f":"IF(A28<>\"\",IFERROR(VLOOKUP(AC28,Tabelas!B:D,3,0),0),\"\")","v":0},{"$f":"IF(A28<>\"\",IFERROR(VLOOKUP(AD28,Tabelas!B:D,3,0),0),\"\")","v":0},{"$f":"IF(A28<>\"\",IFERROR(VLOOKUP(AE28,Tabelas!B:D,3,0),0),\"\")","v":0},{"$f":"IF(A28<>\"\",IFERROR(VLOOKUP(AF28,Tabelas!B:D,3,0),0),\"\")","v":0},{"$f":"IF(A28<>\"\",IFERROR(VLOOKUP(AG28,Tabelas!B:D,3,0),0),\"\")","v":0},{"$f":"IF(A28<>\"\",IFERROR(VLOOKUP(AH28,Tabelas!B:D,3,0),0),\"\")","v":0},{"$f":"IF(A28<>\"\",IFERROR(VLOOKUP(AI28,Tabelas!B:D,3,0),0),\"\")","v":0},{"$f":"IF(A28<>\"\",IFERROR(VLOOKUP(AJ28,Tabelas!B:D,3,0),0),\"\")","v":0},{"$f":"IF(A28<>\"\",IFERROR(VLOOKUP(AK28,Tabelas!B:D,3,0),0),\"\")","v":0},{"$f":"IF(A28<>\"\",IFERROR(VLOOKUP(AL28,Tabelas!B:D,3,0),0),\"\")","v":0},{"$f":"IF(A28<>\"\",IFERROR(VLOOKUP(AM28,Tabelas!B:D,3,0),0),\"\")","v":0},{"$f":"IF(A28<>\"\",IFERROR(VLOOKUP(AN28,Tabelas!B:D,3,0),0),\"\")","v":0},{"$f":"IF(A28<>\"\",IFERROR(VLOOKUP(AO28,Tabelas!B:D,3,0),0),\"\")","v":0},{"$f":"IF(A28<>\"\",IFERROR(VLOOKUP(AP28,Tabelas!B:D,3,0),0),\"\")","v":0},{"$f":"IF(A28<>\"\",IFERROR(VLOOKUP(AQ28,Tabelas!B:D,3,0),0),\"\")","v":0},0,0,0,0,0,0,0,0]
["FULANO 21",21,null,null,null,null,null,null,null,null,null,null,null,null,null,null,null,null,null,null,null,null,null,null,null,null,null,null,null,null,null,null,null,null,null,null,null,null,null,null,null,null,null,{"$f":"IF(A29<>\"\",IFERROR(VLOOKUP(M29,Tabelas!B:D,3,0),0),\"\")","v":0},{"$f":"IF(A29<>\"\",IFERROR(VLOOKUP(N29,Tabelas!B:D,3,0),0),\"\")","v":0},{"$f":"IF(A29<>\"\",IFERROR(VLOOKUP(O29,Tabelas!B:D,3,0),0),\"\")","v":0},{"$f":"IF(A29<>\"\",IFERROR(VLOOKUP(P29,Tabelas!B:D,3,0),0),\"\")","v":0},{"$f":"IF(A29<>\"\",IFERROR(VLOOKUP(Q29,Tabelas!B:D,3,0),0),\"\")","v":0},{"$f":"IF(A29<>\"\",IFERROR(VLOOKUP(R29,Tabelas!B:D,3,0),0),\"\")","v":0},{"$f":"IF(A29<>\"\",IFERROR(VLOOKUP(S29,Tabelas!B:D,3,0),0),\"\")","v":0},{"$f":"IF(A29<>\"\",IFERROR(VLOOKUP(T29,Tabelas!B:D,3,0),0),\"\")","v":0},{"$f":"IF(A29<>\"\",IFERROR(VLOOKUP(U29,Tabelas!B:D,3,0),0),\"\")","v":0},{"$f":"IF(A29<>\"\",IFERROR(VLOOKUP(V29,Tabelas!B:D,3,0),0),\"\")","v":0},{"$f":"IF(A29<>\"\",IFERROR(VLOOKUP(W29,Tabelas!B:D,3,0),0),\"\")","v":0},{"$f":"IF(A29<>\"\",IFERROR(VLOOKUP(X29,Tabelas!B:D,3,0),0),\"\")","v":0},{"$f":"IF(A29<>\"\",IFERROR(VLOOKUP(Y29,Tabelas!B:D,3,0),0),\"\")","v":0},{"$f":"IF(A29<>\"\",IFERROR(VLOOKUP(Z29,Tabelas!B:D,3,0),0),\"\")","v":0},{"$f":"IF(A29<>\"\",IFERROR(VLOOKUP(AA29,Tabelas!B:D,3,0),0),\"\")","v":0},{"$f":"IF(A29<>\"\",IFERROR(VLOOKUP(AB29,Tabelas!B:D,3,0),0),\"\")","v":0},{"$f":"IF(A29<>\"\",IFERROR(VLOOKUP(AC29,Tabelas!B:D,3,0),0),\"\")","v":0},{"$f":"IF(A29<>\"\",IFERROR(VLOOKUP(AD29,Tabelas!B:D,3,0),0),\"\")","v":0},{"$f":"IF(A29<>\"\",IFERROR(VLOOKUP(AE29,Tabelas!B:D,3,0),0),\"\")","v":0},{"$f":"IF(A29<>\"\",IFERROR(VLOOKUP(AF29,Tabelas!B:D,3,0),0),\"\")","v":0},{"$f":"IF(A29<>\"\",IFERROR(VLOOKUP(AG29,Tabelas!B:D,3,0),0),\"\")","v":0},{"$f":"IF(A29<>\"\",IFERROR(VLOOKUP(AH29,Tabelas!B:D,3,0),0),\"\")","v":0},{"$f":"IF(A29<>\"\",IFERROR(VLOOKUP(AI29,Tabelas!B:D,3,0),0),\"\")","v":0},{"$f":"IF(A29<>\"\",IFERROR(VLOOKUP(AJ29,Tabelas!B:D,3,0),0),\"\")","v":0},{"$f":"IF(A29<>\"\",IFERROR(VLOOKUP(AK29,Tabelas!B:D,3,0),0),\"\")","v":0},{"$f":"IF(A29<>\"\",IFERROR(VLOOKUP(AL29,Tabelas!B:D,3,0),0),\"\")","v":0},{"$f":"IF(A29<>\"\",IFERROR(VLOOKUP(AM29,Tabelas!B:D,3,0),0),\"\")","v":0},{"$f":"IF(A29<>\"\",IFERROR(VLOOKUP(AN29,Tabelas!B:D,3,0),0),\"\")","v":0},{"$f":"IF(A29<>\"\",IFERROR(VLOOKUP(AO29,Tabelas!B:D,3,0),0),\"\")","v":0},{"$f":"IF(A29<>\"\",IFERROR(VLOOKUP(AP29,Tabelas!B:D,3,0),0),\"\")","v":0},{"$f":"IF(A29<>\"\",IFERROR(VLOOKUP(AQ29,Tabelas!B:D,3,0),0),\"\")","v":0},0,0,0,0,0,0,0,0]
["FULANO 22",22,null,null,null,null,null,null,null,null,null,null,null,null,null,null,null,null,null,null,null,null,null,null,null,null,null,null,null,null,null,null,null,null,null,null,null,null,null,null,null,null,null,{"$f":"IF(A30<>\"\",IFERROR(VLOOKUP(M30,Tabelas!B:D,3,0),0),\"\")","v":0},{"$f":"IF(A30<>\"\",IFERROR(VLOOKUP(N30,Tabelas!B:D,3,0),0),\"\")","v":0},{"$f":"IF(A30<>\"\",IFERROR(VLOOKUP(O30,Tabelas!B:D,3,0),0),\"\")","v":0},{"$f":"IF(A30<>\"\",IFERROR(VLOOKUP(P30,Tabelas!B:D,3,0),0),\"\")","v":0},{"$f":"IF(A30<>\"\",IFERROR(VLOOKUP(Q30,Tabelas!B:D,3,0),0),\"\")","v":0},{"$f":"IF(A30<>\"\",IFERROR(VLOOKUP(R30,Tabelas!B:D,3,0),0),\"\")","v":0},{"$f":"IF(A30<>\"\",IFERROR(VLOOKUP(S30,Tabelas!B:D,3,0),0),\"\")","v":0},{"$f":"IF(A30<>\"\",IFERROR(VLOOKUP(T30,Tabelas!B:D,3,0),0),\"\")","v":0},{"$f":"IF(A30<>\"\",IFERROR(VLOOKUP(U30,Tabelas!B:D,3,0),0),\"\")","v":0},{"$f":"IF(A30<>\"\",IFERROR(VLOOKUP(V30,Tabelas!B:D,3,0),0),\"\")","v":0},{"$f":"IF(A30<>\"\",IFERROR(VLOOKUP(W30,Tabelas!B:D,3,0),0),\"\")","v":0},{"$f":"IF(A30<>\"\",IFERROR(VLOOKUP(X30,Tabelas!B:D,3,0),0),\"\")","v":0},{"$f":"IF(A30<>\"\",IFERROR(VLOOKUP(Y30,Tabelas!B:D,3,0),0),\"\")","v":0},{"$f":"IF(A30<>\"\",IFERROR(VLOOKUP(Z30,Tabelas!B:D,3,0),0),\"\")","v":0},{"$f":"IF(A30<>\"\",IFERROR(VLOOKUP(AA30,Tabelas!B:D,3,0),0),\"\")","v":0},{"$f":"IF(A30<>\"\",IFERROR(VLOOKUP(AB30,Tabelas!B:D,3,0),0),\"\")","v":0},{"$f":"IF(A30<>\"\",IFERROR(VLOOKUP(AC30,Tabelas!B:D,3,0),0),\"\")","v":0},{"$f":"IF(A30<>\"\",IFERROR(VLOOKUP(AD30,Tabelas!B:D,3,0),0),\"\")","v":0},{"$f":"IF(A30<>\"\",IFERROR(VLOOKUP(AE30,Tabelas!B:D,3,0),0),\"\")","v":0},{"$f":"IF(A30<>\"\",IFERROR(VLOOKUP(AF30,Tabelas!B:D,3,0),0),\"\")","v":0},{"$f":"IF(A30<>\"\",IFERROR(VLOOKUP(AG30,Tabelas!B:D,3,0),0),\"\")","v":0},{"$f":"IF(A30<>\"\",IFERROR(VLOOKUP(AH30,Tabelas!B:D,3,0),0),\"\")","v":0},{"$f":"IF(A30<>\"\",IFERROR(VLOOKUP(AI30,Tabelas!B:D,3,0),0),\"\")","v":0},{"$f":"IF(A30<>\"\",IFERROR(VLOOKUP(AJ30,Tabelas!B:D,3,0),0),\"\")","v":0},{"$f":"IF(A30<>\"\",IFERROR(VLOOKUP(AK30,Tabelas!B:D,3,0),0),\"\")","v":0},{"$f":"IF(A30<>\"\",IFERROR(VLOOKUP(AL30,Tabelas!B:D,3,0),0),\"\")","v":0},{"$f":"IF(A30<>\"\",IFERROR(VLOOKUP(AM30,Tabelas!B:D,3,0),0),\"\")","v":0},{"$f":"IF(A30<>\"\",IFERROR(VLOOKUP(AN30,Tabelas!B:D,3,0),0),\"\")","v":0},{"$f":"IF(A30<>\"\",IFERROR(VLOOKUP(AO30,Tabelas!B:D,3,0),0),\"\")","v":0},{"$f":"IF(A30<>\"\",IFERROR(VLOOKUP(AP30,Tabelas!B:D,3,0),0),\"\")","v":0},{"$f":"IF(A30<>\"\",IFERROR(VLOOKUP(AQ30,Tabelas!B:D,3,0),0),\"\")","v":0},0,0,0,0,0,0,0,0]
["FULANO 23",23,null,null,null,null,null,null,null,null,null,null,null,null,null,null,null,null,null,null,null,null,null,null,null,null,null,null,null,null,null,null,null,null,null,null,null,null,null,null,null,null,null,{"$f":"IF(A31<>\"\",IFERROR(VLOOKUP(M31,Tabelas!B:D,3,0),0),\"\")","v":0},{"$f":"IF(A31<>\"\",IFERROR(VLOOKUP(N31,Tabelas!B:D,3,0),0),\"\")","v":0},{"$f":"IF(A31<>\"\",IFERROR(VLOOKUP(O31,Tabelas!B:D,3,0),0),\"\")","v":0},{"$f":"IF(A31<>\"\",IFERROR(VLOOKUP(P31,Tabelas!B:D,3,0),0),\"\")","v":0},{"$f":"IF(A31<>\"\",IFERROR(VLOOKUP(Q31,Tabelas!B:D,3,0),0),\"\")","v":0},{"$f":"IF(A31<>\"\",IFERROR(VLOOKUP(R31,Tabelas!B:D,3,0),0),\"\")","v":0},{"$f":"IF(A31<>\"\",IFERROR(VLOOKUP(S31,Tabelas!B:D,3,0),0),\"\")","v":0},{"$f":"IF(A31<>\"\",IFERROR(VLOOKUP(T31,Tabelas!B:D,3,0),0),\"\")","v":0},{"$f":"IF(A31<>\"\",IFERROR(VLOOKUP(U31,Tabelas!B:D,3,0),0),\"\")","v":0},{"$f":"IF(A31<>\"\",IFERROR(VLOOKUP(V31,Tabelas!B:D,3,0),0),\"\")","v":0},{"$f":"IF(A31<>\"\",IFERROR(VLOOKUP(W31,Tabelas!B:D,3,0),0),\"\")","v":0},{"$f":"IF(A31<>\"\",IFERROR(VLOOKUP(X31,Tabelas!B:D,3,0),0),\"\")","v":0},{"$f":"IF(A31<>\"\",IFERROR(VLOOKUP(Y31,Tabelas!B:D,3,0),0),\"\")","v":0},{"$f":"IF(A31<>\"\",IFERROR(VLOOKUP(Z31,Tabelas!B:D,3,0),0),\"\")","v":0},{"$f":"IF(A31<>\"\",IFERROR(VLOOKUP(AA31,Tabelas!B:D,3,0),0),\"\")","v":0},{"$f":"IF(A31<>\"\",IFERROR(VLOOKUP(AB31,Tabelas!B:D,3,0),0),\"\")","v":0},{"$f":"IF(A31<>\"\",IFERROR(VLOOKUP(AC31,Tabelas!B:D,3,0),0),\"\")","v":0},{"$f":"IF(A31<>\"\",IFERROR(VLOOKUP(AD31,Tabelas!B:D,3,0),0),\"\")","v":0},{"$f":"IF(A31<>\"\",IFERROR(VLOOKUP(AE31,Tabelas!B:D,3,0),0),\"\")","v":0},{"$f":"IF(A31<>\"\",IFERROR(VLOOKUP(AF31,Tabelas!B:D,3,0),0),\"\")","v":0},{"$f":"IF(A31<>\"\",IFERROR(VLOOKUP(AG31,Tabelas!B:D,3,0),0),\"\")","v":0},{"$f":"IF(A31<>\"\",IFERROR(VLOOKUP(AH31,Tabelas!B:D,3,0),0),\"\")","v":0},{"$f":"IF(A31<>\"\",IFERROR(VLOOKUP(AI31,Tabelas!B:D,3,0),0),\"\")","v":0},{"$f":"IF(A31<>\"\",IFERROR(VLOOKUP(AJ31,Tabelas!B:D,3,0),0),\"\")","v":0},{"$f":"IF(A31<>\"\",IFERROR(VLOOKUP(AK31,Tabelas!B:D,3,0),0),\"\")","v":0},{"$f":"IF(A31<>\"\",IFERROR(VLOOKUP(AL31,Tabelas!B:D,3,0),0),\"\")","v":0},{"$f":"IF(A31<>\"\",IFERROR(VLOOKUP(AM31,Tabelas!B:D,3,0),0),\"\")","v":0},{"$f":"IF(A31<>\"\",IFERROR(VLOOKUP(AN31,Tabelas!B:D,3,0),0),\"\")","v":0},{"$f":"IF(A31<>\"\",IFERROR(VLOOKUP(AO31,Tabelas!B:D,3,0),0),\"\")","v":0},{"$f":"IF(A31<>\"\",IFERROR(VLOOKUP(AP31,Tabelas!B:D,3,0),0),\"\")","v":0},{"$f":"IF(A31<>\"\",IFERROR(VLOOKUP(AQ31,Tabelas!B:D,3,0),0),\"\")","v":0},0,0,0,0,0,0,0,0]
["FULANO 24",24,null,null,null,null,null,null,null,null,null,null,null,null,null,null,null,null,null,null,null,null,null,null,null,null,null,null,null,null,null,null,null,null,null,null,null,null,null,null,null,null,null,{"$f":"IF(A32<>\"\",IFERROR(VLOOKUP(M32,Tabelas!B:D,3,0),0),\"\")","v":0},{"$f":"IF(A32<>\"\",IFERROR(VLOOKUP(N32,Tabelas!B:D,3,0),0),\"\")","v":0},{"$f":"IF(A32<>\"\",IFERROR(VLOOKUP(O32,Tabelas!B:D,3,0),0),\"\")","v":0},{"$f":"IF(A32<>\"\",IFERROR(VLOOKUP(P32,Tabelas!B:D,3,0),0),\"\")","v":0},{"$f":"IF(A32<>\"\",IFERROR(VLOOKUP(Q32,Tabelas!B:D,3,0),0),\"\")","v":0},{"$f":"IF(A32<>\"\",IFERROR(VLOOKUP(R32,Tabelas!B:D,3,0),0),\"\")","v":0},{"$f":"IF(A32<>\"\",IFERROR(VLOOKUP(S32,Tabelas!B:D,3,0),0),\"\")","v":0},{"$f":"IF(A32<>\"\",IFERROR(VLOOKUP(T32,Tabelas!B:D,3,0),0),\"\")","v":0},{"$f":"IF(A32<>\"\",IFERROR(VLOOKUP(U32,Tabelas!B:D,3,0),0),\"\")","v":0},{"$f":"IF(A32<>\"\",IFERROR(VLOOKUP(V32,Tabelas!B:D,3,0),0),\"\")","v":0},{"$f":"IF(A32<>\"\",IFERROR(VLOOKUP(W32,Tabelas!B:D,3,0),0),\"\")","v":0},{"$f":"IF(A32<>\"\",IFERROR(VLOOKUP(X32,Tabelas!B:D,3,0),0),\"\")","v":0},{"$f":"IF(A32<>\"\",IFERROR(VLOOKUP(Y32,Tabelas!B:D,3,0),0),\"\")","v":0},{"$f":"IF(A32<>\"\",IFERROR(VLOOKUP(Z32,Tabelas!B:D,3,0),0),\"\")","v":0},{"$f":"IF(A32<>\"\",IFERROR(VLOOKUP(AA32,Tabelas!B:D,3,0),0),\"\")","v":0},{"$f":"IF(A32<>\"\",IFERROR(VLOOKUP(AB32,Tabelas!B:D,3,0),0),\"\")","v":0},{"$f":"IF(A32<>\"\",IFERROR(VLOOKUP(AC32,Tabelas!B:D,3,0),0),\"\")","v":0},{"$f":"IF(A32<>\"\",IFERROR(VLOOKUP(AD32,Tabelas!B:D,3,0),0),\"\")","v":0},{"$f":"IF(A32<>\"\",IFERROR(VLOOKUP(AE32,Tabelas!B:D,3,0),0),\"\")","v":0},{"$f":"IF(A32<>\"\",IFERROR(VLOOKUP(AF32,Tabelas!B:D,3,0),0),\"\")","v":0},{"$f":"IF(A32<>\"\",IFERROR(VLOOKUP(AG32,Tabelas!B:D,3,0),0),\"\")","v":0},{"$f":"IF(A32<>\"\",IFERROR(VLOOKUP(AH32,Tabelas!B:D,3,0),0),\"\")","v":0},{"$f":"IF(A32<>\"\",IFERROR(VLOOKUP(AI32,Tabelas!B:D,3,0),0),\"\")","v":0},{"$f":"IF(A32<>\"\",IFERROR(VLOOKUP(AJ32,Tabelas!B:D,3,0),0),\"\")","v":0},{"$f":"IF(A32<>\"\",IFERROR(VLOOKUP(AK32,Tabelas!B:D,3,0),0),\"\")","v":0},{"$f":"IF(A32<>\"\",IFERROR(VLOOKUP(AL32,Tabelas!B:D,3,0),0),\"\")","v":0},{"$f":"IF(A32<>\"\",IFERROR(VLOOKUP(AM32,Tabelas!B:D,3,0),0),\"\")","v":0},{"$f":"IF(A32<>\"\",IFERROR(VLOOKUP(AN32,Tabelas!B:D,3,0),0),\"\")","v":0},{"$f":"IF(A32<>\"\",IFERROR(VLOOKUP(AO32,Tabelas!B:D,3,0),0),\"\")","v":0},{"$f":"IF(A32<>\"\",IFERROR(VLOOKUP(AP32,Tabelas!B:D,3,0),0),\"\")","v":0},{"$f":"IF(A32<>\"\",IFERROR(VLOOKUP(AQ32,Tabelas!B:D,3,0),0),\"\")","v":0},0,0,0,0,0,{"$f":"IF(A32<>\"\",COUNTIF(M32:AQ32,\"CH*\"),\"\")","v":0},0,0]
["FULANO 25",25,null,null,null,null,null,null,null,null,null,null,null,null,null,null,null,null,null,null,null,null,null,null,null,null,null,null,null,null,null,null,null,null,null,null,null,null,null,null,null,null,null,{"$f":"IF(A33<>\"\",IFERROR(VLOOKUP(M33,Tabelas!B:D,3,0),0),\"\")","v":0},{"$f":"IF(A33<>\"\",IFERROR(VLOOKUP(N33,Tabelas!B:D,3,0),0),\"\")","v":0},{"$f":"IF(A33<>\"\",IFERROR(VLOOKUP(O33,Tabelas!B:D,3,0),0),\"\")","v":0},{"$f":"IF(A33<>\"\",IFERROR(VLOOKUP(P33,Tabelas!B:D,3,0),0),\"\")","v":0},{"$f":"IF(A33<>\"\",IFERROR(VLOOKUP(Q33,Tabelas!B:D,3,0),0),\"\")","v":0},{"$f":"IF(A33<>\"\",IFERROR(VLOOKUP(R33,Tabelas!B:D,3,0),0),\"\")","v":0},{"$f":"IF(A33<>\"\",IFERROR(VLOOKUP(S33,Tabelas!B:D,3,0),0),\"\")","v":0},{"$f":"IF(A33<>\"\",IFERROR(VLOOKUP(T33,Tabelas!B:D,3,0),0),\"\")","v":0},{"$f":"IF(A33<>\"\",IFERROR(VLOOKUP(U33,Tabelas!B:D,3,0),0),\"\")","v":0},{"$f":"IF(A33<>\"\",IFERROR(VLOOKUP(V33,Tabelas!B:D,3,0),0),\"\")","v":0},{"$f":"IF(A33<>\"\",IFERROR(VLOOKUP(W33,Tabelas!B:D,3,0),0),\"\")","v":0},{"$f":"IF(A33<>\"\",IFERROR(VLOOKUP(X33,Tabelas!B:D,3,0),0),\"\")","v":0},{"$f":"IF(A33<>\"\",IFERROR(VLOOKUP(Y33,Tabelas!B:D,3,0),0),\"\")","v":0},{"$f":"IF(A33<>\"\",IFERROR(VLOOKUP(Z33,Tabelas!B:D,3,0),0),\"\")","v":0},{"$f":"IF(A33<>\"\",IFERROR(VLOOKUP(AA33,Tabelas!B:D,3,0),0),\"\")","v":0},{"$f":"IF(A33<>\"\",IFERROR(VLOOKUP(AB33,Tabelas!B:D,3,0),0),\"\")","v":0},{"$f":"IF(A33<>\"\",IFERROR(VLOOKUP(AC33,Tabelas!B:D,3,0),0),\"\")","v":0},{"$f":"IF(A33<>\"\",IFERROR(VLOOKUP(AD33,Tabelas!B:D,3,0),0),\"\")","v":0},{"$f":"IF(A33<>\"\",IFERROR(VLOOKUP(AE33,Tabelas!B:D,3,0),0),\"\")","v":0},{"$f":"IF(A33<>\"\",IFERROR(VLOOKUP(AF33,Tabelas!B:D,3,0),0),\"\")","v":0},{"$f":"IF(A33<>\"\",IFERROR(VLOOKUP(AG33,Tabelas!B:D,3,0),0),\"\")","v":0},{"$f":"IF(A33<>\"\",IFERROR(VLOOKUP(AH33,Tabelas!B:D,3,0),0),\"\")","v":0},{"$f":"IF(A33<>\"\",IFERROR(VLOOKUP(AI33,Tabelas!B:D,3,0),0),\"\")","v":0},{"$f":"IF(A33<>\"\",IFERROR(VLOOKUP(AJ33,Tabelas!B:D,3,0),0),\"\")","v":0},{"$f":"IF(A33<>\"\",IFERROR(VLOOKUP(AK33,Tabelas!B:D,3,0),0),\"\")","v":0},{"$f":"IF(A33<>\"\",IFERROR(VLOOKUP(AL33,Tabelas!B:D,3,0),0),\"\")","v":0},{"$f":"IF(A33<>\"\",IFERROR(VLOOKUP(AM33,Tabelas!B:D,3,0),0),\"\")","v":0},{"$f":"IF(A33<>\"\",IFERROR(VLOOKUP(AN33,Tabelas!B:D,3,0),0),\"\")","v":0},{"$f":"IF(A33<>\"\",IFERROR(VLOOKUP(AO33,Tabelas!B:D,3,0),0),\"\")","v":0},{"$f":"IF(A33<>\"\",IFERROR(VLOOKUP(AP33,Tabelas!B:D,3,0),0),\"\")","v":0},{"$f":"IF(A33<>\"\",IFERROR(VLOOKUP(AQ33,Tabelas!B:D,3,0),0),\"\")","v":0},0,0,0,0,0,0,0,0]
["FULANO 26",26,null,null,null,null,null,null,null,null,null,null,null,null,null,null,null,null,null,null,null,null,null,null,null,null,null,null,null,null,null,null,null,null,null,null,null,null,null,null,null,null,null,{"$f":"IF(A34<>\"\",IFERROR(VLOOKUP(M34,Tabelas!B:D,3,0),0),\"\")","v":0},{"$f":"IF(A34<>\"\",IFERROR(VLOOKUP(N34,Tabelas!B:D,3,0),0),\"\")","v":0},{"$f":"IF(A34<>\"\",IFERROR(VLOOKUP(O34,Tabelas!B:D,3,0),0),\"\")","v":0},{"$f":"IF(A34<>\"\",IFERROR(VLOOKUP(P34,Tabelas!B:D,3,0),0),\"\")","v":0},{"$f":"IF(A34<>\"\",IFERROR(VLOOKUP(Q34,Tabelas!B:D,3,0),0),\"\")","v":0},{"$f":"IF(A34<>\"\",IFERROR(VLOOKUP(R34,Tabelas!B:D,3,0),0),\"\")","v":0},{"$f":"IF(A34<>\"\",IFERROR(VLOOKUP(S34,Tabelas!B:D,3,0),0),\"\")","v":0},{"$f":"IF(A34<>\"\",IFERROR(VLOOKUP(T34,Tabelas!B:D,3,0),0),\"\")","v":0},{"$f":"IF(A34<>\"\",IFERROR(VLOOKUP(U34,Tabelas!B:D,3,0),0),\"\")","v":0},{"$f":"IF(A34<>\"\",IFERROR(VLOOKUP(V34,Tabelas!B:D,3,0),0),\"\")","v":0},{"$f":"IF(A34<>\"\",IFERROR(VLOOKUP(W34,Tabelas!B:D,3,0),0),\"\")","v":0},{"$f":"IF(A34<>\"\",IFERROR(VLOOKUP(X34,Tabelas!B:D,3,0),0),\"\")","v":0},{"$f":"IF(A34<>\"\",IFERROR(VLOOKUP(Y34,Tabelas!B:D,3,0),0),\"\")","v":0},{"$f":"IF(A34<>\"\",IFERROR(VLOOKUP(Z34,Tabelas!B:D,3,0),0),\"\")","v":0},{"$f":"IF(A34<>\"\",IFERROR(VLOOKUP(AA34,Tabelas!B:D,3,0),0),\"\")","v":0},{"$f":"IF(A34<>\"\",IFERROR(VLOOKUP(AB34,Tabelas!B:D,3,0),0),\"\")","v":0},{"$f":"IF(A34<>\"\",IFERROR(VLOOKUP(AC34,Tabelas!B:D,3,0),0),\"\")","v":0},{"$f":"IF(A34<>\"\",IFERROR(VLOOKUP(AD34,Tabelas!B:D,3,0),0),\"\")","v":0},{"$f":"IF(A34<>\"\",IFERROR(VLOOKUP(AE34,Tabelas!B:D,3,0),0),\"\")","v":0},{"$f":"IF(A34<>\"\",IFERROR(VLOOKUP(AF34,Tabelas!B:D,3,0),0),\"\")","v":0},{"$f":"IF(A34<>\"\",IFERROR(VLOOKUP(AG34,Tabelas!B:D,3,0),0),\"\")","v":0},{"$f":"IF(A34<>\"\",IFERROR(VLOOKUP(AH34,Tabelas!B:D,3,0),0),\"\")","v":0},{"$f":"IF(A34<>\"\",IFERROR(VLOOKUP(AI34,Tabelas!B:D,3,0),0),\"\")","v":0},{"$f":"IF(A34<>\"\",IFERROR(VLOOKUP(AJ34,Tabelas!B:D,3,0),0),\"\")","v":0},{"$f":"IF(A34<>\"\",IFERROR(VLOOKUP(AK34,Tabelas!B:D,3,0),0),\"\")","v":0},{"$f":"IF(A34<>\"\",IFERROR(VLOOKUP(AL34,Tabelas!B:D,3,0),0),\"\")","v":0},{"$f":"IF(A34<>\"\",IFERROR(VLOOKUP(AM34,Tabelas!B:D,3,0),0),\"\")","v":0},{"$f":"IF(A34<>\"\",IFERROR(VLOOKUP(AN34,Tabelas!B:D,3,0),0),\"\")","v":0},{"$f":"IF(A34<>\"\",IFERROR(VLOOKUP(AO34,Tabelas!B:D,3,0),0),\"\")","v":0},{"$f":"IF(A34<>\"\",IFERROR(VLOOKUP(AP34,Tabelas!B:D,3,0),0),\"\")","v":0},{"$f":"IF(A34<>\"\",IFERROR(VLOOKUP(AQ34,Tabelas!B:D,3,0),0),\"\")","v":0},0,0,0,0,0,0,0,0]
["FULANO 27",27,null,null,null,null,null,null,null,null,null,null,null,null,null,null,null,null,null,null,null,null,null,null,null,null,null,null,null,null,null,null,null,null,null,null,null,null,null,null,null,null,null,{"$f":"IF(A35<>\"\",IFERROR(VLOOKUP(M35,Tabelas!B:D,3,0),0),\"\")","v":0},{"$f":"IF(A35<>\"\",IFERROR(VLOOKUP(N35,Tabelas!B:D,3,0),0),\"\")","v":0},{"$f":"IF(A35<>\"\",IFERROR(VLOOKUP(O35,Tabelas!B:D,3,0),0),\"\")","v":0},{"$f":"IF(A35<>\"\",IFERROR(VLOOKUP(P35,Tabelas!B:D,3,0),0),\"\")","v":0},{"$f":"IF(A35<>\"\",IFERROR(VLOOKUP(Q35,Tabelas!B:D,3,0),0),\"\")","v":0},{"$f":"IF(A35<>\"\",IFERROR(VLOOKUP(R35,Tabelas!B:D,3,0),0),\"\")","v":0},{"$f":"IF(A35<>\"\",IFERROR(VLOOKUP(S35,Tabelas!B:D,3,0),0),\"\")","v":0},{"$f":"IF(A35<>\"\",IFERROR(VLOOKUP(T35,Tabelas!B:D,3,0),0),\"\")","v":0},{"$f":"IF(A35<>\"\",IFERROR(VLOOKUP(U35,Tabelas!B:D,3,0),0),\"\")","v":0},{"$f":"IF(A35<>\"\",IFERROR(VLOOKUP(V35,Tabelas!B:D,3,0),0),\"\")","v":0},{"$f":"IF(A35<>\"\",IFERROR(VLOOKUP(W35,Tabelas!B:D,3,0),0),\"\")","v":0},{"$f":"IF(A35<>\"\",IFERROR(VLOOKUP(X35,Tabelas!B:D,3,0),0),\"\")","v":0},{"$f":"IF(A35<>\"\",IFERROR(VLOOKUP(Y35,Tabelas!B:D,3,0),0),\"\")","v":0},{"$f":"IF(A35<>\"\",IFERROR(VLOOKUP(Z35,Tabelas!B:D,3,0),0),\"\")","v":0},{"$f":"IF(A35<>\"\",IFERROR(VLOOKUP(AA35,Tabelas!B:D,3,0),0),\"\")","v":0},{"$f":"IF(A35<>\"\",IFERROR(VLOOKUP(AB35,Tabelas!B:D,3,0),0),\"\")","v":0},{"$f":"IF(A35<>\"\",IFERROR(VLOOKUP(AC35,Tabelas!B:D,3,0),0),\"\")","v":0},{"$f":"IF(A35<>\"\",IFERROR(VLOOKUP(AD35,Tabelas!B:D,3,0),0),\"\")","v":0},{"$f":"IF(A35<>\"\",IFERROR(VLOOKUP(AE35,Tabelas!B:D,3,0),0),\"\")","v":0},{"$f":"IF(A35<>\"\",IFERROR(VLOOKUP(AF35,Tabelas!B:D,3,0),0),\"\")","v":0},{"$f":"IF(A35<>\"\",IFERROR(VLOOKUP(AG35,Tabelas!B:D,3,0),0),\"\")","v":0},{"$f":"IF(A35<>\"\",IFERROR(VLOOKUP(AH35,Tabelas!B:D,3,0),0),\"\")","v":0},{"$f":"IF(A35<>\"\",IFERROR(VLOOKUP(AI35,Tabelas!B:D,3,0),0),\"\")","v":0},{"$f":"IF(A35<>\"\",IFERROR(VLOOKUP(AJ35,Tabelas!B:D,3,0),0),\"\")","v":0},{"$f":"IF(A35<>\"\",IFERROR(VLOOKUP(AK35,Tabelas!B:D,3,0),0),\"\")","v":0},{"$f":"IF(A35<>\"\",IFERROR(VLOOKUP(AL35,Tabelas!B:D,3,0),0),\"\")","v":0},{"$f":"IF(A35<>\"\",IFERROR(VLOOKUP(AM35,Tabelas!B:D,3,0),0),\"\")","v":0},{"$f":"IF(A35<>\"\",IFERROR(VLOOKUP(AN35,Tabelas!B:D,3,0),0),\"\")","v":0},{"$f":"IF(A35<>\"\",IFERROR(VLOOKUP(AO35,Tabelas!B:D,3,0),0),\"\")","v":0},{"$f":"IF(A35<>\"\",IFERROR(VLOOKUP(AP35,Tabelas!B:D,3,0),0),\"\")","v":0},{"$f":"IF(A35<>\"\",IFERROR(VLOOKUP(AQ35,Tabelas!B:D,3,0),0),\"\")","v":0},0,0,0,0,0,0,0,0]
["TOTAL PROFISSIONAIS MATUTINO",null,null,null,null,null,null,null,null,null,null,null,{"$f":"IF(COUNTIF(Novembro!AP9:AP35,\"PR5\")+COUNTIF(Novembro!AP9:AP35,\"PR6\")+COUNTIF(Novembro!AP9:AP35,\"PR7\")+COUNTIF(Novembro!AP9:AP35,\"PR8\")+COUNTIF(Novembro!AP9:AP35,\"PR9\")+COUNTIF(M9:M35,\"M*\")+ COUNTIF(M9:M35, \"D*\")-COUNTIF(M9:M35,\"DSR\")+COUNTIF(M9:M35,\"PR1\")+COUNTIF(M9:M35,\"PR2\")+COUNTIF(M9:M35,\"PR3\")+COUNTIF(M9:M35,\"PR4\")<>0,COUNTIF(Novembro!AP9:AP35,\"PR5\")+COUNTIF(Novembro!AP9:AP35,\"PR6\")+COUNTIF(Novembro!AP9:AP35,\"PR7\")+COUNTIF(Novembro!AP9:AP35,\"PR8\")+COUNTIF(Novembro!AP9:AP35,\"PR9\")+COUNTIF(M9:M35,\"M*\")+ COUNTIF(M9:M35, \"D*\")-COUNTIF(M9:M35,\"DSR\")+COUNTIF(M9:M35,\"PR1\")+COUNTIF(M9:M35,\"PR2\")+COUNTIF(M9:M35,\"PR3\")+COUNTIF(M9:M35,\"PR4\"),\"\")","v":""},{"$f":"IF(COUNTIF(N9:N35,\"M*\")+ COUNTIF(N9:N35, \"D*\")-COUNTIF(N9:N35,\"DSR\")+COUNTIF(M9:M35,\"PR5\")+COUNTIF(M9:M35,\"PR6\")+COUNTIF(M9:M35,\"PR7\")+COUNTIF(M9:M35,\"PR8\")+COUNTIF(M9:M35,\"PR9\")+COUNTIF(N9:N35,\"PR1\")+COUNTIF(N9:N35,\"PR2\")+COUNTIF(N9:N35,\"PR3\")+COUNTIF(N9:N35,\"PR4\")<>0,COUNTIF(N9:N35,\"M*\")+ COUNTIF(N9:N35, \"D*\")-COUNTIF(N9:N35,\"DSR\")+COUNTIF(M9:M35,\"PR5\")+COUNTIF(M9:M35,\"PR6\")+COUNTIF(M9:M35,\"PR7\")+COUNTIF(M9:M35,\"PR8\")+COUNTIF(M9:M35,\"PR9\")+COUNTIF(N9:N35,\"PR1\")+COUNTIF(N9:N35,\"PR2\")+COUNTIF(N9:N35,\"PR3\")+COUNTIF(N9:N35,\"PR4\"),\"\")","v":""},{"$f":"IF(COUNTIF(O9:O35,\"M*\")+ COUNTIF(O9:O35, \"D*\")-COUNTIF(O9:O35,\"DSR\")+COUNTIF(N9:N35,\"PR5\")+COUNTIF(N9:N35,\"PR6\")+COUNTIF(N9:N35,\"PR7\")+COUNTIF(N9:N35,\"PR8\")+COUNTIF(N9:N35,\"PR9\")+COUNTIF(O9:O35,\"PR1\")+COUNTIF(O9:O35,\"PR2\")+COUNTIF(O9:O35,\"PR3\")+COUNTIF(O9:O35,\"PR4\")<>0,COUNTIF(O9:O35,\"M*\")+ COUNTIF(O9:O35, \"D*\")-COUNTIF(O9:O35,\"DSR\")+COUNTIF(N9:N35,\"PR5\")+COUNTIF(N9:N35,\"PR6\")+COUNTIF(N9:N35,\"PR7\")+COUNTIF(N9:N35,\"PR8\")+COUNTIF(N9:N35,\"PR9\")+COUNTIF(O9:O35,\"PR1\")+COUNTIF(O9:O35,\"PR2\")+COUNTIF(O9:O35,\"PR3\")+COUNTIF(O9:O35,\"PR4\"),\"\")","v":""},"","","","","","","","","","","","","","","","","","","","","","","","","","","","",null,null,null,null,null,null,null,null,null,null,null,null,null,null,null,null,null,null,null,null,null,null,null,null,null,null,null,null,null,null,null,{"$f":"SUM(BW9:BW35)","v":8},{"$f":"SUM(BX9:BX35)","v":1},{"$f":"SUM(BY9:BY35)","v":0},0,0,0,0,1]
["TOTAL DE PROFISSIONAIS VESPERTINO",null,null,null,null,null,null,null,null,null,null,null,{"$f":"IF(COUNTIF(Novembro!AP9:AP35,\"PR5\")+COUNTIF(Novembro!AP9:AP35,\"PR6\")+COUNTIF(Novembro!AP9:AP35,\"PR7\")+COUNTIF(Novembro!AP9:AP35,\"PR8\")+COUNTIF(Novembro!AP9:AP35,\"PR9\")+COUNTIF(M9:M35,\"MT*\") + COUNTIF(M9:M35, \"D*\") + COUNTIF(M9:M35,\"T*\")-COUNTIF(M9:M35,\"DSR\")+COUNTIF(M9:M35,\"PR1\")+COUNTIF(M9:M35,\"PR2\")+COUNTIF(M9:M35,\"PR3\")+COUNTIF(M9:M35,\"PR4\")<>0,COUNTIF(Novembro!AP9:AP35,\"PR5\")+COUNTIF(Novembro!AP9:AP35,\"PR6\")+COUNTIF(Novembro!AP9:AP35,\"PR7\")+COUNTIF(Novembro!AP9:AP35,\"PR8\")+COUNTIF(Novembro!AP9:AP35,\"PR9\")+COUNTIF(M9:M35,\"MT*\") + COUNTIF(M9:M35, \"D*\") + COUNTIF(M9:M35,\"T*\")+COUNTIF(M9:M35,\"PR1\")+COUNTIF(M9:M35,\"PR2\")+COUNTIF(M9:M35,\"PR3\")+COUNTIF(M9:M35,\"PR4\")-COUNTIF(M9:M35,\"DSR\"),\"\")","v":""},{"$f":"IF(COUNTIF(N9:N35,\"MT*\") + COUNTIF(N9:N35, \"D*\") + COUNTIF(N9:N35,\"T*\")-COUNTIF(N9:N35,\"DSR\")+COUNTIF(M9:M35,\"PR5\")+COUNTIF(M9:M35,\"PR6\")+COUNTIF(M9:M35,\"PR7\")+COUNTIF(M9:M35,\"PR8\")+COUNTIF(M9:M35,\"PR9\")+COUNTIF(N9:N35,\"PR1\")+COUNTIF(N9:N35,\"PR2\")+COUNTIF(N9:N35,\"PR3\")+COUNTIF(N9:N35,\"PR4\")<>0,COUNTIF(N9:N35,\"MT*\") + COUNTIF(N9:N35, \"D*\") + COUNTIF(N9:N35,\"T*\")+COUNTIF(M9:M35,\"PR5\")+COUNTIF(M9:M35,\"PR6\")+COUNTIF(M9:M35,\"PR7\")+COUNTIF(M9:M35,\"PR8\")+COUNTIF(M9:M35,\"PR9\")+COUNTIF(N9:N35,\"PR1\")+COUNTIF(N9:N35,\"PR2\")+COUNTIF(N9:N35,\"PR3\")+COUNTIF(N9:N35,\"PR4\")-COUNTIF(N9:N35,\"DSR\"),\"\")","v":""},{"$f":"IF(COUNTIF(O9:O35,\"MT*\") + COUNTIF(O9:O35, \"D*\") + COUNTIF(O9:O35,\"T*\")-COUNTIF(O9:O35,\"DSR\")+COUNTIF(N9:N35,\"PR5\")+COUNTIF(N9:N35,\"PR6\")+COUNTIF(N9:N35,\"PR7\")+COUNTIF(N9:N35,\"PR8\")+COUNTIF(N9:N35,\"PR9\")+COUNTIF(O9:O35,\"PR1\")+COUNTIF(O9:O35,\"PR2\")+COUNTIF(O9:O35,\"PR3\")+COUNTIF(O9:O35,\"PR4\")<>0,COUNTIF(O9:O35,\"MT*\") + COUNTIF(O9:O35, \"D*\") + COUNTIF(O9:O35,\"T*\")+COUNTIF(N9:N35,\"PR5\")+COUNTIF(N9:N35,\"PR6\")+COUNTIF(N9:N35,\"PR7\")+COUNTIF(N9:N35,\"PR8\")+COUNTIF(N9:N35,\"PR9\")+COUNTIF(O9:O35,\"PR1\")+COUNTIF(O9:O35,\"PR2\")+COUNTIF(O9:O35,\"PR3\")+COUNTIF(O9:O35,\"PR4\")-COUNTIF(O9:O35,\"DSR\"),\"\")","v":""},"","","","","","","","","","","","","","","","","","","","","","","","","","","","",{"$f":"IF(A37<>\"\",IFERROR(VLOOKUP(M37,Tabelas!B:D,3,0),0),\"\")","v":0},{"$f":"IF(A37<>\"\",IFERROR(VLOOKUP(N37,Tabelas!B:D,3,0),0),\"\")","v":0},{"$f":"IF(A37<>\"\",IFERROR(VLOOKUP(O37,Tabelas!B:D,3,0),0),\"\")","v":0},{"$f":"IF(A37<>\"\",IFERROR(VLOOKUP(P37,Tabelas!B:D,3,0),0),\"\")","v":0},{"$f":"IF(A37<>\"\",IFERROR(VLOOKUP(Q37,Tabelas!B:D,3,0),0),\"\")","v":0},{"$f":"IF(A37<>\"\",IFERROR(VLOOKUP(R37,Tabelas!B:D,3,0),0),\"\")","v":0},{"$f":"IF(A37<>\"\",IFERROR(VLOOKUP(S37,Tabelas!B:D,3,0),0),\"\")","v":0},{"$f":"IF(A37<>\"\",IFERROR(VLOOKUP(T37,Tabelas!B:D,3,0),0),\"\")","v":0},{"$f":"IF(A37<>\"\",IFERROR(VLOOKUP(U37,Tabelas!B:D,3,0),0),\"\")","v":0},{"$f":"IF(A37<>\"\",IFERROR(VLOOKUP(V37,Tabelas!B:D,3,0),0),\"\")","v":0},{"$f":"IF(A37<>\"\",IFERROR(VLOOKUP(W37,Tabelas!B:D,3,0),0),\"\")","v":0},{"$f":"IF(A37<>\"\",IFERROR(VLOOKUP(X37,Tabelas!B:D,3,0),0),\"\")","v":0},{"$f":"IF(A37<>\"\",IFERROR(VLOOKUP(Y37,Tabelas!B:D,3,0),0),\"\")","v":0},{"$f":"IF(A37<>\"\",IFERROR(VLOOKUP(Z37,Tabelas!B:D,3,0),0),\"\")","v":0},{"$f":"IF(A37<>\"\",IFERROR(VLOOKUP(AA37,Tabelas!B:D,3,0),0),\"\")","v":0},{"$f":"IF(A37<>\"\",IFERROR(VLOOKUP(AB37,Tabelas!B:D,3,0),0),\"\")","v":0},{"$f":"IF(A37<>\"\",IFERROR(VLOOKUP(AC37,Tabelas!B:D,3,0),0),\"\")","v":0},{"$f":"IF(A37<>\"\",IFERROR(VLOOKUP(AD37,Tabelas!B:D,3,0),0),\"\")","v":0},{"$f":"IF(A37<>\"\",IFERROR(VLOOKUP(AE37,Tabelas!B:D,3,0),0),\"\")","v":0},{"$f":"IF(A37<>\"\",IFERROR(VLOOKUP(AF37,Tabelas!B:D,3,0),0),\"\")","v":0},{"$f":"IF(A37<>\"\",IFERROR(VLOOKUP(AG37,Tabelas!B:D,3,0),0),\"\")","v":0},{"$f":"IF(A37<>\"\",IFERROR(VLOOKUP(AH37,Tabelas!B:D,3,0),0),\"\")","v":0},{"$f":"IF(A37<>\"\",IFERROR(VLOOKUP(AI37,Tabelas!B:D,3,0),0),\"\")","v":0},{"$f":"IF(A37<>\"\",IFERROR(VLOOKUP(AJ37,Tabelas!B:D,3,0),0),\"\")","v":0},{"$f":"IF(A37<>\"\",IFERROR(VLOOKUP(AK37,Tabelas!B:D,3,0),0),\"\")","v":0},{"$f":"IF(A37<>\"\",IFERROR(VLOOKUP(AL37,Tabelas!B:D,3,0),0),\"\")","v":0},{"$f":"IF(A37<>\"\",IFERROR(VLOOKUP(AM37,Tabelas!B:D,3,0),0),\"\")","v":0},{"$f":"IF(A37<>\"\",IFERROR(VLOOKUP(AN37,Tabelas!B:D,3,0),0),\"\")","v":0},{"$f":"IF(A37<>\"\",IFERROR(VLOOKUP(AO37,Tabelas!B:D,3,0),0),\"\")","v":0},{"$f":"IF(A37<>\"\",IFERROR(VLOOKUP(AP37,Tabelas!B:D,3,0),0),\"\")","v":0},{"$f":"IF(A37<>\"\",IFERROR(VLOOKUP(AQ37,Tabelas!B:D,3,0),0),\"\")","v":0}]
["TOTAL DE PROFISSIONAIS NOTURNO",null,null,null,null,null,null,null,null,null,null,null,{"$f":"IF(COUNTIF(M9:M37,\"N?*\") + COUNTIF(M9:M37, \"DN*\")+COUNTIF(M9:M35,\"PR*\")<>0,COUNTIF(M9:M37,\"N?*\") + COUNTIF(M9:M37, \"DN*\")+COUNTIF(M9:M35,\"PR*\"),\"\")","v":""},{"$f":"IF(COUNTIF(N9:N37,\"N?*\") + COUNTIF(N9:N37, \"DN*\")+COUNTIF(N9:N35,\"PR*\")<>0,COUNTIF(N9:N37,\"N?*\") + COUNTIF(N9:N37, \"DN*\")+COUNTIF(N9:N35,\"PR*\"),\"\")","v":""},"","","","","","","","","","","","","","","","","","","","","","","","","","","","","",{"$f":"IF(A38<>\"\",IFERROR(VLOOKUP(M38,Tabelas!B:D,3,0),0),\"\")","v":0},{"$f":"IF(A38<>\"\",IFERROR(VLOOKUP(N38,Tabelas!B:D,3,0),0),\"\")","v":0},{"$f":"IF(A38<>\"\",IFERROR(VLOOKUP(O38,Tabelas!B:D,3,0),0),\"\")","v":0},{"$f":"IF(A38<>\"\",IFERROR(VLOOKUP(P38,Tabelas!B:D,3,0),0),\"\")","v":0},{"$f":"IF(A38<>\"\",IFERROR(VLOOKUP(Q38,Tabelas!B:D,3,0),0),\"\")","v":0},{"$f":"IF(A38<>\"\",IFERROR(VLOOKUP(R38,Tabelas!B:D,3,0),0),\"\")","v":0},{"$f":"IF(A38<>\"\",IFERROR(VLOOKUP(S38,Tabelas!B:D,3,0),0),\"\")","v":0},{"$f":"IF(A38<>\"\",IFERROR(VLOOKUP(T38,Tabelas!B:D,3,0),0),\"\")","v":0},{"$f":"IF(A38<>\"\",IFERROR(VLOOKUP(U38,Tabelas!B:D,3,0),0),\"\")","v":0},{"$f":"IF(A38<>\"\",IFERROR(VLOOKUP(V38,Tabelas!B:D,3,0),0),\"\")","v":0},{"$f":"IF(A38<>\"\",IFERROR(VLOOKUP(W38,Tabelas!B:D,3,0),0),\"\")","v":0},{"$f":"IF(A38<>\"\",IFERROR(VLOOKUP(X38,Tabelas!B:D,3,0),0),\"\")","v":0},{"$f":"IF(A38<>\"\",IFERROR(VLOOKUP(Y38,Tabelas!B:D,3,0),0),\"\")","v":0},{"$f":"IF(A38<>\"\",IFERROR(VLOOKUP(Z38,Tabelas!B:D,3,0),0),\"\")","v":0},{"$f":"IF(A38<>\"\",IFERROR(VLOOKUP(AA38,Tabelas!B:D,3,0),0),\"\")","v":0},{"$f":"IF(A38<>\"\",IFERROR(VLOOKUP(AB38,Tabelas!B:D,3,0),0),\"\")","v":0},{"$f":"IF(A38<>\"\",IFERROR(VLOOKUP(AC38,Tabelas!B:D,3,0),0),\"\")","v":0},{"$f":"IF(A38<>\"\",IFERROR(VLOOKUP(AD38,Tabelas!B:D,3,0),0),\"\")","v":0},{"$f":"IF(A38<>\"\",IFERROR(VLOOKUP(AE38,Tabelas!B:D,3,0),0),\"\")","v":0},{"$f":"IF(A38<>\"\",IFERROR(VLOOKUP(AF38,Tabelas!B:D,3,0),0),\"\")","v":0},{"$f":"IF(A38<>\"\",IFERROR(VLOOKUP(AG38,Tabelas!B:D,3,0),0),\"\")","v":0},{"$f":"IF(A38<>\"\",IFERROR(VLOOKUP(AH38,Tabelas!B:D,3,0),0),\"\")","v":0},{"$f":"IF(A38<>\"\",IFERROR(VLOOKUP(AI38,Tabelas!B:D,3,0),0),\"\")","v":0},{"$f":"IF(A38<>\"\",IFERROR(VLOOKUP(AJ38,Tabelas!B:D,3,0),0),\"\")","v":0},{"$f":"IF(A38<>\"\",IFERROR(VLOOKUP(AK38,Tabelas!B:D,3,0),0),\"\")","v":0},{"$f":"IF(A38<>\"\",IFERROR(VLOOKUP(AL38,Tabelas!B:D,3,0),0),\"\")","v":0},{"$f":"IF(A38<>\"\",IFERROR(VLOOKUP(AM38,Tabelas!B:D,3,0),0),\"\")","v":0},{"$f":"IF(A38<>\"\",IFERROR(VLOOKUP(AN38,Tabelas!B:D,3,0),0),\"\")","v":0},{"$f":"IF(A38<>\"\",IFERROR(VLOOKUP(AO38,Tabelas!B:D,3,0),0),\"\")","v":0},{"$f":"IF(A38<>\"\",IFERROR(VLOOKUP(AP38,Tabelas!B:D,3,0),0),\"\")","v":0},{"$f":"IF(A38<>\"\",IFERROR(VLOOKUP(AQ38,Tabelas!B:D,3,0),0),\"\")","v":0}]
[null,null,null,null,null,null,null,null,null,null,null,null,null,null,null,null,null,null,null,null,null,null,null,null,null,null,null,null,null,null,null,null,null,null,null,null,null,null,null,null,null,null,null,{"$f":"IF(A39<>\"\",IFERROR(VLOOKUP(M39,Tabelas!B:D,3,0),0),\"\")","v":""},{"$f":"IF(A39<>\"\",IFERROR(VLOOKUP(N39,Tabelas!B:D,3,0),0),\"\")","v":""},{"$f":"IF(A39<>\"\",IFERROR(VLOOKUP(O39,Tabelas!B:D,3,0),0),\"\")","v":""},{"$f":"IF(A39<>\"\",IFERROR(VLOOKUP(P39,Tabelas!B:D,3,0),0),\"\")","v":""},{"$f":"IF(A39<>\"\",IFERROR(VLOOKUP(Q39,Tabelas!B:D,3,0),0),\"\")","v":""},{"$f":"IF(A39<>\"\",IFERROR(VLOOKUP(R39,Tabelas!B:D,3,0),0),\"\")","v":""},{"$f":"IF(A39<>\"\",IFERROR(VLOOKUP(S39,Tabelas!B:D,3,0),0),\"\")","v":""},{"$f":"IF(A39<>\"\",IFERROR(VLOOKUP(T39,Tabelas!B:D,3,0),0),\"\")","v":""},{"$f":"IF(A39<>\"\",IFERROR(VLOOKUP(U39,Tabelas!B:D,3,0),0),\"\")","v":""},{"$f":"IF(A39<>\"\",IFERROR(VLOOKUP(V39,Tabelas!B:D,3,0),0),\"\")","v":""},{"$f":"IF(A39<>\"\",IFERROR(VLOOKUP(W39,Tabelas!B:D,3,0),0),\"\")","v":""},{"$f":"IF(A39<>\"\",IFERROR(VLOOKUP(X39,Tabelas!B:D,3,0),0),\"\")","v":""},{"$f":"IF(A39<>\"\",IFERROR(VLOOKUP(Y39,Tabelas!B:D,3,0),0),\"\")","v":""},{"$f":"IF(A39<>\"\",IFERROR(VLOOKUP(Z39,Tabelas!B:D,3,0),0),\"\")","v":""},{"$f":"IF(A39<>\"\",IFERROR(VLOOKUP(AA39,Tabelas!B:D,3,0),0),\"\")","v":""},{"$f":"IF(A39<>\"\",IFERROR(VLOOKUP(AB39,Tabelas!B:D,3,0),0),\"\")","v":""},{"$f":"IF(A39<>\"\",IFERROR(VLOOKUP(AC39,Tabelas!B:D,3,0),0),\"\")","v":""},{"$f":"IF(A39<>\"\",IFERROR(VLOOKUP(AD39,Tabelas!B:D,3,0),0),\"\")","v":""},{"$f":"IF(A39<>\"\",IFERROR(VLOOKUP(AE39,Tabelas!B:D,3,0),0),\"\")","v":""},{"$f":"IF(A39<>\"\",IFERROR(VLOOKUP(AF39,Tabelas!B:D,3,0),0),\"\")","v":""},{"$f":"IF(A39<>\"\",IFERROR(VLOOKUP(AG39,Tabelas!B:D,3,0),0),\"\")","v":""},{"$f":"IF(A39<>\"\",IFERROR(VLOOKUP(AH39,Tabelas!B:D,3,0),0),\"\")","v":""},{"$f":"IF(A39<>\"\",IFERROR(VLOOKUP(AI39,Tabelas!B:D,3,0),0),\"\")","v":""},{"$f":"IF(A39<>\"\",IFERROR(VLOOKUP(AJ39,Tabelas!B:D,3,0),0),\"\")","v":""},{"$f":"IF(A39<>\"\",IFERROR(VLOOKUP(AK39,Tabelas!B:D,3,0),0),\"\")","v":""},{"$f":"IF(A39<>\"\",IFERROR(VLOOKUP(AL39,Tabelas!B:D,3,0),0),\"\")","v":""},{"$f":"IF(A39<>\"\",IFERROR(VLOOKUP(AM39,Tabelas!B:D,3,0),0),\"\")","v":""},{"$f":"IF(A39<>\"\",IFERROR(VLOOKUP(AN39,Tabelas!B:D,3,0),0),\"\")","v":""},{"$f":"IF(A39<>\"\",IFERROR(VLOOKUP(AO39,Tabelas!B:D,3,0),0),\"\")","v":""},{"$f":"IF(A39<>\"\",IFERROR(VLOOKUP(AP39,Tabelas!B:D,3,0),0),\"\")","v":""},{"$f":"IF(A39<>\"\",IFERROR(VLOOKUP(AQ39,Tabelas!B:D,3,0),0),\"\")","v":""}]
["Legenda:"]
["Licença Maternidade","LM","Férias",null,null,null,null,null,null,"FE",null,"Ponto Facultativo",null,null,null,null,null,null,null,"PF","Manhã *",null,null,null,null,null,null,"M","Diurno (8 hrs) *",null,null,null,null,null,null,"MT"]
["Licença Paternidade","LP","Feriado",null,null,null,null,null,null,"FD",null,"Abono **",null,null,null,null,null,null,null,"AB","Tarde *",null,null,null,null,null,null,"T","Dia/ noite (24 hrs) *",null,null,null,null,null,null,"DN"]
["Licença Médica/Odontológica","L","Descanso Semanal Remunerado",null,null,null,null,null,null,"DSR",null,"Compensação de Horas",null,null,null,null,null,null,null,"CH","Plantão Dia (12 hrs) *",null,null,null,null,null,null,"D"]
["Licença Capacitação","LC","Recesso",null,null,null,null,null,null,"RC",null,"Afastamento**",null,null,null,null,null,null,null,"AF","Plantão Noite (12 hrs) *",null,null,null,null,null,null,"N"]
[]
[]
[]
[]
[]
["OBSERVAÇÕES:"]
["* Para inserção das legendas referentes às jornadas de trabalho, verificar a Tabela 1 do Anexo 12629162 do Ofício-Circular - SEI nº 9/2021/SDR/CAP/DGP-EBSERH."]
["** Para inserção das legendas referentes aos Afastamentos previstos em lei e às Compensações de horas, verificar a Tabela 2 do Anexo 12629162 do Ofício-Circular - SEI nº 9/2021/SDR/CAP/DGP-EBSERH."]

{"sheet":"Tabelas","index":12,"n_rows":129,"n_cols":18,"rows_kept":129,"cut":false,"hidden":true,"merged":[[0,15,0,17],[78,0,128,0],[1,0,77,0],[1,17,14,17],[15,17,21,17],[34,17,39,17],[22,17,33,17],[1,16,4,16],[5,16,10,16],[11,16,14,16],[22,16,28,16],[29,16,33,16]]}
[null,"Legenda","Descrição","CH",null,null,"Ebserh",null,"Dias da Semana",null,null,"Ano","Mês",null,null,"Intervalos"]
["Turno de Trabalho",null,null,null,null,null,"RJU",null,1,"DOM",null,2016,"Janeiro",1,null,25,"M","15 MINUTOS"]
[null,"M8","Matutino 04h",4,null,null,null,null,2,"SEG",null,2017,"Fevereiro",2,null,26]
[null,"M9","Matutino 04h",4,null,null,null,null,3,"TER",null,2018,"Março",3,null,27]
[null,"M10","Matutino 04h",4,null,null,null,null,4,"QUA",null,2019,"Abril",4,null,28]
[null,"M11","Matutino 04h",4,null,null,null,null,5,"QUI",null,2020,"Maio",5,null,29,"T"]
[null,"M12","Matutino 04h",4,null,null,null,null,6,"SEX",null,2021,"Junho",6,null,30]
[null,"M13","Matutino 06h",6,null,null,null,null,7,"SAB",null,2022,"Julho",7,null,31]
[null,"M14","Matutino 06h",6,null,null,null,null,null,null,null,2023,"Agosto",8,null,32]
[null,"M15","Matutino 06h",6,null,null,null,null,null,null,null,2024,"Setembro",9,null,33]
[null,"M16","Matutino 06h",6,null,null,null,null,null,null,null,2025,"Outubro",10,null,34]
[null,"M17","Matutino 06h",6,null,null,null,null,null,null,null,null,"Novembro",11,null,35,"N"]
[null,"M18","Matutino 06h",6,null,null,null,null,null,null,null,null,"Dezembro",12,null,36]
[null,null,null,null,null,null,null,null,null,null,null,null,null,null,null,37]
[null,"T9","Vespertino 04h",4,null,null,null,null,null,null,null,null,null,null,null,38]
[null,"T10","Vespertino 04h",4,null,null,null,null,null,null,null,null,null,null,null,39,null,"30 MINUTOS"]
[null,"T11","Vespertino 04h",4,null,null,null,null,null,null,null,null,null,null,null,40]
[null,"T12","Vespertino 04h",4,null,null,null,null,null,null,null,null,null,null,null,41]
[null,"T13","Vespertino 06h",6,null,null,null,null,null,null,null,null,null,null,null,42]
[null,"T14","Vespertino 06h",6,null,null,null,null,null,null,null,null,null,null,null,43]
[null,"T15","Vespertino 06h",6,null,null,null,null,null,null,null,null,null,null,null,44]
[null,"T16","Vespertino 06h",6,null,null,null,null,null,null,null,null,null,null,null,45]
[null,"T17","Vespertino 06h",6,null,null,null,null,null,null,null,null,null,null,null,46,"D","01 H DIA/NOITE "]
[null,"T18","Vespertino 06h",6,null,null,null,null,null,null,null,null,null,null,null,47]
[null,"T19","Vespertino 06h",6,null,null,null,null,null,null,null,null,null,null,null,48]
[null,null,null,null,null,null,null,null,null,null,null,null,null,null,null,49]
[null,"MT15","Diurno 08h",8,null,null,null,null,null,null,null,null,null,null,null,50]
[null,"MT16","Diurno 08h",8,null,null,null,null,null,null,null,null,null,null,null,51]
[null,"MT17","Diurno 08h",8,null,null,null,null,null,null,null,null,null,null,null,52]
[null,"MT18","Diurno 08h",8,null,null,null,null,null,null,null,null,null,null,null,53,"N"]
[null,"MT19","Diurno 08h",8,null,null,null,null,null,null,null,null,null,null,null,54]
[null,"MT20","Diurno 08h",8,null,null,null,null,null,null,null,null,null,null,null,55]
[null,"MT21","Diurno 08h",8,null,null,null,null,null,null,null,null,null,null,null,56]
[null,"MT22","Diurno 08h",8,null,null,null,null,null,null,null,null,null,null,null,57]
[null,"MT23","Diurno 08h",8,null,null,null,null,null,null,null,null,null,null,null,58,null,"02 H"]
[null,"MT24","Diurno 08h",8,null,null,null,null,null,null,null,null,null,null,null,59]
[null,"MT25","Diurno 08h",8,null,null,null,null,null,null,null,null,null,null,null,60]
[null,"MT26","Diurno 08h",8,null,null,null,null,null,null,null,null,null,null,null,61]
[null,"MT27","Diurno 08h",8,null,null,null,null,null,null,null,null,null,null,null,62]
[null,"MT28","Diurno 08h",8,null,null,null,null,null,null,null,null,null,null,null,63]
[null,"MT29","Diurno 08h",8]
[null,"MT30","Diurno 08h",8]
[null,"MT31","Diurno 08h",8]
[null,"MT32","Diurno 08h",8]
[null,"MT33","Diurno 08h",8]
[null,"MT34","Diurno 08h",8]
[null,"MT35","Diurno 08h",8]
[null,"MT36","Diurno 08h",8]
[null,"MT37","Diurno 08h",8]
[null,"MT38","Diurno 08h",8]
[null,"MT39","Diurno 08h",8]
[null,"MT40","Diurno 08h",8]
[null,"MT41","Diurno 08h",8]
[null,"MT42","Diurno 08h",8]
[null,"MT43","Diurno 08h",8]
[]
[null,"TN1","Diurno 08h",8]
[]
[null,"N5","Noturno 12h",6]
[null,"N6","Noturno 12h",12]
[null,"N7","Noturno 12h",12]
[null,"N8","Noturno 12h",12]
[null,"N9","Noturno 12h",12]
[null,"N10","Noturno 12h",12]
[null,"N11","Noturno 4h",4]
[]
[null,"D5","Diurno 12h",12]
[null,"D6","Diurno 12h",12]
[null,"D7","Diurno 12h",12]
[null,"D8","Diurno 12h",12]
[null,"D9","Diurno 12h",12]
[null,"D10","Diurno 12h",12]
[null,"D11","Diurno 12h",12]
[]
[null,"DN4","Diurno/Noturno -24H",24]
[null,"DN5","Diurno/Noturno -24H",24]
[null,"DN6","Diurno/Noturno -24H",24]
[]
["Afastamentos legais e compensação de horas","DSR","Descanso Semanal Remunerado",0]
[null,"FE0","Férias para Jornada de 0 horas",0]
[null,"FE4","Férias para Jornada de 4 horas",4]
[null,"FE6","Férias para Jornada de 6 horas",6]
[null,"FE8","Férias para Jornada de 8 horas",8]
[null,"FE12","Férias para Jornada de 12 horas",12]
[null,"FE24","Férias para Jornada de 24 horas",24]
[null,"FD","Feriado",0]
[null,"CH+4","Compensação de horas faltas",4]
[null,"CH+6","Compensação de horas faltas",6]
[null,"CH+8","Compensação de horas faltas",8]
[null,"CH+12","Compensação de horas faltas",12]
[null,"CH+24","Compensação de horas faltas",24]
[null,"CH-4","Compensação de horas excedentes",4]
[null,"CH-6","Compensação de horas excedentes",6]
[null,"CH-8","Compensação de horas excedentes",8]
[null,"CH-12","Compensação de horas excedentes",12]
[null,"CH-24","Compensação de horas excedentes",24]
[null,"AB4","Abono ACT",4]
[null,"AB6","Abono ACT",6]
[null,"AB8","Abono ACT",8]
[null,"AB12","Abono ACT",12]
[null,"AB24","Abono ACT",24]
[null,"L4","Licença Médica e Odontológica",4]
[null,"L6","Licença Médica e Odontológica",6]
[null,"L8","Licença Médica e Odontológica",8]
[null,"L12","Licença Médica e Odontológica",12]
[null,"L24","Licença Médica e Odontológica",24]
[null,"LM4","Licença-Maternidade",4]
[null,"LM6","Licença-Maternidade",6]
[null,"LM8","Licença-Maternidade",8]
[null,"LP4","Licença-Paternidade",4]
[null,"LP6","Licença-Paternidade",6]
[null,"LP8","Licença-Paternidade",8]
[null,"LC","Licença para Capacitação",0]
[null,"RC","Recesso",0]
[null,"PF","Ponto Facultativo",0]
[null,"AF1","Licença por acidente de trabalho",0]
[null,"AF2","Licença gala de 8 (oito) dias consecutivos a contar da data do casamento, ou da data do registro, em cartório, da União Estável",0]
[null,"AF3","Licença por morte de familiar",0]
[null,"AF4","Licença sem remuneração para tratar de interesse particular",0]
[null,"AF5","Licença para acompanhamento de familiar, filhos menores ou pais maiores de 60 (sessenta) anos",0]
[null,"AF6","Licença para exercício de mandato de cargo de direção em entidade Sindical representativa dos empregados da EBSERH (art.543, parágrafo 2º da CLT)",0]
[null,"AF7","Licença para atividade política (Lei 7.664/88, artigo 25)",0]
[null,"AF8","Doação de sangue por um dia em cada seis meses de trabalho",0]
[null,"AF9","Alistamento eleitoral, até 2 (dois) dias, consecutivos ou não",0]
[null,"AF10","Depoimento em inquérito policial ou processo judicial",0]
[null,"AF11","Convocação para o Júri, funções da Justiça Eleitoral desde que amparada em lei, apresentação militar e outros serviços legalmente obrigatórios",0]
[null,"AF12","Realização de provas de exame vestibular",0]
[null,"AF13","Participação em reuniões da Comissão de Negociação",0]
[null,"AF14","Outras ausências permitidas por Lei ou em razão de Acordo ou Convenção Coletiva",0]