{"text_format":"1","workbook":"xlsx","n_sheets":7,"sheets":["BP","DFC","DR","DRA","DVA","DMPL","--"],"not_rendered":{"charts":0,"images":0,"macros":1,"external_links":0,"defined_names":2,"comments":0,"pivot_tables":0},"unopened":[],"bounds":{"document_bytes":16777216,"sheet_cells":100000,"rows_first":2000,"rows_last":500,"rows_between":2000,"halvings":0,"cell_chars":16384,"cell_head_chars":4096},"cells_cut":0,"cells_raw":0,"read":"whole","date_system":"1900"}

{"sheet":"BP","index":0,"n_rows":56,"n_cols":8,"rows_kept":56,"cut":false,"hidden":false,"merged":[[0,1,0,7],[3,1,3,4],[1,6,1,7],[29,6,29,7]]}
[null,"EBSERH - EMPRESA BRASILEIRA DE SERVIÇOS HOSPITALARES"]
[null,"Balanço Patrimonial Consolidado ",null,null,null,null,"31 de dezembro de 2022"]
[null,"Em reais"]
[null,"ATIVO ",null,null,null,"NOTA","31.12.2022","31.12.2021"]
[null,"CIRCULANTE",null,null,null,"1.1",1690017716.3299999,1347106009.1400001]
[null,null,"Caixa e Equivalentes de Caixa",null,null,"1.1.1",1147824718.5,885657238.94000006]
[null,null,"Valores a Curto Prazo - SUS",null,null,"1.1.2",8965001.6699999999,4759346.75]
[null,null,"Subvenção de Custeio SUS a Receber",null,null,null,0,0]
[null,null,"Adiantamentos e Créditos a Receber",null,null,"1.1.3",144727860.81999996,41885310.209999993]
[null,null,"Estoques",null,null,"1.1.4",388500135.33999997,414804113.24000001]
[null,"NÃO CIRCULANTE",null,null,null,"1.2",848677488.51999986,703760365.91991401]
[null,null,"Valores a Longo Prazo - SUS",null,null,"1.2.1",9147438.9900000002,9148070.5899999999]
[null,null,"Depósitos Judiciais",null,null,"1.2.2",29822559.25,20014167.16]
[null,null,"Outras Despesas Antecipadas",null,null,"1.2.2","Fora do Siafi","Fora do Siafi"]
[null,null,"Imobilizado",null,null,"1.2.3",748290924.18999982,537676315.82000005]
[null,null,null,"Bens Móveis",null,"1.2.3.1",786521764.0999999,599223984.51000011]
[null,null,null,null,"Depreciação Bens Móveis","1.2.3.3",-177100098.25,-130063016.56]
[null,null,null,null,"Redução a Valor Recup. De Imobilizado","1.2.4",-7241668.4900000002,-6060015.7199999997]
[null,null,null,"Bens Imóveis",null,"1.2.3.2",146220362.15000001,74954251.829999998]
[null,null,null,null,"Depreciação Bens Imóveis","1.2.3.3",-109435.32,-378888.24]
[null,null,"Intangível",null,null,"1.2.5",61416566.089999996,136921812.34991401]
[null,null,null,"Direito de Uso de Bens",null,"1.2.5",25483770.469999999,99222614.189914003]
[null,null,null,"Softwares",null,"1.2.5",58212066.440000005,54634975.099999994]
[null,null,null,"Amortização Bens Intangíveis",null,"1.2.5",-19624127.82,-14255260.529999999]
[null,null,null,"Redução a Valor Recup. De Intangível",null,"1.2.5",-2655143,-2680516.41]
[null,"TOTAL DO ATIVO",null,null,null,null,2538695204.8499999,2050866375.0599141]
[null,"As notas explicativas da Administração são parte integrante das Demonstrações Contábeis "]
[]
[null,"EBSERH - EMPRESA BRASILEIRA DE SERVIÇOS HOSPITALARES"]
[null,"Balanço Patrimonial Consolidado ",null,null,null,null,"31 de dezembro de 2022"]
[null,"Em reais"]
[null,"PASSIVO",null,null,null,"NOTA","31.12.2022","31.12.2021"]
[null,"CIRCULANTE",null,null,null,"2.1",1612928249.5599999,1789027555.6971855]
[null,null,"Obrigações Trabalhistas a Pagar",null,null,"2.1.1",1387474902.1900003,733784198.83000004]
[null,null,"Fornecedores e Contas a Pagar a Curto Prazo",null,null,"2.1.2",130073647.11,58479165.649999999]
[null,null,"Retenções de Impostos, Contribuições",null,null,"2.1.3",40156363.789999999,37005261.619999997]
[null,null,"Obrigações Transitórias a Curto Prazo",null,null,"2.1.4",43601569.619999997,70087014.027185664]
[null,null,"Arrendamento Curto Prazo",null,null,"2.1.5",11621766.85,0]
[null,null,"Subvenção a Realizar",null,null,"2.1.6",0,889671915.56999993]
[null,"NÃO CIRCULANTE",null,null,null,"2.2",1202853597.8599999,313081823.45272833]
[null,null,"Receita Diferida (Subvenções)",null,null,"2.2.1",740227444.60000002,0]
[null,null,"Arrendamento Longo Prazo",null,null,"2.2.2",13862003.619999999,54240754.132728323]
[null,null,"Contingência para Indenizações Trabalhistas",null,null,"2.3",400823173.83999997,225268752.13]
[null,null,"Contingência para Indenizações Cíveis",null,null,"2.3",47940975.799999997,33572317.189999998]
[null,null,"Adiantamento Para Futuro Aumento de Capital - AFAC",null,null,"2.4",0,0]
[null,"PATRIMÔNIO LÍQUIDO",null,null,null,"2.4",-277086642.56999612,-51243004.090001345]
[null,null,"Capital Social Realizado",null,null,"2.4.1",681560045.65999997,562503264.72000003]
[null,null,"Adiantamento Para Futuro Aumento de Capital - AFAC",null,null,"2.4.2",243593865.38999999,133905374.31]
[null,null,"Ajustes de Avaliação Patrimonial de Ativos",null,null,null,0,0]
[null,null,"Prejuízos Acumulados",null,null,"2.4.3",-1202240553.6199961,-747651643.12000132]
[null,null,null,"Prejuizos Acumulados de Exer. Anteriores",null,"2.4.3",-747651643.12,-529544354.01999998]
[null,null,null,"Ajustes de Exercícios Anteriores",null,"2.4.3",null,0]
[null,null,null,"Resultado do Exercício",null,"2.4.3",-454588910.49999619,-218107289.10000134]
[null,"TOTAL DO PASSIVO",null,null,null,null,2538695204.8500042,2050866375.0599124]
[null,"As notas explicativas da Administração são parte integrante das Demonstrações Contábeis "]
[null,null,null,null,null,null,{"$f":"G54-G26","v":4.291534423828125E-6},{"$f":"H54-H26","v":0}]

{"sheet":"DFC","index":1,"n_rows":56,"n_cols":12,"rows_kept":56,"cut":false,"hidden":false,"merged":[[0,0,0,6],[1,9,1,10],[0,8,0,10]]}
["Organizador de DFC",null,null,null,null,null,null,null,"EBSERH - EMPRESA BRASILEIRA DE SERVIÇOS HOSPITALARES"]
["Grupo","Conta Contábil","Valor Fechamento","Valor anterior","Análise","Regra","Δ Variação",null,"Demonstração do Fluxo de Caixa - Método Indireto","31 de dezembro de 2022"]
[null,null,null,null,null,null,null,null,"Em reais"]
["Passivo-C","Resultado do Exercício",{"$f":"IFERROR(IFERROR(IFERROR(INDEX(BP!B:H,MATCH(B4,BP!C:C,0),6),INDEX(BP!B:H,MATCH(B4,BP!D:D,0),6)),INDEX(BP!B:H,MATCH(B4,BP!E:E,0),6)),\"\")","v":-454588910.49999619},{"$f":"IFERROR(IFERROR(IFERROR(INDEX(BP!B:H,MATCH(B4,BP!C:C,0),7),INDEX(BP!B:H,MATCH(B4,BP!D:D,0),7)),INDEX(BP!B:H,MATCH(B4,BP!E:E,0),7)),\"\")","v":-218107289.10000134},{"$f":"IF(A4=\"\",\"\",IF(C4>D4,\"Aumento em\",\"Redução em\"))","v":"Redução em"},{"$f":"IF(A4=\"\",\"\",IF(AND(LEFT(A4,5)=\"Ativo\",C4>D4),\"(-)\",IF(AND(LEFT(A4,5)=\"Ativo\",C4<D4),\"(+)\",IF(AND(LEFT(A4,7)=\"Passivo\",C4>D4),\"(+)\",IF(AND(LEFT(A4,7)=\"Passivo\",C4<D4),\"(-)\",\"-\")))))","v":"(-)"},{"$f":"IFERROR(IF(C4-D4>=0,C4-D4,(C4-D4)*-1),\"\")","v":236481621.39999485},null,"DESCRIÇÃO"," 01.01.2022                          a                        31.12.2022"," 01.01.2021                          a                        31.12.2021"]
[{"$f":"IF(LEFT(#REF!,7)=\"Despesa\",\"\",IF(LEFT(#REF!,7)=\"Receita\",\"\",#REF!))","v":{"$error":"#REF!"}},{"$f":"IF(LEFT(A5,7)=\"Despesa\",\"\",IF(LEFT(A5,7)=\"Receita\",\"\",IF(A5=\"\",\"\",#REF!)))","v":{"$error":"#REF!"}},{"$f":"IFERROR(IFERROR(IFERROR(INDEX(BP!B:H,MATCH(B5,BP!C:C,0),6),INDEX(BP!B:H,MATCH(B5,BP!D:D,0),6)),INDEX(BP!B:H,MATCH(B5,BP!E:E,0),6)),\"\")","v":""},{"$f":"IFERROR(IFERROR(IFERROR(INDEX(BP!B:H,MATCH(B5,BP!C:C,0),7),INDEX(BP!B:H,MATCH(B5,BP!D:D,0),7)),INDEX(BP!B:H,MATCH(B5,BP!E:E,0),7)),\"\")","v":""},{"$f":"IF(A5=\"\",\"\",IF(C5>D5,\"Aumento em\",\"Redução em\"))","v":{"$error":"#REF!"}},{"$error":"#REF!"},{"$f":"IFERROR(IF(C5-D5>=0,C5-D5,(C5-D5)*-1),\"\")","v":""},null,"FLUXO DE CAIXA DAS ATIVIDADES OPERACIONAIS",null,"(Reapresentado, vide Nota c)"]
[{"$f":"IF(LEFT(#REF!,7)=\"Despesa\",\"\",IF(LEFT(#REF!,7)=\"Receita\",\"\",#REF!))","v":{"$error":"#REF!"}},{"$f":"IF(LEFT(A6,7)=\"Despesa\",\"\",IF(LEFT(A6,7)=\"Receita\",\"\",IF(A6=\"\",\"\",#REF!)))","v":{"$error":"#REF!"}},{"$f":"IFERROR(IFERROR(IFERROR(INDEX(BP!B:H,MATCH(B6,BP!C:C,0),6),INDEX(BP!B:H,MATCH(B6,BP!D:D,0),6)),INDEX(BP!B:H,MATCH(B6,BP!E:E,0),6)),\"\")","v":""},{"$f":"IFERROR(IFERROR(IFERROR(INDEX(BP!B:H,MATCH(B6,BP!C:C,0),7),INDEX(BP!B:H,MATCH(B6,BP!D:D,0),7)),INDEX(BP!B:H,MATCH(B6,BP!E:E,0),7)),\"\")","v":""},{"$f":"IF(A6=\"\",\"\",IF(C6>D6,\"Aumento em\",\"Redução em\"))","v":{"$error":"#REF!"}},{"$error":"#REF!"},{"$f":"IF(F6=\"(-)\",IFERROR(IF(C6-D6>=0,C6-D6,(C6-D6)*-1),\"\")*-1,IFERROR(IF(C6-D6>=0,C6-D6,(C6-D6)*-1),\"\"))","v":{"$error":"#REF!"}},null,"Resultado do Exercício",-454588910.49999619,-218107289.09999999]
[{"$f":"IF(LEFT(#REF!,7)=\"Despesa\",\"\",IF(LEFT(#REF!,7)=\"Receita\",\"\",#REF!))","v":{"$error":"#REF!"}},{"$f":"IF(LEFT(A7,7)=\"Despesa\",\"\",IF(LEFT(A7,7)=\"Receita\",\"\",IF(A7=\"\",\"\",#REF!)))","v":{"$error":"#REF!"}},{"$f":"IFERROR(IFERROR(IFERROR(INDEX(BP!B:H,MATCH(B7,BP!C:C,0),6),INDEX(BP!B:H,MATCH(B7,BP!D:D,0),6)),INDEX(BP!B:H,MATCH(B7,BP!E:E,0),6)),\"\")","v":""},{"$f":"IFERROR(IFERROR(IFERROR(INDEX(BP!B:H,MATCH(B7,BP!C:C,0),7),INDEX(BP!B:H,MATCH(B7,BP!D:D,0),7)),INDEX(BP!B:H,MATCH(B7,BP!E:E,0),7)),\"\")","v":""},{"$f":"IF(A7=\"\",\"\",IF(C7>D7,\"Aumento em\",\"Redução em\"))","v":{"$error":"#REF!"}},{"$f":"IF(A7=\"\",\"\",IF(AND(LEFT(A7,5)=\"Ativo\",C7>D7),\"(-)\",IF(AND(LEFT(A7,5)=\"Ativo\",C7<D7),\"(+)\",IF(AND(LEFT(A7,7)=\"Passivo\",C7>D7),\"(+)\",IF(AND(LEFT(A7,7)=\"Passivo\",C7<D7),\"(-)\",\"-\")))))","v":{"$error":"#REF!"}},{"$f":"IF(F7=\"(-)\",IFERROR(IF(C7-D7>=0,C7-D7,(C7-D7)*-1),\"\")*-1,IFERROR(IF(C7-D7>=0,C7-D7,(C7-D7)*-1),\"\"))","v":{"$error":"#REF!"}},null,"Ajustes de Exercícios Anteriores",null,0]
[{"$f":"IF(LEFT(#REF!,7)=\"Despesa\",\"\",IF(LEFT(#REF!,7)=\"Receita\",\"\",#REF!))","v":{"$error":"#REF!"}},{"$f":"IF(LEFT(A8,7)=\"Despesa\",\"\",IF(LEFT(A8,7)=\"Receita\",\"\",IF(A8=\"\",\"\",#REF!)))","v":{"$error":"#REF!"}},{"$f":"IFERROR(IFERROR(IFERROR(INDEX(BP!B:H,MATCH(B8,BP!C:C,0),6),INDEX(BP!B:H,MATCH(B8,BP!D:D,0),6)),INDEX(BP!B:H,MATCH(B8,BP!E:E,0),6)),\"\")","v":""},{"$f":"IFERROR(IFERROR(IFERROR(INDEX(BP!B:H,MATCH(B8,BP!C:C,0),7),INDEX(BP!B:H,MATCH(B8,BP!D:D,0),7)),INDEX(BP!B:H,MATCH(B8,BP!E:E,0),7)),\"\")","v":""},{"$error":"#REF!"},{"$error":"#REF!"},{"$error":"#REF!"},null,"Depreciação e Amortização",52136496.05999998,42143083.409999996]
[{"$f":"IF(LEFT(#REF!,7)=\"Despesa\",\"\",IF(LEFT(#REF!,7)=\"Receita\",\"\",#REF!))","v":{"$error":"#REF!"}},{"$f":"IF(LEFT(A9,7)=\"Despesa\",\"\",IF(LEFT(A9,7)=\"Receita\",\"\",IF(A9=\"\",\"\",#REF!)))","v":{"$error":"#REF!"}},{"$f":"IFERROR(IFERROR(IFERROR(INDEX(BP!B:H,MATCH(B9,BP!C:C,0),6),INDEX(BP!B:H,MATCH(B9,BP!D:D,0),6)),INDEX(BP!B:H,MATCH(B9,BP!E:E,0),6)),\"\")","v":""},{"$f":"IFERROR(IFERROR(IFERROR(INDEX(BP!B:H,MATCH(B9,BP!C:C,0),7),INDEX(BP!B:H,MATCH(B9,BP!D:D,0),7)),INDEX(BP!B:H,MATCH(B9,BP!E:E,0),7)),\"\")","v":""},{"$error":"#REF!"},{"$error":"#REF!"},{"$error":"#REF!"},null,"Redução a Valor Recuperável - Intangível",-25373.410000000149,0]
[{"$f":"IF(LEFT(#REF!,7)=\"Despesa\",\"\",IF(LEFT(#REF!,7)=\"Receita\",\"\",#REF!))","v":{"$error":"#REF!"}},{"$f":"IF(LEFT(A10,7)=\"Despesa\",\"\",IF(LEFT(A10,7)=\"Receita\",\"\",IF(A10=\"\",\"\",#REF!)))","v":{"$error":"#REF!"}},{"$f":"IFERROR(IFERROR(IFERROR(INDEX(BP!B:H,MATCH(B10,BP!C:C,0),6),INDEX(BP!B:H,MATCH(B10,BP!D:D,0),6)),INDEX(BP!B:H,MATCH(B10,BP!E:E,0),6)),\"\")","v":""},{"$f":"IFERROR(IFERROR(IFERROR(INDEX(BP!B:H,MATCH(B10,BP!C:C,0),7),INDEX(BP!B:H,MATCH(B10,BP!D:D,0),7)),INDEX(BP!B:H,MATCH(B10,BP!E:E,0),7)),\"\")","v":""},{"$error":"#REF!"},{"$error":"#REF!"},{"$error":"#REF!"},null,"Redução a Valor Recuperável - Imobilizado",1181652.7700000005,-105863.92]
[{"$f":"IF(LEFT(#REF!,7)=\"Despesa\",\"\",IF(LEFT(#REF!,7)=\"Receita\",\"\",#REF!))","v":{"$error":"#REF!"}},{"$f":"IF(LEFT(A11,7)=\"Despesa\",\"\",IF(LEFT(A11,7)=\"Receita\",\"\",IF(A11=\"\",\"\",#REF!)))","v":{"$error":"#REF!"}},{"$f":"IFERROR(IFERROR(IFERROR(INDEX(BP!B:H,MATCH(B11,BP!C:C,0),6),INDEX(BP!B:H,MATCH(B11,BP!D:D,0),6)),INDEX(BP!B:H,MATCH(B11,BP!E:E,0),6)),\"\")","v":""},{"$f":"IFERROR(IFERROR(IFERROR(INDEX(BP!B:H,MATCH(B11,BP!C:C,0),7),INDEX(BP!B:H,MATCH(B11,BP!D:D,0),7)),INDEX(BP!B:H,MATCH(B11,BP!E:E,0),7)),\"\")","v":""},{"$f":"IF(A11=\"\",\"\",IF(C11>D11,\"Aumento em\",\"Redução em\"))","v":{"$error":"#REF!"}},{"$f":"IF(A11=\"\",\"\",IF(AND(LEFT(A11,5)=\"Ativo\",C11>D11),\"(-)\",IF(AND(LEFT(A11,5)=\"Ativo\",C11<D11),\"(+)\",IF(AND(LEFT(A11,7)=\"Passivo\",C11>D11),\"(+)\",IF(AND(LEFT(A11,7)=\"Passivo\",C11<D11),\"(-)\",\"-\")))))","v":{"$error":"#REF!"}},{"$f":"IF(F11=\"(-)\",IFERROR(IF(C11-D11>=0,C11-D11,(C11-D11)*-1),\"\")*-1,IFERROR(IF(C11-D11>=0,C11-D11,(C11-D11)*-1),\"\"))","v":{"$error":"#REF!"}},null,"Resultado do Exercício Ajustado",-401296135.07999623,-176070069.60999998]
[{"$f":"IF(LEFT(#REF!,7)=\"Despesa\",\"\",IF(LEFT(#REF!,7)=\"Receita\",\"\",#REF!))","v":{"$error":"#REF!"}},{"$f":"IF(LEFT(A12,7)=\"Despesa\",\"\",IF(LEFT(A12,7)=\"Receita\",\"\",IF(A12=\"\",\"\",#REF!)))","v":{"$error":"#REF!"}},{"$f":"IFERROR(IFERROR(IFERROR(INDEX(BP!B:H,MATCH(B12,BP!C:C,0),6),INDEX(BP!B:H,MATCH(B12,BP!D:D,0),6)),INDEX(BP!B:H,MATCH(B12,BP!E:E,0),6)),\"\")","v":""},{"$f":"IFERROR(IFERROR(IFERROR(INDEX(BP!B:H,MATCH(B12,BP!C:C,0),7),INDEX(BP!B:H,MATCH(B12,BP!D:D,0),7)),INDEX(BP!B:H,MATCH(B12,BP!E:E,0),7)),\"\")","v":""},{"$error":"#REF!"},{"$error":"#REF!"},{"$error":"#REF!"}]
[{"$f":"IF(LEFT(#REF!,7)=\"Despesa\",\"\",IF(LEFT(#REF!,7)=\"Receita\",\"\",#REF!))","v":{"$error":"#REF!"}},{"$f":"IF(LEFT(A13,7)=\"Despesa\",\"\",IF(LEFT(A13,7)=\"Receita\",\"\",IF(A13=\"\",\"\",#REF!)))","v":{"$error":"#REF!"}},{"$f":"IFERROR(IFERROR(IFERROR(INDEX(BP!B:H,MATCH(B13,BP!C:C,0),6),INDEX(BP!B:H,MATCH(B13,BP!D:D,0),6)),INDEX(BP!B:H,MATCH(B13,BP!E:E,0),6)),\"\")","v":""},{"$f":"IFERROR(IFERROR(IFERROR(INDEX(BP!B:H,MATCH(B13,BP!C:C,0),7),INDEX(BP!B:H,MATCH(B13,BP!D:D,0),7)),INDEX(BP!B:H,MATCH(B13,BP!E:E,0),7)),\"\")","v":""},{"$error":"#REF!"},{"$error":"#REF!"},{"$error":"#REF!"},null,"Variações Patrimoniais",651877463.81281471,462412551.02999997]
[{"$f":"IF(LEFT(#REF!,7)=\"Despesa\",\"\",IF(LEFT(#REF!,7)=\"Receita\",\"\",#REF!))","v":{"$error":"#REF!"}},{"$f":"IF(LEFT(A14,7)=\"Despesa\",\"\",IF(LEFT(A14,7)=\"Receita\",\"\",IF(A14=\"\",\"\",#REF!)))","v":{"$error":"#REF!"}},{"$f":"IFERROR(IFERROR(IFERROR(INDEX(BP!B:H,MATCH(B14,BP!C:C,0),6),INDEX(BP!B:H,MATCH(B14,BP!D:D,0),6)),INDEX(BP!B:H,MATCH(B14,BP!E:E,0),6)),\"\")","v":""},{"$f":"IFERROR(IFERROR(IFERROR(INDEX(BP!B:H,MATCH(B14,BP!C:C,0),7),INDEX(BP!B:H,MATCH(B14,BP!D:D,0),7)),INDEX(BP!B:H,MATCH(B14,BP!E:E,0),7)),\"\")","v":""},{"$error":"#REF!"},{"$error":"#REF!"},{"$error":"#REF!"},null,"Aumento/Redução Valores a Curto Prazo - SUS",-4205654.92,30252569.379999999]
[{"$f":"IF(LEFT(#REF!,7)=\"Despesa\",\"\",IF(LEFT(#REF!,7)=\"Receita\",\"\",#REF!))","v":{"$error":"#REF!"}},{"$f":"IF(LEFT(A15,7)=\"Despesa\",\"\",IF(LEFT(A15,7)=\"Receita\",\"\",IF(A15=\"\",\"\",#REF!)))","v":{"$error":"#REF!"}},{"$f":"IFERROR(IFERROR(IFERROR(INDEX(BP!B:H,MATCH(B15,BP!C:C,0),6),INDEX(BP!B:H,MATCH(B15,BP!D:D,0),6)),INDEX(BP!B:H,MATCH(B15,BP!E:E,0),6)),\"\")","v":""},{"$f":"IFERROR(IFERROR(IFERROR(INDEX(BP!B:H,MATCH(B15,BP!C:C,0),7),INDEX(BP!B:H,MATCH(B15,BP!D:D,0),7)),INDEX(BP!B:H,MATCH(B15,BP!E:E,0),7)),\"\")","v":""},{"$error":"#REF!"},{"$error":"#REF!"},{"$error":"#REF!"},null,"Aumento Adiantamentos e Créditos a Receber",-102842550.60999997,-24652268.890000001]
[{"$f":"IF(LEFT(#REF!,7)=\"Despesa\",\"\",IF(LEFT(#REF!,7)=\"Receita\",\"\",#REF!))","v":{"$error":"#REF!"}},{"$f":"IF(LEFT(A16,7)=\"Despesa\",\"\",IF(LEFT(A16,7)=\"Receita\",\"\",IF(A16=\"\",\"\",#REF!)))","v":{"$error":"#REF!"}},{"$f":"IFERROR(IFERROR(IFERROR(INDEX(BP!B:H,MATCH(B16,BP!C:C,0),6),INDEX(BP!B:H,MATCH(B16,BP!D:D,0),6)),INDEX(BP!B:H,MATCH(B16,BP!E:E,0),6)),\"\")","v":""},{"$f":"IFERROR(IFERROR(IFERROR(INDEX(BP!B:H,MATCH(B16,BP!C:C,0),7),INDEX(BP!B:H,MATCH(B16,BP!D:D,0),7)),INDEX(BP!B:H,MATCH(B16,BP!E:E,0),7)),\"\")","v":""},{"$error":"#REF!"},{"$error":"#REF!"},{"$error":"#REF!"},null,"Aumento/Redução Estoques",26303977.900000036,-75440140.790000007]
[{"$f":"IF(LEFT(#REF!,7)=\"Despesa\",\"\",IF(LEFT(#REF!,7)=\"Receita\",\"\",#REF!))","v":{"$error":"#REF!"}},{"$f":"IF(LEFT(A17,7)=\"Despesa\",\"\",IF(LEFT(A17,7)=\"Receita\",\"\",IF(A17=\"\",\"\",#REF!)))","v":{"$error":"#REF!"}},{"$f":"IFERROR(IFERROR(IFERROR(INDEX(BP!B:H,MATCH(B17,BP!C:C,0),6),INDEX(BP!B:H,MATCH(B17,BP!D:D,0),6)),INDEX(BP!B:H,MATCH(B17,BP!E:E,0),6)),\"\")","v":""},{"$f":"IFERROR(IFERROR(IFERROR(INDEX(BP!B:H,MATCH(B17,BP!C:C,0),7),INDEX(BP!B:H,MATCH(B17,BP!D:D,0),7)),INDEX(BP!B:H,MATCH(B17,BP!E:E,0),7)),\"\")","v":""},{"$error":"#REF!"},{"$error":"#REF!"},{"$error":"#REF!"},null,"Aumento/Redução em Valores a Longo Prazo - SUS",631.59999999962747,-9148070.5899999999]
[{"$f":"IF(LEFT(#REF!,7)=\"Despesa\",\"\",IF(LEFT(#REF!,7)=\"Receita\",\"\",#REF!))","v":{"$error":"#REF!"}},{"$f":"IF(LEFT(A18,7)=\"Despesa\",\"\",IF(LEFT(A18,7)=\"Receita\",\"\",IF(A18=\"\",\"\",#REF!)))","v":{"$error":"#REF!"}},{"$f":"IFERROR(IFERROR(IFERROR(INDEX(BP!B:H,MATCH(B18,BP!C:C,0),6),INDEX(BP!B:H,MATCH(B18,BP!D:D,0),6)),INDEX(BP!B:H,MATCH(B18,BP!E:E,0),6)),\"\")","v":""},{"$f":"IFERROR(IFERROR(IFERROR(INDEX(BP!B:H,MATCH(B18,BP!C:C,0),7),INDEX(BP!B:H,MATCH(B18,BP!D:D,0),7)),INDEX(BP!B:H,MATCH(B18,BP!E:E,0),7)),\"\")","v":""},{"$error":"#REF!"},{"$error":"#REF!"},{"$error":"#REF!"},null,"Aumento em Depósitos Judiciais",-9808392.0899999999,-5663492.54]
[{"$f":"IF(LEFT(#REF!,7)=\"Despesa\",\"\",IF(LEFT(#REF!,7)=\"Receita\",\"\",#REF!))","v":{"$error":"#REF!"}},{"$f":"IF(LEFT(A19,7)=\"Despesa\",\"\",IF(LEFT(A19,7)=\"Receita\",\"\",IF(A19=\"\",\"\",#REF!)))","v":{"$error":"#REF!"}},{"$f":"IFERROR(IFERROR(IFERROR(INDEX(BP!B:H,MATCH(B19,BP!C:C,0),6),INDEX(BP!B:H,MATCH(B19,BP!D:D,0),6)),INDEX(BP!B:H,MATCH(B19,BP!E:E,0),6)),\"\")","v":""},{"$f":"IFERROR(IFERROR(IFERROR(INDEX(BP!B:H,MATCH(B19,BP!C:C,0),7),INDEX(BP!B:H,MATCH(B19,BP!D:D,0),7)),INDEX(BP!B:H,MATCH(B19,BP!E:E,0),7)),\"\")","v":""},{"$error":"#REF!"},{"$error":"#REF!"},{"$error":"#REF!"},null,"Aumento/Redução em Obrigações Trabalhistas a Pagar",653690703.36000025,-63359913.520000003]
[{"$f":"IF(LEFT(#REF!,7)=\"Despesa\",\"\",IF(LEFT(#REF!,7)=\"Receita\",\"\",#REF!))","v":{"$error":"#REF!"}},{"$f":"IF(LEFT(A20,7)=\"Despesa\",\"\",IF(LEFT(A20,7)=\"Receita\",\"\",IF(A20=\"\",\"\",#REF!)))","v":{"$error":"#REF!"}},{"$f":"IFERROR(IFERROR(IFERROR(INDEX(BP!B:H,MATCH(B20,BP!C:C,0),6),INDEX(BP!B:H,MATCH(B20,BP!D:D,0),6)),INDEX(BP!B:H,MATCH(B20,BP!E:E,0),6)),\"\")","v":""},{"$f":"IFERROR(IFERROR(IFERROR(INDEX(BP!B:H,MATCH(B20,BP!C:C,0),7),INDEX(BP!B:H,MATCH(B20,BP!D:D,0),7)),INDEX(BP!B:H,MATCH(B20,BP!E:E,0),7)),\"\")","v":""},{"$error":"#REF!"},{"$error":"#REF!"},{"$error":"#REF!"},null,"Aumento/Redução em Fornecedores e Contas a Pagar a Curto Prazo",71594481.460000008,-14727415.08]
[{"$f":"IF(LEFT(#REF!,7)=\"Despesa\",\"\",IF(LEFT(#REF!,7)=\"Receita\",\"\",#REF!))","v":{"$error":"#REF!"}},{"$f":"IF(LEFT(A21,7)=\"Despesa\",\"\",IF(LEFT(A21,7)=\"Receita\",\"\",IF(A21=\"\",\"\",#REF!)))","v":{"$error":"#REF!"}},{"$f":"IFERROR(IFERROR(IFERROR(INDEX(BP!B:H,MATCH(B21,BP!C:C,0),6),INDEX(BP!B:H,MATCH(B21,BP!D:D,0),6)),INDEX(BP!B:H,MATCH(B21,BP!E:E,0),6)),\"\")","v":""},{"$f":"IFERROR(IFERROR(IFERROR(INDEX(BP!B:H,MATCH(B21,BP!C:C,0),7),INDEX(BP!B:H,MATCH(B21,BP!D:D,0),7)),INDEX(BP!B:H,MATCH(B21,BP!E:E,0),7)),\"\")","v":""},{"$error":"#REF!"},{"$error":"#REF!"},{"$error":"#REF!"},null,"Aumento em Retenções de Impostos, Contribuições",3151102.1700000018,33807247.549999997]
[{"$f":"IF(LEFT(#REF!,7)=\"Despesa\",\"\",IF(LEFT(#REF!,7)=\"Receita\",\"\",#REF!))","v":{"$error":"#REF!"}},{"$f":"IF(LEFT(A22,7)=\"Despesa\",\"\",IF(LEFT(A22,7)=\"Receita\",\"\",IF(A22=\"\",\"\",#REF!)))","v":{"$error":"#REF!"}},{"$f":"IFERROR(IFERROR(IFERROR(INDEX(BP!B:H,MATCH(B22,BP!C:C,0),6),INDEX(BP!B:H,MATCH(B22,BP!D:D,0),6)),INDEX(BP!B:H,MATCH(B22,BP!E:E,0),6)),\"\")","v":""},{"$f":"IFERROR(IFERROR(IFERROR(INDEX(BP!B:H,MATCH(B22,BP!C:C,0),7),INDEX(BP!B:H,MATCH(B22,BP!D:D,0),7)),INDEX(BP!B:H,MATCH(B22,BP!E:E,0),7)),\"\")","v":""},{"$f":"IF(A22=\"\",\"\",IF(C22>D22,\"Aumento em\",\"Redução em\"))","v":{"$error":"#REF!"}},{"$f":"IF(A22=\"\",\"\",IF(AND(LEFT(A22,5)=\"Ativo\",C22>D22),\"(-)\",IF(AND(LEFT(A22,5)=\"Ativo\",C22<D22),\"(+)\",IF(AND(LEFT(A22,7)=\"Passivo\",C22>D22),\"(+)\",IF(AND(LEFT(A22,7)=\"Passivo\",C22<D22),\"(-)\",\"-\")))))","v":{"$error":"#REF!"}},{"$f":"IF(F22=\"(-)\",IFERROR(IF(C22-D22>=0,C22-D22,(C22-D22)*-1),\"\")*-1,IFERROR(IF(C22-D22>=0,C22-D22,(C22-D22)*-1),\"\"))","v":{"$error":"#REF!"}},null,"Aumento/Redução em Obrigações Transitórias a Curto Prazo",-26485444.407185666,28919029.469999999]
[{"$f":"IF(LEFT(#REF!,7)=\"Despesa\",\"\",IF(LEFT(#REF!,7)=\"Receita\",\"\",#REF!))","v":{"$error":"#REF!"}},{"$f":"IF(LEFT(A23,7)=\"Despesa\",\"\",IF(LEFT(A23,7)=\"Receita\",\"\",IF(A23=\"\",\"\",#REF!)))","v":{"$error":"#REF!"}},{"$f":"IFERROR(IFERROR(IFERROR(INDEX(BP!B:H,MATCH(B23,BP!C:C,0),6),INDEX(BP!B:H,MATCH(B23,BP!D:D,0),6)),INDEX(BP!B:H,MATCH(B23,BP!E:E,0),6)),\"\")","v":""},{"$f":"IFERROR(IFERROR(IFERROR(INDEX(BP!B:H,MATCH(B23,BP!C:C,0),7),INDEX(BP!B:H,MATCH(B23,BP!D:D,0),7)),INDEX(BP!B:H,MATCH(B23,BP!E:E,0),7)),\"\")","v":""},{"$error":"#REF!"},{"$error":"#REF!"},{"$error":"#REF!"},null,"Aumento Contingência para Indenizações Trabalhistas",175554421.70999998,131281505.36]
[{"$f":"IF(LEFT(#REF!,7)=\"Despesa\",\"\",IF(LEFT(#REF!,7)=\"Receita\",\"\",#REF!))","v":{"$error":"#REF!"}},{"$f":"IF(LEFT(A24,7)=\"Despesa\",\"\",IF(LEFT(A24,7)=\"Receita\",\"\",IF(A24=\"\",\"\",#REF!)))","v":{"$error":"#REF!"}},{"$f":"IFERROR(IFERROR(IFERROR(INDEX(BP!B:H,MATCH(B24,BP!C:C,0),6),INDEX(BP!B:H,MATCH(B24,BP!D:D,0),6)),INDEX(BP!B:H,MATCH(B24,BP!E:E,0),6)),\"\")","v":""},{"$f":"IFERROR(IFERROR(IFERROR(INDEX(BP!B:H,MATCH(B24,BP!C:C,0),7),INDEX(BP!B:H,MATCH(B24,BP!D:D,0),7)),INDEX(BP!B:H,MATCH(B24,BP!E:E,0),7)),\"\")","v":""},{"$error":"#REF!"},{"$error":"#REF!"},{"$error":"#REF!"},null,"Aumento Contingência para Indenizações Cíveis",14368658.609999999,7582539.0899999999]
[{"$f":"IF(LEFT(#REF!,7)=\"Despesa\",\"\",IF(LEFT(#REF!,7)=\"Receita\",\"\",#REF!))","v":{"$error":"#REF!"}},{"$f":"IF(LEFT(A25,7)=\"Despesa\",\"\",IF(LEFT(A25,7)=\"Receita\",\"\",IF(A25=\"\",\"\",#REF!)))","v":{"$error":"#REF!"}},{"$f":"IFERROR(IFERROR(IFERROR(INDEX(BP!B:H,MATCH(B25,BP!C:C,0),6),INDEX(BP!B:H,MATCH(B25,BP!D:D,0),6)),INDEX(BP!B:H,MATCH(B25,BP!E:E,0),6)),\"\")","v":""},{"$f":"IFERROR(IFERROR(IFERROR(INDEX(BP!B:H,MATCH(B25,BP!C:C,0),7),INDEX(BP!B:H,MATCH(B25,BP!D:D,0),7)),INDEX(BP!B:H,MATCH(B25,BP!E:E,0),7)),\"\")","v":""},{"$error":"#REF!"},{"$error":"#REF!"},{"$error":"#REF!"},null,"Aumento/Redução Receita Diferida (Subvenções)",-149444470.96999991,423560961.58999997]
[{"$f":"IF(LEFT(#REF!,7)=\"Despesa\",\"\",IF(LEFT(#REF!,7)=\"Receita\",\"\",#REF!))","v":{"$error":"#REF!"}},{"$f":"IF(LEFT(A26,7)=\"Despesa\",\"\",IF(LEFT(A26,7)=\"Receita\",\"\",IF(A26=\"\",\"\",#REF!)))","v":{"$error":"#REF!"}},{"$f":"IFERROR(IFERROR(IFERROR(INDEX(BP!B:H,MATCH(B26,BP!C:C,0),6),INDEX(BP!B:H,MATCH(B26,BP!D:D,0),6)),INDEX(BP!B:H,MATCH(B26,BP!E:E,0),6)),\"\")","v":""},{"$f":"IFERROR(IFERROR(IFERROR(INDEX(BP!B:H,MATCH(B26,BP!C:C,0),7),INDEX(BP!B:H,MATCH(B26,BP!D:D,0),7)),INDEX(BP!B:H,MATCH(B26,BP!E:E,0),7)),\"\")","v":""},{"$error":"#REF!"},{"$error":"#REF!"},{"$error":"#REF!"},null,"FLUXO DE CAIXA LÍQUIDO DAS ATIVIDADES OPERACIONAIS",250581328.73281848,286342481.42999995]
[{"$f":"IF(LEFT(#REF!,7)=\"Despesa\",\"\",IF(LEFT(#REF!,7)=\"Receita\",\"\",#REF!))","v":{"$error":"#REF!"}},{"$f":"IF(LEFT(A27,7)=\"Despesa\",\"\",IF(LEFT(A27,7)=\"Receita\",\"\",IF(A27=\"\",\"\",#REF!)))","v":{"$error":"#REF!"}},{"$f":"IFERROR(IFERROR(IFERROR(INDEX(BP!B:H,MATCH(B27,BP!C:C,0),6),INDEX(BP!B:H,MATCH(B27,BP!D:D,0),6)),INDEX(BP!B:H,MATCH(B27,BP!E:E,0),6)),\"\")","v":""},{"$f":"IFERROR(IFERROR(IFERROR(INDEX(BP!B:H,MATCH(B27,BP!C:C,0),7),INDEX(BP!B:H,MATCH(B27,BP!D:D,0),7)),INDEX(BP!B:H,MATCH(B27,BP!E:E,0),7)),\"\")","v":""},{"$error":"#REF!"},{"$error":"#REF!"},{"$error":"#REF!"}]
[{"$f":"IF(LEFT(#REF!,7)=\"Despesa\",\"\",IF(LEFT(#REF!,7)=\"Receita\",\"\",#REF!))","v":{"$error":"#REF!"}},{"$f":"IF(LEFT(A28,7)=\"Despesa\",\"\",IF(LEFT(A28,7)=\"Receita\",\"\",IF(A28=\"\",\"\",#REF!)))","v":{"$error":"#REF!"}},{"$f":"IFERROR(IFERROR(IFERROR(INDEX(BP!B:H,MATCH(B28,BP!C:C,0),6),INDEX(BP!B:H,MATCH(B28,BP!D:D,0),6)),INDEX(BP!B:H,MATCH(B28,BP!E:E,0),6)),\"\")","v":""},{"$f":"IFERROR(IFERROR(IFERROR(INDEX(BP!B:H,MATCH(B28,BP!C:C,0),7),INDEX(BP!B:H,MATCH(B28,BP!D:D,0),7)),INDEX(BP!B:H,MATCH(B28,BP!E:E,0),7)),\"\")","v":""},{"$error":"#REF!"},{"$error":"#REF!"},{"$error":"#REF!"},null,"FLUXO DE CAIXA DAS ATIVIDADES DE INVESTIMENTO"]
[{"$f":"IF(LEFT(#REF!,7)=\"Despesa\",\"\",IF(LEFT(#REF!,7)=\"Receita\",\"\",#REF!))","v":{"$error":"#REF!"}},{"$f":"IF(LEFT(A29,7)=\"Despesa\",\"\",IF(LEFT(A29,7)=\"Receita\",\"\",IF(A29=\"\",\"\",#REF!)))","v":{"$error":"#REF!"}},{"$f":"IFERROR(IFERROR(IFERROR(INDEX(BP!B:H,MATCH(B29,BP!C:C,0),6),INDEX(BP!B:H,MATCH(B29,BP!D:D,0),6)),INDEX(BP!B:H,MATCH(B29,BP!E:E,0),6)),\"\")","v":""},{"$f":"IFERROR(IFERROR(IFERROR(INDEX(BP!B:H,MATCH(B29,BP!C:C,0),7),INDEX(BP!B:H,MATCH(B29,BP!D:D,0),7)),INDEX(BP!B:H,MATCH(B29,BP!E:E,0),7)),\"\")","v":""},{"$error":"#REF!"},{"$error":"#REF!"},{"$error":"#REF!"},null,"Adição de Imobilizado",-258563889.90999979,-90383946.310000002]
[{"$f":"IF(LEFT(#REF!,7)=\"Despesa\",\"\",IF(LEFT(#REF!,7)=\"Receita\",\"\",#REF!))","v":{"$error":"#REF!"}},{"$f":"IF(LEFT(A30,7)=\"Despesa\",\"\",IF(LEFT(A30,7)=\"Receita\",\"\",IF(A30=\"\",\"\",#REF!)))","v":{"$error":"#REF!"}},{"$f":"IFERROR(IFERROR(IFERROR(INDEX(BP!B:H,MATCH(B30,BP!C:C,0),6),INDEX(BP!B:H,MATCH(B30,BP!D:D,0),6)),INDEX(BP!B:H,MATCH(B30,BP!E:E,0),6)),\"\")","v":""},{"$f":"IFERROR(IFERROR(IFERROR(INDEX(BP!B:H,MATCH(B30,BP!C:C,0),7),INDEX(BP!B:H,MATCH(B30,BP!D:D,0),7)),INDEX(BP!B:H,MATCH(B30,BP!E:E,0),7)),\"\")","v":""},{"$error":"#REF!"},{"$error":"#REF!"},{"$error":"#REF!"},null,"Adição de Intangível",-3577091.340000011,-82652617.409999996]
[{"$f":"IF(LEFT(#REF!,7)=\"Despesa\",\"\",IF(LEFT(#REF!,7)=\"Receita\",\"\",#REF!))","v":{"$error":"#REF!"}},{"$f":"IF(LEFT(A31,7)=\"Despesa\",\"\",IF(LEFT(A31,7)=\"Receita\",\"\",IF(A31=\"\",\"\",#REF!)))","v":{"$error":"#REF!"}},{"$f":"IFERROR(IFERROR(IFERROR(INDEX(BP!B:H,MATCH(B31,BP!C:C,0),6),INDEX(BP!B:H,MATCH(B31,BP!D:D,0),6)),INDEX(BP!B:H,MATCH(B31,BP!E:E,0),6)),\"\")","v":""},{"$f":"IFERROR(IFERROR(IFERROR(INDEX(BP!B:H,MATCH(B31,BP!C:C,0),7),INDEX(BP!B:H,MATCH(B31,BP!D:D,0),7)),INDEX(BP!B:H,MATCH(B31,BP!E:E,0),7)),\"\")","v":""},{"$error":"#REF!"},{"$error":"#REF!"},{"$error":"#REF!"},null,"Redução do Direito de Uso Bens (Contrato de Arrendamento)",73738843.719914004,0,"NE"]
[{"$f":"IF(LEFT(#REF!,7)=\"Despesa\",\"\",IF(LEFT(#REF!,7)=\"Receita\",\"\",#REF!))","v":{"$error":"#REF!"}},{"$f":"IF(LEFT(A32,7)=\"Despesa\",\"\",IF(LEFT(A32,7)=\"Receita\",\"\",IF(A32=\"\",\"\",#REF!)))","v":{"$error":"#REF!"}},{"$f":"IFERROR(IFERROR(IFERROR(INDEX(BP!B:H,MATCH(B32,BP!C:C,0),6),INDEX(BP!B:H,MATCH(B32,BP!D:D,0),6)),INDEX(BP!B:H,MATCH(B32,BP!E:E,0),6)),\"\")","v":""},{"$f":"IFERROR(IFERROR(IFERROR(INDEX(BP!B:H,MATCH(B32,BP!C:C,0),7),INDEX(BP!B:H,MATCH(B32,BP!D:D,0),7)),INDEX(BP!B:H,MATCH(B32,BP!E:E,0),7)),\"\")","v":""},{"$error":"#REF!"},{"$error":"#REF!"},{"$error":"#REF!"},null,"FLUXO DE CAIXA LÍQUIDO DAS ATIVIDADES DE INVESTIMENTO",-188402137.5300858,-173036563.72]
[]
[{"$f":"IF(LEFT(#REF!,7)=\"Despesa\",\"\",IF(LEFT(#REF!,7)=\"Receita\",\"\",#REF!))","v":{"$error":"#REF!"}},{"$f":"IF(LEFT(A34,7)=\"Despesa\",\"\",IF(LEFT(A34,7)=\"Receita\",\"\",IF(A34=\"\",\"\",#REF!)))","v":{"$error":"#REF!"}},{"$f":"IFERROR(IFERROR(IFERROR(INDEX(BP!B:H,MATCH(B34,BP!C:C,0),6),INDEX(BP!B:H,MATCH(B34,BP!D:D,0),6)),INDEX(BP!B:H,MATCH(B34,BP!E:E,0),6)),\"\")","v":""},{"$f":"IFERROR(IFERROR(IFERROR(INDEX(BP!B:H,MATCH(B34,BP!C:C,0),7),INDEX(BP!B:H,MATCH(B34,BP!D:D,0),7)),INDEX(BP!B:H,MATCH(B34,BP!E:E,0),7)),\"\")","v":""},{"$error":"#REF!"},{"$error":"#REF!"},{"$error":"#REF!"},null,"FLUXO DE CAIXA DAS ATIVIDADES DE FINANCIAMENTO"]
[{"$f":"IF(LEFT(#REF!,7)=\"Despesa\",\"\",IF(LEFT(#REF!,7)=\"Receita\",\"\",#REF!))","v":{"$error":"#REF!"}},{"$f":"IF(LEFT(A35,7)=\"Despesa\",\"\",IF(LEFT(A35,7)=\"Receita\",\"\",IF(A35=\"\",\"\",#REF!)))","v":{"$error":"#REF!"}},{"$f":"IFERROR(IFERROR(IFERROR(INDEX(BP!B:H,MATCH(B35,BP!C:C,0),6),INDEX(BP!B:H,MATCH(B35,BP!D:D,0),6)),INDEX(BP!B:H,MATCH(B35,BP!E:E,0),6)),\"\")","v":""},{"$f":"IFERROR(IFERROR(IFERROR(INDEX(BP!B:H,MATCH(B35,BP!C:C,0),7),INDEX(BP!B:H,MATCH(B35,BP!D:D,0),7)),INDEX(BP!B:H,MATCH(B35,BP!E:E,0),7)),\"\")","v":""},{"$error":"#REF!"},{"$error":"#REF!"},{"$error":"#REF!"},null,"Adiantamento Para Futuro Aumento de Capital - AFAC",228745272.01999992,112365624.37]
[{"$f":"IF(LEFT(#REF!,7)=\"Despesa\",\"\",IF(LEFT(#REF!,7)=\"Receita\",\"\",#REF!))","v":{"$error":"#REF!"}},{"$f":"IF(LEFT(A36,7)=\"Despesa\",\"\",IF(LEFT(A36,7)=\"Receita\",\"\",IF(A36=\"\",\"\",#REF!)))","v":{"$error":"#REF!"}},{"$f":"IFERROR(IFERROR(IFERROR(INDEX(BP!B:H,MATCH(B36,BP!C:C,0),6),INDEX(BP!B:H,MATCH(B36,BP!D:D,0),6)),INDEX(BP!B:H,MATCH(B36,BP!E:E,0),6)),\"\")","v":""},{"$f":"IFERROR(IFERROR(IFERROR(INDEX(BP!B:H,MATCH(B36,BP!C:C,0),7),INDEX(BP!B:H,MATCH(B36,BP!D:D,0),7)),INDEX(BP!B:H,MATCH(B36,BP!E:E,0),7)),\"\")","v":""},{"$error":"#REF!"},{"$error":"#REF!"},{"$error":"#REF!"},null,"Redução Contratos de Arrendamento a Pagar",-28756983.662728321,-85570604.650000006,"NE"]
[{"$f":"IF(LEFT(#REF!,7)=\"Despesa\",\"\",IF(LEFT(#REF!,7)=\"Receita\",\"\",#REF!))","v":{"$error":"#REF!"}},{"$f":"IF(LEFT(A37,7)=\"Despesa\",\"\",IF(LEFT(A37,7)=\"Receita\",\"\",IF(A37=\"\",\"\",#REF!)))","v":{"$error":"#REF!"}},{"$f":"IFERROR(IFERROR(IFERROR(INDEX(BP!B:H,MATCH(B37,BP!C:C,0),6),INDEX(BP!B:H,MATCH(B37,BP!D:D,0),6)),INDEX(BP!B:H,MATCH(B37,BP!E:E,0),6)),\"\")","v":""},{"$f":"IFERROR(IFERROR(IFERROR(INDEX(BP!B:H,MATCH(B37,BP!C:C,0),7),INDEX(BP!B:H,MATCH(B37,BP!D:D,0),7)),INDEX(BP!B:H,MATCH(B37,BP!E:E,0),7)),\"\")","v":""},{"$error":"#REF!"},{"$error":"#REF!"},{"$error":"#REF!"},null,"FLUXO DE CAIXA LÍQUIDO DAS ATIVIDADES DE FINANCIAMENTO",199988288.35727161,26795019.719999999]
[]
[{"$f":"IF(LEFT(#REF!,7)=\"Despesa\",\"\",IF(LEFT(#REF!,7)=\"Receita\",\"\",#REF!))","v":{"$error":"#REF!"}},{"$f":"IF(LEFT(A39,7)=\"Despesa\",\"\",IF(LEFT(A39,7)=\"Receita\",\"\",IF(A39=\"\",\"\",#REF!)))","v":{"$error":"#REF!"}},{"$f":"IFERROR(IFERROR(IFERROR(INDEX(BP!B:H,MATCH(B39,BP!C:C,0),6),INDEX(BP!B:H,MATCH(B39,BP!D:D,0),6)),INDEX(BP!B:H,MATCH(B39,BP!E:E,0),6)),\"\")","v":""},{"$f":"IFERROR(IFERROR(IFERROR(INDEX(BP!B:H,MATCH(B39,BP!C:C,0),7),INDEX(BP!B:H,MATCH(B39,BP!D:D,0),7)),INDEX(BP!B:H,MATCH(B39,BP!E:E,0),7)),\"\")","v":""},{"$error":"#REF!"},{"$error":"#REF!"},{"$error":"#REF!"},null,"APURAÇÃO DO FLUXO DE CAIXA DO PERÍODO"]
[{"$f":"IF(LEFT(#REF!,7)=\"Despesa\",\"\",IF(LEFT(#REF!,7)=\"Receita\",\"\",#REF!))","v":{"$error":"#REF!"}},{"$f":"IF(LEFT(A40,7)=\"Despesa\",\"\",IF(LEFT(A40,7)=\"Receita\",\"\",IF(A40=\"\",\"\",#REF!)))","v":{"$error":"#REF!"}},{"$f":"IFERROR(IFERROR(IFERROR(INDEX(BP!B:H,MATCH(B40,BP!C:C,0),6),INDEX(BP!B:H,MATCH(B40,BP!D:D,0),6)),INDEX(BP!B:H,MATCH(B40,BP!E:E,0),6)),\"\")","v":""},{"$f":"IFERROR(IFERROR(IFERROR(INDEX(BP!B:H,MATCH(B40,BP!C:C,0),7),INDEX(BP!B:H,MATCH(B40,BP!D:D,0),7)),INDEX(BP!B:H,MATCH(B40,BP!E:E,0),7)),\"\")","v":""},{"$error":"#REF!"},{"$error":"#REF!"},{"$error":"#REF!"},null,"GERAÇÃO LÍQUIDA DE CAIXA E EQUIVALENTE DE CAIXA",262167479.56000429,140100937.42999995]
[{"$f":"IF(LEFT(#REF!,7)=\"Despesa\",\"\",IF(LEFT(#REF!,7)=\"Receita\",\"\",#REF!))","v":{"$error":"#REF!"}},{"$f":"IF(LEFT(A41,7)=\"Despesa\",\"\",IF(LEFT(A41,7)=\"Receita\",\"\",IF(A41=\"\",\"\",#REF!)))","v":{"$error":"#REF!"}},{"$f":"IFERROR(IFERROR(IFERROR(INDEX(BP!B:H,MATCH(B41,BP!C:C,0),6),INDEX(BP!B:H,MATCH(B41,BP!D:D,0),6)),INDEX(BP!B:H,MATCH(B41,BP!E:E,0),6)),\"\")","v":""},{"$f":"IFERROR(IFERROR(IFERROR(INDEX(BP!B:H,MATCH(B41,BP!C:C,0),7),INDEX(BP!B:H,MATCH(B41,BP!D:D,0),7)),INDEX(BP!B:H,MATCH(B41,BP!E:E,0),7)),\"\")","v":""},{"$error":"#REF!"},{"$error":"#REF!"},{"$error":"#REF!"},null,"CAIXA E EQUIVALENTE DE CAIXA INICIAL",885657238.94000006,745556301.51999998]
[{"$f":"IF(LEFT(#REF!,7)=\"Despesa\",\"\",IF(LEFT(#REF!,7)=\"Receita\",\"\",#REF!))","v":{"$error":"#REF!"}},{"$f":"IF(LEFT(A42,7)=\"Despesa\",\"\",IF(LEFT(A42,7)=\"Receita\",\"\",IF(A42=\"\",\"\",#REF!)))","v":{"$error":"#REF!"}},{"$f":"IFERROR(IFERROR(IFERROR(INDEX(BP!B:H,MATCH(B42,BP!C:C,0),6),INDEX(BP!B:H,MATCH(B42,BP!D:D,0),6)),INDEX(BP!B:H,MATCH(B42,BP!E:E,0),6)),\"\")","v":""},{"$f":"IFERROR(IFERROR(IFERROR(INDEX(BP!B:H,MATCH(B42,BP!C:C,0),7),INDEX(BP!B:H,MATCH(B42,BP!D:D,0),7)),INDEX(BP!B:H,MATCH(B42,BP!E:E,0),7)),\"\")","v":""},{"$error":"#REF!"},{"$error":"#REF!"},{"$error":"#REF!"},null,"CAIXA E EQUIVALENTE DE CAIXA FINAL",1147824718.5,885657238.94000006]
[{"$f":"IF(LEFT(#REF!,7)=\"Despesa\",\"\",IF(LEFT(#REF!,7)=\"Receita\",\"\",#REF!))","v":{"$error":"#REF!"}},{"$f":"IF(LEFT(A43,7)=\"Despesa\",\"\",IF(LEFT(A43,7)=\"Receita\",\"\",IF(A43=\"\",\"\",#REF!)))","v":{"$error":"#REF!"}},{"$f":"IFERROR(IFERROR(IFERROR(INDEX(BP!B:H,MATCH(B43,BP!C:C,0),6),INDEX(BP!B:H,MATCH(B43,BP!D:D,0),6)),INDEX(BP!B:H,MATCH(B43,BP!E:E,0),6)),\"\")","v":""},{"$f":"IFERROR(IFERROR(IFERROR(INDEX(BP!B:H,MATCH(B43,BP!C:C,0),7),INDEX(BP!B:H,MATCH(B43,BP!D:D,0),7)),INDEX(BP!B:H,MATCH(B43,BP!E:E,0),7)),\"\")","v":""},{"$error":"#REF!"},{"$error":"#REF!"},{"$error":"#REF!"},null,"As notas explicativas da Administração são parte integrante das Demonstrações Contábeis "]
[{"$f":"IF(LEFT(#REF!,7)=\"Despesa\",\"\",IF(LEFT(#REF!,7)=\"Receita\",\"\",#REF!))","v":{"$error":"#REF!"}},{"$f":"IF(LEFT(A44,7)=\"Despesa\",\"\",IF(LEFT(A44,7)=\"Receita\",\"\",IF(A44=\"\",\"\",#REF!)))","v":{"$error":"#REF!"}},{"$f":"IFERROR(IFERROR(IFERROR(INDEX(BP!B:H,MATCH(B44,BP!C:C,0),6),INDEX(BP!B:H,MATCH(B44,BP!D:D,0),6)),INDEX(BP!B:H,MATCH(B44,BP!E:E,0),6)),\"\")","v":""},{"$f":"IFERROR(IFERROR(IFERROR(INDEX(BP!B:H,MATCH(B44,BP!C:C,0),7),INDEX(BP!B:H,MATCH(B44,BP!D:D,0),7)),INDEX(BP!B:H,MATCH(B44,BP!E:E,0),7)),\"\")","v":""},{"$error":"#REF!"},{"$error":"#REF!"},{"$error":"#REF!"}]
[{"$f":"IF(LEFT(#REF!,7)=\"Despesa\",\"\",IF(LEFT(#REF!,7)=\"Receita\",\"\",#REF!))","v":{"$error":"#REF!"}},{"$f":"IF(LEFT(A45,7)=\"Despesa\",\"\",IF(LEFT(A45,7)=\"Receita\",\"\",IF(A45=\"\",\"\",#REF!)))","v":{"$error":"#REF!"}},{"$f":"IFERROR(IFERROR(IFERROR(INDEX(BP!B:H,MATCH(B45,BP!C:C,0),6),INDEX(BP!B:H,MATCH(B45,BP!D:D,0),6)),INDEX(BP!B:H,MATCH(B45,BP!E:E,0),6)),\"\")","v":""},{"$f":"IFERROR(IFERROR(IFERROR(INDEX(BP!B:H,MATCH(B45,BP!C:C,0),7),INDEX(BP!B:H,MATCH(B45,BP!D:D,0),7)),INDEX(BP!B:H,MATCH(B45,BP!E:E,0),7)),\"\")","v":""},{"$error":"#REF!"},{"$error":"#REF!"},{"$error":"#REF!"},null,null,{"$f":"J40+J41-J42","v":4.291534423828125E-6},{"$f":"K40+K41-K42","v":9.9998712539672852E-3}]
[{"$f":"IF(LEFT(#REF!,7)=\"Despesa\",\"\",IF(LEFT(#REF!,7)=\"Receita\",\"\",#REF!))","v":{"$error":"#REF!"}},{"$f":"IF(LEFT(A46,7)=\"Despesa\",\"\",IF(LEFT(A46,7)=\"Receita\",\"\",IF(A46=\"\",\"\",#REF!)))","v":{"$error":"#REF!"}},{"$f":"IFERROR(IFERROR(IFERROR(INDEX(BP!B:H,MATCH(B46,BP!C:C,0),6),INDEX(BP!B:H,MATCH(B46,BP!D:D,0),6)),INDEX(BP!B:H,MATCH(B46,BP!E:E,0),6)),\"\")","v":""},{"$f":"IFERROR(IFERROR(IFERROR(INDEX(BP!B:H,MATCH(B46,BP!C:C,0),7),INDEX(BP!B:H,MATCH(B46,BP!D:D,0),7)),INDEX(BP!B:H,MATCH(B46,BP!E:E,0),7)),\"\")","v":""},{"$error":"#REF!"},{"$error":"#REF!"},{"$error":"#REF!"}]
[{"$f":"IF(LEFT(#REF!,7)=\"Despesa\",\"\",IF(LEFT(#REF!,7)=\"Receita\",\"\",#REF!))","v":{"$error":"#REF!"}},{"$f":"IF(LEFT(A47,7)=\"Despesa\",\"\",IF(LEFT(A47,7)=\"Receita\",\"\",IF(A47=\"\",\"\",#REF!)))","v":{"$error":"#REF!"}},{"$f":"IFERROR(IFERROR(IFERROR(INDEX(BP!B:H,MATCH(B47,BP!C:C,0),6),INDEX(BP!B:H,MATCH(B47,BP!D:D,0),6)),INDEX(BP!B:H,MATCH(B47,BP!E:E,0),6)),\"\")","v":""},{"$f":"IFERROR(IFERROR(IFERROR(INDEX(BP!B:H,MATCH(B47,BP!C:C,0),7),INDEX(BP!B:H,MATCH(B47,BP!D:D,0),7)),INDEX(BP!B:H,MATCH(B47,BP!E:E,0),7)),\"\")","v":""},{"$error":"#REF!"},{"$error":"#REF!"},{"$error":"#REF!"}]
[{"$f":"IF(LEFT(#REF!,7)=\"Despesa\",\"\",IF(LEFT(#REF!,7)=\"Receita\",\"\",#REF!))","v":{"$error":"#REF!"}},{"$f":"IF(LEFT(A48,7)=\"Despesa\",\"\",IF(LEFT(A48,7)=\"Receita\",\"\",IF(A48=\"\",\"\",#REF!)))","v":{"$error":"#REF!"}},{"$f":"IFERROR(IFERROR(IFERROR(INDEX(BP!B:H,MATCH(B48,BP!C:C,0),6),INDEX(BP!B:H,MATCH(B48,BP!D:D,0),6)),INDEX(BP!B:H,MATCH(B48,BP!E:E,0),6)),\"\")","v":""},{"$f":"IFERROR(IFERROR(IFERROR(INDEX(BP!B:H,MATCH(B48,BP!C:C,0),7),INDEX(BP!B:H,MATCH(B48,BP!D:D,0),7)),INDEX(BP!B:H,MATCH(B48,BP!E:E,0),7)),\"\")","v":""},{"$error":"#REF!"},{"$error":"#REF!"},{"$error":"#REF!"}]
[{"$f":"IF(LEFT(#REF!,7)=\"Despesa\",\"\",IF(LEFT(#REF!,7)=\"Receita\",\"\",#REF!))","v":{"$error":"#REF!"}},{"$f":"IF(LEFT(A49,7)=\"Despesa\",\"\",IF(LEFT(A49,7)=\"Receita\",\"\",IF(A49=\"\",\"\",#REF!)))","v":{"$error":"#REF!"}},{"$f":"IFERROR(IFERROR(IFERROR(INDEX(BP!B:H,MATCH(B49,BP!C:C,0),6),INDEX(BP!B:H,MATCH(B49,BP!D:D,0),6)),INDEX(BP!B:H,MATCH(B49,BP!E:E,0),6)),\"\")","v":""},{"$f":"IFERROR(IFERROR(IFERROR(INDEX(BP!B:H,MATCH(B49,BP!C:C,0),7),INDEX(BP!B:H,MATCH(B49,BP!D:D,0),7)),INDEX(BP!B:H,MATCH(B49,BP!E:E,0),7)),\"\")","v":""},{"$error":"#REF!"},{"$error":"#REF!"},{"$error":"#REF!"}]
[{"$f":"IF(LEFT(#REF!,7)=\"Despesa\",\"\",IF(LEFT(#REF!,7)=\"Receita\",\"\",#REF!))","v":{"$error":"#REF!"}},{"$f":"IF(LEFT(A50,7)=\"Despesa\",\"\",IF(LEFT(A50,7)=\"Receita\",\"\",IF(A50=\"\",\"\",#REF!)))","v":{"$error":"#REF!"}},{"$f":"IFERROR(IFERROR(IFERROR(INDEX(BP!B:H,MATCH(B50,BP!C:C,0),6),INDEX(BP!B:H,MATCH(B50,BP!D:D,0),6)),INDEX(BP!B:H,MATCH(B50,BP!E:E,0),6)),\"\")","v":""},{"$f":"IFERROR(IFERROR(IFERROR(INDEX(BP!B:H,MATCH(B50,BP!C:C,0),7),INDEX(BP!B:H,MATCH(B50,BP!D:D,0),7)),INDEX(BP!B:H,MATCH(B50,BP!E:E,0),7)),\"\")","v":""},{"$error":"#REF!"},{"$error":"#REF!"},{"$error":"#REF!"}]
[{"$f":"IF(LEFT(#REF!,7)=\"Despesa\",\"\",IF(LEFT(#REF!,7)=\"Receita\",\"\",#REF!))","v":{"$error":"#REF!"}},{"$f":"IF(LEFT(A51,7)=\"Despesa\",\"\",IF(LEFT(A51,7)=\"Receita\",\"\",IF(A51=\"\",\"\",#REF!)))","v":{"$error":"#REF!"}},{"$f":"IFERROR(IFERROR(IFERROR(INDEX(BP!B:H,MATCH(B51,BP!C:C,0),6),INDEX(BP!B:H,MATCH(B51,BP!D:D,0),6)),INDEX(BP!B:H,MATCH(B51,BP!E:E,0),6)),\"\")","v":""},{"$f":"IFERROR(IFERROR(IFERROR(INDEX(BP!B:H,MATCH(B51,BP!C:C,0),7),INDEX(BP!B:H,MATCH(B51,BP!D:D,0),7)),INDEX(BP!B:H,MATCH(B51,BP!E:E,0),7)),\"\")","v":""},{"$error":"#REF!"},{"$error":"#REF!"},{"$error":"#REF!"}]
[{"$f":"IF(LEFT(#REF!,7)=\"Despesa\",\"\",IF(LEFT(#REF!,7)=\"Receita\",\"\",#REF!))","v":{"$error":"#REF!"}},{"$f":"IF(LEFT(A52,7)=\"Despesa\",\"\",IF(LEFT(A52,7)=\"Receita\",\"\",IF(A52=\"\",\"\",#REF!)))","v":{"$error":"#REF!"}},{"$f":"IFERROR(IFERROR(IFERROR(INDEX(BP!B:H,MATCH(B52,BP!C:C,0),6),INDEX(BP!B:H,MATCH(B52,BP!D:D,0),6)),INDEX(BP!B:H,MATCH(B52,BP!E:E,0),6)),\"\")","v":""},{"$f":"IFERROR(IFERROR(IFERROR(INDEX(BP!B:H,MATCH(B52,BP!C:C,0),7),INDEX(BP!B:H,MATCH(B52,BP!D:D,0),7)),INDEX(BP!B:H,MATCH(B52,BP!E:E,0),7)),\"\")","v":""},{"$error":"#REF!"},{"$error":"#REF!"},{"$error":"#REF!"}]
[{"$f":"IF(LEFT(#REF!,7)=\"Despesa\",\"\",IF(LEFT(#REF!,7)=\"Receita\",\"\",#REF!))","v":{"$error":"#REF!"}},{"$f":"IF(LEFT(A53,7)=\"Despesa\",\"\",IF(LEFT(A53,7)=\"Receita\",\"\",IF(A53=\"\",\"\",#REF!)))","v":{"$error":"#REF!"}},{"$f":"IFERROR(IFERROR(IFERROR(INDEX(BP!B:H,MATCH(B53,BP!C:C,0),6),INDEX(BP!B:H,MATCH(B53,BP!D:D,0),6)),INDEX(BP!B:H,MATCH(B53,BP!E:E,0),6)),\"\")","v":""},{"$f":"IFERROR(IFERROR(IFERROR(INDEX(BP!B:H,MATCH(B53,BP!C:C,0),7),INDEX(BP!B:H,MATCH(B53,BP!D:D,0),7)),INDEX(BP!B:H,MATCH(B53,BP!E:E,0),7)),\"\")","v":""},{"$error":"#REF!"},{"$error":"#REF!"},{"$error":"#REF!"}]
[{"$f":"IF(LEFT(#REF!,7)=\"Despesa\",\"\",IF(LEFT(#REF!,7)=\"Receita\",\"\",#REF!))","v":{"$error":"#REF!"}},{"$f":"IF(LEFT(A54,7)=\"Despesa\",\"\",IF(LEFT(A54,7)=\"Receita\",\"\",IF(A54=\"\",\"\",#REF!)))","v":{"$error":"#REF!"}},{"$f":"IFERROR(IFERROR(IFERROR(INDEX(BP!B:H,MATCH(B54,BP!C:C,0),6),INDEX(BP!B:H,MATCH(B54,BP!D:D,0),6)),INDEX(BP!B:H,MATCH(B54,BP!E:E,0),6)),\"\")","v":""},{"$f":"IFERROR(IFERROR(IFERROR(INDEX(BP!B:H,MATCH(B54,BP!C:C,0),7),INDEX(BP!B:H,MATCH(B54,BP!D:D,0),7)),INDEX(BP!B:H,MATCH(B54,BP!E:E,0),7)),\"\")","v":""},{"$error":"#REF!"},{"$error":"#REF!"},{"$error":"#REF!"}]
[{"$f":"IF(LEFT(#REF!,7)=\"Despesa\",\"\",IF(LEFT(#REF!,7)=\"Receita\",\"\",#REF!))","v":{"$error":"#REF!"}},{"$f":"IF(LEFT(A55,7)=\"Despesa\",\"\",IF(LEFT(A55,7)=\"Receita\",\"\",IF(A55=\"\",\"\",#REF!)))","v":{"$error":"#REF!"}},{"$f":"IFERROR(IFERROR(IFERROR(INDEX(BP!B:H,MATCH(B55,BP!C:C,0),6),INDEX(BP!B:H,MATCH(B55,BP!D:D,0),6)),INDEX(BP!B:H,MATCH(B55,BP!E:E,0),6)),\"\")","v":""},{"$f":"IFERROR(IFERROR(IFERROR(INDEX(BP!B:H,MATCH(B55,BP!C:C,0),7),INDEX(BP!B:H,MATCH(B55,BP!D:D,0),7)),INDEX(BP!B:H,MATCH(B55,BP!E:E,0),7)),\"\")","v":""},{"$error":"#REF!"},{"$error":"#REF!"},{"$error":"#REF!"}]
[{"$f":"IF(LEFT(#REF!,7)=\"Despesa\",\"\",IF(LEFT(#REF!,7)=\"Receita\",\"\",#REF!))","v":{"$error":"#REF!"}},{"$f":"IF(LEFT(A56,7)=\"Despesa\",\"\",IF(LEFT(A56,7)=\"Receita\",\"\",IF(A56=\"\",\"\",#REF!)))","v":{"$error":"#REF!"}},{"$f":"IFERROR(IFERROR(IFERROR(INDEX(BP!B:H,MATCH(B56,BP!C:C,0),6),INDEX(BP!B:H,MATCH(B56,BP!D:D,0),6)),INDEX(BP!B:H,MATCH(B56,BP!E:E,0),6)),\"\")","v":""},{"$f":"IFERROR(IFERROR(IFERROR(INDEX(BP!B:H,MATCH(B56,BP!C:C,0),7),INDEX(BP!B:H,MATCH(B56,BP!D:D,0),7)),INDEX(BP!B:H,MATCH(B56,BP!E:E,0),7)),\"\")","v":""},{"$error":"#REF!"},{"$error":"#REF!"},{"$error":"#REF!"}]

{"sheet":"DR","index":2,"n_rows":51,"n_cols":17,"rows_kept":51,"cut":false,"hidden":false,"merged":[[3,1,3,3],[0,1,0,9],[30,1,30,3],[16,2,16,3],[19,2,19,3],[7,1,7,3],[22,2,22,3],[24,2,24,3],[8,2,8,3],[13,2,13,3],[1,7,1,9],[38,1,38,9],[25,1,25,3],[26,1,26,3],[29,1,29,3],[33,1,33,3],[35,1,35,3],[37,1,37,3]]}
[null,"EBSERH - EMPRESA BRASILEIRA DE SERVIÇOS HOSPITALARES"]
[null,"Demonstração do Resultado",null,null,null,null,null,"31 de dezembro de 2022"]
[null,"Em reais"]
[null,"DESCRIÇÃO",null,null,"Nota","01.01.2022                    a                30.09.2022","  01.10.2022                    a                    31.12.2022"," 01.01.2022                          a                        31.12.2022","  01.10.2021                    a                    31.12.2021"," 01.01.2021                          a                        31.12.2021"]
[null,"Receita Bruta",null,null,"3.1",78931970.010000005,15834174.390000001,94766144.400000006,45009693.07,144216383.47]
[null,null,"Receita com Serviços",null,null,78931970.010000005,15834174.390000001,94766144.400000006,45009693.07,144216383.47]
[null,null,null,"Receita de Serviços e Exploração","3.1.1",78931970.010000005,15834174.390000001,94766144.400000006,45009693.07,144216383.47]
[null,"Despesas Operacionais",null,null,"3.3",-6533171982.2799997,-3082020572.2199998,-9615192554.5,-2324828834.8299999,-8538800838.3200006]
[null,null,"Despesa com Pessoal, Encargos e Benefícios",null,"3.3.1",-4447252014.2299995,-2122429245.8800006,-6569681260.1100006,-1462391712.3699999,-5811710230.6700001]
[null,null,null,"Remuneração a Pessoal","3.3.1.1",-3047579516.9699998,-1458863617.5100007,-4506443134.4800005,-988080684.88,-4091098353.0999999]
[null,null,null,"Encargos Patronais","3.3.1.2",-1087439456.48,-577057475.72000003,-1664496932.2,-344153648.25999999,-1316895095.6400001]
[null,null,null,"Benefícios a Pessoal","3.3.1.3",-249230320.52000001,-86039292.329999954,-335269612.84999996,-85989046.590000004,-338606038.5]
[null,null,null,"Outras Despesas com Pessoal e Encargos","3.3.1.4",-63002720.259999998,-468860.3200000003,-63471580.579999998,-44168332.640000001,-65110743.43]
[null,null,"Despesa com Uso de Bens e Serviços",null,null,-1969137172.03,-784168512.40999877,-2753305684.4399986,-684009769.55999994,-2510972595.0700002]
[null,null,null,"Uso de Material de Consumo","3.3.2",-862985392.08000004,-325553054.34999931,-1188538446.4299994,-291763250.89999998,-1164628947.1600001]
[null,null,null,"Serviços Tomados","3.3.3",-1106151779.95,-458615458.05999947,-1564767238.0099995,-392246518.66000003,-1346343647.9100001]
[null,null,"Despesa com Bens Móveis, Imóveis e Intangíveis",null,null,-63035417.909999996,-5084787.6200000085,-68120205.530000001,-15836519.379999999,-47822349.789999999]
[null,null,null,"Depreciação, Amortização e Impairment","3.3.4",-40217333.329999998,-14691033.150000006,-54908366.480000004,-11840420.58,-42809751.420000002]
[null,null,null,"Perdas Involuntárias e Desfazimentos","3.3.5",-22818084.579999998,9606245.5299999975,-13211839.050000001,-3996098.8,-5012598.37]
[null,null,"Contingência para Riscos Fiscais",null,"3.3.6",-48600150.020000003,-169942818.24000001,-218542968.26000002,-161384306.59999999,-163264983.92999998]
[null,null,null,"Contigência para Riscos Fiscais Trabalhistas",null,-37995630.049999997,-157755428.61000001,-195751058.66000003,-152549618.09,-154430295.41999999]
[null,null,null,"Contigência para Riscos Fiscais Cíveis",null,-10604519.970000001,-12187389.629999997,-22791909.599999998,-8834688.5099999998,-8834688.5099999998]
[null,null,"Despesas Tributárias",null,"3.3.7",-1744415.01,-179256.31999999983,-1923671.3299999998,-743631.76,-1699835.3]
[null,null,null,"Impostos, Taxas e Contribuições",null,-1744415.01,-179256.31999999983,-1923671.3299999998,-743631.76,-1699835.3]
[null,null,"Outras Despesas Operacionais",null,"3.3.8",-3402813.08,-215951.74999999953,-3618764.8299999996,-462895.16,-3330843.56]
[null,"Resultado Antes das Receitas e Despesas Financeiras",null,null,null,-6454240012.2700005,-3066186397.8299999,-9520426410.1000004,-2279819141.7599998,-8394584454.8500004]
[null,"Resultados Financeiros",null,null,null,-465978.7,245434.64000000013,-220544.06000000006,-104169.59000000001,638633.21]
[null,null,null,"Receitas Financeiras","3.3.9",1774083.65,327607.21999999974,2101690.8699999996,11252.65,1061682.24]
[null,null,null,"Despesas Financeiras","3.3.10",-2240062.35,-82172.579999999609,-2322234.9299999997,-115422.24,-423049.03]
[null,"Resultado antes da Subvenção do Tesouro Nacional",null,null,"3.3.11",-6454705990.9700003,-3065940963.1900001,-9520646954.1599998,-2279923311.3499999,-8393945821.6400003]
[null,"Subvenção do Tesouro Nacional",null,null,"3.3.12",6209172272.6199999,2856885771.0400038,9066058043.6600037,2154856326.3000002,8175838532.54]
[null,null,null,"Subvenção do Tesouro Nacional",null,4904814645.8800001,2402733208.4000034,7307547854.2800035,1730752939.9100001,6504547849.8299999]
[null,null,null,"Subvenção de Custeio SUS",null,1304357626.74,454152562.6400001,1758510189.3800001,424103386.38999999,1671290682.71]
[null,"Resultado antes da Cont. Social Sobre o Lucro Líquido",null,null,"3.3.13",-245533718.34999999,-209055192.14999628,-454588910.49999619,-125066985.04999971,-218107289.10000038]
[null,null,null,"Provisão Contribuição Social",null,0,0,0,0,0]
[null,"Resultado antes do Imposto de Renda",null,null,null,-245533718.34999999,-209055192.14999619,-454588910.49999619,-125066985.04999971,-218107289.10000038]
[null,null,null,"Provisão para Imposto de Renda",null,0,0,0,0,0]
[null,"Resultado do Exercício",null,null,"3.3.14",-245533718.34999999,-209055192.14999619,-454588910.49999619,-125066985.04999971,-218107289.10000038,-125066985.05,{"$f":"I38-K38","v":2.8312206268310547E-7}]
[null,"As notas explicativas da Administração são parte integrante das Demonstrações Contábeis"]
[]
[]
[]
[null,null,null,null,null,null,null,null,null,null,null,null,"Despesa indedutível da Base IR",null,{"$f":"0.15","v":0.15},{"$f":"O43*N44","v":{"$error":"#REF!"}},"IR Sobre a Base"]
[null,null,null,null,null,null,null,null,null,null,null,null,"Base de IR",{"$f":"#REF!-N43","v":{"$error":"#REF!"}},0.1,{"$f":"O44*N46","v":{"$error":"#REF!"}},"Adicional IR"]
[null,null,null,null,null,null,null,null,null,null,null,null,"Percentual Isento",60000,0.09,{"$f":"N44*O45","v":{"$error":"#REF!"}},"CSLL a Recolher"]
[null,null,null,null,null,null,null,null,null,null,null,null,null,{"$f":"N44-N45","v":{"$error":"#REF!"}},null,{"$f":"P43+P44","v":{"$error":"#REF!"}},"Total de IR Apurado"]
[null,null,null,null,null,null,null,"Prejuízo Acumulado",null,null,512557193.87,null,null,null,0.3,{"$f":"P46*O47","v":{"$error":"#REF!"}},"Compensação de Prejuízo Fiscal Acumulado"]
[null,null,null,null,null,null,null,"30% Base de Calculo",null,null,{"$f":"K47*0.3","v":153767158.16099998}]
[null,null,null,null,null,null,null,null,null,null,null,null,null,null,null,{"$f":"P46-P47","v":{"$error":"#REF!"}},"IR a Recolher"]
[null,null,null,null,null,null,null,null,null,null,{"$f":"K48-P47","v":{"$error":"#REF!"}},null,null,null,null,{"$f":"P45","v":{"$error":"#REF!"}},"CSLL a Recolher"]
[null,null,null,null,null,null,null,null,null,null,null,null,null,null,null,{"$f":"P49+P50","v":{"$error":"#REF!"}},"Total"]

{"sheet":"DRA","index":3,"n_rows":9,"n_cols":4,"rows_kept":9,"cut":false,"hidden":false,"merged":[[0,1,0,3],[1,2,1,3],[2,11,2,12],[8,1,8,3]]}
[null,"EBSERH - EMPRESA BRASILEIRA DE SERVIÇOS HOSPITALARES"]
[null,"Demonstrações do Resultado Abrangente","31 de dezembro de 2022"]
[null,"Em reais"]
[null,"descrição"," 01.01.2022                          a                        31.12.2022"," 01.01.2021                          a                        31.12.2021"]
[null,"1 Resultado do Exercício",-454588910.49999619,-218107289.10000038]
[null,"2 Outros Resultados Abrangentes",0,0]
[null,"2.1 Ajuste de Avaliação Patrimonial",0,0]
[null,"3 Resultado Abrangente do Período",-454588910.49999619,-218107289.10000038]
[null,"As notas explicativas da Administração são parte integrante das Demonstrações Contábeis"]

{"sheet":"DVA","index":4,"n_rows":38,"n_cols":6,"rows_kept":38,"cut":false,"hidden":false,"merged":[[0,1,0,3],[1,2,1,3]]}
[null,"EBSERH - EMPRESA BRASILEIRA DE SERVIÇOS HOSPITALARES"]
[null,"Demonstração do Valor Adicionado ","31 de dezembro de 2022"]
[null,"Em reais "]
[null,"DESCRIÇÃO"," 01.01.2022                          a                        31.12.2022"," 01.01.2021                          a                        31.12.2021"]
[null,"Geração de Valor Adicionado"]
[null,"1 - Receitas",94766144.400000006,144216383.47]
[null,"1.1 - Atividades Operacionais",94766144.400000006,144216383.47]
[null,"1.1.1 - Receita de Serviços e Exploração",94766144.400000006,144216383.47]
[null,"2 - Insumos Adquiridos de Terceiros",2829165701.4499984,2507811143.6500006]
[null,"2.1 - Materiais de Consumo",1188538446.4299994,1164628947.1600001]
[null,"2.2 - Energia elétrica, Água e Esgoto, Gás",146497387.12,136889015.41]
[null,"2.3 - Serviços de Terceiros",1471337958.2999995,1197458492.5699999]
[null,"2.4 - Contigências para Riscos Cíveis",22791909.599999998,8834688.5099999998]
[null,"3 - Valor Adicionado Bruto (1-2)",-2734399557.0499983,-2363594760.1800008]
[null,"4 - Depreciação, Amortização, Impairment e Perdas",68120205.530000001,47822349.789999992]
[null,"4.1 - Depreciação do Período",48201667.229999997,36902659.329999998]
[null,"4.2 - Amortização do Período",5439697.6599999992,5904313.04]
[null,"4.3 - Redução a Valor Recuperável - Impairment",1267001.5900000001,2779.05]
[null,"4.4 - Perdas Involuntárias e Desfazimentos",13211839.050000001,5012598.37]
[null,"5 - Valor Adicionado Líquido (3-4)",-2802519762.5799985,-2411417109.9700007]
[null,"6 - Valor Adicionado Recebido em Transferência",9172753889.840004,8205184958.0199995]
[null,"6.1 - Repasses e Cotas Financeiras",8979949746.7200031,8170689931.6499996]
[null,"6.2 - Receitas Financeiras",2101690.8699999996,1061682.24]
[null,"6.3 - Outras",190702452.25000003,33433344.129999999]
[null,"7 - Valor Adicionado Total a Distribuir (5+6)",6370234127.260006,5793767848.0499992]
[null,"8 - Distribuição do Valor Adicionado",6370234127.2600031,5793767848.0500002,null,{"$f":"D25-D26","v":0}]
[null,"8.1 - Remuneração do Trabalho",6771069331.5499992,5969728612.8400002]
[null,"8.1.1 - Pessoal e Diárias",4864813135.8199997,4404456359.9300003]
[null,"8.1.2 - Encargos",1906256195.73,1565272252.9100001]
[null,"8.2 - Remuneração do Governo",4225683.8699999992,2069429.35]
[null,"8.2.1 - Impostos, Taxas, Contribuições, Multas e Juros",4225683.8699999992,2069429.35]
[null,"8.2.2 - Provisão para Imposto de Renda",0,0]
[null,"8.2.3 - Provisão para CSLL",0,0]
[null,"8.3 - Remuneração do Capital de Terceiros",49528022.339999996,40077094.960000001]
[null,"8.3.1 - Locação",49528022.339999996,40077094.960000001]
[null,"8.4 - Remuneração de Capital Próprio",-454588910.49999619,-218107289.09999999]
[null,"8.4.1 Resultado do Exercício",-454588910.49999619,-218107289.09999999]
[null,"As notas explicativas da Administração são parte integrante das Demonstrações Contábeis "]

{"sheet":"DMPL","index":5,"n_rows":22,"n_cols":6,"rows_kept":22,"cut":false,"hidden":false,"merged":[[21,1,21,5],[2,13,2,14],[1,4,1,5],[0,1,0,5],[12,1,13,1],[12,2,13,2],[12,3,13,3],[12,4,13,4],[12,5,13,5],[11,1,11,5],[3,1,4,1],[3,2,4,2],[3,3,4,3],[3,4,4,4],[3,5,4,5]]}
[null,"EBSERH - EMPRESA BRASILEIRA DE SERVIÇOS HOSPITALARES"]
[null,"Demonstração Consolidada das Mutações do Patrimônio Líquido ",null,null,"31 de dezembro de 2022"]
[null,"Em reais"]
[null,"Componentes ","Capital Social Integralizado","Reservas de Capital - AFAC","Resultados Acumulados","Patrimônio Líquido "]
[]
[null,"Saldos Iniciais 31/12/2020",381384237.75,202658776.91,-529544354.01999998,54498660.640000001]
[null,"Resultado Líquido do Exercício",0,0,-218107289.09999999,0]
[null,"Adiantamento para Futuro Aumento de Capital - AFAC",0,112365624.37,0,0]
[null,"Integralização de AFAC ao Capital Social",181119026.97,-181119026.97,0,0]
[null,"Saldos Finais em 31/12/2021",562503264.72000003,133905374.30999997,-747651643.12,-51243004.090000033]
[]
[]
[null,"Componentes ","Capital Social Integralizado","Reservas de Capital - AFAC","Resultados Acumulados","Patrimônio Líquido"]
[]
[null,"Saldos Iniciais em 31/12/2021",562503264.72000003,133905374.31,-747651643.13,-51243004.090000004]
[null,"Resultado Líquido do Exercício",0,0,-454588910.49999619,0]
[null,"Adiantamento para Futuro Aumento de Capital - AFAC",0,228745272.01999992,0,0]
[null,"Compensação do Prejuízo",0,0,0,0]
[null,"Ajustes de Exercícios Anteriores",0,0,0,0]
[null,"Integralização de AFAC ao Capital Social",119056780.93999994,-119056780.93999994,0,0]
[null,"Saldos Finais em 31/12/2022",681560045.65999997,243593865.38999999,-1202240553.6299963,-277086642.57999635]
[null,"As notas explicativas da Administração são parte integrante das Demonstrações Contábeis"]

{"sheet":"--","index":6,"n_rows":192,"n_cols":4,"rows_kept":192,"cut":false,"hidden":true,"merged":[]}
["1 - Receitas",null,"Grupo Dva","Subgrupo DVA"]
["1.1 - Atividades operacionais",null,"1.1 - Atividades operacionais","1.1 - Atividades operacionais"]
["Relatório Financeiro PF",null,"Relatório Financeiro PF","Relatório Financeiro PF"]
["2 - Insumos Adquiridos de Terceiros",null,"2 - Insumos Adquiridos de Terceiros","2 - Insumos Adquiridos de Terceiros"]
["2.1 - Materiais de Consumo",null,"2 - Insumos Adquiridos de Terceiros","2.1 - Materiais de Consumo"]
["3.3.1.1.1.01.00",{"$f":"VLOOKUP(A6,#REF!,2,0)","v":{"$error":"#REF!"}},"2 - Insumos Adquiridos de Terceiros","2.1 - Materiais de Consumo"]
["3.3.1.1.1.02.00",{"$f":"VLOOKUP(A7,#REF!,2,0)","v":{"$error":"#REF!"}},"2 - Insumos Adquiridos de Terceiros","2.1 - Materiais de Consumo"]
["3.3.1.1.1.03.00",{"$f":"VLOOKUP(A8,#REF!,2,0)","v":{"$error":"#REF!"}},"2 - Insumos Adquiridos de Terceiros","2.1 - Materiais de Consumo"]
["3.3.1.1.1.04.00",{"$f":"VLOOKUP(A9,#REF!,2,0)","v":{"$error":"#REF!"}},"2 - Insumos Adquiridos de Terceiros","2.1 - Materiais de Consumo"]
["3.3.1.1.1.05.00",{"$f":"VLOOKUP(A10,#REF!,2,0)","v":{"$error":"#REF!"}},"2 - Insumos Adquiridos de Terceiros","2.1 - Materiais de Consumo"]
["3.3.1.1.1.06.00",{"$f":"VLOOKUP(A11,#REF!,2,0)","v":{"$error":"#REF!"}},"2 - Insumos Adquiridos de Terceiros","2.1 - Materiais de Consumo"]
["3.3.1.1.1.07.00",{"$f":"VLOOKUP(A12,#REF!,2,0)","v":{"$error":"#REF!"}},"2 - Insumos Adquiridos de Terceiros","2.1 - Materiais de Consumo"]
["3.3.1.1.1.08.00",{"$f":"VLOOKUP(A13,#REF!,2,0)","v":{"$error":"#REF!"}},"2 - Insumos Adquiridos de Terceiros","2.1 - Materiais de Consumo"]
["3.3.1.1.1.09.00",{"$f":"VLOOKUP(A14,#REF!,2,0)","v":{"$error":"#REF!"}},"2 - Insumos Adquiridos de Terceiros","2.1 - Materiais de Consumo"]
["3.3.1.1.1.99.00",{"$f":"VLOOKUP(A15,#REF!,2,0)","v":{"$error":"#REF!"}},"2 - Insumos Adquiridos de Terceiros","2.1 - Materiais de Consumo"]
["3.6.3.3.1.01.00",{"$f":"VLOOKUP(A16,#REF!,2,0)","v":{"$error":"#REF!"}},"2 - Insumos Adquiridos de Terceiros","2.1 - Materiais de Consumo"]
["2.2 - Energia elétrica, Água e Esgoto, Gás",null,"2 - Insumos Adquiridos de Terceiros","2.2 - Energia elétrica, Água e Esgoto, Gás"]
["3.3.2.3.2.08.00",{"$f":"VLOOKUP(A18,#REF!,2,0)","v":{"$error":"#REF!"}},"2 - Insumos Adquiridos de Terceiros","2.2 - Energia elétrica, Água e Esgoto, Gás"]
["3.3.2.3.4.08.00",{"$f":"VLOOKUP(A19,#REF!,2,0)","v":{"$error":"#REF!"}},"2 - Insumos Adquiridos de Terceiros","2.2 - Energia elétrica, Água e Esgoto, Gás"]
["3.3.2.3.1.08.00",{"$f":"VLOOKUP(A20,#REF!,2,0)","v":{"$error":"#REF!"}},"2 - Insumos Adquiridos de Terceiros","2.2 - Energia elétrica, Água e Esgoto, Gás"]
["2.3 - Serviços de Terceiros",null,"2 - Insumos Adquiridos de Terceiros","2.3 - Serviços de Terceiros"]
["3.3.2.2.1.01.00",{"$f":"VLOOKUP(A22,#REF!,2,0)","v":{"$error":"#REF!"}},"2 - Insumos Adquiridos de Terceiros","2.3 - Serviços de Terceiros"]
["3.3.2.2.1.02.00",{"$f":"VLOOKUP(A23,#REF!,2,0)","v":{"$error":"#REF!"}},"2 - Insumos Adquiridos de Terceiros","2.3 - Serviços de Terceiros"]
["3.3.2.2.1.09.00",{"$f":"VLOOKUP(A24,#REF!,2,0)","v":{"$error":"#REF!"}},"2 - Insumos Adquiridos de Terceiros","2.3 - Serviços de Terceiros"]
["3.3.2.2.1.05.00",{"$f":"VLOOKUP(A25,#REF!,2,0)","v":{"$error":"#REF!"}},"2 - Insumos Adquiridos de Terceiros","2.3 - Serviços de Terceiros"]
["3.3.2.3.1.01.00",{"$f":"VLOOKUP(A26,#REF!,2,0)","v":{"$error":"#REF!"}},"2 - Insumos Adquiridos de Terceiros","2.3 - Serviços de Terceiros"]
["3.3.2.3.1.02.00",{"$f":"VLOOKUP(A27,#REF!,2,0)","v":{"$error":"#REF!"}},"2 - Insumos Adquiridos de Terceiros","2.3 - Serviços de Terceiros"]
["3.3.2.3.1.03.00",{"$f":"VLOOKUP(A28,#REF!,2,0)","v":{"$error":"#REF!"}},"2 - Insumos Adquiridos de Terceiros","2.3 - Serviços de Terceiros"]
["3.3.2.3.1.04.00",{"$f":"VLOOKUP(A29,#REF!,2,0)","v":{"$error":"#REF!"}},"2 - Insumos Adquiridos de Terceiros","2.3 - Serviços de Terceiros"]
["3.3.2.3.1.05.00",{"$f":"VLOOKUP(A30,#REF!,2,0)","v":{"$error":"#REF!"}},"2 - Insumos Adquiridos de Terceiros","2.3 - Serviços de Terceiros"]
["3.3.2.3.1.06.00",{"$f":"VLOOKUP(A31,#REF!,2,0)","v":{"$error":"#REF!"}},"2 - Insumos Adquiridos de Terceiros","2.3 - Serviços de Terceiros"]
["3.3.2.3.1.07.00",{"$f":"VLOOKUP(A32,#REF!,2,0)","v":{"$error":"#REF!"}},"2 - Insumos Adquiridos de Terceiros","2.3 - Serviços de Terceiros"]
["3.3.2.3.1.10.00",{"$f":"VLOOKUP(A33,#REF!,2,0)","v":{"$error":"#REF!"}},"2 - Insumos Adquiridos de Terceiros","2.3 - Serviços de Terceiros"]
["3.3.2.3.1.11.00",{"$f":"VLOOKUP(A34,#REF!,2,0)","v":{"$error":"#REF!"}},"2 - Insumos Adquiridos de Terceiros","2.3 - Serviços de Terceiros"]
["3.3.2.3.1.12.00",{"$f":"VLOOKUP(A35,#REF!,2,0)","v":{"$error":"#REF!"}},"2 - Insumos Adquiridos de Terceiros","2.3 - Serviços de Terceiros"]
["3.3.2.3.1.13.00",{"$f":"VLOOKUP(A36,#REF!,2,0)","v":{"$error":"#REF!"}},"2 - Insumos Adquiridos de Terceiros","2.3 - Serviços de Terceiros"]
["3.3.2.3.1.14.00",{"$f":"VLOOKUP(A37,#REF!,2,0)","v":{"$error":"#REF!"}},"2 - Insumos Adquiridos de Terceiros","2.3 - Serviços de Terceiros"]
["3.3.2.3.1.99.00",{"$f":"VLOOKUP(A38,#REF!,2,0)","v":{"$error":"#REF!"}},"2 - Insumos Adquiridos de Terceiros","2.3 - Serviços de Terceiros"]
["3.3.2.3.2.01.00",{"$f":"VLOOKUP(A39,#REF!,2,0)","v":{"$error":"#REF!"}},"2 - Insumos Adquiridos de Terceiros","2.3 - Serviços de Terceiros"]
["3.3.2.3.2.02.00",{"$f":"VLOOKUP(A40,#REF!,2,0)","v":{"$error":"#REF!"}},"2 - Insumos Adquiridos de Terceiros","2.3 - Serviços de Terceiros"]
["3.3.2.3.2.03.00",{"$f":"VLOOKUP(A41,#REF!,2,0)","v":{"$error":"#REF!"}},"2 - Insumos Adquiridos de Terceiros","2.3 - Serviços de Terceiros"]
["3.3.2.3.2.05.00",{"$f":"VLOOKUP(A42,#REF!,2,0)","v":{"$error":"#REF!"}},"2 - Insumos Adquiridos de Terceiros","2.3 - Serviços de Terceiros"]
["3.3.2.3.2.11.00",{"$f":"VLOOKUP(A43,#REF!,2,0)","v":{"$error":"#REF!"}},"2 - Insumos Adquiridos de Terceiros","2.3 - Serviços de Terceiros"]
["3.3.2.3.2.12.00",{"$f":"VLOOKUP(A44,#REF!,2,0)","v":{"$error":"#REF!"}},"2 - Insumos Adquiridos de Terceiros","2.3 - Serviços de Terceiros"]
["3.3.2.3.4.12.00",{"$f":"VLOOKUP(A45,#REF!,2,0)","v":{"$error":"#REF!"}},"2 - Insumos Adquiridos de Terceiros","2.3 - Serviços de Terceiros"]
["3.3.2.3.4.01.00",{"$f":"VLOOKUP(A46,#REF!,2,0)","v":{"$error":"#REF!"}},"2 - Insumos Adquiridos de Terceiros","2.3 - Serviços de Terceiros"]
["3.3.2.3.4.03.00",{"$f":"VLOOKUP(A47,#REF!,2,0)","v":{"$error":"#REF!"}},"2 - Insumos Adquiridos de Terceiros","2.3 - Serviços de Terceiros"]
["3.3.2.3.4.05.00",{"$f":"VLOOKUP(A48,#REF!,2,0)","v":{"$error":"#REF!"}},"2 - Insumos Adquiridos de Terceiros","2.3 - Serviços de Terceiros"]
["3.3.2.3.4.11.00",{"$f":"VLOOKUP(A49,#REF!,2,0)","v":{"$error":"#REF!"}},"2 - Insumos Adquiridos de Terceiros","2.3 - Serviços de Terceiros"]
["3.3.2.3.4.13.00",{"$f":"VLOOKUP(A50,#REF!,2,0)","v":{"$error":"#REF!"}},"2 - Insumos Adquiridos de Terceiros","2.3 - Serviços de Terceiros"]
["3.3.2.3.5.02.00",{"$f":"VLOOKUP(A51,#REF!,2,0)","v":{"$error":"#REF!"}},"2 - Insumos Adquiridos de Terceiros","2.3 - Serviços de Terceiros"]
["3.6.4.0.1.01.00",{"$f":"VLOOKUP(A52,#REF!,2,0)","v":{"$error":"#REF!"}},"2 - Insumos Adquiridos de Terceiros","2.3 - Serviços de Terceiros"]
["3.6.4.0.2.01.00",{"$f":"VLOOKUP(A53,#REF!,2,0)","v":{"$error":"#REF!"}},"2 - Insumos Adquiridos de Terceiros","2.3 - Serviços de Terceiros"]
["3.3.2.2.1.10.00",{"$f":"VLOOKUP(A54,#REF!,2,0)","v":{"$error":"#REF!"}},"2 - Insumos Adquiridos de Terceiros","2.3 - Serviços de Terceiros"]
["3 - Valor Adicionado Bruto (1-2)",null,"3 - Valor Adicionado Bruto (1-2)","3 - Valor Adicionado Bruto (1-2)"]
["4 - Depreciação, Amortização e Exaustão",null,"4 - Depreciação, Amortização e Exaustão","4 - Depreciação, Amortização e Exaustão"]
["4.1 - Depreciação do Período",null,"4 - Depreciação, Amortização e Exaustão","4.1 - Depreciação do Período"]
["3.3.3.1.1.01.00",{"$f":"VLOOKUP(A58,#REF!,2,0)","v":{"$error":"#REF!"}},"4 - Depreciação, Amortização e Exaustão","4.1 - Depreciação do Período"]
["3.3.3.1.1.02.00",{"$f":"VLOOKUP(A59,#REF!,2,0)","v":{"$error":"#REF!"}},"4 - Depreciação, Amortização e Exaustão","4.1 - Depreciação do Período"]
["4.2 - Amortização do Período",null,"4 - Depreciação, Amortização e Exaustão","4.2 - Amortização do Período"]
["3.3.3.2.1.01.00",null,"4 - Depreciação, Amortização e Exaustão","4.2 - Amortização do Período"]
["3.3.3.2.1.02.00",{"$f":"VLOOKUP(A62,#REF!,2,0)","v":{"$error":"#REF!"}},"4 - Depreciação, Amortização e Exaustão","4.2 - Amortização do Período"]
["5 - Valor Adicionado Líquido (3-4)",null,"5 - Valor Adicionado Líquido (3-4)","5 - Valor Adicionado Líquido (3-4)"]
["6 - Valor Adicionado Recebido em Transferência",null,"6 - Valor Adicionado Recebido em Transferência","6 - Valor Adicionado Recebido em Transferência"]
["6.1 Repasses e Cotas Financeiras",null,"6 - Valor Adicionado Recebido em Transferência","6.1 Repasses e Cotas Financeiras"]
["3.5.1.1.2.02.00",{"$f":"VLOOKUP(A66,#REF!,2,0)","v":{"$error":"#REF!"}},"6 - Valor Adicionado Recebido em Transferência","6.1 Repasses e Cotas Financeiras"]
["3.5.1.1.2.03.00",{"$f":"VLOOKUP(A67,#REF!,2,0)","v":{"$error":"#REF!"}},"6 - Valor Adicionado Recebido em Transferência","6.1 Repasses e Cotas Financeiras"]
["3.5.1.1.2.08.02",{"$f":"VLOOKUP(A68,#REF!,2,0)","v":{"$error":"#REF!"}},"6 - Valor Adicionado Recebido em Transferência","6.1 Repasses e Cotas Financeiras"]
["3.5.1.2.2.01.00",{"$f":"VLOOKUP(A69,#REF!,2,0)","v":{"$error":"#REF!"}},"6 - Valor Adicionado Recebido em Transferência","6.1 Repasses e Cotas Financeiras"]
["3.5.1.2.2.02.00",{"$f":"VLOOKUP(A70,#REF!,2,0)","v":{"$error":"#REF!"}},"6 - Valor Adicionado Recebido em Transferência","6.1 Repasses e Cotas Financeiras"]
["3.5.6.0.1.04.00",{"$f":"VLOOKUP(A71,#REF!,2,0)","v":{"$error":"#REF!"}},"6 - Valor Adicionado Recebido em Transferência","6.1 Repasses e Cotas Financeiras"]
["3.5.9.0.2.01.00",{"$f":"VLOOKUP(A72,#REF!,2,0)","v":{"$error":"#REF!"}},"6 - Valor Adicionado Recebido em Transferência","6.1 Repasses e Cotas Financeiras"]
["3.5.9.0.5.01.00",{"$f":"VLOOKUP(A73,#REF!,2,0)","v":{"$error":"#REF!"}},"6 - Valor Adicionado Recebido em Transferência","6.1 Repasses e Cotas Financeiras"]
["3.4.3.9.2.01.01",{"$f":"VLOOKUP(A74,#REF!,2,0)","v":{"$error":"#REF!"}},"6 - Valor Adicionado Recebido em Transferência","6.1 Repasses e Cotas Financeiras"]
["3.5.9.0.1.01.00",{"$f":"VLOOKUP(A75,#REF!,2,0)","v":{"$error":"#REF!"}},"6 - Valor Adicionado Recebido em Transferência","6.1 Repasses e Cotas Financeiras"]
["4.3.3.1.2.01.00",{"$f":"VLOOKUP(A76,#REF!,2,0)","v":{"$error":"#REF!"}},"6 - Valor Adicionado Recebido em Transferência","6.1 Repasses e Cotas Financeiras"]
["4.3.3.1.5.01.00",{"$f":"VLOOKUP(A77,#REF!,2,0)","v":{"$error":"#REF!"}},"6 - Valor Adicionado Recebido em Transferência","6.1 Repasses e Cotas Financeiras"]
["4.3.3.9.1.01.00",{"$f":"VLOOKUP(A78,#REF!,2,0)","v":{"$error":"#REF!"}},"6 - Valor Adicionado Recebido em Transferência","6.1 Repasses e Cotas Financeiras"]
["4.3.3.9.5.01.00",{"$f":"VLOOKUP(A79,#REF!,2,0)","v":{"$error":"#REF!"}},"6 - Valor Adicionado Recebido em Transferência","6.1 Repasses e Cotas Financeiras"]
["4.3.3.9.1.99.00",{"$f":"VLOOKUP(A80,#REF!,2,0)","v":{"$error":"#REF!"}},"6 - Valor Adicionado Recebido em Transferência","6.1 Repasses e Cotas Financeiras"]
["4.5.1.1.2.02.00",{"$f":"VLOOKUP(A81,#REF!,2,0)","v":{"$error":"#REF!"}},"6 - Valor Adicionado Recebido em Transferência","6.1 Repasses e Cotas Financeiras"]
["4.5.1.1.2.03.00",{"$f":"VLOOKUP(A82,#REF!,2,0)","v":{"$error":"#REF!"}},"6 - Valor Adicionado Recebido em Transferência","6.1 Repasses e Cotas Financeiras"]
["4.5.1.2.2.01.00",{"$f":"VLOOKUP(A83,#REF!,2,0)","v":{"$error":"#REF!"}},"6 - Valor Adicionado Recebido em Transferência","6.1 Repasses e Cotas Financeiras"]
["4.5.1.2.2.02.00",{"$f":"VLOOKUP(A84,#REF!,2,0)","v":{"$error":"#REF!"}},"6 - Valor Adicionado Recebido em Transferência","6.1 Repasses e Cotas Financeiras"]
["4.5.9.0.1.01.00",{"$f":"VLOOKUP(A85,#REF!,2,0)","v":{"$error":"#REF!"}},"6 - Valor Adicionado Recebido em Transferência","6.1 Repasses e Cotas Financeiras"]
["4.5.9.0.2.01.00",{"$f":"VLOOKUP(A86,#REF!,2,0)","v":{"$error":"#REF!"}},"6 - Valor Adicionado Recebido em Transferência","6.1 Repasses e Cotas Financeiras"]
["4.4.5.2.1.01.00",{"$f":"VLOOKUP(A87,#REF!,2,0)","v":{"$error":"#REF!"}},"6 - Valor Adicionado Recebido em Transferência","6.1 Repasses e Cotas Financeiras"]
["6.2 Receitas Financeiras",null,"6 - Valor Adicionado Recebido em Transferência","6.2 Receitas Financeiras"]
["Receitas Financeiras",null,"6 - Valor Adicionado Recebido em Transferência","6.2 Receitas Financeiras"]
["6.3 Outras",null,"6 - Valor Adicionado Recebido em Transferência","6.3 Outras"]
["4.3.3.1.1.01.00",{"$f":"VLOOKUP(A91,#REF!,2,0)","v":{"$error":"#REF!"}},"6 - Valor Adicionado Recebido em Transferência","6.3 Outras"]
["4.5.1.2.2.03.00",{"$f":"VLOOKUP(A92,#REF!,2,0)","v":{"$error":"#REF!"}},"6 - Valor Adicionado Recebido em Transferência","6.3 Outras"]
["4.4.2.9.1.01.00",{"$f":"VLOOKUP(A93,#REF!,2,0)","v":{"$error":"#REF!"}},"6 - Valor Adicionado Recebido em Transferência","6.3 Outras"]
["4.6.3.1.1.01.00","GANHOS COM INCORPORACAO DE ATIVOS","6 - Valor Adicionado Recebido em Transferência","6.3 Outras"]
["4.6.3.9.1.01.00",{"$f":"VLOOKUP(A95,#REF!,2,0)","v":{"$error":"#REF!"}},"6 - Valor Adicionado Recebido em Transferência","6.3 Outras"]
["4.6.3.9.2.01.00",{"$f":"VLOOKUP(A96,#REF!,2,0)","v":{"$error":"#REF!"}},"6 - Valor Adicionado Recebido em Transferência","6.3 Outras"]
["4.6.4.0.1.01.00",{"$f":"VLOOKUP(A97,#REF!,2,0)","v":{"$error":"#REF!"}},"6 - Valor Adicionado Recebido em Transferência","6.3 Outras"]
["4.6.4.0.2.01.00",{"$f":"VLOOKUP(A98,#REF!,2,0)","v":{"$error":"#REF!"}},"6 - Valor Adicionado Recebido em Transferência","6.3 Outras"]
["4.9.9.6.1.02.00",{"$f":"VLOOKUP(A99,#REF!,2,0)","v":{"$error":"#REF!"}},"6 - Valor Adicionado Recebido em Transferência","6.3 Outras"]
["4.9.9.9.1.01.00",{"$f":"VLOOKUP(A100,#REF!,2,0)","v":{"$error":"#REF!"}},"6 - Valor Adicionado Recebido em Transferência","6.3 Outras"]
["4.9.7.1.1.01.00",{"$f":"VLOOKUP(A101,#REF!,2,0)","v":{"$error":"#REF!"}},"6 - Valor Adicionado Recebido em Transferência","6.3 Outras"]
["4.9.9.5.1.01.00",{"$f":"VLOOKUP(A102,#REF!,2,0)","v":{"$error":"#REF!"}},"6 - Valor Adicionado Recebido em Transferência","6.3 Outras"]
["3.5.3.1.1.01.00",{"$f":"VLOOKUP(A103,#REF!,2,0)","v":{"$error":"#REF!"}},"6 - Valor Adicionado Recebido em Transferência","6.3 Outras"]
["3.5.2.3.1.01.00",{"$f":"VLOOKUP(A104,#REF!,2,0)","v":{"$error":"#REF!"}},"6 - Valor Adicionado Recebido em Transferência","6.3 Outras"]
["3.5.1.2.2.03.00",{"$f":"VLOOKUP(A105,#REF!,2,0)","v":{"$error":"#REF!"}},"6 - Valor Adicionado Recebido em Transferência","6.3 Outras"]
["3.5.1.2.2.05.00",{"$f":"VLOOKUP(A106,#REF!,2,0)","v":{"$error":"#REF!"}},"6 - Valor Adicionado Recebido em Transferência","6.3 Outras"]
["3.6.5.0.1.01.00","INCORPORACAO DE PASSIVOS","6 - Valor Adicionado Recebido em Transferência","6.3 Outras"]
["3.6.5.0.2.01.00",{"$f":"VLOOKUP(A108,#REF!,2,0)","v":{"$error":"#REF!"}},"6 - Valor Adicionado Recebido em Transferência","6.3 Outras"]
["3.5.9.0.4.01.00",{"$f":"VLOOKUP(A109,#REF!,2,0)","v":{"$error":"#REF!"}},"6 - Valor Adicionado Recebido em Transferência","6.3 Outras"]
["3.6.3.1.1.01.00",{"$f":"VLOOKUP(A110,#REF!,2,0)","v":{"$error":"#REF!"}},"6 - Valor Adicionado Recebido em Transferência","6.3 Outras"]
["7 - Valor Adicionado Total a Distribuir (5+6)",null,"7 - Valor Adicionado Total a Distribuir (5+6)","7 - Valor Adicionado Total a Distribuir (5+6)"]
["8 - Distribuição do Valor Adicionado",null,"8 - Distribuição do Valor Adicionado","8 - Distribuição do Valor Adicionado"]
["8.1 - Remuneração do Trabalho",null,"8 - Distribuição do Valor Adicionado","8.1 - Remuneração do Trabalho"]
["8.1.1 - Pessoal e Diárias",null,"8 - Distribuição do Valor Adicionado","8.1.1 - Pessoal e Diárias"]
["3.1.1.1.1.01.00",null,"8 - Distribuição do Valor Adicionado","8.1.1 - Pessoal e Diárias"]
["3.1.1.1.1.03.00",{"$f":"VLOOKUP(A116,#REF!,2,0)","v":{"$error":"#REF!"}},"8 - Distribuição do Valor Adicionado","8.1.1 - Pessoal e Diárias"]
["3.1.1.1.1.04.00",{"$f":"VLOOKUP(A117,#REF!,2,0)","v":{"$error":"#REF!"}},"8 - Distribuição do Valor Adicionado","8.1.1 - Pessoal e Diárias"]
["3.1.1.1.1.09.00",{"$f":"VLOOKUP(A118,#REF!,2,0)","v":{"$error":"#REF!"}},"8 - Distribuição do Valor Adicionado","8.1.1 - Pessoal e Diárias"]
["3.3.2.1.1.01.00",{"$f":"VLOOKUP(A119,#REF!,2,0)","v":{"$error":"#REF!"}},"8 - Distribuição do Valor Adicionado","8.1.1 - Pessoal e Diárias"]
["3.1.1.1.1.05.00",{"$f":"VLOOKUP(A120,#REF!,2,0)","v":{"$error":"#REF!"}},"8 - Distribuição do Valor Adicionado","8.1.1 - Pessoal e Diárias"]
["3.1.1.2.1.01.00","SERVICOS DE CONFECCOES - PJ","8 - Distribuição do Valor Adicionado","8.1.1 - Pessoal e Diárias"]
["3.1.1.2.1.02.00",{"$f":"VLOOKUP(A122,#REF!,2,0)","v":{"$error":"#REF!"}},"8 - Distribuição do Valor Adicionado","8.1.1 - Pessoal e Diárias"]
["3.1.1.2.1.03.00",{"$f":"VLOOKUP(A123,#REF!,2,0)","v":{"$error":"#REF!"}},"8 - Distribuição do Valor Adicionado","8.1.1 - Pessoal e Diárias"]
["3.1.1.2.1.04.00",{"$f":"VLOOKUP(A124,#REF!,2,0)","v":{"$error":"#REF!"}},"8 - Distribuição do Valor Adicionado","8.1.1 - Pessoal e Diárias"]
["3.1.1.2.1.05.00",{"$f":"VLOOKUP(A125,#REF!,2,0)","v":{"$error":"#REF!"}},"8 - Distribuição do Valor Adicionado","8.1.1 - Pessoal e Diárias"]
["3.1.1.1.1.06.00",{"$f":"VLOOKUP(A126,#REF!,2,0)","v":{"$error":"#REF!"}},"8 - Distribuição do Valor Adicionado","8.1.1 - Pessoal e Diárias"]
["3.1.1.2.1.06.00",{"$f":"VLOOKUP(A127,#REF!,2,0)","v":{"$error":"#REF!"}},"8 - Distribuição do Valor Adicionado","8.1.1 - Pessoal e Diárias"]
["3.1.1.2.1.09.00",{"$f":"VLOOKUP(A128,#REF!,2,0)","v":{"$error":"#REF!"}},"8 - Distribuição do Valor Adicionado","8.1.1 - Pessoal e Diárias"]
["3.1.3.1.1.04.00",{"$f":"VLOOKUP(A129,#REF!,2,0)","v":{"$error":"#REF!"}},"8 - Distribuição do Valor Adicionado","8.1.1 - Pessoal e Diárias"]
["3.1.3.2.1.02.00",{"$f":"VLOOKUP(A130,#REF!,2,0)","v":{"$error":"#REF!"}},"8 - Distribuição do Valor Adicionado","8.1.1 - Pessoal e Diárias"]
["3.1.3.2.1.04.00",{"$f":"VLOOKUP(A131,#REF!,2,0)","v":{"$error":"#REF!"}},"8 - Distribuição do Valor Adicionado","8.1.1 - Pessoal e Diárias"]
["3.1.3.2.1.05.00",{"$f":"VLOOKUP(A132,#REF!,2,0)","v":{"$error":"#REF!"}},"8 - Distribuição do Valor Adicionado","8.1.1 - Pessoal e Diárias"]
["3.1.3.2.1.06.00",{"$f":"VLOOKUP(A133,#REF!,2,0)","v":{"$error":"#REF!"}},"8 - Distribuição do Valor Adicionado","8.1.1 - Pessoal e Diárias"]
["3.1.3.2.1.07.00",{"$f":"VLOOKUP(A134,#REF!,2,0)","v":{"$error":"#REF!"}},"8 - Distribuição do Valor Adicionado","8.1.1 - Pessoal e Diárias"]
["3.1.9.1.1.01.00",{"$f":"VLOOKUP(A135,#REF!,2,0)","v":{"$error":"#REF!"}},"8 - Distribuição do Valor Adicionado","8.1.1 - Pessoal e Diárias"]
["3.1.2.2.2.09.00",{"$f":"VLOOKUP(A136,#REF!,2,0)","v":{"$error":"#REF!"}},"8 - Distribuição do Valor Adicionado","8.1.1 - Pessoal e Diárias"]
["3.1.9.2.1.01.00",{"$f":"VLOOKUP(A137,#REF!,2,0)","v":{"$error":"#REF!"}},"8 - Distribuição do Valor Adicionado","8.1.1 - Pessoal e Diárias"]
["3.1.9.2.2.01.00",{"$f":"VLOOKUP(A138,#REF!,2,0)","v":{"$error":"#REF!"}},"8 - Distribuição do Valor Adicionado","8.1.1 - Pessoal e Diárias"]
["3.1.9.2.4.01.00",{"$f":"VLOOKUP(A139,#REF!,2,0)","v":{"$error":"#REF!"}},"8 - Distribuição do Valor Adicionado","8.1.1 - Pessoal e Diárias"]
["3.1.9.2.5.01.00",{"$f":"VLOOKUP(A140,#REF!,2,0)","v":{"$error":"#REF!"}},"8 - Distribuição do Valor Adicionado","8.1.1 - Pessoal e Diárias"]
["3.9.4.1.1.01.00",{"$f":"VLOOKUP(A141,#REF!,2,0)","v":{"$error":"#REF!"}},"8 - Distribuição do Valor Adicionado","8.1.1 - Pessoal e Diárias"]
["3.9.7.1.1.01.00",{"$f":"VLOOKUP(A142,#REF!,2,0)","v":{"$error":"#REF!"}},"8 - Distribuição do Valor Adicionado","8.1.1 - Pessoal e Diárias"]
["3.9.7.4.1.01.00",{"$f":"VLOOKUP(A143,#REF!,2,0)","v":{"$error":"#REF!"}},"8 - Distribuição do Valor Adicionado","8.1.1 - Pessoal e Diárias"]
["3.9.9.6.1.01.00",{"$f":"VLOOKUP(A144,#REF!,2,0)","v":{"$error":"#REF!"}},"8 - Distribuição do Valor Adicionado","8.1.1 - Pessoal e Diárias"]
["3.9.9.6.2.02.00",{"$f":"VLOOKUP(A145,#REF!,2,0)","v":{"$error":"#REF!"}},"8 - Distribuição do Valor Adicionado","8.1.1 - Pessoal e Diárias"]
["3.9.9.6.4.02.00",{"$f":"VLOOKUP(A146,#REF!,2,0)","v":{"$error":"#REF!"}},"8 - Distribuição do Valor Adicionado","8.1.1 - Pessoal e Diárias"]
["3.9.4.2.1.01.00",{"$f":"VLOOKUP(A147,#REF!,2,0)","v":{"$error":"#REF!"}},"8 - Distribuição do Valor Adicionado","8.1.1 - Pessoal e Diárias"]
["3.9.9.6.1.02.00",{"$f":"VLOOKUP(A148,#REF!,2,0)","v":{"$error":"#REF!"}},"8 - Distribuição do Valor Adicionado","8.1.1 - Pessoal e Diárias"]
["8.1.2 - Encargos",null,"8 - Distribuição do Valor Adicionado","8.1.2 - Encargos"]
["3.1.2.1.2.01.00",{"$f":"VLOOKUP(A150,#REF!,2,0)","v":{"$error":"#REF!"}},"8 - Distribuição do Valor Adicionado","8.1.2 - Encargos"]
["3.1.2.2.2.01.00",{"$f":"VLOOKUP(A151,#REF!,2,0)","v":{"$error":"#REF!"}},"8 - Distribuição do Valor Adicionado","8.1.2 - Encargos"]
["3.1.2.3.1.01.00",{"$f":"VLOOKUP(A152,#REF!,2,0)","v":{"$error":"#REF!"}},"8 - Distribuição do Valor Adicionado","8.1.2 - Encargos"]
["3.1.3.2.1.01.00",{"$f":"VLOOKUP(A153,#REF!,2,0)","v":{"$error":"#REF!"}},"8 - Distribuição do Valor Adicionado","8.1.2 - Encargos"]
["8.2 - Remuneração do Governo",null,"8 - Distribuição do Valor Adicionado","8.2 - Remuneração do Governo"]
["8.2.1 - Impostos, Taxas, Contribuições, Multas e Juros",null,"8 - Distribuição do Valor Adicionado","8.2.1 - Impostos, Taxas, Contribuições, Multas e Juros"]
["3.4.2.4.1.01.00",{"$f":"VLOOKUP(A156,#REF!,2,0)","v":{"$error":"#REF!"}},"8 - Distribuição do Valor Adicionado","8.2.1 - Impostos, Taxas, Contribuições, Multas e Juros"]
["3.4.2.4.2.01.00",{"$f":"VLOOKUP(A157,#REF!,2,0)","v":{"$error":"#REF!"}},"8 - Distribuição do Valor Adicionado","8.2.1 - Impostos, Taxas, Contribuições, Multas e Juros"]
["3.4.2.4.2.03.00",{"$f":"VLOOKUP(A158,#REF!,2,0)","v":{"$error":"#REF!"}},"8 - Distribuição do Valor Adicionado","8.2.1 - Impostos, Taxas, Contribuições, Multas e Juros"]
["3.4.2.4.1.02.00",{"$f":"VLOOKUP(A159,#REF!,2,0)","v":{"$error":"#REF!"}},"8 - Distribuição do Valor Adicionado","8.2.1 - Impostos, Taxas, Contribuições, Multas e Juros"]
["3.4.2.4.1.03.00",{"$f":"VLOOKUP(A160,#REF!,2,0)","v":{"$error":"#REF!"}},"8 - Distribuição do Valor Adicionado","8.2.1 - Impostos, Taxas, Contribuições, Multas e Juros"]
["3.4.2.3.1.01.00",{"$f":"VLOOKUP(A161,#REF!,2,0)","v":{"$error":"#REF!"}},"8 - Distribuição do Valor Adicionado","8.2.1 - Impostos, Taxas, Contribuições, Multas e Juros"]
["3.4.2.3.1.02.00",{"$f":"VLOOKUP(A162,#REF!,2,0)","v":{"$error":"#REF!"}},"8 - Distribuição do Valor Adicionado","8.2.1 - Impostos, Taxas, Contribuições, Multas e Juros"]
["3.4.2.3.1.03.00",{"$f":"VLOOKUP(A163,#REF!,2,0)","v":{"$error":"#REF!"}},"8 - Distribuição do Valor Adicionado","8.2.1 - Impostos, Taxas, Contribuições, Multas e Juros"]
["3.4.2.4.2.02.00",{"$f":"VLOOKUP(A164,#REF!,2,0)","v":{"$error":"#REF!"}},"8 - Distribuição do Valor Adicionado","8.2.1 - Impostos, Taxas, Contribuições, Multas e Juros"]
["3.4.2.4.4.02.00",{"$f":"VLOOKUP(A165,#REF!,2,0)","v":{"$error":"#REF!"}},"8 - Distribuição do Valor Adicionado","8.2.1 - Impostos, Taxas, Contribuições, Multas e Juros"]
["3.4.2.4.4.03.00",{"$f":"VLOOKUP(A166,#REF!,2,0)","v":{"$error":"#REF!"}},"8 - Distribuição do Valor Adicionado","8.2.1 - Impostos, Taxas, Contribuições, Multas e Juros"]
["3.4.2.4.5.01.00","MULTAS DEDUTIVEIS","8 - Distribuição do Valor Adicionado","8.2.1 - Impostos, Taxas, Contribuições, Multas e Juros"]
["3.4.2.4.5.02.00","MULTAS INDEDUTIVEIS","8 - Distribuição do Valor Adicionado","8.2.1 - Impostos, Taxas, Contribuições, Multas e Juros"]
["3.4.2.4.5.03.00",{"$f":"VLOOKUP(A169,#REF!,2,0)","v":{"$error":"#REF!"}},"8 - Distribuição do Valor Adicionado","8.2.1 - Impostos, Taxas, Contribuições, Multas e Juros"]
["3.4.3.9.1.01.01",{"$f":"VLOOKUP(A170,#REF!,2,0)","v":{"$error":"#REF!"}},"8 - Distribuição do Valor Adicionado","8.2.1 - Impostos, Taxas, Contribuições, Multas e Juros"]
["3.9.9.5.1.01.00","MULTAS INDEDUTIVEIS","8 - Distribuição do Valor Adicionado","8.2.1 - Impostos, Taxas, Contribuições, Multas e Juros"]
["3.9.9.5.4.01.00","ENCARGOS FINANCEIROS DEDUTIVEIS","8 - Distribuição do Valor Adicionado","8.2.1 - Impostos, Taxas, Contribuições, Multas e Juros"]
["3.9.9.5.2.01.00",{"$f":"VLOOKUP(A173,#REF!,2,0)","v":{"$error":"#REF!"}},"8 - Distribuição do Valor Adicionado","8.2.1 - Impostos, Taxas, Contribuições, Multas e Juros"]
["3.4.3.9.2.01.01",{"$f":"VLOOKUP(A174,#REF!,2,0)","v":{"$error":"#REF!"}},"8 - Distribuição do Valor Adicionado","8.2.1 - Impostos, Taxas, Contribuições, Multas e Juros"]
["3.7.1.1.1.02.00",{"$f":"VLOOKUP(A175,#REF!,2,0)","v":{"$error":"#REF!"}},"8 - Distribuição do Valor Adicionado","8.2.1 - Impostos, Taxas, Contribuições, Multas e Juros"]
["3.7.1.1.5.02.00",{"$f":"VLOOKUP(A176,#REF!,2,0)","v":{"$error":"#REF!"}},"8 - Distribuição do Valor Adicionado","8.2.1 - Impostos, Taxas, Contribuições, Multas e Juros"]
["3.7.1.2.1.01.00",{"$f":"VLOOKUP(A177,#REF!,2,0)","v":{"$error":"#REF!"}},"8 - Distribuição do Valor Adicionado","8.2.1 - Impostos, Taxas, Contribuições, Multas e Juros"]
["3.7.1.2.2.01.00",{"$f":"VLOOKUP(A178,#REF!,2,0)","v":{"$error":"#REF!"}},"8 - Distribuição do Valor Adicionado","8.2.1 - Impostos, Taxas, Contribuições, Multas e Juros"]
["3.7.1.2.4.01.00",{"$f":"VLOOKUP(A179,#REF!,2,0)","v":{"$error":"#REF!"}},"8 - Distribuição do Valor Adicionado","8.2.1 - Impostos, Taxas, Contribuições, Multas e Juros"]
["3.7.1.2.5.01.00",{"$f":"VLOOKUP(A180,#REF!,2,0)","v":{"$error":"#REF!"}},"8 - Distribuição do Valor Adicionado","8.2.1 - Impostos, Taxas, Contribuições, Multas e Juros"]
["3.7.2.1.2.04.00",{"$f":"VLOOKUP(A181,#REF!,2,0)","v":{"$error":"#REF!"}},"8 - Distribuição do Valor Adicionado","8.2.1 - Impostos, Taxas, Contribuições, Multas e Juros"]
["3.7.2.3.1.01.00",{"$f":"VLOOKUP(A182,#REF!,2,0)","v":{"$error":"#REF!"}},"8 - Distribuição do Valor Adicionado","8.2.1 - Impostos, Taxas, Contribuições, Multas e Juros"]
["3.7.2.3.5.01.00",{"$f":"VLOOKUP(A183,#REF!,2,0)","v":{"$error":"#REF!"}},"8 - Distribuição do Valor Adicionado","8.2.1 - Impostos, Taxas, Contribuições, Multas e Juros"]
["8.3 - Remuneração do Capital de Terceiros",null,"8 - Distribuição do Valor Adicionado","8.3 - Remuneração do Capital de Terceiros"]
["8.3.1 - Aluguéis",null,"8 - Distribuição do Valor Adicionado","8.3.1 - Aluguéis"]
["3.3.2.3.1.09.00",{"$f":"VLOOKUP(A186,#REF!,2,0)","v":{"$error":"#REF!"}},"8 - Distribuição do Valor Adicionado","8.3.1 - Aluguéis"]
["3.3.2.3.4.09.00",{"$f":"VLOOKUP(A187,#REF!,2,0)","v":{"$error":"#REF!"}},"8 - Distribuição do Valor Adicionado","8.3.1 - Aluguéis"]
["3.3.2.2.1.08.00",{"$f":"VLOOKUP(A188,#REF!,2,0)","v":{"$error":"#REF!"}},"8 - Distribuição do Valor Adicionado","8.3.1 - Aluguéis"]
["3.3.2.3.5.09.00",{"$f":"VLOOKUP(A189,#REF!,2,0)","v":{"$error":"#REF!"}},"8 - Distribuição do Valor Adicionado","8.3.1 - Aluguéis"]
["3.3.2.3.2.09.00",{"$f":"VLOOKUP(A190,#REF!,2,0)","v":{"$error":"#REF!"}},"8 - Distribuição do Valor Adicionado","8.3.1 - Aluguéis"]
["8.4 - Remuneração de Capital Próprio",null,"8 - Distribuição do Valor Adicionado","8.4 - Remuneração de Capital Próprio"]
["8.4.1 Resultado do Exercício",null,"8 - Distribuição do Valor Adicionado","8.4.1 Resultado do Exercício"]