{"text_format":"1","workbook":"xlsx","n_sheets":8,"sheets":["BP","DR","DFC","DVA","DMPL","DRA","Cálculo de RI","--"],"not_rendered":{"charts":0,"images":0,"macros":1,"external_links":0,"defined_names":2,"comments":0,"pivot_tables":0},"unopened":[],"bounds":{"document_bytes":16777216,"sheet_cells":100000,"rows_first":2000,"rows_last":500,"rows_between":2000,"halvings":0,"cell_chars":16384,"cell_head_chars":4096},"cells_cut":0,"cells_raw":0,"read":"whole","date_system":"1900"}

{"sheet":"BP","index":0,"n_rows":57,"n_cols":8,"rows_kept":57,"cut":false,"hidden":false,"merged":[[0,1,0,7],[3,1,3,4],[1,6,1,7],[30,6,30,7]]}
[null,"EBSERH - EMPRESA BRASILEIRA DE SERVIÇOS HOSPITALARES"]
[null,"Balanço Patrimonial Consolidado ",null,null,null,null,"30 de junho de 2022"]
[null,"Em reais"]
[null,"ATIVO ",null,null,null,"NOTA","30.06.2022","31.12.2021"]
[null,"CIRCULANTE",null,null,null,"1.1",2418207585.3599768,1347106009.1400001]
[null,null,"Caixa e Equivalentes de Caixa",null,null,"1.1.1",1025722078.03,885657238.94000006]
[null,null,"Valores a Curto Prazo - SUS",null,null,"1.1.2",1525945.23,4759346.75]
[null,null,"Subvenção de Custeio SUS a Receber",null,null,"1.1.3",834598150.47000003,0]
[null,null,"Adiantamentos e Créditos a Receber",null,null,"1.1.4",182055822.48997667,41885310.209999993]
[null,null,"Estoques",null,null,"1.1.5",374305589.13999999,414804113.24000001]
[null,null,"Valores em Liquidação",null,null,null,0,0]
[null,"NÃO CIRCULANTE",null,null,null,"1.2",759600387.02931237,703760365.91991401]
[null,null,"Valores a Longo Prazo - SUS",null,null,"1.2.1",9247709.8800000008,9148070.5899999999]
[null,null,"Depósitos Judiciais",null,null,"1.2.2",15866925.100000001,20014167.16]
[null,null,"Outras Despesas Antecipadas",null,null,"1.2.2","Fora do Siafi","Fora do Siafi"]
[null,null,"Imobilizado",null,null,"1.2.3",656950179.88,537676315.82000005]
[null,null,null,"Bens Móveis",null,"1.2.3.1",709005531.26999998,599223984.51000011]
[null,null,null,null,"Depreciação Bens Móveis","1.2.3.3",-153368285.19,-130063016.56]
[null,null,null,null,"Redução a Valor Recup. De Imobilizado","1.2.4",-5993267.8099999996,-6060015.7199999997]
[null,null,null,"Bens Imóveis",null,"1.2.3.2",107861602.71000001,74954251.829999998]
[null,null,null,null,"Depreciação Bens Imóveis","1.2.3.3",-555401.10000000009,-378888.24]
[null,null,"Intangível",null,null,"1.2.5",77535572.169312328,136921812.34991401]
[null,null,null,"Direito de uso de Bens",null,"1.2.5",38354435.109312326,99222614.189914003]
[null,null,null,"Softwares",null,"1.2.5",59007679.120000005,54634975.099999994]
[null,null,null,"Amortização Bens Intangíveis",null,"1.2.5",-17172113.059999999,-14255260.529999999]
[null,null,null,"Redução a Valor Recup. De Intangível",null,"1.2.4",-2654429,-2680516.41]
[null,"TOTAL DO ATIVO",null,null,null,null,3177807972.3892889,2050866375.0599141]
[null,"As notas explicativas da Administração são parte integrante das demonstrações contábeis consolidadas"]
[]
[null,"EBSERH - EMPRESA BRASILEIRA DE SERVIÇOS HOSPITALARES"]
[null,"Balanço Patrimonial Consolidado ",null,null,null,null,"30 de junho de 2022"]
[null,"Em reais"]
[null,"PASSIVO",null,null,null,"NOTA","30.06.2022","31.12.2021"]
[null,"CIRCULANTE",null,null,null,"2.1",2942448981.3469019,1789027555.6971855]
[null,null,"Obrigações Trabalhistas a Pagar",null,null,"2.1.1",1103338564.48,733784198.83000004]
[null,null,"Fornecedores e Contas a Pagar a Curto Prazo",null,null,"2.1.2",97156396.36999999,58479165.649999999]
[null,null,"Retenções de Impostos, Contribuições",null,null,"2.1.3",26586729.429999996,37005261.619999997]
[null,null,"Obrigações Transitórias a Curto Prazo",null,null,"2.1.4",41937827.706902266,70087014.027185664]
[null,null,"Subvenção a Realizar",null,null,"2.1.5",1673429463.3599999,889671915.56999993]
[null,"NÃO CIRCULANTE",null,null,null,null,304896352.95241004,313081823.45272833]
[null,null,"Contratos de Arrendamento a Pagar",null,null,"2.2",26908201.912410058,54240754.132728323]
[null,null,"Contingência para Indenizações Trabalhistas",null,null,"2.3",245407358.64000002,225268752.13]
[null,null,"Contingência para Indenizações Cíveis",null,null,"2.3",32580792.399999999,33572317.189999998]
[null,null,"Adiantamento Para Futuro Aumento de Capital - AFAC",null,null,"2.4",0,0]
[null,"PATRIMÔNIO LÍQUIDO",null,null,null,"2.4",-69537361.910023808,-51243004.090001345]
[null,null,"Capital Social Realizado",null,null,"2.4.1",562503264.72000003,562503264.72000003]
[null,null,"Adiantamento Para Futuro Aumento de Capital - AFAC",null,null,"2.4.2",251385399.30000001,133905374.31]
[null,null,"Ajustes de Avaliação Patrimonial de Ativos",null,null,null,null,0]
[null,null,"Prejuízos Acumulados",null,null,"2.4.3",-883426025.93002379,-747651643.12000132]
[null,null,null,"Prejuizos Acumulados de Exer. Anteriores",null,"2.4.3",-747651643.12,-529544354.01999998]
[null,null,null,"Ajustes de Exercícios Anteriores",null,"2.4.3",-5316287.350000916,0]
[null,null,null,"Resultado do Exercício",null,"2.4.3",-130458095.46002293,-218107289.10000134]
[null,"TOTAL DO PASSIVO",null,null,null,null,3177807972.3892884,2050866375.0599124]
[null,"As notas explicativas da Administração são parte integrante das Demonstrações Contábeis Consolidadas"]
[null,null,null,null,null,null,{"$f":"G53-G27","v":0},{"$f":"H53-H27","v":0}]
[]
[null,null,null,null,null,null,{"$f":"G55/2","v":0}]

{"sheet":"DR","index":1,"n_rows":51,"n_cols":18,"rows_kept":51,"cut":false,"hidden":false,"merged":[[3,1,3,3],[0,1,0,10],[30,1,30,3],[16,2,16,3],[19,2,19,3],[7,1,7,3],[22,2,22,3],[24,2,24,3],[8,2,8,3],[13,2,13,3],[1,7,1,10],[38,1,38,10],[25,1,25,3],[26,1,26,3],[29,1,29,3],[33,1,33,3],[35,1,35,3],[37,1,37,3]]}
[null,"EBSERH - EMPRESA BRASILEIRA DE SERVIÇOS HOSPITALARES"]
[null,"Demonstração do Resultado",null,null,null,null,null,"30 de junho de 2022"]
[null,"Em reais"]
[null,"DESCRIÇÃO",null,null,"Nota"," 01.01.2022                          a                        31.03.2022","  01.04.2022                          a                 30.06.2022"," 01.01.2022                          a                        30.06.2022","  01.01.2021                          a                 31.03.2021","  01.04.2021                          a                 30.06.2021"," 01.01.2021                          a                        30.06.2021"]
[null,"Receita Bruta",null,null,"3.1",27401010.899999999,24288633.700000003,51689644.600000001,34024361.840000004,29536473.239999995,63560835.079999998]
[null,null,"Receita com Serviços",null,null,27401010.899999999,24288633.700000003,51689644.600000001,34024361.840000004,29536473.239999995,63560835.079999998]
[null,null,null,"Receita de Serviços e Exploração","3.1.1",27401010.899999999,24288633.700000003,51689644.600000001,34024361.840000004,29536473.239999995,63560835.079999998]
[null,"Despesas Operacionais",null,null,"3.3",-2034227855.96,-2297515585.4300232,-4331743441.3900232,-1962363355.9200001,-2155842009.8899994,-4118205365.8099995]
[null,null,"Despesa com Pessoal, Encargos e Benefícios",null,"3.3.1",-1414495284.27,-1577836052.3900237,-2992331336.6600237,-1396877837.5699999,-1514207525.6000001,-2911085363.1700001]
[null,null,null,"Remuneração a Pessoal","3.3.2",-958107238.80999994,-1044929363.1300235,-2003036601.9400234,-1001744707.89,-1085056526.1700001,-2086801234.0600002]
[null,null,null,"Encargos Patronais","3.3.3",-333656271.53999996,-430950852.61000001,-764607124.14999998,-310158462.35999995,-338418361.90000004,-648576824.25999999]
[null,null,null,"Benefícios a Pessoal","3.3.4",-83738049.229999989,-82498530.820000023,-166236580.05000001,-81110249.299999997,-84881661.719999984,-165991911.01999998]
[null,null,null,"Outras Despesas com Pessoal e Encargos","3.3.5",-38993724.689999998,-19457305.829999998,-58451030.519999996,-3864418.02,-5850975.8100000005,-9715393.8300000001]
[null,null,"Despesa com Uso de Bens e Serviços",null,null,-602638490.38000011,-665692674.0599997,-1268331164.4399998,-554372495.71999991,-627939949.79999983,-1182312445.5199997]
[null,null,null,"Uso de Material de Consumo","3.3.6",-273770891.33999997,-294288206.54000002,-568059097.88,-258511732.80999997,-307234573.14999998,-565746305.95999992]
[null,null,null,"Serviços Tomados","3.3.7",-328867599.04000008,-371404467.51999974,-700272066.55999982,-295860762.90999991,-320705376.64999992,-616566139.55999982]
[null,null,"Despesa com Bens Móveis, Imóveis e Intangíveis",null,null,-16178590.979999999,-16375485.280000003,-32554076.260000002,-10021347.469999999,-10872401.73,-20893749.199999999]
[null,null,null,"Depreciação, Amortização e Impairment","3.3.8",-13278672.009999998,-13606511.880000003,-26885183.890000001,-9713566.7799999993,-10497157.029999999,-20210723.809999999]
[null,null,null,"Perdas Involuntárias e Desfazimentos","3.3.8",-2899918.97,-2768973.4,-5668892.3700000001,-307780.69,-375244.7,-683025.39]
[null,null,"Contingência para Riscos Fiscais",null,"3.3.9",0,-36305697.039999999,-36305697.039999999,0,-1880677.33,-1880677.33]
[null,null,null,"Contigência para Riscos Fiscais Trabalhistas",null,0,-30159902.359999999,-30159902.359999999,0,-1880677.33,-1880677.33]
[null,null,null,"Contigência para Riscos Fiscais Cíveis",null,0,-6145794.6799999997,-6145794.6799999997,0,0,0]
[null,null,"Despesas Tributárias",null,"3.3.10",-510539.76000000007,-1004262.77,-1514802.53,-499197.52,-308195.89999999991,-807393.41999999993]
[null,null,null,"Impostos, Taxas e Contribuições",null,-510539.76000000007,-1004262.77,-1514802.53,-499197.52,-308195.89999999991,-807393.41999999993]
[null,null,"Outras Despesas Operacionais",null,"3.3.11",-404950.57,-301413.88999999996,-706364.46,-592477.64,-633259.52999999991,-1225737.17]
[null,"Resultado Antes das Rec./Desp. Financeiras",null,null,null,-2006826845.0599999,-2273226951.7300234,-4280053796.7900233,-1928338994.0800002,-2126305536.6499994,-4054644530.7299995]
[null,"Resultados Financeiros",null,null,null,741286.3,-1620890.3299999998,-879604.0299999998,79617.350000000006,408274.52000000014,487891.87000000011]
[null,null,null,"Receitas Financeiras","3.3.12",1017320.64,187506.84999999998,1204827.49,160348.31,496679.9200000001,657028.2300000001]
[null,null,null,"Despesas Financeiras","3.3.13",-276034.33999999997,-1808397.1799999997,-2084431.5199999998,-80730.959999999992,-88405.4,-169136.36]
[null,"Resultado antes da Subvenção do Tesouro Nacional",null,null,"3.3.14",-2006085558.76,-2274847842.0600233,-4280933400.8200235,-1928259376.7300003,-2125897262.1299994,-4054156638.8599997]
[null,"Subvenção do Tesouro Nacional",null,null,"3.3.15",1959041916.1000004,2191433389.2600002,4150475305.3600006,1863629568.3399992,2113336060.3200006,3976965628.6599998]
[null,null,null,"Subvenção do Tesouro Nacional",null,1536420435.5500002,1779456719.3372231,3315877154.8872232,1466094842.5099993,1688459150.5800009,3154553993.0900002]
[null,null,null,"Subvenção de Custeio SUS",null,422621480.55000007,411976669.92277753,834598150.47277761,397534725.82999992,424876909.74000001,822411635.56999993]
[null,"Resultado antes da Cont. Social Sobre o Lúcro Líquido",null,null,"3.3.16",-47043642.659999609,-83414452.800023317,-130458095.46002293,-64629808.390001059,-12561201.809998751,-77191010.199999809]
[null,null,null,"Provisão Contribuição Social",null,0,0,0,0,0,0]
[null,"Resultado antes do Imposto de Renda",null,null,null,-47043642.659999609,-83414452.800023317,-130458095.46002293,-64629808.390001059,-12561201.809998751,-77191010.199999809]
[null,null,null,"Provisão para Imposto de Renda",null,0,0,0,0,0,0]
[null,"Resultado do Exercício",null,null,"3.3.18",-47043642.659999609,-83414452.800023317,-130458095.46002293,-64629808.390001059,-12561201.809998751,-77191010.199999809]
[null,"As notas explicativas da Administração são parte integrante das Demonstrações Contábeis Consolidadas"]
[]
[]
[]
[null,null,null,null,null,null,null,null,null,null,null,null,null,null,null,{"$f":"0.15","v":0.15},{"$f":"P43*O44","v":{"$error":"#REF!"}},"IR Sobre a Base"]
[null,null,null,null,null,null,null,null,null,null,null,null,null,null,{"$f":"#REF!-O43","v":{"$error":"#REF!"}},0.1,{"$f":"P44*O46","v":{"$error":"#REF!"}},"Adicional IR"]
[null,null,null,null,null,null,null,null,null,null,null,null,null,null,60000,0.09,{"$f":"O44*P45","v":{"$error":"#REF!"}},"CSLL a Recolher"]
[null,null,null,null,null,null,null,null,null,null,null,null,null,null,{"$f":"O44-O45","v":{"$error":"#REF!"}},null,{"$f":"Q43+Q44","v":{"$error":"#REF!"}},"Total de IR Apurado"]
[null,null,null,null,null,null,null,"Prejuízo Acumulado",null,null,null,null,null,null,null,0.3,{"$f":"Q46*P47","v":{"$error":"#REF!"}},"Compensação de Prejuízo Fiscal Acumulado"]
[null,null,null,null,null,null,null,"30% Base de Calculo"]
[null,null,null,null,null,null,null,null,null,null,null,null,null,null,null,null,{"$f":"Q46-Q47","v":{"$error":"#REF!"}},"IR a Recolher"]
[null,null,null,null,null,null,null,null,null,null,null,null,null,null,null,null,{"$f":"Q45","v":{"$error":"#REF!"}},"CSLL a Recolher"]
[null,null,null,null,null,null,null,null,null,null,null,null,null,null,null,null,{"$f":"Q49+Q50","v":{"$error":"#REF!"}},"Total"]

{"sheet":"DFC","index":2,"n_rows":55,"n_cols":12,"rows_kept":55,"cut":false,"hidden":false,"merged":[[0,0,0,6],[1,10,1,11],[5,8,5,9],[0,8,0,11]]}
["Organizador de DFC",null,null,null,null,null,null,null,"EBSERH - EMPRESA BRASILEIRA DE SERVIÇOS HOSPITALARES"]
["Grupo","Conta Contábil","Valor Fechamento","Valor anterior","Análise","Regra","Δ Variação",null,"Demonstração do Fluxo de Caixa - Método Indireto",null,"30 de junho de 2022"]
[null,null,null,null,null,null,null,null,"Em reais"]
["Passivo-C","Resultado do Exercício",{"$f":"IFERROR(IFERROR(IFERROR(INDEX(BP!B:H,MATCH(B4,BP!C:C,0),6),INDEX(BP!B:H,MATCH(B4,BP!D:D,0),6)),INDEX(BP!B:H,MATCH(B4,BP!E:E,0),6)),\"\")","v":-130458095.46002293},{"$f":"IFERROR(IFERROR(IFERROR(INDEX(BP!B:H,MATCH(B4,BP!C:C,0),7),INDEX(BP!B:H,MATCH(B4,BP!D:D,0),7)),INDEX(BP!B:H,MATCH(B4,BP!E:E,0),7)),\"\")","v":-218107289.10000134},{"$f":"IF(A4=\"\",\"\",IF(C4>D4,\"Aumento em\",\"Redução em\"))","v":"Aumento em"},{"$f":"IF(A4=\"\",\"\",IF(AND(LEFT(A4,5)=\"Ativo\",C4>D4),\"(-)\",IF(AND(LEFT(A4,5)=\"Ativo\",C4<D4),\"(+)\",IF(AND(LEFT(A4,7)=\"Passivo\",C4>D4),\"(+)\",IF(AND(LEFT(A4,7)=\"Passivo\",C4<D4),\"(-)\",\"-\")))))","v":"(+)"},{"$f":"IFERROR(IF(C4-D4>=0,C4-D4,(C4-D4)*-1),\"\")","v":87649193.639978409},null,"DESCRIÇÃO",null," 01.01.2022                          a                        30.06.2022"," 01.01.2021                          a                        30.06.2021"]
[{"$f":"IF(LEFT(#REF!,7)=\"Despesa\",\"\",IF(LEFT(#REF!,7)=\"Receita\",\"\",#REF!))","v":{"$error":"#REF!"}},{"$f":"IF(LEFT(A5,7)=\"Despesa\",\"\",IF(LEFT(A5,7)=\"Receita\",\"\",IF(A5=\"\",\"\",#REF!)))","v":{"$error":"#REF!"}},{"$f":"IFERROR(IFERROR(IFERROR(INDEX(BP!B:H,MATCH(B5,BP!C:C,0),6),INDEX(BP!B:H,MATCH(B5,BP!D:D,0),6)),INDEX(BP!B:H,MATCH(B5,BP!E:E,0),6)),\"\")","v":""},{"$f":"IFERROR(IFERROR(IFERROR(INDEX(BP!B:H,MATCH(B5,BP!C:C,0),7),INDEX(BP!B:H,MATCH(B5,BP!D:D,0),7)),INDEX(BP!B:H,MATCH(B5,BP!E:E,0),7)),\"\")","v":""},{"$f":"IF(A5=\"\",\"\",IF(C5>D5,\"Aumento em\",\"Redução em\"))","v":{"$error":"#REF!"}},{"$error":"#REF!"},{"$f":"IFERROR(IF(C5-D5>=0,C5-D5,(C5-D5)*-1),\"\")","v":""},null,"FLUXO DE CAIXA DAS ATIVIDADES OPERACIONAIS",null,null,"Reclassificação"]
[{"$f":"IF(LEFT(#REF!,7)=\"Despesa\",\"\",IF(LEFT(#REF!,7)=\"Receita\",\"\",#REF!))","v":{"$error":"#REF!"}},{"$f":"IF(LEFT(A6,7)=\"Despesa\",\"\",IF(LEFT(A6,7)=\"Receita\",\"\",IF(A6=\"\",\"\",#REF!)))","v":{"$error":"#REF!"}},{"$f":"IFERROR(IFERROR(IFERROR(INDEX(BP!B:H,MATCH(B6,BP!C:C,0),6),INDEX(BP!B:H,MATCH(B6,BP!D:D,0),6)),INDEX(BP!B:H,MATCH(B6,BP!E:E,0),6)),\"\")","v":""},0,{"$f":"IF(A6=\"\",\"\",IF(C6>D6,\"Aumento em\",\"Redução em\"))","v":{"$error":"#REF!"}},{"$error":"#REF!"},{"$f":"IF(F6=\"(-)\",IFERROR(IF(C6-D6>=0,C6-D6,(C6-D6)*-1),\"\")*-1,IFERROR(IF(C6-D6>=0,C6-D6,(C6-D6)*-1),\"\"))","v":{"$error":"#REF!"}},null,"Resultado do Exercício",null,-130458095.46002293,-77191010.199999809]
[{"$f":"IF(LEFT(#REF!,7)=\"Despesa\",\"\",IF(LEFT(#REF!,7)=\"Receita\",\"\",#REF!))","v":{"$error":"#REF!"}},{"$f":"IF(LEFT(A7,7)=\"Despesa\",\"\",IF(LEFT(A7,7)=\"Receita\",\"\",IF(A7=\"\",\"\",#REF!)))","v":{"$error":"#REF!"}},{"$f":"IFERROR(IFERROR(IFERROR(INDEX(BP!B:H,MATCH(B7,BP!C:C,0),6),INDEX(BP!B:H,MATCH(B7,BP!D:D,0),6)),INDEX(BP!B:H,MATCH(B7,BP!E:E,0),6)),\"\")","v":""},{"$f":"IFERROR(IFERROR(IFERROR(INDEX(BP!B:H,MATCH(B7,BP!C:C,0),7),INDEX(BP!B:H,MATCH(B7,BP!D:D,0),7)),INDEX(BP!B:H,MATCH(B7,BP!E:E,0),7)),\"\")","v":""},{"$f":"IF(A7=\"\",\"\",IF(C7>D7,\"Aumento em\",\"Redução em\"))","v":{"$error":"#REF!"}},{"$error":"#REF!"},{"$f":"IF(F7=\"(-)\",IFERROR(IF(C7-D7>=0,C7-D7,(C7-D7)*-1),\"\")*-1,IFERROR(IF(C7-D7>=0,C7-D7,(C7-D7)*-1),\"\"))","v":{"$error":"#REF!"}},null,"Depreciação e Amortização",null,26398634.019999996,19845778.50999999]
[{"$f":"IF(LEFT(#REF!,7)=\"Despesa\",\"\",IF(LEFT(#REF!,7)=\"Receita\",\"\",#REF!))","v":{"$error":"#REF!"}},{"$f":"IF(LEFT(A8,7)=\"Despesa\",\"\",IF(LEFT(A8,7)=\"Receita\",\"\",IF(A8=\"\",\"\",#REF!)))","v":{"$error":"#REF!"}},{"$f":"IFERROR(IFERROR(IFERROR(INDEX(BP!B:H,MATCH(B8,BP!C:C,0),6),INDEX(BP!B:H,MATCH(B8,BP!D:D,0),6)),INDEX(BP!B:H,MATCH(B8,BP!E:E,0),6)),\"\")","v":""},{"$f":"IFERROR(IFERROR(IFERROR(INDEX(BP!B:H,MATCH(B8,BP!C:C,0),7),INDEX(BP!B:H,MATCH(B8,BP!D:D,0),7)),INDEX(BP!B:H,MATCH(B8,BP!E:E,0),7)),\"\")","v":""},{"$f":"IF(A8=\"\",\"\",IF(C8>D8,\"Aumento em\",\"Redução em\"))","v":{"$error":"#REF!"}},{"$f":"IF(A8=\"\",\"\",IF(AND(LEFT(A8,5)=\"Ativo\",C8>D8),\"(-)\",IF(AND(LEFT(A8,5)=\"Ativo\",C8<D8),\"(+)\",IF(AND(LEFT(A8,7)=\"Passivo\",C8>D8),\"(+)\",IF(AND(LEFT(A8,7)=\"Passivo\",C8<D8),\"(-)\",\"-\")))))","v":{"$error":"#REF!"}},{"$error":"#REF!"},null,"Redução a Valor Recup. De Intangível",null,-26087.410000000149,0]
[{"$f":"IF(LEFT(#REF!,7)=\"Despesa\",\"\",IF(LEFT(#REF!,7)=\"Receita\",\"\",#REF!))","v":{"$error":"#REF!"}},{"$f":"IF(LEFT(A9,7)=\"Despesa\",\"\",IF(LEFT(A9,7)=\"Receita\",\"\",IF(A9=\"\",\"\",#REF!)))","v":{"$error":"#REF!"}},{"$f":"IFERROR(IFERROR(IFERROR(INDEX(BP!B:H,MATCH(B9,BP!C:C,0),6),INDEX(BP!B:H,MATCH(B9,BP!D:D,0),6)),INDEX(BP!B:H,MATCH(B9,BP!E:E,0),6)),\"\")","v":""},{"$f":"IFERROR(IFERROR(IFERROR(INDEX(BP!B:H,MATCH(B9,BP!C:C,0),7),INDEX(BP!B:H,MATCH(B9,BP!D:D,0),7)),INDEX(BP!B:H,MATCH(B9,BP!E:E,0),7)),\"\")","v":""},{"$f":"IF(A9=\"\",\"\",IF(C9>D9,\"Aumento em\",\"Redução em\"))","v":{"$error":"#REF!"}},{"$f":"IF(A9=\"\",\"\",IF(AND(LEFT(A9,5)=\"Ativo\",C9>D9),\"(-)\",IF(AND(LEFT(A9,5)=\"Ativo\",C9<D9),\"(+)\",IF(AND(LEFT(A9,7)=\"Passivo\",C9>D9),\"(+)\",IF(AND(LEFT(A9,7)=\"Passivo\",C9<D9),\"(-)\",\"-\")))))","v":{"$error":"#REF!"}},{"$error":"#REF!"},null,"Redução a Valor Recup. De Imobilizado",null,-66747.910000000149,0]
[null,null,{"$f":"IFERROR(IFERROR(IFERROR(INDEX(BP!B:H,MATCH(B10,BP!C:C,0),6),INDEX(BP!B:H,MATCH(B10,BP!D:D,0),6)),INDEX(BP!B:H,MATCH(B10,BP!E:E,0),6)),\"\")","v":""},{"$f":"IFERROR(IFERROR(IFERROR(INDEX(BP!B:H,MATCH(B10,BP!C:C,0),7),INDEX(BP!B:H,MATCH(B10,BP!D:D,0),7)),INDEX(BP!B:H,MATCH(B10,BP!E:E,0),7)),\"\")","v":""},null,null,"",null,"Ajustes de Avaliação Patrimonial de Ativos",null,null,0]
[{"$f":"IF(LEFT(#REF!,7)=\"Despesa\",\"\",IF(LEFT(#REF!,7)=\"Receita\",\"\",#REF!))","v":{"$error":"#REF!"}},{"$f":"IF(LEFT(A11,7)=\"Despesa\",\"\",IF(LEFT(A11,7)=\"Receita\",\"\",IF(A11=\"\",\"\",#REF!)))","v":{"$error":"#REF!"}},{"$f":"IFERROR(IFERROR(IFERROR(INDEX(BP!B:H,MATCH(B11,BP!C:C,0),6),INDEX(BP!B:H,MATCH(B11,BP!D:D,0),6)),INDEX(BP!B:H,MATCH(B11,BP!E:E,0),6)),\"\")","v":""},{"$f":"IFERROR(IFERROR(IFERROR(INDEX(BP!B:H,MATCH(B11,BP!C:C,0),7),INDEX(BP!B:H,MATCH(B11,BP!D:D,0),7)),INDEX(BP!B:H,MATCH(B11,BP!E:E,0),7)),\"\")","v":""},{"$f":"IF(A11=\"\",\"\",IF(C11>D11,\"Aumento em\",\"Redução em\"))","v":{"$error":"#REF!"}},{"$f":"IF(A11=\"\",\"\",IF(AND(LEFT(A11,5)=\"Ativo\",C11>D11),\"(-)\",IF(AND(LEFT(A11,5)=\"Ativo\",C11<D11),\"(+)\",IF(AND(LEFT(A11,7)=\"Passivo\",C11>D11),\"(+)\",IF(AND(LEFT(A11,7)=\"Passivo\",C11<D11),\"(-)\",\"-\")))))","v":{"$error":"#REF!"}},{"$error":"#REF!"},null,"Ajustes de Avaliação Patrimonial de Ativos",null,null,0]
[{"$f":"IF(LEFT(#REF!,7)=\"Despesa\",\"\",IF(LEFT(#REF!,7)=\"Receita\",\"\",#REF!))","v":{"$error":"#REF!"}},{"$f":"IF(LEFT(A12,7)=\"Despesa\",\"\",IF(LEFT(A12,7)=\"Receita\",\"\",IF(A12=\"\",\"\",#REF!)))","v":{"$error":"#REF!"}},{"$f":"IFERROR(IFERROR(IFERROR(INDEX(BP!B:H,MATCH(B12,BP!C:C,0),6),INDEX(BP!B:H,MATCH(B12,BP!D:D,0),6)),INDEX(BP!B:H,MATCH(B12,BP!E:E,0),6)),\"\")","v":""},{"$f":"IFERROR(IFERROR(IFERROR(INDEX(BP!B:H,MATCH(B12,BP!C:C,0),7),INDEX(BP!B:H,MATCH(B12,BP!D:D,0),7)),INDEX(BP!B:H,MATCH(B12,BP!E:E,0),7)),\"\")","v":""},{"$f":"IF(A12=\"\",\"\",IF(C12>D12,\"Aumento em\",\"Redução em\"))","v":{"$error":"#REF!"}},{"$f":"IF(A12=\"\",\"\",IF(AND(LEFT(A12,5)=\"Ativo\",C12>D12),\"(-)\",IF(AND(LEFT(A12,5)=\"Ativo\",C12<D12),\"(+)\",IF(AND(LEFT(A12,7)=\"Passivo\",C12>D12),\"(+)\",IF(AND(LEFT(A12,7)=\"Passivo\",C12<D12),\"(-)\",\"-\")))))","v":{"$error":"#REF!"}},{"$error":"#REF!"},null,"AFAC - PL"]
[null,null,{"$f":"IFERROR(IFERROR(IFERROR(INDEX(BP!B:H,MATCH(B13,BP!C:C,0),6),INDEX(BP!B:H,MATCH(B13,BP!D:D,0),6)),INDEX(BP!B:H,MATCH(B13,BP!E:E,0),6)),\"\")","v":""},{"$f":"IFERROR(IFERROR(IFERROR(INDEX(BP!B:H,MATCH(B13,BP!C:C,0),7),INDEX(BP!B:H,MATCH(B13,BP!D:D,0),7)),INDEX(BP!B:H,MATCH(B13,BP!E:E,0),7)),\"\")","v":""},null,null,"",null,"Resultado do Exercício Ajustado",null,-104152296.76002292,-57345231.689999819]
[{"$f":"IF(LEFT(#REF!,7)=\"Despesa\",\"\",IF(LEFT(#REF!,7)=\"Receita\",\"\",#REF!))","v":{"$error":"#REF!"}},{"$f":"IF(LEFT(A14,7)=\"Despesa\",\"\",IF(LEFT(A14,7)=\"Receita\",\"\",IF(A14=\"\",\"\",#REF!)))","v":{"$error":"#REF!"}},{"$f":"IFERROR(IFERROR(IFERROR(INDEX(BP!B:H,MATCH(B14,BP!C:C,0),6),INDEX(BP!B:H,MATCH(B14,BP!D:D,0),6)),INDEX(BP!B:H,MATCH(B14,BP!E:E,0),6)),\"\")","v":""},{"$f":"IFERROR(IFERROR(IFERROR(INDEX(BP!B:H,MATCH(B14,BP!C:C,0),7),INDEX(BP!B:H,MATCH(B14,BP!D:D,0),7)),INDEX(BP!B:H,MATCH(B14,BP!E:E,0),7)),\"\")","v":""},{"$f":"IF(A14=\"\",\"\",IF(C14>D14,\"Aumento em\",\"Redução em\"))","v":{"$error":"#REF!"}},{"$f":"IF(A14=\"\",\"\",IF(AND(LEFT(A14,5)=\"Ativo\",C14>D14),\"(-)\",IF(AND(LEFT(A14,5)=\"Ativo\",C14<D14),\"(+)\",IF(AND(LEFT(A14,7)=\"Passivo\",C14>D14),\"(+)\",IF(AND(LEFT(A14,7)=\"Passivo\",C14<D14),\"(-)\",\"-\")))))","v":{"$error":"#REF!"}},{"$error":"#REF!"},null,"Variações Patrimoniais",null,273798712.52002239,360151364.61380363]
[{"$f":"IF(LEFT(#REF!,7)=\"Despesa\",\"\",IF(LEFT(#REF!,7)=\"Receita\",\"\",#REF!))","v":{"$error":"#REF!"}},{"$f":"IF(LEFT(A15,7)=\"Despesa\",\"\",IF(LEFT(A15,7)=\"Receita\",\"\",IF(A15=\"\",\"\",#REF!)))","v":{"$error":"#REF!"}},{"$f":"IFERROR(IFERROR(IFERROR(INDEX(BP!B:H,MATCH(B15,BP!C:C,0),6),INDEX(BP!B:H,MATCH(B15,BP!D:D,0),6)),INDEX(BP!B:H,MATCH(B15,BP!E:E,0),6)),\"\")","v":""},{"$f":"IFERROR(IFERROR(IFERROR(INDEX(BP!B:H,MATCH(B15,BP!C:C,0),7),INDEX(BP!B:H,MATCH(B15,BP!D:D,0),7)),INDEX(BP!B:H,MATCH(B15,BP!E:E,0),7)),\"\")","v":""},{"$error":"#REF!"},{"$error":"#REF!"},{"$error":"#REF!"},null,"Aumento em","Subvenção de Custeio SUS a Receber",-834598150.47000003,-775826501.6400001]
[{"$f":"IF(LEFT(#REF!,7)=\"Despesa\",\"\",IF(LEFT(#REF!,7)=\"Receita\",\"\",#REF!))","v":{"$error":"#REF!"}},{"$f":"IF(LEFT(A16,7)=\"Despesa\",\"\",IF(LEFT(A16,7)=\"Receita\",\"\",IF(A16=\"\",\"\",#REF!)))","v":{"$error":"#REF!"}},{"$f":"IFERROR(IFERROR(IFERROR(INDEX(BP!B:H,MATCH(B16,BP!C:C,0),6),INDEX(BP!B:H,MATCH(B16,BP!D:D,0),6)),INDEX(BP!B:H,MATCH(B16,BP!E:E,0),6)),\"\")","v":""},{"$f":"IFERROR(IFERROR(IFERROR(INDEX(BP!B:H,MATCH(B16,BP!C:C,0),7),INDEX(BP!B:H,MATCH(B16,BP!D:D,0),7)),INDEX(BP!B:H,MATCH(B16,BP!E:E,0),7)),\"\")","v":""},{"$error":"#REF!"},{"$error":"#REF!"},{"$error":"#REF!"},null,"Redução em","Valores a Curto Prazo - SUS",3233401.52,19042945.160000004]
[{"$f":"IF(LEFT(#REF!,7)=\"Despesa\",\"\",IF(LEFT(#REF!,7)=\"Receita\",\"\",#REF!))","v":{"$error":"#REF!"}},{"$f":"IF(LEFT(A17,7)=\"Despesa\",\"\",IF(LEFT(A17,7)=\"Receita\",\"\",IF(A17=\"\",\"\",#REF!)))","v":{"$error":"#REF!"}},{"$f":"IFERROR(IFERROR(IFERROR(INDEX(BP!B:H,MATCH(B17,BP!C:C,0),6),INDEX(BP!B:H,MATCH(B17,BP!D:D,0),6)),INDEX(BP!B:H,MATCH(B17,BP!E:E,0),6)),\"\")","v":""},{"$f":"IFERROR(IFERROR(IFERROR(INDEX(BP!B:H,MATCH(B17,BP!C:C,0),7),INDEX(BP!B:H,MATCH(B17,BP!D:D,0),7)),INDEX(BP!B:H,MATCH(B17,BP!E:E,0),7)),\"\")","v":""},{"$error":"#REF!"},{"$error":"#REF!"},{"$f":"IF(F17=\"(-)\",IFERROR(IF(C17-D17>=0,C17-D17,(C17-D17)*-1),\"\")*-1,IFERROR(IF(C17-D17>=0,C17-D17,(C17-D17)*-1),\"\"))","v":{"$error":"#REF!"}},null,"Aumento em","Adiantamentos e Créditos a Receber",-140170512.27997667,-143497411.94]
[{"$f":"IF(LEFT(#REF!,7)=\"Despesa\",\"\",IF(LEFT(#REF!,7)=\"Receita\",\"\",#REF!))","v":{"$error":"#REF!"}},{"$f":"IF(LEFT(A18,7)=\"Despesa\",\"\",IF(LEFT(A18,7)=\"Receita\",\"\",IF(A18=\"\",\"\",#REF!)))","v":{"$error":"#REF!"}},{"$f":"IFERROR(IFERROR(IFERROR(INDEX(BP!B:H,MATCH(B18,BP!C:C,0),6),INDEX(BP!B:H,MATCH(B18,BP!D:D,0),6)),INDEX(BP!B:H,MATCH(B18,BP!E:E,0),6)),\"\")","v":""},{"$f":"IFERROR(IFERROR(IFERROR(INDEX(BP!B:H,MATCH(B18,BP!C:C,0),7),INDEX(BP!B:H,MATCH(B18,BP!D:D,0),7)),INDEX(BP!B:H,MATCH(B18,BP!E:E,0),7)),\"\")","v":""},{"$error":"#REF!"},{"$error":"#REF!"},{"$f":"IF(F18=\"(-)\",IFERROR(IF(C18-D18>=0,C18-D18,(C18-D18)*-1),\"\")*-1,IFERROR(IF(C18-D18>=0,C18-D18,(C18-D18)*-1),\"\"))","v":{"$error":"#REF!"}},null,"Red./Aum. em ","Estoques",40498524.100000024,-14106046.889999926]
[{"$f":"IF(LEFT(#REF!,7)=\"Despesa\",\"\",IF(LEFT(#REF!,7)=\"Receita\",\"\",#REF!))","v":{"$error":"#REF!"}},{"$f":"IF(LEFT(A19,7)=\"Despesa\",\"\",IF(LEFT(A19,7)=\"Receita\",\"\",IF(A19=\"\",\"\",#REF!)))","v":{"$error":"#REF!"}},{"$f":"IFERROR(IFERROR(IFERROR(INDEX(BP!B:H,MATCH(B19,BP!C:C,0),6),INDEX(BP!B:H,MATCH(B19,BP!D:D,0),6)),INDEX(BP!B:H,MATCH(B19,BP!E:E,0),6)),\"\")","v":""},{"$f":"IFERROR(IFERROR(IFERROR(INDEX(BP!B:H,MATCH(B19,BP!C:C,0),7),INDEX(BP!B:H,MATCH(B19,BP!D:D,0),7)),INDEX(BP!B:H,MATCH(B19,BP!E:E,0),7)),\"\")","v":""},{"$error":"#REF!"},{"$error":"#REF!"},{"$error":"#REF!"},null,"Aumento em","Outras Despesas Antecipadas"]
[{"$f":"IF(LEFT(#REF!,7)=\"Despesa\",\"\",IF(LEFT(#REF!,7)=\"Receita\",\"\",#REF!))","v":{"$error":"#REF!"}},{"$f":"IF(LEFT(A20,7)=\"Despesa\",\"\",IF(LEFT(A20,7)=\"Receita\",\"\",IF(A20=\"\",\"\",#REF!)))","v":{"$error":"#REF!"}},{"$f":"IFERROR(IFERROR(IFERROR(INDEX(BP!B:H,MATCH(B20,BP!C:C,0),6),INDEX(BP!B:H,MATCH(B20,BP!D:D,0),6)),INDEX(BP!B:H,MATCH(B20,BP!E:E,0),6)),\"\")","v":""},{"$f":"IFERROR(IFERROR(IFERROR(INDEX(BP!B:H,MATCH(B20,BP!C:C,0),7),INDEX(BP!B:H,MATCH(B20,BP!D:D,0),7)),INDEX(BP!B:H,MATCH(B20,BP!E:E,0),7)),\"\")","v":""},{"$error":"#REF!"},{"$error":"#REF!"},{"$error":"#REF!"},null,"Aumento em","Valores a Longo Prazo - SUS",-99639.290000000969,0]
[null,null,{"$f":"IFERROR(IFERROR(IFERROR(INDEX(BP!B:H,MATCH(B21,BP!C:C,0),6),INDEX(BP!B:H,MATCH(B21,BP!D:D,0),6)),INDEX(BP!B:H,MATCH(B21,BP!E:E,0),6)),\"\")","v":""},{"$f":"IFERROR(IFERROR(IFERROR(INDEX(BP!B:H,MATCH(B21,BP!C:C,0),7),INDEX(BP!B:H,MATCH(B21,BP!D:D,0),7)),INDEX(BP!B:H,MATCH(B21,BP!E:E,0),7)),\"\")","v":""},null,null,null,null,"Red./aum. em","Depósitos Judiciais",4147242.0599999987,-2467668.4800000004]
[{"$f":"IF(LEFT(#REF!,7)=\"Despesa\",\"\",IF(LEFT(#REF!,7)=\"Receita\",\"\",#REF!))","v":{"$error":"#REF!"}},{"$f":"IF(LEFT(A22,7)=\"Despesa\",\"\",IF(LEFT(A22,7)=\"Receita\",\"\",IF(A22=\"\",\"\",#REF!)))","v":{"$error":"#REF!"}},{"$f":"IFERROR(IFERROR(IFERROR(INDEX(BP!B:H,MATCH(B22,BP!C:C,0),6),INDEX(BP!B:H,MATCH(B22,BP!D:D,0),6)),INDEX(BP!B:H,MATCH(B22,BP!E:E,0),6)),\"\")","v":""},{"$f":"IFERROR(IFERROR(IFERROR(INDEX(BP!B:H,MATCH(B22,BP!C:C,0),7),INDEX(BP!B:H,MATCH(B22,BP!D:D,0),7)),INDEX(BP!B:H,MATCH(B22,BP!E:E,0),7)),\"\")","v":""},{"$f":"IF(A22=\"\",\"\",IF(C22>D22,\"Aumento em\",\"Redução em\"))","v":{"$error":"#REF!"}},{"$f":"IF(A22=\"\",\"\",IF(AND(LEFT(A22,5)=\"Ativo\",C22>D22),\"(-)\",IF(AND(LEFT(A22,5)=\"Ativo\",C22<D22),\"(+)\",IF(AND(LEFT(A22,7)=\"Passivo\",C22>D22),\"(+)\",IF(AND(LEFT(A22,7)=\"Passivo\",C22<D22),\"(-)\",\"-\")))))","v":{"$error":"#REF!"}},{"$f":"IF(F22=\"(-)\",IFERROR(IF(C22-D22>=0,C22-D22,(C22-D22)*-1),\"\")*-1,IFERROR(IF(C22-D22>=0,C22-D22,(C22-D22)*-1),\"\"))","v":{"$error":"#REF!"}},null,"Aumento em","Obrigações Trabalhistas a Pagar",369554365.64999998,359936479.95000005]
[{"$f":"IF(LEFT(#REF!,7)=\"Despesa\",\"\",IF(LEFT(#REF!,7)=\"Receita\",\"\",#REF!))","v":{"$error":"#REF!"}},{"$f":"IF(LEFT(A23,7)=\"Despesa\",\"\",IF(LEFT(A23,7)=\"Receita\",\"\",IF(A23=\"\",\"\",#REF!)))","v":{"$error":"#REF!"}},{"$f":"IFERROR(IFERROR(IFERROR(INDEX(BP!B:H,MATCH(B23,BP!C:C,0),6),INDEX(BP!B:H,MATCH(B23,BP!D:D,0),6)),INDEX(BP!B:H,MATCH(B23,BP!E:E,0),6)),\"\")","v":""},{"$f":"IFERROR(IFERROR(IFERROR(INDEX(BP!B:H,MATCH(B23,BP!C:C,0),7),INDEX(BP!B:H,MATCH(B23,BP!D:D,0),7)),INDEX(BP!B:H,MATCH(B23,BP!E:E,0),7)),\"\")","v":""},{"$error":"#REF!"},{"$error":"#REF!"},{"$error":"#REF!"},null,"Aumento em","Fornecedores e Contas a Pagar a Curto Prazo",38677230.719999991,42904809.059999987]
[{"$f":"IF(LEFT(#REF!,7)=\"Despesa\",\"\",IF(LEFT(#REF!,7)=\"Receita\",\"\",#REF!))","v":{"$error":"#REF!"}},{"$f":"IF(LEFT(A24,7)=\"Despesa\",\"\",IF(LEFT(A24,7)=\"Receita\",\"\",IF(A24=\"\",\"\",#REF!)))","v":{"$error":"#REF!"}},{"$f":"IFERROR(IFERROR(IFERROR(INDEX(BP!B:H,MATCH(B24,BP!C:C,0),6),INDEX(BP!B:H,MATCH(B24,BP!D:D,0),6)),INDEX(BP!B:H,MATCH(B24,BP!E:E,0),6)),\"\")","v":""},{"$f":"IFERROR(IFERROR(IFERROR(INDEX(BP!B:H,MATCH(B24,BP!C:C,0),7),INDEX(BP!B:H,MATCH(B24,BP!D:D,0),7)),INDEX(BP!B:H,MATCH(B24,BP!E:E,0),7)),\"\")","v":""},{"$error":"#REF!"},{"$error":"#REF!"},{"$error":"#REF!"},null,"Redução em","Contratos de Arrendamento a Pagar",-27332552.220318265,-10909786.443109661]
[{"$f":"IF(LEFT(#REF!,7)=\"Despesa\",\"\",IF(LEFT(#REF!,7)=\"Receita\",\"\",#REF!))","v":{"$error":"#REF!"}},{"$f":"IF(LEFT(A25,7)=\"Despesa\",\"\",IF(LEFT(A25,7)=\"Receita\",\"\",IF(A25=\"\",\"\",#REF!)))","v":{"$error":"#REF!"}},{"$f":"IFERROR(IFERROR(IFERROR(INDEX(BP!B:H,MATCH(B25,BP!C:C,0),6),INDEX(BP!B:H,MATCH(B25,BP!D:D,0),6)),INDEX(BP!B:H,MATCH(B25,BP!E:E,0),6)),\"\")","v":""},{"$f":"IFERROR(IFERROR(IFERROR(INDEX(BP!B:H,MATCH(B25,BP!C:C,0),7),INDEX(BP!B:H,MATCH(B25,BP!D:D,0),7)),INDEX(BP!B:H,MATCH(B25,BP!E:E,0),7)),\"\")","v":""},{"$error":"#REF!"},{"$error":"#REF!"},{"$error":"#REF!"},null,"Red./Aum. em","Retenções de Impostos, Contribuições",-10418532.190000001,13173792.93]
[{"$f":"IF(LEFT(#REF!,7)=\"Despesa\",\"\",IF(LEFT(#REF!,7)=\"Receita\",\"\",#REF!))","v":{"$error":"#REF!"}},{"$f":"IF(LEFT(A26,7)=\"Despesa\",\"\",IF(LEFT(A26,7)=\"Receita\",\"\",IF(A26=\"\",\"\",#REF!)))","v":{"$error":"#REF!"}},{"$f":"IFERROR(IFERROR(IFERROR(INDEX(BP!B:H,MATCH(B26,BP!C:C,0),6),INDEX(BP!B:H,MATCH(B26,BP!D:D,0),6)),INDEX(BP!B:H,MATCH(B26,BP!E:E,0),6)),\"\")","v":""},{"$f":"IFERROR(IFERROR(IFERROR(INDEX(BP!B:H,MATCH(B26,BP!C:C,0),7),INDEX(BP!B:H,MATCH(B26,BP!D:D,0),7)),INDEX(BP!B:H,MATCH(B26,BP!E:E,0),7)),\"\")","v":""},{"$error":"#REF!"},{"$error":"#REF!"},{"$error":"#REF!"},null,"Redução em","Obrigações Transitórias a Curto Prazo",-28149186.320283398,-17995126.34]
[{"$f":"IF(LEFT(#REF!,7)=\"Despesa\",\"\",IF(LEFT(#REF!,7)=\"Receita\",\"\",#REF!))","v":{"$error":"#REF!"}},{"$f":"IF(LEFT(A27,7)=\"Despesa\",\"\",IF(LEFT(A27,7)=\"Receita\",\"\",IF(A27=\"\",\"\",#REF!)))","v":{"$error":"#REF!"}},{"$f":"IFERROR(IFERROR(IFERROR(INDEX(BP!B:H,MATCH(B27,BP!C:C,0),6),INDEX(BP!B:H,MATCH(B27,BP!D:D,0),6)),INDEX(BP!B:H,MATCH(B27,BP!E:E,0),6)),\"\")","v":""},{"$f":"IFERROR(IFERROR(IFERROR(INDEX(BP!B:H,MATCH(B27,BP!C:C,0),7),INDEX(BP!B:H,MATCH(B27,BP!D:D,0),7)),INDEX(BP!B:H,MATCH(B27,BP!E:E,0),7)),\"\")","v":""},{"$error":"#REF!"},{"$error":"#REF!"},{"$error":"#REF!"},null,"Aum./Redu. em","Contingência para Indenizações Trabalhistas",20138606.51000002,-5875202.5300000012]
[{"$f":"IF(LEFT(#REF!,7)=\"Despesa\",\"\",IF(LEFT(#REF!,7)=\"Receita\",\"\",#REF!))","v":{"$error":"#REF!"}},{"$f":"IF(LEFT(A28,7)=\"Despesa\",\"\",IF(LEFT(A28,7)=\"Receita\",\"\",IF(A28=\"\",\"\",#REF!)))","v":{"$error":"#REF!"}},{"$f":"IFERROR(IFERROR(IFERROR(INDEX(BP!B:H,MATCH(B28,BP!C:C,0),6),INDEX(BP!B:H,MATCH(B28,BP!D:D,0),6)),INDEX(BP!B:H,MATCH(B28,BP!E:E,0),6)),\"\")","v":""},{"$f":"IFERROR(IFERROR(IFERROR(INDEX(BP!B:H,MATCH(B28,BP!C:C,0),7),INDEX(BP!B:H,MATCH(B28,BP!D:D,0),7)),INDEX(BP!B:H,MATCH(B28,BP!E:E,0),7)),\"\")","v":""},{"$error":"#REF!"},{"$error":"#REF!"},{"$f":"IF(F28=\"(-)\",IFERROR(IF(C28-D28>=0,C28-D28,(C28-D28)*-1),\"\")*-1,IFERROR(IF(C28-D28>=0,C28-D28,(C28-D28)*-1),\"\"))","v":{"$error":"#REF!"}},null,"Redução em","Contingência para Indenizações Cíveis",-991524.78999999911,-1252149.4200000018]
[{"$f":"IF(LEFT(#REF!,7)=\"Despesa\",\"\",IF(LEFT(#REF!,7)=\"Receita\",\"\",#REF!))","v":{"$error":"#REF!"}},{"$f":"IF(LEFT(A29,7)=\"Despesa\",\"\",IF(LEFT(A29,7)=\"Receita\",\"\",IF(A29=\"\",\"\",#REF!)))","v":{"$error":"#REF!"}},{"$f":"IFERROR(IFERROR(IFERROR(INDEX(BP!B:H,MATCH(B29,BP!C:C,0),6),INDEX(BP!B:H,MATCH(B29,BP!D:D,0),6)),INDEX(BP!B:H,MATCH(B29,BP!E:E,0),6)),\"\")","v":""},{"$f":"IFERROR(IFERROR(IFERROR(INDEX(BP!B:H,MATCH(B29,BP!C:C,0),7),INDEX(BP!B:H,MATCH(B29,BP!D:D,0),7)),INDEX(BP!B:H,MATCH(B29,BP!E:E,0),7)),\"\")","v":""},{"$error":"#REF!"},{"$error":"#REF!"},{"$error":"#REF!"},null,"Redução/AumentoDireito de Uso Bens (Contrato de Arrendamento)",null,60868179.080601677,-6712066.5930871256]
[null,null,null,null,null,null,null,null,"Aumento em","Subvenção a Realizar",783757547.78999996,905166281.57000017]
[{"$f":"IF(LEFT(#REF!,7)=\"Despesa\",\"\",IF(LEFT(#REF!,7)=\"Receita\",\"\",#REF!))","v":{"$error":"#REF!"}},{"$f":"IF(LEFT(A31,7)=\"Despesa\",\"\",IF(LEFT(A31,7)=\"Receita\",\"\",IF(A31=\"\",\"\",#REF!)))","v":{"$error":"#REF!"}},{"$f":"IFERROR(IFERROR(IFERROR(INDEX(BP!B:H,MATCH(B31,BP!C:C,0),6),INDEX(BP!B:H,MATCH(B31,BP!D:D,0),6)),INDEX(BP!B:H,MATCH(B31,BP!E:E,0),6)),\"\")","v":""},{"$f":"IFERROR(IFERROR(IFERROR(INDEX(BP!B:H,MATCH(B31,BP!C:C,0),7),INDEX(BP!B:H,MATCH(B31,BP!D:D,0),7)),INDEX(BP!B:H,MATCH(B31,BP!E:E,0),7)),\"\")","v":""},{"$error":"#REF!"},{"$error":"#REF!"},{"$error":"#REF!"},null,"Redução em","Adiantamento Para Futuro Aumento de Capital",0]
[{"$f":"IF(LEFT(#REF!,7)=\"Despesa\",\"\",IF(LEFT(#REF!,7)=\"Receita\",\"\",#REF!))","v":{"$error":"#REF!"}},{"$f":"IF(LEFT(A32,7)=\"Despesa\",\"\",IF(LEFT(A32,7)=\"Receita\",\"\",IF(A32=\"\",\"\",#REF!)))","v":{"$error":"#REF!"}},{"$f":"IFERROR(IFERROR(IFERROR(INDEX(BP!B:H,MATCH(B32,BP!C:C,0),6),INDEX(BP!B:H,MATCH(B32,BP!D:D,0),6)),INDEX(BP!B:H,MATCH(B32,BP!E:E,0),6)),\"\")","v":""},{"$f":"IFERROR(IFERROR(IFERROR(INDEX(BP!B:H,MATCH(B32,BP!C:C,0),7),INDEX(BP!B:H,MATCH(B32,BP!D:D,0),7)),INDEX(BP!B:H,MATCH(B32,BP!E:E,0),7)),\"\")","v":""},{"$error":"#REF!"},{"$error":"#REF!"},{"$error":"#REF!"},null,"Aumento em","Capital Social Realizado","0,00"]
[null,null,{"$f":"IFERROR(IFERROR(IFERROR(INDEX(BP!B:H,MATCH(B33,BP!C:C,0),6),INDEX(BP!B:H,MATCH(B33,BP!D:D,0),6)),INDEX(BP!B:H,MATCH(B33,BP!E:E,0),6)),\"\")","v":""},{"$f":"IFERROR(IFERROR(IFERROR(INDEX(BP!B:H,MATCH(B33,BP!C:C,0),7),INDEX(BP!B:H,MATCH(B33,BP!D:D,0),7)),INDEX(BP!B:H,MATCH(B33,BP!E:E,0),7)),\"\")","v":""},null,null,"",null,"Aumento em","Ajustes de Exercícios Anteriores",-5316287.3500008583,-1430983.7799999714]
[null,null,{"$f":"IFERROR(IFERROR(IFERROR(INDEX(BP!B:H,MATCH(B34,BP!C:C,0),6),INDEX(BP!B:H,MATCH(B34,BP!D:D,0),6)),INDEX(BP!B:H,MATCH(B34,BP!E:E,0),6)),\"\")","v":""},{"$f":"IFERROR(IFERROR(IFERROR(INDEX(BP!B:H,MATCH(B34,BP!C:C,0),7),INDEX(BP!B:H,MATCH(B34,BP!D:D,0),7)),INDEX(BP!B:H,MATCH(B34,BP!E:E,0),7)),\"\")","v":""},null,null,"",null,"Redução","Ajustes de Avaliação Patrimonial de Ativos",null,0]
[null,null,{"$f":"IFERROR(IFERROR(IFERROR(INDEX(BP!B:H,MATCH(B35,BP!C:C,0),6),INDEX(BP!B:H,MATCH(B35,BP!D:D,0),6)),INDEX(BP!B:H,MATCH(B35,BP!E:E,0),6)),\"\")","v":""},{"$f":"IFERROR(IFERROR(IFERROR(INDEX(BP!B:H,MATCH(B35,BP!C:C,0),7),INDEX(BP!B:H,MATCH(B35,BP!D:D,0),7)),INDEX(BP!B:H,MATCH(B35,BP!E:E,0),7)),\"\")","v":""},null,null,"",null,"FLUXO DE CAIXA LÍQUIDO DAS ATIVIDADES OPERACIONAIS",null,169646415.75999945,302806132.92380381]
[{"$f":"IF(LEFT(#REF!,7)=\"Despesa\",\"\",IF(LEFT(#REF!,7)=\"Receita\",\"\",#REF!))","v":{"$error":"#REF!"}},{"$f":"IF(LEFT(A36,7)=\"Despesa\",\"\",IF(LEFT(A36,7)=\"Receita\",\"\",IF(A36=\"\",\"\",#REF!)))","v":{"$error":"#REF!"}},{"$f":"IFERROR(IFERROR(IFERROR(INDEX(BP!B:H,MATCH(B36,BP!C:C,0),6),INDEX(BP!B:H,MATCH(B36,BP!D:D,0),6)),INDEX(BP!B:H,MATCH(B36,BP!E:E,0),6)),\"\")","v":""},{"$f":"IFERROR(IFERROR(IFERROR(INDEX(BP!B:H,MATCH(B36,BP!C:C,0),7),INDEX(BP!B:H,MATCH(B36,BP!D:D,0),7)),INDEX(BP!B:H,MATCH(B36,BP!E:E,0),7)),\"\")","v":""},{"$error":"#REF!"},{"$error":"#REF!"},{"$error":"#REF!"}]
[{"$f":"IF(LEFT(#REF!,7)=\"Despesa\",\"\",IF(LEFT(#REF!,7)=\"Receita\",\"\",#REF!))","v":{"$error":"#REF!"}},{"$f":"IF(LEFT(A37,7)=\"Despesa\",\"\",IF(LEFT(A37,7)=\"Receita\",\"\",IF(A37=\"\",\"\",#REF!)))","v":{"$error":"#REF!"}},{"$f":"IFERROR(IFERROR(IFERROR(INDEX(BP!B:H,MATCH(B37,BP!C:C,0),6),INDEX(BP!B:H,MATCH(B37,BP!D:D,0),6)),INDEX(BP!B:H,MATCH(B37,BP!E:E,0),6)),\"\")","v":""},{"$f":"IFERROR(IFERROR(IFERROR(INDEX(BP!B:H,MATCH(B37,BP!C:C,0),7),INDEX(BP!B:H,MATCH(B37,BP!D:D,0),7)),INDEX(BP!B:H,MATCH(B37,BP!E:E,0),7)),\"\")","v":""},{"$error":"#REF!"},{"$error":"#REF!"},{"$error":"#REF!"},null,"FLUXO DE CAIXA DAS ATIVIDADES DE INVESTIMENTO"]
[{"$f":"IF(LEFT(#REF!,7)=\"Despesa\",\"\",IF(LEFT(#REF!,7)=\"Receita\",\"\",#REF!))","v":{"$error":"#REF!"}},{"$f":"IF(LEFT(A38,7)=\"Despesa\",\"\",IF(LEFT(A38,7)=\"Receita\",\"\",IF(A38=\"\",\"\",#REF!)))","v":{"$error":"#REF!"}},{"$f":"IFERROR(IFERROR(IFERROR(INDEX(BP!B:H,MATCH(B38,BP!C:C,0),6),INDEX(BP!B:H,MATCH(B38,BP!D:D,0),6)),INDEX(BP!B:H,MATCH(B38,BP!E:E,0),6)),\"\")","v":""},{"$f":"IFERROR(IFERROR(IFERROR(INDEX(BP!B:H,MATCH(B38,BP!C:C,0),7),INDEX(BP!B:H,MATCH(B38,BP!D:D,0),7)),INDEX(BP!B:H,MATCH(B38,BP!E:E,0),7)),\"\")","v":""},{"$error":"#REF!"},{"$error":"#REF!"},{"$error":"#REF!"},null,"Adição de Imobilizado",null,-142688897.63999987,-101171676.44380343]
[{"$f":"IF(LEFT(#REF!,7)=\"Despesa\",\"\",IF(LEFT(#REF!,7)=\"Receita\",\"\",#REF!))","v":{"$error":"#REF!"}},{"$f":"IF(LEFT(A39,7)=\"Despesa\",\"\",IF(LEFT(A39,7)=\"Receita\",\"\",IF(A39=\"\",\"\",#REF!)))","v":{"$error":"#REF!"}},{"$f":"IFERROR(IFERROR(IFERROR(INDEX(BP!B:H,MATCH(B39,BP!C:C,0),6),INDEX(BP!B:H,MATCH(B39,BP!D:D,0),6)),INDEX(BP!B:H,MATCH(B39,BP!E:E,0),6)),\"\")","v":""},{"$f":"IFERROR(IFERROR(IFERROR(INDEX(BP!B:H,MATCH(B39,BP!C:C,0),7),INDEX(BP!B:H,MATCH(B39,BP!D:D,0),7)),INDEX(BP!B:H,MATCH(B39,BP!E:E,0),7)),\"\")","v":""},{"$error":"#REF!"},{"$error":"#REF!"},{"$error":"#REF!"},null,"Adição de Intangível",null,-4372704.0200000107,-748867.42999999225]
[{"$f":"IF(LEFT(#REF!,7)=\"Despesa\",\"\",IF(LEFT(#REF!,7)=\"Receita\",\"\",#REF!))","v":{"$error":"#REF!"}},{"$f":"IF(LEFT(A40,7)=\"Despesa\",\"\",IF(LEFT(A40,7)=\"Receita\",\"\",IF(A40=\"\",\"\",#REF!)))","v":{"$error":"#REF!"}},{"$f":"IFERROR(IFERROR(IFERROR(INDEX(BP!B:H,MATCH(B40,BP!C:C,0),6),INDEX(BP!B:H,MATCH(B40,BP!D:D,0),6)),INDEX(BP!B:H,MATCH(B40,BP!E:E,0),6)),\"\")","v":""},{"$f":"IFERROR(IFERROR(IFERROR(INDEX(BP!B:H,MATCH(B40,BP!C:C,0),7),INDEX(BP!B:H,MATCH(B40,BP!D:D,0),7)),INDEX(BP!B:H,MATCH(B40,BP!E:E,0),7)),\"\")","v":""},{"$error":"#REF!"},{"$error":"#REF!"},{"$error":"#REF!"},null,"FLUXO DE CAIXA LÍQUIDO DAS ATIVIDADES DE INVESTIMENTO",null,-147061601.65999988,-101920543.87380342]
[{"$f":"IF(LEFT(#REF!,7)=\"Despesa\",\"\",IF(LEFT(#REF!,7)=\"Receita\",\"\",#REF!))","v":{"$error":"#REF!"}},{"$f":"IF(LEFT(A41,7)=\"Despesa\",\"\",IF(LEFT(A41,7)=\"Receita\",\"\",IF(A41=\"\",\"\",#REF!)))","v":{"$error":"#REF!"}},{"$f":"IFERROR(IFERROR(IFERROR(INDEX(BP!B:H,MATCH(B41,BP!C:C,0),6),INDEX(BP!B:H,MATCH(B41,BP!D:D,0),6)),INDEX(BP!B:H,MATCH(B41,BP!E:E,0),6)),\"\")","v":""},{"$f":"IFERROR(IFERROR(IFERROR(INDEX(BP!B:H,MATCH(B41,BP!C:C,0),7),INDEX(BP!B:H,MATCH(B41,BP!D:D,0),7)),INDEX(BP!B:H,MATCH(B41,BP!E:E,0),7)),\"\")","v":""},{"$error":"#REF!"},{"$error":"#REF!"},{"$error":"#REF!"}]
[{"$f":"IF(LEFT(#REF!,7)=\"Despesa\",\"\",IF(LEFT(#REF!,7)=\"Receita\",\"\",#REF!))","v":{"$error":"#REF!"}},{"$f":"IF(LEFT(A42,7)=\"Despesa\",\"\",IF(LEFT(A42,7)=\"Receita\",\"\",IF(A42=\"\",\"\",#REF!)))","v":{"$error":"#REF!"}},{"$f":"IFERROR(IFERROR(IFERROR(INDEX(BP!B:H,MATCH(B42,BP!C:C,0),6),INDEX(BP!B:H,MATCH(B42,BP!D:D,0),6)),INDEX(BP!B:H,MATCH(B42,BP!E:E,0),6)),\"\")","v":""},{"$f":"IFERROR(IFERROR(IFERROR(INDEX(BP!B:H,MATCH(B42,BP!C:C,0),7),INDEX(BP!B:H,MATCH(B42,BP!D:D,0),7)),INDEX(BP!B:H,MATCH(B42,BP!E:E,0),7)),\"\")","v":""},{"$error":"#REF!"},{"$error":"#REF!"},{"$error":"#REF!"},null,"FLUXO DE CAIXA DAS ATIVIDADES DE FINANCIAMENTO"]
[{"$f":"IF(LEFT(#REF!,7)=\"Despesa\",\"\",IF(LEFT(#REF!,7)=\"Receita\",\"\",#REF!))","v":{"$error":"#REF!"}},{"$f":"IF(LEFT(A43,7)=\"Despesa\",\"\",IF(LEFT(A43,7)=\"Receita\",\"\",IF(A43=\"\",\"\",#REF!)))","v":{"$error":"#REF!"}},{"$f":"IFERROR(IFERROR(IFERROR(INDEX(BP!B:H,MATCH(B43,BP!C:C,0),6),INDEX(BP!B:H,MATCH(B43,BP!D:D,0),6)),INDEX(BP!B:H,MATCH(B43,BP!E:E,0),6)),\"\")","v":""},{"$f":"IFERROR(IFERROR(IFERROR(INDEX(BP!B:H,MATCH(B43,BP!C:C,0),7),INDEX(BP!B:H,MATCH(B43,BP!D:D,0),7)),INDEX(BP!B:H,MATCH(B43,BP!E:E,0),7)),\"\")","v":""},{"$error":"#REF!"},{"$error":"#REF!"},{"$error":"#REF!"},null,"Adiantamento Para Futuro Aumento de Capital - AFAC",null,117480024.99000001,84806528.50000003]
[{"$f":"IF(LEFT(#REF!,7)=\"Despesa\",\"\",IF(LEFT(#REF!,7)=\"Receita\",\"\",#REF!))","v":{"$error":"#REF!"}},{"$f":"IF(LEFT(A44,7)=\"Despesa\",\"\",IF(LEFT(A44,7)=\"Receita\",\"\",IF(A44=\"\",\"\",#REF!)))","v":{"$error":"#REF!"}},{"$f":"IFERROR(IFERROR(IFERROR(INDEX(BP!B:H,MATCH(B44,BP!C:C,0),6),INDEX(BP!B:H,MATCH(B44,BP!D:D,0),6)),INDEX(BP!B:H,MATCH(B44,BP!E:E,0),6)),\"\")","v":""},{"$f":"IFERROR(IFERROR(IFERROR(INDEX(BP!B:H,MATCH(B44,BP!C:C,0),7),INDEX(BP!B:H,MATCH(B44,BP!D:D,0),7)),INDEX(BP!B:H,MATCH(B44,BP!E:E,0),7)),\"\")","v":""},{"$error":"#REF!"},{"$error":"#REF!"},{"$error":"#REF!"},null,"FLUXO DE CAIXA LÍQUIDO DAS ATIVIDADES DE FINANCIAMENTO",null,117480024.99000001,84806528.50000003]
[{"$f":"IF(LEFT(#REF!,7)=\"Despesa\",\"\",IF(LEFT(#REF!,7)=\"Receita\",\"\",#REF!))","v":{"$error":"#REF!"}},{"$f":"IF(LEFT(A45,7)=\"Despesa\",\"\",IF(LEFT(A45,7)=\"Receita\",\"\",IF(A45=\"\",\"\",#REF!)))","v":{"$error":"#REF!"}},{"$f":"IFERROR(IFERROR(IFERROR(INDEX(BP!B:H,MATCH(B45,BP!C:C,0),6),INDEX(BP!B:H,MATCH(B45,BP!D:D,0),6)),INDEX(BP!B:H,MATCH(B45,BP!E:E,0),6)),\"\")","v":""},{"$f":"IFERROR(IFERROR(IFERROR(INDEX(BP!B:H,MATCH(B45,BP!C:C,0),7),INDEX(BP!B:H,MATCH(B45,BP!D:D,0),7)),INDEX(BP!B:H,MATCH(B45,BP!E:E,0),7)),\"\")","v":""},{"$error":"#REF!"},{"$error":"#REF!"},{"$error":"#REF!"}]
[{"$f":"IF(LEFT(#REF!,7)=\"Despesa\",\"\",IF(LEFT(#REF!,7)=\"Receita\",\"\",#REF!))","v":{"$error":"#REF!"}},{"$f":"IF(LEFT(A46,7)=\"Despesa\",\"\",IF(LEFT(A46,7)=\"Receita\",\"\",IF(A46=\"\",\"\",#REF!)))","v":{"$error":"#REF!"}},{"$f":"IFERROR(IFERROR(IFERROR(INDEX(BP!B:H,MATCH(B46,BP!C:C,0),6),INDEX(BP!B:H,MATCH(B46,BP!D:D,0),6)),INDEX(BP!B:H,MATCH(B46,BP!E:E,0),6)),\"\")","v":""},{"$f":"IFERROR(IFERROR(IFERROR(INDEX(BP!B:H,MATCH(B46,BP!C:C,0),7),INDEX(BP!B:H,MATCH(B46,BP!D:D,0),7)),INDEX(BP!B:H,MATCH(B46,BP!E:E,0),7)),\"\")","v":""},{"$error":"#REF!"},{"$error":"#REF!"},{"$error":"#REF!"},null,"APURAÇÃO DO FLUXO DE CAIXA DO PERÍODO"]
[{"$f":"IF(LEFT(#REF!,7)=\"Despesa\",\"\",IF(LEFT(#REF!,7)=\"Receita\",\"\",#REF!))","v":{"$error":"#REF!"}},{"$f":"IF(LEFT(A47,7)=\"Despesa\",\"\",IF(LEFT(A47,7)=\"Receita\",\"\",IF(A47=\"\",\"\",#REF!)))","v":{"$error":"#REF!"}},{"$f":"IFERROR(IFERROR(IFERROR(INDEX(BP!B:H,MATCH(B47,BP!C:C,0),6),INDEX(BP!B:H,MATCH(B47,BP!D:D,0),6)),INDEX(BP!B:H,MATCH(B47,BP!E:E,0),6)),\"\")","v":""},{"$f":"IFERROR(IFERROR(IFERROR(INDEX(BP!B:H,MATCH(B47,BP!C:C,0),7),INDEX(BP!B:H,MATCH(B47,BP!D:D,0),7)),INDEX(BP!B:H,MATCH(B47,BP!E:E,0),7)),\"\")","v":""},{"$error":"#REF!"},{"$error":"#REF!"},{"$error":"#REF!"},null,"GERAÇÃO LÍQUIDA DE CAIXA E EQUIVALENTE DE CAIXA",null,140064839.08999959,285692117.55000043]
[{"$f":"IF(LEFT(#REF!,7)=\"Despesa\",\"\",IF(LEFT(#REF!,7)=\"Receita\",\"\",#REF!))","v":{"$error":"#REF!"}},{"$f":"IF(LEFT(A48,7)=\"Despesa\",\"\",IF(LEFT(A48,7)=\"Receita\",\"\",IF(A48=\"\",\"\",#REF!)))","v":{"$error":"#REF!"}},{"$f":"IFERROR(IFERROR(IFERROR(INDEX(BP!B:H,MATCH(B48,BP!C:C,0),6),INDEX(BP!B:H,MATCH(B48,BP!D:D,0),6)),INDEX(BP!B:H,MATCH(B48,BP!E:E,0),6)),\"\")","v":""},{"$f":"IFERROR(IFERROR(IFERROR(INDEX(BP!B:H,MATCH(B48,BP!C:C,0),7),INDEX(BP!B:H,MATCH(B48,BP!D:D,0),7)),INDEX(BP!B:H,MATCH(B48,BP!E:E,0),7)),\"\")","v":""},{"$error":"#REF!"},{"$error":"#REF!"},{"$error":"#REF!"},null,"CAIXA E EQUIVALENTE DE CAIXA INICIAL",null,885657238.94000006,745556301.51999998]
[{"$f":"IF(LEFT(#REF!,7)=\"Despesa\",\"\",IF(LEFT(#REF!,7)=\"Receita\",\"\",#REF!))","v":{"$error":"#REF!"}},{"$f":"IF(LEFT(A49,7)=\"Despesa\",\"\",IF(LEFT(A49,7)=\"Receita\",\"\",IF(A49=\"\",\"\",#REF!)))","v":{"$error":"#REF!"}},{"$f":"IFERROR(IFERROR(IFERROR(INDEX(BP!B:H,MATCH(B49,BP!C:C,0),6),INDEX(BP!B:H,MATCH(B49,BP!D:D,0),6)),INDEX(BP!B:H,MATCH(B49,BP!E:E,0),6)),\"\")","v":""},{"$f":"IFERROR(IFERROR(IFERROR(INDEX(BP!B:H,MATCH(B49,BP!C:C,0),7),INDEX(BP!B:H,MATCH(B49,BP!D:D,0),7)),INDEX(BP!B:H,MATCH(B49,BP!E:E,0),7)),\"\")","v":""},{"$error":"#REF!"},{"$error":"#REF!"},{"$error":"#REF!"},null,"CAIXA E EQUIVALENTE DE CAIXA FINAL",null,1025722078.03,1031248419.0699999]
[{"$f":"IF(LEFT(#REF!,7)=\"Despesa\",\"\",IF(LEFT(#REF!,7)=\"Receita\",\"\",#REF!))","v":{"$error":"#REF!"}},{"$f":"IF(LEFT(A50,7)=\"Despesa\",\"\",IF(LEFT(A50,7)=\"Receita\",\"\",IF(A50=\"\",\"\",#REF!)))","v":{"$error":"#REF!"}},{"$f":"IFERROR(IFERROR(IFERROR(INDEX(BP!B:H,MATCH(B50,BP!C:C,0),6),INDEX(BP!B:H,MATCH(B50,BP!D:D,0),6)),INDEX(BP!B:H,MATCH(B50,BP!E:E,0),6)),\"\")","v":""},{"$f":"IFERROR(IFERROR(IFERROR(INDEX(BP!B:H,MATCH(B50,BP!C:C,0),7),INDEX(BP!B:H,MATCH(B50,BP!D:D,0),7)),INDEX(BP!B:H,MATCH(B50,BP!E:E,0),7)),\"\")","v":""},{"$error":"#REF!"},{"$error":"#REF!"},{"$error":"#REF!"},null,"As notas explicativas da Administração são parte integrante das demonstrações contábeis consolidadas"]
[{"$f":"IF(LEFT(#REF!,7)=\"Despesa\",\"\",IF(LEFT(#REF!,7)=\"Receita\",\"\",#REF!))","v":{"$error":"#REF!"}},{"$f":"IF(LEFT(A51,7)=\"Despesa\",\"\",IF(LEFT(A51,7)=\"Receita\",\"\",IF(A51=\"\",\"\",#REF!)))","v":{"$error":"#REF!"}},{"$f":"IFERROR(IFERROR(IFERROR(INDEX(BP!B:H,MATCH(B51,BP!C:C,0),6),INDEX(BP!B:H,MATCH(B51,BP!D:D,0),6)),INDEX(BP!B:H,MATCH(B51,BP!E:E,0),6)),\"\")","v":""},{"$f":"IFERROR(IFERROR(IFERROR(INDEX(BP!B:H,MATCH(B51,BP!C:C,0),7),INDEX(BP!B:H,MATCH(B51,BP!D:D,0),7)),INDEX(BP!B:H,MATCH(B51,BP!E:E,0),7)),\"\")","v":""},{"$error":"#REF!"},{"$error":"#REF!"},{"$error":"#REF!"}]
[{"$f":"IF(LEFT(#REF!,7)=\"Despesa\",\"\",IF(LEFT(#REF!,7)=\"Receita\",\"\",#REF!))","v":{"$error":"#REF!"}},{"$f":"IF(LEFT(A52,7)=\"Despesa\",\"\",IF(LEFT(A52,7)=\"Receita\",\"\",IF(A52=\"\",\"\",#REF!)))","v":{"$error":"#REF!"}},{"$f":"IFERROR(IFERROR(IFERROR(INDEX(BP!B:H,MATCH(B52,BP!C:C,0),6),INDEX(BP!B:H,MATCH(B52,BP!D:D,0),6)),INDEX(BP!B:H,MATCH(B52,BP!E:E,0),6)),\"\")","v":""},{"$f":"IFERROR(IFERROR(IFERROR(INDEX(BP!B:H,MATCH(B52,BP!C:C,0),7),INDEX(BP!B:H,MATCH(B52,BP!D:D,0),7)),INDEX(BP!B:H,MATCH(B52,BP!E:E,0),7)),\"\")","v":""},{"$error":"#REF!"},{"$error":"#REF!"},{"$error":"#REF!"}]
[{"$f":"IF(LEFT(#REF!,7)=\"Despesa\",\"\",IF(LEFT(#REF!,7)=\"Receita\",\"\",#REF!))","v":{"$error":"#REF!"}},{"$f":"IF(LEFT(A53,7)=\"Despesa\",\"\",IF(LEFT(A53,7)=\"Receita\",\"\",IF(A53=\"\",\"\",#REF!)))","v":{"$error":"#REF!"}},{"$f":"IFERROR(IFERROR(IFERROR(INDEX(BP!B:H,MATCH(B53,BP!C:C,0),6),INDEX(BP!B:H,MATCH(B53,BP!D:D,0),6)),INDEX(BP!B:H,MATCH(B53,BP!E:E,0),6)),\"\")","v":""},{"$f":"IFERROR(IFERROR(IFERROR(INDEX(BP!B:H,MATCH(B53,BP!C:C,0),7),INDEX(BP!B:H,MATCH(B53,BP!D:D,0),7)),INDEX(BP!B:H,MATCH(B53,BP!E:E,0),7)),\"\")","v":""},{"$error":"#REF!"},{"$error":"#REF!"},{"$error":"#REF!"}]
[{"$f":"IF(LEFT(#REF!,7)=\"Despesa\",\"\",IF(LEFT(#REF!,7)=\"Receita\",\"\",#REF!))","v":{"$error":"#REF!"}},{"$f":"IF(LEFT(A54,7)=\"Despesa\",\"\",IF(LEFT(A54,7)=\"Receita\",\"\",IF(A54=\"\",\"\",#REF!)))","v":{"$error":"#REF!"}},{"$f":"IFERROR(IFERROR(IFERROR(INDEX(BP!B:H,MATCH(B54,BP!C:C,0),6),INDEX(BP!B:H,MATCH(B54,BP!D:D,0),6)),INDEX(BP!B:H,MATCH(B54,BP!E:E,0),6)),\"\")","v":""},{"$f":"IFERROR(IFERROR(IFERROR(INDEX(BP!B:H,MATCH(B54,BP!C:C,0),7),INDEX(BP!B:H,MATCH(B54,BP!D:D,0),7)),INDEX(BP!B:H,MATCH(B54,BP!E:E,0),7)),\"\")","v":""},{"$error":"#REF!"},{"$error":"#REF!"},{"$error":"#REF!"}]
[{"$f":"IF(LEFT(#REF!,7)=\"Despesa\",\"\",IF(LEFT(#REF!,7)=\"Receita\",\"\",#REF!))","v":{"$error":"#REF!"}},{"$f":"IF(LEFT(A55,7)=\"Despesa\",\"\",IF(LEFT(A55,7)=\"Receita\",\"\",IF(A55=\"\",\"\",#REF!)))","v":{"$error":"#REF!"}},{"$f":"IFERROR(IFERROR(IFERROR(INDEX(BP!B:H,MATCH(B55,BP!C:C,0),6),INDEX(BP!B:H,MATCH(B55,BP!D:D,0),6)),INDEX(BP!B:H,MATCH(B55,BP!E:E,0),6)),\"\")","v":""},{"$f":"IFERROR(IFERROR(IFERROR(INDEX(BP!B:H,MATCH(B55,BP!C:C,0),7),INDEX(BP!B:H,MATCH(B55,BP!D:D,0),7)),INDEX(BP!B:H,MATCH(B55,BP!E:E,0),7)),\"\")","v":""},{"$error":"#REF!"},{"$error":"#REF!"},{"$error":"#REF!"}]

{"sheet":"DVA","index":3,"n_rows":38,"n_cols":6,"rows_kept":38,"cut":false,"hidden":false,"merged":[[0,1,0,3],[1,2,1,3]]}
[null,"EBSERH - EMPRESA BRASILEIRA DE SERVIÇOS HOSPITALARES"]
[null,"Demonstração Valor Adicionado ","30 de junho de 2022"]
[null,"Em reais "]
[null,"Descrição"," 01.01.2022                          a                        30.06.2022"," 01.01.2021                          a                        30.06.2021"]
[null,"Geração de Valor Adicionado"]
[null,"1 - Receitas",51689644.600000001,63560835.079999998]
[null,"1.1 - Atividades Operacionais",51689644.600000001,63560835.079999998]
[null,"1.1.1 - Receita de Serviços e Exploração",51689644.600000001,63560835.079999998]
[null,"2 - Insumos Adquiridos de Terceiros",1297455287.0599997,1164969115.21]
[null,"2.1 - Materiais de Consumo",568059097.88,565746305.95999992]
[null,"2.2 - Energia elétrica, Água e Esgoto, Gás",74301323.560000002,60032974.810000002]
[null,"2.3 - Serviços de Terceiros",648949070.9399997,539189834.43999994]
[null,"2.4 - Contigências para Riscos Cíveis",6145794.6799999997,0]
[null,"3 - Valor Adicionado Bruto (1-2)",-1245765642.4599998,-1101408280.1300001]
[null,"4 - Depreciação, Amortização, Impairment e Perdas",32554076.259999998,20893749.199999999]
[null,"4.1 - Depreciação do Período",23870892.629999999,17200967.609999999]
[null,"4.2 - Amortização do Período",3009521.8299999996,3009756.1999999997]
[null,"4.3 - Redução a Valor Recuperável - Impairment",4769.43,0]
[null,"4.4 - Perdas Involuntárias e Desfazimentos",5668892.3700000001,683025.39]
[null,"5 - Valor Adicionado Líquido (3-4)",-1278319718.7199998,-1122302029.3300002]
[null,"6 - Valor Adicionado Recebido em Transferência",4194651257.4300003,3980441571.2900004]
[null,"6.1 - Repasses e Cotas Financeiras",4105351952.0600004,3963613253.7200003]
[null,"6.2 - Receitas Financeiras",1204827.49,657028.2300000001]
[null,"6.3 - Outras",88094477.879999995,16171289.339999996]
[null,"7 - Valor Adicionado Total a Distribuir (5+6)",2916331538.7100005,2858139541.96]
[null,"8 - Distribuição do Valor Adicionado",2916331538.7100015,2858139541.9599991,null,{"$f":"D25-D26","v":0}]
[null,"8.1 - Remuneração do Trabalho",3023721959.8600235,2914249800.7599998]
[null,"8.1.1 - Pessoal e Diárias",2139068717.4500234,2143869979.0799999]
[null,"8.1.2 - Encargos",884653242.40999997,770379821.67999995]
[null,"8.2 - Remuneração do Governo",3579011.6600000011,941716.66999999981]
[null,"8.2.1 - Impostos, Taxas, Contribuições, Multas e Juros",3579011.6600000011,941716.66999999981]
[null,"8.2.2 - Provisão p/ Imposto de Renda",0,0]
[null,"8.2.3 - Provisão p/ CSLL",0,0]
[null,"8.3 - Remuneração do Capital de Terceiros",19488662.649999999,20139034.729999997]
[null,"8.3.1 - Locação",19488662.649999999,20139034.729999997]
[null,"8.4 - Remuneração de Capital Próprio",-130458095.46002197,-77191010.200000763]
[null,"8.4.1 Resultado do Exercício",-130458095.46002197,-77191010.200000763]
[null,"As notas explicativas da Administração são parte integrante das demonstrações contábeis consolidadas."]

{"sheet":"DMPL","index":4,"n_rows":20,"n_cols":6,"rows_kept":20,"cut":false,"hidden":false,"merged":[[2,13,2,14],[1,4,1,5],[0,1,0,5],[12,1,13,1],[12,2,13,2],[12,3,13,3],[12,4,13,4],[12,5,13,5],[11,1,11,5],[3,1,4,1],[3,2,4,2],[3,3,4,3],[3,4,4,4],[3,5,4,5]]}
[null,"EBSERH - EMPRESA BRASILEIRA DE SERVIÇOS HOSPITALARES"]
[null,"Demonstração Consolidada das Mutações do Patrimônio Líquido ",null,null,"30 de junho de 2022"]
[null,"Em reais"]
[null,"Componentes ","Capital Social ","Reservas de Capital - AFAC","Resultados Acumulados","Patrimônio Líquido "]
[]
[null,"Saldos Iniciais (31/12/2020)",381384237.75,202658776.91,-529544354.01999998,54498660.639999986]
[null,"Resultado do Período",null,null,-218107289.09999999,-218107289.09999999]
[null,"Adiantamento Fut Aume Cap - AFAC",null,112365624.37,null,112365624.37]
[null,"Integralização de AFAC ao Capital Social",181119026.97,-181119026.97,null,0]
[null,"Saldos Finais em 31/12/2021",562503264.72000003,133905374.30999997,-747651643.12,-51243004.090000004]
[]
[]
[null,"Componentes ","Capital Social ","Reservas de Capital - AFAC","Prejuízos  Acumulados","Patrimônio Líquido "]
[]
[null,"2021-12-31",562503264.72000003,133905374.31,-747651643.12000132,-51243004.090001345]
[null,"Resultado do Período",null,null,-130458095.46002293,-130458095.46002293]
[null,"Adiantamento Fut Aume Cap - AFAC",null,117480024.99000001,null,117480024.99000001]
[null,"Ajuste de Avaliação Patrimonial ",null,null,null,0]
[null,"Ajustes de Exercicios Anteriores",null,null,-5316287.350000916,-5316287.350000916]
[null,"Saldos Finais em 30/06/2022",562503264.72000003,251385399.30000001,-883426025.9300251,-69537361.91002512]

{"sheet":"DRA","index":5,"n_rows":9,"n_cols":3,"rows_kept":9,"cut":false,"hidden":false,"merged":[[0,0,0,2],[1,1,1,2]]}
["EBSERH - EMPRESA BRASILEIRA DE SERVIÇOS HOSPITALARES"]
["Demonstrações Intermediárias do Resultado Abrangente"]
["Em reais "]
["Descrição"," 01.01.2022                          a                        30.06.2022"," 01.01.2021                          a                        30.06.2021"]
["1 Resultado do Exercício",-130458095.46002293,-77191010.199999809]
["2 Outros Resultados Abrangentes",0,0]
["2.1 -Ajuste de Avaliação Patrimonial",0,0]
["3 Resultado Abrangente do Período",-130458095.46002293,-77191010.199999809]
["As notas explicativas da Administração são parte integrante das demonstrações contábeis consolidadas."]

{"sheet":"Cálculo de RI","index":6,"n_rows":10,"n_cols":5,"rows_kept":10,"cut":false,"hidden":false,"merged":[]}
[]
["Despesa indedutível da Base IR",76026913.629999995,{"$f":"0.15","v":0.15},{"$f":"C2*B3","v":17975239.390499622},"IR Sobre a Base"]
["Base de IR",119834929.26999748,0.1,{"$f":"C3*B5","v":11977492.926999748},"Adicional IR"]
["Percentual Isento",60000,0.09,{"$f":"B3*C4","v":10785143.634299772},"CSLL a Recolher"]
[null,119774929.26999748,null,{"$f":"D2+D3","v":29952732.317499369},"Total de IR Apurado"]
[null,null,0.3,{"$f":"D5*C6","v":8985819.6952498108},"Compensação de Prejuízo Fiscal Acumulado"]
[]
[null,null,null,{"$f":"D5-D6","v":20966912.622249559},"IR a Recolher"]
[null,null,null,{"$f":"D4","v":10785143.634299772},"CSLL a Recolher"]
[null,null,null,{"$f":"D8+D9","v":31752056.256549329},"Total"]

{"sheet":"--","index":7,"n_rows":192,"n_cols":4,"rows_kept":192,"cut":false,"hidden":true,"merged":[]}
["1 - Receitas",null,"Grupo Dva","Subgrupo DVA"]
["1.1 - Atividades operacionais",null,"1.1 - Atividades operacionais","1.1 - Atividades operacionais"]
["Relatório Financeiro PF",null,"Relatório Financeiro PF","Relatório Financeiro PF"]
["2 - Insumos Adquiridos de Terceiros",null,"2 - Insumos Adquiridos de Terceiros","2 - Insumos Adquiridos de Terceiros"]
["2.1 - Materiais de Consumo",null,"2 - Insumos Adquiridos de Terceiros","2.1 - Materiais de Consumo"]
["3.3.1.1.1.01.00",{"$f":"VLOOKUP(A6,#REF!,2,0)","v":{"$error":"#REF!"}},"2 - Insumos Adquiridos de Terceiros","2.1 - Materiais de Consumo"]
["3.3.1.1.1.02.00",{"$f":"VLOOKUP(A7,#REF!,2,0)","v":{"$error":"#REF!"}},"2 - Insumos Adquiridos de Terceiros","2.1 - Materiais de Consumo"]
["3.3.1.1.1.03.00",{"$f":"VLOOKUP(A8,#REF!,2,0)","v":{"$error":"#REF!"}},"2 - Insumos Adquiridos de Terceiros","2.1 - Materiais de Consumo"]
["3.3.1.1.1.04.00",{"$f":"VLOOKUP(A9,#REF!,2,0)","v":{"$error":"#REF!"}},"2 - Insumos Adquiridos de Terceiros","2.1 - Materiais de Consumo"]
["3.3.1.1.1.05.00",{"$f":"VLOOKUP(A10,#REF!,2,0)","v":{"$error":"#REF!"}},"2 - Insumos Adquiridos de Terceiros","2.1 - Materiais de Consumo"]
["3.3.1.1.1.06.00",{"$f":"VLOOKUP(A11,#REF!,2,0)","v":{"$error":"#REF!"}},"2 - Insumos Adquiridos de Terceiros","2.1 - Materiais de Consumo"]
["3.3.1.1.1.07.00",{"$f":"VLOOKUP(A12,#REF!,2,0)","v":{"$error":"#REF!"}},"2 - Insumos Adquiridos de Terceiros","2.1 - Materiais de Consumo"]
["3.3.1.1.1.08.00",{"$f":"VLOOKUP(A13,#REF!,2,0)","v":{"$error":"#REF!"}},"2 - Insumos Adquiridos de Terceiros","2.1 - Materiais de Consumo"]
["3.3.1.1.1.09.00",{"$f":"VLOOKUP(A14,#REF!,2,0)","v":{"$error":"#REF!"}},"2 - Insumos Adquiridos de Terceiros","2.1 - Materiais de Consumo"]
["3.3.1.1.1.99.00",{"$f":"VLOOKUP(A15,#REF!,2,0)","v":{"$error":"#REF!"}},"2 - Insumos Adquiridos de Terceiros","2.1 - Materiais de Consumo"]
["3.6.3.3.1.01.00",{"$f":"VLOOKUP(A16,#REF!,2,0)","v":{"$error":"#REF!"}},"2 - Insumos Adquiridos de Terceiros","2.1 - Materiais de Consumo"]
["2.2 - Energia elétrica, Água e Esgoto, Gás",null,"2 - Insumos Adquiridos de Terceiros","2.2 - Energia elétrica, Água e Esgoto, Gás"]
["3.3.2.3.2.08.00",{"$f":"VLOOKUP(A18,#REF!,2,0)","v":{"$error":"#REF!"}},"2 - Insumos Adquiridos de Terceiros","2.2 - Energia elétrica, Água e Esgoto, Gás"]
["3.3.2.3.4.08.00",{"$f":"VLOOKUP(A19,#REF!,2,0)","v":{"$error":"#REF!"}},"2 - Insumos Adquiridos de Terceiros","2.2 - Energia elétrica, Água e Esgoto, Gás"]
["3.3.2.3.1.08.00",{"$f":"VLOOKUP(A20,#REF!,2,0)","v":{"$error":"#REF!"}},"2 - Insumos Adquiridos de Terceiros","2.2 - Energia elétrica, Água e Esgoto, Gás"]
["2.3 - Serviços de Terceiros",null,"2 - Insumos Adquiridos de Terceiros","2.3 - Serviços de Terceiros"]
["3.3.2.2.1.01.00",{"$f":"VLOOKUP(A22,#REF!,2,0)","v":{"$error":"#REF!"}},"2 - Insumos Adquiridos de Terceiros","2.3 - Serviços de Terceiros"]
["3.3.2.2.1.02.00",{"$f":"VLOOKUP(A23,#REF!,2,0)","v":{"$error":"#REF!"}},"2 - Insumos Adquiridos de Terceiros","2.3 - Serviços de Terceiros"]
["3.3.2.2.1.09.00",{"$f":"VLOOKUP(A24,#REF!,2,0)","v":{"$error":"#REF!"}},"2 - Insumos Adquiridos de Terceiros","2.3 - Serviços de Terceiros"]
["3.3.2.2.1.05.00",{"$f":"VLOOKUP(A25,#REF!,2,0)","v":{"$error":"#REF!"}},"2 - Insumos Adquiridos de Terceiros","2.3 - Serviços de Terceiros"]
["3.3.2.3.1.01.00",{"$f":"VLOOKUP(A26,#REF!,2,0)","v":{"$error":"#REF!"}},"2 - Insumos Adquiridos de Terceiros","2.3 - Serviços de Terceiros"]
["3.3.2.3.1.02.00",{"$f":"VLOOKUP(A27,#REF!,2,0)","v":{"$error":"#REF!"}},"2 - Insumos Adquiridos de Terceiros","2.3 - Serviços de Terceiros"]
["3.3.2.3.1.03.00",{"$f":"VLOOKUP(A28,#REF!,2,0)","v":{"$error":"#REF!"}},"2 - Insumos Adquiridos de Terceiros","2.3 - Serviços de Terceiros"]
["3.3.2.3.1.04.00",{"$f":"VLOOKUP(A29,#REF!,2,0)","v":{"$error":"#REF!"}},"2 - Insumos Adquiridos de Terceiros","2.3 - Serviços de Terceiros"]
["3.3.2.3.1.05.00",{"$f":"VLOOKUP(A30,#REF!,2,0)","v":{"$error":"#REF!"}},"2 - Insumos Adquiridos de Terceiros","2.3 - Serviços de Terceiros"]
["3.3.2.3.1.06.00",{"$f":"VLOOKUP(A31,#REF!,2,0)","v":{"$error":"#REF!"}},"2 - Insumos Adquiridos de Terceiros","2.3 - Serviços de Terceiros"]
["3.3.2.3.1.07.00",{"$f":"VLOOKUP(A32,#REF!,2,0)","v":{"$error":"#REF!"}},"2 - Insumos Adquiridos de Terceiros","2.3 - Serviços de Terceiros"]
["3.3.2.3.1.10.00",{"$f":"VLOOKUP(A33,#REF!,2,0)","v":{"$error":"#REF!"}},"2 - Insumos Adquiridos de Terceiros","2.3 - Serviços de Terceiros"]
["3.3.2.3.1.11.00",{"$f":"VLOOKUP(A34,#REF!,2,0)","v":{"$error":"#REF!"}},"2 - Insumos Adquiridos de Terceiros","2.3 - Serviços de Terceiros"]
["3.3.2.3.1.12.00",{"$f":"VLOOKUP(A35,#REF!,2,0)","v":{"$error":"#REF!"}},"2 - Insumos Adquiridos de Terceiros","2.3 - Serviços de Terceiros"]
["3.3.2.3.1.13.00",{"$f":"VLOOKUP(A36,#REF!,2,0)","v":{"$error":"#REF!"}},"2 - Insumos Adquiridos de Terceiros","2.3 - Serviços de Terceiros"]
["3.3.2.3.1.14.00",{"$f":"VLOOKUP(A37,#REF!,2,0)","v":{"$error":"#REF!"}},"2 - Insumos Adquiridos de Terceiros","2.3 - Serviços de Terceiros"]
["3.3.2.3.1.99.00",{"$f":"VLOOKUP(A38,#REF!,2,0)","v":{"$error":"#REF!"}},"2 - Insumos Adquiridos de Terceiros","2.3 - Serviços de Terceiros"]
["3.3.2.3.2.01.00",{"$f":"VLOOKUP(A39,#REF!,2,0)","v":{"$error":"#REF!"}},"2 - Insumos Adquiridos de Terceiros","2.3 - Serviços de Terceiros"]
["3.3.2.3.2.02.00",{"$f":"VLOOKUP(A40,#REF!,2,0)","v":{"$error":"#REF!"}},"2 - Insumos Adquiridos de Terceiros","2.3 - Serviços de Terceiros"]
["3.3.2.3.2.03.00",{"$f":"VLOOKUP(A41,#REF!,2,0)","v":{"$error":"#REF!"}},"2 - Insumos Adquiridos de Terceiros","2.3 - Serviços de Terceiros"]
["3.3.2.3.2.05.00",{"$f":"VLOOKUP(A42,#REF!,2,0)","v":{"$error":"#REF!"}},"2 - Insumos Adquiridos de Terceiros","2.3 - Serviços de Terceiros"]
["3.3.2.3.2.11.00",{"$f":"VLOOKUP(A43,#REF!,2,0)","v":{"$error":"#REF!"}},"2 - Insumos Adquiridos de Terceiros","2.3 - Serviços de Terceiros"]
["3.3.2.3.2.12.00",{"$f":"VLOOKUP(A44,#REF!,2,0)","v":{"$error":"#REF!"}},"2 - Insumos Adquiridos de Terceiros","2.3 - Serviços de Terceiros"]
["3.3.2.3.4.12.00",{"$f":"VLOOKUP(A45,#REF!,2,0)","v":{"$error":"#REF!"}},"2 - Insumos Adquiridos de Terceiros","2.3 - Serviços de Terceiros"]
["3.3.2.3.4.01.00",{"$f":"VLOOKUP(A46,#REF!,2,0)","v":{"$error":"#REF!"}},"2 - Insumos Adquiridos de Terceiros","2.3 - Serviços de Terceiros"]
["3.3.2.3.4.03.00",{"$f":"VLOOKUP(A47,#REF!,2,0)","v":{"$error":"#REF!"}},"2 - Insumos Adquiridos de Terceiros","2.3 - Serviços de Terceiros"]
["3.3.2.3.4.05.00",{"$f":"VLOOKUP(A48,#REF!,2,0)","v":{"$error":"#REF!"}},"2 - Insumos Adquiridos de Terceiros","2.3 - Serviços de Terceiros"]
["3.3.2.3.4.11.00",{"$f":"VLOOKUP(A49,#REF!,2,0)","v":{"$error":"#REF!"}},"2 - Insumos Adquiridos de Terceiros","2.3 - Serviços de Terceiros"]
["3.3.2.3.4.13.00",{"$f":"VLOOKUP(A50,#REF!,2,0)","v":{"$error":"#REF!"}},"2 - Insumos Adquiridos de Terceiros","2.3 - Serviços de Terceiros"]
["3.3.2.3.5.02.00",{"$f":"VLOOKUP(A51,#REF!,2,0)","v":{"$error":"#REF!"}},"2 - Insumos Adquiridos de Terceiros","2.3 - Serviços de Terceiros"]
["3.6.4.0.1.01.00",{"$f":"VLOOKUP(A52,#REF!,2,0)","v":{"$error":"#REF!"}},"2 - Insumos Adquiridos de Terceiros","2.3 - Serviços de Terceiros"]
["3.6.4.0.2.01.00",{"$f":"VLOOKUP(A53,#REF!,2,0)","v":{"$error":"#REF!"}},"2 - Insumos Adquiridos de Terceiros","2.3 - Serviços de Terceiros"]
["3.3.2.2.1.10.00",{"$f":"VLOOKUP(A54,#REF!,2,0)","v":{"$error":"#REF!"}},"2 - Insumos Adquiridos de Terceiros","2.3 - Serviços de Terceiros"]
["3 - Valor Adicionado Bruto (1-2)",null,"3 - Valor Adicionado Bruto (1-2)","3 - Valor Adicionado Bruto (1-2)"]
["4 - Depreciação, Amortização e Exaustão",null,"4 - Depreciação, Amortização e Exaustão","4 - Depreciação, Amortização e Exaustão"]
["4.1 - Depreciação do Período",null,"4 - Depreciação, Amortização e Exaustão","4.1 - Depreciação do Período"]
["3.3.3.1.1.01.00",{"$f":"VLOOKUP(A58,#REF!,2,0)","v":{"$error":"#REF!"}},"4 - Depreciação, Amortização e Exaustão","4.1 - Depreciação do Período"]
["3.3.3.1.1.02.00",{"$f":"VLOOKUP(A59,#REF!,2,0)","v":{"$error":"#REF!"}},"4 - Depreciação, Amortização e Exaustão","4.1 - Depreciação do Período"]
["4.2 - Amortização do Período",null,"4 - Depreciação, Amortização e Exaustão","4.2 - Amortização do Período"]
["3.3.3.2.1.01.00",null,"4 - Depreciação, Amortização e Exaustão","4.2 - Amortização do Período"]
["3.3.3.2.1.02.00",{"$f":"VLOOKUP(A62,#REF!,2,0)","v":{"$error":"#REF!"}},"4 - Depreciação, Amortização e Exaustão","4.2 - Amortização do Período"]
["5 - Valor Adicionado Líquido (3-4)",null,"5 - Valor Adicionado Líquido (3-4)","5 - Valor Adicionado Líquido (3-4)"]
["6 - Valor Adicionado Recebido em Transferência",null,"6 - Valor Adicionado Recebido em Transferência","6 - Valor Adicionado Recebido em Transferência"]
["6.1 Repasses e Cotas Financeiras",null,"6 - Valor Adicionado Recebido em Transferência","6.1 Repasses e Cotas Financeiras"]
["3.5.1.1.2.02.00",{"$f":"VLOOKUP(A66,#REF!,2,0)","v":{"$error":"#REF!"}},"6 - Valor Adicionado Recebido em Transferência","6.1 Repasses e Cotas Financeiras"]
["3.5.1.1.2.03.00",{"$f":"VLOOKUP(A67,#REF!,2,0)","v":{"$error":"#REF!"}},"6 - Valor Adicionado Recebido em Transferência","6.1 Repasses e Cotas Financeiras"]
["3.5.1.1.2.08.02",{"$f":"VLOOKUP(A68,#REF!,2,0)","v":{"$error":"#REF!"}},"6 - Valor Adicionado Recebido em Transferência","6.1 Repasses e Cotas Financeiras"]
["3.5.1.2.2.01.00",{"$f":"VLOOKUP(A69,#REF!,2,0)","v":{"$error":"#REF!"}},"6 - Valor Adicionado Recebido em Transferência","6.1 Repasses e Cotas Financeiras"]
["3.5.1.2.2.02.00",{"$f":"VLOOKUP(A70,#REF!,2,0)","v":{"$error":"#REF!"}},"6 - Valor Adicionado Recebido em Transferência","6.1 Repasses e Cotas Financeiras"]
["3.5.6.0.1.04.00",{"$f":"VLOOKUP(A71,#REF!,2,0)","v":{"$error":"#REF!"}},"6 - Valor Adicionado Recebido em Transferência","6.1 Repasses e Cotas Financeiras"]
["3.5.9.0.2.01.00",{"$f":"VLOOKUP(A72,#REF!,2,0)","v":{"$error":"#REF!"}},"6 - Valor Adicionado Recebido em Transferência","6.1 Repasses e Cotas Financeiras"]
["3.5.9.0.5.01.00",{"$f":"VLOOKUP(A73,#REF!,2,0)","v":{"$error":"#REF!"}},"6 - Valor Adicionado Recebido em Transferência","6.1 Repasses e Cotas Financeiras"]
["3.4.3.9.2.01.01",{"$f":"VLOOKUP(A74,#REF!,2,0)","v":{"$error":"#REF!"}},"6 - Valor Adicionado Recebido em Transferência","6.1 Repasses e Cotas Financeiras"]
["3.5.9.0.1.01.00",{"$f":"VLOOKUP(A75,#REF!,2,0)","v":{"$error":"#REF!"}},"6 - Valor Adicionado Recebido em Transferência","6.1 Repasses e Cotas Financeiras"]
["4.3.3.1.2.01.00",{"$f":"VLOOKUP(A76,#REF!,2,0)","v":{"$error":"#REF!"}},"6 - Valor Adicionado Recebido em Transferência","6.1 Repasses e Cotas Financeiras"]
["4.3.3.1.5.01.00",{"$f":"VLOOKUP(A77,#REF!,2,0)","v":{"$error":"#REF!"}},"6 - Valor Adicionado Recebido em Transferência","6.1 Repasses e Cotas Financeiras"]
["4.3.3.9.1.01.00",{"$f":"VLOOKUP(A78,#REF!,2,0)","v":{"$error":"#REF!"}},"6 - Valor Adicionado Recebido em Transferência","6.1 Repasses e Cotas Financeiras"]
["4.3.3.9.5.01.00",{"$f":"VLOOKUP(A79,#REF!,2,0)","v":{"$error":"#REF!"}},"6 - Valor Adicionado Recebido em Transferência","6.1 Repasses e Cotas Financeiras"]
["4.3.3.9.1.99.00",{"$f":"VLOOKUP(A80,#REF!,2,0)","v":{"$error":"#REF!"}},"6 - Valor Adicionado Recebido em Transferência","6.1 Repasses e Cotas Financeiras"]
["4.5.1.1.2.02.00",{"$f":"VLOOKUP(A81,#REF!,2,0)","v":{"$error":"#REF!"}},"6 - Valor Adicionado Recebido em Transferência","6.1 Repasses e Cotas Financeiras"]
["4.5.1.1.2.03.00",{"$f":"VLOOKUP(A82,#REF!,2,0)","v":{"$error":"#REF!"}},"6 - Valor Adicionado Recebido em Transferência","6.1 Repasses e Cotas Financeiras"]
["4.5.1.2.2.01.00",{"$f":"VLOOKUP(A83,#REF!,2,0)","v":{"$error":"#REF!"}},"6 - Valor Adicionado Recebido em Transferência","6.1 Repasses e Cotas Financeiras"]
["4.5.1.2.2.02.00",{"$f":"VLOOKUP(A84,#REF!,2,0)","v":{"$error":"#REF!"}},"6 - Valor Adicionado Recebido em Transferência","6.1 Repasses e Cotas Financeiras"]
["4.5.9.0.1.01.00",{"$f":"VLOOKUP(A85,#REF!,2,0)","v":{"$error":"#REF!"}},"6 - Valor Adicionado Recebido em Transferência","6.1 Repasses e Cotas Financeiras"]
["4.5.9.0.2.01.00",{"$f":"VLOOKUP(A86,#REF!,2,0)","v":{"$error":"#REF!"}},"6 - Valor Adicionado Recebido em Transferência","6.1 Repasses e Cotas Financeiras"]
["4.4.5.2.1.01.00",{"$f":"VLOOKUP(A87,#REF!,2,0)","v":{"$error":"#REF!"}},"6 - Valor Adicionado Recebido em Transferência","6.1 Repasses e Cotas Financeiras"]
["6.2 Receitas Financeiras",null,"6 - Valor Adicionado Recebido em Transferência","6.2 Receitas Financeiras"]
["Receitas Financeiras",null,"6 - Valor Adicionado Recebido em Transferência","6.2 Receitas Financeiras"]
["6.3 Outras",null,"6 - Valor Adicionado Recebido em Transferência","6.3 Outras"]
["4.3.3.1.1.01.00",{"$f":"VLOOKUP(A91,#REF!,2,0)","v":{"$error":"#REF!"}},"6 - Valor Adicionado Recebido em Transferência","6.3 Outras"]
["4.5.1.2.2.03.00",{"$f":"VLOOKUP(A92,#REF!,2,0)","v":{"$error":"#REF!"}},"6 - Valor Adicionado Recebido em Transferência","6.3 Outras"]
["4.4.2.9.1.01.00",{"$f":"VLOOKUP(A93,#REF!,2,0)","v":{"$error":"#REF!"}},"6 - Valor Adicionado Recebido em Transferência","6.3 Outras"]
["4.6.3.1.1.01.00","GANHOS COM INCORPORACAO DE ATIVOS","6 - Valor Adicionado Recebido em Transferência","6.3 Outras"]
["4.6.3.9.1.01.00",{"$f":"VLOOKUP(A95,#REF!,2,0)","v":{"$error":"#REF!"}},"6 - Valor Adicionado Recebido em Transferência","6.3 Outras"]
["4.6.3.9.2.01.00",{"$f":"VLOOKUP(A96,#REF!,2,0)","v":{"$error":"#REF!"}},"6 - Valor Adicionado Recebido em Transferência","6.3 Outras"]
["4.6.4.0.1.01.00",{"$f":"VLOOKUP(A97,#REF!,2,0)","v":{"$error":"#REF!"}},"6 - Valor Adicionado Recebido em Transferência","6.3 Outras"]
["4.6.4.0.2.01.00",{"$f":"VLOOKUP(A98,#REF!,2,0)","v":{"$error":"#REF!"}},"6 - Valor Adicionado Recebido em Transferência","6.3 Outras"]
["4.9.9.6.1.02.00",{"$f":"VLOOKUP(A99,#REF!,2,0)","v":{"$error":"#REF!"}},"6 - Valor Adicionado Recebido em Transferência","6.3 Outras"]
["4.9.9.9.1.01.00",{"$f":"VLOOKUP(A100,#REF!,2,0)","v":{"$error":"#REF!"}},"6 - Valor Adicionado Recebido em Transferência","6.3 Outras"]
["4.9.7.1.1.01.00",{"$f":"VLOOKUP(A101,#REF!,2,0)","v":{"$error":"#REF!"}},"6 - Valor Adicionado Recebido em Transferência","6.3 Outras"]
["4.9.9.5.1.01.00",{"$f":"VLOOKUP(A102,#REF!,2,0)","v":{"$error":"#REF!"}},"6 - Valor Adicionado Recebido em Transferência","6.3 Outras"]
["3.5.3.1.1.01.00",{"$f":"VLOOKUP(A103,#REF!,2,0)","v":{"$error":"#REF!"}},"6 - Valor Adicionado Recebido em Transferência","6.3 Outras"]
["3.5.2.3.1.01.00",{"$f":"VLOOKUP(A104,#REF!,2,0)","v":{"$error":"#REF!"}},"6 - Valor Adicionado Recebido em Transferência","6.3 Outras"]
["3.5.1.2.2.03.00",{"$f":"VLOOKUP(A105,#REF!,2,0)","v":{"$error":"#REF!"}},"6 - Valor Adicionado Recebido em Transferência","6.3 Outras"]
["3.5.1.2.2.05.00",{"$f":"VLOOKUP(A106,#REF!,2,0)","v":{"$error":"#REF!"}},"6 - Valor Adicionado Recebido em Transferência","6.3 Outras"]
["3.6.5.0.1.01.00","INCORPORACAO DE PASSIVOS","6 - Valor Adicionado Recebido em Transferência","6.3 Outras"]
["3.6.5.0.2.01.00",{"$f":"VLOOKUP(A108,#REF!,2,0)","v":{"$error":"#REF!"}},"6 - Valor Adicionado Recebido em Transferência","6.3 Outras"]
["3.5.9.0.4.01.00",{"$f":"VLOOKUP(A109,#REF!,2,0)","v":{"$error":"#REF!"}},"6 - Valor Adicionado Recebido em Transferência","6.3 Outras"]
["3.6.3.1.1.01.00",{"$f":"VLOOKUP(A110,#REF!,2,0)","v":{"$error":"#REF!"}},"6 - Valor Adicionado Recebido em Transferência","6.3 Outras"]
["7 - Valor Adicionado Total a Distribuir (5+6)",null,"7 - Valor Adicionado Total a Distribuir (5+6)","7 - Valor Adicionado Total a Distribuir (5+6)"]
["8 - Distribuição do Valor Adicionado",null,"8 - Distribuição do Valor Adicionado","8 - Distribuição do Valor Adicionado"]
["8.1 - Remuneração do Trabalho",null,"8 - Distribuição do Valor Adicionado","8.1 - Remuneração do Trabalho"]
["8.1.1 - Pessoal e Diárias",null,"8 - Distribuição do Valor Adicionado","8.1.1 - Pessoal e Diárias"]
["3.1.1.1.1.01.00",null,"8 - Distribuição do Valor Adicionado","8.1.1 - Pessoal e Diárias"]
["3.1.1.1.1.03.00",{"$f":"VLOOKUP(A116,#REF!,2,0)","v":{"$error":"#REF!"}},"8 - Distribuição do Valor Adicionado","8.1.1 - Pessoal e Diárias"]
["3.1.1.1.1.04.00",{"$f":"VLOOKUP(A117,#REF!,2,0)","v":{"$error":"#REF!"}},"8 - Distribuição do Valor Adicionado","8.1.1 - Pessoal e Diárias"]
["3.1.1.1.1.09.00",{"$f":"VLOOKUP(A118,#REF!,2,0)","v":{"$error":"#REF!"}},"8 - Distribuição do Valor Adicionado","8.1.1 - Pessoal e Diárias"]
["3.3.2.1.1.01.00",{"$f":"VLOOKUP(A119,#REF!,2,0)","v":{"$error":"#REF!"}},"8 - Distribuição do Valor Adicionado","8.1.1 - Pessoal e Diárias"]
["3.1.1.1.1.05.00",{"$f":"VLOOKUP(A120,#REF!,2,0)","v":{"$error":"#REF!"}},"8 - Distribuição do Valor Adicionado","8.1.1 - Pessoal e Diárias"]
["3.1.1.2.1.01.00","SERVICOS DE CONFECCOES - PJ","8 - Distribuição do Valor Adicionado","8.1.1 - Pessoal e Diárias"]
["3.1.1.2.1.02.00",{"$f":"VLOOKUP(A122,#REF!,2,0)","v":{"$error":"#REF!"}},"8 - Distribuição do Valor Adicionado","8.1.1 - Pessoal e Diárias"]
["3.1.1.2.1.03.00",{"$f":"VLOOKUP(A123,#REF!,2,0)","v":{"$error":"#REF!"}},"8 - Distribuição do Valor Adicionado","8.1.1 - Pessoal e Diárias"]
["3.1.1.2.1.04.00",{"$f":"VLOOKUP(A124,#REF!,2,0)","v":{"$error":"#REF!"}},"8 - Distribuição do Valor Adicionado","8.1.1 - Pessoal e Diárias"]
["3.1.1.2.1.05.00",{"$f":"VLOOKUP(A125,#REF!,2,0)","v":{"$error":"#REF!"}},"8 - Distribuição do Valor Adicionado","8.1.1 - Pessoal e Diárias"]
["3.1.1.1.1.06.00",{"$f":"VLOOKUP(A126,#REF!,2,0)","v":{"$error":"#REF!"}},"8 - Distribuição do Valor Adicionado","8.1.1 - Pessoal e Diárias"]
["3.1.1.2.1.06.00",{"$f":"VLOOKUP(A127,#REF!,2,0)","v":{"$error":"#REF!"}},"8 - Distribuição do Valor Adicionado","8.1.1 - Pessoal e Diárias"]
["3.1.1.2.1.09.00",{"$f":"VLOOKUP(A128,#REF!,2,0)","v":{"$error":"#REF!"}},"8 - Distribuição do Valor Adicionado","8.1.1 - Pessoal e Diárias"]
["3.1.3.1.1.04.00",{"$f":"VLOOKUP(A129,#REF!,2,0)","v":{"$error":"#REF!"}},"8 - Distribuição do Valor Adicionado","8.1.1 - Pessoal e Diárias"]
["3.1.3.2.1.02.00",{"$f":"VLOOKUP(A130,#REF!,2,0)","v":{"$error":"#REF!"}},"8 - Distribuição do Valor Adicionado","8.1.1 - Pessoal e Diárias"]
["3.1.3.2.1.04.00",{"$f":"VLOOKUP(A131,#REF!,2,0)","v":{"$error":"#REF!"}},"8 - Distribuição do Valor Adicionado","8.1.1 - Pessoal e Diárias"]
["3.1.3.2.1.05.00",{"$f":"VLOOKUP(A132,#REF!,2,0)","v":{"$error":"#REF!"}},"8 - Distribuição do Valor Adicionado","8.1.1 - Pessoal e Diárias"]
["3.1.3.2.1.06.00",{"$f":"VLOOKUP(A133,#REF!,2,0)","v":{"$error":"#REF!"}},"8 - Distribuição do Valor Adicionado","8.1.1 - Pessoal e Diárias"]
["3.1.3.2.1.07.00",{"$f":"VLOOKUP(A134,#REF!,2,0)","v":{"$error":"#REF!"}},"8 - Distribuição do Valor Adicionado","8.1.1 - Pessoal e Diárias"]
["3.1.9.1.1.01.00",{"$f":"VLOOKUP(A135,#REF!,2,0)","v":{"$error":"#REF!"}},"8 - Distribuição do Valor Adicionado","8.1.1 - Pessoal e Diárias"]
["3.1.2.2.2.09.00",{"$f":"VLOOKUP(A136,#REF!,2,0)","v":{"$error":"#REF!"}},"8 - Distribuição do Valor Adicionado","8.1.1 - Pessoal e Diárias"]
["3.1.9.2.1.01.00",{"$f":"VLOOKUP(A137,#REF!,2,0)","v":{"$error":"#REF!"}},"8 - Distribuição do Valor Adicionado","8.1.1 - Pessoal e Diárias"]
["3.1.9.2.2.01.00",{"$f":"VLOOKUP(A138,#REF!,2,0)","v":{"$error":"#REF!"}},"8 - Distribuição do Valor Adicionado","8.1.1 - Pessoal e Diárias"]
["3.1.9.2.4.01.00",{"$f":"VLOOKUP(A139,#REF!,2,0)","v":{"$error":"#REF!"}},"8 - Distribuição do Valor Adicionado","8.1.1 - Pessoal e Diárias"]
["3.1.9.2.5.01.00",{"$f":"VLOOKUP(A140,#REF!,2,0)","v":{"$error":"#REF!"}},"8 - Distribuição do Valor Adicionado","8.1.1 - Pessoal e Diárias"]
["3.9.4.1.1.01.00",{"$f":"VLOOKUP(A141,#REF!,2,0)","v":{"$error":"#REF!"}},"8 - Distribuição do Valor Adicionado","8.1.1 - Pessoal e Diárias"]
["3.9.7.1.1.01.00",{"$f":"VLOOKUP(A142,#REF!,2,0)","v":{"$error":"#REF!"}},"8 - Distribuição do Valor Adicionado","8.1.1 - Pessoal e Diárias"]
["3.9.7.4.1.01.00",{"$f":"VLOOKUP(A143,#REF!,2,0)","v":{"$error":"#REF!"}},"8 - Distribuição do Valor Adicionado","8.1.1 - Pessoal e Diárias"]
["3.9.9.6.1.01.00",{"$f":"VLOOKUP(A144,#REF!,2,0)","v":{"$error":"#REF!"}},"8 - Distribuição do Valor Adicionado","8.1.1 - Pessoal e Diárias"]
["3.9.9.6.2.02.00",{"$f":"VLOOKUP(A145,#REF!,2,0)","v":{"$error":"#REF!"}},"8 - Distribuição do Valor Adicionado","8.1.1 - Pessoal e Diárias"]
["3.9.9.6.4.02.00",{"$f":"VLOOKUP(A146,#REF!,2,0)","v":{"$error":"#REF!"}},"8 - Distribuição do Valor Adicionado","8.1.1 - Pessoal e Diárias"]
["3.9.4.2.1.01.00",{"$f":"VLOOKUP(A147,#REF!,2,0)","v":{"$error":"#REF!"}},"8 - Distribuição do Valor Adicionado","8.1.1 - Pessoal e Diárias"]
["3.9.9.6.1.02.00",{"$f":"VLOOKUP(A148,#REF!,2,0)","v":{"$error":"#REF!"}},"8 - Distribuição do Valor Adicionado","8.1.1 - Pessoal e Diárias"]
["8.1.2 - Encargos",null,"8 - Distribuição do Valor Adicionado","8.1.2 - Encargos"]
["3.1.2.1.2.01.00",{"$f":"VLOOKUP(A150,#REF!,2,0)","v":{"$error":"#REF!"}},"8 - Distribuição do Valor Adicionado","8.1.2 - Encargos"]
["3.1.2.2.2.01.00",{"$f":"VLOOKUP(A151,#REF!,2,0)","v":{"$error":"#REF!"}},"8 - Distribuição do Valor Adicionado","8.1.2 - Encargos"]
["3.1.2.3.1.01.00",{"$f":"VLOOKUP(A152,#REF!,2,0)","v":{"$error":"#REF!"}},"8 - Distribuição do Valor Adicionado","8.1.2 - Encargos"]
["3.1.3.2.1.01.00",{"$f":"VLOOKUP(A153,#REF!,2,0)","v":{"$error":"#REF!"}},"8 - Distribuição do Valor Adicionado","8.1.2 - Encargos"]
["8.2 - Remuneração do Governo",null,"8 - Distribuição do Valor Adicionado","8.2 - Remuneração do Governo"]
["8.2.1 - Impostos, Taxas, Contribuições, Multas e Juros",null,"8 - Distribuição do Valor Adicionado","8.2.1 - Impostos, Taxas, Contribuições, Multas e Juros"]
["3.4.2.4.1.01.00",{"$f":"VLOOKUP(A156,#REF!,2,0)","v":{"$error":"#REF!"}},"8 - Distribuição do Valor Adicionado","8.2.1 - Impostos, Taxas, Contribuições, Multas e Juros"]
["3.4.2.4.2.01.00",{"$f":"VLOOKUP(A157,#REF!,2,0)","v":{"$error":"#REF!"}},"8 - Distribuição do Valor Adicionado","8.2.1 - Impostos, Taxas, Contribuições, Multas e Juros"]
["3.4.2.4.2.03.00",{"$f":"VLOOKUP(A158,#REF!,2,0)","v":{"$error":"#REF!"}},"8 - Distribuição do Valor Adicionado","8.2.1 - Impostos, Taxas, Contribuições, Multas e Juros"]
["3.4.2.4.1.02.00",{"$f":"VLOOKUP(A159,#REF!,2,0)","v":{"$error":"#REF!"}},"8 - Distribuição do Valor Adicionado","8.2.1 - Impostos, Taxas, Contribuições, Multas e Juros"]
["3.4.2.4.1.03.00",{"$f":"VLOOKUP(A160,#REF!,2,0)","v":{"$error":"#REF!"}},"8 - Distribuição do Valor Adicionado","8.2.1 - Impostos, Taxas, Contribuições, Multas e Juros"]
["3.4.2.3.1.01.00",{"$f":"VLOOKUP(A161,#REF!,2,0)","v":{"$error":"#REF!"}},"8 - Distribuição do Valor Adicionado","8.2.1 - Impostos, Taxas, Contribuições, Multas e Juros"]
["3.4.2.3.1.02.00",{"$f":"VLOOKUP(A162,#REF!,2,0)","v":{"$error":"#REF!"}},"8 - Distribuição do Valor Adicionado","8.2.1 - Impostos, Taxas, Contribuições, Multas e Juros"]
["3.4.2.3.1.03.00",{"$f":"VLOOKUP(A163,#REF!,2,0)","v":{"$error":"#REF!"}},"8 - Distribuição do Valor Adicionado","8.2.1 - Impostos, Taxas, Contribuições, Multas e Juros"]
["3.4.2.4.2.02.00",{"$f":"VLOOKUP(A164,#REF!,2,0)","v":{"$error":"#REF!"}},"8 - Distribuição do Valor Adicionado","8.2.1 - Impostos, Taxas, Contribuições, Multas e Juros"]
["3.4.2.4.4.02.00",{"$f":"VLOOKUP(A165,#REF!,2,0)","v":{"$error":"#REF!"}},"8 - Distribuição do Valor Adicionado","8.2.1 - Impostos, Taxas, Contribuições, Multas e Juros"]
["3.4.2.4.4.03.00",{"$f":"VLOOKUP(A166,#REF!,2,0)","v":{"$error":"#REF!"}},"8 - Distribuição do Valor Adicionado","8.2.1 - Impostos, Taxas, Contribuições, Multas e Juros"]
["3.4.2.4.5.01.00","MULTAS DEDUTIVEIS","8 - Distribuição do Valor Adicionado","8.2.1 - Impostos, Taxas, Contribuições, Multas e Juros"]
["3.4.2.4.5.02.00","MULTAS INDEDUTIVEIS","8 - Distribuição do Valor Adicionado","8.2.1 - Impostos, Taxas, Contribuições, Multas e Juros"]
["3.4.2.4.5.03.00",{"$f":"VLOOKUP(A169,#REF!,2,0)","v":{"$error":"#REF!"}},"8 - Distribuição do Valor Adicionado","8.2.1 - Impostos, Taxas, Contribuições, Multas e Juros"]
["3.4.3.9.1.01.01",{"$f":"VLOOKUP(A170,#REF!,2,0)","v":{"$error":"#REF!"}},"8 - Distribuição do Valor Adicionado","8.2.1 - Impostos, Taxas, Contribuições, Multas e Juros"]
["3.9.9.5.1.01.00","MULTAS INDEDUTIVEIS","8 - Distribuição do Valor Adicionado","8.2.1 - Impostos, Taxas, Contribuições, Multas e Juros"]
["3.9.9.5.4.01.00","ENCARGOS FINANCEIROS DEDUTIVEIS","8 - Distribuição do Valor Adicionado","8.2.1 - Impostos, Taxas, Contribuições, Multas e Juros"]
["3.9.9.5.2.01.00",{"$f":"VLOOKUP(A173,#REF!,2,0)","v":{"$error":"#REF!"}},"8 - Distribuição do Valor Adicionado","8.2.1 - Impostos, Taxas, Contribuições, Multas e Juros"]
["3.4.3.9.2.01.01",{"$f":"VLOOKUP(A174,#REF!,2,0)","v":{"$error":"#REF!"}},"8 - Distribuição do Valor Adicionado","8.2.1 - Impostos, Taxas, Contribuições, Multas e Juros"]
["3.7.1.1.1.02.00",{"$f":"VLOOKUP(A175,#REF!,2,0)","v":{"$error":"#REF!"}},"8 - Distribuição do Valor Adicionado","8.2.1 - Impostos, Taxas, Contribuições, Multas e Juros"]
["3.7.1.1.5.02.00",{"$f":"VLOOKUP(A176,#REF!,2,0)","v":{"$error":"#REF!"}},"8 - Distribuição do Valor Adicionado","8.2.1 - Impostos, Taxas, Contribuições, Multas e Juros"]
["3.7.1.2.1.01.00",{"$f":"VLOOKUP(A177,#REF!,2,0)","v":{"$error":"#REF!"}},"8 - Distribuição do Valor Adicionado","8.2.1 - Impostos, Taxas, Contribuições, Multas e Juros"]
["3.7.1.2.2.01.00",{"$f":"VLOOKUP(A178,#REF!,2,0)","v":{"$error":"#REF!"}},"8 - Distribuição do Valor Adicionado","8.2.1 - Impostos, Taxas, Contribuições, Multas e Juros"]
["3.7.1.2.4.01.00",{"$f":"VLOOKUP(A179,#REF!,2,0)","v":{"$error":"#REF!"}},"8 - Distribuição do Valor Adicionado","8.2.1 - Impostos, Taxas, Contribuições, Multas e Juros"]
["3.7.1.2.5.01.00",{"$f":"VLOOKUP(A180,#REF!,2,0)","v":{"$error":"#REF!"}},"8 - Distribuição do Valor Adicionado","8.2.1 - Impostos, Taxas, Contribuições, Multas e Juros"]
["3.7.2.1.2.04.00",{"$f":"VLOOKUP(A181,#REF!,2,0)","v":{"$error":"#REF!"}},"8 - Distribuição do Valor Adicionado","8.2.1 - Impostos, Taxas, Contribuições, Multas e Juros"]
["3.7.2.3.1.01.00",{"$f":"VLOOKUP(A182,#REF!,2,0)","v":{"$error":"#REF!"}},"8 - Distribuição do Valor Adicionado","8.2.1 - Impostos, Taxas, Contribuições, Multas e Juros"]
["3.7.2.3.5.01.00",{"$f":"VLOOKUP(A183,#REF!,2,0)","v":{"$error":"#REF!"}},"8 - Distribuição do Valor Adicionado","8.2.1 - Impostos, Taxas, Contribuições, Multas e Juros"]
["8.3 - Remuneração do Capital de Terceiros",null,"8 - Distribuição do Valor Adicionado","8.3 - Remuneração do Capital de Terceiros"]
["8.3.1 - Aluguéis",null,"8 - Distribuição do Valor Adicionado","8.3.1 - Aluguéis"]
["3.3.2.3.1.09.00",{"$f":"VLOOKUP(A186,#REF!,2,0)","v":{"$error":"#REF!"}},"8 - Distribuição do Valor Adicionado","8.3.1 - Aluguéis"]
["3.3.2.3.4.09.00",{"$f":"VLOOKUP(A187,#REF!,2,0)","v":{"$error":"#REF!"}},"8 - Distribuição do Valor Adicionado","8.3.1 - Aluguéis"]
["3.3.2.2.1.08.00",{"$f":"VLOOKUP(A188,#REF!,2,0)","v":{"$error":"#REF!"}},"8 - Distribuição do Valor Adicionado","8.3.1 - Aluguéis"]
["3.3.2.3.5.09.00",{"$f":"VLOOKUP(A189,#REF!,2,0)","v":{"$error":"#REF!"}},"8 - Distribuição do Valor Adicionado","8.3.1 - Aluguéis"]
["3.3.2.3.2.09.00",{"$f":"VLOOKUP(A190,#REF!,2,0)","v":{"$error":"#REF!"}},"8 - Distribuição do Valor Adicionado","8.3.1 - Aluguéis"]
["8.4 - Remuneração de Capital Próprio",null,"8 - Distribuição do Valor Adicionado","8.4 - Remuneração de Capital Próprio"]
["8.4.1 Resultado do Exercício",null,"8 - Distribuição do Valor Adicionado","8.4.1 Resultado do Exercício"]