{"text_format":"1","workbook":"xlsx","n_sheets":7,"sheets":["BP","DR","DFC","DVA","DMPL","Cálculo de RI","--"],"not_rendered":{"charts":0,"images":0,"macros":1,"external_links":1,"defined_names":2,"comments":0,"pivot_tables":0},"unopened":[],"bounds":{"document_bytes":16777216,"sheet_cells":100000,"rows_first":2000,"rows_last":500,"rows_between":2000,"halvings":0,"cell_chars":16384,"cell_head_chars":4096},"cells_cut":0,"cells_raw":0,"read":"whole","date_system":"1900"}

{"sheet":"BP","index":0,"n_rows":55,"n_cols":8,"rows_kept":55,"cut":false,"hidden":false,"merged":[[0,1,0,7],[3,1,3,4],[1,6,1,7],[30,6,30,7]]}
[null,"EBSERH - EMPRESA BRASILEIRA DE SERVIÇOS HOSPITALARES"]
[null,"Balanço Patrimonial Consolidado ",null,null,null,null,"30 de setembro de 2021"]
[null,"Em reais"]
[null,"ATIVO ",null,null,null,"NOTA","30.09.2021","31.12.2020"]
[null,"CIRCULANTE",null,null,null,"1.1",1770671925.0599999,1137165231.4200001]
[null,null,"Caixa e Equivalentes de Caixa",null,null,"1.1.1",900325542.50999999,745556301.51999998]
[null,null,"Valores a Curto Prazo - SUS",null,null,"1.1.2",3328926.209999999,35011916.130000003]
[null,null,"Subvenção de Custeio SUS a Receber",null,null,"1.1.3",351050840.88999999,0]
[null,null,"Adiantamentos e Créditos a Receber",null,null,"1.1.4",154662242.84999996,17233041.32]
[null,null,"Estoques",null,null,"1.1.5",361304372.60000002,339363972.45000005]
[null,null,"Valores em Liquidação",null,null,null,0,0]
[null,"NÃO CIRCULANTE",null,null,null,"1.2",674948865.87952268,557949458.56107235]
[null,null,"Valores a Longo Prazo - SUS",null,null,"1.2.1",10522321.880000001,0]
[null,null,"Depósitos Judiciais",null,null,"1.2.2",18073630.289999999,14350674.620000001]
[null,null,"Outras Despesas Antecipadas",null,null,"1.2.2","Fora do Siafi",0]
[null,null,"Imobilizado",null,null,"1.2.3",584501976.22206223,483557905.12281001]
[null,null,null,"Bens Móveis",null,"1.2.3.1",652381113.24206221,529446242.16281003]
[null,null,null,null,"Depreciação Bens Móveis","1.2.3.4",-119688117.2,-93914863.650000006]
[null,null,null,null,"Redução a Valor Recup. De Imobilizado","1.2.4",-6165879.6399999997,-6165879.6399999997]
[null,null,null,"Bens Imóveis",null,"1.2.3.2",58288496.670000002,54348047.870000005]
[null,null,null,null,"Depreciação Bens Imóveis","1.2.3.4",-313636.84999999998,-155641.62]
[null,null,"Intangível",null,null,"1.2.5",61850937.487460479,60040878.818262339]
[null,null,null,"Direito de uso de Imóvel",null,"1.2.3.3",22870419.237460479,17595220.848262332]
[null,null,null,"Softwares",null,"1.2.5",54570030.459999993,53609751.030000001]
[null,null,null,"Amortização Bens Intangíveis",null,"1.2.5",-12908995.800000001,-8483576.6500000004]
[null,null,null,"Redução a Valor Recup. De Intangível",null,"1.2.5",-2680516.41,-2680516.41]
[null,"TOTAL DO ATIVO",null,null,null,null,2445620790.9395227,1695114689.9810724]
[null,"As notas explicativas da Administração são parte integrante das demonstrações contábeis consolidadas"]
[]
[null,"EBSERH - EMPRESA BRASILEIRA DE SERVIÇOS HOSPITALARES"]
[null,"Balanço Patrimonial Consolidado ",null,null,null,null,"30 de setembro de 2021"]
[null,"Em reais"]
[null,"PASSIVO",null,null,null,"NOTA","30.09.2021","31.12.2020"]
[null,"CIRCULANTE",null,null,null,"2.1",2170691177.9899998,1380827645.6899998]
[null,null,"Obrigações Trabalhistas a Pagar",null,null,"2.1.1",1052528676.7199999,797144112.3499999]
[null,null,"Fornecedores e Contas a Pagar a Curto Prazo",null,null,"2.1.2",98457100.670000017,73206580.730000004]
[null,null,"Retenções de Impostos, Contribuições",null,null,"2.1.3",14993091.77,3198014.0700000003]
[null,null,"Obrigações Transitórias a Curto Prazo",null,null,"2.1.4",24675421.109999999,41167984.559999995]
[null,null,"Subvenção a Realizar",null,null,"2.1.5",980036887.72000003,466110953.97999984]
[null,"NÃO CIRCULANTE",null,null,null,null,228955333.92952287,259788383.65107247]
[null,null,"Contratos de Arrendamento a Pagar",null,null,"2.2",116105661.00952286,139811358.78107247]
[null,null,"Contingência para Indenizações Trabalhistas",null,null,"2.3",88112044.239999995,93987246.769999996]
[null,null,"Contingência para Indenizações Cíveis",null,null,"2.3",24737628.68,25989778.100000001]
[null,null,"Adiantamento Para Futuro Aumento de Capital - AFAC",null,null,"2.4",0,0]
[null,"PATRIMÔNIO LÍQUIDO",null,null,null,"2.4",45974279.020001411,54498660.639998734]
[null,null,"Capital Social Realizado",null,null,"2.4.1",381384237.75,381384237.75]
[null,null,"Adiantamento Para Futuro Aumento de Capital - AFAC",null,null,"2.4.2",289726705.54000002,202658776.91]
[null,null,"Ajustes de Avaliação Patrimonial de Ativos",null,null,"2.4.3",0,383667.75]
[null,null,"Resultados Acumulados",null,null,"2.4.4",-625136664.26999855,-529928021.77000123]
[null,null,null,"Prejuizos Acumulados de Exer. Anteriores",null,"2.4.4",-529544354.01999998,-512557193.87]
[null,null,null,"Ajustes de Exercícios Anteriores",null,"2.4.4",-2552006.2000002097,-3651055.2000004598]
[null,null,null,"Resultado do Exercício",null,"2.4.4",-93040304.049998283,-13719772.700000763]
[null,"TOTAL DO PASSIVO",null,null,null,null,2445620790.9395242,1695114689.981071]
[null,"As notas explicativas da Administração são parte integrante das Demonstrações Contábeis Consolidadas"]
[null,null,null,null,null,null,{"$f":"G53-G27","v":0},{"$f":"H53-H27","v":0}]

{"sheet":"DR","index":1,"n_rows":51,"n_cols":19,"rows_kept":51,"cut":false,"hidden":false,"merged":[[38,1,38,11],[25,1,25,3],[26,1,26,3],[29,1,29,3],[33,1,33,3],[35,1,35,3],[37,1,37,3],[3,1,3,3],[0,1,0,11],[30,1,30,3],[16,2,16,3],[19,2,19,3],[7,1,7,3],[22,2,22,3],[24,2,24,3],[8,2,8,3],[13,2,13,3],[1,8,1,11]]}
[null,"EBSERH - EMPRESA BRASILEIRA DE SERVIÇOS HOSPITALARES"]
[null,"Demonstração do Resultado",null,null,null,null,null,null,"30 de setembro de 2021"]
[null,"Em reais"]
[null,"DESCRIÇÃO",null,null,"Nota","01.01.20201                          a                       31.03.2021","  01.04.2021                          a                 30.06.2021"," 01.07.2021                          a                    30.09.2021"," 01.01.2021                                 a                    30.09.2021","01.04.2020                             a                  30.06.2020","01.07.2020                             a                  30.09.2020","01.01.2020                             a                  30.09.2020"]
[null,"Receita Bruta",null,null,"3.1",34024361.840000004,65182328.560000002,35645855.32,99206690.400000006,25813408.989999995,37318818.140000001,79751430.969999999]
[null,null,"Receita com Serviços",null,"3.1.1",34024361.840000004,65182328.560000002,35645855.32,99206690.400000006,25813408.989999995,37318818.140000001,79751430.969999999]
[null,null,null,"Receita de Serviços e Exploração","3.1.1",34024361.840000004,65182328.560000002,35645855.32,99206690.400000006,25813408.989999995,37318818.140000001,79751430.969999999]
[null,"Despesas Operacionais",null,null,"3.3",-1962363355.9200001,-4251608647.5699997,-2095766637.6800001,-6213972003.4899998,-1897374073.95,-1928931867.05,-5375648145.0200005]
[null,null,"Despesa com Pessoal, Encargos e Benefícios",null,"3.3.1",-1396877837.5699999,-2952440680.7300005,-1438233155.1300001,-4349318518.3000002,-1481868147.6199999,-1347153574.96,-3923126339.8199997]
[null,null,null,"Remuneração a Pessoal","3.3.2",-1001744707.89,-2101272960.3300004,-1016216434.16,-3103017668.2200003,-996043795.77999997,-959955219.70000005,-2767634420.9499998]
[null,null,null,"Encargos Patronais","3.3.3",-310158462.35999995,-662582985.01999998,-324164623.12,-972741447.38,-376544192.75999999,-305486346.55000001,-941458327.46999991]
[null,null,null,"Benefícios a Pessoal","3.3.4",-81110249.299999997,-171506742.61000001,-86625080.890000001,-252616991.91,-107595900.34999999,-78754626.230000004,-207315041.19]
[null,null,null,"Outras Despesas com Pessoal e Encargos","3.3.5",-3864418.02,-17077992.770000003,-11227016.960000001,-20942410.790000003,-1684258.7300000004,-2957382.48,-6718550.21]
[null,null,"Despesa com Uso de Bens e Serviços",null,null,-554372495.71999991,-1272590329.7900004,-644650379.99000001,-1826962825.5100002,-406687550.32000005,-526196453.13,-1371445314.0300002]
[null,null,null,"Uso de Material de Consumo","3.3.6",-258511732.80999997,-614353963.45000017,-307119390.30000001,-872865696.26000011,-184777350.77000004,-250205922.78999999,-598972579.66000009]
[null,null,null,"Serviços Tomados","3.3.7",-295860762.90999991,-658236366.34000015,-337530989.69,-954097129.25000012,-221910199.55000001,-275990530.33999997,-772472734.37000024]
[null,null,"Despesa com Bens Móveis, Imóveis e Intangíveis",null,null,-10021347.469999999,-21964482.940000005,-11092081.209999999,-31985830.410000004,-8578976.9900000002,-10053631.82,-25636644.91]
[null,null,null,"Depreciação, Amortização e Impairment","3.3.8",-9713566.7799999993,-21255764.060000002,-10758607.029999999,-30969330.840000004,-8574033,-8129832.3799999999,-23619532.379999999]
[null,null,null,"Perdas Involuntárias e Desfazimentos","3.3.9",-307780.69,-708718.87999999989,-333474.18,-1016499.57,-4943.9899999999907,-1923799.44,-2017112.53]
[null,null,"Contingência para Riscos Fiscais",null,"3.3.10",0,-1880677.33,0,-1880677.33,0,-44132479.469999999,-45540778.289999999]
[null,null,null,"Contigência para Riscos Fiscais Trabalhistas",null,0,-1880677.33,0,-1880677.33,0,-26421621.649999999,-27829920.469999999]
[null,null,null,"Contigência para Riscos Fiscais Cíveis",null,0,0,0,0,0,-17710857.82,-17710857.82]
[null,null,"Despesas Tributárias",null,"3.3.11",-499197.52,-457006.0199999999,-148810.12,-956203.53999999992,-239399.02000000002,-148108.81,-656742.87000000011]
[null,null,null,"Impostos, Taxas e Contribuições",null,-499197.52,-457006.0199999999,-148810.12,-956203.53999999992,-239399.02000000002,-148108.81,-656742.87000000011]
[null,null,"Outras Despesas Operacionais",null,"3.3.12",-592477.64,-2275470.7599999998,-1642211.23,-2867948.4,0,-1247618.8600000001,-9242325.0999999996]
[null,"Resultado Antes das Rec./Desp. Financeiras",null,null,null,-1928338994.0800002,-4186426319.0100002,-2060120782.3600001,-6114765313.0900002,-1871560664.96,-1891613048.9099998,-5295896714.0500002]
[null,"Resultados Financeiros",null,null,null,79617.350000000006,663185.45000000007,254910.93,742802.8,2240113.38,-586329.15,2592304.2999999998]
[null,null,null,"Receitas Financeiras","3.3.13",160348.31,890081.28000000003,393401.36,1050429.5900000001,2804068.2199999997,-417444.98,3617046]
[null,null,null,"Despesas Financeiras","3.3.14",-80730.959999999992,-226895.83,-138490.43,-307626.78999999998,-563954.84000000008,-168884.17,-1024741.7]
[null,"Resultado antes da Subvenção do Tesouro Nacional",null,null,"3.3.15",-1928259376.7300003,-4185763133.5599995,-2059865871.4300001,-6114022510.29,-1869320551.5799999,-1892199378.0599999,-5293304409.75]
[null,"Subvenção do Tesouro Nacional",null,null,"3.3.16",1863629568.3399992,4157352637.9000025,2044016577.5799999,6020982206.2400017,1867475508.3800001,1889093785.78,5279840596.2600021]
[null,null,null,"Subvenção do Tesouro Nacional","3.3.16",1466094842.5099993,3307700067.4100027,1619240916.8299999,4773794909.920002,1484736782.5,1466368151.28,4106392554.9100018]
[null,null,null,"Subvenção de Custeio SUS","3.3.16",397534725.82999992,849652570.49000001,424775660.75,1247187296.3199999,382738725.88,422725634.5,1173448041.3499999]
[null,"Resultado antes da Cont. Social Sobre o Lúcro Líquido",null,null,"3.3.17",-64629808.390001059,-28410495.659997225,-15849293.850000143,-93040304.049998283,-1845043.1999998093,-3105592.2799999714,-13463813.489997864]
[null,null,null,"Provisão Contribuição Social",null,null,0,0,0,0,null,0]
[null,"Resultado antes do Imposto de Renda",null,null,null,-64629808.390001059,-28410495.659997225,-15849293.850000143,-93040304.049998283,-1845043.1999998093,-3105592.2799999714,-13463813.489997864]
[null,null,null,"Provisão para Imposto de Renda",null,null,0,0,0,0,null,0]
[null,"Resultado do Exercício",null,null,"3.3.18",-64629808.390001059,-28410495.659997225,-15849293.850000143,-93040304.049998283,-1845043.1999998093,-3105592.2799999714,-13463813.489997864]
[null,"As notas explicativas da Administração são parte integrante das Demonstrações Contábeis Consolidadas"]
[]
[]
[]
[null,null,null,null,null,null,null,null,null,null,null,null,null,null,"Despesa indedutível da Base IR",null,{"$f":"0.15","v":0.15},{"$f":"Q43*P44","v":{"$error":"#REF!"}},"IR Sobre a Base"]
[null,null,null,null,null,null,null,null,null,null,null,null,null,null,"Base de IR",{"$f":"#REF!-P43","v":{"$error":"#REF!"}},0.1,{"$f":"Q44*P46","v":{"$error":"#REF!"}},"Adicional IR"]
[null,null,null,null,null,null,null,null,null,null,null,null,null,null,"Percentual Isento",60000,0.09,{"$f":"P44*Q45","v":{"$error":"#REF!"}},"CSLL a Recolher"]
[null,null,null,null,null,null,null,null,null,null,null,null,null,null,null,{"$f":"P44-P45","v":{"$error":"#REF!"}},null,{"$f":"R43+R44","v":{"$error":"#REF!"}},"Total de IR Apurado"]
[null,null,null,null,null,null,null,null,"Prejuízo Acumulado",null,null,null,null,null,null,null,0.3,{"$f":"R46*Q47","v":{"$error":"#REF!"}},"Compensação de Prejuízo Fiscal Acumulado"]
[null,null,null,null,null,null,null,null,"30% Base de Calculo"]
[null,null,null,null,null,null,null,null,null,null,null,null,null,null,null,null,null,{"$f":"R46-R47","v":{"$error":"#REF!"}},"IR a Recolher"]
[null,null,null,null,null,null,null,null,null,null,null,null,null,null,null,null,null,{"$f":"R45","v":{"$error":"#REF!"}},"CSLL a Recolher"]
[null,null,null,null,null,null,null,null,null,null,null,null,null,null,null,null,null,{"$f":"R49+R50","v":{"$error":"#REF!"}},"Total"]

{"sheet":"DFC","index":2,"n_rows":51,"n_cols":13,"rows_kept":51,"cut":false,"hidden":false,"merged":[[0,0,0,6],[1,10,1,11],[5,8,5,9],[0,8,0,11]]}
["Organizador de DFC",null,null,null,null,null,null,null,"EBSERH - EMPRESA BRASILEIRA DE SERVIÇOS HOSPITALARES"]
["Grupo","Conta Contábil","Valor Fechamento","Valor anterior","Análise","Regra","Δ Variação",null,"Demonstração do Fluxo de Caixa - Método Indireto",null,"30 de setembro de 2021"]
[null,null,null,null,null,null,null,null,"Em reais"]
["Passivo-C","Resultado do Exercício",{"$f":"IFERROR(IFERROR(IFERROR(INDEX(BP!B:H,MATCH(B4,BP!C:C,0),6),INDEX(BP!B:H,MATCH(B4,BP!D:D,0),6)),INDEX(BP!B:H,MATCH(B4,BP!E:E,0),6)),\"\")","v":-93040304.049998283},{"$f":"IFERROR(IFERROR(IFERROR(INDEX(BP!B:H,MATCH(B4,BP!C:C,0),7),INDEX(BP!B:H,MATCH(B4,BP!D:D,0),7)),INDEX(BP!B:H,MATCH(B4,BP!E:E,0),7)),\"\")","v":-13719772.700000763},{"$f":"IF(A4=\"\",\"\",IF(C4>D4,\"Aumento em\",\"Redução em\"))","v":"Redução em"},{"$f":"IF(A4=\"\",\"\",IF(AND(LEFT(A4,5)=\"Ativo\",C4>D4),\"(-)\",IF(AND(LEFT(A4,5)=\"Ativo\",C4<D4),\"(+)\",IF(AND(LEFT(A4,7)=\"Passivo\",C4>D4),\"(+)\",IF(AND(LEFT(A4,7)=\"Passivo\",C4<D4),\"(-)\",\"-\")))))","v":"(-)"},{"$f":"IFERROR(IF(C4-D4>=0,C4-D4,(C4-D4)*-1),\"\")","v":79320531.34999752},null,"DESCRIÇÃO",null," 01.01.2021                                 a                    30.09.2021","01.01.2020                             a                  30.09.2020"]
[{"$f":"IF(LEFT(#REF!,7)=\"Despesa\",\"\",IF(LEFT(#REF!,7)=\"Receita\",\"\",#REF!))","v":{"$error":"#REF!"}},{"$f":"IF(LEFT(A5,7)=\"Despesa\",\"\",IF(LEFT(A5,7)=\"Receita\",\"\",IF(A5=\"\",\"\",#REF!)))","v":{"$error":"#REF!"}},{"$f":"IFERROR(IFERROR(IFERROR(INDEX(BP!B:H,MATCH(B5,BP!C:C,0),6),INDEX(BP!B:H,MATCH(B5,BP!D:D,0),6)),INDEX(BP!B:H,MATCH(B5,BP!E:E,0),6)),\"\")","v":""},{"$f":"IFERROR(IFERROR(IFERROR(INDEX(BP!B:H,MATCH(B5,BP!C:C,0),7),INDEX(BP!B:H,MATCH(B5,BP!D:D,0),7)),INDEX(BP!B:H,MATCH(B5,BP!E:E,0),7)),\"\")","v":""},{"$f":"IF(A5=\"\",\"\",IF(C5>D5,\"Aumento em\",\"Redução em\"))","v":{"$error":"#REF!"}},{"$error":"#REF!"},{"$f":"IFERROR(IF(C5-D5>=0,C5-D5,(C5-D5)*-1),\"\")","v":""},null,"FLUXO DE CAIXA DAS ATIVIDADES OPERACIONAIS"]
[{"$f":"IF(LEFT(#REF!,7)=\"Despesa\",\"\",IF(LEFT(#REF!,7)=\"Receita\",\"\",#REF!))","v":{"$error":"#REF!"}},{"$f":"IF(LEFT(A6,7)=\"Despesa\",\"\",IF(LEFT(A6,7)=\"Receita\",\"\",IF(A6=\"\",\"\",#REF!)))","v":{"$error":"#REF!"}},{"$f":"IFERROR(IFERROR(IFERROR(INDEX(BP!B:H,MATCH(B6,BP!C:C,0),6),INDEX(BP!B:H,MATCH(B6,BP!D:D,0),6)),INDEX(BP!B:H,MATCH(B6,BP!E:E,0),6)),\"\")","v":""},{"$f":"IFERROR(IFERROR(IFERROR(INDEX(BP!B:H,MATCH(B6,BP!C:C,0),7),INDEX(BP!B:H,MATCH(B6,BP!D:D,0),7)),INDEX(BP!B:H,MATCH(B6,BP!E:E,0),7)),\"\")","v":""},{"$f":"IF(A6=\"\",\"\",IF(C6>D6,\"Aumento em\",\"Redução em\"))","v":{"$error":"#REF!"}},{"$error":"#REF!"},{"$f":"IF(F6=\"(-)\",IFERROR(IF(C6-D6>=0,C6-D6,(C6-D6)*-1),\"\")*-1,IFERROR(IF(C6-D6>=0,C6-D6,(C6-D6)*-1),\"\"))","v":{"$error":"#REF!"}},null,"Resultado do Exercício",null,-93040304.049998283,-13463813.489997864]
[{"$f":"IF(LEFT(#REF!,7)=\"Despesa\",\"\",IF(LEFT(#REF!,7)=\"Receita\",\"\",#REF!))","v":{"$error":"#REF!"}},{"$f":"IF(LEFT(A7,7)=\"Despesa\",\"\",IF(LEFT(A7,7)=\"Receita\",\"\",IF(A7=\"\",\"\",#REF!)))","v":{"$error":"#REF!"}},{"$f":"IFERROR(IFERROR(IFERROR(INDEX(BP!B:H,MATCH(B7,BP!C:C,0),6),INDEX(BP!B:H,MATCH(B7,BP!D:D,0),6)),INDEX(BP!B:H,MATCH(B7,BP!E:E,0),6)),\"\")","v":""},{"$f":"IFERROR(IFERROR(IFERROR(INDEX(BP!B:H,MATCH(B7,BP!C:C,0),7),INDEX(BP!B:H,MATCH(B7,BP!D:D,0),7)),INDEX(BP!B:H,MATCH(B7,BP!E:E,0),7)),\"\")","v":""},{"$f":"IF(A7=\"\",\"\",IF(C7>D7,\"Aumento em\",\"Redução em\"))","v":{"$error":"#REF!"}},{"$error":"#REF!"},{"$error":"#REF!"},null,"Ajustes de Exercícios Anteriores",null,-2552006.2000002265,373059283.88999999]
[{"$f":"IF(LEFT(#REF!,7)=\"Despesa\",\"\",IF(LEFT(#REF!,7)=\"Receita\",\"\",#REF!))","v":{"$error":"#REF!"}},{"$f":"IF(LEFT(A8,7)=\"Despesa\",\"\",IF(LEFT(A8,7)=\"Receita\",\"\",IF(A8=\"\",\"\",#REF!)))","v":{"$error":"#REF!"}},{"$f":"IFERROR(IFERROR(IFERROR(INDEX(BP!B:H,MATCH(B8,BP!C:C,0),6),INDEX(BP!B:H,MATCH(B8,BP!D:D,0),6)),INDEX(BP!B:H,MATCH(B8,BP!E:E,0),6)),\"\")","v":""},{"$f":"IFERROR(IFERROR(IFERROR(INDEX(BP!B:H,MATCH(B8,BP!C:C,0),7),INDEX(BP!B:H,MATCH(B8,BP!D:D,0),7)),INDEX(BP!B:H,MATCH(B8,BP!E:E,0),7)),\"\")","v":""},{"$error":"#REF!"},{"$error":"#REF!"},{"$error":"#REF!"},null,"Depreciação e Amortização",null,30356667.93,23789644.949999996]
[{"$f":"IF(LEFT(#REF!,7)=\"Despesa\",\"\",IF(LEFT(#REF!,7)=\"Receita\",\"\",#REF!))","v":{"$error":"#REF!"}},{"$f":"IF(LEFT(A9,7)=\"Despesa\",\"\",IF(LEFT(A9,7)=\"Receita\",\"\",IF(A9=\"\",\"\",#REF!)))","v":{"$error":"#REF!"}},{"$f":"IFERROR(IFERROR(IFERROR(INDEX(BP!B:H,MATCH(B9,BP!C:C,0),6),INDEX(BP!B:H,MATCH(B9,BP!D:D,0),6)),INDEX(BP!B:H,MATCH(B9,BP!E:E,0),6)),\"\")","v":""},{"$f":"IFERROR(IFERROR(IFERROR(INDEX(BP!B:H,MATCH(B9,BP!C:C,0),7),INDEX(BP!B:H,MATCH(B9,BP!D:D,0),7)),INDEX(BP!B:H,MATCH(B9,BP!E:E,0),7)),\"\")","v":""},{"$error":"#REF!"},{"$error":"#REF!"},{"$error":"#REF!"},null,"Redução a Valor Recup. De Intangível",null,null,0]
[{"$f":"IF(LEFT(#REF!,7)=\"Despesa\",\"\",IF(LEFT(#REF!,7)=\"Receita\",\"\",#REF!))","v":{"$error":"#REF!"}},{"$f":"IF(LEFT(A10,7)=\"Despesa\",\"\",IF(LEFT(A10,7)=\"Receita\",\"\",IF(A10=\"\",\"\",#REF!)))","v":{"$error":"#REF!"}},{"$f":"IFERROR(IFERROR(IFERROR(INDEX(BP!B:H,MATCH(B10,BP!C:C,0),6),INDEX(BP!B:H,MATCH(B10,BP!D:D,0),6)),INDEX(BP!B:H,MATCH(B10,BP!E:E,0),6)),\"\")","v":""},{"$f":"IFERROR(IFERROR(IFERROR(INDEX(BP!B:H,MATCH(B10,BP!C:C,0),7),INDEX(BP!B:H,MATCH(B10,BP!D:D,0),7)),INDEX(BP!B:H,MATCH(B10,BP!E:E,0),7)),\"\")","v":""},{"$error":"#REF!"},{"$error":"#REF!"},{"$error":"#REF!"},null,"Ajustes de Avaliação Patrimonial de Ativos",null,383667.75,0]
[{"$f":"IF(LEFT(#REF!,7)=\"Despesa\",\"\",IF(LEFT(#REF!,7)=\"Receita\",\"\",#REF!))","v":{"$error":"#REF!"}},{"$f":"IF(LEFT(A11,7)=\"Despesa\",\"\",IF(LEFT(A11,7)=\"Receita\",\"\",IF(A11=\"\",\"\",#REF!)))","v":{"$error":"#REF!"}},{"$f":"IFERROR(IFERROR(IFERROR(INDEX(BP!B:H,MATCH(B11,BP!C:C,0),6),INDEX(BP!B:H,MATCH(B11,BP!D:D,0),6)),INDEX(BP!B:H,MATCH(B11,BP!E:E,0),6)),\"\")","v":""},{"$f":"IFERROR(IFERROR(IFERROR(INDEX(BP!B:H,MATCH(B11,BP!C:C,0),7),INDEX(BP!B:H,MATCH(B11,BP!D:D,0),7)),INDEX(BP!B:H,MATCH(B11,BP!E:E,0),7)),\"\")","v":""},{"$error":"#REF!"},{"$error":"#REF!"},{"$error":"#REF!"},null,"Ajustes de Avaliação Patrimonial de Ativos",null,-383667.75,0]
[null,null,null,null,null,null,null,null,"AFAC - PL"]
[{"$f":"IF(LEFT(#REF!,7)=\"Despesa\",\"\",IF(LEFT(#REF!,7)=\"Receita\",\"\",#REF!))","v":{"$error":"#REF!"}},{"$f":"IF(LEFT(A13,7)=\"Despesa\",\"\",IF(LEFT(A13,7)=\"Receita\",\"\",IF(A13=\"\",\"\",#REF!)))","v":{"$error":"#REF!"}},{"$f":"IFERROR(IFERROR(IFERROR(INDEX(BP!B:H,MATCH(B13,BP!C:C,0),6),INDEX(BP!B:H,MATCH(B13,BP!D:D,0),6)),INDEX(BP!B:H,MATCH(B13,BP!E:E,0),6)),\"\")","v":""},{"$f":"IFERROR(IFERROR(IFERROR(INDEX(BP!B:H,MATCH(B13,BP!C:C,0),7),INDEX(BP!B:H,MATCH(B13,BP!D:D,0),7)),INDEX(BP!B:H,MATCH(B13,BP!E:E,0),7)),\"\")","v":""},{"$error":"#REF!"},{"$error":"#REF!"},{"$error":"#REF!"},null,"Resultado do Exercício Ajustado",null,-65235642.31999851,383385115.35000211]
[{"$f":"IF(LEFT(#REF!,7)=\"Despesa\",\"\",IF(LEFT(#REF!,7)=\"Receita\",\"\",#REF!))","v":{"$error":"#REF!"}},{"$f":"IF(LEFT(A14,7)=\"Despesa\",\"\",IF(LEFT(A14,7)=\"Receita\",\"\",IF(A14=\"\",\"\",#REF!)))","v":{"$error":"#REF!"}},{"$f":"IFERROR(IFERROR(IFERROR(INDEX(BP!B:H,MATCH(B14,BP!C:C,0),6),INDEX(BP!B:H,MATCH(B14,BP!D:D,0),6)),INDEX(BP!B:H,MATCH(B14,BP!E:E,0),6)),\"\")","v":""},{"$f":"IFERROR(IFERROR(IFERROR(INDEX(BP!B:H,MATCH(B14,BP!C:C,0),7),INDEX(BP!B:H,MATCH(B14,BP!D:D,0),7)),INDEX(BP!B:H,MATCH(B14,BP!E:E,0),7)),\"\")","v":""},{"$error":"#REF!"},{"$error":"#REF!"},{"$error":"#REF!"},null,"Variações Patrimoniais",null,353115681.00845063,19578971.763180733,{"$f":"[1]DFC!$K$14-L14","v":0}]
[{"$f":"IF(LEFT(#REF!,7)=\"Despesa\",\"\",IF(LEFT(#REF!,7)=\"Receita\",\"\",#REF!))","v":{"$error":"#REF!"}},{"$f":"IF(LEFT(A15,7)=\"Despesa\",\"\",IF(LEFT(A15,7)=\"Receita\",\"\",IF(A15=\"\",\"\",#REF!)))","v":{"$error":"#REF!"}},{"$f":"IFERROR(IFERROR(IFERROR(INDEX(BP!B:H,MATCH(B15,BP!C:C,0),6),INDEX(BP!B:H,MATCH(B15,BP!D:D,0),6)),INDEX(BP!B:H,MATCH(B15,BP!E:E,0),6)),\"\")","v":""},{"$f":"IFERROR(IFERROR(IFERROR(INDEX(BP!B:H,MATCH(B15,BP!C:C,0),7),INDEX(BP!B:H,MATCH(B15,BP!D:D,0),7)),INDEX(BP!B:H,MATCH(B15,BP!E:E,0),7)),\"\")","v":""},{"$error":"#REF!"},{"$error":"#REF!"},{"$error":"#REF!"},null,"Aumento em","Subvenção de Custeio SUS a Receber",-351050840.88999999,-401285976.63999999]
[{"$f":"IF(LEFT(#REF!,7)=\"Despesa\",\"\",IF(LEFT(#REF!,7)=\"Receita\",\"\",#REF!))","v":{"$error":"#REF!"}},{"$f":"IF(LEFT(A16,7)=\"Despesa\",\"\",IF(LEFT(A16,7)=\"Receita\",\"\",IF(A16=\"\",\"\",#REF!)))","v":{"$error":"#REF!"}},{"$f":"IFERROR(IFERROR(IFERROR(INDEX(BP!B:H,MATCH(B16,BP!C:C,0),6),INDEX(BP!B:H,MATCH(B16,BP!D:D,0),6)),INDEX(BP!B:H,MATCH(B16,BP!E:E,0),6)),\"\")","v":""},{"$f":"IFERROR(IFERROR(IFERROR(INDEX(BP!B:H,MATCH(B16,BP!C:C,0),7),INDEX(BP!B:H,MATCH(B16,BP!D:D,0),7)),INDEX(BP!B:H,MATCH(B16,BP!E:E,0),7)),\"\")","v":""},{"$error":"#REF!"},{"$error":"#REF!"},{"$error":"#REF!"},null,"Redução/Aumento","Valores a Curto Prazo - SUS",31682989.920000002,-4064075.1999999881]
[{"$f":"IF(LEFT(#REF!,7)=\"Despesa\",\"\",IF(LEFT(#REF!,7)=\"Receita\",\"\",#REF!))","v":{"$error":"#REF!"}},{"$f":"IF(LEFT(A17,7)=\"Despesa\",\"\",IF(LEFT(A17,7)=\"Receita\",\"\",IF(A17=\"\",\"\",#REF!)))","v":{"$error":"#REF!"}},{"$f":"IFERROR(IFERROR(IFERROR(INDEX(BP!B:H,MATCH(B17,BP!C:C,0),6),INDEX(BP!B:H,MATCH(B17,BP!D:D,0),6)),INDEX(BP!B:H,MATCH(B17,BP!E:E,0),6)),\"\")","v":""},{"$f":"IFERROR(IFERROR(IFERROR(INDEX(BP!B:H,MATCH(B17,BP!C:C,0),7),INDEX(BP!B:H,MATCH(B17,BP!D:D,0),7)),INDEX(BP!B:H,MATCH(B17,BP!E:E,0),7)),\"\")","v":""},{"$error":"#REF!"},{"$error":"#REF!"},{"$error":"#REF!"},null,"Aumento em","Adiantamentos e Créditos a Receber",-137429201.52999997,-115969161.29999998]
[{"$f":"IF(LEFT(#REF!,7)=\"Despesa\",\"\",IF(LEFT(#REF!,7)=\"Receita\",\"\",#REF!))","v":{"$error":"#REF!"}},{"$f":"IF(LEFT(A18,7)=\"Despesa\",\"\",IF(LEFT(A18,7)=\"Receita\",\"\",IF(A18=\"\",\"\",#REF!)))","v":{"$error":"#REF!"}},{"$f":"IFERROR(IFERROR(IFERROR(INDEX(BP!B:H,MATCH(B18,BP!C:C,0),6),INDEX(BP!B:H,MATCH(B18,BP!D:D,0),6)),INDEX(BP!B:H,MATCH(B18,BP!E:E,0),6)),\"\")","v":""},{"$f":"IFERROR(IFERROR(IFERROR(INDEX(BP!B:H,MATCH(B18,BP!C:C,0),7),INDEX(BP!B:H,MATCH(B18,BP!D:D,0),7)),INDEX(BP!B:H,MATCH(B18,BP!E:E,0),7)),\"\")","v":""},{"$error":"#REF!"},{"$error":"#REF!"},{"$error":"#REF!"},null,"Aumento em","Estoques",-21940400.149999976,-135191886.30000001]
[{"$f":"IF(LEFT(#REF!,7)=\"Despesa\",\"\",IF(LEFT(#REF!,7)=\"Receita\",\"\",#REF!))","v":{"$error":"#REF!"}},{"$f":"IF(LEFT(A19,7)=\"Despesa\",\"\",IF(LEFT(A19,7)=\"Receita\",\"\",IF(A19=\"\",\"\",#REF!)))","v":{"$error":"#REF!"}},{"$f":"IFERROR(IFERROR(IFERROR(INDEX(BP!B:H,MATCH(B19,BP!C:C,0),6),INDEX(BP!B:H,MATCH(B19,BP!D:D,0),6)),INDEX(BP!B:H,MATCH(B19,BP!E:E,0),6)),\"\")","v":""},{"$f":"IFERROR(IFERROR(IFERROR(INDEX(BP!B:H,MATCH(B19,BP!C:C,0),7),INDEX(BP!B:H,MATCH(B19,BP!D:D,0),7)),INDEX(BP!B:H,MATCH(B19,BP!E:E,0),7)),\"\")","v":""},{"$error":"#REF!"},{"$error":"#REF!"},{"$error":"#REF!"},null,"Aumento em","Outras Despesas Antecipadas",0,-9067.11]
[null,null,null,null,null,null,null,null,"Aumento em","Valores a Longo Prazo - SUS",-10522321.880000001]
[{"$f":"IF(LEFT(#REF!,7)=\"Despesa\",\"\",IF(LEFT(#REF!,7)=\"Receita\",\"\",#REF!))","v":{"$error":"#REF!"}},{"$f":"IF(LEFT(A21,7)=\"Despesa\",\"\",IF(LEFT(A21,7)=\"Receita\",\"\",IF(A21=\"\",\"\",#REF!)))","v":{"$error":"#REF!"}},{"$f":"IFERROR(IFERROR(IFERROR(INDEX(BP!B:H,MATCH(B21,BP!C:C,0),6),INDEX(BP!B:H,MATCH(B21,BP!D:D,0),6)),INDEX(BP!B:H,MATCH(B21,BP!E:E,0),6)),\"\")","v":""},{"$f":"IFERROR(IFERROR(IFERROR(INDEX(BP!B:H,MATCH(B21,BP!C:C,0),7),INDEX(BP!B:H,MATCH(B21,BP!D:D,0),7)),INDEX(BP!B:H,MATCH(B21,BP!E:E,0),7)),\"\")","v":""},{"$error":"#REF!"},{"$error":"#REF!"},{"$error":"#REF!"},null,"Aumento em","Depósitos Judiciais",-3722955.6699999981,-5697476.8200000003]
[{"$f":"IF(LEFT(#REF!,7)=\"Despesa\",\"\",IF(LEFT(#REF!,7)=\"Receita\",\"\",#REF!))","v":{"$error":"#REF!"}},{"$f":"IF(LEFT(A22,7)=\"Despesa\",\"\",IF(LEFT(A22,7)=\"Receita\",\"\",IF(A22=\"\",\"\",#REF!)))","v":{"$error":"#REF!"}},{"$f":"IFERROR(IFERROR(IFERROR(INDEX(BP!B:H,MATCH(B22,BP!C:C,0),6),INDEX(BP!B:H,MATCH(B22,BP!D:D,0),6)),INDEX(BP!B:H,MATCH(B22,BP!E:E,0),6)),\"\")","v":""},{"$f":"IFERROR(IFERROR(IFERROR(INDEX(BP!B:H,MATCH(B22,BP!C:C,0),7),INDEX(BP!B:H,MATCH(B22,BP!D:D,0),7)),INDEX(BP!B:H,MATCH(B22,BP!E:E,0),7)),\"\")","v":""},{"$error":"#REF!"},{"$error":"#REF!"},{"$error":"#REF!"},null,"Aumento em","Obrigações Trabalhistas a Pagar",255384564.37,295480036.2608]
[{"$f":"IF(LEFT(#REF!,7)=\"Despesa\",\"\",IF(LEFT(#REF!,7)=\"Receita\",\"\",#REF!))","v":{"$error":"#REF!"}},{"$f":"IF(LEFT(A23,7)=\"Despesa\",\"\",IF(LEFT(A23,7)=\"Receita\",\"\",IF(A23=\"\",\"\",#REF!)))","v":{"$error":"#REF!"}},{"$f":"IFERROR(IFERROR(IFERROR(INDEX(BP!B:H,MATCH(B23,BP!C:C,0),6),INDEX(BP!B:H,MATCH(B23,BP!D:D,0),6)),INDEX(BP!B:H,MATCH(B23,BP!E:E,0),6)),\"\")","v":""},{"$f":"IFERROR(IFERROR(IFERROR(INDEX(BP!B:H,MATCH(B23,BP!C:C,0),7),INDEX(BP!B:H,MATCH(B23,BP!D:D,0),7)),INDEX(BP!B:H,MATCH(B23,BP!E:E,0),7)),\"\")","v":""},{"$error":"#REF!"},{"$error":"#REF!"},{"$error":"#REF!"},null,"Redução/Aumento","Fornecedores e Contas a Pagar a Curto Prazo",25250519.940000013,-47409319.579999998]
[{"$f":"IF(LEFT(#REF!,7)=\"Despesa\",\"\",IF(LEFT(#REF!,7)=\"Receita\",\"\",#REF!))","v":{"$error":"#REF!"}},{"$f":"IF(LEFT(A24,7)=\"Despesa\",\"\",IF(LEFT(A24,7)=\"Receita\",\"\",IF(A24=\"\",\"\",#REF!)))","v":{"$error":"#REF!"}},{"$f":"IFERROR(IFERROR(IFERROR(INDEX(BP!B:H,MATCH(B24,BP!C:C,0),6),INDEX(BP!B:H,MATCH(B24,BP!D:D,0),6)),INDEX(BP!B:H,MATCH(B24,BP!E:E,0),6)),\"\")","v":""},{"$f":"IFERROR(IFERROR(IFERROR(INDEX(BP!B:H,MATCH(B24,BP!C:C,0),7),INDEX(BP!B:H,MATCH(B24,BP!D:D,0),7)),INDEX(BP!B:H,MATCH(B24,BP!E:E,0),7)),\"\")","v":""},{"$error":"#REF!"},{"$error":"#REF!"},{"$error":"#REF!"},null,"Aumento/Redução","Contratos de Arrendamento a Pagar",-23705697.771549612,7258374.9331809003]
[{"$f":"IF(LEFT(#REF!,7)=\"Despesa\",\"\",IF(LEFT(#REF!,7)=\"Receita\",\"\",#REF!))","v":{"$error":"#REF!"}},{"$f":"IF(LEFT(A25,7)=\"Despesa\",\"\",IF(LEFT(A25,7)=\"Receita\",\"\",IF(A25=\"\",\"\",#REF!)))","v":{"$error":"#REF!"}},{"$f":"IFERROR(IFERROR(IFERROR(INDEX(BP!B:H,MATCH(B25,BP!C:C,0),6),INDEX(BP!B:H,MATCH(B25,BP!D:D,0),6)),INDEX(BP!B:H,MATCH(B25,BP!E:E,0),6)),\"\")","v":""},{"$f":"IFERROR(IFERROR(IFERROR(INDEX(BP!B:H,MATCH(B25,BP!C:C,0),7),INDEX(BP!B:H,MATCH(B25,BP!D:D,0),7)),INDEX(BP!B:H,MATCH(B25,BP!E:E,0),7)),\"\")","v":""},{"$error":"#REF!"},{"$error":"#REF!"},{"$error":"#REF!"},null,"Redução/Aumento","Retenções de Impostos, Contribuições",11795077.699999999,-29258916.410799991]
[{"$f":"IF(LEFT(#REF!,7)=\"Despesa\",\"\",IF(LEFT(#REF!,7)=\"Receita\",\"\",#REF!))","v":{"$error":"#REF!"}},{"$f":"IF(LEFT(A26,7)=\"Despesa\",\"\",IF(LEFT(A26,7)=\"Receita\",\"\",IF(A26=\"\",\"\",#REF!)))","v":{"$error":"#REF!"}},{"$f":"IFERROR(IFERROR(IFERROR(INDEX(BP!B:H,MATCH(B26,BP!C:C,0),6),INDEX(BP!B:H,MATCH(B26,BP!D:D,0),6)),INDEX(BP!B:H,MATCH(B26,BP!E:E,0),6)),\"\")","v":""},{"$f":"IFERROR(IFERROR(IFERROR(INDEX(BP!B:H,MATCH(B26,BP!C:C,0),7),INDEX(BP!B:H,MATCH(B26,BP!D:D,0),7)),INDEX(BP!B:H,MATCH(B26,BP!E:E,0),7)),\"\")","v":""},{"$error":"#REF!"},{"$error":"#REF!"},{"$error":"#REF!"},null,"Redução em","Obrigações Transitórias a Curto Prazo",-16492563.449999996,-81086551.580000013]
[{"$f":"IF(LEFT(#REF!,7)=\"Despesa\",\"\",IF(LEFT(#REF!,7)=\"Receita\",\"\",#REF!))","v":{"$error":"#REF!"}},{"$f":"IF(LEFT(A27,7)=\"Despesa\",\"\",IF(LEFT(A27,7)=\"Receita\",\"\",IF(A27=\"\",\"\",#REF!)))","v":{"$error":"#REF!"}},{"$f":"IFERROR(IFERROR(IFERROR(INDEX(BP!B:H,MATCH(B27,BP!C:C,0),6),INDEX(BP!B:H,MATCH(B27,BP!D:D,0),6)),INDEX(BP!B:H,MATCH(B27,BP!E:E,0),6)),\"\")","v":""},{"$f":"IFERROR(IFERROR(IFERROR(INDEX(BP!B:H,MATCH(B27,BP!C:C,0),7),INDEX(BP!B:H,MATCH(B27,BP!D:D,0),7)),INDEX(BP!B:H,MATCH(B27,BP!E:E,0),7)),\"\")","v":""},{"$error":"#REF!"},{"$error":"#REF!"},{"$error":"#REF!"},null,"Aumento/Redução","Contingência para Indenizações Trabalhistas",-5875202.5300000012,9178062.650000006]
[{"$f":"IF(LEFT(#REF!,7)=\"Despesa\",\"\",IF(LEFT(#REF!,7)=\"Receita\",\"\",#REF!))","v":{"$error":"#REF!"}},{"$f":"IF(LEFT(A28,7)=\"Despesa\",\"\",IF(LEFT(A28,7)=\"Receita\",\"\",IF(A28=\"\",\"\",#REF!)))","v":{"$error":"#REF!"}},{"$f":"IFERROR(IFERROR(IFERROR(INDEX(BP!B:H,MATCH(B28,BP!C:C,0),6),INDEX(BP!B:H,MATCH(B28,BP!D:D,0),6)),INDEX(BP!B:H,MATCH(B28,BP!E:E,0),6)),\"\")","v":""},{"$f":"IFERROR(IFERROR(IFERROR(INDEX(BP!B:H,MATCH(B28,BP!C:C,0),7),INDEX(BP!B:H,MATCH(B28,BP!D:D,0),7)),INDEX(BP!B:H,MATCH(B28,BP!E:E,0),7)),\"\")","v":""},{"$error":"#REF!"},{"$error":"#REF!"},{"$error":"#REF!"},null,"Redução em","Contingência para Indenizações Cíveis",-1252149.4200000018,-14613679.989999998]
[{"$f":"IF(LEFT(#REF!,7)=\"Despesa\",\"\",IF(LEFT(#REF!,7)=\"Receita\",\"\",#REF!))","v":{"$error":"#REF!"}},{"$f":"IF(LEFT(A29,7)=\"Despesa\",\"\",IF(LEFT(A29,7)=\"Receita\",\"\",IF(A29=\"\",\"\",#REF!)))","v":{"$error":"#REF!"}},{"$f":"IFERROR(IFERROR(IFERROR(INDEX(BP!B:H,MATCH(B29,BP!C:C,0),6),INDEX(BP!B:H,MATCH(B29,BP!D:D,0),6)),INDEX(BP!B:H,MATCH(B29,BP!E:E,0),6)),\"\")","v":""},{"$f":"IFERROR(IFERROR(IFERROR(INDEX(BP!B:H,MATCH(B29,BP!C:C,0),7),INDEX(BP!B:H,MATCH(B29,BP!D:D,0),7)),INDEX(BP!B:H,MATCH(B29,BP!E:E,0),7)),\"\")","v":""},{"$error":"#REF!"},{"$error":"#REF!"},{"$error":"#REF!"},null,"Aumento em","Subvenção a Realizar",513925933.74000019,856240526.8599999]
[{"$f":"IF(LEFT(#REF!,7)=\"Despesa\",\"\",IF(LEFT(#REF!,7)=\"Receita\",\"\",#REF!))","v":{"$error":"#REF!"}},{"$f":"IF(LEFT(A30,7)=\"Despesa\",\"\",IF(LEFT(A30,7)=\"Receita\",\"\",IF(A30=\"\",\"\",#REF!)))","v":{"$error":"#REF!"}},{"$f":"IFERROR(IFERROR(IFERROR(INDEX(BP!B:H,MATCH(B30,BP!C:C,0),6),INDEX(BP!B:H,MATCH(B30,BP!D:D,0),6)),INDEX(BP!B:H,MATCH(B30,BP!E:E,0),6)),\"\")","v":""},{"$f":"IFERROR(IFERROR(IFERROR(INDEX(BP!B:H,MATCH(B30,BP!C:C,0),7),INDEX(BP!B:H,MATCH(B30,BP!D:D,0),7)),INDEX(BP!B:H,MATCH(B30,BP!E:E,0),7)),\"\")","v":""},{"$error":"#REF!"},{"$error":"#REF!"},{"$error":"#REF!"},null,"Redução/Aumento","Adiantamento Para Futuro Aumento de Capital - AFAC",87067928.630000025,-313991918.00999999]
[{"$f":"IF(LEFT(#REF!,7)=\"Despesa\",\"\",IF(LEFT(#REF!,7)=\"Receita\",\"\",#REF!))","v":{"$error":"#REF!"}},{"$f":"IF(LEFT(A31,7)=\"Despesa\",\"\",IF(LEFT(A31,7)=\"Receita\",\"\",IF(A31=\"\",\"\",#REF!)))","v":{"$error":"#REF!"}},{"$f":"IFERROR(IFERROR(IFERROR(INDEX(BP!B:H,MATCH(B31,BP!C:C,0),6),INDEX(BP!B:H,MATCH(B31,BP!D:D,0),6)),INDEX(BP!B:H,MATCH(B31,BP!E:E,0),6)),\"\")","v":""},{"$f":"IFERROR(IFERROR(IFERROR(INDEX(BP!B:H,MATCH(B31,BP!C:C,0),7),INDEX(BP!B:H,MATCH(B31,BP!D:D,0),7)),INDEX(BP!B:H,MATCH(B31,BP!E:E,0),7)),\"\")","v":""},{"$error":"#REF!"},{"$error":"#REF!"},{"$error":"#REF!"},null,"Valores a Longo Prazo - Incentivo Mais Vida",null,0,0]
[{"$f":"IF(LEFT(#REF!,7)=\"Despesa\",\"\",IF(LEFT(#REF!,7)=\"Receita\",\"\",#REF!))","v":{"$error":"#REF!"}},{"$f":"IF(LEFT(A32,7)=\"Despesa\",\"\",IF(LEFT(A32,7)=\"Receita\",\"\",IF(A32=\"\",\"\",#REF!)))","v":{"$error":"#REF!"}},{"$f":"IFERROR(IFERROR(IFERROR(INDEX(BP!B:H,MATCH(B32,BP!C:C,0),6),INDEX(BP!B:H,MATCH(B32,BP!D:D,0),6)),INDEX(BP!B:H,MATCH(B32,BP!E:E,0),6)),\"\")","v":""},{"$f":"IFERROR(IFERROR(IFERROR(INDEX(BP!B:H,MATCH(B32,BP!C:C,0),7),INDEX(BP!B:H,MATCH(B32,BP!D:D,0),7)),INDEX(BP!B:H,MATCH(B32,BP!E:E,0),7)),\"\")","v":""},{"$error":"#REF!"},{"$error":"#REF!"},{"$error":"#REF!"},null,"FLUXO DE CAIXA LÍQUIDO DAS ATIVIDADES OPERACIONAIS",null,287880038.68845212,402964087.11318284]
[{"$f":"IF(LEFT(#REF!,7)=\"Despesa\",\"\",IF(LEFT(#REF!,7)=\"Receita\",\"\",#REF!))","v":{"$error":"#REF!"}},{"$f":"IF(LEFT(A33,7)=\"Despesa\",\"\",IF(LEFT(A33,7)=\"Receita\",\"\",IF(A33=\"\",\"\",#REF!)))","v":{"$error":"#REF!"}},{"$f":"IFERROR(IFERROR(IFERROR(INDEX(BP!B:H,MATCH(B33,BP!C:C,0),6),INDEX(BP!B:H,MATCH(B33,BP!D:D,0),6)),INDEX(BP!B:H,MATCH(B33,BP!E:E,0),6)),\"\")","v":""},{"$f":"IFERROR(IFERROR(IFERROR(INDEX(BP!B:H,MATCH(B33,BP!C:C,0),7),INDEX(BP!B:H,MATCH(B33,BP!D:D,0),7)),INDEX(BP!B:H,MATCH(B33,BP!E:E,0),7)),\"\")","v":""},{"$error":"#REF!"},{"$error":"#REF!"},{"$error":"#REF!"}]
[{"$f":"IF(LEFT(#REF!,7)=\"Despesa\",\"\",IF(LEFT(#REF!,7)=\"Receita\",\"\",#REF!))","v":{"$error":"#REF!"}},{"$f":"IF(LEFT(A34,7)=\"Despesa\",\"\",IF(LEFT(A34,7)=\"Receita\",\"\",IF(A34=\"\",\"\",#REF!)))","v":{"$error":"#REF!"}},{"$f":"IFERROR(IFERROR(IFERROR(INDEX(BP!B:H,MATCH(B34,BP!C:C,0),6),INDEX(BP!B:H,MATCH(B34,BP!D:D,0),6)),INDEX(BP!B:H,MATCH(B34,BP!E:E,0),6)),\"\")","v":""},{"$f":"IFERROR(IFERROR(IFERROR(INDEX(BP!B:H,MATCH(B34,BP!C:C,0),7),INDEX(BP!B:H,MATCH(B34,BP!D:D,0),7)),INDEX(BP!B:H,MATCH(B34,BP!E:E,0),7)),\"\")","v":""},{"$error":"#REF!"},{"$error":"#REF!"},{"$error":"#REF!"},null,"FLUXO DE CAIXA DAS ATIVIDADES DE INVESTIMENTO"]
[{"$f":"IF(LEFT(#REF!,7)=\"Despesa\",\"\",IF(LEFT(#REF!,7)=\"Receita\",\"\",#REF!))","v":{"$error":"#REF!"}},{"$f":"IF(LEFT(A35,7)=\"Despesa\",\"\",IF(LEFT(A35,7)=\"Receita\",\"\",IF(A35=\"\",\"\",#REF!)))","v":{"$error":"#REF!"}},{"$f":"IFERROR(IFERROR(IFERROR(INDEX(BP!B:H,MATCH(B35,BP!C:C,0),6),INDEX(BP!B:H,MATCH(B35,BP!D:D,0),6)),INDEX(BP!B:H,MATCH(B35,BP!E:E,0),6)),\"\")","v":""},{"$f":"IFERROR(IFERROR(IFERROR(INDEX(BP!B:H,MATCH(B35,BP!C:C,0),7),INDEX(BP!B:H,MATCH(B35,BP!D:D,0),7)),INDEX(BP!B:H,MATCH(B35,BP!E:E,0),7)),\"\")","v":""},{"$error":"#REF!"},{"$error":"#REF!"},{"$error":"#REF!"},null,"Adição de Imobilizado",null,-126875319.87925218,-149311336.18283451]
[{"$f":"IF(LEFT(#REF!,7)=\"Despesa\",\"\",IF(LEFT(#REF!,7)=\"Receita\",\"\",#REF!))","v":{"$error":"#REF!"}},{"$f":"IF(LEFT(A36,7)=\"Despesa\",\"\",IF(LEFT(A36,7)=\"Receita\",\"\",IF(A36=\"\",\"\",#REF!)))","v":{"$error":"#REF!"}},{"$f":"IFERROR(IFERROR(IFERROR(INDEX(BP!B:H,MATCH(B36,BP!C:C,0),6),INDEX(BP!B:H,MATCH(B36,BP!D:D,0),6)),INDEX(BP!B:H,MATCH(B36,BP!E:E,0),6)),\"\")","v":""},{"$f":"IFERROR(IFERROR(IFERROR(INDEX(BP!B:H,MATCH(B36,BP!C:C,0),7),INDEX(BP!B:H,MATCH(B36,BP!D:D,0),7)),INDEX(BP!B:H,MATCH(B36,BP!E:E,0),7)),\"\")","v":""},{"$error":"#REF!"},{"$error":"#REF!"},{"$error":"#REF!"},null,"Adição de Intangível",null,-6235477.819198139,-5646722.6060853098]
[{"$f":"IF(LEFT(#REF!,7)=\"Despesa\",\"\",IF(LEFT(#REF!,7)=\"Receita\",\"\",#REF!))","v":{"$error":"#REF!"}},{"$f":"IF(LEFT(A37,7)=\"Despesa\",\"\",IF(LEFT(A37,7)=\"Receita\",\"\",IF(A37=\"\",\"\",#REF!)))","v":{"$error":"#REF!"}},{"$f":"IFERROR(IFERROR(IFERROR(INDEX(BP!B:H,MATCH(B37,BP!C:C,0),6),INDEX(BP!B:H,MATCH(B37,BP!D:D,0),6)),INDEX(BP!B:H,MATCH(B37,BP!E:E,0),6)),\"\")","v":""},{"$f":"IFERROR(IFERROR(IFERROR(INDEX(BP!B:H,MATCH(B37,BP!C:C,0),7),INDEX(BP!B:H,MATCH(B37,BP!D:D,0),7)),INDEX(BP!B:H,MATCH(B37,BP!E:E,0),7)),\"\")","v":""},{"$error":"#REF!"},{"$error":"#REF!"},{"$error":"#REF!"},null,"FLUXO DE CAIXA LÍQUIDO DAS ATIVIDADES DE INVESTIMENTO",null,-133110797.69845033,-154958058.78891981]
[{"$f":"IF(LEFT(#REF!,7)=\"Despesa\",\"\",IF(LEFT(#REF!,7)=\"Receita\",\"\",#REF!))","v":{"$error":"#REF!"}},{"$f":"IF(LEFT(A38,7)=\"Despesa\",\"\",IF(LEFT(A38,7)=\"Receita\",\"\",IF(A38=\"\",\"\",#REF!)))","v":{"$error":"#REF!"}},{"$f":"IFERROR(IFERROR(IFERROR(INDEX(BP!B:H,MATCH(B38,BP!C:C,0),6),INDEX(BP!B:H,MATCH(B38,BP!D:D,0),6)),INDEX(BP!B:H,MATCH(B38,BP!E:E,0),6)),\"\")","v":""},{"$f":"IFERROR(IFERROR(IFERROR(INDEX(BP!B:H,MATCH(B38,BP!C:C,0),7),INDEX(BP!B:H,MATCH(B38,BP!D:D,0),7)),INDEX(BP!B:H,MATCH(B38,BP!E:E,0),7)),\"\")","v":""},{"$error":"#REF!"},{"$error":"#REF!"},{"$error":"#REF!"}]
[{"$f":"IF(LEFT(#REF!,7)=\"Despesa\",\"\",IF(LEFT(#REF!,7)=\"Receita\",\"\",#REF!))","v":{"$error":"#REF!"}},{"$f":"IF(LEFT(A39,7)=\"Despesa\",\"\",IF(LEFT(A39,7)=\"Receita\",\"\",IF(A39=\"\",\"\",#REF!)))","v":{"$error":"#REF!"}},{"$f":"IFERROR(IFERROR(IFERROR(INDEX(BP!B:H,MATCH(B39,BP!C:C,0),6),INDEX(BP!B:H,MATCH(B39,BP!D:D,0),6)),INDEX(BP!B:H,MATCH(B39,BP!E:E,0),6)),\"\")","v":""},{"$f":"IFERROR(IFERROR(IFERROR(INDEX(BP!B:H,MATCH(B39,BP!C:C,0),7),INDEX(BP!B:H,MATCH(B39,BP!D:D,0),7)),INDEX(BP!B:H,MATCH(B39,BP!E:E,0),7)),\"\")","v":""},{"$error":"#REF!"},{"$error":"#REF!"},{"$error":"#REF!"},null,"FLUXO DE CAIXA DAS ATIVIDADES DE FINANCIAMENTO"]
[{"$f":"IF(LEFT(#REF!,7)=\"Despesa\",\"\",IF(LEFT(#REF!,7)=\"Receita\",\"\",#REF!))","v":{"$error":"#REF!"}},{"$f":"IF(LEFT(A40,7)=\"Despesa\",\"\",IF(LEFT(A40,7)=\"Receita\",\"\",IF(A40=\"\",\"\",#REF!)))","v":{"$error":"#REF!"}},{"$f":"IFERROR(IFERROR(IFERROR(INDEX(BP!B:H,MATCH(B40,BP!C:C,0),6),INDEX(BP!B:H,MATCH(B40,BP!D:D,0),6)),INDEX(BP!B:H,MATCH(B40,BP!E:E,0),6)),\"\")","v":""},{"$f":"IFERROR(IFERROR(IFERROR(INDEX(BP!B:H,MATCH(B40,BP!C:C,0),7),INDEX(BP!B:H,MATCH(B40,BP!D:D,0),7)),INDEX(BP!B:H,MATCH(B40,BP!E:E,0),7)),\"\")","v":""},{"$error":"#REF!"},{"$error":"#REF!"},{"$error":"#REF!"},null,"Reserva de transferência para AFAC Longo Prazo (PNC)",null,0,0]
[{"$f":"IF(LEFT(#REF!,7)=\"Despesa\",\"\",IF(LEFT(#REF!,7)=\"Receita\",\"\",#REF!))","v":{"$error":"#REF!"}},{"$f":"IF(LEFT(A41,7)=\"Despesa\",\"\",IF(LEFT(A41,7)=\"Receita\",\"\",IF(A41=\"\",\"\",#REF!)))","v":{"$error":"#REF!"}},{"$f":"IFERROR(IFERROR(IFERROR(INDEX(BP!B:H,MATCH(B41,BP!C:C,0),6),INDEX(BP!B:H,MATCH(B41,BP!D:D,0),6)),INDEX(BP!B:H,MATCH(B41,BP!E:E,0),6)),\"\")","v":""},{"$f":"IFERROR(IFERROR(IFERROR(INDEX(BP!B:H,MATCH(B41,BP!C:C,0),7),INDEX(BP!B:H,MATCH(B41,BP!D:D,0),7)),INDEX(BP!B:H,MATCH(B41,BP!E:E,0),7)),\"\")","v":""},{"$error":"#REF!"},{"$error":"#REF!"},{"$error":"#REF!"},null,"FLUXO DE CAIXA LÍQUIDO DAS ATIVIDADES DE FINANCIAMENTO",null,0,0]
[{"$f":"IF(LEFT(#REF!,7)=\"Despesa\",\"\",IF(LEFT(#REF!,7)=\"Receita\",\"\",#REF!))","v":{"$error":"#REF!"}},{"$f":"IF(LEFT(A42,7)=\"Despesa\",\"\",IF(LEFT(A42,7)=\"Receita\",\"\",IF(A42=\"\",\"\",#REF!)))","v":{"$error":"#REF!"}},{"$f":"IFERROR(IFERROR(IFERROR(INDEX(BP!B:H,MATCH(B42,BP!C:C,0),6),INDEX(BP!B:H,MATCH(B42,BP!D:D,0),6)),INDEX(BP!B:H,MATCH(B42,BP!E:E,0),6)),\"\")","v":""},{"$f":"IFERROR(IFERROR(IFERROR(INDEX(BP!B:H,MATCH(B42,BP!C:C,0),7),INDEX(BP!B:H,MATCH(B42,BP!D:D,0),7)),INDEX(BP!B:H,MATCH(B42,BP!E:E,0),7)),\"\")","v":""},{"$error":"#REF!"},{"$error":"#REF!"},{"$error":"#REF!"}]
[{"$f":"IF(LEFT(#REF!,7)=\"Despesa\",\"\",IF(LEFT(#REF!,7)=\"Receita\",\"\",#REF!))","v":{"$error":"#REF!"}},{"$f":"IF(LEFT(A43,7)=\"Despesa\",\"\",IF(LEFT(A43,7)=\"Receita\",\"\",IF(A43=\"\",\"\",#REF!)))","v":{"$error":"#REF!"}},{"$f":"IFERROR(IFERROR(IFERROR(INDEX(BP!B:H,MATCH(B43,BP!C:C,0),6),INDEX(BP!B:H,MATCH(B43,BP!D:D,0),6)),INDEX(BP!B:H,MATCH(B43,BP!E:E,0),6)),\"\")","v":""},{"$f":"IFERROR(IFERROR(IFERROR(INDEX(BP!B:H,MATCH(B43,BP!C:C,0),7),INDEX(BP!B:H,MATCH(B43,BP!D:D,0),7)),INDEX(BP!B:H,MATCH(B43,BP!E:E,0),7)),\"\")","v":""},{"$error":"#REF!"},{"$error":"#REF!"},{"$error":"#REF!"},null,"APURAÇÃO DO FLUXO DE CAIXA DO PERÍODO"]
[{"$f":"IF(LEFT(#REF!,7)=\"Despesa\",\"\",IF(LEFT(#REF!,7)=\"Receita\",\"\",#REF!))","v":{"$error":"#REF!"}},{"$f":"IF(LEFT(A44,7)=\"Despesa\",\"\",IF(LEFT(A44,7)=\"Receita\",\"\",IF(A44=\"\",\"\",#REF!)))","v":{"$error":"#REF!"}},{"$f":"IFERROR(IFERROR(IFERROR(INDEX(BP!B:H,MATCH(B44,BP!C:C,0),6),INDEX(BP!B:H,MATCH(B44,BP!D:D,0),6)),INDEX(BP!B:H,MATCH(B44,BP!E:E,0),6)),\"\")","v":""},{"$f":"IFERROR(IFERROR(IFERROR(INDEX(BP!B:H,MATCH(B44,BP!C:C,0),7),INDEX(BP!B:H,MATCH(B44,BP!D:D,0),7)),INDEX(BP!B:H,MATCH(B44,BP!E:E,0),7)),\"\")","v":""},{"$error":"#REF!"},{"$error":"#REF!"},{"$error":"#REF!"},null,"GERAÇÃO LÍQUIDA DE CAIXA E EQUIVALENTE DE CAIXA",null,154769240.9900018,248006028.32426304]
[{"$f":"IF(LEFT(#REF!,7)=\"Despesa\",\"\",IF(LEFT(#REF!,7)=\"Receita\",\"\",#REF!))","v":{"$error":"#REF!"}},{"$f":"IF(LEFT(A45,7)=\"Despesa\",\"\",IF(LEFT(A45,7)=\"Receita\",\"\",IF(A45=\"\",\"\",#REF!)))","v":{"$error":"#REF!"}},{"$f":"IFERROR(IFERROR(IFERROR(INDEX(BP!B:H,MATCH(B45,BP!C:C,0),6),INDEX(BP!B:H,MATCH(B45,BP!D:D,0),6)),INDEX(BP!B:H,MATCH(B45,BP!E:E,0),6)),\"\")","v":""},{"$f":"IFERROR(IFERROR(IFERROR(INDEX(BP!B:H,MATCH(B45,BP!C:C,0),7),INDEX(BP!B:H,MATCH(B45,BP!D:D,0),7)),INDEX(BP!B:H,MATCH(B45,BP!E:E,0),7)),\"\")","v":""},{"$error":"#REF!"},{"$error":"#REF!"},{"$error":"#REF!"},null,"CAIXA E EQUIVALENTE DE CAIXA INICIAL",null,745556301.51999998,571660067.48000002]
[{"$f":"IF(LEFT(#REF!,7)=\"Despesa\",\"\",IF(LEFT(#REF!,7)=\"Receita\",\"\",#REF!))","v":{"$error":"#REF!"}},{"$f":"IF(LEFT(A46,7)=\"Despesa\",\"\",IF(LEFT(A46,7)=\"Receita\",\"\",IF(A46=\"\",\"\",#REF!)))","v":{"$error":"#REF!"}},{"$f":"IFERROR(IFERROR(IFERROR(INDEX(BP!B:H,MATCH(B46,BP!C:C,0),6),INDEX(BP!B:H,MATCH(B46,BP!D:D,0),6)),INDEX(BP!B:H,MATCH(B46,BP!E:E,0),6)),\"\")","v":""},{"$f":"IFERROR(IFERROR(IFERROR(INDEX(BP!B:H,MATCH(B46,BP!C:C,0),7),INDEX(BP!B:H,MATCH(B46,BP!D:D,0),7)),INDEX(BP!B:H,MATCH(B46,BP!E:E,0),7)),\"\")","v":""},{"$error":"#REF!"},{"$error":"#REF!"},{"$error":"#REF!"},null,"CAIXA E EQUIVALENTE DE CAIXA FINAL",null,900325542.50999999,819666095.79999995]
[{"$f":"IF(LEFT(#REF!,7)=\"Despesa\",\"\",IF(LEFT(#REF!,7)=\"Receita\",\"\",#REF!))","v":{"$error":"#REF!"}},{"$f":"IF(LEFT(A47,7)=\"Despesa\",\"\",IF(LEFT(A47,7)=\"Receita\",\"\",IF(A47=\"\",\"\",#REF!)))","v":{"$error":"#REF!"}},{"$f":"IFERROR(IFERROR(IFERROR(INDEX(BP!B:H,MATCH(B47,BP!C:C,0),6),INDEX(BP!B:H,MATCH(B47,BP!D:D,0),6)),INDEX(BP!B:H,MATCH(B47,BP!E:E,0),6)),\"\")","v":""},{"$f":"IFERROR(IFERROR(IFERROR(INDEX(BP!B:H,MATCH(B47,BP!C:C,0),7),INDEX(BP!B:H,MATCH(B47,BP!D:D,0),7)),INDEX(BP!B:H,MATCH(B47,BP!E:E,0),7)),\"\")","v":""},{"$error":"#REF!"},{"$error":"#REF!"},{"$error":"#REF!"},null,"As notas explicativas da Administração são parte integrante das demonstrações contábeis consolidadas"]
[{"$f":"IF(LEFT(#REF!,7)=\"Despesa\",\"\",IF(LEFT(#REF!,7)=\"Receita\",\"\",#REF!))","v":{"$error":"#REF!"}},{"$f":"IF(LEFT(A48,7)=\"Despesa\",\"\",IF(LEFT(A48,7)=\"Receita\",\"\",IF(A48=\"\",\"\",#REF!)))","v":{"$error":"#REF!"}},{"$f":"IFERROR(IFERROR(IFERROR(INDEX(BP!B:H,MATCH(B48,BP!C:C,0),6),INDEX(BP!B:H,MATCH(B48,BP!D:D,0),6)),INDEX(BP!B:H,MATCH(B48,BP!E:E,0),6)),\"\")","v":""},{"$f":"IFERROR(IFERROR(IFERROR(INDEX(BP!B:H,MATCH(B48,BP!C:C,0),7),INDEX(BP!B:H,MATCH(B48,BP!D:D,0),7)),INDEX(BP!B:H,MATCH(B48,BP!E:E,0),7)),\"\")","v":""},{"$error":"#REF!"},{"$error":"#REF!"},{"$error":"#REF!"},null,null,null,{"$f":"K46-K45-K44","v":-1.7881393432617188E-6},{"$f":"L46-L45-L44","v":-4.2631030082702637E-3}]
[{"$f":"IF(LEFT(#REF!,7)=\"Despesa\",\"\",IF(LEFT(#REF!,7)=\"Receita\",\"\",#REF!))","v":{"$error":"#REF!"}},{"$f":"IF(LEFT(A49,7)=\"Despesa\",\"\",IF(LEFT(A49,7)=\"Receita\",\"\",IF(A49=\"\",\"\",#REF!)))","v":{"$error":"#REF!"}},{"$f":"IFERROR(IFERROR(IFERROR(INDEX(BP!B:H,MATCH(B49,BP!C:C,0),6),INDEX(BP!B:H,MATCH(B49,BP!D:D,0),6)),INDEX(BP!B:H,MATCH(B49,BP!E:E,0),6)),\"\")","v":""},{"$f":"IFERROR(IFERROR(IFERROR(INDEX(BP!B:H,MATCH(B49,BP!C:C,0),7),INDEX(BP!B:H,MATCH(B49,BP!D:D,0),7)),INDEX(BP!B:H,MATCH(B49,BP!E:E,0),7)),\"\")","v":""},{"$error":"#REF!"},{"$error":"#REF!"},{"$error":"#REF!"}]
[{"$f":"IF(LEFT(#REF!,7)=\"Despesa\",\"\",IF(LEFT(#REF!,7)=\"Receita\",\"\",#REF!))","v":{"$error":"#REF!"}},{"$f":"IF(LEFT(A50,7)=\"Despesa\",\"\",IF(LEFT(A50,7)=\"Receita\",\"\",IF(A50=\"\",\"\",#REF!)))","v":{"$error":"#REF!"}},{"$f":"IFERROR(IFERROR(IFERROR(INDEX(BP!B:H,MATCH(B50,BP!C:C,0),6),INDEX(BP!B:H,MATCH(B50,BP!D:D,0),6)),INDEX(BP!B:H,MATCH(B50,BP!E:E,0),6)),\"\")","v":""},{"$f":"IFERROR(IFERROR(IFERROR(INDEX(BP!B:H,MATCH(B50,BP!C:C,0),7),INDEX(BP!B:H,MATCH(B50,BP!D:D,0),7)),INDEX(BP!B:H,MATCH(B50,BP!E:E,0),7)),\"\")","v":""},{"$error":"#REF!"},{"$error":"#REF!"},{"$error":"#REF!"}]
[{"$f":"IF(LEFT(#REF!,7)=\"Despesa\",\"\",IF(LEFT(#REF!,7)=\"Receita\",\"\",#REF!))","v":{"$error":"#REF!"}},{"$f":"IF(LEFT(A51,7)=\"Despesa\",\"\",IF(LEFT(A51,7)=\"Receita\",\"\",IF(A51=\"\",\"\",#REF!)))","v":{"$error":"#REF!"}},{"$f":"IFERROR(IFERROR(IFERROR(INDEX(BP!B:H,MATCH(B51,BP!C:C,0),6),INDEX(BP!B:H,MATCH(B51,BP!D:D,0),6)),INDEX(BP!B:H,MATCH(B51,BP!E:E,0),6)),\"\")","v":""},{"$f":"IFERROR(IFERROR(IFERROR(INDEX(BP!B:H,MATCH(B51,BP!C:C,0),7),INDEX(BP!B:H,MATCH(B51,BP!D:D,0),7)),INDEX(BP!B:H,MATCH(B51,BP!E:E,0),7)),\"\")","v":""},{"$error":"#REF!"},{"$error":"#REF!"},{"$error":"#REF!"}]

{"sheet":"DVA","index":3,"n_rows":38,"n_cols":4,"rows_kept":38,"cut":false,"hidden":false,"merged":[[0,1,0,3],[1,2,1,3]]}
[null,"EBSERH - EMPRESA BRASILEIRA DE SERVIÇOS HOSPITALARES"]
[null,"Demonstração Valor Adicionado ","30 de setembro de 2021"]
[null,"Em reais "]
[null,"Descrição"," 01.01.2021                                 a                   30.09.2021","01.01.2020                             a                  30.09.2020"]
[null,"Geração de Valor Adicionado"]
[null,"1 - Receitas",99206690.400000006,79751430.969999999]
[null,"1.1 - Atividades Operacionais",99206690.400000006,79751430.969999999]
[null,"1.1.1 - Receita de Serviços e Exploração",99206690.400000006,79751430.969999999]
[null,"2 - Insumos Adquiridos de Terceiros",1800440403.6799998,1366049152.1300004]
[null,"2.1 - Materiais de Consumo",872865696.26000011,598972579.66000009]
[null,"2.2 - Energia elétrica, Água e Esgoto, Gás",95161308.529999986,56075992.080000006]
[null,"2.3 - Serviços de Terceiros",832413398.88999987,693289722.57000017]
[null,"2.4 - Contigências para Riscos Cíveis",0,17710857.82]
[null,"3 - Valor Adicionado Bruto (1-2)",-1701233713.2799997,-1286297721.1600003]
[null,"4 - Depreciação, Amortização, Impairment e Perdas",31985830.41,25636644.910000004]
[null,"4.1 - Depreciação do Período",26451592.41,19452489.120000001]
[null,"4.2 - Amortização do Período",4517738.4300000006,4167043.26]
[null,"4.3 - Redução a Valor Recuperável - Impairment",0,0]
[null,"4.4 - Perdas Involuntárias e Desfazimentos",1016499.57,2017112.53]
[null,"5 - Valor Adicionado Líquido (3-4)",-1733219543.6899998,-1311934366.0700004]
[null,"6 - Valor Adicionado Recebido em Transferência",6025718648.4000006,5284108212.8900013]
[null,"6.1 - Repasses e Cotas Financeiras",6006715123.0200005,5122917225.000001]
[null,"6.2 - Receitas Financeiras",1050429.5900000001,3617046]
[null,"6.3 - Outras",17953095.79000004,157573941.88999999]
[null,"7 - Valor Adicionado Total a Distribuir (5+6)",4292499104.710001,3972173846.8200006]
[null,"8 - Distribuição do Valor Adicionado",4292499104.71,3972173846.8200011]
[null,"8.1 - Remuneração do Trabalho",4354287437.079999,3960415229.059999]
[null,"8.1.1 - Pessoal e Diárias",3196008545.1299992,2875752079.099999]
[null,"8.1.2 - Encargos",1158278891.95,1084663149.96]
[null,"8.2 - Remuneração do Governo",1214714.6000000001,1008763.6600000004]
[null,"8.2.1 - Impostos, Taxas, Contribuições, Multas e Juros",1214714.6000000001,1008763.6600000004]
[null,"8.2.2 - Provisão p/ Imposto de Renda",0,0]
[null,"8.2.3 - Provisão p/ CSLL",0,0]
[null,"8.3 - Remuneração do Capital de Terceiros",30037257.079999998,24213667.589999996]
[null,"8.3.1 - Locação",30037257.079999998,24213667.589999996]
[null,"8.4 - Remuneração de Capital Próprio",-93040304.049999237,-13463813.489997864]
[null,"8.4.1 Resultado do Exercício",-93040304.049999237,-13463813.489997864]
[null,"As notas explicativas da Administração são parte integrante das demonstrações contábeis consolidadas."]

{"sheet":"DMPL","index":4,"n_rows":25,"n_cols":6,"rows_kept":25,"cut":false,"hidden":false,"merged":[[2,13,2,14],[1,4,1,5],[0,1,0,5],[13,1,14,1],[13,2,14,2],[13,3,14,3],[13,4,14,4],[13,5,14,5],[12,1,12,5],[3,1,4,1],[3,2,4,2],[3,3,4,3],[3,4,4,4],[3,5,4,5]]}
[null,"EBSERH - EMPRESA BRASILEIRA DE SERVIÇOS HOSPITALARES"]
[null,"Demonstração Consolidada das Mutações do Patrimônio Líquido ",null,null,"30 de setembro de 2021"]
[null,"Em reais"]
[null,"Componentes ","Capital Social Integralizado","Reservas de Capital - AFAC","Resultados Acumulados","Patrimônio Líquido "]
[]
[null,"Saldos Iniciais (31/12/2019)",5000000,219135056.91999999,-512557193.8657369,-288422136.94573689]
[null,"Resultado Líquido do Exercício",null,null,-13463813.49]
[null,"Adiantamento Fut Aume Cap - AFAC",376384237.75,67050000]
[null,"Compensação do Prejuízo"]
[null,"Ajustes de Exercicios Anteriores",null,null,-3324953.86]
[null,"Saldos Finais em 30/09/2020",381384237.75,67050000,-529345961.21573693,-80911723.465736926]
[]
[]
[null,"Componentes ","Capital Social Integralizado","Reservas de Capital - AFAC","Resultados Acumulados","Patrimônio Líquido"]
[]
[null,"2020-12-31",381384237.75,202658776.90999997,-529544354.01573807,54498660.644261897]
[null,"Resultado Líquido do Exercício",null,null,-93040304.049998283]
[null,"Adiantamento Fut Aume Cap - AFAC",null,87067928.630000055]
[null,"Compensação do Prejuízo"]
[null,"Ajustes de Exercicios Anteriores",null,null,-2552006.2000002097]
[null,"Integaralização de AFAC ao  Capital Social"]
[null,"Saldos Finais em 30/09/2021",381384237.75,289726705.54000002,-625136664.26573646,45974279.024263501]
[null,"As notas explicativas da Administração são parte integrante das demonstrações contábeis consolidadas."]
[]
[null,null,{"$f":"C22-C16","v":0}]

{"sheet":"Cálculo de RI","index":5,"n_rows":10,"n_cols":5,"rows_kept":10,"cut":false,"hidden":false,"merged":[]}
[]
["Despesa indedutível da Base IR",76026913.629999995,{"$f":"0.15","v":0.15},{"$f":"C2*B3","v":17975239.390499622},"IR Sobre a Base"]
["Base de IR",119834929.26999748,0.1,{"$f":"C3*B5","v":11977492.926999748},"Adicional IR"]
["Percentual Isento",60000,0.09,{"$f":"B3*C4","v":10785143.634299772},"CSLL a Recolher"]
[null,119774929.26999748,null,{"$f":"D2+D3","v":29952732.317499369},"Total de IR Apurado"]
[null,null,0.3,{"$f":"D5*C6","v":8985819.6952498108},"Compensação de Prejuízo Fiscal Acumulado"]
[]
[null,null,null,{"$f":"D5-D6","v":20966912.622249559},"IR a Recolher"]
[null,null,null,{"$f":"D4","v":10785143.634299772},"CSLL a Recolher"]
[null,null,null,{"$f":"D8+D9","v":31752056.256549329},"Total"]

{"sheet":"--","index":6,"n_rows":192,"n_cols":4,"rows_kept":192,"cut":false,"hidden":true,"merged":[]}
["1 - Receitas",null,"Grupo Dva","Subgrupo DVA"]
["1.1 - Atividades operacionais",null,"1.1 - Atividades operacionais","1.1 - Atividades operacionais"]
["Relatório Financeiro PF",null,"Relatório Financeiro PF","Relatório Financeiro PF"]
["2 - Insumos Adquiridos de Terceiros",null,"2 - Insumos Adquiridos de Terceiros","2 - Insumos Adquiridos de Terceiros"]
["2.1 - Materiais de Consumo",null,"2 - Insumos Adquiridos de Terceiros","2.1 - Materiais de Consumo"]
["3.3.1.1.1.01.00",{"$f":"VLOOKUP(A6,#REF!,2,0)","v":{"$error":"#REF!"}},"2 - Insumos Adquiridos de Terceiros","2.1 - Materiais de Consumo"]
["3.3.1.1.1.02.00",{"$f":"VLOOKUP(A7,#REF!,2,0)","v":{"$error":"#REF!"}},"2 - Insumos Adquiridos de Terceiros","2.1 - Materiais de Consumo"]
["3.3.1.1.1.03.00",{"$f":"VLOOKUP(A8,#REF!,2,0)","v":{"$error":"#REF!"}},"2 - Insumos Adquiridos de Terceiros","2.1 - Materiais de Consumo"]
["3.3.1.1.1.04.00",{"$f":"VLOOKUP(A9,#REF!,2,0)","v":{"$error":"#REF!"}},"2 - Insumos Adquiridos de Terceiros","2.1 - Materiais de Consumo"]
["3.3.1.1.1.05.00",{"$f":"VLOOKUP(A10,#REF!,2,0)","v":{"$error":"#REF!"}},"2 - Insumos Adquiridos de Terceiros","2.1 - Materiais de Consumo"]
["3.3.1.1.1.06.00",{"$f":"VLOOKUP(A11,#REF!,2,0)","v":{"$error":"#REF!"}},"2 - Insumos Adquiridos de Terceiros","2.1 - Materiais de Consumo"]
["3.3.1.1.1.07.00",{"$f":"VLOOKUP(A12,#REF!,2,0)","v":{"$error":"#REF!"}},"2 - Insumos Adquiridos de Terceiros","2.1 - Materiais de Consumo"]
["3.3.1.1.1.08.00",{"$f":"VLOOKUP(A13,#REF!,2,0)","v":{"$error":"#REF!"}},"2 - Insumos Adquiridos de Terceiros","2.1 - Materiais de Consumo"]
["3.3.1.1.1.09.00",{"$f":"VLOOKUP(A14,#REF!,2,0)","v":{"$error":"#REF!"}},"2 - Insumos Adquiridos de Terceiros","2.1 - Materiais de Consumo"]
["3.3.1.1.1.99.00",{"$f":"VLOOKUP(A15,#REF!,2,0)","v":{"$error":"#REF!"}},"2 - Insumos Adquiridos de Terceiros","2.1 - Materiais de Consumo"]
["3.6.3.3.1.01.00",{"$f":"VLOOKUP(A16,#REF!,2,0)","v":{"$error":"#REF!"}},"2 - Insumos Adquiridos de Terceiros","2.1 - Materiais de Consumo"]
["2.2 - Energia elétrica, Água e Esgoto, Gás",null,"2 - Insumos Adquiridos de Terceiros","2.2 - Energia elétrica, Água e Esgoto, Gás"]
["3.3.2.3.2.08.00",{"$f":"VLOOKUP(A18,#REF!,2,0)","v":{"$error":"#REF!"}},"2 - Insumos Adquiridos de Terceiros","2.2 - Energia elétrica, Água e Esgoto, Gás"]
["3.3.2.3.4.08.00",{"$f":"VLOOKUP(A19,#REF!,2,0)","v":{"$error":"#REF!"}},"2 - Insumos Adquiridos de Terceiros","2.2 - Energia elétrica, Água e Esgoto, Gás"]
["3.3.2.3.1.08.00",{"$f":"VLOOKUP(A20,#REF!,2,0)","v":{"$error":"#REF!"}},"2 - Insumos Adquiridos de Terceiros","2.2 - Energia elétrica, Água e Esgoto, Gás"]
["2.3 - Serviços de Terceiros",null,"2 - Insumos Adquiridos de Terceiros","2.3 - Serviços de Terceiros"]
["3.3.2.2.1.01.00",{"$f":"VLOOKUP(A22,#REF!,2,0)","v":{"$error":"#REF!"}},"2 - Insumos Adquiridos de Terceiros","2.3 - Serviços de Terceiros"]
["3.3.2.2.1.02.00",{"$f":"VLOOKUP(A23,#REF!,2,0)","v":{"$error":"#REF!"}},"2 - Insumos Adquiridos de Terceiros","2.3 - Serviços de Terceiros"]
["3.3.2.2.1.09.00",{"$f":"VLOOKUP(A24,#REF!,2,0)","v":{"$error":"#REF!"}},"2 - Insumos Adquiridos de Terceiros","2.3 - Serviços de Terceiros"]
["3.3.2.2.1.05.00",{"$f":"VLOOKUP(A25,#REF!,2,0)","v":{"$error":"#REF!"}},"2 - Insumos Adquiridos de Terceiros","2.3 - Serviços de Terceiros"]
["3.3.2.3.1.01.00",{"$f":"VLOOKUP(A26,#REF!,2,0)","v":{"$error":"#REF!"}},"2 - Insumos Adquiridos de Terceiros","2.3 - Serviços de Terceiros"]
["3.3.2.3.1.02.00",{"$f":"VLOOKUP(A27,#REF!,2,0)","v":{"$error":"#REF!"}},"2 - Insumos Adquiridos de Terceiros","2.3 - Serviços de Terceiros"]
["3.3.2.3.1.03.00",{"$f":"VLOOKUP(A28,#REF!,2,0)","v":{"$error":"#REF!"}},"2 - Insumos Adquiridos de Terceiros","2.3 - Serviços de Terceiros"]
["3.3.2.3.1.04.00",{"$f":"VLOOKUP(A29,#REF!,2,0)","v":{"$error":"#REF!"}},"2 - Insumos Adquiridos de Terceiros","2.3 - Serviços de Terceiros"]
["3.3.2.3.1.05.00",{"$f":"VLOOKUP(A30,#REF!,2,0)","v":{"$error":"#REF!"}},"2 - Insumos Adquiridos de Terceiros","2.3 - Serviços de Terceiros"]
["3.3.2.3.1.06.00",{"$f":"VLOOKUP(A31,#REF!,2,0)","v":{"$error":"#REF!"}},"2 - Insumos Adquiridos de Terceiros","2.3 - Serviços de Terceiros"]
["3.3.2.3.1.07.00",{"$f":"VLOOKUP(A32,#REF!,2,0)","v":{"$error":"#REF!"}},"2 - Insumos Adquiridos de Terceiros","2.3 - Serviços de Terceiros"]
["3.3.2.3.1.10.00",{"$f":"VLOOKUP(A33,#REF!,2,0)","v":{"$error":"#REF!"}},"2 - Insumos Adquiridos de Terceiros","2.3 - Serviços de Terceiros"]
["3.3.2.3.1.11.00",{"$f":"VLOOKUP(A34,#REF!,2,0)","v":{"$error":"#REF!"}},"2 - Insumos Adquiridos de Terceiros","2.3 - Serviços de Terceiros"]
["3.3.2.3.1.12.00",{"$f":"VLOOKUP(A35,#REF!,2,0)","v":{"$error":"#REF!"}},"2 - Insumos Adquiridos de Terceiros","2.3 - Serviços de Terceiros"]
["3.3.2.3.1.13.00",{"$f":"VLOOKUP(A36,#REF!,2,0)","v":{"$error":"#REF!"}},"2 - Insumos Adquiridos de Terceiros","2.3 - Serviços de Terceiros"]
["3.3.2.3.1.14.00",{"$f":"VLOOKUP(A37,#REF!,2,0)","v":{"$error":"#REF!"}},"2 - Insumos Adquiridos de Terceiros","2.3 - Serviços de Terceiros"]
["3.3.2.3.1.99.00",{"$f":"VLOOKUP(A38,#REF!,2,0)","v":{"$error":"#REF!"}},"2 - Insumos Adquiridos de Terceiros","2.3 - Serviços de Terceiros"]
["3.3.2.3.2.01.00",{"$f":"VLOOKUP(A39,#REF!,2,0)","v":{"$error":"#REF!"}},"2 - Insumos Adquiridos de Terceiros","2.3 - Serviços de Terceiros"]
["3.3.2.3.2.02.00",{"$f":"VLOOKUP(A40,#REF!,2,0)","v":{"$error":"#REF!"}},"2 - Insumos Adquiridos de Terceiros","2.3 - Serviços de Terceiros"]
["3.3.2.3.2.03.00",{"$f":"VLOOKUP(A41,#REF!,2,0)","v":{"$error":"#REF!"}},"2 - Insumos Adquiridos de Terceiros","2.3 - Serviços de Terceiros"]
["3.3.2.3.2.05.00",{"$f":"VLOOKUP(A42,#REF!,2,0)","v":{"$error":"#REF!"}},"2 - Insumos Adquiridos de Terceiros","2.3 - Serviços de Terceiros"]
["3.3.2.3.2.11.00",{"$f":"VLOOKUP(A43,#REF!,2,0)","v":{"$error":"#REF!"}},"2 - Insumos Adquiridos de Terceiros","2.3 - Serviços de Terceiros"]
["3.3.2.3.2.12.00",{"$f":"VLOOKUP(A44,#REF!,2,0)","v":{"$error":"#REF!"}},"2 - Insumos Adquiridos de Terceiros","2.3 - Serviços de Terceiros"]
["3.3.2.3.4.12.00",{"$f":"VLOOKUP(A45,#REF!,2,0)","v":{"$error":"#REF!"}},"2 - Insumos Adquiridos de Terceiros","2.3 - Serviços de Terceiros"]
["3.3.2.3.4.01.00",{"$f":"VLOOKUP(A46,#REF!,2,0)","v":{"$error":"#REF!"}},"2 - Insumos Adquiridos de Terceiros","2.3 - Serviços de Terceiros"]
["3.3.2.3.4.03.00",{"$f":"VLOOKUP(A47,#REF!,2,0)","v":{"$error":"#REF!"}},"2 - Insumos Adquiridos de Terceiros","2.3 - Serviços de Terceiros"]
["3.3.2.3.4.05.00",{"$f":"VLOOKUP(A48,#REF!,2,0)","v":{"$error":"#REF!"}},"2 - Insumos Adquiridos de Terceiros","2.3 - Serviços de Terceiros"]
["3.3.2.3.4.11.00",{"$f":"VLOOKUP(A49,#REF!,2,0)","v":{"$error":"#REF!"}},"2 - Insumos Adquiridos de Terceiros","2.3 - Serviços de Terceiros"]
["3.3.2.3.4.13.00",{"$f":"VLOOKUP(A50,#REF!,2,0)","v":{"$error":"#REF!"}},"2 - Insumos Adquiridos de Terceiros","2.3 - Serviços de Terceiros"]
["3.3.2.3.5.02.00",{"$f":"VLOOKUP(A51,#REF!,2,0)","v":{"$error":"#REF!"}},"2 - Insumos Adquiridos de Terceiros","2.3 - Serviços de Terceiros"]
["3.6.4.0.1.01.00",{"$f":"VLOOKUP(A52,#REF!,2,0)","v":{"$error":"#REF!"}},"2 - Insumos Adquiridos de Terceiros","2.3 - Serviços de Terceiros"]
["3.6.4.0.2.01.00",{"$f":"VLOOKUP(A53,#REF!,2,0)","v":{"$error":"#REF!"}},"2 - Insumos Adquiridos de Terceiros","2.3 - Serviços de Terceiros"]
["3.3.2.2.1.10.00",{"$f":"VLOOKUP(A54,#REF!,2,0)","v":{"$error":"#REF!"}},"2 - Insumos Adquiridos de Terceiros","2.3 - Serviços de Terceiros"]
["3 - Valor Adicionado Bruto (1-2)",null,"3 - Valor Adicionado Bruto (1-2)","3 - Valor Adicionado Bruto (1-2)"]
["4 - Depreciação, Amortização e Exaustão",null,"4 - Depreciação, Amortização e Exaustão","4 - Depreciação, Amortização e Exaustão"]
["4.1 - Depreciação do Período",null,"4 - Depreciação, Amortização e Exaustão","4.1 - Depreciação do Período"]
["3.3.3.1.1.01.00",{"$f":"VLOOKUP(A58,#REF!,2,0)","v":{"$error":"#REF!"}},"4 - Depreciação, Amortização e Exaustão","4.1 - Depreciação do Período"]
["3.3.3.1.1.02.00",{"$f":"VLOOKUP(A59,#REF!,2,0)","v":{"$error":"#REF!"}},"4 - Depreciação, Amortização e Exaustão","4.1 - Depreciação do Período"]
["4.2 - Amortização do Período",null,"4 - Depreciação, Amortização e Exaustão","4.2 - Amortização do Período"]
["3.3.3.2.1.01.00",null,"4 - Depreciação, Amortização e Exaustão","4.2 - Amortização do Período"]
["3.3.3.2.1.02.00",{"$f":"VLOOKUP(A62,#REF!,2,0)","v":{"$error":"#REF!"}},"4 - Depreciação, Amortização e Exaustão","4.2 - Amortização do Período"]
["5 - Valor Adicionado Líquido (3-4)",null,"5 - Valor Adicionado Líquido (3-4)","5 - Valor Adicionado Líquido (3-4)"]
["6 - Valor Adicionado Recebido em Transferência",null,"6 - Valor Adicionado Recebido em Transferência","6 - Valor Adicionado Recebido em Transferência"]
["6.1 Repasses e Cotas Financeiras",null,"6 - Valor Adicionado Recebido em Transferência","6.1 Repasses e Cotas Financeiras"]
["3.5.1.1.2.02.00",{"$f":"VLOOKUP(A66,#REF!,2,0)","v":{"$error":"#REF!"}},"6 - Valor Adicionado Recebido em Transferência","6.1 Repasses e Cotas Financeiras"]
["3.5.1.1.2.03.00",{"$f":"VLOOKUP(A67,#REF!,2,0)","v":{"$error":"#REF!"}},"6 - Valor Adicionado Recebido em Transferência","6.1 Repasses e Cotas Financeiras"]
["3.5.1.1.2.08.02",{"$f":"VLOOKUP(A68,#REF!,2,0)","v":{"$error":"#REF!"}},"6 - Valor Adicionado Recebido em Transferência","6.1 Repasses e Cotas Financeiras"]
["3.5.1.2.2.01.00",{"$f":"VLOOKUP(A69,#REF!,2,0)","v":{"$error":"#REF!"}},"6 - Valor Adicionado Recebido em Transferência","6.1 Repasses e Cotas Financeiras"]
["3.5.1.2.2.02.00",{"$f":"VLOOKUP(A70,#REF!,2,0)","v":{"$error":"#REF!"}},"6 - Valor Adicionado Recebido em Transferência","6.1 Repasses e Cotas Financeiras"]
["3.5.6.0.1.04.00",{"$f":"VLOOKUP(A71,#REF!,2,0)","v":{"$error":"#REF!"}},"6 - Valor Adicionado Recebido em Transferência","6.1 Repasses e Cotas Financeiras"]
["3.5.9.0.2.01.00",{"$f":"VLOOKUP(A72,#REF!,2,0)","v":{"$error":"#REF!"}},"6 - Valor Adicionado Recebido em Transferência","6.1 Repasses e Cotas Financeiras"]
["3.5.9.0.5.01.00",{"$f":"VLOOKUP(A73,#REF!,2,0)","v":{"$error":"#REF!"}},"6 - Valor Adicionado Recebido em Transferência","6.1 Repasses e Cotas Financeiras"]
["3.4.3.9.2.01.01",{"$f":"VLOOKUP(A74,#REF!,2,0)","v":{"$error":"#REF!"}},"6 - Valor Adicionado Recebido em Transferência","6.1 Repasses e Cotas Financeiras"]
["3.5.9.0.1.01.00",{"$f":"VLOOKUP(A75,#REF!,2,0)","v":{"$error":"#REF!"}},"6 - Valor Adicionado Recebido em Transferência","6.1 Repasses e Cotas Financeiras"]
["4.3.3.1.2.01.00",{"$f":"VLOOKUP(A76,#REF!,2,0)","v":{"$error":"#REF!"}},"6 - Valor Adicionado Recebido em Transferência","6.1 Repasses e Cotas Financeiras"]
["4.3.3.1.5.01.00",{"$f":"VLOOKUP(A77,#REF!,2,0)","v":{"$error":"#REF!"}},"6 - Valor Adicionado Recebido em Transferência","6.1 Repasses e Cotas Financeiras"]
["4.3.3.9.1.01.00",{"$f":"VLOOKUP(A78,#REF!,2,0)","v":{"$error":"#REF!"}},"6 - Valor Adicionado Recebido em Transferência","6.1 Repasses e Cotas Financeiras"]
["4.3.3.9.5.01.00",{"$f":"VLOOKUP(A79,#REF!,2,0)","v":{"$error":"#REF!"}},"6 - Valor Adicionado Recebido em Transferência","6.1 Repasses e Cotas Financeiras"]
["4.3.3.9.1.99.00",{"$f":"VLOOKUP(A80,#REF!,2,0)","v":{"$error":"#REF!"}},"6 - Valor Adicionado Recebido em Transferência","6.1 Repasses e Cotas Financeiras"]
["4.5.1.1.2.02.00",{"$f":"VLOOKUP(A81,#REF!,2,0)","v":{"$error":"#REF!"}},"6 - Valor Adicionado Recebido em Transferência","6.1 Repasses e Cotas Financeiras"]
["4.5.1.1.2.03.00",{"$f":"VLOOKUP(A82,#REF!,2,0)","v":{"$error":"#REF!"}},"6 - Valor Adicionado Recebido em Transferência","6.1 Repasses e Cotas Financeiras"]
["4.5.1.2.2.01.00",{"$f":"VLOOKUP(A83,#REF!,2,0)","v":{"$error":"#REF!"}},"6 - Valor Adicionado Recebido em Transferência","6.1 Repasses e Cotas Financeiras"]
["4.5.1.2.2.02.00",{"$f":"VLOOKUP(A84,#REF!,2,0)","v":{"$error":"#REF!"}},"6 - Valor Adicionado Recebido em Transferência","6.1 Repasses e Cotas Financeiras"]
["4.5.9.0.1.01.00",{"$f":"VLOOKUP(A85,#REF!,2,0)","v":{"$error":"#REF!"}},"6 - Valor Adicionado Recebido em Transferência","6.1 Repasses e Cotas Financeiras"]
["4.5.9.0.2.01.00",{"$f":"VLOOKUP(A86,#REF!,2,0)","v":{"$error":"#REF!"}},"6 - Valor Adicionado Recebido em Transferência","6.1 Repasses e Cotas Financeiras"]
["4.4.5.2.1.01.00",{"$f":"VLOOKUP(A87,#REF!,2,0)","v":{"$error":"#REF!"}},"6 - Valor Adicionado Recebido em Transferência","6.1 Repasses e Cotas Financeiras"]
["6.2 Receitas Financeiras",null,"6 - Valor Adicionado Recebido em Transferência","6.2 Receitas Financeiras"]
["Receitas Financeiras",null,"6 - Valor Adicionado Recebido em Transferência","6.2 Receitas Financeiras"]
["6.3 Outras",null,"6 - Valor Adicionado Recebido em Transferência","6.3 Outras"]
["4.3.3.1.1.01.00",{"$f":"VLOOKUP(A91,#REF!,2,0)","v":{"$error":"#REF!"}},"6 - Valor Adicionado Recebido em Transferência","6.3 Outras"]
["4.5.1.2.2.03.00",{"$f":"VLOOKUP(A92,#REF!,2,0)","v":{"$error":"#REF!"}},"6 - Valor Adicionado Recebido em Transferência","6.3 Outras"]
["4.4.2.9.1.01.00",{"$f":"VLOOKUP(A93,#REF!,2,0)","v":{"$error":"#REF!"}},"6 - Valor Adicionado Recebido em Transferência","6.3 Outras"]
["4.6.3.1.1.01.00","GANHOS COM INCORPORACAO DE ATIVOS","6 - Valor Adicionado Recebido em Transferência","6.3 Outras"]
["4.6.3.9.1.01.00",{"$f":"VLOOKUP(A95,#REF!,2,0)","v":{"$error":"#REF!"}},"6 - Valor Adicionado Recebido em Transferência","6.3 Outras"]
["4.6.3.9.2.01.00",{"$f":"VLOOKUP(A96,#REF!,2,0)","v":{"$error":"#REF!"}},"6 - Valor Adicionado Recebido em Transferência","6.3 Outras"]
["4.6.4.0.1.01.00",{"$f":"VLOOKUP(A97,#REF!,2,0)","v":{"$error":"#REF!"}},"6 - Valor Adicionado Recebido em Transferência","6.3 Outras"]
["4.6.4.0.2.01.00",{"$f":"VLOOKUP(A98,#REF!,2,0)","v":{"$error":"#REF!"}},"6 - Valor Adicionado Recebido em Transferência","6.3 Outras"]
["4.9.9.6.1.02.00",{"$f":"VLOOKUP(A99,#REF!,2,0)","v":{"$error":"#REF!"}},"6 - Valor Adicionado Recebido em Transferência","6.3 Outras"]
["4.9.9.9.1.01.00",{"$f":"VLOOKUP(A100,#REF!,2,0)","v":{"$error":"#REF!"}},"6 - Valor Adicionado Recebido em Transferência","6.3 Outras"]
["4.9.7.1.1.01.00",{"$f":"VLOOKUP(A101,#REF!,2,0)","v":{"$error":"#REF!"}},"6 - Valor Adicionado Recebido em Transferência","6.3 Outras"]
["4.9.9.5.1.01.00",{"$f":"VLOOKUP(A102,#REF!,2,0)","v":{"$error":"#REF!"}},"6 - Valor Adicionado Recebido em Transferência","6.3 Outras"]
["3.5.3.1.1.01.00",{"$f":"VLOOKUP(A103,#REF!,2,0)","v":{"$error":"#REF!"}},"6 - Valor Adicionado Recebido em Transferência","6.3 Outras"]
["3.5.2.3.1.01.00",{"$f":"VLOOKUP(A104,#REF!,2,0)","v":{"$error":"#REF!"}},"6 - Valor Adicionado Recebido em Transferência","6.3 Outras"]
["3.5.1.2.2.03.00",{"$f":"VLOOKUP(A105,#REF!,2,0)","v":{"$error":"#REF!"}},"6 - Valor Adicionado Recebido em Transferência","6.3 Outras"]
["3.5.1.2.2.05.00",{"$f":"VLOOKUP(A106,#REF!,2,0)","v":{"$error":"#REF!"}},"6 - Valor Adicionado Recebido em Transferência","6.3 Outras"]
["3.6.5.0.1.01.00","INCORPORACAO DE PASSIVOS","6 - Valor Adicionado Recebido em Transferência","6.3 Outras"]
["3.6.5.0.2.01.00",{"$f":"VLOOKUP(A108,#REF!,2,0)","v":{"$error":"#REF!"}},"6 - Valor Adicionado Recebido em Transferência","6.3 Outras"]
["3.5.9.0.4.01.00",{"$f":"VLOOKUP(A109,#REF!,2,0)","v":{"$error":"#REF!"}},"6 - Valor Adicionado Recebido em Transferência","6.3 Outras"]
["3.6.3.1.1.01.00",{"$f":"VLOOKUP(A110,#REF!,2,0)","v":{"$error":"#REF!"}},"6 - Valor Adicionado Recebido em Transferência","6.3 Outras"]
["7 - Valor Adicionado Total a Distribuir (5+6)",null,"7 - Valor Adicionado Total a Distribuir (5+6)","7 - Valor Adicionado Total a Distribuir (5+6)"]
["8 - Distribuição do Valor Adicionado",null,"8 - Distribuição do Valor Adicionado","8 - Distribuição do Valor Adicionado"]
["8.1 - Remuneração do Trabalho",null,"8 - Distribuição do Valor Adicionado","8.1 - Remuneração do Trabalho"]
["8.1.1 - Pessoal e Diárias",null,"8 - Distribuição do Valor Adicionado","8.1.1 - Pessoal e Diárias"]
["3.1.1.1.1.01.00",null,"8 - Distribuição do Valor Adicionado","8.1.1 - Pessoal e Diárias"]
["3.1.1.1.1.03.00",{"$f":"VLOOKUP(A116,#REF!,2,0)","v":{"$error":"#REF!"}},"8 - Distribuição do Valor Adicionado","8.1.1 - Pessoal e Diárias"]
["3.1.1.1.1.04.00",{"$f":"VLOOKUP(A117,#REF!,2,0)","v":{"$error":"#REF!"}},"8 - Distribuição do Valor Adicionado","8.1.1 - Pessoal e Diárias"]
["3.1.1.1.1.09.00",{"$f":"VLOOKUP(A118,#REF!,2,0)","v":{"$error":"#REF!"}},"8 - Distribuição do Valor Adicionado","8.1.1 - Pessoal e Diárias"]
["3.3.2.1.1.01.00",{"$f":"VLOOKUP(A119,#REF!,2,0)","v":{"$error":"#REF!"}},"8 - Distribuição do Valor Adicionado","8.1.1 - Pessoal e Diárias"]
["3.1.1.1.1.05.00",{"$f":"VLOOKUP(A120,#REF!,2,0)","v":{"$error":"#REF!"}},"8 - Distribuição do Valor Adicionado","8.1.1 - Pessoal e Diárias"]
["3.1.1.2.1.01.00","SERVICOS DE CONFECCOES - PJ","8 - Distribuição do Valor Adicionado","8.1.1 - Pessoal e Diárias"]
["3.1.1.2.1.02.00",{"$f":"VLOOKUP(A122,#REF!,2,0)","v":{"$error":"#REF!"}},"8 - Distribuição do Valor Adicionado","8.1.1 - Pessoal e Diárias"]
["3.1.1.2.1.03.00",{"$f":"VLOOKUP(A123,#REF!,2,0)","v":{"$error":"#REF!"}},"8 - Distribuição do Valor Adicionado","8.1.1 - Pessoal e Diárias"]
["3.1.1.2.1.04.00",{"$f":"VLOOKUP(A124,#REF!,2,0)","v":{"$error":"#REF!"}},"8 - Distribuição do Valor Adicionado","8.1.1 - Pessoal e Diárias"]
["3.1.1.2.1.05.00",{"$f":"VLOOKUP(A125,#REF!,2,0)","v":{"$error":"#REF!"}},"8 - Distribuição do Valor Adicionado","8.1.1 - Pessoal e Diárias"]
["3.1.1.1.1.06.00",{"$f":"VLOOKUP(A126,#REF!,2,0)","v":{"$error":"#REF!"}},"8 - Distribuição do Valor Adicionado","8.1.1 - Pessoal e Diárias"]
["3.1.1.2.1.06.00",{"$f":"VLOOKUP(A127,#REF!,2,0)","v":{"$error":"#REF!"}},"8 - Distribuição do Valor Adicionado","8.1.1 - Pessoal e Diárias"]
["3.1.1.2.1.09.00",{"$f":"VLOOKUP(A128,#REF!,2,0)","v":{"$error":"#REF!"}},"8 - Distribuição do Valor Adicionado","8.1.1 - Pessoal e Diárias"]
["3.1.3.1.1.04.00",{"$f":"VLOOKUP(A129,#REF!,2,0)","v":{"$error":"#REF!"}},"8 - Distribuição do Valor Adicionado","8.1.1 - Pessoal e Diárias"]
["3.1.3.2.1.02.00",{"$f":"VLOOKUP(A130,#REF!,2,0)","v":{"$error":"#REF!"}},"8 - Distribuição do Valor Adicionado","8.1.1 - Pessoal e Diárias"]
["3.1.3.2.1.04.00",{"$f":"VLOOKUP(A131,#REF!,2,0)","v":{"$error":"#REF!"}},"8 - Distribuição do Valor Adicionado","8.1.1 - Pessoal e Diárias"]
["3.1.3.2.1.05.00",{"$f":"VLOOKUP(A132,#REF!,2,0)","v":{"$error":"#REF!"}},"8 - Distribuição do Valor Adicionado","8.1.1 - Pessoal e Diárias"]
["3.1.3.2.1.06.00",{"$f":"VLOOKUP(A133,#REF!,2,0)","v":{"$error":"#REF!"}},"8 - Distribuição do Valor Adicionado","8.1.1 - Pessoal e Diárias"]
["3.1.3.2.1.07.00",{"$f":"VLOOKUP(A134,#REF!,2,0)","v":{"$error":"#REF!"}},"8 - Distribuição do Valor Adicionado","8.1.1 - Pessoal e Diárias"]
["3.1.9.1.1.01.00",{"$f":"VLOOKUP(A135,#REF!,2,0)","v":{"$error":"#REF!"}},"8 - Distribuição do Valor Adicionado","8.1.1 - Pessoal e Diárias"]
["3.1.2.2.2.09.00",{"$f":"VLOOKUP(A136,#REF!,2,0)","v":{"$error":"#REF!"}},"8 - Distribuição do Valor Adicionado","8.1.1 - Pessoal e Diárias"]
["3.1.9.2.1.01.00",{"$f":"VLOOKUP(A137,#REF!,2,0)","v":{"$error":"#REF!"}},"8 - Distribuição do Valor Adicionado","8.1.1 - Pessoal e Diárias"]
["3.1.9.2.2.01.00",{"$f":"VLOOKUP(A138,#REF!,2,0)","v":{"$error":"#REF!"}},"8 - Distribuição do Valor Adicionado","8.1.1 - Pessoal e Diárias"]
["3.1.9.2.4.01.00",{"$f":"VLOOKUP(A139,#REF!,2,0)","v":{"$error":"#REF!"}},"8 - Distribuição do Valor Adicionado","8.1.1 - Pessoal e Diárias"]
["3.1.9.2.5.01.00",{"$f":"VLOOKUP(A140,#REF!,2,0)","v":{"$error":"#REF!"}},"8 - Distribuição do Valor Adicionado","8.1.1 - Pessoal e Diárias"]
["3.9.4.1.1.01.00",{"$f":"VLOOKUP(A141,#REF!,2,0)","v":{"$error":"#REF!"}},"8 - Distribuição do Valor Adicionado","8.1.1 - Pessoal e Diárias"]
["3.9.7.1.1.01.00",{"$f":"VLOOKUP(A142,#REF!,2,0)","v":{"$error":"#REF!"}},"8 - Distribuição do Valor Adicionado","8.1.1 - Pessoal e Diárias"]
["3.9.7.4.1.01.00",{"$f":"VLOOKUP(A143,#REF!,2,0)","v":{"$error":"#REF!"}},"8 - Distribuição do Valor Adicionado","8.1.1 - Pessoal e Diárias"]
["3.9.9.6.1.01.00",{"$f":"VLOOKUP(A144,#REF!,2,0)","v":{"$error":"#REF!"}},"8 - Distribuição do Valor Adicionado","8.1.1 - Pessoal e Diárias"]
["3.9.9.6.2.02.00",{"$f":"VLOOKUP(A145,#REF!,2,0)","v":{"$error":"#REF!"}},"8 - Distribuição do Valor Adicionado","8.1.1 - Pessoal e Diárias"]
["3.9.9.6.4.02.00",{"$f":"VLOOKUP(A146,#REF!,2,0)","v":{"$error":"#REF!"}},"8 - Distribuição do Valor Adicionado","8.1.1 - Pessoal e Diárias"]
["3.9.4.2.1.01.00",{"$f":"VLOOKUP(A147,#REF!,2,0)","v":{"$error":"#REF!"}},"8 - Distribuição do Valor Adicionado","8.1.1 - Pessoal e Diárias"]
["3.9.9.6.1.02.00",{"$f":"VLOOKUP(A148,#REF!,2,0)","v":{"$error":"#REF!"}},"8 - Distribuição do Valor Adicionado","8.1.1 - Pessoal e Diárias"]
["8.1.2 - Encargos",null,"8 - Distribuição do Valor Adicionado","8.1.2 - Encargos"]
["3.1.2.1.2.01.00",{"$f":"VLOOKUP(A150,#REF!,2,0)","v":{"$error":"#REF!"}},"8 - Distribuição do Valor Adicionado","8.1.2 - Encargos"]
["3.1.2.2.2.01.00",{"$f":"VLOOKUP(A151,#REF!,2,0)","v":{"$error":"#REF!"}},"8 - Distribuição do Valor Adicionado","8.1.2 - Encargos"]
["3.1.2.3.1.01.00",{"$f":"VLOOKUP(A152,#REF!,2,0)","v":{"$error":"#REF!"}},"8 - Distribuição do Valor Adicionado","8.1.2 - Encargos"]
["3.1.3.2.1.01.00",{"$f":"VLOOKUP(A153,#REF!,2,0)","v":{"$error":"#REF!"}},"8 - Distribuição do Valor Adicionado","8.1.2 - Encargos"]
["8.2 - Remuneração do Governo",null,"8 - Distribuição do Valor Adicionado","8.2 - Remuneração do Governo"]
["8.2.1 - Impostos, Taxas, Contribuições, Multas e Juros",null,"8 - Distribuição do Valor Adicionado","8.2.1 - Impostos, Taxas, Contribuições, Multas e Juros"]
["3.4.2.4.1.01.00",{"$f":"VLOOKUP(A156,#REF!,2,0)","v":{"$error":"#REF!"}},"8 - Distribuição do Valor Adicionado","8.2.1 - Impostos, Taxas, Contribuições, Multas e Juros"]
["3.4.2.4.2.01.00",{"$f":"VLOOKUP(A157,#REF!,2,0)","v":{"$error":"#REF!"}},"8 - Distribuição do Valor Adicionado","8.2.1 - Impostos, Taxas, Contribuições, Multas e Juros"]
["3.4.2.4.2.03.00",{"$f":"VLOOKUP(A158,#REF!,2,0)","v":{"$error":"#REF!"}},"8 - Distribuição do Valor Adicionado","8.2.1 - Impostos, Taxas, Contribuições, Multas e Juros"]
["3.4.2.4.1.02.00",{"$f":"VLOOKUP(A159,#REF!,2,0)","v":{"$error":"#REF!"}},"8 - Distribuição do Valor Adicionado","8.2.1 - Impostos, Taxas, Contribuições, Multas e Juros"]
["3.4.2.4.1.03.00",{"$f":"VLOOKUP(A160,#REF!,2,0)","v":{"$error":"#REF!"}},"8 - Distribuição do Valor Adicionado","8.2.1 - Impostos, Taxas, Contribuições, Multas e Juros"]
["3.4.2.3.1.01.00",{"$f":"VLOOKUP(A161,#REF!,2,0)","v":{"$error":"#REF!"}},"8 - Distribuição do Valor Adicionado","8.2.1 - Impostos, Taxas, Contribuições, Multas e Juros"]
["3.4.2.3.1.02.00",{"$f":"VLOOKUP(A162,#REF!,2,0)","v":{"$error":"#REF!"}},"8 - Distribuição do Valor Adicionado","8.2.1 - Impostos, Taxas, Contribuições, Multas e Juros"]
["3.4.2.3.1.03.00",{"$f":"VLOOKUP(A163,#REF!,2,0)","v":{"$error":"#REF!"}},"8 - Distribuição do Valor Adicionado","8.2.1 - Impostos, Taxas, Contribuições, Multas e Juros"]
["3.4.2.4.2.02.00",{"$f":"VLOOKUP(A164,#REF!,2,0)","v":{"$error":"#REF!"}},"8 - Distribuição do Valor Adicionado","8.2.1 - Impostos, Taxas, Contribuições, Multas e Juros"]
["3.4.2.4.4.02.00",{"$f":"VLOOKUP(A165,#REF!,2,0)","v":{"$error":"#REF!"}},"8 - Distribuição do Valor Adicionado","8.2.1 - Impostos, Taxas, Contribuições, Multas e Juros"]
["3.4.2.4.4.03.00",{"$f":"VLOOKUP(A166,#REF!,2,0)","v":{"$error":"#REF!"}},"8 - Distribuição do Valor Adicionado","8.2.1 - Impostos, Taxas, Contribuições, Multas e Juros"]
["3.4.2.4.5.01.00","MULTAS DEDUTIVEIS","8 - Distribuição do Valor Adicionado","8.2.1 - Impostos, Taxas, Contribuições, Multas e Juros"]
["3.4.2.4.5.02.00","MULTAS INDEDUTIVEIS","8 - Distribuição do Valor Adicionado","8.2.1 - Impostos, Taxas, Contribuições, Multas e Juros"]
["3.4.2.4.5.03.00",{"$f":"VLOOKUP(A169,#REF!,2,0)","v":{"$error":"#REF!"}},"8 - Distribuição do Valor Adicionado","8.2.1 - Impostos, Taxas, Contribuições, Multas e Juros"]
["3.4.3.9.1.01.01",{"$f":"VLOOKUP(A170,#REF!,2,0)","v":{"$error":"#REF!"}},"8 - Distribuição do Valor Adicionado","8.2.1 - Impostos, Taxas, Contribuições, Multas e Juros"]
["3.9.9.5.1.01.00","MULTAS INDEDUTIVEIS","8 - Distribuição do Valor Adicionado","8.2.1 - Impostos, Taxas, Contribuições, Multas e Juros"]
["3.9.9.5.4.01.00","ENCARGOS FINANCEIROS DEDUTIVEIS","8 - Distribuição do Valor Adicionado","8.2.1 - Impostos, Taxas, Contribuições, Multas e Juros"]
["3.9.9.5.2.01.00",{"$f":"VLOOKUP(A173,#REF!,2,0)","v":{"$error":"#REF!"}},"8 - Distribuição do Valor Adicionado","8.2.1 - Impostos, Taxas, Contribuições, Multas e Juros"]
["3.4.3.9.2.01.01",{"$f":"VLOOKUP(A174,#REF!,2,0)","v":{"$error":"#REF!"}},"8 - Distribuição do Valor Adicionado","8.2.1 - Impostos, Taxas, Contribuições, Multas e Juros"]
["3.7.1.1.1.02.00",{"$f":"VLOOKUP(A175,#REF!,2,0)","v":{"$error":"#REF!"}},"8 - Distribuição do Valor Adicionado","8.2.1 - Impostos, Taxas, Contribuições, Multas e Juros"]
["3.7.1.1.5.02.00",{"$f":"VLOOKUP(A176,#REF!,2,0)","v":{"$error":"#REF!"}},"8 - Distribuição do Valor Adicionado","8.2.1 - Impostos, Taxas, Contribuições, Multas e Juros"]
["3.7.1.2.1.01.00",{"$f":"VLOOKUP(A177,#REF!,2,0)","v":{"$error":"#REF!"}},"8 - Distribuição do Valor Adicionado","8.2.1 - Impostos, Taxas, Contribuições, Multas e Juros"]
["3.7.1.2.2.01.00",{"$f":"VLOOKUP(A178,#REF!,2,0)","v":{"$error":"#REF!"}},"8 - Distribuição do Valor Adicionado","8.2.1 - Impostos, Taxas, Contribuições, Multas e Juros"]
["3.7.1.2.4.01.00",{"$f":"VLOOKUP(A179,#REF!,2,0)","v":{"$error":"#REF!"}},"8 - Distribuição do Valor Adicionado","8.2.1 - Impostos, Taxas, Contribuições, Multas e Juros"]
["3.7.1.2.5.01.00",{"$f":"VLOOKUP(A180,#REF!,2,0)","v":{"$error":"#REF!"}},"8 - Distribuição do Valor Adicionado","8.2.1 - Impostos, Taxas, Contribuições, Multas e Juros"]
["3.7.2.1.2.04.00",{"$f":"VLOOKUP(A181,#REF!,2,0)","v":{"$error":"#REF!"}},"8 - Distribuição do Valor Adicionado","8.2.1 - Impostos, Taxas, Contribuições, Multas e Juros"]
["3.7.2.3.1.01.00",{"$f":"VLOOKUP(A182,#REF!,2,0)","v":{"$error":"#REF!"}},"8 - Distribuição do Valor Adicionado","8.2.1 - Impostos, Taxas, Contribuições, Multas e Juros"]
["3.7.2.3.5.01.00",{"$f":"VLOOKUP(A183,#REF!,2,0)","v":{"$error":"#REF!"}},"8 - Distribuição do Valor Adicionado","8.2.1 - Impostos, Taxas, Contribuições, Multas e Juros"]
["8.3 - Remuneração do Capital de Terceiros",null,"8 - Distribuição do Valor Adicionado","8.3 - Remuneração do Capital de Terceiros"]
["8.3.1 - Aluguéis",null,"8 - Distribuição do Valor Adicionado","8.3.1 - Aluguéis"]
["3.3.2.3.1.09.00",{"$f":"VLOOKUP(A186,#REF!,2,0)","v":{"$error":"#REF!"}},"8 - Distribuição do Valor Adicionado","8.3.1 - Aluguéis"]
["3.3.2.3.4.09.00",{"$f":"VLOOKUP(A187,#REF!,2,0)","v":{"$error":"#REF!"}},"8 - Distribuição do Valor Adicionado","8.3.1 - Aluguéis"]
["3.3.2.2.1.08.00",{"$f":"VLOOKUP(A188,#REF!,2,0)","v":{"$error":"#REF!"}},"8 - Distribuição do Valor Adicionado","8.3.1 - Aluguéis"]
["3.3.2.3.5.09.00",{"$f":"VLOOKUP(A189,#REF!,2,0)","v":{"$error":"#REF!"}},"8 - Distribuição do Valor Adicionado","8.3.1 - Aluguéis"]
["3.3.2.3.2.09.00",{"$f":"VLOOKUP(A190,#REF!,2,0)","v":{"$error":"#REF!"}},"8 - Distribuição do Valor Adicionado","8.3.1 - Aluguéis"]
["8.4 - Remuneração de Capital Próprio",null,"8 - Distribuição do Valor Adicionado","8.4 - Remuneração de Capital Próprio"]
["8.4.1 Resultado do Exercício",null,"8 - Distribuição do Valor Adicionado","8.4.1 Resultado do Exercício"]