{"text_format":"1","workbook":"xlsx","n_sheets":6,"sheets":["BP","DR","DFC","DVA","DMPL","--"],"not_rendered":{"charts":0,"images":0,"macros":1,"external_links":0,"defined_names":2,"comments":0,"pivot_tables":0},"unopened":[],"bounds":{"document_bytes":16777216,"sheet_cells":100000,"rows_first":2000,"rows_last":500,"rows_between":2000,"halvings":0,"cell_chars":16384,"cell_head_chars":4096},"cells_cut":0,"cells_raw":0,"read":"whole","date_system":"1900"}

{"sheet":"BP","index":0,"n_rows":56,"n_cols":8,"rows_kept":56,"cut":false,"hidden":false,"merged":[[0,1,0,7],[3,1,3,4],[1,6,1,7],[30,6,30,7]]}
[null,"EBSERH - EMPRESA BRASILEIRA DE SERVIÇOS HOSPITALARES"]
[null,"Balanço Patrimonial Consolidado ",null,null,null,null,"30 de Junho de 2021"]
[null,"Em reais"]
[null,"ATIVO ",null,null,null,"NOTA","30.06.2021","31.12.2020"]
[null,"CIRCULANTE",null,null,null,"1.1",2337244364.2800002,1137165231.4200001]
[null,null,"Caixa e Equivalentes de Caixa",null,null,"1.1.1",1031248419.0699999,745556301.51999998]
[null,null,"Valores a Curto Prazo - SUS",null,null,"1.1.2",15968970.970000001,35011916.130000003]
[null,null,"Subvenção de Custeio SUS a Receber",null,null,"1.1.3",775826501.6400001,0]
[null,null,"Adiantamentos e Créditos a Receber",null,null,"1.1.4",160730453.25999999,17233041.32]
[null,null,"Estoques",null,null,"1.1.5",353470019.33999997,339363972.45000005]
[null,null,"Valores em Liquidação",null,null,null,0,0]
[null,"NÃO CIRCULANTE",null,null,null,"1.2",649203958.99796295,557949458.56107235]
[null,null,"Valores a Receber",null,null,null,0,0]
[null,null,"Depósitos Judiciais",null,null,"1.2.1",16818343.100000001,14350674.620000001]
[null,null,"Outras Despesas Antecipadas",null,null,"1.2.2","Fora do Siafi",0]
[null,null,"Imobilizado",null,null,"1.2.2",567832523.35661352,483557905.12281001]
[null,null,null,"Bens Móveis",null,"1.2.2.1",638520641.15661347,529446242.16281003]
[null,null,null,null,"Depreciação Bens Móveis","1.2.2.4",-110707312.63,-93914863.650000006]
[null,null,null,null,"Redução a Valor Recup. De Imobilizado","1.2.3",-6165879.6399999997,-6165879.6399999997]
[null,null,null,"Bens Imóveis",null,"1.2.2.2",46445325.32,54348047.870000005]
[null,null,null,null,"Depreciação Bens Imóveis","1.2.2.4",-260250.85,-155641.62]
[null,null,"Intangível",null,null,"1.2.4",64553092.541349456,60040878.818262339]
[null,null,null,"Direito de uso de Imóvel",null,"1.2.2.3",24307287.441349458,17595220.848262332]
[null,null,null,"Softwares",null,"1.2.4",54358618.459999993,53609751.030000001]
[null,null,null,"Amortização Bens Intangíveis",null,"1.2.4",-11432296.949999999,-8483576.6500000004]
[null,null,null,"Redução a Valor Recup. De Intangível",null,"1.2.3",-2680516.41,-2680516.41]
[null,"TOTAL DO ATIVO",null,null,null,null,2986448323.2779632,1695114689.9810724]
[null,"As notas explicativas da Administração são parte integrante das demonstrações contábeis consolidadas"]
[]
[null,"EBSERH - EMPRESA BRASILEIRA DE SERVIÇOS HOSPITALARES"]
[null,"Balanço Patrimonial Consolidado ",null,null,null,null,"30 de Junho de 2021"]
[null,"Em reais"]
[null,"PASSIVO",null,null,null,"NOTA","30.06.2021","31.12.2020"]
[null,"CIRCULANTE",null,null,null,"2.1",2684013882.8599997,1380827645.6899998]
[null,null,"Obrigações Trabalhistas a Pagar",null,null,"2.1.1",1157080592.3,797144112.3499999]
[null,null,"Fornecedores e Contas a Pagar a Curto Prazo",null,null,"2.1.2",116111389.78999999,73206580.730000004]
[null,null,"Retenções de Impostos, Contribuições",null,null,"2.1.3",16371807,3198014.0700000003]
[null,null,"Obrigações Transitórias a Curto Prazo",null,null,"2.1.4",23172858.219999995,41167984.559999995]
[null,null,"Subvenção a Realizar",null,null,"2.1.5",1371277235.55,466110953.97999984]
[null,"NÃO CIRCULANTE",null,null,null,null,241751245.25796282,259788383.65107247]
[null,null,"Contratos de Arrendamento a Pagar",null,null,"2.2",128901572.33796281,139811358.78107247]
[null,null,"Contingência para Indenizações Trabalhistas",null,null,"2.3",88112044.239999995,93987246.769999996]
[null,null,"Contingência para Indenizações Cíveis",null,null,"2.3",24737628.68,25989778.100000001]
[null,null,"Adiantamento Para Futuro Aumento de Capital - AFAC",null,null,"2.4",0,0]
[null,"PATRIMÔNIO LÍQUIDO",null,null,null,"2.4",60683195.160000324,54498660.639998734]
[null,null,"Capital Social Realizado",null,null,"2.4  a)",381384237.75,381384237.75]
[null,null,"Adiantamento Para Futuro Aumento de Capital - AFAC",null,null,"2.4 b)",287465305.41000003,202658776.91]
[null,null,"Ajustes de Avaliação Patrimonial de Ativos",null,null,"2.4 c)",0,383667.75]
[null,null,"Resultados Acumulados",null,null,"2.4.1",-608166347.99999976,-529928021.77000123]
[null,null,null,"Prejuizos Acumulados de Exer. Anteriores",null,null,-529544354.01999998,-512557193.87]
[null,null,null,"Ajustes de Exercícios Anteriores",null,"2.5.4",-1430983.78,-3651055.2000004598]
[null,null,null,"Resultado do Exercício",null,"2.5.5",-77191010.199999809,-13719772.700000763]
[null,"TOTAL DO PASSIVO",null,null,null,null,2986448323.2779627,1695114689.981071]
[null,"As notas explicativas da Administração são parte integrante das Demonstrações Contábeis Consolidadas"]
[]
[null,null,null,null,null,null,null,{"$f":"H27-H53","v":0}]

{"sheet":"DR","index":1,"n_rows":51,"n_cols":16,"rows_kept":51,"cut":false,"hidden":false,"merged":[[38,1,38,8],[25,1,25,3],[26,1,26,3],[29,1,29,3],[33,1,33,3],[35,1,35,3],[37,1,37,3],[3,1,3,3],[0,1,0,8],[30,1,30,3],[16,2,16,3],[19,2,19,3],[7,1,7,3],[22,2,22,3],[24,2,24,3],[8,2,8,3],[13,2,13,3],[1,6,1,8]]}
[null,"EBSERH - EMPRESA BRASILEIRA DE SERVIÇOS HOSPITALARES"]
[null,"Demonstração do Resultado",null,null,null,null,"30 de Junho de 2021"]
[null,"Em reais"]
[null,"DESCRIÇÃO",null,null,"Nota","  01.04.2021                          a                 30.06.2021"," 01.01.2021                          a                30.06.2021","01.04.2020                             a                  30.06.2020","01.01.2020                             a                  30.06.2020"]
[null,"Receita Bruta",null,null,"3.1",29536473.239999995,63560835.079999998,25813408.989999995,42432612.829999998]
[null,null,"Receita com Serviços",null,null,29536473.239999995,63560835.079999998,25813408.989999995,42432612.829999998]
[null,null,null,"Receita de Serviços e Exploração","3.1.1",29536473.239999995,63560835.079999998,25813408.989999995,42432612.829999998]
[null,"Despesas Operacionais",null,null,"3.3",-2155842009.8899994,-4118205365.8099995,-1898048507.8199999,-3446716277.9700003]
[null,null,"Despesa com Pessoal, Encargos e Benefícios",null,"3.3.1",-1514207525.6000001,-2911085363.1700001,-1481868147.6199999,-2575972764.8600001]
[null,null,null,"Remuneração a Pessoal","3.3.2",-1085056526.1700001,-2086801234.0600002,-996043795.77999997,-1807679201.25]
[null,null,null,"Encargos Patronais","3.3.3",-338418361.90000004,-648576824.25999999,-376544192.75999999,-635971980.91999996]
[null,null,null,"Benefícios a Pessoal","3.3.4",-84881661.719999984,-165991911.01999998,-107595900.34999999,-128560414.95999999]
[null,null,null,"Outras Despesas com Pessoal e Encargos","3.3.5",-5850975.8100000005,-9715393.8300000001,-1684258.7300000004,-3761167.7300000004]
[null,null,"Despesa com Uso de Bens e Serviços",null,null,-627939949.79999983,-1182312445.5199997,-406687550.32000005,-845248860.9000001]
[null,null,null,"Uso de Material de Consumo","3.3.6",-307234573.14999998,-565746305.95999992,-184777350.77000004,-348766656.87000006]
[null,null,null,"Serviços Tomados","3.3.7",-320705376.64999992,-616566139.55999982,-221910199.55000001,-496482204.03000003]
[null,null,"Despesa com Bens Móveis, Imóveis e Intangíveis",null,null,-10872401.73,-20893749.199999999,-8578976.9900000002,-15583013.09]
[null,null,null,"Depreciação, Amortização e Impairment","3.3.8",-10497157.029999999,-20210723.809999999,-8574033,-15489700]
[null,null,null,"Perdas Involuntárias e Desfazimentos","3.3.9",-375244.7,-683025.39,-4943.9899999999907,-93313.09]
[null,null,"Contingência para Riscos Fiscais",null,"3.3.10",-1880677.33,-1880677.33,0,-1408298.82]
[null,null,null,"Contigência para Riscos Fiscais Trabalhistas",null,-1880677.33,-1880677.33,0,-1408298.82]
[null,null,null,"Contigência para Riscos Fiscais Cíveis",null,0,0,0,0]
[null,null,"Despesas Tributárias",null,"3.3.11",-308195.89999999991,-807393.41999999993,-239399.02000000002,-508634.06]
[null,null,null,"Impostos, Taxas e Contribuições",null,-308195.89999999991,-807393.41999999993,-239399.02000000002,-508634.06]
[null,null,"Outras Despesas Operacionais",null,"3.3.12",-633259.52999999991,-1225737.17,-674433.87000000011,-7994706.2400000002]
[null,"Resultado Antes das Rec./Desp. Financeiras",null,null,null,-2126305536.6499994,-4054644530.7299995,-1872235098.8299999,-3404283665.1400003]
[null,"Resultados Financeiros",null,null,null,408274.52000000014,487891.87000000011,2240113.38,3178633.45]
[null,null,null,"Receitas Financeiras","3.3.13",496679.9200000001,657028.2300000001,2804068.2199999997,4034490.98]
[null,null,null,"Despesas Financeiras","3.3.14",-88405.4,-169136.36,-563954.84000000008,-855857.53]
[null,"Resultado antes da Subvenção do Tesouro Nacional",null,null,"3.3.15",-2125897262.1299994,-4054156638.8599997,-1869994985.4499998,-3401105031.6900005]
[null,"Subvenção do Tesouro Nacional",null,null,"3.3.16",2113336060.3200006,3976965628.6599998,1867475508.3800001,3390746810.48]
[null,null,null,"Subvenção do Tesouro Nacional",null,1688459150.5800009,3154553993.0900002,1484736782.5,2640024403.6300001]
[null,null,null,"Subvenção de Custeio SUS",null,424876909.74000001,822411635.56999993,382738725.88,750722406.85000002]
[null,"Resultado antes da Cont. Social Sobre o Lúcro Líquido",null,null,"3.3.17",-12561201.809998751,-77191010.199999809,-2519477.0699996948,-10358221.210000515]
[null,null,null,"Provisão Contribuição Social",null,0,0,0,0]
[null,"Resultado antes do Imposto de Renda",null,null,null,-12561201.809998751,-77191010.199999809,-2519477.0699996948,-10358221.210000515]
[null,null,null,"Provisão para Imposto de Renda",null,0,0,0,0]
[null,"Resultado do Exercício",null,null,"3.3.19",-12561201.809998751,-77191010.199999809,-2519477.0699996948,-10358221.210000515]
[null,"As notas explicativas da Administração são parte integrante das Demonstrações Contábeis Consolidadas"]
[]
[]
[]
[null,null,null,null,null,null,null,null,null,null,null,"Despesa indedutível da Base IR",null,{"$f":"0.15","v":0.15},{"$f":"N43*M44","v":{"$error":"#REF!"}},"IR Sobre a Base"]
[null,null,null,null,null,null,null,null,null,null,null,"Base de IR",{"$f":"#REF!-M43","v":{"$error":"#REF!"}},0.1,{"$f":"N44*M46","v":{"$error":"#REF!"}},"Adicional IR"]
[null,null,null,null,null,null,null,null,null,null,null,"Percentual Isento",60000,0.09,{"$f":"M44*N45","v":{"$error":"#REF!"}},"CSLL a Recolher"]
[null,null,null,null,null,null,null,null,null,null,null,null,{"$f":"M44-M45","v":{"$error":"#REF!"}},null,{"$f":"O43+O44","v":{"$error":"#REF!"}},"Total de IR Apurado"]
[null,null,null,null,null,null,"Prejuízo Acumulado",null,null,512557193.87,null,null,null,0.3,{"$f":"O46*N47","v":{"$error":"#REF!"}},"Compensação de Prejuízo Fiscal Acumulado"]
[null,null,null,null,null,null,"30% Base de Calculo",null,null,{"$f":"J47*0.3","v":153767158.16099998}]
[null,null,null,null,null,null,null,null,null,null,null,null,null,null,{"$f":"O46-O47","v":{"$error":"#REF!"}},"IR a Recolher"]
[null,null,null,null,null,null,null,null,null,{"$f":"J48-O47","v":{"$error":"#REF!"}},null,null,null,null,{"$f":"O45","v":{"$error":"#REF!"}},"CSLL a Recolher"]
[null,null,null,null,null,null,null,null,null,null,null,null,null,null,{"$f":"O49+O50","v":{"$error":"#REF!"}},"Total"]

{"sheet":"DFC","index":2,"n_rows":50,"n_cols":12,"rows_kept":50,"cut":false,"hidden":false,"merged":[[0,0,0,6],[1,10,1,11],[5,8,5,9],[0,8,0,11]]}
["Organizador de DFC",null,null,null,null,null,null,null,"EBSERH - EMPRESA BRASILEIRA DE SERVIÇOS HOSPITALARES"]
["Grupo","Conta Contábil","Valor Fechamento","Valor anterior","Análise","Regra","Δ Variação",null,"Demonstração do Fluxo de Caixa - Método Indireto",null,"30 de Junho de 2021"]
[null,null,null,null,null,null,null,null,"Em reais"]
["Passivo-C","Resultado do Exercício",{"$f":"IFERROR(IFERROR(IFERROR(INDEX(BP!B:H,MATCH(B4,BP!C:C,0),6),INDEX(BP!B:H,MATCH(B4,BP!D:D,0),6)),INDEX(BP!B:H,MATCH(B4,BP!E:E,0),6)),\"\")","v":-77191010.199999809},{"$f":"IFERROR(IFERROR(IFERROR(INDEX(BP!B:H,MATCH(B4,BP!C:C,0),7),INDEX(BP!B:H,MATCH(B4,BP!D:D,0),7)),INDEX(BP!B:H,MATCH(B4,BP!E:E,0),7)),\"\")","v":-13719772.700000763},{"$f":"IF(A4=\"\",\"\",IF(C4>D4,\"Aumento em\",\"Redução em\"))","v":"Redução em"},{"$f":"IF(A4=\"\",\"\",IF(AND(LEFT(A4,5)=\"Ativo\",C4>D4),\"(-)\",IF(AND(LEFT(A4,5)=\"Ativo\",C4<D4),\"(+)\",IF(AND(LEFT(A4,7)=\"Passivo\",C4>D4),\"(+)\",IF(AND(LEFT(A4,7)=\"Passivo\",C4<D4),\"(-)\",\"-\")))))","v":"(-)"},{"$f":"IFERROR(IF(C4-D4>=0,C4-D4,(C4-D4)*-1),\"\")","v":63471237.499999046},null,"DESCRIÇÃO",null," 01.01.2021                          a                30.06.2021","01.01.2020                             a                  30.06.2020"]
[{"$f":"IF(LEFT(#REF!,7)=\"Despesa\",\"\",IF(LEFT(#REF!,7)=\"Receita\",\"\",#REF!))","v":{"$error":"#REF!"}},{"$f":"IF(LEFT(A5,7)=\"Despesa\",\"\",IF(LEFT(A5,7)=\"Receita\",\"\",IF(A5=\"\",\"\",#REF!)))","v":{"$error":"#REF!"}},{"$f":"IFERROR(IFERROR(IFERROR(INDEX(BP!B:H,MATCH(B5,BP!C:C,0),6),INDEX(BP!B:H,MATCH(B5,BP!D:D,0),6)),INDEX(BP!B:H,MATCH(B5,BP!E:E,0),6)),\"\")","v":""},{"$f":"IFERROR(IFERROR(IFERROR(INDEX(BP!B:H,MATCH(B5,BP!C:C,0),7),INDEX(BP!B:H,MATCH(B5,BP!D:D,0),7)),INDEX(BP!B:H,MATCH(B5,BP!E:E,0),7)),\"\")","v":""},{"$f":"IF(A5=\"\",\"\",IF(C5>D5,\"Aumento em\",\"Redução em\"))","v":{"$error":"#REF!"}},{"$error":"#REF!"},{"$f":"IFERROR(IF(C5-D5>=0,C5-D5,(C5-D5)*-1),\"\")","v":""},null,"FLUXO DE CAIXA DAS ATIVIDADES OPERACIONAIS"]
[{"$f":"IF(LEFT(#REF!,7)=\"Despesa\",\"\",IF(LEFT(#REF!,7)=\"Receita\",\"\",#REF!))","v":{"$error":"#REF!"}},{"$f":"IF(LEFT(A6,7)=\"Despesa\",\"\",IF(LEFT(A6,7)=\"Receita\",\"\",IF(A6=\"\",\"\",#REF!)))","v":{"$error":"#REF!"}},{"$f":"IFERROR(IFERROR(IFERROR(INDEX(BP!B:H,MATCH(B6,BP!C:C,0),6),INDEX(BP!B:H,MATCH(B6,BP!D:D,0),6)),INDEX(BP!B:H,MATCH(B6,BP!E:E,0),6)),\"\")","v":""},{"$f":"IFERROR(IFERROR(IFERROR(INDEX(BP!B:H,MATCH(B6,BP!C:C,0),7),INDEX(BP!B:H,MATCH(B6,BP!D:D,0),7)),INDEX(BP!B:H,MATCH(B6,BP!E:E,0),7)),\"\")","v":""},{"$f":"IF(A6=\"\",\"\",IF(C6>D6,\"Aumento em\",\"Redução em\"))","v":{"$error":"#REF!"}},{"$error":"#REF!"},{"$f":"IF(F6=\"(-)\",IFERROR(IF(C6-D6>=0,C6-D6,(C6-D6)*-1),\"\")*-1,IFERROR(IF(C6-D6>=0,C6-D6,(C6-D6)*-1),\"\"))","v":{"$error":"#REF!"}},null,"Resultado do Exercício",null,-77191010.199999809,-10358221.210000515]
[{"$f":"IF(LEFT(#REF!,7)=\"Despesa\",\"\",IF(LEFT(#REF!,7)=\"Receita\",\"\",#REF!))","v":{"$error":"#REF!"}},{"$f":"IF(LEFT(A7,7)=\"Despesa\",\"\",IF(LEFT(A7,7)=\"Receita\",\"\",IF(A7=\"\",\"\",#REF!)))","v":{"$error":"#REF!"}},{"$f":"IFERROR(IFERROR(IFERROR(INDEX(BP!B:H,MATCH(B7,BP!C:C,0),6),INDEX(BP!B:H,MATCH(B7,BP!D:D,0),6)),INDEX(BP!B:H,MATCH(B7,BP!E:E,0),6)),\"\")","v":""},{"$f":"IFERROR(IFERROR(IFERROR(INDEX(BP!B:H,MATCH(B7,BP!C:C,0),7),INDEX(BP!B:H,MATCH(B7,BP!D:D,0),7)),INDEX(BP!B:H,MATCH(B7,BP!E:E,0),7)),\"\")","v":""},{"$f":"IF(A7=\"\",\"\",IF(C7>D7,\"Aumento em\",\"Redução em\"))","v":{"$error":"#REF!"}},{"$error":"#REF!"},{"$error":"#REF!"},null,"Ajustes de Exercícios Anteriores",null,-1430983.7799999714,378604430.45999998]
[{"$f":"IF(LEFT(#REF!,7)=\"Despesa\",\"\",IF(LEFT(#REF!,7)=\"Receita\",\"\",#REF!))","v":{"$error":"#REF!"}},{"$f":"IF(LEFT(A8,7)=\"Despesa\",\"\",IF(LEFT(A8,7)=\"Receita\",\"\",IF(A8=\"\",\"\",#REF!)))","v":{"$error":"#REF!"}},{"$f":"IFERROR(IFERROR(IFERROR(INDEX(BP!B:H,MATCH(B8,BP!C:C,0),6),INDEX(BP!B:H,MATCH(B8,BP!D:D,0),6)),INDEX(BP!B:H,MATCH(B8,BP!E:E,0),6)),\"\")","v":""},{"$f":"IFERROR(IFERROR(IFERROR(INDEX(BP!B:H,MATCH(B8,BP!C:C,0),7),INDEX(BP!B:H,MATCH(B8,BP!D:D,0),7)),INDEX(BP!B:H,MATCH(B8,BP!E:E,0),7)),\"\")","v":""},{"$error":"#REF!"},{"$error":"#REF!"},{"$error":"#REF!"},null,"Depreciação e Amortização",null,19845778.50999999,15218450.26]
[{"$f":"IF(LEFT(#REF!,7)=\"Despesa\",\"\",IF(LEFT(#REF!,7)=\"Receita\",\"\",#REF!))","v":{"$error":"#REF!"}},{"$f":"IF(LEFT(A9,7)=\"Despesa\",\"\",IF(LEFT(A9,7)=\"Receita\",\"\",IF(A9=\"\",\"\",#REF!)))","v":{"$error":"#REF!"}},{"$f":"IFERROR(IFERROR(IFERROR(INDEX(BP!B:H,MATCH(B9,BP!C:C,0),6),INDEX(BP!B:H,MATCH(B9,BP!D:D,0),6)),INDEX(BP!B:H,MATCH(B9,BP!E:E,0),6)),\"\")","v":""},{"$f":"IFERROR(IFERROR(IFERROR(INDEX(BP!B:H,MATCH(B9,BP!C:C,0),7),INDEX(BP!B:H,MATCH(B9,BP!D:D,0),7)),INDEX(BP!B:H,MATCH(B9,BP!E:E,0),7)),\"\")","v":""},{"$error":"#REF!"},{"$error":"#REF!"},{"$error":"#REF!"},null,"Redução a Valor Recup. De Intangível",null,null,0]
[{"$f":"IF(LEFT(#REF!,7)=\"Despesa\",\"\",IF(LEFT(#REF!,7)=\"Receita\",\"\",#REF!))","v":{"$error":"#REF!"}},{"$f":"IF(LEFT(A10,7)=\"Despesa\",\"\",IF(LEFT(A10,7)=\"Receita\",\"\",IF(A10=\"\",\"\",#REF!)))","v":{"$error":"#REF!"}},{"$f":"IFERROR(IFERROR(IFERROR(INDEX(BP!B:H,MATCH(B10,BP!C:C,0),6),INDEX(BP!B:H,MATCH(B10,BP!D:D,0),6)),INDEX(BP!B:H,MATCH(B10,BP!E:E,0),6)),\"\")","v":""},{"$f":"IFERROR(IFERROR(IFERROR(INDEX(BP!B:H,MATCH(B10,BP!C:C,0),7),INDEX(BP!B:H,MATCH(B10,BP!D:D,0),7)),INDEX(BP!B:H,MATCH(B10,BP!E:E,0),7)),\"\")","v":""},{"$error":"#REF!"},{"$error":"#REF!"},{"$error":"#REF!"},null,"Ajustes de Avaliação Patrimonial de Ativos",null,383667.75,0]
[{"$f":"IF(LEFT(#REF!,7)=\"Despesa\",\"\",IF(LEFT(#REF!,7)=\"Receita\",\"\",#REF!))","v":{"$error":"#REF!"}},{"$f":"IF(LEFT(A11,7)=\"Despesa\",\"\",IF(LEFT(A11,7)=\"Receita\",\"\",IF(A11=\"\",\"\",#REF!)))","v":{"$error":"#REF!"}},{"$f":"IFERROR(IFERROR(IFERROR(INDEX(BP!B:H,MATCH(B11,BP!C:C,0),6),INDEX(BP!B:H,MATCH(B11,BP!D:D,0),6)),INDEX(BP!B:H,MATCH(B11,BP!E:E,0),6)),\"\")","v":""},{"$f":"IFERROR(IFERROR(IFERROR(INDEX(BP!B:H,MATCH(B11,BP!C:C,0),7),INDEX(BP!B:H,MATCH(B11,BP!D:D,0),7)),INDEX(BP!B:H,MATCH(B11,BP!E:E,0),7)),\"\")","v":""},{"$error":"#REF!"},{"$error":"#REF!"},{"$error":"#REF!"},null,"Ajustes de Avaliação Patrimonial de Ativos",null,-383667.75,0]
[null,null,null,null,null,null,null,null,"AFAC - PL"]
[{"$f":"IF(LEFT(#REF!,7)=\"Despesa\",\"\",IF(LEFT(#REF!,7)=\"Receita\",\"\",#REF!))","v":{"$error":"#REF!"}},{"$f":"IF(LEFT(A13,7)=\"Despesa\",\"\",IF(LEFT(A13,7)=\"Receita\",\"\",IF(A13=\"\",\"\",#REF!)))","v":{"$error":"#REF!"}},{"$f":"IFERROR(IFERROR(IFERROR(INDEX(BP!B:H,MATCH(B13,BP!C:C,0),6),INDEX(BP!B:H,MATCH(B13,BP!D:D,0),6)),INDEX(BP!B:H,MATCH(B13,BP!E:E,0),6)),\"\")","v":""},{"$f":"IFERROR(IFERROR(IFERROR(INDEX(BP!B:H,MATCH(B13,BP!C:C,0),7),INDEX(BP!B:H,MATCH(B13,BP!D:D,0),7)),INDEX(BP!B:H,MATCH(B13,BP!E:E,0),7)),\"\")","v":""},{"$error":"#REF!"},{"$error":"#REF!"},{"$error":"#REF!"},null,"Resultado do Exercício Ajustado",null,-58776215.46999979,383464659.50999945]
[{"$f":"IF(LEFT(#REF!,7)=\"Despesa\",\"\",IF(LEFT(#REF!,7)=\"Receita\",\"\",#REF!))","v":{"$error":"#REF!"}},{"$f":"IF(LEFT(A14,7)=\"Despesa\",\"\",IF(LEFT(A14,7)=\"Receita\",\"\",IF(A14=\"\",\"\",#REF!)))","v":{"$error":"#REF!"}},{"$f":"IFERROR(IFERROR(IFERROR(INDEX(BP!B:H,MATCH(B14,BP!C:C,0),6),INDEX(BP!B:H,MATCH(B14,BP!D:D,0),6)),INDEX(BP!B:H,MATCH(B14,BP!E:E,0),6)),\"\")","v":""},{"$f":"IFERROR(IFERROR(IFERROR(INDEX(BP!B:H,MATCH(B14,BP!C:C,0),7),INDEX(BP!B:H,MATCH(B14,BP!D:D,0),7)),INDEX(BP!B:H,MATCH(B14,BP!E:E,0),7)),\"\")","v":""},{"$error":"#REF!"},{"$error":"#REF!"},{"$error":"#REF!"},null,"Variações Patrimoniais",null,453100943.48689067,102575851.21397543]
[{"$f":"IF(LEFT(#REF!,7)=\"Despesa\",\"\",IF(LEFT(#REF!,7)=\"Receita\",\"\",#REF!))","v":{"$error":"#REF!"}},{"$f":"IF(LEFT(A15,7)=\"Despesa\",\"\",IF(LEFT(A15,7)=\"Receita\",\"\",IF(A15=\"\",\"\",#REF!)))","v":{"$error":"#REF!"}},{"$f":"IFERROR(IFERROR(IFERROR(INDEX(BP!B:H,MATCH(B15,BP!C:C,0),6),INDEX(BP!B:H,MATCH(B15,BP!D:D,0),6)),INDEX(BP!B:H,MATCH(B15,BP!E:E,0),6)),\"\")","v":""},{"$f":"IFERROR(IFERROR(IFERROR(INDEX(BP!B:H,MATCH(B15,BP!C:C,0),7),INDEX(BP!B:H,MATCH(B15,BP!D:D,0),7)),INDEX(BP!B:H,MATCH(B15,BP!E:E,0),7)),\"\")","v":""},{"$error":"#REF!"},{"$error":"#REF!"},{"$error":"#REF!"},null,"Aumento em","Subvenção de Custeio SUS a Receber",-775826501.6400001,-771577768.69000006]
[{"$f":"IF(LEFT(#REF!,7)=\"Despesa\",\"\",IF(LEFT(#REF!,7)=\"Receita\",\"\",#REF!))","v":{"$error":"#REF!"}},{"$f":"IF(LEFT(A16,7)=\"Despesa\",\"\",IF(LEFT(A16,7)=\"Receita\",\"\",IF(A16=\"\",\"\",#REF!)))","v":{"$error":"#REF!"}},{"$f":"IFERROR(IFERROR(IFERROR(INDEX(BP!B:H,MATCH(B16,BP!C:C,0),6),INDEX(BP!B:H,MATCH(B16,BP!D:D,0),6)),INDEX(BP!B:H,MATCH(B16,BP!E:E,0),6)),\"\")","v":""},{"$f":"IFERROR(IFERROR(IFERROR(INDEX(BP!B:H,MATCH(B16,BP!C:C,0),7),INDEX(BP!B:H,MATCH(B16,BP!D:D,0),7)),INDEX(BP!B:H,MATCH(B16,BP!E:E,0),7)),\"\")","v":""},{"$error":"#REF!"},{"$error":"#REF!"},{"$error":"#REF!"},null,"Redução em","Valores a Curto Prazo - SUS",19042945.160000004,10584849.90000001]
[{"$f":"IF(LEFT(#REF!,7)=\"Despesa\",\"\",IF(LEFT(#REF!,7)=\"Receita\",\"\",#REF!))","v":{"$error":"#REF!"}},{"$f":"IF(LEFT(A17,7)=\"Despesa\",\"\",IF(LEFT(A17,7)=\"Receita\",\"\",IF(A17=\"\",\"\",#REF!)))","v":{"$error":"#REF!"}},{"$f":"IFERROR(IFERROR(IFERROR(INDEX(BP!B:H,MATCH(B17,BP!C:C,0),6),INDEX(BP!B:H,MATCH(B17,BP!D:D,0),6)),INDEX(BP!B:H,MATCH(B17,BP!E:E,0),6)),\"\")","v":""},{"$f":"IFERROR(IFERROR(IFERROR(INDEX(BP!B:H,MATCH(B17,BP!C:C,0),7),INDEX(BP!B:H,MATCH(B17,BP!D:D,0),7)),INDEX(BP!B:H,MATCH(B17,BP!E:E,0),7)),\"\")","v":""},{"$error":"#REF!"},{"$error":"#REF!"},{"$error":"#REF!"},null,"Aumento em","Adiantamentos e Créditos a Receber",-143497411.94,-114218237.46000001]
[{"$f":"IF(LEFT(#REF!,7)=\"Despesa\",\"\",IF(LEFT(#REF!,7)=\"Receita\",\"\",#REF!))","v":{"$error":"#REF!"}},{"$f":"IF(LEFT(A18,7)=\"Despesa\",\"\",IF(LEFT(A18,7)=\"Receita\",\"\",IF(A18=\"\",\"\",#REF!)))","v":{"$error":"#REF!"}},{"$f":"IFERROR(IFERROR(IFERROR(INDEX(BP!B:H,MATCH(B18,BP!C:C,0),6),INDEX(BP!B:H,MATCH(B18,BP!D:D,0),6)),INDEX(BP!B:H,MATCH(B18,BP!E:E,0),6)),\"\")","v":""},{"$f":"IFERROR(IFERROR(IFERROR(INDEX(BP!B:H,MATCH(B18,BP!C:C,0),7),INDEX(BP!B:H,MATCH(B18,BP!D:D,0),7)),INDEX(BP!B:H,MATCH(B18,BP!E:E,0),7)),\"\")","v":""},{"$error":"#REF!"},{"$error":"#REF!"},{"$error":"#REF!"},null,"Aumento em","Estoques",-14106046.889999926,-102530893.61000001]
[{"$f":"IF(LEFT(#REF!,7)=\"Despesa\",\"\",IF(LEFT(#REF!,7)=\"Receita\",\"\",#REF!))","v":{"$error":"#REF!"}},{"$f":"IF(LEFT(A19,7)=\"Despesa\",\"\",IF(LEFT(A19,7)=\"Receita\",\"\",IF(A19=\"\",\"\",#REF!)))","v":{"$error":"#REF!"}},{"$f":"IFERROR(IFERROR(IFERROR(INDEX(BP!B:H,MATCH(B19,BP!C:C,0),6),INDEX(BP!B:H,MATCH(B19,BP!D:D,0),6)),INDEX(BP!B:H,MATCH(B19,BP!E:E,0),6)),\"\")","v":""},{"$f":"IFERROR(IFERROR(IFERROR(INDEX(BP!B:H,MATCH(B19,BP!C:C,0),7),INDEX(BP!B:H,MATCH(B19,BP!D:D,0),7)),INDEX(BP!B:H,MATCH(B19,BP!E:E,0),7)),\"\")","v":""},{"$error":"#REF!"},{"$error":"#REF!"},{"$error":"#REF!"},null,"Auumento em","Outras Despesas Antecipadas",0,-11159.52]
[{"$f":"IF(LEFT(#REF!,7)=\"Despesa\",\"\",IF(LEFT(#REF!,7)=\"Receita\",\"\",#REF!))","v":{"$error":"#REF!"}},{"$f":"IF(LEFT(A20,7)=\"Despesa\",\"\",IF(LEFT(A20,7)=\"Receita\",\"\",IF(A20=\"\",\"\",#REF!)))","v":{"$error":"#REF!"}},{"$f":"IFERROR(IFERROR(IFERROR(INDEX(BP!B:H,MATCH(B20,BP!C:C,0),6),INDEX(BP!B:H,MATCH(B20,BP!D:D,0),6)),INDEX(BP!B:H,MATCH(B20,BP!E:E,0),6)),\"\")","v":""},{"$f":"IFERROR(IFERROR(IFERROR(INDEX(BP!B:H,MATCH(B20,BP!C:C,0),7),INDEX(BP!B:H,MATCH(B20,BP!D:D,0),7)),INDEX(BP!B:H,MATCH(B20,BP!E:E,0),7)),\"\")","v":""},{"$error":"#REF!"},{"$error":"#REF!"},{"$error":"#REF!"},null,"Aumento em","Depósitos Judiciais",-2467668.4800000004,-3987999.8100000005]
[{"$f":"IF(LEFT(#REF!,7)=\"Despesa\",\"\",IF(LEFT(#REF!,7)=\"Receita\",\"\",#REF!))","v":{"$error":"#REF!"}},{"$f":"IF(LEFT(A21,7)=\"Despesa\",\"\",IF(LEFT(A21,7)=\"Receita\",\"\",IF(A21=\"\",\"\",#REF!)))","v":{"$error":"#REF!"}},{"$f":"IFERROR(IFERROR(IFERROR(INDEX(BP!B:H,MATCH(B21,BP!C:C,0),6),INDEX(BP!B:H,MATCH(B21,BP!D:D,0),6)),INDEX(BP!B:H,MATCH(B21,BP!E:E,0),6)),\"\")","v":""},{"$f":"IFERROR(IFERROR(IFERROR(INDEX(BP!B:H,MATCH(B21,BP!C:C,0),7),INDEX(BP!B:H,MATCH(B21,BP!D:D,0),7)),INDEX(BP!B:H,MATCH(B21,BP!E:E,0),7)),\"\")","v":""},{"$error":"#REF!"},{"$error":"#REF!"},{"$error":"#REF!"},null,"Aumento em","Obrigações Trabalhistas a Pagar",359936479.95000005,360239329.42080009]
[{"$f":"IF(LEFT(#REF!,7)=\"Despesa\",\"\",IF(LEFT(#REF!,7)=\"Receita\",\"\",#REF!))","v":{"$error":"#REF!"}},{"$f":"IF(LEFT(A22,7)=\"Despesa\",\"\",IF(LEFT(A22,7)=\"Receita\",\"\",IF(A22=\"\",\"\",#REF!)))","v":{"$error":"#REF!"}},{"$f":"IFERROR(IFERROR(IFERROR(INDEX(BP!B:H,MATCH(B22,BP!C:C,0),6),INDEX(BP!B:H,MATCH(B22,BP!D:D,0),6)),INDEX(BP!B:H,MATCH(B22,BP!E:E,0),6)),\"\")","v":""},{"$f":"IFERROR(IFERROR(IFERROR(INDEX(BP!B:H,MATCH(B22,BP!C:C,0),7),INDEX(BP!B:H,MATCH(B22,BP!D:D,0),7)),INDEX(BP!B:H,MATCH(B22,BP!E:E,0),7)),\"\")","v":""},{"$error":"#REF!"},{"$error":"#REF!"},{"$error":"#REF!"},null,"Aumento em","Fornecedores e Contas a Pagar a Curto Prazo",42904809.059999987,-44551543.070000008]
[{"$f":"IF(LEFT(#REF!,7)=\"Despesa\",\"\",IF(LEFT(#REF!,7)=\"Receita\",\"\",#REF!))","v":{"$error":"#REF!"}},{"$f":"IF(LEFT(A23,7)=\"Despesa\",\"\",IF(LEFT(A23,7)=\"Receita\",\"\",IF(A23=\"\",\"\",#REF!)))","v":{"$error":"#REF!"}},{"$f":"IFERROR(IFERROR(IFERROR(INDEX(BP!B:H,MATCH(B23,BP!C:C,0),6),INDEX(BP!B:H,MATCH(B23,BP!D:D,0),6)),INDEX(BP!B:H,MATCH(B23,BP!E:E,0),6)),\"\")","v":""},{"$f":"IFERROR(IFERROR(IFERROR(INDEX(BP!B:H,MATCH(B23,BP!C:C,0),7),INDEX(BP!B:H,MATCH(B23,BP!D:D,0),7)),INDEX(BP!B:H,MATCH(B23,BP!E:E,0),7)),\"\")","v":""},{"$error":"#REF!"},{"$error":"#REF!"},{"$error":"#REF!"},null,"Redução em","Contratos de Arrendamento a Pagar",-10909786.443109661,-6017026.9185251407]
[{"$f":"IF(LEFT(#REF!,7)=\"Despesa\",\"\",IF(LEFT(#REF!,7)=\"Receita\",\"\",#REF!))","v":{"$error":"#REF!"}},{"$f":"IF(LEFT(A24,7)=\"Despesa\",\"\",IF(LEFT(A24,7)=\"Receita\",\"\",IF(A24=\"\",\"\",#REF!)))","v":{"$error":"#REF!"}},{"$f":"IFERROR(IFERROR(IFERROR(INDEX(BP!B:H,MATCH(B24,BP!C:C,0),6),INDEX(BP!B:H,MATCH(B24,BP!D:D,0),6)),INDEX(BP!B:H,MATCH(B24,BP!E:E,0),6)),\"\")","v":""},{"$f":"IFERROR(IFERROR(IFERROR(INDEX(BP!B:H,MATCH(B24,BP!C:C,0),7),INDEX(BP!B:H,MATCH(B24,BP!D:D,0),7)),INDEX(BP!B:H,MATCH(B24,BP!E:E,0),7)),\"\")","v":""},{"$error":"#REF!"},{"$error":"#REF!"},{"$error":"#REF!"},null,"Aumento em","Retenções de Impostos, Contribuições",13173792.93,-8534923.4407999963]
[{"$f":"IF(LEFT(#REF!,7)=\"Despesa\",\"\",IF(LEFT(#REF!,7)=\"Receita\",\"\",#REF!))","v":{"$error":"#REF!"}},{"$f":"IF(LEFT(A25,7)=\"Despesa\",\"\",IF(LEFT(A25,7)=\"Receita\",\"\",IF(A25=\"\",\"\",#REF!)))","v":{"$error":"#REF!"}},{"$f":"IFERROR(IFERROR(IFERROR(INDEX(BP!B:H,MATCH(B25,BP!C:C,0),6),INDEX(BP!B:H,MATCH(B25,BP!D:D,0),6)),INDEX(BP!B:H,MATCH(B25,BP!E:E,0),6)),\"\")","v":""},{"$f":"IFERROR(IFERROR(IFERROR(INDEX(BP!B:H,MATCH(B25,BP!C:C,0),7),INDEX(BP!B:H,MATCH(B25,BP!D:D,0),7)),INDEX(BP!B:H,MATCH(B25,BP!E:E,0),7)),\"\")","v":""},{"$error":"#REF!"},{"$error":"#REF!"},{"$error":"#REF!"},null,"Redução em","Obrigações Transitórias a Curto Prazo",-17995126.34,-81096911.25999999]
[{"$f":"IF(LEFT(#REF!,7)=\"Despesa\",\"\",IF(LEFT(#REF!,7)=\"Receita\",\"\",#REF!))","v":{"$error":"#REF!"}},{"$f":"IF(LEFT(A26,7)=\"Despesa\",\"\",IF(LEFT(A26,7)=\"Receita\",\"\",IF(A26=\"\",\"\",#REF!)))","v":{"$error":"#REF!"}},{"$f":"IFERROR(IFERROR(IFERROR(INDEX(BP!B:H,MATCH(B26,BP!C:C,0),6),INDEX(BP!B:H,MATCH(B26,BP!D:D,0),6)),INDEX(BP!B:H,MATCH(B26,BP!E:E,0),6)),\"\")","v":""},{"$f":"IFERROR(IFERROR(IFERROR(INDEX(BP!B:H,MATCH(B26,BP!C:C,0),7),INDEX(BP!B:H,MATCH(B26,BP!D:D,0),7)),INDEX(BP!B:H,MATCH(B26,BP!E:E,0),7)),\"\")","v":""},{"$error":"#REF!"},{"$error":"#REF!"},{"$error":"#REF!"},null,"Redução em","Contingência para Indenizações Trabalhistas",-5875202.5300000012,-17243559]
[{"$f":"IF(LEFT(#REF!,7)=\"Despesa\",\"\",IF(LEFT(#REF!,7)=\"Receita\",\"\",#REF!))","v":{"$error":"#REF!"}},{"$f":"IF(LEFT(A27,7)=\"Despesa\",\"\",IF(LEFT(A27,7)=\"Receita\",\"\",IF(A27=\"\",\"\",#REF!)))","v":{"$error":"#REF!"}},{"$f":"IFERROR(IFERROR(IFERROR(INDEX(BP!B:H,MATCH(B27,BP!C:C,0),6),INDEX(BP!B:H,MATCH(B27,BP!D:D,0),6)),INDEX(BP!B:H,MATCH(B27,BP!E:E,0),6)),\"\")","v":""},{"$f":"IFERROR(IFERROR(IFERROR(INDEX(BP!B:H,MATCH(B27,BP!C:C,0),7),INDEX(BP!B:H,MATCH(B27,BP!D:D,0),7)),INDEX(BP!B:H,MATCH(B27,BP!E:E,0),7)),\"\")","v":""},{"$error":"#REF!"},{"$error":"#REF!"},{"$error":"#REF!"},null,"Redução em","Contingência para Indenizações Cíveis",-1252149.4200000018,-2613369.3399999961]
[{"$f":"IF(LEFT(#REF!,7)=\"Despesa\",\"\",IF(LEFT(#REF!,7)=\"Receita\",\"\",#REF!))","v":{"$error":"#REF!"}},{"$f":"IF(LEFT(A28,7)=\"Despesa\",\"\",IF(LEFT(A28,7)=\"Receita\",\"\",IF(A28=\"\",\"\",#REF!)))","v":{"$error":"#REF!"}},{"$f":"IFERROR(IFERROR(IFERROR(INDEX(BP!B:H,MATCH(B28,BP!C:C,0),6),INDEX(BP!B:H,MATCH(B28,BP!D:D,0),6)),INDEX(BP!B:H,MATCH(B28,BP!E:E,0),6)),\"\")","v":""},{"$f":"IFERROR(IFERROR(IFERROR(INDEX(BP!B:H,MATCH(B28,BP!C:C,0),7),INDEX(BP!B:H,MATCH(B28,BP!D:D,0),7)),INDEX(BP!B:H,MATCH(B28,BP!E:E,0),7)),\"\")","v":""},{"$error":"#REF!"},{"$error":"#REF!"},{"$error":"#REF!"},null,"Aumento em","Subvenção a Realizar",905166281.57000017,1198126982.0225005]
[{"$f":"IF(LEFT(#REF!,7)=\"Despesa\",\"\",IF(LEFT(#REF!,7)=\"Receita\",\"\",#REF!))","v":{"$error":"#REF!"}},{"$f":"IF(LEFT(A29,7)=\"Despesa\",\"\",IF(LEFT(A29,7)=\"Receita\",\"\",IF(A29=\"\",\"\",#REF!)))","v":{"$error":"#REF!"}},{"$f":"IFERROR(IFERROR(IFERROR(INDEX(BP!B:H,MATCH(B29,BP!C:C,0),6),INDEX(BP!B:H,MATCH(B29,BP!D:D,0),6)),INDEX(BP!B:H,MATCH(B29,BP!E:E,0),6)),\"\")","v":""},{"$f":"IFERROR(IFERROR(IFERROR(INDEX(BP!B:H,MATCH(B29,BP!C:C,0),7),INDEX(BP!B:H,MATCH(B29,BP!D:D,0),7)),INDEX(BP!B:H,MATCH(B29,BP!E:E,0),7)),\"\")","v":""},{"$error":"#REF!"},{"$error":"#REF!"},{"$error":"#REF!"},null,"Redução em","Adiantamento Para Futuro Aumento de Capital - AFAC",84806528.50000003,-313991918.00999999]
[{"$f":"IF(LEFT(#REF!,7)=\"Despesa\",\"\",IF(LEFT(#REF!,7)=\"Receita\",\"\",#REF!))","v":{"$error":"#REF!"}},{"$f":"IF(LEFT(A30,7)=\"Despesa\",\"\",IF(LEFT(A30,7)=\"Receita\",\"\",IF(A30=\"\",\"\",#REF!)))","v":{"$error":"#REF!"}},{"$f":"IFERROR(IFERROR(IFERROR(INDEX(BP!B:H,MATCH(B30,BP!C:C,0),6),INDEX(BP!B:H,MATCH(B30,BP!D:D,0),6)),INDEX(BP!B:H,MATCH(B30,BP!E:E,0),6)),\"\")","v":""},{"$f":"IFERROR(IFERROR(IFERROR(INDEX(BP!B:H,MATCH(B30,BP!C:C,0),7),INDEX(BP!B:H,MATCH(B30,BP!D:D,0),7)),INDEX(BP!B:H,MATCH(B30,BP!E:E,0),7)),\"\")","v":""},{"$error":"#REF!"},{"$error":"#REF!"},{"$error":"#REF!"},null,"Valores a Longo Prazo - Incentivo Mais Vida",null,0,0]
[{"$f":"IF(LEFT(#REF!,7)=\"Despesa\",\"\",IF(LEFT(#REF!,7)=\"Receita\",\"\",#REF!))","v":{"$error":"#REF!"}},{"$f":"IF(LEFT(A31,7)=\"Despesa\",\"\",IF(LEFT(A31,7)=\"Receita\",\"\",IF(A31=\"\",\"\",#REF!)))","v":{"$error":"#REF!"}},{"$f":"IFERROR(IFERROR(IFERROR(INDEX(BP!B:H,MATCH(B31,BP!C:C,0),6),INDEX(BP!B:H,MATCH(B31,BP!D:D,0),6)),INDEX(BP!B:H,MATCH(B31,BP!E:E,0),6)),\"\")","v":""},{"$f":"IFERROR(IFERROR(IFERROR(INDEX(BP!B:H,MATCH(B31,BP!C:C,0),7),INDEX(BP!B:H,MATCH(B31,BP!D:D,0),7)),INDEX(BP!B:H,MATCH(B31,BP!E:E,0),7)),\"\")","v":""},{"$error":"#REF!"},{"$error":"#REF!"},{"$error":"#REF!"},null,"FLUXO DE CAIXA LÍQUIDO DAS ATIVIDADES OPERACIONAIS",null,394324728.01689088,486040510.72397488]
[{"$f":"IF(LEFT(#REF!,7)=\"Despesa\",\"\",IF(LEFT(#REF!,7)=\"Receita\",\"\",#REF!))","v":{"$error":"#REF!"}},{"$f":"IF(LEFT(A32,7)=\"Despesa\",\"\",IF(LEFT(A32,7)=\"Receita\",\"\",IF(A32=\"\",\"\",#REF!)))","v":{"$error":"#REF!"}},{"$f":"IFERROR(IFERROR(IFERROR(INDEX(BP!B:H,MATCH(B32,BP!C:C,0),6),INDEX(BP!B:H,MATCH(B32,BP!D:D,0),6)),INDEX(BP!B:H,MATCH(B32,BP!E:E,0),6)),\"\")","v":""},{"$f":"IFERROR(IFERROR(IFERROR(INDEX(BP!B:H,MATCH(B32,BP!C:C,0),7),INDEX(BP!B:H,MATCH(B32,BP!D:D,0),7)),INDEX(BP!B:H,MATCH(B32,BP!E:E,0),7)),\"\")","v":""},{"$error":"#REF!"},{"$error":"#REF!"},{"$error":"#REF!"}]
[{"$f":"IF(LEFT(#REF!,7)=\"Despesa\",\"\",IF(LEFT(#REF!,7)=\"Receita\",\"\",#REF!))","v":{"$error":"#REF!"}},{"$f":"IF(LEFT(A33,7)=\"Despesa\",\"\",IF(LEFT(A33,7)=\"Receita\",\"\",IF(A33=\"\",\"\",#REF!)))","v":{"$error":"#REF!"}},{"$f":"IFERROR(IFERROR(IFERROR(INDEX(BP!B:H,MATCH(B33,BP!C:C,0),6),INDEX(BP!B:H,MATCH(B33,BP!D:D,0),6)),INDEX(BP!B:H,MATCH(B33,BP!E:E,0),6)),\"\")","v":""},{"$f":"IFERROR(IFERROR(IFERROR(INDEX(BP!B:H,MATCH(B33,BP!C:C,0),7),INDEX(BP!B:H,MATCH(B33,BP!D:D,0),7)),INDEX(BP!B:H,MATCH(B33,BP!E:E,0),7)),\"\")","v":""},{"$error":"#REF!"},{"$error":"#REF!"},{"$error":"#REF!"},null,"FLUXO DE CAIXA DAS ATIVIDADES DE INVESTIMENTO"]
[{"$f":"IF(LEFT(#REF!,7)=\"Despesa\",\"\",IF(LEFT(#REF!,7)=\"Receita\",\"\",#REF!))","v":{"$error":"#REF!"}},{"$f":"IF(LEFT(A34,7)=\"Despesa\",\"\",IF(LEFT(A34,7)=\"Receita\",\"\",IF(A34=\"\",\"\",#REF!)))","v":{"$error":"#REF!"}},{"$f":"IFERROR(IFERROR(IFERROR(INDEX(BP!B:H,MATCH(B34,BP!C:C,0),6),INDEX(BP!B:H,MATCH(B34,BP!D:D,0),6)),INDEX(BP!B:H,MATCH(B34,BP!E:E,0),6)),\"\")","v":""},{"$f":"IFERROR(IFERROR(IFERROR(INDEX(BP!B:H,MATCH(B34,BP!C:C,0),7),INDEX(BP!B:H,MATCH(B34,BP!D:D,0),7)),INDEX(BP!B:H,MATCH(B34,BP!E:E,0),7)),\"\")","v":""},{"$error":"#REF!"},{"$error":"#REF!"},{"$error":"#REF!"},null,"Adição de Imobilizado",null,-101171676.44380343,-94227889.969271496]
[{"$f":"IF(LEFT(#REF!,7)=\"Despesa\",\"\",IF(LEFT(#REF!,7)=\"Receita\",\"\",#REF!))","v":{"$error":"#REF!"}},{"$f":"IF(LEFT(A35,7)=\"Despesa\",\"\",IF(LEFT(A35,7)=\"Receita\",\"\",IF(A35=\"\",\"\",#REF!)))","v":{"$error":"#REF!"}},{"$f":"IFERROR(IFERROR(IFERROR(INDEX(BP!B:H,MATCH(B35,BP!C:C,0),6),INDEX(BP!B:H,MATCH(B35,BP!D:D,0),6)),INDEX(BP!B:H,MATCH(B35,BP!E:E,0),6)),\"\")","v":""},{"$f":"IFERROR(IFERROR(IFERROR(INDEX(BP!B:H,MATCH(B35,BP!C:C,0),7),INDEX(BP!B:H,MATCH(B35,BP!D:D,0),7)),INDEX(BP!B:H,MATCH(B35,BP!E:E,0),7)),\"\")","v":""},{"$error":"#REF!"},{"$error":"#REF!"},{"$error":"#REF!"},null,"Adição de Intangível",null,-7460934.0230871178,-4079529.4122033692]
[{"$f":"IF(LEFT(#REF!,7)=\"Despesa\",\"\",IF(LEFT(#REF!,7)=\"Receita\",\"\",#REF!))","v":{"$error":"#REF!"}},{"$f":"IF(LEFT(A36,7)=\"Despesa\",\"\",IF(LEFT(A36,7)=\"Receita\",\"\",IF(A36=\"\",\"\",#REF!)))","v":{"$error":"#REF!"}},{"$f":"IFERROR(IFERROR(IFERROR(INDEX(BP!B:H,MATCH(B36,BP!C:C,0),6),INDEX(BP!B:H,MATCH(B36,BP!D:D,0),6)),INDEX(BP!B:H,MATCH(B36,BP!E:E,0),6)),\"\")","v":""},{"$f":"IFERROR(IFERROR(IFERROR(INDEX(BP!B:H,MATCH(B36,BP!C:C,0),7),INDEX(BP!B:H,MATCH(B36,BP!D:D,0),7)),INDEX(BP!B:H,MATCH(B36,BP!E:E,0),7)),\"\")","v":""},{"$error":"#REF!"},{"$error":"#REF!"},{"$error":"#REF!"},null,"FLUXO DE CAIXA LÍQUIDO DAS ATIVIDADES DE INVESTIMENTO",null,-108632610.46689054,-98307419.381474867]
[{"$f":"IF(LEFT(#REF!,7)=\"Despesa\",\"\",IF(LEFT(#REF!,7)=\"Receita\",\"\",#REF!))","v":{"$error":"#REF!"}},{"$f":"IF(LEFT(A37,7)=\"Despesa\",\"\",IF(LEFT(A37,7)=\"Receita\",\"\",IF(A37=\"\",\"\",#REF!)))","v":{"$error":"#REF!"}},{"$f":"IFERROR(IFERROR(IFERROR(INDEX(BP!B:H,MATCH(B37,BP!C:C,0),6),INDEX(BP!B:H,MATCH(B37,BP!D:D,0),6)),INDEX(BP!B:H,MATCH(B37,BP!E:E,0),6)),\"\")","v":""},{"$f":"IFERROR(IFERROR(IFERROR(INDEX(BP!B:H,MATCH(B37,BP!C:C,0),7),INDEX(BP!B:H,MATCH(B37,BP!D:D,0),7)),INDEX(BP!B:H,MATCH(B37,BP!E:E,0),7)),\"\")","v":""},{"$error":"#REF!"},{"$error":"#REF!"},{"$error":"#REF!"}]
[{"$f":"IF(LEFT(#REF!,7)=\"Despesa\",\"\",IF(LEFT(#REF!,7)=\"Receita\",\"\",#REF!))","v":{"$error":"#REF!"}},{"$f":"IF(LEFT(A38,7)=\"Despesa\",\"\",IF(LEFT(A38,7)=\"Receita\",\"\",IF(A38=\"\",\"\",#REF!)))","v":{"$error":"#REF!"}},{"$f":"IFERROR(IFERROR(IFERROR(INDEX(BP!B:H,MATCH(B38,BP!C:C,0),6),INDEX(BP!B:H,MATCH(B38,BP!D:D,0),6)),INDEX(BP!B:H,MATCH(B38,BP!E:E,0),6)),\"\")","v":""},{"$f":"IFERROR(IFERROR(IFERROR(INDEX(BP!B:H,MATCH(B38,BP!C:C,0),7),INDEX(BP!B:H,MATCH(B38,BP!D:D,0),7)),INDEX(BP!B:H,MATCH(B38,BP!E:E,0),7)),\"\")","v":""},{"$error":"#REF!"},{"$error":"#REF!"},{"$error":"#REF!"},null,"FLUXO DE CAIXA DAS ATIVIDADES DE FINANCIAMENTO"]
[{"$f":"IF(LEFT(#REF!,7)=\"Despesa\",\"\",IF(LEFT(#REF!,7)=\"Receita\",\"\",#REF!))","v":{"$error":"#REF!"}},{"$f":"IF(LEFT(A39,7)=\"Despesa\",\"\",IF(LEFT(A39,7)=\"Receita\",\"\",IF(A39=\"\",\"\",#REF!)))","v":{"$error":"#REF!"}},{"$f":"IFERROR(IFERROR(IFERROR(INDEX(BP!B:H,MATCH(B39,BP!C:C,0),6),INDEX(BP!B:H,MATCH(B39,BP!D:D,0),6)),INDEX(BP!B:H,MATCH(B39,BP!E:E,0),6)),\"\")","v":""},{"$f":"IFERROR(IFERROR(IFERROR(INDEX(BP!B:H,MATCH(B39,BP!C:C,0),7),INDEX(BP!B:H,MATCH(B39,BP!D:D,0),7)),INDEX(BP!B:H,MATCH(B39,BP!E:E,0),7)),\"\")","v":""},{"$error":"#REF!"},{"$error":"#REF!"},{"$error":"#REF!"},null,"Reserva de transferência para AFAC Longo Prazo (PNC)",null,0,0]
[{"$f":"IF(LEFT(#REF!,7)=\"Despesa\",\"\",IF(LEFT(#REF!,7)=\"Receita\",\"\",#REF!))","v":{"$error":"#REF!"}},{"$f":"IF(LEFT(A40,7)=\"Despesa\",\"\",IF(LEFT(A40,7)=\"Receita\",\"\",IF(A40=\"\",\"\",#REF!)))","v":{"$error":"#REF!"}},{"$f":"IFERROR(IFERROR(IFERROR(INDEX(BP!B:H,MATCH(B40,BP!C:C,0),6),INDEX(BP!B:H,MATCH(B40,BP!D:D,0),6)),INDEX(BP!B:H,MATCH(B40,BP!E:E,0),6)),\"\")","v":""},{"$f":"IFERROR(IFERROR(IFERROR(INDEX(BP!B:H,MATCH(B40,BP!C:C,0),7),INDEX(BP!B:H,MATCH(B40,BP!D:D,0),7)),INDEX(BP!B:H,MATCH(B40,BP!E:E,0),7)),\"\")","v":""},{"$error":"#REF!"},{"$error":"#REF!"},{"$error":"#REF!"},null,"FLUXO DE CAIXA LÍQUIDO DAS ATIVIDADES DE FINANCIAMENTO",null,0,0]
[{"$f":"IF(LEFT(#REF!,7)=\"Despesa\",\"\",IF(LEFT(#REF!,7)=\"Receita\",\"\",#REF!))","v":{"$error":"#REF!"}},{"$f":"IF(LEFT(A41,7)=\"Despesa\",\"\",IF(LEFT(A41,7)=\"Receita\",\"\",IF(A41=\"\",\"\",#REF!)))","v":{"$error":"#REF!"}},{"$f":"IFERROR(IFERROR(IFERROR(INDEX(BP!B:H,MATCH(B41,BP!C:C,0),6),INDEX(BP!B:H,MATCH(B41,BP!D:D,0),6)),INDEX(BP!B:H,MATCH(B41,BP!E:E,0),6)),\"\")","v":""},{"$f":"IFERROR(IFERROR(IFERROR(INDEX(BP!B:H,MATCH(B41,BP!C:C,0),7),INDEX(BP!B:H,MATCH(B41,BP!D:D,0),7)),INDEX(BP!B:H,MATCH(B41,BP!E:E,0),7)),\"\")","v":""},{"$error":"#REF!"},{"$error":"#REF!"},{"$error":"#REF!"}]
[{"$f":"IF(LEFT(#REF!,7)=\"Despesa\",\"\",IF(LEFT(#REF!,7)=\"Receita\",\"\",#REF!))","v":{"$error":"#REF!"}},{"$f":"IF(LEFT(A42,7)=\"Despesa\",\"\",IF(LEFT(A42,7)=\"Receita\",\"\",IF(A42=\"\",\"\",#REF!)))","v":{"$error":"#REF!"}},{"$f":"IFERROR(IFERROR(IFERROR(INDEX(BP!B:H,MATCH(B42,BP!C:C,0),6),INDEX(BP!B:H,MATCH(B42,BP!D:D,0),6)),INDEX(BP!B:H,MATCH(B42,BP!E:E,0),6)),\"\")","v":""},{"$f":"IFERROR(IFERROR(IFERROR(INDEX(BP!B:H,MATCH(B42,BP!C:C,0),7),INDEX(BP!B:H,MATCH(B42,BP!D:D,0),7)),INDEX(BP!B:H,MATCH(B42,BP!E:E,0),7)),\"\")","v":""},{"$error":"#REF!"},{"$error":"#REF!"},{"$error":"#REF!"},null,"APURAÇÃO DO FLUXO DE CAIXA DO PERÍODO"]
[{"$f":"IF(LEFT(#REF!,7)=\"Despesa\",\"\",IF(LEFT(#REF!,7)=\"Receita\",\"\",#REF!))","v":{"$error":"#REF!"}},{"$f":"IF(LEFT(A43,7)=\"Despesa\",\"\",IF(LEFT(A43,7)=\"Receita\",\"\",IF(A43=\"\",\"\",#REF!)))","v":{"$error":"#REF!"}},{"$f":"IFERROR(IFERROR(IFERROR(INDEX(BP!B:H,MATCH(B43,BP!C:C,0),6),INDEX(BP!B:H,MATCH(B43,BP!D:D,0),6)),INDEX(BP!B:H,MATCH(B43,BP!E:E,0),6)),\"\")","v":""},{"$f":"IFERROR(IFERROR(IFERROR(INDEX(BP!B:H,MATCH(B43,BP!C:C,0),7),INDEX(BP!B:H,MATCH(B43,BP!D:D,0),7)),INDEX(BP!B:H,MATCH(B43,BP!E:E,0),7)),\"\")","v":""},{"$error":"#REF!"},{"$error":"#REF!"},{"$error":"#REF!"},null,"GERAÇÃO LÍQUIDA DE CAIXA E EQUIVALENTE DE CAIXA",null,285692117.55000031,387733091.33823657]
[{"$f":"IF(LEFT(#REF!,7)=\"Despesa\",\"\",IF(LEFT(#REF!,7)=\"Receita\",\"\",#REF!))","v":{"$error":"#REF!"}},{"$f":"IF(LEFT(A44,7)=\"Despesa\",\"\",IF(LEFT(A44,7)=\"Receita\",\"\",IF(A44=\"\",\"\",#REF!)))","v":{"$error":"#REF!"}},{"$f":"IFERROR(IFERROR(IFERROR(INDEX(BP!B:H,MATCH(B44,BP!C:C,0),6),INDEX(BP!B:H,MATCH(B44,BP!D:D,0),6)),INDEX(BP!B:H,MATCH(B44,BP!E:E,0),6)),\"\")","v":""},{"$f":"IFERROR(IFERROR(IFERROR(INDEX(BP!B:H,MATCH(B44,BP!C:C,0),7),INDEX(BP!B:H,MATCH(B44,BP!D:D,0),7)),INDEX(BP!B:H,MATCH(B44,BP!E:E,0),7)),\"\")","v":""},{"$error":"#REF!"},{"$error":"#REF!"},{"$error":"#REF!"},null,"CAIXA E EQUIVALENTE DE CAIXA INICIAL",null,745556301.51999998,571660067.48000002]
[{"$f":"IF(LEFT(#REF!,7)=\"Despesa\",\"\",IF(LEFT(#REF!,7)=\"Receita\",\"\",#REF!))","v":{"$error":"#REF!"}},{"$f":"IF(LEFT(A45,7)=\"Despesa\",\"\",IF(LEFT(A45,7)=\"Receita\",\"\",IF(A45=\"\",\"\",#REF!)))","v":{"$error":"#REF!"}},{"$f":"IFERROR(IFERROR(IFERROR(INDEX(BP!B:H,MATCH(B45,BP!C:C,0),6),INDEX(BP!B:H,MATCH(B45,BP!D:D,0),6)),INDEX(BP!B:H,MATCH(B45,BP!E:E,0),6)),\"\")","v":""},{"$f":"IFERROR(IFERROR(IFERROR(INDEX(BP!B:H,MATCH(B45,BP!C:C,0),7),INDEX(BP!B:H,MATCH(B45,BP!D:D,0),7)),INDEX(BP!B:H,MATCH(B45,BP!E:E,0),7)),\"\")","v":""},{"$error":"#REF!"},{"$error":"#REF!"},{"$error":"#REF!"},null,"CAIXA E EQUIVALENTE DE CAIXA FINAL",null,1031248419.0699999,959393158.81999993]
[{"$f":"IF(LEFT(#REF!,7)=\"Despesa\",\"\",IF(LEFT(#REF!,7)=\"Receita\",\"\",#REF!))","v":{"$error":"#REF!"}},{"$f":"IF(LEFT(A46,7)=\"Despesa\",\"\",IF(LEFT(A46,7)=\"Receita\",\"\",IF(A46=\"\",\"\",#REF!)))","v":{"$error":"#REF!"}},{"$f":"IFERROR(IFERROR(IFERROR(INDEX(BP!B:H,MATCH(B46,BP!C:C,0),6),INDEX(BP!B:H,MATCH(B46,BP!D:D,0),6)),INDEX(BP!B:H,MATCH(B46,BP!E:E,0),6)),\"\")","v":""},{"$f":"IFERROR(IFERROR(IFERROR(INDEX(BP!B:H,MATCH(B46,BP!C:C,0),7),INDEX(BP!B:H,MATCH(B46,BP!D:D,0),7)),INDEX(BP!B:H,MATCH(B46,BP!E:E,0),7)),\"\")","v":""},{"$error":"#REF!"},{"$error":"#REF!"},{"$error":"#REF!"},null,"As notas explicativas da Administração são parte integrante das demonstrações contábeis consolidadas"]
[{"$f":"IF(LEFT(#REF!,7)=\"Despesa\",\"\",IF(LEFT(#REF!,7)=\"Receita\",\"\",#REF!))","v":{"$error":"#REF!"}},{"$f":"IF(LEFT(A47,7)=\"Despesa\",\"\",IF(LEFT(A47,7)=\"Receita\",\"\",IF(A47=\"\",\"\",#REF!)))","v":{"$error":"#REF!"}},{"$f":"IFERROR(IFERROR(IFERROR(INDEX(BP!B:H,MATCH(B47,BP!C:C,0),6),INDEX(BP!B:H,MATCH(B47,BP!D:D,0),6)),INDEX(BP!B:H,MATCH(B47,BP!E:E,0),6)),\"\")","v":""},{"$f":"IFERROR(IFERROR(IFERROR(INDEX(BP!B:H,MATCH(B47,BP!C:C,0),7),INDEX(BP!B:H,MATCH(B47,BP!D:D,0),7)),INDEX(BP!B:H,MATCH(B47,BP!E:E,0),7)),\"\")","v":""},{"$error":"#REF!"},{"$error":"#REF!"},{"$error":"#REF!"},null,null,null,{"$f":"K45-K44-K43","v":0},{"$f":"L45-L44-L43","v":1.7633438110351563E-3}]
[{"$f":"IF(LEFT(#REF!,7)=\"Despesa\",\"\",IF(LEFT(#REF!,7)=\"Receita\",\"\",#REF!))","v":{"$error":"#REF!"}},{"$f":"IF(LEFT(A48,7)=\"Despesa\",\"\",IF(LEFT(A48,7)=\"Receita\",\"\",IF(A48=\"\",\"\",#REF!)))","v":{"$error":"#REF!"}},{"$f":"IFERROR(IFERROR(IFERROR(INDEX(BP!B:H,MATCH(B48,BP!C:C,0),6),INDEX(BP!B:H,MATCH(B48,BP!D:D,0),6)),INDEX(BP!B:H,MATCH(B48,BP!E:E,0),6)),\"\")","v":""},{"$f":"IFERROR(IFERROR(IFERROR(INDEX(BP!B:H,MATCH(B48,BP!C:C,0),7),INDEX(BP!B:H,MATCH(B48,BP!D:D,0),7)),INDEX(BP!B:H,MATCH(B48,BP!E:E,0),7)),\"\")","v":""},{"$error":"#REF!"},{"$error":"#REF!"},{"$error":"#REF!"}]
[{"$f":"IF(LEFT(#REF!,7)=\"Despesa\",\"\",IF(LEFT(#REF!,7)=\"Receita\",\"\",#REF!))","v":{"$error":"#REF!"}},{"$f":"IF(LEFT(A49,7)=\"Despesa\",\"\",IF(LEFT(A49,7)=\"Receita\",\"\",IF(A49=\"\",\"\",#REF!)))","v":{"$error":"#REF!"}},{"$f":"IFERROR(IFERROR(IFERROR(INDEX(BP!B:H,MATCH(B49,BP!C:C,0),6),INDEX(BP!B:H,MATCH(B49,BP!D:D,0),6)),INDEX(BP!B:H,MATCH(B49,BP!E:E,0),6)),\"\")","v":""},{"$f":"IFERROR(IFERROR(IFERROR(INDEX(BP!B:H,MATCH(B49,BP!C:C,0),7),INDEX(BP!B:H,MATCH(B49,BP!D:D,0),7)),INDEX(BP!B:H,MATCH(B49,BP!E:E,0),7)),\"\")","v":""},{"$error":"#REF!"},{"$error":"#REF!"},{"$error":"#REF!"}]
[{"$f":"IF(LEFT(#REF!,7)=\"Despesa\",\"\",IF(LEFT(#REF!,7)=\"Receita\",\"\",#REF!))","v":{"$error":"#REF!"}},{"$f":"IF(LEFT(A50,7)=\"Despesa\",\"\",IF(LEFT(A50,7)=\"Receita\",\"\",IF(A50=\"\",\"\",#REF!)))","v":{"$error":"#REF!"}},{"$f":"IFERROR(IFERROR(IFERROR(INDEX(BP!B:H,MATCH(B50,BP!C:C,0),6),INDEX(BP!B:H,MATCH(B50,BP!D:D,0),6)),INDEX(BP!B:H,MATCH(B50,BP!E:E,0),6)),\"\")","v":""},{"$f":"IFERROR(IFERROR(IFERROR(INDEX(BP!B:H,MATCH(B50,BP!C:C,0),7),INDEX(BP!B:H,MATCH(B50,BP!D:D,0),7)),INDEX(BP!B:H,MATCH(B50,BP!E:E,0),7)),\"\")","v":""},{"$error":"#REF!"},{"$error":"#REF!"},{"$error":"#REF!"}]

{"sheet":"DVA","index":3,"n_rows":38,"n_cols":6,"rows_kept":38,"cut":false,"hidden":false,"merged":[[0,1,0,3],[1,2,1,3]]}
[null,"EBSERH - EMPRESA BRASILEIRA DE SERVIÇOS HOSPITALARES"]
[null,"Demonstração Valor Adicionado ","30 de Junho de 2021"]
[null,"Em reais "]
[null,"Descrição"," 01.01.2021                          a                30.06.2021","01.01.2020                             a                  30.06.2020"]
[null,"Geração de Valor Adicionado"]
[null,"1 - Receitas",63560835.079999998,42432612.829999998]
[null,"1.1 - Atividades Operacionais",63560835.079999998,42432612.829999998]
[null,"1.1.1 - Receita de Serviços e Exploração",63560835.079999998,42432612.829999998]
[null,"2 - Insumos Adquiridos de Terceiros",1164969115.21,831337560.71000004]
[null,"2.1 - Materiais de Consumo",565746305.95999992,348766656.87]
[null,"2.2 - Energia elétrica, Água e Esgoto, Gás",60032974.810000002,35491533.280000001]
[null,"2.3 - Serviços de Terceiros",539189834.43999994,447079370.56]
[null,"2.4 - Contigências para Riscos Cíveis",0,0]
[null,"3 - Valor Adicionado Bruto (1-2)",-1101408280.1300001,-788904947.88]
[null,"4 - Depreciação, Amortização, Impairment e Perdas",20893749.199999999,15583013.09]
[null,"4.1 - Depreciação do Período",17200967.609999999,12749559.15]
[null,"4.2 - Amortização do Período",3009756.1999999997,2740140.85]
[null,"4.3 - Redução a Valor Recuperável - Impairment",0,0]
[null,"4.4 - Perdas Involuntárias e Desfazimentos",683025.39,93313.09]
[null,"5 - Valor Adicionado Líquido (3-4)",-1122302029.3300002,-804487960.97000003]
[null,"6 - Valor Adicionado Recebido em Transferência",3980441571.2900004,3394999467.02]
[null,"6.1 - Repasses e Cotas Financeiras",3963613253.7200003,3176923742.46]
[null,"6.2 - Receitas Financeiras",657028.2300000001,4034490.98]
[null,"6.3 - Outras",16171289.339999996,214041233.58000001]
[null,"7 - Valor Adicionado Total a Distribuir (5+6)",2858139541.96,2590511506.0500002]
[null,"8 - Distribuição do Valor Adicionado",2858139541.9599991,2590511506.0500002,null,{"$f":"D26-D25","v":0}]
[null,"8.1 - Remuneração do Trabalho",2914249800.7599998,2585588003.0100002]
[null,"8.1.1 - Pessoal e Diárias",2143869979.0799999,1863562504.46]
[null,"8.1.2 - Encargos",770379821.67999995,722025498.54999995]
[null,"8.2 - Remuneração do Governo",941716.66999999981,706767.7]
[null,"8.2.1 - Impostos, Taxas, Contribuições, Multas e Juros",941716.66999999981,706767.7]
[null,"8.2.2 - Provisão p/ Imposto de Renda",0,0]
[null,"8.2.3 - Provisão p/ CSLL",0,0]
[null,"8.3 - Remuneração do Capital de Terceiros",20139034.729999997,14574956.550000001]
[null,"8.3.1 - Locação",20139034.729999997,14574956.550000001]
[null,"8.4 - Remuneração de Capital Próprio",-77191010.200000763,-10358221.210000001]
[null,"8.4.1 Resultado do Exercício",-77191010.200000763,-10358221.210000001]
[null,"As notas explicativas da Administração são parte integrante das demonstrações contábeis consolidadas."]

{"sheet":"DMPL","index":4,"n_rows":25,"n_cols":6,"rows_kept":25,"cut":false,"hidden":false,"merged":[[2,13,2,14],[1,4,1,5],[0,1,0,5],[13,1,14,1],[13,2,14,2],[13,3,14,3],[13,4,14,4],[13,5,14,5],[12,1,12,5],[3,1,4,1],[3,2,4,2],[3,3,4,3],[3,4,4,4],[3,5,4,5]]}
[null,"EBSERH - EMPRESA BRASILEIRA DE SERVIÇOS HOSPITALARES"]
[null,"Demonstração Consolidada das Mutações do Patrimônio Líquido ",null,null,"30 de Junho de 2021"]
[null,"Em reais"]
[null,"Componentes ","Capital Social Integralizado","Reservas de Capital - AFAC","Resultados Acumulados","Patrimônio Líquido "]
[]
[null,"Saldos Iniciais (31/12/2019)",5000000,219135056.91999999,-512557193.8657369,-288422136.94573689]
[null,"Resultado Líquido do Exercício",null,null,-10358221.210000001]
[null,"Adiantamento Fut Aume Cap - AFAC",376384237.75,67050000]
[null,"Compensação do Prejuízo"]
[null,"Ajustes de Exercicios Anteriores",null,null,2220192.71]
[null,"Saldos Finais em 30/06/2020",381384237.75,67050000,-520695222.3657369,-72260984.615736902]
[]
[]
[null,"Componentes ","Capital Social Integralizado","Reservas de Capital - AFAC","Resultados Acumulados","Patrimônio Líquido"]
[]
[null,"2020-12-31",381384237.75,202658776.90999997,-529544354.01573807,54498660.644261897]
[null,"Resultado Líquido do Exercício",null,null,-77191010.199999809]
[null,"Adiantamento Fut Aume Cap - AFAC",null,84806528.50000006]
[null,"Compensação do Prejuízo"]
[null,"Ajustes de Exercicios Anteriores",null,null,-1430983.78]
[null,"Integaralização de AFAC ao  Capital Social"]
[null,"Saldos Finais em 30/06/2021",381384237.75,287465305.41000003,-608166347.99573779,60683195.164262295]
[null,"As notas explicativas da Administração são parte integrante das demonstrações contábeis consolidadas."]
[]
[null,null,{"$f":"C22-C16","v":0}]

{"sheet":"--","index":5,"n_rows":192,"n_cols":4,"rows_kept":192,"cut":false,"hidden":true,"merged":[]}
["1 - Receitas",null,"Grupo Dva","Subgrupo DVA"]
["1.1 - Atividades operacionais",null,"1.1 - Atividades operacionais","1.1 - Atividades operacionais"]
["Relatório Financeiro PF",null,"Relatório Financeiro PF","Relatório Financeiro PF"]
["2 - Insumos Adquiridos de Terceiros",null,"2 - Insumos Adquiridos de Terceiros","2 - Insumos Adquiridos de Terceiros"]
["2.1 - Materiais de Consumo",null,"2 - Insumos Adquiridos de Terceiros","2.1 - Materiais de Consumo"]
["3.3.1.1.1.01.00",{"$f":"VLOOKUP(A6,#REF!,2,0)","v":{"$error":"#REF!"}},"2 - Insumos Adquiridos de Terceiros","2.1 - Materiais de Consumo"]
["3.3.1.1.1.02.00",{"$f":"VLOOKUP(A7,#REF!,2,0)","v":{"$error":"#REF!"}},"2 - Insumos Adquiridos de Terceiros","2.1 - Materiais de Consumo"]
["3.3.1.1.1.03.00",{"$f":"VLOOKUP(A8,#REF!,2,0)","v":{"$error":"#REF!"}},"2 - Insumos Adquiridos de Terceiros","2.1 - Materiais de Consumo"]
["3.3.1.1.1.04.00",{"$f":"VLOOKUP(A9,#REF!,2,0)","v":{"$error":"#REF!"}},"2 - Insumos Adquiridos de Terceiros","2.1 - Materiais de Consumo"]
["3.3.1.1.1.05.00",{"$f":"VLOOKUP(A10,#REF!,2,0)","v":{"$error":"#REF!"}},"2 - Insumos Adquiridos de Terceiros","2.1 - Materiais de Consumo"]
["3.3.1.1.1.06.00",{"$f":"VLOOKUP(A11,#REF!,2,0)","v":{"$error":"#REF!"}},"2 - Insumos Adquiridos de Terceiros","2.1 - Materiais de Consumo"]
["3.3.1.1.1.07.00",{"$f":"VLOOKUP(A12,#REF!,2,0)","v":{"$error":"#REF!"}},"2 - Insumos Adquiridos de Terceiros","2.1 - Materiais de Consumo"]
["3.3.1.1.1.08.00",{"$f":"VLOOKUP(A13,#REF!,2,0)","v":{"$error":"#REF!"}},"2 - Insumos Adquiridos de Terceiros","2.1 - Materiais de Consumo"]
["3.3.1.1.1.09.00",{"$f":"VLOOKUP(A14,#REF!,2,0)","v":{"$error":"#REF!"}},"2 - Insumos Adquiridos de Terceiros","2.1 - Materiais de Consumo"]
["3.3.1.1.1.99.00",{"$f":"VLOOKUP(A15,#REF!,2,0)","v":{"$error":"#REF!"}},"2 - Insumos Adquiridos de Terceiros","2.1 - Materiais de Consumo"]
["3.6.3.3.1.01.00",{"$f":"VLOOKUP(A16,#REF!,2,0)","v":{"$error":"#REF!"}},"2 - Insumos Adquiridos de Terceiros","2.1 - Materiais de Consumo"]
["2.2 - Energia elétrica, Água e Esgoto, Gás",null,"2 - Insumos Adquiridos de Terceiros","2.2 - Energia elétrica, Água e Esgoto, Gás"]
["3.3.2.3.2.08.00",{"$f":"VLOOKUP(A18,#REF!,2,0)","v":{"$error":"#REF!"}},"2 - Insumos Adquiridos de Terceiros","2.2 - Energia elétrica, Água e Esgoto, Gás"]
["3.3.2.3.4.08.00",{"$f":"VLOOKUP(A19,#REF!,2,0)","v":{"$error":"#REF!"}},"2 - Insumos Adquiridos de Terceiros","2.2 - Energia elétrica, Água e Esgoto, Gás"]
["3.3.2.3.1.08.00",{"$f":"VLOOKUP(A20,#REF!,2,0)","v":{"$error":"#REF!"}},"2 - Insumos Adquiridos de Terceiros","2.2 - Energia elétrica, Água e Esgoto, Gás"]
["2.3 - Serviços de Terceiros",null,"2 - Insumos Adquiridos de Terceiros","2.3 - Serviços de Terceiros"]
["3.3.2.2.1.01.00",{"$f":"VLOOKUP(A22,#REF!,2,0)","v":{"$error":"#REF!"}},"2 - Insumos Adquiridos de Terceiros","2.3 - Serviços de Terceiros"]
["3.3.2.2.1.02.00",{"$f":"VLOOKUP(A23,#REF!,2,0)","v":{"$error":"#REF!"}},"2 - Insumos Adquiridos de Terceiros","2.3 - Serviços de Terceiros"]
["3.3.2.2.1.09.00",{"$f":"VLOOKUP(A24,#REF!,2,0)","v":{"$error":"#REF!"}},"2 - Insumos Adquiridos de Terceiros","2.3 - Serviços de Terceiros"]
["3.3.2.2.1.05.00",{"$f":"VLOOKUP(A25,#REF!,2,0)","v":{"$error":"#REF!"}},"2 - Insumos Adquiridos de Terceiros","2.3 - Serviços de Terceiros"]
["3.3.2.3.1.01.00",{"$f":"VLOOKUP(A26,#REF!,2,0)","v":{"$error":"#REF!"}},"2 - Insumos Adquiridos de Terceiros","2.3 - Serviços de Terceiros"]
["3.3.2.3.1.02.00",{"$f":"VLOOKUP(A27,#REF!,2,0)","v":{"$error":"#REF!"}},"2 - Insumos Adquiridos de Terceiros","2.3 - Serviços de Terceiros"]
["3.3.2.3.1.03.00",{"$f":"VLOOKUP(A28,#REF!,2,0)","v":{"$error":"#REF!"}},"2 - Insumos Adquiridos de Terceiros","2.3 - Serviços de Terceiros"]
["3.3.2.3.1.04.00",{"$f":"VLOOKUP(A29,#REF!,2,0)","v":{"$error":"#REF!"}},"2 - Insumos Adquiridos de Terceiros","2.3 - Serviços de Terceiros"]
["3.3.2.3.1.05.00",{"$f":"VLOOKUP(A30,#REF!,2,0)","v":{"$error":"#REF!"}},"2 - Insumos Adquiridos de Terceiros","2.3 - Serviços de Terceiros"]
["3.3.2.3.1.06.00",{"$f":"VLOOKUP(A31,#REF!,2,0)","v":{"$error":"#REF!"}},"2 - Insumos Adquiridos de Terceiros","2.3 - Serviços de Terceiros"]
["3.3.2.3.1.07.00",{"$f":"VLOOKUP(A32,#REF!,2,0)","v":{"$error":"#REF!"}},"2 - Insumos Adquiridos de Terceiros","2.3 - Serviços de Terceiros"]
["3.3.2.3.1.10.00",{"$f":"VLOOKUP(A33,#REF!,2,0)","v":{"$error":"#REF!"}},"2 - Insumos Adquiridos de Terceiros","2.3 - Serviços de Terceiros"]
["3.3.2.3.1.11.00",{"$f":"VLOOKUP(A34,#REF!,2,0)","v":{"$error":"#REF!"}},"2 - Insumos Adquiridos de Terceiros","2.3 - Serviços de Terceiros"]
["3.3.2.3.1.12.00",{"$f":"VLOOKUP(A35,#REF!,2,0)","v":{"$error":"#REF!"}},"2 - Insumos Adquiridos de Terceiros","2.3 - Serviços de Terceiros"]
["3.3.2.3.1.13.00",{"$f":"VLOOKUP(A36,#REF!,2,0)","v":{"$error":"#REF!"}},"2 - Insumos Adquiridos de Terceiros","2.3 - Serviços de Terceiros"]
["3.3.2.3.1.14.00",{"$f":"VLOOKUP(A37,#REF!,2,0)","v":{"$error":"#REF!"}},"2 - Insumos Adquiridos de Terceiros","2.3 - Serviços de Terceiros"]
["3.3.2.3.1.99.00",{"$f":"VLOOKUP(A38,#REF!,2,0)","v":{"$error":"#REF!"}},"2 - Insumos Adquiridos de Terceiros","2.3 - Serviços de Terceiros"]
["3.3.2.3.2.01.00",{"$f":"VLOOKUP(A39,#REF!,2,0)","v":{"$error":"#REF!"}},"2 - Insumos Adquiridos de Terceiros","2.3 - Serviços de Terceiros"]
["3.3.2.3.2.02.00",{"$f":"VLOOKUP(A40,#REF!,2,0)","v":{"$error":"#REF!"}},"2 - Insumos Adquiridos de Terceiros","2.3 - Serviços de Terceiros"]
["3.3.2.3.2.03.00",{"$f":"VLOOKUP(A41,#REF!,2,0)","v":{"$error":"#REF!"}},"2 - Insumos Adquiridos de Terceiros","2.3 - Serviços de Terceiros"]
["3.3.2.3.2.05.00",{"$f":"VLOOKUP(A42,#REF!,2,0)","v":{"$error":"#REF!"}},"2 - Insumos Adquiridos de Terceiros","2.3 - Serviços de Terceiros"]
["3.3.2.3.2.11.00",{"$f":"VLOOKUP(A43,#REF!,2,0)","v":{"$error":"#REF!"}},"2 - Insumos Adquiridos de Terceiros","2.3 - Serviços de Terceiros"]
["3.3.2.3.2.12.00",{"$f":"VLOOKUP(A44,#REF!,2,0)","v":{"$error":"#REF!"}},"2 - Insumos Adquiridos de Terceiros","2.3 - Serviços de Terceiros"]
["3.3.2.3.4.12.00",{"$f":"VLOOKUP(A45,#REF!,2,0)","v":{"$error":"#REF!"}},"2 - Insumos Adquiridos de Terceiros","2.3 - Serviços de Terceiros"]
["3.3.2.3.4.01.00",{"$f":"VLOOKUP(A46,#REF!,2,0)","v":{"$error":"#REF!"}},"2 - Insumos Adquiridos de Terceiros","2.3 - Serviços de Terceiros"]
["3.3.2.3.4.03.00",{"$f":"VLOOKUP(A47,#REF!,2,0)","v":{"$error":"#REF!"}},"2 - Insumos Adquiridos de Terceiros","2.3 - Serviços de Terceiros"]
["3.3.2.3.4.05.00",{"$f":"VLOOKUP(A48,#REF!,2,0)","v":{"$error":"#REF!"}},"2 - Insumos Adquiridos de Terceiros","2.3 - Serviços de Terceiros"]
["3.3.2.3.4.11.00",{"$f":"VLOOKUP(A49,#REF!,2,0)","v":{"$error":"#REF!"}},"2 - Insumos Adquiridos de Terceiros","2.3 - Serviços de Terceiros"]
["3.3.2.3.4.13.00",{"$f":"VLOOKUP(A50,#REF!,2,0)","v":{"$error":"#REF!"}},"2 - Insumos Adquiridos de Terceiros","2.3 - Serviços de Terceiros"]
["3.3.2.3.5.02.00",{"$f":"VLOOKUP(A51,#REF!,2,0)","v":{"$error":"#REF!"}},"2 - Insumos Adquiridos de Terceiros","2.3 - Serviços de Terceiros"]
["3.6.4.0.1.01.00",{"$f":"VLOOKUP(A52,#REF!,2,0)","v":{"$error":"#REF!"}},"2 - Insumos Adquiridos de Terceiros","2.3 - Serviços de Terceiros"]
["3.6.4.0.2.01.00",{"$f":"VLOOKUP(A53,#REF!,2,0)","v":{"$error":"#REF!"}},"2 - Insumos Adquiridos de Terceiros","2.3 - Serviços de Terceiros"]
["3.3.2.2.1.10.00",{"$f":"VLOOKUP(A54,#REF!,2,0)","v":{"$error":"#REF!"}},"2 - Insumos Adquiridos de Terceiros","2.3 - Serviços de Terceiros"]
["3 - Valor Adicionado Bruto (1-2)",null,"3 - Valor Adicionado Bruto (1-2)","3 - Valor Adicionado Bruto (1-2)"]
["4 - Depreciação, Amortização e Exaustão",null,"4 - Depreciação, Amortização e Exaustão","4 - Depreciação, Amortização e Exaustão"]
["4.1 - Depreciação do Período",null,"4 - Depreciação, Amortização e Exaustão","4.1 - Depreciação do Período"]
["3.3.3.1.1.01.00",{"$f":"VLOOKUP(A58,#REF!,2,0)","v":{"$error":"#REF!"}},"4 - Depreciação, Amortização e Exaustão","4.1 - Depreciação do Período"]
["3.3.3.1.1.02.00",{"$f":"VLOOKUP(A59,#REF!,2,0)","v":{"$error":"#REF!"}},"4 - Depreciação, Amortização e Exaustão","4.1 - Depreciação do Período"]
["4.2 - Amortização do Período",null,"4 - Depreciação, Amortização e Exaustão","4.2 - Amortização do Período"]
["3.3.3.2.1.01.00",null,"4 - Depreciação, Amortização e Exaustão","4.2 - Amortização do Período"]
["3.3.3.2.1.02.00",{"$f":"VLOOKUP(A62,#REF!,2,0)","v":{"$error":"#REF!"}},"4 - Depreciação, Amortização e Exaustão","4.2 - Amortização do Período"]
["5 - Valor Adicionado Líquido (3-4)",null,"5 - Valor Adicionado Líquido (3-4)","5 - Valor Adicionado Líquido (3-4)"]
["6 - Valor Adicionado Recebido em Transferência",null,"6 - Valor Adicionado Recebido em Transferência","6 - Valor Adicionado Recebido em Transferência"]
["6.1 Repasses e Cotas Financeiras",null,"6 - Valor Adicionado Recebido em Transferência","6.1 Repasses e Cotas Financeiras"]
["3.5.1.1.2.02.00",{"$f":"VLOOKUP(A66,#REF!,2,0)","v":{"$error":"#REF!"}},"6 - Valor Adicionado Recebido em Transferência","6.1 Repasses e Cotas Financeiras"]
["3.5.1.1.2.03.00",{"$f":"VLOOKUP(A67,#REF!,2,0)","v":{"$error":"#REF!"}},"6 - Valor Adicionado Recebido em Transferência","6.1 Repasses e Cotas Financeiras"]
["3.5.1.1.2.08.02",{"$f":"VLOOKUP(A68,#REF!,2,0)","v":{"$error":"#REF!"}},"6 - Valor Adicionado Recebido em Transferência","6.1 Repasses e Cotas Financeiras"]
["3.5.1.2.2.01.00",{"$f":"VLOOKUP(A69,#REF!,2,0)","v":{"$error":"#REF!"}},"6 - Valor Adicionado Recebido em Transferência","6.1 Repasses e Cotas Financeiras"]
["3.5.1.2.2.02.00",{"$f":"VLOOKUP(A70,#REF!,2,0)","v":{"$error":"#REF!"}},"6 - Valor Adicionado Recebido em Transferência","6.1 Repasses e Cotas Financeiras"]
["3.5.6.0.1.04.00",{"$f":"VLOOKUP(A71,#REF!,2,0)","v":{"$error":"#REF!"}},"6 - Valor Adicionado Recebido em Transferência","6.1 Repasses e Cotas Financeiras"]
["3.5.9.0.2.01.00",{"$f":"VLOOKUP(A72,#REF!,2,0)","v":{"$error":"#REF!"}},"6 - Valor Adicionado Recebido em Transferência","6.1 Repasses e Cotas Financeiras"]
["3.5.9.0.5.01.00",{"$f":"VLOOKUP(A73,#REF!,2,0)","v":{"$error":"#REF!"}},"6 - Valor Adicionado Recebido em Transferência","6.1 Repasses e Cotas Financeiras"]
["3.4.3.9.2.01.01",{"$f":"VLOOKUP(A74,#REF!,2,0)","v":{"$error":"#REF!"}},"6 - Valor Adicionado Recebido em Transferência","6.1 Repasses e Cotas Financeiras"]
["3.5.9.0.1.01.00",{"$f":"VLOOKUP(A75,#REF!,2,0)","v":{"$error":"#REF!"}},"6 - Valor Adicionado Recebido em Transferência","6.1 Repasses e Cotas Financeiras"]
["4.3.3.1.2.01.00",{"$f":"VLOOKUP(A76,#REF!,2,0)","v":{"$error":"#REF!"}},"6 - Valor Adicionado Recebido em Transferência","6.1 Repasses e Cotas Financeiras"]
["4.3.3.1.5.01.00",{"$f":"VLOOKUP(A77,#REF!,2,0)","v":{"$error":"#REF!"}},"6 - Valor Adicionado Recebido em Transferência","6.1 Repasses e Cotas Financeiras"]
["4.3.3.9.1.01.00",{"$f":"VLOOKUP(A78,#REF!,2,0)","v":{"$error":"#REF!"}},"6 - Valor Adicionado Recebido em Transferência","6.1 Repasses e Cotas Financeiras"]
["4.3.3.9.5.01.00",{"$f":"VLOOKUP(A79,#REF!,2,0)","v":{"$error":"#REF!"}},"6 - Valor Adicionado Recebido em Transferência","6.1 Repasses e Cotas Financeiras"]
["4.3.3.9.1.99.00",{"$f":"VLOOKUP(A80,#REF!,2,0)","v":{"$error":"#REF!"}},"6 - Valor Adicionado Recebido em Transferência","6.1 Repasses e Cotas Financeiras"]
["4.5.1.1.2.02.00",{"$f":"VLOOKUP(A81,#REF!,2,0)","v":{"$error":"#REF!"}},"6 - Valor Adicionado Recebido em Transferência","6.1 Repasses e Cotas Financeiras"]
["4.5.1.1.2.03.00",{"$f":"VLOOKUP(A82,#REF!,2,0)","v":{"$error":"#REF!"}},"6 - Valor Adicionado Recebido em Transferência","6.1 Repasses e Cotas Financeiras"]
["4.5.1.2.2.01.00",{"$f":"VLOOKUP(A83,#REF!,2,0)","v":{"$error":"#REF!"}},"6 - Valor Adicionado Recebido em Transferência","6.1 Repasses e Cotas Financeiras"]
["4.5.1.2.2.02.00",{"$f":"VLOOKUP(A84,#REF!,2,0)","v":{"$error":"#REF!"}},"6 - Valor Adicionado Recebido em Transferência","6.1 Repasses e Cotas Financeiras"]
["4.5.9.0.1.01.00",{"$f":"VLOOKUP(A85,#REF!,2,0)","v":{"$error":"#REF!"}},"6 - Valor Adicionado Recebido em Transferência","6.1 Repasses e Cotas Financeiras"]
["4.5.9.0.2.01.00",{"$f":"VLOOKUP(A86,#REF!,2,0)","v":{"$error":"#REF!"}},"6 - Valor Adicionado Recebido em Transferência","6.1 Repasses e Cotas Financeiras"]
["4.4.5.2.1.01.00",{"$f":"VLOOKUP(A87,#REF!,2,0)","v":{"$error":"#REF!"}},"6 - Valor Adicionado Recebido em Transferência","6.1 Repasses e Cotas Financeiras"]
["6.2 Receitas Financeiras",null,"6 - Valor Adicionado Recebido em Transferência","6.2 Receitas Financeiras"]
["Receitas Financeiras",null,"6 - Valor Adicionado Recebido em Transferência","6.2 Receitas Financeiras"]
["6.3 Outras",null,"6 - Valor Adicionado Recebido em Transferência","6.3 Outras"]
["4.3.3.1.1.01.00",{"$f":"VLOOKUP(A91,#REF!,2,0)","v":{"$error":"#REF!"}},"6 - Valor Adicionado Recebido em Transferência","6.3 Outras"]
["4.5.1.2.2.03.00",{"$f":"VLOOKUP(A92,#REF!,2,0)","v":{"$error":"#REF!"}},"6 - Valor Adicionado Recebido em Transferência","6.3 Outras"]
["4.4.2.9.1.01.00",{"$f":"VLOOKUP(A93,#REF!,2,0)","v":{"$error":"#REF!"}},"6 - Valor Adicionado Recebido em Transferência","6.3 Outras"]
["4.6.3.1.1.01.00","GANHOS COM INCORPORACAO DE ATIVOS","6 - Valor Adicionado Recebido em Transferência","6.3 Outras"]
["4.6.3.9.1.01.00",{"$f":"VLOOKUP(A95,#REF!,2,0)","v":{"$error":"#REF!"}},"6 - Valor Adicionado Recebido em Transferência","6.3 Outras"]
["4.6.3.9.2.01.00",{"$f":"VLOOKUP(A96,#REF!,2,0)","v":{"$error":"#REF!"}},"6 - Valor Adicionado Recebido em Transferência","6.3 Outras"]
["4.6.4.0.1.01.00",{"$f":"VLOOKUP(A97,#REF!,2,0)","v":{"$error":"#REF!"}},"6 - Valor Adicionado Recebido em Transferência","6.3 Outras"]
["4.6.4.0.2.01.00",{"$f":"VLOOKUP(A98,#REF!,2,0)","v":{"$error":"#REF!"}},"6 - Valor Adicionado Recebido em Transferência","6.3 Outras"]
["4.9.9.6.1.02.00",{"$f":"VLOOKUP(A99,#REF!,2,0)","v":{"$error":"#REF!"}},"6 - Valor Adicionado Recebido em Transferência","6.3 Outras"]
["4.9.9.9.1.01.00",{"$f":"VLOOKUP(A100,#REF!,2,0)","v":{"$error":"#REF!"}},"6 - Valor Adicionado Recebido em Transferência","6.3 Outras"]
["4.9.7.1.1.01.00",{"$f":"VLOOKUP(A101,#REF!,2,0)","v":{"$error":"#REF!"}},"6 - Valor Adicionado Recebido em Transferência","6.3 Outras"]
["4.9.9.5.1.01.00",{"$f":"VLOOKUP(A102,#REF!,2,0)","v":{"$error":"#REF!"}},"6 - Valor Adicionado Recebido em Transferência","6.3 Outras"]
["3.5.3.1.1.01.00",{"$f":"VLOOKUP(A103,#REF!,2,0)","v":{"$error":"#REF!"}},"6 - Valor Adicionado Recebido em Transferência","6.3 Outras"]
["3.5.2.3.1.01.00",{"$f":"VLOOKUP(A104,#REF!,2,0)","v":{"$error":"#REF!"}},"6 - Valor Adicionado Recebido em Transferência","6.3 Outras"]
["3.5.1.2.2.03.00",{"$f":"VLOOKUP(A105,#REF!,2,0)","v":{"$error":"#REF!"}},"6 - Valor Adicionado Recebido em Transferência","6.3 Outras"]
["3.5.1.2.2.05.00",{"$f":"VLOOKUP(A106,#REF!,2,0)","v":{"$error":"#REF!"}},"6 - Valor Adicionado Recebido em Transferência","6.3 Outras"]
["3.6.5.0.1.01.00","INCORPORACAO DE PASSIVOS","6 - Valor Adicionado Recebido em Transferência","6.3 Outras"]
["3.6.5.0.2.01.00",{"$f":"VLOOKUP(A108,#REF!,2,0)","v":{"$error":"#REF!"}},"6 - Valor Adicionado Recebido em Transferência","6.3 Outras"]
["3.5.9.0.4.01.00",{"$f":"VLOOKUP(A109,#REF!,2,0)","v":{"$error":"#REF!"}},"6 - Valor Adicionado Recebido em Transferência","6.3 Outras"]
["3.6.3.1.1.01.00",{"$f":"VLOOKUP(A110,#REF!,2,0)","v":{"$error":"#REF!"}},"6 - Valor Adicionado Recebido em Transferência","6.3 Outras"]
["7 - Valor Adicionado Total a Distribuir (5+6)",null,"7 - Valor Adicionado Total a Distribuir (5+6)","7 - Valor Adicionado Total a Distribuir (5+6)"]
["8 - Distribuição do Valor Adicionado",null,"8 - Distribuição do Valor Adicionado","8 - Distribuição do Valor Adicionado"]
["8.1 - Remuneração do Trabalho",null,"8 - Distribuição do Valor Adicionado","8.1 - Remuneração do Trabalho"]
["8.1.1 - Pessoal e Diárias",null,"8 - Distribuição do Valor Adicionado","8.1.1 - Pessoal e Diárias"]
["3.1.1.1.1.01.00",null,"8 - Distribuição do Valor Adicionado","8.1.1 - Pessoal e Diárias"]
["3.1.1.1.1.03.00",{"$f":"VLOOKUP(A116,#REF!,2,0)","v":{"$error":"#REF!"}},"8 - Distribuição do Valor Adicionado","8.1.1 - Pessoal e Diárias"]
["3.1.1.1.1.04.00",{"$f":"VLOOKUP(A117,#REF!,2,0)","v":{"$error":"#REF!"}},"8 - Distribuição do Valor Adicionado","8.1.1 - Pessoal e Diárias"]
["3.1.1.1.1.09.00",{"$f":"VLOOKUP(A118,#REF!,2,0)","v":{"$error":"#REF!"}},"8 - Distribuição do Valor Adicionado","8.1.1 - Pessoal e Diárias"]
["3.3.2.1.1.01.00",{"$f":"VLOOKUP(A119,#REF!,2,0)","v":{"$error":"#REF!"}},"8 - Distribuição do Valor Adicionado","8.1.1 - Pessoal e Diárias"]
["3.1.1.1.1.05.00",{"$f":"VLOOKUP(A120,#REF!,2,0)","v":{"$error":"#REF!"}},"8 - Distribuição do Valor Adicionado","8.1.1 - Pessoal e Diárias"]
["3.1.1.2.1.01.00","SERVICOS DE CONFECCOES - PJ","8 - Distribuição do Valor Adicionado","8.1.1 - Pessoal e Diárias"]
["3.1.1.2.1.02.00",{"$f":"VLOOKUP(A122,#REF!,2,0)","v":{"$error":"#REF!"}},"8 - Distribuição do Valor Adicionado","8.1.1 - Pessoal e Diárias"]
["3.1.1.2.1.03.00",{"$f":"VLOOKUP(A123,#REF!,2,0)","v":{"$error":"#REF!"}},"8 - Distribuição do Valor Adicionado","8.1.1 - Pessoal e Diárias"]
["3.1.1.2.1.04.00",{"$f":"VLOOKUP(A124,#REF!,2,0)","v":{"$error":"#REF!"}},"8 - Distribuição do Valor Adicionado","8.1.1 - Pessoal e Diárias"]
["3.1.1.2.1.05.00",{"$f":"VLOOKUP(A125,#REF!,2,0)","v":{"$error":"#REF!"}},"8 - Distribuição do Valor Adicionado","8.1.1 - Pessoal e Diárias"]
["3.1.1.1.1.06.00",{"$f":"VLOOKUP(A126,#REF!,2,0)","v":{"$error":"#REF!"}},"8 - Distribuição do Valor Adicionado","8.1.1 - Pessoal e Diárias"]
["3.1.1.2.1.06.00",{"$f":"VLOOKUP(A127,#REF!,2,0)","v":{"$error":"#REF!"}},"8 - Distribuição do Valor Adicionado","8.1.1 - Pessoal e Diárias"]
["3.1.1.2.1.09.00",{"$f":"VLOOKUP(A128,#REF!,2,0)","v":{"$error":"#REF!"}},"8 - Distribuição do Valor Adicionado","8.1.1 - Pessoal e Diárias"]
["3.1.3.1.1.04.00",{"$f":"VLOOKUP(A129,#REF!,2,0)","v":{"$error":"#REF!"}},"8 - Distribuição do Valor Adicionado","8.1.1 - Pessoal e Diárias"]
["3.1.3.2.1.02.00",{"$f":"VLOOKUP(A130,#REF!,2,0)","v":{"$error":"#REF!"}},"8 - Distribuição do Valor Adicionado","8.1.1 - Pessoal e Diárias"]
["3.1.3.2.1.04.00",{"$f":"VLOOKUP(A131,#REF!,2,0)","v":{"$error":"#REF!"}},"8 - Distribuição do Valor Adicionado","8.1.1 - Pessoal e Diárias"]
["3.1.3.2.1.05.00",{"$f":"VLOOKUP(A132,#REF!,2,0)","v":{"$error":"#REF!"}},"8 - Distribuição do Valor Adicionado","8.1.1 - Pessoal e Diárias"]
["3.1.3.2.1.06.00",{"$f":"VLOOKUP(A133,#REF!,2,0)","v":{"$error":"#REF!"}},"8 - Distribuição do Valor Adicionado","8.1.1 - Pessoal e Diárias"]
["3.1.3.2.1.07.00",{"$f":"VLOOKUP(A134,#REF!,2,0)","v":{"$error":"#REF!"}},"8 - Distribuição do Valor Adicionado","8.1.1 - Pessoal e Diárias"]
["3.1.9.1.1.01.00",{"$f":"VLOOKUP(A135,#REF!,2,0)","v":{"$error":"#REF!"}},"8 - Distribuição do Valor Adicionado","8.1.1 - Pessoal e Diárias"]
["3.1.2.2.2.09.00",{"$f":"VLOOKUP(A136,#REF!,2,0)","v":{"$error":"#REF!"}},"8 - Distribuição do Valor Adicionado","8.1.1 - Pessoal e Diárias"]
["3.1.9.2.1.01.00",{"$f":"VLOOKUP(A137,#REF!,2,0)","v":{"$error":"#REF!"}},"8 - Distribuição do Valor Adicionado","8.1.1 - Pessoal e Diárias"]
["3.1.9.2.2.01.00",{"$f":"VLOOKUP(A138,#REF!,2,0)","v":{"$error":"#REF!"}},"8 - Distribuição do Valor Adicionado","8.1.1 - Pessoal e Diárias"]
["3.1.9.2.4.01.00",{"$f":"VLOOKUP(A139,#REF!,2,0)","v":{"$error":"#REF!"}},"8 - Distribuição do Valor Adicionado","8.1.1 - Pessoal e Diárias"]
["3.1.9.2.5.01.00",{"$f":"VLOOKUP(A140,#REF!,2,0)","v":{"$error":"#REF!"}},"8 - Distribuição do Valor Adicionado","8.1.1 - Pessoal e Diárias"]
["3.9.4.1.1.01.00",{"$f":"VLOOKUP(A141,#REF!,2,0)","v":{"$error":"#REF!"}},"8 - Distribuição do Valor Adicionado","8.1.1 - Pessoal e Diárias"]
["3.9.7.1.1.01.00",{"$f":"VLOOKUP(A142,#REF!,2,0)","v":{"$error":"#REF!"}},"8 - Distribuição do Valor Adicionado","8.1.1 - Pessoal e Diárias"]
["3.9.7.4.1.01.00",{"$f":"VLOOKUP(A143,#REF!,2,0)","v":{"$error":"#REF!"}},"8 - Distribuição do Valor Adicionado","8.1.1 - Pessoal e Diárias"]
["3.9.9.6.1.01.00",{"$f":"VLOOKUP(A144,#REF!,2,0)","v":{"$error":"#REF!"}},"8 - Distribuição do Valor Adicionado","8.1.1 - Pessoal e Diárias"]
["3.9.9.6.2.02.00",{"$f":"VLOOKUP(A145,#REF!,2,0)","v":{"$error":"#REF!"}},"8 - Distribuição do Valor Adicionado","8.1.1 - Pessoal e Diárias"]
["3.9.9.6.4.02.00",{"$f":"VLOOKUP(A146,#REF!,2,0)","v":{"$error":"#REF!"}},"8 - Distribuição do Valor Adicionado","8.1.1 - Pessoal e Diárias"]
["3.9.4.2.1.01.00",{"$f":"VLOOKUP(A147,#REF!,2,0)","v":{"$error":"#REF!"}},"8 - Distribuição do Valor Adicionado","8.1.1 - Pessoal e Diárias"]
["3.9.9.6.1.02.00",{"$f":"VLOOKUP(A148,#REF!,2,0)","v":{"$error":"#REF!"}},"8 - Distribuição do Valor Adicionado","8.1.1 - Pessoal e Diárias"]
["8.1.2 - Encargos",null,"8 - Distribuição do Valor Adicionado","8.1.2 - Encargos"]
["3.1.2.1.2.01.00",{"$f":"VLOOKUP(A150,#REF!,2,0)","v":{"$error":"#REF!"}},"8 - Distribuição do Valor Adicionado","8.1.2 - Encargos"]
["3.1.2.2.2.01.00",{"$f":"VLOOKUP(A151,#REF!,2,0)","v":{"$error":"#REF!"}},"8 - Distribuição do Valor Adicionado","8.1.2 - Encargos"]
["3.1.2.3.1.01.00",{"$f":"VLOOKUP(A152,#REF!,2,0)","v":{"$error":"#REF!"}},"8 - Distribuição do Valor Adicionado","8.1.2 - Encargos"]
["3.1.3.2.1.01.00",{"$f":"VLOOKUP(A153,#REF!,2,0)","v":{"$error":"#REF!"}},"8 - Distribuição do Valor Adicionado","8.1.2 - Encargos"]
["8.2 - Remuneração do Governo",null,"8 - Distribuição do Valor Adicionado","8.2 - Remuneração do Governo"]
["8.2.1 - Impostos, Taxas, Contribuições, Multas e Juros",null,"8 - Distribuição do Valor Adicionado","8.2.1 - Impostos, Taxas, Contribuições, Multas e Juros"]
["3.4.2.4.1.01.00",{"$f":"VLOOKUP(A156,#REF!,2,0)","v":{"$error":"#REF!"}},"8 - Distribuição do Valor Adicionado","8.2.1 - Impostos, Taxas, Contribuições, Multas e Juros"]
["3.4.2.4.2.01.00",{"$f":"VLOOKUP(A157,#REF!,2,0)","v":{"$error":"#REF!"}},"8 - Distribuição do Valor Adicionado","8.2.1 - Impostos, Taxas, Contribuições, Multas e Juros"]
["3.4.2.4.2.03.00",{"$f":"VLOOKUP(A158,#REF!,2,0)","v":{"$error":"#REF!"}},"8 - Distribuição do Valor Adicionado","8.2.1 - Impostos, Taxas, Contribuições, Multas e Juros"]
["3.4.2.4.1.02.00",{"$f":"VLOOKUP(A159,#REF!,2,0)","v":{"$error":"#REF!"}},"8 - Distribuição do Valor Adicionado","8.2.1 - Impostos, Taxas, Contribuições, Multas e Juros"]
["3.4.2.4.1.03.00",{"$f":"VLOOKUP(A160,#REF!,2,0)","v":{"$error":"#REF!"}},"8 - Distribuição do Valor Adicionado","8.2.1 - Impostos, Taxas, Contribuições, Multas e Juros"]
["3.4.2.3.1.01.00",{"$f":"VLOOKUP(A161,#REF!,2,0)","v":{"$error":"#REF!"}},"8 - Distribuição do Valor Adicionado","8.2.1 - Impostos, Taxas, Contribuições, Multas e Juros"]
["3.4.2.3.1.02.00",{"$f":"VLOOKUP(A162,#REF!,2,0)","v":{"$error":"#REF!"}},"8 - Distribuição do Valor Adicionado","8.2.1 - Impostos, Taxas, Contribuições, Multas e Juros"]
["3.4.2.3.1.03.00",{"$f":"VLOOKUP(A163,#REF!,2,0)","v":{"$error":"#REF!"}},"8 - Distribuição do Valor Adicionado","8.2.1 - Impostos, Taxas, Contribuições, Multas e Juros"]
["3.4.2.4.2.02.00",{"$f":"VLOOKUP(A164,#REF!,2,0)","v":{"$error":"#REF!"}},"8 - Distribuição do Valor Adicionado","8.2.1 - Impostos, Taxas, Contribuições, Multas e Juros"]
["3.4.2.4.4.02.00",{"$f":"VLOOKUP(A165,#REF!,2,0)","v":{"$error":"#REF!"}},"8 - Distribuição do Valor Adicionado","8.2.1 - Impostos, Taxas, Contribuições, Multas e Juros"]
["3.4.2.4.4.03.00",{"$f":"VLOOKUP(A166,#REF!,2,0)","v":{"$error":"#REF!"}},"8 - Distribuição do Valor Adicionado","8.2.1 - Impostos, Taxas, Contribuições, Multas e Juros"]
["3.4.2.4.5.01.00","MULTAS DEDUTIVEIS","8 - Distribuição do Valor Adicionado","8.2.1 - Impostos, Taxas, Contribuições, Multas e Juros"]
["3.4.2.4.5.02.00","MULTAS INDEDUTIVEIS","8 - Distribuição do Valor Adicionado","8.2.1 - Impostos, Taxas, Contribuições, Multas e Juros"]
["3.4.2.4.5.03.00",{"$f":"VLOOKUP(A169,#REF!,2,0)","v":{"$error":"#REF!"}},"8 - Distribuição do Valor Adicionado","8.2.1 - Impostos, Taxas, Contribuições, Multas e Juros"]
["3.4.3.9.1.01.01",{"$f":"VLOOKUP(A170,#REF!,2,0)","v":{"$error":"#REF!"}},"8 - Distribuição do Valor Adicionado","8.2.1 - Impostos, Taxas, Contribuições, Multas e Juros"]
["3.9.9.5.1.01.00","MULTAS INDEDUTIVEIS","8 - Distribuição do Valor Adicionado","8.2.1 - Impostos, Taxas, Contribuições, Multas e Juros"]
["3.9.9.5.4.01.00","ENCARGOS FINANCEIROS DEDUTIVEIS","8 - Distribuição do Valor Adicionado","8.2.1 - Impostos, Taxas, Contribuições, Multas e Juros"]
["3.9.9.5.2.01.00",{"$f":"VLOOKUP(A173,#REF!,2,0)","v":{"$error":"#REF!"}},"8 - Distribuição do Valor Adicionado","8.2.1 - Impostos, Taxas, Contribuições, Multas e Juros"]
["3.4.3.9.2.01.01",{"$f":"VLOOKUP(A174,#REF!,2,0)","v":{"$error":"#REF!"}},"8 - Distribuição do Valor Adicionado","8.2.1 - Impostos, Taxas, Contribuições, Multas e Juros"]
["3.7.1.1.1.02.00",{"$f":"VLOOKUP(A175,#REF!,2,0)","v":{"$error":"#REF!"}},"8 - Distribuição do Valor Adicionado","8.2.1 - Impostos, Taxas, Contribuições, Multas e Juros"]
["3.7.1.1.5.02.00",{"$f":"VLOOKUP(A176,#REF!,2,0)","v":{"$error":"#REF!"}},"8 - Distribuição do Valor Adicionado","8.2.1 - Impostos, Taxas, Contribuições, Multas e Juros"]
["3.7.1.2.1.01.00",{"$f":"VLOOKUP(A177,#REF!,2,0)","v":{"$error":"#REF!"}},"8 - Distribuição do Valor Adicionado","8.2.1 - Impostos, Taxas, Contribuições, Multas e Juros"]
["3.7.1.2.2.01.00",{"$f":"VLOOKUP(A178,#REF!,2,0)","v":{"$error":"#REF!"}},"8 - Distribuição do Valor Adicionado","8.2.1 - Impostos, Taxas, Contribuições, Multas e Juros"]
["3.7.1.2.4.01.00",{"$f":"VLOOKUP(A179,#REF!,2,0)","v":{"$error":"#REF!"}},"8 - Distribuição do Valor Adicionado","8.2.1 - Impostos, Taxas, Contribuições, Multas e Juros"]
["3.7.1.2.5.01.00",{"$f":"VLOOKUP(A180,#REF!,2,0)","v":{"$error":"#REF!"}},"8 - Distribuição do Valor Adicionado","8.2.1 - Impostos, Taxas, Contribuições, Multas e Juros"]
["3.7.2.1.2.04.00",{"$f":"VLOOKUP(A181,#REF!,2,0)","v":{"$error":"#REF!"}},"8 - Distribuição do Valor Adicionado","8.2.1 - Impostos, Taxas, Contribuições, Multas e Juros"]
["3.7.2.3.1.01.00",{"$f":"VLOOKUP(A182,#REF!,2,0)","v":{"$error":"#REF!"}},"8 - Distribuição do Valor Adicionado","8.2.1 - Impostos, Taxas, Contribuições, Multas e Juros"]
["3.7.2.3.5.01.00",{"$f":"VLOOKUP(A183,#REF!,2,0)","v":{"$error":"#REF!"}},"8 - Distribuição do Valor Adicionado","8.2.1 - Impostos, Taxas, Contribuições, Multas e Juros"]
["8.3 - Remuneração do Capital de Terceiros",null,"8 - Distribuição do Valor Adicionado","8.3 - Remuneração do Capital de Terceiros"]
["8.3.1 - Aluguéis",null,"8 - Distribuição do Valor Adicionado","8.3.1 - Aluguéis"]
["3.3.2.3.1.09.00",{"$f":"VLOOKUP(A186,#REF!,2,0)","v":{"$error":"#REF!"}},"8 - Distribuição do Valor Adicionado","8.3.1 - Aluguéis"]
["3.3.2.3.4.09.00",{"$f":"VLOOKUP(A187,#REF!,2,0)","v":{"$error":"#REF!"}},"8 - Distribuição do Valor Adicionado","8.3.1 - Aluguéis"]
["3.3.2.2.1.08.00",{"$f":"VLOOKUP(A188,#REF!,2,0)","v":{"$error":"#REF!"}},"8 - Distribuição do Valor Adicionado","8.3.1 - Aluguéis"]
["3.3.2.3.5.09.00",{"$f":"VLOOKUP(A189,#REF!,2,0)","v":{"$error":"#REF!"}},"8 - Distribuição do Valor Adicionado","8.3.1 - Aluguéis"]
["3.3.2.3.2.09.00",{"$f":"VLOOKUP(A190,#REF!,2,0)","v":{"$error":"#REF!"}},"8 - Distribuição do Valor Adicionado","8.3.1 - Aluguéis"]
["8.4 - Remuneração de Capital Próprio",null,"8 - Distribuição do Valor Adicionado","8.4 - Remuneração de Capital Próprio"]
["8.4.1 Resultado do Exercício",null,"8 - Distribuição do Valor Adicionado","8.4.1 Resultado do Exercício"]