{"text_format":"1","workbook":"xlsx","n_sheets":6,"sheets":["BP","DR","DFC","DVA","DMPL","--"],"not_rendered":{"charts":0,"images":0,"macros":1,"external_links":0,"defined_names":2,"comments":0,"pivot_tables":0},"unopened":[],"bounds":{"document_bytes":16777216,"sheet_cells":100000,"rows_first":2000,"rows_last":500,"rows_between":2000,"halvings":0,"cell_chars":16384,"cell_head_chars":4096},"cells_cut":0,"cells_raw":0,"read":"whole","date_system":"1900"}

{"sheet":"BP","index":0,"n_rows":56,"n_cols":8,"rows_kept":56,"cut":false,"hidden":false,"merged":[[0,1,0,7],[3,1,3,4],[1,6,1,7],[30,6,30,7]]}
[null,"EBSERH - EMPRESA BRASILEIRA DE SERVIÇOS HOSPITALARES"]
[null,"Balanço Patrimonial Consolidado ",null,null,null,null,"30 de Setembro de 2020"]
[null,"Em reais"]
[null,"ATIVO ",null,null,null,"NOTA","30.09.2020","31.12.2019"]
[null,"CIRCULANTE",null,null,null,"1.1",1715840565.3199999,811323437.56000018]
[null,null,"Caixa e Equivalentes de Caixa",null,null,"1.1.1",819666095.80000007,571660067.48000002]
[null,null,"Valores a Curto Prazo - SUS",null,null,"1.1.2",35751338.009999998,31687262.81000001]
[null,null,"Subvenção de Custeio SUS a Receber",null,null,"1.1.3",401285976.63999999,0]
[null,null,"Adiantamentos e Créditos a Receber",null,null,"1.1.4",134038759.11999999,18069597.82]
[null,null,"Estoques",null,null,"1.1.5",325098395.75,189906509.44999999]
[null,null,"Valores em Liquidação",null,null,null,0,0]
[null,"NÃO CIRCULANTE",null,null,null,"1.2",409727171.45784295,272852213.68892306]
[null,null,"Valores a Receber",null,null,null,0,0]
[null,null,"Depósitos Judiciais",null,null,"1.2.1",17544702.440000001,11847225.620000001]
[null,null,"Outras Despesas Antecipadas",null,null,"1.2.2",9067.11,0]
[null,null,"Imobilizado",null,null,"1.2.3",347213439.12083399,217745484.08799946]
[null,null,null,"Bens Móveis",null,"1.2.3.1",392419953.12083399,282786502.69373602]
[null,null,null,null,"Depreciação Bens Móveis","1.2.3.4",-87441675.670000002,-67631977.150000006]
[null,null,null,null,"Redução a Valor Recup. De Imobilizado","1.2.3.5",-6165879.6399999997,-6153142.4357365416]
[null,null,null,"Bens Imóveis",null,"1.2.3.2",48507879.689999998,8817256.7300000004]
[null,null,null,null,"Depreciação Bens Imóveis","1.2.3.4",-106838.38,-73155.75]
[null,null,"Intangível",null,null,"1.2.4",44959962.787008919,43259503.9809236]
[null,null,null,"Direito de uso de Imóvel",null,null,572690.39700891997,0]
[null,null,null,"Softwares",null,null,55515052.990000002,50441020.780923612]
[null,null,null,"Amortização Bens Intangíveis",null,null,-7469237.9800000004,-3522974.18]
[null,null,null,"Redução a Valor Recup. De Intangível",null,"1.2.3.5",-3658542.62,-3658542.62]
[null,"TOTAL DO ATIVO",null,null,null,null,2125567736.777843,1084175651.2489233]
[null,"As notas explicativas da Administração são parte integrante das demonstrações contábeis consolidadas"]
[]
[null,"EBSERH - EMPRESA BRASILEIRA DE SERVIÇOS HOSPITALARES"]
[null,"Balanço Patrimonial Consolidado ",null,null,null,null,"30 de Setembro de 2020"]
[null,"Em reais"]
[null,"PASSIVO",null,null,null,"NOTA","30.09.2020","31.12.2019"]
[null,"CIRCULANTE",null,null,null,"2.1",2075058254.1499999,1081092478.5999999]
[null,null,"Obrigações Trabalhistas a Pagar",null,null,"2.1.1",1081406451.5,785926415.2392]
[null,null,"Fornecedores e Contas a Pagar a Curto Prazo",null,null,"2.1.2",92690453.450000003,140099773.03]
[null,null,"Retenções de Impostos, Contribuições",null,null,"2.1.3",7473363.0899999999,36732279.500799991]
[null,null,"Obrigações Transitórias a Curto Prazo",null,null,"2.1.4",37247459.249999993,118334010.83]
[null,null,"Subvenção a Realizar",null,null,"2.1.5",856240526.8599999,0]
[null,"NÃO CIRCULANTE",null,null,null,null,131421206.09784059,291505309.59465969]
[null,null,"Contratos de Arrendamento a Pagar",null,null,"2.2",18924155.9878406,11665781.0546597]
[null,null,"Contingência para Indenizações Trabalhistas",null,null,"2.3",86423990.590000004,77245927.939999998]
[null,null,"Contingência para Indenizações Cíveis",null,null,"2.3",26073059.52,40686739.509999998]
[null,null,"Adiantamento Para Futuro Aumento de Capital - AFAC",null,null,"2.4",0,161906861.09]
[null,"PATRIMÔNIO LÍQUIDO",null,null,null,"2.5",-80911723.469997883,-288422136.94573736]
[null,null,"Capital Social Realizado",null,null,"2.5.1",381384237.75,5000000]
[null,null,"Adiantamento Para Futuro Aumento de Capital - AFAC",null,null,"2.5.2",67050000,219135056.91999999]
[null,null,"Ajustes de Avaliação Patrimonial de Ativos",null,null,null,0,0]
[null,null,"Resultados Acumulados",null,null,null,-529345961.21999788,-512557193.86573732]
[null,null,null,"Prejuizos Acumulados de Exer. Anteriores",null,"2.5.3",-512557193.87,-339361890.14573699]
[null,null,null,"Ajustes de Exercícios Anteriores",null,"2.5.4",-3324953.8599999906,-55285386.789999999]
[null,null,null,"Resultado do Exercício",null,"2.5.5",-13463813.489997864,-117909916.93000031]
[null,"TOTAL DO PASSIVO",null,null,null,null,2125567736.7778425,1084175651.2489223]
[null,"As notas explicativas da Administração são parte integrante das Demonstrações Contábeis Consolidadas"]
[]
[null,null,null,null,null,null,{"$f":"G53-G27","v":0},{"$f":"H53-H27","v":0}]

{"sheet":"DR","index":1,"n_rows":52,"n_cols":10,"rows_kept":52,"cut":false,"hidden":false,"merged":[[3,1,3,3],[0,1,0,8],[30,1,30,3],[16,2,16,3],[19,2,19,3],[7,1,7,3],[22,2,22,3],[24,2,24,3],[8,2,8,3],[13,2,13,3],[2,7,2,8],[1,6,1,8],[39,1,39,8],[25,1,25,3],[26,1,26,3],[29,1,29,3],[34,1,34,3],[36,1,36,3],[38,1,38,3]]}
[null,"EBSERH - EMPRESA BRASILEIRA DE SERVIÇOS HOSPITALARES"]
[null,"Demonstração do Resultado",null,null,null,null,"30 de Setembro  de 2020"]
[null,"Em reais",null,null,null,null,null,"Reapresentação"]
[null,"DESCRIÇÃO",null,null,"Nota","01.07.2020                               a                          30.09.2020","01.01.2020                               a                          30.09.2020","01.07.2019                        a                      30.09.2019","01.01.2019                                a                          30.09.2019"]
[null,"Receita Bruta",null,null,"3.1",37318818.140000001,79751430.969999999,16248064.57,16248064.57]
[null,null,"Receita com Serviços",null,null,37318818.140000001,79751430.969999999,16248064.57,16248064.57]
[null,null,null,"Receita de Serviços e Exploração","3.1.1",37318818.140000001,79751430.969999999,16248064.57,16248064.57]
[null,"Despesas Operacionais",null,null,"3.3",-1928931867.0500002,-5375648145.0200005,-1327251562.26,-4094024458.27]
[null,null,"Despesa com Pessoal, Encargos e Benefícios",null,"3.3.1",-1347153574.9599996,-3923126339.8199997,-1092817621.8600001,-3261861617.1300001]
[null,null,null,"Remuneração a Pessoal","3.3.2",-959955219.69999981,-2767634420.9499998,-808167895.62000012,-2369142082.5700002]
[null,null,null,"Encargos Patronais","3.3.3",-305486346.54999995,-941458327.46999991,-163807637.84000003,-725738754.86000001]
[null,null,null,"Benefícios a Pessoal","3.3.4",-78754626.230000004,-207315041.19,-118942183.15999998,-158983088.26999998]
[null,null,null,"Outras Despesas com Pessoal e Encargos","3.3.5",-2957382.4799999995,-6718550.21,-1899905.2400000002,-7997691.4299999997]
[null,null,"Despesa com Uso de Bens e Serviços",null,null,-526196453.13000011,-1371445314.0300002,-205772078.58999997,-715171895.45999992]
[null,null,null,"Uso de Material de Consumo","3.3.6",-250205922.79000002,-598972579.66000009,-100476742.68999994,-275185079.5]
[null,null,null,"Serviços Tomados","3.3.7",-275990530.34000021,-772472734.37000024,-105295335.90000004,-439986815.95999992]
[null,null,"Despesa com Bens Móveis, Imóveis e Intangíveis",null,null,-10053631.82,-25636644.91,-6592397.8199999966,-17228020.099999998]
[null,null,null,"Depreciação, Amortização e Impairment","3.3.8",-8129832.379999999,-23619532.379999999,-6592397.8199999966,-17228020.099999998]
[null,null,null,"Perdas Involuntárias e Desfazimentos","3.3.9",-1923799.44,-2017112.53,0,0]
[null,null,"Contingência para Riscos Fiscais",null,"3.3.10",-44132479.469999999,-45540778.289999999,0,-27709470.830000002]
[null,null,null,"Contigência para Riscos Fiscais Trabalhistas",null,-26421621.649999999,-27829920.469999999,0,-20853831.300000001]
[null,null,null,"Contigência para Riscos Fiscais Cíveis",null,-17710857.82,-17710857.82,0,-6855639.5300000003]
[null,null,"Despesas Tributárias",null,"3.3.11",-148108.81000000011,-656742.87000000011,-44615.259999999951,-437392.31]
[null,null,null,"Impostos, Taxas e Contribuições",null,-148108.81000000011,-656742.87000000011,-44615.259999999951,-437392.31]
[null,null,"Outras Despesas Operacionais",null,"3.3.12",-1247618.8599999994,-9242325.0999999996,-22024848.729999997,-71616062.439999998]
[null,"Resultado Antes das Rec./Desp. Financeiras",null,null,null,-1891613048.9099998,-5295896714.0500002,-1311003497.6900001,-4077776393.6999998]
[null,"Resultados Financeiros",null,null,null,-586329.15000000037,2592304.2999999998,-2961076.54,-8517377.8800000008]
[null,null,null,"Receitas Financeiras","3.3.13",-417444.98,3617046,101493.32999999996,429752.76999999996]
[null,null,null,"Despesas Financeiras","3.3.14",-168884.16999999993,-1024741.7,-3062569.87,-8947130.6500000004]
[null,"Resultado antes da Subvenção do Tesouro Nacional",null,null,"3.3.15",-1892199378.0599999,-5293304409.75,-1313964574.23,-4086293771.5799999]
[null,"Subvenção do Tesouro Nacional",null,null,"3.3.16",1889093785.7800021,5279840596.2600021,1813632136.5999999,4070627848.7600012]
[null,null,null,"Subvenção do Tesouro Nacional",null,1443260753.1900015,3858731457.4000015,1305350128.8,3562345840.9600015]
[null,null,null,"Subvenção de Custeio SUS",null,422725634.49999988,1173448041.3499999,508282007.79999983,508282007.79999983]
[null,null,null,"Subvenção de Crédito Extraordinário Covid-19",null,23107398.090000004,247661097.50999999,0,0]
[null,"Resultado antes da Cont. Social Sobre o Lúcro Líquido",null,null,"3.3.17",-3105592.2799973488,-13463813.489997864,499667562.36999989,-15665922.819998741]
[null,null,null,"Provisão Contribuição Social",null,0,0,0,0]
[null,"Resultado antes do Imposto de Renda",null,null,null,-3105592.2799973488,-13463813.489997864,499667562.36999989,-15665922.819998741]
[null,null,null,"Provisão para Imposto de Renda",null,0,0,0,0]
[null,"Resultado do Exercício",null,null,"3.3.19",-3105592.2799973488,-13463813.489997864,499667562.36999989,-15665922.819998741]
[null,"As notas explicativas da Administração são parte integrante das Demonstrações Contábeis Consolidadas"]
[]
[]
[]
[null,null,null,null,null,null,null,null,null,"IR Sobre a Base"]
[null,null,null,null,null,null,null,null,null,"Adicional IR"]
[null,null,null,null,null,null,null,null,null,"CSLL a Recolher"]
[null,null,null,null,null,null,null,null,null,"Total de IR Apurado"]
[null,null,null,null,null,null,"Prejuízo Acumulado",null,null,"Compensação de Prejuízo Fiscal Acumulado"]
[null,null,null,null,null,null,"30% Base de Calculo"]
[null,null,null,null,null,null,null,null,null,"IR a Recolher"]
[null,null,null,null,null,null,null,null,null,"CSLL a Recolher"]
[null,null,null,null,null,null,null,null,null,"Total"]

{"sheet":"DFC","index":2,"n_rows":49,"n_cols":12,"rows_kept":49,"cut":false,"hidden":false,"merged":[[0,0,0,6],[1,10,1,11],[5,8,5,9],[0,8,0,11]]}
["Organizador de DFC",null,null,null,null,null,null,null,"EBSERH - EMPRESA BRASILEIRA DE SERVIÇOS HOSPITALARES"]
["Grupo","Conta Contábil","Valor Fechamento","Valor anterior","Análise","Regra","Δ Variação",null,"Demonstração do Fluxo de Caixa - Método Indireto",null,{"$f":"BP!G2","v":"30 de Setembro de 2020"}]
[null,null,null,null,null,null,null,null,"Em reais"]
["Passivo-C","Resultado do Exercício",{"$f":"IFERROR(IFERROR(IFERROR(INDEX(BP!B:H,MATCH(B4,BP!C:C,0),6),INDEX(BP!B:H,MATCH(B4,BP!D:D,0),6)),INDEX(BP!B:H,MATCH(B4,BP!E:E,0),6)),\"\")","v":-13463813.489997864},{"$f":"IFERROR(IFERROR(IFERROR(INDEX(BP!B:H,MATCH(B4,BP!C:C,0),7),INDEX(BP!B:H,MATCH(B4,BP!D:D,0),7)),INDEX(BP!B:H,MATCH(B4,BP!E:E,0),7)),\"\")","v":-117909916.93000031},{"$f":"IF(A4=\"\",\"\",IF(C4>D4,\"Aumento em\",\"Redução em\"))","v":"Aumento em"},{"$f":"IF(A4=\"\",\"\",IF(AND(LEFT(A4,5)=\"Ativo\",C4>D4),\"(-)\",IF(AND(LEFT(A4,5)=\"Ativo\",C4<D4),\"(+)\",IF(AND(LEFT(A4,7)=\"Passivo\",C4>D4),\"(+)\",IF(AND(LEFT(A4,7)=\"Passivo\",C4<D4),\"(-)\",\"-\")))))","v":"(+)"},{"$f":"IFERROR(IF(C4-D4>=0,C4-D4,(C4-D4)*-1),\"\")","v":104446103.44000244},null,"DESCRIÇÃO",null,"01.01.2020               a                     30.09.2020","01.01.2019       a         30.09.2019"]
[{"$f":"IF(LEFT(#REF!,7)=\"Despesa\",\"\",IF(LEFT(#REF!,7)=\"Receita\",\"\",#REF!))","v":{"$error":"#REF!"}},{"$f":"IF(LEFT(A5,7)=\"Despesa\",\"\",IF(LEFT(A5,7)=\"Receita\",\"\",IF(A5=\"\",\"\",#REF!)))","v":{"$error":"#REF!"}},{"$f":"IFERROR(IFERROR(IFERROR(INDEX(BP!B:H,MATCH(B5,BP!C:C,0),6),INDEX(BP!B:H,MATCH(B5,BP!D:D,0),6)),INDEX(BP!B:H,MATCH(B5,BP!E:E,0),6)),\"\")","v":""},{"$f":"IFERROR(IFERROR(IFERROR(INDEX(BP!B:H,MATCH(B5,BP!C:C,0),7),INDEX(BP!B:H,MATCH(B5,BP!D:D,0),7)),INDEX(BP!B:H,MATCH(B5,BP!E:E,0),7)),\"\")","v":""},{"$f":"IF(A5=\"\",\"\",IF(C5>D5,\"Aumento em\",\"Redução em\"))","v":{"$error":"#REF!"}},{"$error":"#REF!"},{"$f":"IFERROR(IF(C5-D5>=0,C5-D5,(C5-D5)*-1),\"\")","v":""},null,"FLUXO DE CAIXA DAS ATIVIDADES OPERACIONAIS"]
[{"$f":"IF(LEFT(#REF!,7)=\"Despesa\",\"\",IF(LEFT(#REF!,7)=\"Receita\",\"\",#REF!))","v":{"$error":"#REF!"}},{"$f":"IF(LEFT(A6,7)=\"Despesa\",\"\",IF(LEFT(A6,7)=\"Receita\",\"\",IF(A6=\"\",\"\",#REF!)))","v":{"$error":"#REF!"}},{"$f":"IFERROR(IFERROR(IFERROR(INDEX(BP!B:H,MATCH(B6,BP!C:C,0),6),INDEX(BP!B:H,MATCH(B6,BP!D:D,0),6)),INDEX(BP!B:H,MATCH(B6,BP!E:E,0),6)),\"\")","v":""},{"$f":"IFERROR(IFERROR(IFERROR(INDEX(BP!B:H,MATCH(B6,BP!C:C,0),7),INDEX(BP!B:H,MATCH(B6,BP!D:D,0),7)),INDEX(BP!B:H,MATCH(B6,BP!E:E,0),7)),\"\")","v":""},{"$f":"IF(A6=\"\",\"\",IF(C6>D6,\"Aumento em\",\"Redução em\"))","v":{"$error":"#REF!"}},{"$error":"#REF!"},{"$f":"IF(F6=\"(-)\",IFERROR(IF(C6-D6>=0,C6-D6,(C6-D6)*-1),\"\")*-1,IFERROR(IF(C6-D6>=0,C6-D6,(C6-D6)*-1),\"\"))","v":{"$error":"#REF!"}},null,"Resultado do Exercício",null,-13463813.489997864,-15665922.819998741]
[{"$f":"IF(LEFT(#REF!,7)=\"Despesa\",\"\",IF(LEFT(#REF!,7)=\"Receita\",\"\",#REF!))","v":{"$error":"#REF!"}},{"$f":"IF(LEFT(A7,7)=\"Despesa\",\"\",IF(LEFT(A7,7)=\"Receita\",\"\",IF(A7=\"\",\"\",#REF!)))","v":{"$error":"#REF!"}},{"$f":"IFERROR(IFERROR(IFERROR(INDEX(BP!B:H,MATCH(B7,BP!C:C,0),6),INDEX(BP!B:H,MATCH(B7,BP!D:D,0),6)),INDEX(BP!B:H,MATCH(B7,BP!E:E,0),6)),\"\")","v":""},{"$f":"IFERROR(IFERROR(IFERROR(INDEX(BP!B:H,MATCH(B7,BP!C:C,0),7),INDEX(BP!B:H,MATCH(B7,BP!D:D,0),7)),INDEX(BP!B:H,MATCH(B7,BP!E:E,0),7)),\"\")","v":""},{"$f":"IF(A7=\"\",\"\",IF(C7>D7,\"Aumento em\",\"Redução em\"))","v":{"$error":"#REF!"}},{"$error":"#REF!"},{"$error":"#REF!"},null,"Ajustes de Exercícios Anteriores",null,373059283.88999999,-3666994.3099999996]
[{"$f":"IF(LEFT(#REF!,7)=\"Despesa\",\"\",IF(LEFT(#REF!,7)=\"Receita\",\"\",#REF!))","v":{"$error":"#REF!"}},{"$f":"IF(LEFT(A8,7)=\"Despesa\",\"\",IF(LEFT(A8,7)=\"Receita\",\"\",IF(A8=\"\",\"\",#REF!)))","v":{"$error":"#REF!"}},{"$f":"IFERROR(IFERROR(IFERROR(INDEX(BP!B:H,MATCH(B8,BP!C:C,0),6),INDEX(BP!B:H,MATCH(B8,BP!D:D,0),6)),INDEX(BP!B:H,MATCH(B8,BP!E:E,0),6)),\"\")","v":""},{"$f":"IFERROR(IFERROR(IFERROR(INDEX(BP!B:H,MATCH(B8,BP!C:C,0),7),INDEX(BP!B:H,MATCH(B8,BP!D:D,0),7)),INDEX(BP!B:H,MATCH(B8,BP!E:E,0),7)),\"\")","v":""},{"$error":"#REF!"},{"$error":"#REF!"},{"$error":"#REF!"},null,"Depreciação e Amortização",null,23789644.949999996,17208997.810000002]
[{"$f":"IF(LEFT(#REF!,7)=\"Despesa\",\"\",IF(LEFT(#REF!,7)=\"Receita\",\"\",#REF!))","v":{"$error":"#REF!"}},{"$f":"IF(LEFT(A9,7)=\"Despesa\",\"\",IF(LEFT(A9,7)=\"Receita\",\"\",IF(A9=\"\",\"\",#REF!)))","v":{"$error":"#REF!"}},{"$f":"IFERROR(IFERROR(IFERROR(INDEX(BP!B:H,MATCH(B9,BP!C:C,0),6),INDEX(BP!B:H,MATCH(B9,BP!D:D,0),6)),INDEX(BP!B:H,MATCH(B9,BP!E:E,0),6)),\"\")","v":""},{"$f":"IFERROR(IFERROR(IFERROR(INDEX(BP!B:H,MATCH(B9,BP!C:C,0),7),INDEX(BP!B:H,MATCH(B9,BP!D:D,0),7)),INDEX(BP!B:H,MATCH(B9,BP!E:E,0),7)),\"\")","v":""},{"$error":"#REF!"},{"$error":"#REF!"},{"$error":"#REF!"},null,"Redução a Valor Recup. De Intangível",null,null,0]
[{"$f":"IF(LEFT(#REF!,7)=\"Despesa\",\"\",IF(LEFT(#REF!,7)=\"Receita\",\"\",#REF!))","v":{"$error":"#REF!"}},{"$f":"IF(LEFT(A10,7)=\"Despesa\",\"\",IF(LEFT(A10,7)=\"Receita\",\"\",IF(A10=\"\",\"\",#REF!)))","v":{"$error":"#REF!"}},{"$f":"IFERROR(IFERROR(IFERROR(INDEX(BP!B:H,MATCH(B10,BP!C:C,0),6),INDEX(BP!B:H,MATCH(B10,BP!D:D,0),6)),INDEX(BP!B:H,MATCH(B10,BP!E:E,0),6)),\"\")","v":""},{"$f":"IFERROR(IFERROR(IFERROR(INDEX(BP!B:H,MATCH(B10,BP!C:C,0),7),INDEX(BP!B:H,MATCH(B10,BP!D:D,0),7)),INDEX(BP!B:H,MATCH(B10,BP!E:E,0),7)),\"\")","v":""},{"$error":"#REF!"},{"$error":"#REF!"},{"$error":"#REF!"},null,null,null,null,0]
[{"$f":"IF(LEFT(#REF!,7)=\"Despesa\",\"\",IF(LEFT(#REF!,7)=\"Receita\",\"\",#REF!))","v":{"$error":"#REF!"}},{"$f":"IF(LEFT(A11,7)=\"Despesa\",\"\",IF(LEFT(A11,7)=\"Receita\",\"\",IF(A11=\"\",\"\",#REF!)))","v":{"$error":"#REF!"}},{"$f":"IFERROR(IFERROR(IFERROR(INDEX(BP!B:H,MATCH(B11,BP!C:C,0),6),INDEX(BP!B:H,MATCH(B11,BP!D:D,0),6)),INDEX(BP!B:H,MATCH(B11,BP!E:E,0),6)),\"\")","v":""},{"$f":"IFERROR(IFERROR(IFERROR(INDEX(BP!B:H,MATCH(B11,BP!C:C,0),7),INDEX(BP!B:H,MATCH(B11,BP!D:D,0),7)),INDEX(BP!B:H,MATCH(B11,BP!E:E,0),7)),\"\")","v":""},{"$error":"#REF!"},{"$error":"#REF!"},{"$error":"#REF!"},null,"Ajustes de Avaliação Patrimonial de Ativos",null,0,0]
[null,null,null,null,null,null,null,null,"AFAC - PL"]
[{"$f":"IF(LEFT(#REF!,7)=\"Despesa\",\"\",IF(LEFT(#REF!,7)=\"Receita\",\"\",#REF!))","v":{"$error":"#REF!"}},{"$f":"IF(LEFT(A13,7)=\"Despesa\",\"\",IF(LEFT(A13,7)=\"Receita\",\"\",IF(A13=\"\",\"\",#REF!)))","v":{"$error":"#REF!"}},{"$f":"IFERROR(IFERROR(IFERROR(INDEX(BP!B:H,MATCH(B13,BP!C:C,0),6),INDEX(BP!B:H,MATCH(B13,BP!D:D,0),6)),INDEX(BP!B:H,MATCH(B13,BP!E:E,0),6)),\"\")","v":""},{"$f":"IFERROR(IFERROR(IFERROR(INDEX(BP!B:H,MATCH(B13,BP!C:C,0),7),INDEX(BP!B:H,MATCH(B13,BP!D:D,0),7)),INDEX(BP!B:H,MATCH(B13,BP!E:E,0),7)),\"\")","v":""},{"$error":"#REF!"},{"$error":"#REF!"},{"$error":"#REF!"},null,"Resultado do Exercício Ajustado",null,383385115.35000211,-2123919.3199987374]
[{"$f":"IF(LEFT(#REF!,7)=\"Despesa\",\"\",IF(LEFT(#REF!,7)=\"Receita\",\"\",#REF!))","v":{"$error":"#REF!"}},{"$f":"IF(LEFT(A14,7)=\"Despesa\",\"\",IF(LEFT(A14,7)=\"Receita\",\"\",IF(A14=\"\",\"\",#REF!)))","v":{"$error":"#REF!"}},{"$f":"IFERROR(IFERROR(IFERROR(INDEX(BP!B:H,MATCH(B14,BP!C:C,0),6),INDEX(BP!B:H,MATCH(B14,BP!D:D,0),6)),INDEX(BP!B:H,MATCH(B14,BP!E:E,0),6)),\"\")","v":""},{"$f":"IFERROR(IFERROR(IFERROR(INDEX(BP!B:H,MATCH(B14,BP!C:C,0),7),INDEX(BP!B:H,MATCH(B14,BP!D:D,0),7)),INDEX(BP!B:H,MATCH(B14,BP!E:E,0),7)),\"\")","v":""},{"$error":"#REF!"},{"$error":"#REF!"},{"$error":"#REF!"},null,"Variações Patrimoniais",null,19578971.763180733,120092306.57000004]
[{"$f":"IF(LEFT(#REF!,7)=\"Despesa\",\"\",IF(LEFT(#REF!,7)=\"Receita\",\"\",#REF!))","v":{"$error":"#REF!"}},{"$f":"IF(LEFT(A15,7)=\"Despesa\",\"\",IF(LEFT(A15,7)=\"Receita\",\"\",IF(A15=\"\",\"\",#REF!)))","v":{"$error":"#REF!"}},{"$f":"IFERROR(IFERROR(IFERROR(INDEX(BP!B:H,MATCH(B15,BP!C:C,0),6),INDEX(BP!B:H,MATCH(B15,BP!D:D,0),6)),INDEX(BP!B:H,MATCH(B15,BP!E:E,0),6)),\"\")","v":""},{"$f":"IFERROR(IFERROR(IFERROR(INDEX(BP!B:H,MATCH(B15,BP!C:C,0),7),INDEX(BP!B:H,MATCH(B15,BP!D:D,0),7)),INDEX(BP!B:H,MATCH(B15,BP!E:E,0),7)),\"\")","v":""},{"$error":"#REF!"},{"$error":"#REF!"},{"$error":"#REF!"},null,"Aumento em","Subvenção de Custeio SUS a Receber",-401285976.63999999,0]
[{"$f":"IF(LEFT(#REF!,7)=\"Despesa\",\"\",IF(LEFT(#REF!,7)=\"Receita\",\"\",#REF!))","v":{"$error":"#REF!"}},{"$f":"IF(LEFT(A16,7)=\"Despesa\",\"\",IF(LEFT(A16,7)=\"Receita\",\"\",IF(A16=\"\",\"\",#REF!)))","v":{"$error":"#REF!"}},{"$f":"IFERROR(IFERROR(IFERROR(INDEX(BP!B:H,MATCH(B16,BP!C:C,0),6),INDEX(BP!B:H,MATCH(B16,BP!D:D,0),6)),INDEX(BP!B:H,MATCH(B16,BP!E:E,0),6)),\"\")","v":""},{"$f":"IFERROR(IFERROR(IFERROR(INDEX(BP!B:H,MATCH(B16,BP!C:C,0),7),INDEX(BP!B:H,MATCH(B16,BP!D:D,0),7)),INDEX(BP!B:H,MATCH(B16,BP!E:E,0),7)),\"\")","v":""},{"$error":"#REF!"},{"$error":"#REF!"},{"$error":"#REF!"},null,"Aumento em","Valores a Curto Prazo - SUS",-4064075.1999999881,-66302840.570000008]
[{"$f":"IF(LEFT(#REF!,7)=\"Despesa\",\"\",IF(LEFT(#REF!,7)=\"Receita\",\"\",#REF!))","v":{"$error":"#REF!"}},{"$f":"IF(LEFT(A17,7)=\"Despesa\",\"\",IF(LEFT(A17,7)=\"Receita\",\"\",IF(A17=\"\",\"\",#REF!)))","v":{"$error":"#REF!"}},{"$f":"IFERROR(IFERROR(IFERROR(INDEX(BP!B:H,MATCH(B17,BP!C:C,0),6),INDEX(BP!B:H,MATCH(B17,BP!D:D,0),6)),INDEX(BP!B:H,MATCH(B17,BP!E:E,0),6)),\"\")","v":""},{"$f":"IFERROR(IFERROR(IFERROR(INDEX(BP!B:H,MATCH(B17,BP!C:C,0),7),INDEX(BP!B:H,MATCH(B17,BP!D:D,0),7)),INDEX(BP!B:H,MATCH(B17,BP!E:E,0),7)),\"\")","v":""},{"$error":"#REF!"},{"$error":"#REF!"},{"$error":"#REF!"},null,"Aumento em","Adiantamentos e Créditos a Receber",-115969161.29999998,-98761408.399999991]
[{"$f":"IF(LEFT(#REF!,7)=\"Despesa\",\"\",IF(LEFT(#REF!,7)=\"Receita\",\"\",#REF!))","v":{"$error":"#REF!"}},{"$f":"IF(LEFT(A18,7)=\"Despesa\",\"\",IF(LEFT(A18,7)=\"Receita\",\"\",IF(A18=\"\",\"\",#REF!)))","v":{"$error":"#REF!"}},{"$f":"IFERROR(IFERROR(IFERROR(INDEX(BP!B:H,MATCH(B18,BP!C:C,0),6),INDEX(BP!B:H,MATCH(B18,BP!D:D,0),6)),INDEX(BP!B:H,MATCH(B18,BP!E:E,0),6)),\"\")","v":""},{"$f":"IFERROR(IFERROR(IFERROR(INDEX(BP!B:H,MATCH(B18,BP!C:C,0),7),INDEX(BP!B:H,MATCH(B18,BP!D:D,0),7)),INDEX(BP!B:H,MATCH(B18,BP!E:E,0),7)),\"\")","v":""},{"$error":"#REF!"},{"$error":"#REF!"},{"$error":"#REF!"},null,"Aumento em","Estoques",-135191886.30000001,-17472832.5]
[{"$f":"IF(LEFT(#REF!,7)=\"Despesa\",\"\",IF(LEFT(#REF!,7)=\"Receita\",\"\",#REF!))","v":{"$error":"#REF!"}},{"$f":"IF(LEFT(A19,7)=\"Despesa\",\"\",IF(LEFT(A19,7)=\"Receita\",\"\",IF(A19=\"\",\"\",#REF!)))","v":{"$error":"#REF!"}},{"$f":"IFERROR(IFERROR(IFERROR(INDEX(BP!B:H,MATCH(B19,BP!C:C,0),6),INDEX(BP!B:H,MATCH(B19,BP!D:D,0),6)),INDEX(BP!B:H,MATCH(B19,BP!E:E,0),6)),\"\")","v":""},{"$f":"IFERROR(IFERROR(IFERROR(INDEX(BP!B:H,MATCH(B19,BP!C:C,0),7),INDEX(BP!B:H,MATCH(B19,BP!D:D,0),7)),INDEX(BP!B:H,MATCH(B19,BP!E:E,0),7)),\"\")","v":""},{"$error":"#REF!"},{"$error":"#REF!"},{"$error":"#REF!"},null,"Aumento em","Outras Despesas Antecipadas",-9067.11,0]
[{"$f":"IF(LEFT(#REF!,7)=\"Despesa\",\"\",IF(LEFT(#REF!,7)=\"Receita\",\"\",#REF!))","v":{"$error":"#REF!"}},{"$f":"IF(LEFT(A20,7)=\"Despesa\",\"\",IF(LEFT(A20,7)=\"Receita\",\"\",IF(A20=\"\",\"\",#REF!)))","v":{"$error":"#REF!"}},{"$f":"IFERROR(IFERROR(IFERROR(INDEX(BP!B:H,MATCH(B20,BP!C:C,0),6),INDEX(BP!B:H,MATCH(B20,BP!D:D,0),6)),INDEX(BP!B:H,MATCH(B20,BP!E:E,0),6)),\"\")","v":""},{"$f":"IFERROR(IFERROR(IFERROR(INDEX(BP!B:H,MATCH(B20,BP!C:C,0),7),INDEX(BP!B:H,MATCH(B20,BP!D:D,0),7)),INDEX(BP!B:H,MATCH(B20,BP!E:E,0),7)),\"\")","v":""},{"$error":"#REF!"},{"$error":"#REF!"},{"$error":"#REF!"},null,"Aumento em","Depósitos Judiciais",-5697476.8200000003,-4386273.76]
[{"$f":"IF(LEFT(#REF!,7)=\"Despesa\",\"\",IF(LEFT(#REF!,7)=\"Receita\",\"\",#REF!))","v":{"$error":"#REF!"}},{"$f":"IF(LEFT(A21,7)=\"Despesa\",\"\",IF(LEFT(A21,7)=\"Receita\",\"\",IF(A21=\"\",\"\",#REF!)))","v":{"$error":"#REF!"}},{"$f":"IFERROR(IFERROR(IFERROR(INDEX(BP!B:H,MATCH(B21,BP!C:C,0),6),INDEX(BP!B:H,MATCH(B21,BP!D:D,0),6)),INDEX(BP!B:H,MATCH(B21,BP!E:E,0),6)),\"\")","v":""},{"$f":"IFERROR(IFERROR(IFERROR(INDEX(BP!B:H,MATCH(B21,BP!C:C,0),7),INDEX(BP!B:H,MATCH(B21,BP!D:D,0),7)),INDEX(BP!B:H,MATCH(B21,BP!E:E,0),7)),\"\")","v":""},{"$error":"#REF!"},{"$error":"#REF!"},{"$error":"#REF!"},null,"Aumento em","Obrigações Trabalhistas a Pagar",295480036.2608,183813256.97000003]
[{"$f":"IF(LEFT(#REF!,7)=\"Despesa\",\"\",IF(LEFT(#REF!,7)=\"Receita\",\"\",#REF!))","v":{"$error":"#REF!"}},{"$f":"IF(LEFT(A22,7)=\"Despesa\",\"\",IF(LEFT(A22,7)=\"Receita\",\"\",IF(A22=\"\",\"\",#REF!)))","v":{"$error":"#REF!"}},{"$f":"IFERROR(IFERROR(IFERROR(INDEX(BP!B:H,MATCH(B22,BP!C:C,0),6),INDEX(BP!B:H,MATCH(B22,BP!D:D,0),6)),INDEX(BP!B:H,MATCH(B22,BP!E:E,0),6)),\"\")","v":""},{"$f":"IFERROR(IFERROR(IFERROR(INDEX(BP!B:H,MATCH(B22,BP!C:C,0),7),INDEX(BP!B:H,MATCH(B22,BP!D:D,0),7)),INDEX(BP!B:H,MATCH(B22,BP!E:E,0),7)),\"\")","v":""},{"$error":"#REF!"},{"$error":"#REF!"},{"$error":"#REF!"},null,"Redução em","Fornecedores e Contas a Pagar a Curto Prazo",-47409319.579999998,32272968.86999999]
[{"$f":"IF(LEFT(#REF!,7)=\"Despesa\",\"\",IF(LEFT(#REF!,7)=\"Receita\",\"\",#REF!))","v":{"$error":"#REF!"}},{"$f":"IF(LEFT(A23,7)=\"Despesa\",\"\",IF(LEFT(A23,7)=\"Receita\",\"\",IF(A23=\"\",\"\",#REF!)))","v":{"$error":"#REF!"}},{"$f":"IFERROR(IFERROR(IFERROR(INDEX(BP!B:H,MATCH(B23,BP!C:C,0),6),INDEX(BP!B:H,MATCH(B23,BP!D:D,0),6)),INDEX(BP!B:H,MATCH(B23,BP!E:E,0),6)),\"\")","v":""},{"$f":"IFERROR(IFERROR(IFERROR(INDEX(BP!B:H,MATCH(B23,BP!C:C,0),7),INDEX(BP!B:H,MATCH(B23,BP!D:D,0),7)),INDEX(BP!B:H,MATCH(B23,BP!E:E,0),7)),\"\")","v":""},{"$error":"#REF!"},{"$error":"#REF!"},{"$error":"#REF!"},null,"Aumento em","Contratos de Arrendamento a Pagar",7258374.9331809003,0]
[{"$f":"IF(LEFT(#REF!,7)=\"Despesa\",\"\",IF(LEFT(#REF!,7)=\"Receita\",\"\",#REF!))","v":{"$error":"#REF!"}},{"$f":"IF(LEFT(A24,7)=\"Despesa\",\"\",IF(LEFT(A24,7)=\"Receita\",\"\",IF(A24=\"\",\"\",#REF!)))","v":{"$error":"#REF!"}},{"$f":"IFERROR(IFERROR(IFERROR(INDEX(BP!B:H,MATCH(B24,BP!C:C,0),6),INDEX(BP!B:H,MATCH(B24,BP!D:D,0),6)),INDEX(BP!B:H,MATCH(B24,BP!E:E,0),6)),\"\")","v":""},{"$f":"IFERROR(IFERROR(IFERROR(INDEX(BP!B:H,MATCH(B24,BP!C:C,0),7),INDEX(BP!B:H,MATCH(B24,BP!D:D,0),7)),INDEX(BP!B:H,MATCH(B24,BP!E:E,0),7)),\"\")","v":""},{"$error":"#REF!"},{"$error":"#REF!"},{"$error":"#REF!"},null,"Redução em ","Retenções de Impostos, Contribuições",-29258916.410799991,715448.72000000067]
[{"$f":"IF(LEFT(#REF!,7)=\"Despesa\",\"\",IF(LEFT(#REF!,7)=\"Receita\",\"\",#REF!))","v":{"$error":"#REF!"}},{"$f":"IF(LEFT(A25,7)=\"Despesa\",\"\",IF(LEFT(A25,7)=\"Receita\",\"\",IF(A25=\"\",\"\",#REF!)))","v":{"$error":"#REF!"}},{"$f":"IFERROR(IFERROR(IFERROR(INDEX(BP!B:H,MATCH(B25,BP!C:C,0),6),INDEX(BP!B:H,MATCH(B25,BP!D:D,0),6)),INDEX(BP!B:H,MATCH(B25,BP!E:E,0),6)),\"\")","v":""},{"$f":"IFERROR(IFERROR(IFERROR(INDEX(BP!B:H,MATCH(B25,BP!C:C,0),7),INDEX(BP!B:H,MATCH(B25,BP!D:D,0),7)),INDEX(BP!B:H,MATCH(B25,BP!E:E,0),7)),\"\")","v":""},{"$error":"#REF!"},{"$error":"#REF!"},{"$error":"#REF!"},null,"Redução em","Obrigações Transitórias a Curto Prazo",-81086551.580000013,49994367.640000001]
[{"$f":"IF(LEFT(#REF!,7)=\"Despesa\",\"\",IF(LEFT(#REF!,7)=\"Receita\",\"\",#REF!))","v":{"$error":"#REF!"}},{"$f":"IF(LEFT(A26,7)=\"Despesa\",\"\",IF(LEFT(A26,7)=\"Receita\",\"\",IF(A26=\"\",\"\",#REF!)))","v":{"$error":"#REF!"}},{"$f":"IFERROR(IFERROR(IFERROR(INDEX(BP!B:H,MATCH(B26,BP!C:C,0),6),INDEX(BP!B:H,MATCH(B26,BP!D:D,0),6)),INDEX(BP!B:H,MATCH(B26,BP!E:E,0),6)),\"\")","v":""},{"$f":"IFERROR(IFERROR(IFERROR(INDEX(BP!B:H,MATCH(B26,BP!C:C,0),7),INDEX(BP!B:H,MATCH(B26,BP!D:D,0),7)),INDEX(BP!B:H,MATCH(B26,BP!E:E,0),7)),\"\")","v":""},{"$error":"#REF!"},{"$error":"#REF!"},{"$error":"#REF!"},null,"Aumento em","Contingência para Indenizações Trabalhistas",9178062.650000006,2435703.2100000009]
[{"$f":"IF(LEFT(#REF!,7)=\"Despesa\",\"\",IF(LEFT(#REF!,7)=\"Receita\",\"\",#REF!))","v":{"$error":"#REF!"}},{"$f":"IF(LEFT(A27,7)=\"Despesa\",\"\",IF(LEFT(A27,7)=\"Receita\",\"\",IF(A27=\"\",\"\",#REF!)))","v":{"$error":"#REF!"}},{"$f":"IFERROR(IFERROR(IFERROR(INDEX(BP!B:H,MATCH(B27,BP!C:C,0),6),INDEX(BP!B:H,MATCH(B27,BP!D:D,0),6)),INDEX(BP!B:H,MATCH(B27,BP!E:E,0),6)),\"\")","v":""},{"$f":"IFERROR(IFERROR(IFERROR(INDEX(BP!B:H,MATCH(B27,BP!C:C,0),7),INDEX(BP!B:H,MATCH(B27,BP!D:D,0),7)),INDEX(BP!B:H,MATCH(B27,BP!E:E,0),7)),\"\")","v":""},{"$error":"#REF!"},{"$error":"#REF!"},{"$error":"#REF!"},null,"Redução em","Contingência para Indenizações Cíveis",-14613679.989999998,5315478.6099999994]
[{"$f":"IF(LEFT(#REF!,7)=\"Despesa\",\"\",IF(LEFT(#REF!,7)=\"Receita\",\"\",#REF!))","v":{"$error":"#REF!"}},{"$f":"IF(LEFT(A28,7)=\"Despesa\",\"\",IF(LEFT(A28,7)=\"Receita\",\"\",IF(A28=\"\",\"\",#REF!)))","v":{"$error":"#REF!"}},{"$f":"IFERROR(IFERROR(IFERROR(INDEX(BP!B:H,MATCH(B28,BP!C:C,0),6),INDEX(BP!B:H,MATCH(B28,BP!D:D,0),6)),INDEX(BP!B:H,MATCH(B28,BP!E:E,0),6)),\"\")","v":""},{"$f":"IFERROR(IFERROR(IFERROR(INDEX(BP!B:H,MATCH(B28,BP!C:C,0),7),INDEX(BP!B:H,MATCH(B28,BP!D:D,0),7)),INDEX(BP!B:H,MATCH(B28,BP!E:E,0),7)),\"\")","v":""},{"$error":"#REF!"},{"$error":"#REF!"},{"$error":"#REF!"},null,"Aumento em","Subvenção a Realizar",856240526.8599999,0]
[{"$f":"IF(LEFT(#REF!,7)=\"Despesa\",\"\",IF(LEFT(#REF!,7)=\"Receita\",\"\",#REF!))","v":{"$error":"#REF!"}},{"$f":"IF(LEFT(A29,7)=\"Despesa\",\"\",IF(LEFT(A29,7)=\"Receita\",\"\",IF(A29=\"\",\"\",#REF!)))","v":{"$error":"#REF!"}},{"$f":"IFERROR(IFERROR(IFERROR(INDEX(BP!B:H,MATCH(B29,BP!C:C,0),6),INDEX(BP!B:H,MATCH(B29,BP!D:D,0),6)),INDEX(BP!B:H,MATCH(B29,BP!E:E,0),6)),\"\")","v":""},{"$f":"IFERROR(IFERROR(IFERROR(INDEX(BP!B:H,MATCH(B29,BP!C:C,0),7),INDEX(BP!B:H,MATCH(B29,BP!D:D,0),7)),INDEX(BP!B:H,MATCH(B29,BP!E:E,0),7)),\"\")","v":""},{"$error":"#REF!"},{"$error":"#REF!"},{"$error":"#REF!"},null,"Redução em","Adiantamento Para Futuro Aumento de Capital - AFAC",-313991918.00999999,23547337.659999996]
[{"$f":"IF(LEFT(#REF!,7)=\"Despesa\",\"\",IF(LEFT(#REF!,7)=\"Receita\",\"\",#REF!))","v":{"$error":"#REF!"}},{"$f":"IF(LEFT(A30,7)=\"Despesa\",\"\",IF(LEFT(A30,7)=\"Receita\",\"\",IF(A30=\"\",\"\",#REF!)))","v":{"$error":"#REF!"}},{"$f":"IFERROR(IFERROR(IFERROR(INDEX(BP!B:H,MATCH(B30,BP!C:C,0),6),INDEX(BP!B:H,MATCH(B30,BP!D:D,0),6)),INDEX(BP!B:H,MATCH(B30,BP!E:E,0),6)),\"\")","v":""},{"$f":"IFERROR(IFERROR(IFERROR(INDEX(BP!B:H,MATCH(B30,BP!C:C,0),7),INDEX(BP!B:H,MATCH(B30,BP!D:D,0),7)),INDEX(BP!B:H,MATCH(B30,BP!E:E,0),7)),\"\")","v":""},{"$error":"#REF!"},{"$error":"#REF!"},{"$error":"#REF!"},null,"Valores a Longo Prazo - Incentivo Mais Vida",null,null,8921100.120000001]
[{"$f":"IF(LEFT(#REF!,7)=\"Despesa\",\"\",IF(LEFT(#REF!,7)=\"Receita\",\"\",#REF!))","v":{"$error":"#REF!"}},{"$f":"IF(LEFT(A31,7)=\"Despesa\",\"\",IF(LEFT(A31,7)=\"Receita\",\"\",IF(A31=\"\",\"\",#REF!)))","v":{"$error":"#REF!"}},{"$f":"IFERROR(IFERROR(IFERROR(INDEX(BP!B:H,MATCH(B31,BP!C:C,0),6),INDEX(BP!B:H,MATCH(B31,BP!D:D,0),6)),INDEX(BP!B:H,MATCH(B31,BP!E:E,0),6)),\"\")","v":""},{"$f":"IFERROR(IFERROR(IFERROR(INDEX(BP!B:H,MATCH(B31,BP!C:C,0),7),INDEX(BP!B:H,MATCH(B31,BP!D:D,0),7)),INDEX(BP!B:H,MATCH(B31,BP!E:E,0),7)),\"\")","v":""},{"$error":"#REF!"},{"$error":"#REF!"},{"$error":"#REF!"},null,"FLUXO DE CAIXA LÍQUIDO DAS ATIVIDADES OPERACIONAIS",null,402964087.11318284,117968387.58000129]
[{"$f":"IF(LEFT(#REF!,7)=\"Despesa\",\"\",IF(LEFT(#REF!,7)=\"Receita\",\"\",#REF!))","v":{"$error":"#REF!"}},{"$f":"IF(LEFT(A32,7)=\"Despesa\",\"\",IF(LEFT(A32,7)=\"Receita\",\"\",IF(A32=\"\",\"\",#REF!)))","v":{"$error":"#REF!"}},{"$f":"IFERROR(IFERROR(IFERROR(INDEX(BP!B:H,MATCH(B32,BP!C:C,0),6),INDEX(BP!B:H,MATCH(B32,BP!D:D,0),6)),INDEX(BP!B:H,MATCH(B32,BP!E:E,0),6)),\"\")","v":""},{"$f":"IFERROR(IFERROR(IFERROR(INDEX(BP!B:H,MATCH(B32,BP!C:C,0),7),INDEX(BP!B:H,MATCH(B32,BP!D:D,0),7)),INDEX(BP!B:H,MATCH(B32,BP!E:E,0),7)),\"\")","v":""},{"$error":"#REF!"},{"$error":"#REF!"},{"$error":"#REF!"}]
[{"$f":"IF(LEFT(#REF!,7)=\"Despesa\",\"\",IF(LEFT(#REF!,7)=\"Receita\",\"\",#REF!))","v":{"$error":"#REF!"}},{"$f":"IF(LEFT(A33,7)=\"Despesa\",\"\",IF(LEFT(A33,7)=\"Receita\",\"\",IF(A33=\"\",\"\",#REF!)))","v":{"$error":"#REF!"}},{"$f":"IFERROR(IFERROR(IFERROR(INDEX(BP!B:H,MATCH(B33,BP!C:C,0),6),INDEX(BP!B:H,MATCH(B33,BP!D:D,0),6)),INDEX(BP!B:H,MATCH(B33,BP!E:E,0),6)),\"\")","v":""},{"$f":"IFERROR(IFERROR(IFERROR(INDEX(BP!B:H,MATCH(B33,BP!C:C,0),7),INDEX(BP!B:H,MATCH(B33,BP!D:D,0),7)),INDEX(BP!B:H,MATCH(B33,BP!E:E,0),7)),\"\")","v":""},{"$error":"#REF!"},{"$error":"#REF!"},{"$error":"#REF!"},null,"FLUXO DE CAIXA DAS ATIVIDADES DE INVESTIMENTO"]
[{"$f":"IF(LEFT(#REF!,7)=\"Despesa\",\"\",IF(LEFT(#REF!,7)=\"Receita\",\"\",#REF!))","v":{"$error":"#REF!"}},{"$f":"IF(LEFT(A34,7)=\"Despesa\",\"\",IF(LEFT(A34,7)=\"Receita\",\"\",IF(A34=\"\",\"\",#REF!)))","v":{"$error":"#REF!"}},{"$f":"IFERROR(IFERROR(IFERROR(INDEX(BP!B:H,MATCH(B34,BP!C:C,0),6),INDEX(BP!B:H,MATCH(B34,BP!D:D,0),6)),INDEX(BP!B:H,MATCH(B34,BP!E:E,0),6)),\"\")","v":""},{"$f":"IFERROR(IFERROR(IFERROR(INDEX(BP!B:H,MATCH(B34,BP!C:C,0),7),INDEX(BP!B:H,MATCH(B34,BP!D:D,0),7)),INDEX(BP!B:H,MATCH(B34,BP!E:E,0),7)),\"\")","v":""},{"$error":"#REF!"},{"$error":"#REF!"},{"$error":"#REF!"},null,"Adição de Imobilizado",null,-149311336.18283451,-62183289.600000024]
[{"$f":"IF(LEFT(#REF!,7)=\"Despesa\",\"\",IF(LEFT(#REF!,7)=\"Receita\",\"\",#REF!))","v":{"$error":"#REF!"}},{"$f":"IF(LEFT(A35,7)=\"Despesa\",\"\",IF(LEFT(A35,7)=\"Receita\",\"\",IF(A35=\"\",\"\",#REF!)))","v":{"$error":"#REF!"}},{"$f":"IFERROR(IFERROR(IFERROR(INDEX(BP!B:H,MATCH(B35,BP!C:C,0),6),INDEX(BP!B:H,MATCH(B35,BP!D:D,0),6)),INDEX(BP!B:H,MATCH(B35,BP!E:E,0),6)),\"\")","v":""},{"$f":"IFERROR(IFERROR(IFERROR(INDEX(BP!B:H,MATCH(B35,BP!C:C,0),7),INDEX(BP!B:H,MATCH(B35,BP!D:D,0),7)),INDEX(BP!B:H,MATCH(B35,BP!E:E,0),7)),\"\")","v":""},{"$error":"#REF!"},{"$error":"#REF!"},{"$error":"#REF!"},null,"Adição de Intangível",null,-5646722.6060853098,-4434455.75]
[{"$f":"IF(LEFT(#REF!,7)=\"Despesa\",\"\",IF(LEFT(#REF!,7)=\"Receita\",\"\",#REF!))","v":{"$error":"#REF!"}},{"$f":"IF(LEFT(A36,7)=\"Despesa\",\"\",IF(LEFT(A36,7)=\"Receita\",\"\",IF(A36=\"\",\"\",#REF!)))","v":{"$error":"#REF!"}},{"$f":"IFERROR(IFERROR(IFERROR(INDEX(BP!B:H,MATCH(B36,BP!C:C,0),6),INDEX(BP!B:H,MATCH(B36,BP!D:D,0),6)),INDEX(BP!B:H,MATCH(B36,BP!E:E,0),6)),\"\")","v":""},{"$f":"IFERROR(IFERROR(IFERROR(INDEX(BP!B:H,MATCH(B36,BP!C:C,0),7),INDEX(BP!B:H,MATCH(B36,BP!D:D,0),7)),INDEX(BP!B:H,MATCH(B36,BP!E:E,0),7)),\"\")","v":""},{"$error":"#REF!"},{"$error":"#REF!"},{"$error":"#REF!"},null,"FLUXO DE CAIXA LÍQUIDO DAS ATIVIDADES DE INVESTIMENTO",null,-154958058.78891981,-66617745.350000024]
[{"$f":"IF(LEFT(#REF!,7)=\"Despesa\",\"\",IF(LEFT(#REF!,7)=\"Receita\",\"\",#REF!))","v":{"$error":"#REF!"}},{"$f":"IF(LEFT(A37,7)=\"Despesa\",\"\",IF(LEFT(A37,7)=\"Receita\",\"\",IF(A37=\"\",\"\",#REF!)))","v":{"$error":"#REF!"}},{"$f":"IFERROR(IFERROR(IFERROR(INDEX(BP!B:H,MATCH(B37,BP!C:C,0),6),INDEX(BP!B:H,MATCH(B37,BP!D:D,0),6)),INDEX(BP!B:H,MATCH(B37,BP!E:E,0),6)),\"\")","v":""},{"$f":"IFERROR(IFERROR(IFERROR(INDEX(BP!B:H,MATCH(B37,BP!C:C,0),7),INDEX(BP!B:H,MATCH(B37,BP!D:D,0),7)),INDEX(BP!B:H,MATCH(B37,BP!E:E,0),7)),\"\")","v":""},{"$error":"#REF!"},{"$error":"#REF!"},{"$error":"#REF!"}]
[{"$f":"IF(LEFT(#REF!,7)=\"Despesa\",\"\",IF(LEFT(#REF!,7)=\"Receita\",\"\",#REF!))","v":{"$error":"#REF!"}},{"$f":"IF(LEFT(A38,7)=\"Despesa\",\"\",IF(LEFT(A38,7)=\"Receita\",\"\",IF(A38=\"\",\"\",#REF!)))","v":{"$error":"#REF!"}},{"$f":"IFERROR(IFERROR(IFERROR(INDEX(BP!B:H,MATCH(B38,BP!C:C,0),6),INDEX(BP!B:H,MATCH(B38,BP!D:D,0),6)),INDEX(BP!B:H,MATCH(B38,BP!E:E,0),6)),\"\")","v":""},{"$f":"IFERROR(IFERROR(IFERROR(INDEX(BP!B:H,MATCH(B38,BP!C:C,0),7),INDEX(BP!B:H,MATCH(B38,BP!D:D,0),7)),INDEX(BP!B:H,MATCH(B38,BP!E:E,0),7)),\"\")","v":""},{"$error":"#REF!"},{"$error":"#REF!"},{"$error":"#REF!"},null,"FLUXO DE CAIXA DAS ATIVIDADES DE FINANCIAMENTO"]
[{"$f":"IF(LEFT(#REF!,7)=\"Despesa\",\"\",IF(LEFT(#REF!,7)=\"Receita\",\"\",#REF!))","v":{"$error":"#REF!"}},{"$f":"IF(LEFT(A39,7)=\"Despesa\",\"\",IF(LEFT(A39,7)=\"Receita\",\"\",IF(A39=\"\",\"\",#REF!)))","v":{"$error":"#REF!"}},{"$f":"IFERROR(IFERROR(IFERROR(INDEX(BP!B:H,MATCH(B39,BP!C:C,0),6),INDEX(BP!B:H,MATCH(B39,BP!D:D,0),6)),INDEX(BP!B:H,MATCH(B39,BP!E:E,0),6)),\"\")","v":""},{"$f":"IFERROR(IFERROR(IFERROR(INDEX(BP!B:H,MATCH(B39,BP!C:C,0),7),INDEX(BP!B:H,MATCH(B39,BP!D:D,0),7)),INDEX(BP!B:H,MATCH(B39,BP!E:E,0),7)),\"\")","v":""},{"$error":"#REF!"},{"$error":"#REF!"},{"$error":"#REF!"},null,"Reserva de transferência para AFAC Longo Prazo (PNC)",null,0,2667044.6200000048]
[{"$f":"IF(LEFT(#REF!,7)=\"Despesa\",\"\",IF(LEFT(#REF!,7)=\"Receita\",\"\",#REF!))","v":{"$error":"#REF!"}},{"$f":"IF(LEFT(A40,7)=\"Despesa\",\"\",IF(LEFT(A40,7)=\"Receita\",\"\",IF(A40=\"\",\"\",#REF!)))","v":{"$error":"#REF!"}},{"$f":"IFERROR(IFERROR(IFERROR(INDEX(BP!B:H,MATCH(B40,BP!C:C,0),6),INDEX(BP!B:H,MATCH(B40,BP!D:D,0),6)),INDEX(BP!B:H,MATCH(B40,BP!E:E,0),6)),\"\")","v":""},{"$f":"IFERROR(IFERROR(IFERROR(INDEX(BP!B:H,MATCH(B40,BP!C:C,0),7),INDEX(BP!B:H,MATCH(B40,BP!D:D,0),7)),INDEX(BP!B:H,MATCH(B40,BP!E:E,0),7)),\"\")","v":""},{"$error":"#REF!"},{"$error":"#REF!"},{"$error":"#REF!"},null,"FLUXO DE CAIXA LÍQUIDO DAS ATIVIDADES DE FINANCIAMENTO",null,0,8232824.0900000036]
[{"$f":"IF(LEFT(#REF!,7)=\"Despesa\",\"\",IF(LEFT(#REF!,7)=\"Receita\",\"\",#REF!))","v":{"$error":"#REF!"}},{"$f":"IF(LEFT(A41,7)=\"Despesa\",\"\",IF(LEFT(A41,7)=\"Receita\",\"\",IF(A41=\"\",\"\",#REF!)))","v":{"$error":"#REF!"}},{"$f":"IFERROR(IFERROR(IFERROR(INDEX(BP!B:H,MATCH(B41,BP!C:C,0),6),INDEX(BP!B:H,MATCH(B41,BP!D:D,0),6)),INDEX(BP!B:H,MATCH(B41,BP!E:E,0),6)),\"\")","v":""},{"$f":"IFERROR(IFERROR(IFERROR(INDEX(BP!B:H,MATCH(B41,BP!C:C,0),7),INDEX(BP!B:H,MATCH(B41,BP!D:D,0),7)),INDEX(BP!B:H,MATCH(B41,BP!E:E,0),7)),\"\")","v":""},{"$error":"#REF!"},{"$error":"#REF!"},{"$error":"#REF!"}]
[{"$f":"IF(LEFT(#REF!,7)=\"Despesa\",\"\",IF(LEFT(#REF!,7)=\"Receita\",\"\",#REF!))","v":{"$error":"#REF!"}},{"$f":"IF(LEFT(A42,7)=\"Despesa\",\"\",IF(LEFT(A42,7)=\"Receita\",\"\",IF(A42=\"\",\"\",#REF!)))","v":{"$error":"#REF!"}},{"$f":"IFERROR(IFERROR(IFERROR(INDEX(BP!B:H,MATCH(B42,BP!C:C,0),6),INDEX(BP!B:H,MATCH(B42,BP!D:D,0),6)),INDEX(BP!B:H,MATCH(B42,BP!E:E,0),6)),\"\")","v":""},{"$f":"IFERROR(IFERROR(IFERROR(INDEX(BP!B:H,MATCH(B42,BP!C:C,0),7),INDEX(BP!B:H,MATCH(B42,BP!D:D,0),7)),INDEX(BP!B:H,MATCH(B42,BP!E:E,0),7)),\"\")","v":""},{"$error":"#REF!"},{"$error":"#REF!"},{"$error":"#REF!"},null,"APURAÇÃO DO FLUXO DE CAIXA DO PERÍODO"]
[{"$f":"IF(LEFT(#REF!,7)=\"Despesa\",\"\",IF(LEFT(#REF!,7)=\"Receita\",\"\",#REF!))","v":{"$error":"#REF!"}},{"$f":"IF(LEFT(A43,7)=\"Despesa\",\"\",IF(LEFT(A43,7)=\"Receita\",\"\",IF(A43=\"\",\"\",#REF!)))","v":{"$error":"#REF!"}},{"$f":"IFERROR(IFERROR(IFERROR(INDEX(BP!B:H,MATCH(B43,BP!C:C,0),6),INDEX(BP!B:H,MATCH(B43,BP!D:D,0),6)),INDEX(BP!B:H,MATCH(B43,BP!E:E,0),6)),\"\")","v":""},{"$f":"IFERROR(IFERROR(IFERROR(INDEX(BP!B:H,MATCH(B43,BP!C:C,0),7),INDEX(BP!B:H,MATCH(B43,BP!D:D,0),7)),INDEX(BP!B:H,MATCH(B43,BP!E:E,0),7)),\"\")","v":""},{"$error":"#REF!"},{"$error":"#REF!"},{"$error":"#REF!"},null,"GERAÇÃO LÍQUIDA DE CAIXA E EQUIVALENTE DE CAIXA",null,248006028.32426304,59583466.320001274]
[{"$f":"IF(LEFT(#REF!,7)=\"Despesa\",\"\",IF(LEFT(#REF!,7)=\"Receita\",\"\",#REF!))","v":{"$error":"#REF!"}},{"$f":"IF(LEFT(A44,7)=\"Despesa\",\"\",IF(LEFT(A44,7)=\"Receita\",\"\",IF(A44=\"\",\"\",#REF!)))","v":{"$error":"#REF!"}},{"$f":"IFERROR(IFERROR(IFERROR(INDEX(BP!B:H,MATCH(B44,BP!C:C,0),6),INDEX(BP!B:H,MATCH(B44,BP!D:D,0),6)),INDEX(BP!B:H,MATCH(B44,BP!E:E,0),6)),\"\")","v":""},{"$f":"IFERROR(IFERROR(IFERROR(INDEX(BP!B:H,MATCH(B44,BP!C:C,0),7),INDEX(BP!B:H,MATCH(B44,BP!D:D,0),7)),INDEX(BP!B:H,MATCH(B44,BP!E:E,0),7)),\"\")","v":""},{"$error":"#REF!"},{"$error":"#REF!"},{"$error":"#REF!"},null,"CAIXA E EQUIVALENTE DE CAIXA INICIAL",null,571660067.48000002,299375677.16000003]
[{"$f":"IF(LEFT(#REF!,7)=\"Despesa\",\"\",IF(LEFT(#REF!,7)=\"Receita\",\"\",#REF!))","v":{"$error":"#REF!"}},{"$f":"IF(LEFT(A45,7)=\"Despesa\",\"\",IF(LEFT(A45,7)=\"Receita\",\"\",IF(A45=\"\",\"\",#REF!)))","v":{"$error":"#REF!"}},{"$f":"IFERROR(IFERROR(IFERROR(INDEX(BP!B:H,MATCH(B45,BP!C:C,0),6),INDEX(BP!B:H,MATCH(B45,BP!D:D,0),6)),INDEX(BP!B:H,MATCH(B45,BP!E:E,0),6)),\"\")","v":""},{"$f":"IFERROR(IFERROR(IFERROR(INDEX(BP!B:H,MATCH(B45,BP!C:C,0),7),INDEX(BP!B:H,MATCH(B45,BP!D:D,0),7)),INDEX(BP!B:H,MATCH(B45,BP!E:E,0),7)),\"\")","v":""},{"$error":"#REF!"},{"$error":"#REF!"},{"$error":"#REF!"},null,"CAIXA E EQUIVALENTE DE CAIXA FINAL",null,819666095.80000007,358959143.48000002]
[{"$f":"IF(LEFT(#REF!,7)=\"Despesa\",\"\",IF(LEFT(#REF!,7)=\"Receita\",\"\",#REF!))","v":{"$error":"#REF!"}},{"$f":"IF(LEFT(A46,7)=\"Despesa\",\"\",IF(LEFT(A46,7)=\"Receita\",\"\",IF(A46=\"\",\"\",#REF!)))","v":{"$error":"#REF!"}},{"$f":"IFERROR(IFERROR(IFERROR(INDEX(BP!B:H,MATCH(B46,BP!C:C,0),6),INDEX(BP!B:H,MATCH(B46,BP!D:D,0),6)),INDEX(BP!B:H,MATCH(B46,BP!E:E,0),6)),\"\")","v":""},{"$f":"IFERROR(IFERROR(IFERROR(INDEX(BP!B:H,MATCH(B46,BP!C:C,0),7),INDEX(BP!B:H,MATCH(B46,BP!D:D,0),7)),INDEX(BP!B:H,MATCH(B46,BP!E:E,0),7)),\"\")","v":""},{"$error":"#REF!"},{"$error":"#REF!"},{"$error":"#REF!"},null,"As notas explicativas da Administração são parte integrante das demonstrações contábeis consolidadas"]
[{"$f":"IF(LEFT(#REF!,7)=\"Despesa\",\"\",IF(LEFT(#REF!,7)=\"Receita\",\"\",#REF!))","v":{"$error":"#REF!"}},{"$f":"IF(LEFT(A47,7)=\"Despesa\",\"\",IF(LEFT(A47,7)=\"Receita\",\"\",IF(A47=\"\",\"\",#REF!)))","v":{"$error":"#REF!"}},{"$f":"IFERROR(IFERROR(IFERROR(INDEX(BP!B:H,MATCH(B47,BP!C:C,0),6),INDEX(BP!B:H,MATCH(B47,BP!D:D,0),6)),INDEX(BP!B:H,MATCH(B47,BP!E:E,0),6)),\"\")","v":""},{"$f":"IFERROR(IFERROR(IFERROR(INDEX(BP!B:H,MATCH(B47,BP!C:C,0),7),INDEX(BP!B:H,MATCH(B47,BP!D:D,0),7)),INDEX(BP!B:H,MATCH(B47,BP!E:E,0),7)),\"\")","v":""},{"$error":"#REF!"},{"$error":"#REF!"},{"$error":"#REF!"}]
[{"$f":"IF(LEFT(#REF!,7)=\"Despesa\",\"\",IF(LEFT(#REF!,7)=\"Receita\",\"\",#REF!))","v":{"$error":"#REF!"}},{"$f":"IF(LEFT(A48,7)=\"Despesa\",\"\",IF(LEFT(A48,7)=\"Receita\",\"\",IF(A48=\"\",\"\",#REF!)))","v":{"$error":"#REF!"}},{"$f":"IFERROR(IFERROR(IFERROR(INDEX(BP!B:H,MATCH(B48,BP!C:C,0),6),INDEX(BP!B:H,MATCH(B48,BP!D:D,0),6)),INDEX(BP!B:H,MATCH(B48,BP!E:E,0),6)),\"\")","v":""},{"$f":"IFERROR(IFERROR(IFERROR(INDEX(BP!B:H,MATCH(B48,BP!C:C,0),7),INDEX(BP!B:H,MATCH(B48,BP!D:D,0),7)),INDEX(BP!B:H,MATCH(B48,BP!E:E,0),7)),\"\")","v":""},{"$error":"#REF!"},{"$error":"#REF!"},{"$error":"#REF!"}]
[{"$f":"IF(LEFT(#REF!,7)=\"Despesa\",\"\",IF(LEFT(#REF!,7)=\"Receita\",\"\",#REF!))","v":{"$error":"#REF!"}},{"$f":"IF(LEFT(A49,7)=\"Despesa\",\"\",IF(LEFT(A49,7)=\"Receita\",\"\",IF(A49=\"\",\"\",#REF!)))","v":{"$error":"#REF!"}},{"$f":"IFERROR(IFERROR(IFERROR(INDEX(BP!B:H,MATCH(B49,BP!C:C,0),6),INDEX(BP!B:H,MATCH(B49,BP!D:D,0),6)),INDEX(BP!B:H,MATCH(B49,BP!E:E,0),6)),\"\")","v":""},{"$f":"IFERROR(IFERROR(IFERROR(INDEX(BP!B:H,MATCH(B49,BP!C:C,0),7),INDEX(BP!B:H,MATCH(B49,BP!D:D,0),7)),INDEX(BP!B:H,MATCH(B49,BP!E:E,0),7)),\"\")","v":""},{"$error":"#REF!"},{"$error":"#REF!"},{"$error":"#REF!"}]

{"sheet":"DVA","index":3,"n_rows":38,"n_cols":4,"rows_kept":38,"cut":false,"hidden":false,"merged":[[0,1,0,3],[1,2,1,3]]}
[null,"EBSERH - EMPRESA BRASILEIRA DE SERVIÇOS HOSPITALARES"]
[null,"Demonstração Valor Adicionado ","30 de Setembro de 2020"]
[null,"Em reais ",null,"Reapresentação"]
[null,"Descrição","01.01.2020 \na                            30.09.2020","01.01.2019                               a                       30.09.2019"]
[null,"Geração de Valor Adicionado"]
[null,"1 - Receitas",79751430.969999999,16248064.57]
[null,"1.1 - Atividades Operacionais",79751430.969999999,16248064.57]
[null,"1.1.1 - Receita de Serviços e Exploração",79751430.969999999,16248064.57]
[null,"2 - Insumos Adquiridos de Terceiros",1366049152.1300004,747431975.89999986]
[null,"2.1 - Materiais de Consumo",598972579.66000009,275185079.5]
[null,"2.2 - Energia elétrica, Água e Esgoto, Gás",56075992.080000006,37664244.390000001]
[null,"2.3 - Serviços de Terceiros",693289722.57000017,427727012.47999996]
[null,"2.4 - Contigências para Riscos Cíveis",17710857.82,6855639.5300000003]
[null,"3 - Valor Adicionado Bruto (1-2)",-1286297721.1600003,-731183911.3299998]
[null,"4 - Depreciação, Amortização, Impairment e Perdas",25636644.910000004,17228020.099999998]
[null,"4.1 - Depreciação do Período",19452489.120000001,14951331.029999999]
[null,"4.2 - Amortização do Período",4167043.26,2276689.0699999998]
[null,"4.3 - Redução a Valor Recuperável - Impairment",0,0]
[null,"4.4 - Perdas Involuntárias e Desfazimentos",2017112.53,0]
[null,"5 - Valor Adicionado Líquido (3-4)",-1311934366.0700004,-748411931.42999983]
[null,"6 - Valor Adicionado Recebido em Transferência",5284108212.8900013,4118119817.6400008]
[null,"6.1 - Repasses e Cotas Financeiras",5122917225.000001,3989305275.400001]
[null,"6.2 - Receitas Financeiras",3617046,0]
[null,"6.3 - Outras",157573941.88999999,128814542.23999996]
[null,"7 - Valor Adicionado Total a Distribuir (5+6)",3972173846.8200006,3369707886.210001]
[null,"8 - Distribuição do Valor Adicionado",3972173846.8200011,3369707886.2100029]
[null,"8.1 - Remuneração do Trabalho",3960415229.059999,3355093612.5600014]
[null,"8.1.1 - Pessoal e Diárias",2875752079.099999,2531187094.7000012]
[null,"8.1.2 - Encargos",1084663149.96,823906517.86000001]
[null,"8.2 - Remuneração do Governo",1008763.6600000004,9384522.9599999972]
[null,"8.2.1 - Impostos, Taxas, Contribuições, Multas e Juros",1008763.6600000004,9384522.9599999972]
[null,"8.2.2 - Provisão p/ Imposto de Renda",0,0]
[null,"8.2.3 - Provisão p/ CSLL",0,0]
[null,"8.3 - Remuneração do Capital de Terceiros",24213667.589999996,20895673.510000002]
[null,"8.3.1 - Locação",24213667.589999996,20895673.510000002]
[null,"8.4 - Remuneração de Capital Próprio",-13463813.489997864,-15665922.819998741]
[null,"8.4.1 Resultado do Exercício",-13463813.489997864,-15665922.819998741]
[null,"As notas explicativas da Administração são parte integrante das demonstrações contábeis consolidadas."]

{"sheet":"DMPL","index":4,"n_rows":23,"n_cols":6,"rows_kept":23,"cut":false,"hidden":false,"merged":[[2,17,2,18],[1,4,1,5],[0,1,0,5],[13,1,14,1],[13,2,14,2],[13,3,14,3],[13,4,14,4],[13,5,14,5],[12,1,12,5],[3,1,4,1],[3,2,4,2],[3,3,4,3],[3,4,4,4],[3,5,4,5]]}
[null,"EBSERH - EMPRESA BRASILEIRA DE SERVIÇOS HOSPITALARES"]
[null,"Demonstração Consolidada das Mutações do Patrimônio Líquido ",null,null,"30 de Setembro de 2020"]
[null,"Em reais"]
[null,"Componentes ","Capital Social Integralizado","Reservas de Capital - AFAC","Resultados Acumulados","Patrimônio Líquido "]
[]
[null,"Saldos Iniciais (31/12/2018)",5000000,94321337.019999996,-339361890,-240040552.98000002]
[null,"Resultado Líquido do Exercício",null,null,-3986134.519999628,-3986134.519999628]
[null,"Adiantamento Fut Aume Cap - AFAC"]
[null,"Compensação do Prejuízo",null,null,null,0]
[null,"Ajustes de Exercicios Anteriores",null,null,-3464496.3900000006,-3464496.3900000006]
[null,"Saldos Finais em 30/09/2019",5000000,94321337.019999996,-346812520.90999961,-247491183.88999963]
[]
[]
[null,"Componentes ","Capital Social Integralizado","Reservas de Capital - AFAC","Resultados Acumulados","Patrimônio Líquido"]
[]
[null,"Saldos Iniciais (31/12/2019)",5000000,219135056.91999999,-512557193.8657369,-288422136.94573689]
[null,"Resultado Líquido do Exercício",null,null,-13463813.489997864]
[null,"Adiantamento Fut Aume Cap - AFAC",null,67050000]
[null,"Compensação do Prejuízo"]
[null,"Ajustes de Exercicios Anteriores",null,null,-3324953.8599999906]
[null,"Integaralização de AFAC ao  Capital Social",376384237.75]
[null,"Saldos Finais em 30/09/2020",381384237.75,67050000,-529345961.21573478,-80911723.46573478]
[null,"As notas explicativas da Administração são parte integrante das demonstrações contábeis consolidadas."]

{"sheet":"--","index":5,"n_rows":192,"n_cols":4,"rows_kept":192,"cut":false,"hidden":true,"merged":[]}
["1 - Receitas",null,"Grupo Dva","Subgrupo DVA"]
["1.1 - Atividades operacionais",null,"1.1 - Atividades operacionais","1.1 - Atividades operacionais"]
["Relatório Financeiro PF",null,"Relatório Financeiro PF","Relatório Financeiro PF"]
["2 - Insumos Adquiridos de Terceiros",null,"2 - Insumos Adquiridos de Terceiros","2 - Insumos Adquiridos de Terceiros"]
["2.1 - Materiais de Consumo",null,"2 - Insumos Adquiridos de Terceiros","2.1 - Materiais de Consumo"]
["3.3.1.1.1.01.00",{"$f":"VLOOKUP(A6,#REF!,2,0)","v":{"$error":"#REF!"}},"2 - Insumos Adquiridos de Terceiros","2.1 - Materiais de Consumo"]
["3.3.1.1.1.02.00",{"$f":"VLOOKUP(A7,#REF!,2,0)","v":{"$error":"#REF!"}},"2 - Insumos Adquiridos de Terceiros","2.1 - Materiais de Consumo"]
["3.3.1.1.1.03.00",{"$f":"VLOOKUP(A8,#REF!,2,0)","v":{"$error":"#REF!"}},"2 - Insumos Adquiridos de Terceiros","2.1 - Materiais de Consumo"]
["3.3.1.1.1.04.00",{"$f":"VLOOKUP(A9,#REF!,2,0)","v":{"$error":"#REF!"}},"2 - Insumos Adquiridos de Terceiros","2.1 - Materiais de Consumo"]
["3.3.1.1.1.05.00",{"$f":"VLOOKUP(A10,#REF!,2,0)","v":{"$error":"#REF!"}},"2 - Insumos Adquiridos de Terceiros","2.1 - Materiais de Consumo"]
["3.3.1.1.1.06.00",{"$f":"VLOOKUP(A11,#REF!,2,0)","v":{"$error":"#REF!"}},"2 - Insumos Adquiridos de Terceiros","2.1 - Materiais de Consumo"]
["3.3.1.1.1.07.00",{"$f":"VLOOKUP(A12,#REF!,2,0)","v":{"$error":"#REF!"}},"2 - Insumos Adquiridos de Terceiros","2.1 - Materiais de Consumo"]
["3.3.1.1.1.08.00",{"$f":"VLOOKUP(A13,#REF!,2,0)","v":{"$error":"#REF!"}},"2 - Insumos Adquiridos de Terceiros","2.1 - Materiais de Consumo"]
["3.3.1.1.1.09.00",{"$f":"VLOOKUP(A14,#REF!,2,0)","v":{"$error":"#REF!"}},"2 - Insumos Adquiridos de Terceiros","2.1 - Materiais de Consumo"]
["3.3.1.1.1.99.00",{"$f":"VLOOKUP(A15,#REF!,2,0)","v":{"$error":"#REF!"}},"2 - Insumos Adquiridos de Terceiros","2.1 - Materiais de Consumo"]
["3.6.3.3.1.01.00",{"$f":"VLOOKUP(A16,#REF!,2,0)","v":{"$error":"#REF!"}},"2 - Insumos Adquiridos de Terceiros","2.1 - Materiais de Consumo"]
["2.2 - Energia elétrica, Água e Esgoto, Gás",null,"2 - Insumos Adquiridos de Terceiros","2.2 - Energia elétrica, Água e Esgoto, Gás"]
["3.3.2.3.2.08.00",{"$f":"VLOOKUP(A18,#REF!,2,0)","v":{"$error":"#REF!"}},"2 - Insumos Adquiridos de Terceiros","2.2 - Energia elétrica, Água e Esgoto, Gás"]
["3.3.2.3.4.08.00",{"$f":"VLOOKUP(A19,#REF!,2,0)","v":{"$error":"#REF!"}},"2 - Insumos Adquiridos de Terceiros","2.2 - Energia elétrica, Água e Esgoto, Gás"]
["3.3.2.3.1.08.00",{"$f":"VLOOKUP(A20,#REF!,2,0)","v":{"$error":"#REF!"}},"2 - Insumos Adquiridos de Terceiros","2.2 - Energia elétrica, Água e Esgoto, Gás"]
["2.3 - Serviços de Terceiros",null,"2 - Insumos Adquiridos de Terceiros","2.3 - Serviços de Terceiros"]
["3.3.2.2.1.01.00",{"$f":"VLOOKUP(A22,#REF!,2,0)","v":{"$error":"#REF!"}},"2 - Insumos Adquiridos de Terceiros","2.3 - Serviços de Terceiros"]
["3.3.2.2.1.02.00",{"$f":"VLOOKUP(A23,#REF!,2,0)","v":{"$error":"#REF!"}},"2 - Insumos Adquiridos de Terceiros","2.3 - Serviços de Terceiros"]
["3.3.2.2.1.09.00",{"$f":"VLOOKUP(A24,#REF!,2,0)","v":{"$error":"#REF!"}},"2 - Insumos Adquiridos de Terceiros","2.3 - Serviços de Terceiros"]
["3.3.2.2.1.05.00",{"$f":"VLOOKUP(A25,#REF!,2,0)","v":{"$error":"#REF!"}},"2 - Insumos Adquiridos de Terceiros","2.3 - Serviços de Terceiros"]
["3.3.2.3.1.01.00",{"$f":"VLOOKUP(A26,#REF!,2,0)","v":{"$error":"#REF!"}},"2 - Insumos Adquiridos de Terceiros","2.3 - Serviços de Terceiros"]
["3.3.2.3.1.02.00",{"$f":"VLOOKUP(A27,#REF!,2,0)","v":{"$error":"#REF!"}},"2 - Insumos Adquiridos de Terceiros","2.3 - Serviços de Terceiros"]
["3.3.2.3.1.03.00",{"$f":"VLOOKUP(A28,#REF!,2,0)","v":{"$error":"#REF!"}},"2 - Insumos Adquiridos de Terceiros","2.3 - Serviços de Terceiros"]
["3.3.2.3.1.04.00",{"$f":"VLOOKUP(A29,#REF!,2,0)","v":{"$error":"#REF!"}},"2 - Insumos Adquiridos de Terceiros","2.3 - Serviços de Terceiros"]
["3.3.2.3.1.05.00",{"$f":"VLOOKUP(A30,#REF!,2,0)","v":{"$error":"#REF!"}},"2 - Insumos Adquiridos de Terceiros","2.3 - Serviços de Terceiros"]
["3.3.2.3.1.06.00",{"$f":"VLOOKUP(A31,#REF!,2,0)","v":{"$error":"#REF!"}},"2 - Insumos Adquiridos de Terceiros","2.3 - Serviços de Terceiros"]
["3.3.2.3.1.07.00",{"$f":"VLOOKUP(A32,#REF!,2,0)","v":{"$error":"#REF!"}},"2 - Insumos Adquiridos de Terceiros","2.3 - Serviços de Terceiros"]
["3.3.2.3.1.10.00",{"$f":"VLOOKUP(A33,#REF!,2,0)","v":{"$error":"#REF!"}},"2 - Insumos Adquiridos de Terceiros","2.3 - Serviços de Terceiros"]
["3.3.2.3.1.11.00",{"$f":"VLOOKUP(A34,#REF!,2,0)","v":{"$error":"#REF!"}},"2 - Insumos Adquiridos de Terceiros","2.3 - Serviços de Terceiros"]
["3.3.2.3.1.12.00",{"$f":"VLOOKUP(A35,#REF!,2,0)","v":{"$error":"#REF!"}},"2 - Insumos Adquiridos de Terceiros","2.3 - Serviços de Terceiros"]
["3.3.2.3.1.13.00",{"$f":"VLOOKUP(A36,#REF!,2,0)","v":{"$error":"#REF!"}},"2 - Insumos Adquiridos de Terceiros","2.3 - Serviços de Terceiros"]
["3.3.2.3.1.14.00",{"$f":"VLOOKUP(A37,#REF!,2,0)","v":{"$error":"#REF!"}},"2 - Insumos Adquiridos de Terceiros","2.3 - Serviços de Terceiros"]
["3.3.2.3.1.99.00",{"$f":"VLOOKUP(A38,#REF!,2,0)","v":{"$error":"#REF!"}},"2 - Insumos Adquiridos de Terceiros","2.3 - Serviços de Terceiros"]
["3.3.2.3.2.01.00",{"$f":"VLOOKUP(A39,#REF!,2,0)","v":{"$error":"#REF!"}},"2 - Insumos Adquiridos de Terceiros","2.3 - Serviços de Terceiros"]
["3.3.2.3.2.02.00",{"$f":"VLOOKUP(A40,#REF!,2,0)","v":{"$error":"#REF!"}},"2 - Insumos Adquiridos de Terceiros","2.3 - Serviços de Terceiros"]
["3.3.2.3.2.03.00",{"$f":"VLOOKUP(A41,#REF!,2,0)","v":{"$error":"#REF!"}},"2 - Insumos Adquiridos de Terceiros","2.3 - Serviços de Terceiros"]
["3.3.2.3.2.05.00",{"$f":"VLOOKUP(A42,#REF!,2,0)","v":{"$error":"#REF!"}},"2 - Insumos Adquiridos de Terceiros","2.3 - Serviços de Terceiros"]
["3.3.2.3.2.11.00",{"$f":"VLOOKUP(A43,#REF!,2,0)","v":{"$error":"#REF!"}},"2 - Insumos Adquiridos de Terceiros","2.3 - Serviços de Terceiros"]
["3.3.2.3.2.12.00",{"$f":"VLOOKUP(A44,#REF!,2,0)","v":{"$error":"#REF!"}},"2 - Insumos Adquiridos de Terceiros","2.3 - Serviços de Terceiros"]
["3.3.2.3.4.12.00",{"$f":"VLOOKUP(A45,#REF!,2,0)","v":{"$error":"#REF!"}},"2 - Insumos Adquiridos de Terceiros","2.3 - Serviços de Terceiros"]
["3.3.2.3.4.01.00",{"$f":"VLOOKUP(A46,#REF!,2,0)","v":{"$error":"#REF!"}},"2 - Insumos Adquiridos de Terceiros","2.3 - Serviços de Terceiros"]
["3.3.2.3.4.03.00",{"$f":"VLOOKUP(A47,#REF!,2,0)","v":{"$error":"#REF!"}},"2 - Insumos Adquiridos de Terceiros","2.3 - Serviços de Terceiros"]
["3.3.2.3.4.05.00",{"$f":"VLOOKUP(A48,#REF!,2,0)","v":{"$error":"#REF!"}},"2 - Insumos Adquiridos de Terceiros","2.3 - Serviços de Terceiros"]
["3.3.2.3.4.11.00",{"$f":"VLOOKUP(A49,#REF!,2,0)","v":{"$error":"#REF!"}},"2 - Insumos Adquiridos de Terceiros","2.3 - Serviços de Terceiros"]
["3.3.2.3.4.13.00",{"$f":"VLOOKUP(A50,#REF!,2,0)","v":{"$error":"#REF!"}},"2 - Insumos Adquiridos de Terceiros","2.3 - Serviços de Terceiros"]
["3.3.2.3.5.02.00",{"$f":"VLOOKUP(A51,#REF!,2,0)","v":{"$error":"#REF!"}},"2 - Insumos Adquiridos de Terceiros","2.3 - Serviços de Terceiros"]
["3.6.4.0.1.01.00",{"$f":"VLOOKUP(A52,#REF!,2,0)","v":{"$error":"#REF!"}},"2 - Insumos Adquiridos de Terceiros","2.3 - Serviços de Terceiros"]
["3.6.4.0.2.01.00",{"$f":"VLOOKUP(A53,#REF!,2,0)","v":{"$error":"#REF!"}},"2 - Insumos Adquiridos de Terceiros","2.3 - Serviços de Terceiros"]
["3.3.2.2.1.10.00",{"$f":"VLOOKUP(A54,#REF!,2,0)","v":{"$error":"#REF!"}},"2 - Insumos Adquiridos de Terceiros","2.3 - Serviços de Terceiros"]
["3 - Valor Adicionado Bruto (1-2)",null,"3 - Valor Adicionado Bruto (1-2)","3 - Valor Adicionado Bruto (1-2)"]
["4 - Depreciação, Amortização e Exaustão",null,"4 - Depreciação, Amortização e Exaustão","4 - Depreciação, Amortização e Exaustão"]
["4.1 - Depreciação do Período",null,"4 - Depreciação, Amortização e Exaustão","4.1 - Depreciação do Período"]
["3.3.3.1.1.01.00",{"$f":"VLOOKUP(A58,#REF!,2,0)","v":{"$error":"#REF!"}},"4 - Depreciação, Amortização e Exaustão","4.1 - Depreciação do Período"]
["3.3.3.1.1.02.00",{"$f":"VLOOKUP(A59,#REF!,2,0)","v":{"$error":"#REF!"}},"4 - Depreciação, Amortização e Exaustão","4.1 - Depreciação do Período"]
["4.2 - Amortização do Período",null,"4 - Depreciação, Amortização e Exaustão","4.2 - Amortização do Período"]
["3.3.3.2.1.01.00",null,"4 - Depreciação, Amortização e Exaustão","4.2 - Amortização do Período"]
["3.3.3.2.1.02.00",{"$f":"VLOOKUP(A62,#REF!,2,0)","v":{"$error":"#REF!"}},"4 - Depreciação, Amortização e Exaustão","4.2 - Amortização do Período"]
["5 - Valor Adicionado Líquido (3-4)",null,"5 - Valor Adicionado Líquido (3-4)","5 - Valor Adicionado Líquido (3-4)"]
["6 - Valor Adicionado Recebido em Transferência",null,"6 - Valor Adicionado Recebido em Transferência","6 - Valor Adicionado Recebido em Transferência"]
["6.1 Repasses e Cotas Financeiras",null,"6 - Valor Adicionado Recebido em Transferência","6.1 Repasses e Cotas Financeiras"]
["3.5.1.1.2.02.00",{"$f":"VLOOKUP(A66,#REF!,2,0)","v":{"$error":"#REF!"}},"6 - Valor Adicionado Recebido em Transferência","6.1 Repasses e Cotas Financeiras"]
["3.5.1.1.2.03.00",{"$f":"VLOOKUP(A67,#REF!,2,0)","v":{"$error":"#REF!"}},"6 - Valor Adicionado Recebido em Transferência","6.1 Repasses e Cotas Financeiras"]
["3.5.1.1.2.08.02",{"$f":"VLOOKUP(A68,#REF!,2,0)","v":{"$error":"#REF!"}},"6 - Valor Adicionado Recebido em Transferência","6.1 Repasses e Cotas Financeiras"]
["3.5.1.2.2.01.00",{"$f":"VLOOKUP(A69,#REF!,2,0)","v":{"$error":"#REF!"}},"6 - Valor Adicionado Recebido em Transferência","6.1 Repasses e Cotas Financeiras"]
["3.5.1.2.2.02.00",{"$f":"VLOOKUP(A70,#REF!,2,0)","v":{"$error":"#REF!"}},"6 - Valor Adicionado Recebido em Transferência","6.1 Repasses e Cotas Financeiras"]
["3.5.6.0.1.04.00",{"$f":"VLOOKUP(A71,#REF!,2,0)","v":{"$error":"#REF!"}},"6 - Valor Adicionado Recebido em Transferência","6.1 Repasses e Cotas Financeiras"]
["3.5.9.0.2.01.00",{"$f":"VLOOKUP(A72,#REF!,2,0)","v":{"$error":"#REF!"}},"6 - Valor Adicionado Recebido em Transferência","6.1 Repasses e Cotas Financeiras"]
["3.5.9.0.5.01.00",{"$f":"VLOOKUP(A73,#REF!,2,0)","v":{"$error":"#REF!"}},"6 - Valor Adicionado Recebido em Transferência","6.1 Repasses e Cotas Financeiras"]
["3.4.3.9.2.01.01",{"$f":"VLOOKUP(A74,#REF!,2,0)","v":{"$error":"#REF!"}},"6 - Valor Adicionado Recebido em Transferência","6.1 Repasses e Cotas Financeiras"]
["3.5.9.0.1.01.00",{"$f":"VLOOKUP(A75,#REF!,2,0)","v":{"$error":"#REF!"}},"6 - Valor Adicionado Recebido em Transferência","6.1 Repasses e Cotas Financeiras"]
["4.3.3.1.2.01.00",{"$f":"VLOOKUP(A76,#REF!,2,0)","v":{"$error":"#REF!"}},"6 - Valor Adicionado Recebido em Transferência","6.1 Repasses e Cotas Financeiras"]
["4.3.3.1.5.01.00",{"$f":"VLOOKUP(A77,#REF!,2,0)","v":{"$error":"#REF!"}},"6 - Valor Adicionado Recebido em Transferência","6.1 Repasses e Cotas Financeiras"]
["4.3.3.9.1.01.00",{"$f":"VLOOKUP(A78,#REF!,2,0)","v":{"$error":"#REF!"}},"6 - Valor Adicionado Recebido em Transferência","6.1 Repasses e Cotas Financeiras"]
["4.3.3.9.5.01.00",{"$f":"VLOOKUP(A79,#REF!,2,0)","v":{"$error":"#REF!"}},"6 - Valor Adicionado Recebido em Transferência","6.1 Repasses e Cotas Financeiras"]
["4.3.3.9.1.99.00",{"$f":"VLOOKUP(A80,#REF!,2,0)","v":{"$error":"#REF!"}},"6 - Valor Adicionado Recebido em Transferência","6.1 Repasses e Cotas Financeiras"]
["4.5.1.1.2.02.00",{"$f":"VLOOKUP(A81,#REF!,2,0)","v":{"$error":"#REF!"}},"6 - Valor Adicionado Recebido em Transferência","6.1 Repasses e Cotas Financeiras"]
["4.5.1.1.2.03.00",{"$f":"VLOOKUP(A82,#REF!,2,0)","v":{"$error":"#REF!"}},"6 - Valor Adicionado Recebido em Transferência","6.1 Repasses e Cotas Financeiras"]
["4.5.1.2.2.01.00",{"$f":"VLOOKUP(A83,#REF!,2,0)","v":{"$error":"#REF!"}},"6 - Valor Adicionado Recebido em Transferência","6.1 Repasses e Cotas Financeiras"]
["4.5.1.2.2.02.00",{"$f":"VLOOKUP(A84,#REF!,2,0)","v":{"$error":"#REF!"}},"6 - Valor Adicionado Recebido em Transferência","6.1 Repasses e Cotas Financeiras"]
["4.5.9.0.1.01.00",{"$f":"VLOOKUP(A85,#REF!,2,0)","v":{"$error":"#REF!"}},"6 - Valor Adicionado Recebido em Transferência","6.1 Repasses e Cotas Financeiras"]
["4.5.9.0.2.01.00",{"$f":"VLOOKUP(A86,#REF!,2,0)","v":{"$error":"#REF!"}},"6 - Valor Adicionado Recebido em Transferência","6.1 Repasses e Cotas Financeiras"]
["4.4.5.2.1.01.00",{"$f":"VLOOKUP(A87,#REF!,2,0)","v":{"$error":"#REF!"}},"6 - Valor Adicionado Recebido em Transferência","6.1 Repasses e Cotas Financeiras"]
["6.2 Receitas Financeiras",null,"6 - Valor Adicionado Recebido em Transferência","6.2 Receitas Financeiras"]
["Receitas Financeiras",null,"6 - Valor Adicionado Recebido em Transferência","6.2 Receitas Financeiras"]
["6.3 Outras",null,"6 - Valor Adicionado Recebido em Transferência","6.3 Outras"]
["4.3.3.1.1.01.00",{"$f":"VLOOKUP(A91,#REF!,2,0)","v":{"$error":"#REF!"}},"6 - Valor Adicionado Recebido em Transferência","6.3 Outras"]
["4.5.1.2.2.03.00",{"$f":"VLOOKUP(A92,#REF!,2,0)","v":{"$error":"#REF!"}},"6 - Valor Adicionado Recebido em Transferência","6.3 Outras"]
["4.4.2.9.1.01.00",{"$f":"VLOOKUP(A93,#REF!,2,0)","v":{"$error":"#REF!"}},"6 - Valor Adicionado Recebido em Transferência","6.3 Outras"]
["4.6.3.1.1.01.00","GANHOS COM INCORPORACAO DE ATIVOS","6 - Valor Adicionado Recebido em Transferência","6.3 Outras"]
["4.6.3.9.1.01.00",{"$f":"VLOOKUP(A95,#REF!,2,0)","v":{"$error":"#REF!"}},"6 - Valor Adicionado Recebido em Transferência","6.3 Outras"]
["4.6.3.9.2.01.00",{"$f":"VLOOKUP(A96,#REF!,2,0)","v":{"$error":"#REF!"}},"6 - Valor Adicionado Recebido em Transferência","6.3 Outras"]
["4.6.4.0.1.01.00",{"$f":"VLOOKUP(A97,#REF!,2,0)","v":{"$error":"#REF!"}},"6 - Valor Adicionado Recebido em Transferência","6.3 Outras"]
["4.6.4.0.2.01.00",{"$f":"VLOOKUP(A98,#REF!,2,0)","v":{"$error":"#REF!"}},"6 - Valor Adicionado Recebido em Transferência","6.3 Outras"]
["4.9.9.6.1.02.00",{"$f":"VLOOKUP(A99,#REF!,2,0)","v":{"$error":"#REF!"}},"6 - Valor Adicionado Recebido em Transferência","6.3 Outras"]
["4.9.9.9.1.01.00",{"$f":"VLOOKUP(A100,#REF!,2,0)","v":{"$error":"#REF!"}},"6 - Valor Adicionado Recebido em Transferência","6.3 Outras"]
["4.9.7.1.1.01.00",{"$f":"VLOOKUP(A101,#REF!,2,0)","v":{"$error":"#REF!"}},"6 - Valor Adicionado Recebido em Transferência","6.3 Outras"]
["4.9.9.5.1.01.00",{"$f":"VLOOKUP(A102,#REF!,2,0)","v":{"$error":"#REF!"}},"6 - Valor Adicionado Recebido em Transferência","6.3 Outras"]
["3.5.3.1.1.01.00",{"$f":"VLOOKUP(A103,#REF!,2,0)","v":{"$error":"#REF!"}},"6 - Valor Adicionado Recebido em Transferência","6.3 Outras"]
["3.5.2.3.1.01.00",{"$f":"VLOOKUP(A104,#REF!,2,0)","v":{"$error":"#REF!"}},"6 - Valor Adicionado Recebido em Transferência","6.3 Outras"]
["3.5.1.2.2.03.00",{"$f":"VLOOKUP(A105,#REF!,2,0)","v":{"$error":"#REF!"}},"6 - Valor Adicionado Recebido em Transferência","6.3 Outras"]
["3.5.1.2.2.05.00",{"$f":"VLOOKUP(A106,#REF!,2,0)","v":{"$error":"#REF!"}},"6 - Valor Adicionado Recebido em Transferência","6.3 Outras"]
["3.6.5.0.1.01.00","INCORPORACAO DE PASSIVOS","6 - Valor Adicionado Recebido em Transferência","6.3 Outras"]
["3.6.5.0.2.01.00",{"$f":"VLOOKUP(A108,#REF!,2,0)","v":{"$error":"#REF!"}},"6 - Valor Adicionado Recebido em Transferência","6.3 Outras"]
["3.5.9.0.4.01.00",{"$f":"VLOOKUP(A109,#REF!,2,0)","v":{"$error":"#REF!"}},"6 - Valor Adicionado Recebido em Transferência","6.3 Outras"]
["3.6.3.1.1.01.00",{"$f":"VLOOKUP(A110,#REF!,2,0)","v":{"$error":"#REF!"}},"6 - Valor Adicionado Recebido em Transferência","6.3 Outras"]
["7 - Valor Adicionado Total a Distribuir (5+6)",null,"7 - Valor Adicionado Total a Distribuir (5+6)","7 - Valor Adicionado Total a Distribuir (5+6)"]
["8 - Distribuição do Valor Adicionado",null,"8 - Distribuição do Valor Adicionado","8 - Distribuição do Valor Adicionado"]
["8.1 - Remuneração do Trabalho",null,"8 - Distribuição do Valor Adicionado","8.1 - Remuneração do Trabalho"]
["8.1.1 - Pessoal e Diárias",null,"8 - Distribuição do Valor Adicionado","8.1.1 - Pessoal e Diárias"]
["3.1.1.1.1.01.00",null,"8 - Distribuição do Valor Adicionado","8.1.1 - Pessoal e Diárias"]
["3.1.1.1.1.03.00",{"$f":"VLOOKUP(A116,#REF!,2,0)","v":{"$error":"#REF!"}},"8 - Distribuição do Valor Adicionado","8.1.1 - Pessoal e Diárias"]
["3.1.1.1.1.04.00",{"$f":"VLOOKUP(A117,#REF!,2,0)","v":{"$error":"#REF!"}},"8 - Distribuição do Valor Adicionado","8.1.1 - Pessoal e Diárias"]
["3.1.1.1.1.09.00",{"$f":"VLOOKUP(A118,#REF!,2,0)","v":{"$error":"#REF!"}},"8 - Distribuição do Valor Adicionado","8.1.1 - Pessoal e Diárias"]
["3.3.2.1.1.01.00",{"$f":"VLOOKUP(A119,#REF!,2,0)","v":{"$error":"#REF!"}},"8 - Distribuição do Valor Adicionado","8.1.1 - Pessoal e Diárias"]
["3.1.1.1.1.05.00",{"$f":"VLOOKUP(A120,#REF!,2,0)","v":{"$error":"#REF!"}},"8 - Distribuição do Valor Adicionado","8.1.1 - Pessoal e Diárias"]
["3.1.1.2.1.01.00","SERVICOS DE CONFECCOES - PJ","8 - Distribuição do Valor Adicionado","8.1.1 - Pessoal e Diárias"]
["3.1.1.2.1.02.00",{"$f":"VLOOKUP(A122,#REF!,2,0)","v":{"$error":"#REF!"}},"8 - Distribuição do Valor Adicionado","8.1.1 - Pessoal e Diárias"]
["3.1.1.2.1.03.00",{"$f":"VLOOKUP(A123,#REF!,2,0)","v":{"$error":"#REF!"}},"8 - Distribuição do Valor Adicionado","8.1.1 - Pessoal e Diárias"]
["3.1.1.2.1.04.00",{"$f":"VLOOKUP(A124,#REF!,2,0)","v":{"$error":"#REF!"}},"8 - Distribuição do Valor Adicionado","8.1.1 - Pessoal e Diárias"]
["3.1.1.2.1.05.00",{"$f":"VLOOKUP(A125,#REF!,2,0)","v":{"$error":"#REF!"}},"8 - Distribuição do Valor Adicionado","8.1.1 - Pessoal e Diárias"]
["3.1.1.1.1.06.00",{"$f":"VLOOKUP(A126,#REF!,2,0)","v":{"$error":"#REF!"}},"8 - Distribuição do Valor Adicionado","8.1.1 - Pessoal e Diárias"]
["3.1.1.2.1.06.00",{"$f":"VLOOKUP(A127,#REF!,2,0)","v":{"$error":"#REF!"}},"8 - Distribuição do Valor Adicionado","8.1.1 - Pessoal e Diárias"]
["3.1.1.2.1.09.00",{"$f":"VLOOKUP(A128,#REF!,2,0)","v":{"$error":"#REF!"}},"8 - Distribuição do Valor Adicionado","8.1.1 - Pessoal e Diárias"]
["3.1.3.1.1.04.00",{"$f":"VLOOKUP(A129,#REF!,2,0)","v":{"$error":"#REF!"}},"8 - Distribuição do Valor Adicionado","8.1.1 - Pessoal e Diárias"]
["3.1.3.2.1.02.00",{"$f":"VLOOKUP(A130,#REF!,2,0)","v":{"$error":"#REF!"}},"8 - Distribuição do Valor Adicionado","8.1.1 - Pessoal e Diárias"]
["3.1.3.2.1.04.00",{"$f":"VLOOKUP(A131,#REF!,2,0)","v":{"$error":"#REF!"}},"8 - Distribuição do Valor Adicionado","8.1.1 - Pessoal e Diárias"]
["3.1.3.2.1.05.00",{"$f":"VLOOKUP(A132,#REF!,2,0)","v":{"$error":"#REF!"}},"8 - Distribuição do Valor Adicionado","8.1.1 - Pessoal e Diárias"]
["3.1.3.2.1.06.00",{"$f":"VLOOKUP(A133,#REF!,2,0)","v":{"$error":"#REF!"}},"8 - Distribuição do Valor Adicionado","8.1.1 - Pessoal e Diárias"]
["3.1.3.2.1.07.00",{"$f":"VLOOKUP(A134,#REF!,2,0)","v":{"$error":"#REF!"}},"8 - Distribuição do Valor Adicionado","8.1.1 - Pessoal e Diárias"]
["3.1.9.1.1.01.00",{"$f":"VLOOKUP(A135,#REF!,2,0)","v":{"$error":"#REF!"}},"8 - Distribuição do Valor Adicionado","8.1.1 - Pessoal e Diárias"]
["3.1.2.2.2.09.00",{"$f":"VLOOKUP(A136,#REF!,2,0)","v":{"$error":"#REF!"}},"8 - Distribuição do Valor Adicionado","8.1.1 - Pessoal e Diárias"]
["3.1.9.2.1.01.00",{"$f":"VLOOKUP(A137,#REF!,2,0)","v":{"$error":"#REF!"}},"8 - Distribuição do Valor Adicionado","8.1.1 - Pessoal e Diárias"]
["3.1.9.2.2.01.00",{"$f":"VLOOKUP(A138,#REF!,2,0)","v":{"$error":"#REF!"}},"8 - Distribuição do Valor Adicionado","8.1.1 - Pessoal e Diárias"]
["3.1.9.2.4.01.00",{"$f":"VLOOKUP(A139,#REF!,2,0)","v":{"$error":"#REF!"}},"8 - Distribuição do Valor Adicionado","8.1.1 - Pessoal e Diárias"]
["3.1.9.2.5.01.00",{"$f":"VLOOKUP(A140,#REF!,2,0)","v":{"$error":"#REF!"}},"8 - Distribuição do Valor Adicionado","8.1.1 - Pessoal e Diárias"]
["3.9.4.1.1.01.00",{"$f":"VLOOKUP(A141,#REF!,2,0)","v":{"$error":"#REF!"}},"8 - Distribuição do Valor Adicionado","8.1.1 - Pessoal e Diárias"]
["3.9.7.1.1.01.00",{"$f":"VLOOKUP(A142,#REF!,2,0)","v":{"$error":"#REF!"}},"8 - Distribuição do Valor Adicionado","8.1.1 - Pessoal e Diárias"]
["3.9.7.4.1.01.00",{"$f":"VLOOKUP(A143,#REF!,2,0)","v":{"$error":"#REF!"}},"8 - Distribuição do Valor Adicionado","8.1.1 - Pessoal e Diárias"]
["3.9.9.6.1.01.00",{"$f":"VLOOKUP(A144,#REF!,2,0)","v":{"$error":"#REF!"}},"8 - Distribuição do Valor Adicionado","8.1.1 - Pessoal e Diárias"]
["3.9.9.6.2.02.00",{"$f":"VLOOKUP(A145,#REF!,2,0)","v":{"$error":"#REF!"}},"8 - Distribuição do Valor Adicionado","8.1.1 - Pessoal e Diárias"]
["3.9.9.6.4.02.00",{"$f":"VLOOKUP(A146,#REF!,2,0)","v":{"$error":"#REF!"}},"8 - Distribuição do Valor Adicionado","8.1.1 - Pessoal e Diárias"]
["3.9.4.2.1.01.00",{"$f":"VLOOKUP(A147,#REF!,2,0)","v":{"$error":"#REF!"}},"8 - Distribuição do Valor Adicionado","8.1.1 - Pessoal e Diárias"]
["3.9.9.6.1.02.00",{"$f":"VLOOKUP(A148,#REF!,2,0)","v":{"$error":"#REF!"}},"8 - Distribuição do Valor Adicionado","8.1.1 - Pessoal e Diárias"]
["8.1.2 - Encargos",null,"8 - Distribuição do Valor Adicionado","8.1.2 - Encargos"]
["3.1.2.1.2.01.00",{"$f":"VLOOKUP(A150,#REF!,2,0)","v":{"$error":"#REF!"}},"8 - Distribuição do Valor Adicionado","8.1.2 - Encargos"]
["3.1.2.2.2.01.00",{"$f":"VLOOKUP(A151,#REF!,2,0)","v":{"$error":"#REF!"}},"8 - Distribuição do Valor Adicionado","8.1.2 - Encargos"]
["3.1.2.3.1.01.00",{"$f":"VLOOKUP(A152,#REF!,2,0)","v":{"$error":"#REF!"}},"8 - Distribuição do Valor Adicionado","8.1.2 - Encargos"]
["3.1.3.2.1.01.00",{"$f":"VLOOKUP(A153,#REF!,2,0)","v":{"$error":"#REF!"}},"8 - Distribuição do Valor Adicionado","8.1.2 - Encargos"]
["8.2 - Remuneração do Governo",null,"8 - Distribuição do Valor Adicionado","8.2 - Remuneração do Governo"]
["8.2.1 - Impostos, Taxas, Contribuições, Multas e Juros",null,"8 - Distribuição do Valor Adicionado","8.2.1 - Impostos, Taxas, Contribuições, Multas e Juros"]
["3.4.2.4.1.01.00",{"$f":"VLOOKUP(A156,#REF!,2,0)","v":{"$error":"#REF!"}},"8 - Distribuição do Valor Adicionado","8.2.1 - Impostos, Taxas, Contribuições, Multas e Juros"]
["3.4.2.4.2.01.00",{"$f":"VLOOKUP(A157,#REF!,2,0)","v":{"$error":"#REF!"}},"8 - Distribuição do Valor Adicionado","8.2.1 - Impostos, Taxas, Contribuições, Multas e Juros"]
["3.4.2.4.2.03.00",{"$f":"VLOOKUP(A158,#REF!,2,0)","v":{"$error":"#REF!"}},"8 - Distribuição do Valor Adicionado","8.2.1 - Impostos, Taxas, Contribuições, Multas e Juros"]
["3.4.2.4.1.02.00",{"$f":"VLOOKUP(A159,#REF!,2,0)","v":{"$error":"#REF!"}},"8 - Distribuição do Valor Adicionado","8.2.1 - Impostos, Taxas, Contribuições, Multas e Juros"]
["3.4.2.4.1.03.00",{"$f":"VLOOKUP(A160,#REF!,2,0)","v":{"$error":"#REF!"}},"8 - Distribuição do Valor Adicionado","8.2.1 - Impostos, Taxas, Contribuições, Multas e Juros"]
["3.4.2.3.1.01.00",{"$f":"VLOOKUP(A161,#REF!,2,0)","v":{"$error":"#REF!"}},"8 - Distribuição do Valor Adicionado","8.2.1 - Impostos, Taxas, Contribuições, Multas e Juros"]
["3.4.2.3.1.02.00",{"$f":"VLOOKUP(A162,#REF!,2,0)","v":{"$error":"#REF!"}},"8 - Distribuição do Valor Adicionado","8.2.1 - Impostos, Taxas, Contribuições, Multas e Juros"]
["3.4.2.3.1.03.00",{"$f":"VLOOKUP(A163,#REF!,2,0)","v":{"$error":"#REF!"}},"8 - Distribuição do Valor Adicionado","8.2.1 - Impostos, Taxas, Contribuições, Multas e Juros"]
["3.4.2.4.2.02.00",{"$f":"VLOOKUP(A164,#REF!,2,0)","v":{"$error":"#REF!"}},"8 - Distribuição do Valor Adicionado","8.2.1 - Impostos, Taxas, Contribuições, Multas e Juros"]
["3.4.2.4.4.02.00",{"$f":"VLOOKUP(A165,#REF!,2,0)","v":{"$error":"#REF!"}},"8 - Distribuição do Valor Adicionado","8.2.1 - Impostos, Taxas, Contribuições, Multas e Juros"]
["3.4.2.4.4.03.00",{"$f":"VLOOKUP(A166,#REF!,2,0)","v":{"$error":"#REF!"}},"8 - Distribuição do Valor Adicionado","8.2.1 - Impostos, Taxas, Contribuições, Multas e Juros"]
["3.4.2.4.5.01.00","MULTAS DEDUTIVEIS","8 - Distribuição do Valor Adicionado","8.2.1 - Impostos, Taxas, Contribuições, Multas e Juros"]
["3.4.2.4.5.02.00","MULTAS INDEDUTIVEIS","8 - Distribuição do Valor Adicionado","8.2.1 - Impostos, Taxas, Contribuições, Multas e Juros"]
["3.4.2.4.5.03.00",{"$f":"VLOOKUP(A169,#REF!,2,0)","v":{"$error":"#REF!"}},"8 - Distribuição do Valor Adicionado","8.2.1 - Impostos, Taxas, Contribuições, Multas e Juros"]
["3.4.3.9.1.01.01",{"$f":"VLOOKUP(A170,#REF!,2,0)","v":{"$error":"#REF!"}},"8 - Distribuição do Valor Adicionado","8.2.1 - Impostos, Taxas, Contribuições, Multas e Juros"]
["3.9.9.5.1.01.00","MULTAS INDEDUTIVEIS","8 - Distribuição do Valor Adicionado","8.2.1 - Impostos, Taxas, Contribuições, Multas e Juros"]
["3.9.9.5.4.01.00","ENCARGOS FINANCEIROS DEDUTIVEIS","8 - Distribuição do Valor Adicionado","8.2.1 - Impostos, Taxas, Contribuições, Multas e Juros"]
["3.9.9.5.2.01.00",{"$f":"VLOOKUP(A173,#REF!,2,0)","v":{"$error":"#REF!"}},"8 - Distribuição do Valor Adicionado","8.2.1 - Impostos, Taxas, Contribuições, Multas e Juros"]
["3.4.3.9.2.01.01",{"$f":"VLOOKUP(A174,#REF!,2,0)","v":{"$error":"#REF!"}},"8 - Distribuição do Valor Adicionado","8.2.1 - Impostos, Taxas, Contribuições, Multas e Juros"]
["3.7.1.1.1.02.00",{"$f":"VLOOKUP(A175,#REF!,2,0)","v":{"$error":"#REF!"}},"8 - Distribuição do Valor Adicionado","8.2.1 - Impostos, Taxas, Contribuições, Multas e Juros"]
["3.7.1.1.5.02.00",{"$f":"VLOOKUP(A176,#REF!,2,0)","v":{"$error":"#REF!"}},"8 - Distribuição do Valor Adicionado","8.2.1 - Impostos, Taxas, Contribuições, Multas e Juros"]
["3.7.1.2.1.01.00",{"$f":"VLOOKUP(A177,#REF!,2,0)","v":{"$error":"#REF!"}},"8 - Distribuição do Valor Adicionado","8.2.1 - Impostos, Taxas, Contribuições, Multas e Juros"]
["3.7.1.2.2.01.00",{"$f":"VLOOKUP(A178,#REF!,2,0)","v":{"$error":"#REF!"}},"8 - Distribuição do Valor Adicionado","8.2.1 - Impostos, Taxas, Contribuições, Multas e Juros"]
["3.7.1.2.4.01.00",{"$f":"VLOOKUP(A179,#REF!,2,0)","v":{"$error":"#REF!"}},"8 - Distribuição do Valor Adicionado","8.2.1 - Impostos, Taxas, Contribuições, Multas e Juros"]
["3.7.1.2.5.01.00",{"$f":"VLOOKUP(A180,#REF!,2,0)","v":{"$error":"#REF!"}},"8 - Distribuição do Valor Adicionado","8.2.1 - Impostos, Taxas, Contribuições, Multas e Juros"]
["3.7.2.1.2.04.00",{"$f":"VLOOKUP(A181,#REF!,2,0)","v":{"$error":"#REF!"}},"8 - Distribuição do Valor Adicionado","8.2.1 - Impostos, Taxas, Contribuições, Multas e Juros"]
["3.7.2.3.1.01.00",{"$f":"VLOOKUP(A182,#REF!,2,0)","v":{"$error":"#REF!"}},"8 - Distribuição do Valor Adicionado","8.2.1 - Impostos, Taxas, Contribuições, Multas e Juros"]
["3.7.2.3.5.01.00",{"$f":"VLOOKUP(A183,#REF!,2,0)","v":{"$error":"#REF!"}},"8 - Distribuição do Valor Adicionado","8.2.1 - Impostos, Taxas, Contribuições, Multas e Juros"]
["8.3 - Remuneração do Capital de Terceiros",null,"8 - Distribuição do Valor Adicionado","8.3 - Remuneração do Capital de Terceiros"]
["8.3.1 - Aluguéis",null,"8 - Distribuição do Valor Adicionado","8.3.1 - Aluguéis"]
["3.3.2.3.1.09.00",{"$f":"VLOOKUP(A186,#REF!,2,0)","v":{"$error":"#REF!"}},"8 - Distribuição do Valor Adicionado","8.3.1 - Aluguéis"]
["3.3.2.3.4.09.00",{"$f":"VLOOKUP(A187,#REF!,2,0)","v":{"$error":"#REF!"}},"8 - Distribuição do Valor Adicionado","8.3.1 - Aluguéis"]
["3.3.2.2.1.08.00",{"$f":"VLOOKUP(A188,#REF!,2,0)","v":{"$error":"#REF!"}},"8 - Distribuição do Valor Adicionado","8.3.1 - Aluguéis"]
["3.3.2.3.5.09.00",{"$f":"VLOOKUP(A189,#REF!,2,0)","v":{"$error":"#REF!"}},"8 - Distribuição do Valor Adicionado","8.3.1 - Aluguéis"]
["3.3.2.3.2.09.00",{"$f":"VLOOKUP(A190,#REF!,2,0)","v":{"$error":"#REF!"}},"8 - Distribuição do Valor Adicionado","8.3.1 - Aluguéis"]
["8.4 - Remuneração de Capital Próprio",null,"8 - Distribuição do Valor Adicionado","8.4 - Remuneração de Capital Próprio"]
["8.4.1 Resultado do Exercício",null,"8 - Distribuição do Valor Adicionado","8.4.1 Resultado do Exercício"]