BEGIN:VCALENDAR
PRODID:brasil.gov.agenda
VERSION:1.0
BEGIN:VEVENT
DTSTART:20260312T170000Z
DTEND:20260312T210000Z
DCREATED:20260312T134555Z
UID:Compromisso-63c2189d044d4805b8438cb23b2f1fc2
SEQUENCE:0
LAST-MODIFIED:20260312T134555Z
SUMMARY:Despachos Internos
LOCATION:Gabinete Vice-presidência
PRIORITY:3
TRANSP:0
END:VEVENT
END:VCALENDAR
