BEGIN:VCALENDAR
PRODID:brasil.gov.agenda
VERSION:1.0
BEGIN:VEVENT
DTSTART:20200903T120000Z
DTEND:20200903T123000Z
DCREATED:20200902T140717Z
UID:Compromisso-e442253c46ef4b7198d82aae41bf76c4
SEQUENCE:0
LAST-MODIFIED:20200903T115621Z
SUMMARY:Reunião
DESCRIPTION:Apresentação da visita técnica a Uberlândia.
LOCATION:Ebserh/Sede Gabinete da Vice-Presidência
PRIORITY:3
TRANSP:0
END:VEVENT
END:VCALENDAR
