BEGIN:VCALENDAR
PRODID:brasil.gov.agenda
VERSION:1.0
BEGIN:VEVENT
DTSTART:20200903T123000Z
DTEND:20200903T133000Z
DCREATED:20200903T115702Z
UID:Compromisso-b58321414c1e4ff68bde84089f1022a9
SEQUENCE:0
LAST-MODIFIED:20200903T122914Z
SUMMARY:Reunião
DESCRIPTION:Acompanhar o Presidente Oswaldo Ferreira em receber o Dr. 
 Marcos Musafir\, Diretor do Hospital Universitário do Fundão (UFRJ).
 
LOCATION:Ebserh/Sede
PRIORITY:3
TRANSP:0
END:VEVENT
END:VCALENDAR
