BEGIN:VCALENDAR
PRODID:brasil.gov.agenda
VERSION:1.0
BEGIN:VEVENT
DTSTART:20200901T133000Z
DTEND:20200901T150000Z
DCREATED:20200831T172647Z
UID:Compromisso-e350136675e34aebb2d71c025f3e8880
SEQUENCE:0
LAST-MODIFIED:20200831T172647Z
SUMMARY:Despachos Internos
LOCATION:Ebserh/Sede Gabinete da Vice-Presidência
PRIORITY:3
TRANSP:0
END:VEVENT
END:VCALENDAR
