BEGIN:VCALENDAR
PRODID:brasil.gov.agenda
VERSION:1.0
BEGIN:VEVENT
DTSTART:20200901T170000Z
DTEND:20200901T190000Z
DCREATED:20200831T173056Z
UID:Compromisso-89a11ebf45994f038c22c0242d3bcf35
SEQUENCE:0
LAST-MODIFIED:20200831T173056Z
SUMMARY:Despachos Internos
LOCATION:Ebserh/Sede Gabinete da Vice-Presidência
PRIORITY:3
TRANSP:0
END:VEVENT
END:VCALENDAR
