BEGIN:VCALENDAR
PRODID:brasil.gov.agenda
VERSION:1.0
BEGIN:VEVENT
DTSTART:20250821T170000Z
DTEND:20250821T180000Z
DCREATED:20250822T135510Z
UID:Compromisso-bfa4e957e269461dab3b037989842fca
SEQUENCE:0
LAST-MODIFIED:20250822T135510Z
SUMMARY:Solenidade de posse da Professora Nídia Heringer no cargo de Reitora do Instituto Federal Farroupilha (IFFar) e Visita
LOCATION:Avenida Tênis Clube - Avenida Dois de Novembro\, 1290 - Bairro Patronato\, Santa Maria (RS)
PRIORITY:3
TRANSP:0
END:VEVENT
END:VCALENDAR
