BEGIN:VCALENDAR
PRODID:brasil.gov.agenda
VERSION:1.0
BEGIN:VEVENT
DTSTART:20240405T113000Z
DTEND:20240405T150000Z
DCREATED:20240415T195724Z
UID:Compromisso-e69497adc9134c8381c49ae831ef7ba3
SEQUENCE:0
LAST-MODIFIED:20240415T195728Z
SUMMARY:Despachos Internos
LOCATION:Ebserh/Sede
PRIORITY:3
TRANSP:0
END:VEVENT
END:VCALENDAR
