BEGIN:VCALENDAR
PRODID:brasil.gov.agenda
VERSION:1.0
BEGIN:VEVENT
DTSTART:20260317T190000Z
DTEND:20260317T210000Z
DCREATED:20260319T133429Z
UID:Compromisso-5edd7161102e47039a2bc01eb7ab7c22
SEQUENCE:0
LAST-MODIFIED:20260319T133429Z
SUMMARY:Reunião
DESCRIPTION:Acordo Coletivo
LOCATION:Ebserh/Sede/Diretoria de Gestão de Pessoas
PRIORITY:3
TRANSP:0
END:VEVENT
END:VCALENDAR
