BEGIN:VCALENDAR
PRODID:brasil.gov.agenda
VERSION:1.0
BEGIN:VEVENT
DTSTART:20240123T120000Z
DTEND:20240123T140000Z
DCREATED:20240124T155559Z
UID:Compromisso-658751a9e0ff46259b7bc539c558e349
SEQUENCE:0
LAST-MODIFIED:20240124T155601Z
SUMMARY:Reunião da Diretoria Executiva - DIREX
DESCRIPTION:Diretoria Executiva - DIREX
LOCATION:Ebserh/Sede - Sala dos Conselhos
PRIORITY:3
TRANSP:0
END:VEVENT
END:VCALENDAR
