BEGIN:VCALENDAR
PRODID:brasil.gov.agenda
VERSION:1.0
BEGIN:VEVENT
DTSTART:20231228T170000Z
DTEND:20231228T220000Z
DCREATED:20231221T133417Z
UID:Compromisso-f69f5b92586a47cd889e7c1f77e0f6cd
SEQUENCE:0
LAST-MODIFIED:20231221T133417Z
SUMMARY:Despachos internos
LOCATION:Ebserh/Sede - Diretoria de Gestão de Pessoas
PRIORITY:3
TRANSP:0
END:VEVENT
END:VCALENDAR
