BEGIN:VCALENDAR
PRODID:brasil.gov.agenda
VERSION:1.0
BEGIN:VEVENT
DTSTART:20231226T120000Z
DTEND:20231226T150000Z
DCREATED:20231221T133026Z
UID:Compromisso-711839f7a9ae4be3bc39228bf0e350c7
SEQUENCE:0
LAST-MODIFIED:20231221T133027Z
SUMMARY:Despachos internos
LOCATION:Ebserh/Sede - Diretoria de Gestão de Pessoas
PRIORITY:3
TRANSP:0
END:VEVENT
END:VCALENDAR
