BEGIN:VCALENDAR
PRODID:brasil.gov.agenda
VERSION:1.0
BEGIN:VEVENT
DTSTART:20230202T170000Z
DTEND:20230202T220000Z
DCREATED:20230203T220404Z
UID:Compromisso-29c0d888560242cc83d635652534f59a
SEQUENCE:0
LAST-MODIFIED:20230203T220404Z
SUMMARY:Despachos internos
LOCATION:Ebserh/Sede - Diretoria de Gestão de Pessoas
PRIORITY:3
TRANSP:0
END:VEVENT
END:VCALENDAR
