BEGIN:VCALENDAR
PRODID:brasil.gov.agenda
VERSION:1.0
BEGIN:VEVENT
DTSTART:20210922T170000Z
DTEND:20210922T220000Z
DCREATED:20210922T122955Z
UID:Compromisso-47918d3498294b1abaef12dde62f6169
SEQUENCE:0
LAST-MODIFIED:20210922T122955Z
SUMMARY:Despachos Internos
LOCATION:Ebserh/Sede
PRIORITY:3
TRANSP:0
END:VEVENT
END:VCALENDAR
