BEGIN:VCALENDAR
PRODID:brasil.gov.agenda
VERSION:1.0
BEGIN:VEVENT
DTSTART:20221121T203000Z
DTEND:20221121T220000Z
DCREATED:20221122T212011Z
UID:Compromisso-404bf140d012463ca9efaed5f6321872
SEQUENCE:0
LAST-MODIFIED:20221122T212011Z
SUMMARY:Despachos Internos.
LOCATION:Ebserh/Sede
PRIORITY:3
TRANSP:0
END:VEVENT
END:VCALENDAR
