BEGIN:VCALENDAR
PRODID:brasil.gov.agenda
VERSION:1.0
BEGIN:VEVENT
DTSTART:20260327T130000Z
DTEND:20260327T150000Z
DCREATED:20260325T134920Z
UID:Compromisso-16885ff276604057b06b77e9b5ce038c
SEQUENCE:0
LAST-MODIFIED:20260325T134920Z
SUMMARY:Reunião: Acompanhamento HUSE-UNIRIO
LOCATION:Ebserh/Sede
PRIORITY:3
TRANSP:0
END:VEVENT
END:VCALENDAR
