{"text_format":"1","workbook":"xlsx","n_sheets":22,"sheets":["LISTA_GERAL","FORM1","FORM2","FORM2.1","FORM2.2","FORM2.3","FORM2.4","FORM3","FORM3.1","GRÁFICOS.LÓGICA","FORM3.2","FORM3.3","FORM3.4","FORM3.5","FORM3.6","FORM3GERAL","TABELAS AUXILIARES","LOGICA_CONTROLE_0","LOGICA_ISEG","LOGICA_IPRIV","BASE_CIS8","BASE_SGD"],"not_rendered":{"charts":38,"images":8,"macros":1,"external_links":0,"defined_names":12,"comments":6,"pivot_tables":0},"unopened":[],"bounds":{"document_bytes":16777216,"sheet_cells":100000,"rows_first":2000,"rows_last":500,"rows_between":2000,"halvings":0,"cell_chars":16384,"cell_head_chars":4096},"cells_cut":0,"cells_raw":0,"read":"whole","date_system":"1900"}

{"sheet":"LISTA_GERAL","index":0,"n_rows":303,"n_cols":7,"rows_kept":303,"cut":false,"hidden":true,"merged":[[1,1,1,10],[271,1,272,2],[302,1,302,10],[269,1,269,10],[248,1,248,10],[273,5,273,6]]}
[]
[null,"CADASTRO"]
[]
[null,"LISTA DE ÓRGÃOS/INSTITUIÇÕES","PESQUISA AUTOMATIZADA",null,null,null,"DATA FIM DIAGNOSTICO"]
[null,"Ministério da Economia - ME",{"$f":"_xlfn._xlws.FILTER(Table4[LISTA DE ÓRGÃOS/INSTITUIÇÕES],ISNUMBER(FIND(FORM1!C6,Table4[LISTA DE ÓRGÃOS/INSTITUIÇÕES])),\"Fora da Lista\")","v":"Ministério da Economia - ME"},"VERSÃO DO DIAGNÓSTICO",null,null,"2022-10-20"]
[null,"Advocacia Geral da União – AGU","Advocacia Geral da União – AGU",1]
[null,"Controladoria-Geral da União – CGU","Controladoria-Geral da União – CGU",2]
[null,"Gabinete de Segurança Institucional da Presidência da República - GSI/PR","Gabinete de Segurança Institucional da Presidência da República - GSI/PR",3]
[null,"Ministério da Agricultura, Pecuária e Abastecimento – MAPA","Ministério da Agricultura, Pecuária e Abastecimento – MAPA",4]
[null,"Ministério da Cidadania - MCIDADANIA","Ministério da Cidadania - MCIDADANIA",5]
[null,"Ministério da Ciência, Tecnologia, Inovações e Comunicações – MCTIC","Ministério da Ciência, Tecnologia, Inovações e Comunicações – MCTIC"]
[null,"Ministério das Comunicações - MCOM","Ministério das Comunicações - MCOM"]
[null,"Ministério da Defesa – MD","Ministério da Defesa – MD"]
[null,"Ministério da Economia - ME","Ministério da Economia - ME"]
[null,"Ministério da Educação – MEC","Ministério da Educação – MEC"]
[null,"Ministério da Infraestrutura – MINFRA","Ministério da Infraestrutura – MINFRA"]
[null,"Ministério da Justiça e Segurança Pública – MJSP","Ministério da Justiça e Segurança Pública – MJSP"]
[null,"Ministério da Mulher, da Família e dos Direitos Humanos - MMFDH","Ministério da Mulher, da Família e dos Direitos Humanos - MMFDH"]
[null,"Ministério da Saúde – MS","Ministério da Saúde – MS"]
[null,"Ministério das Relações Exteriores – MRE","Ministério das Relações Exteriores – MRE"]
[null,"Ministério de Minas e Energia – MME","Ministério de Minas e Energia – MME"]
[null,"Ministério do Desenvolvimento Regional - MDR","Ministério do Desenvolvimento Regional - MDR"]
[null,"Ministério do Meio Ambiente – MMA","Ministério do Meio Ambiente – MMA"]
[null,"Ministério do Trabalho e Previdência - MTB","Ministério do Trabalho e Previdência - MTB"]
[null,"Ministério do Turismo – Mtur","Ministério do Turismo – Mtur"]
[null,"Secretaria Geral da Presidência da República – SGPR","Secretaria Geral da Presidência da República – SGPR"]
[null,"Agência Brasileira de Inteligência – ABIN","Agência Brasileira de Inteligência – ABIN"]
[null,"Arquivo Nacional – AN","Arquivo Nacional – AN"]
[null,"Casa Civil - CC","Casa Civil - CC"]
[null,"Centro de Tecnologia da Informação Renato Archer – CTI","Centro de Tecnologia da Informação Renato Archer – CTI"]
[null,"Centro de Tecnologia Mineral – CETEM","Centro de Tecnologia Mineral – CETEM"]
[null,"Centro Gestor e Operacional do Sistema de Proteção da Amazônia - CENSIPAM","Centro Gestor e Operacional do Sistema de Proteção da Amazônia - CENSIPAM"]
[null,"Comando da Aeronáutica – COMAER","Comando da Aeronáutica – COMAER"]
[null,"Comando da Marinha – CMAR","Comando da Marinha – CMAR"]
[null,"Comando do Exército – CEX","Comando do Exército – CEX"]
[null,"Ministério da Saúde – MS","Ministério da Saúde – MS"]
[null,"Coordenação-Geral de Gestão de Portos do MINFRA","Coordenação-Geral de Gestão de Portos do MINFRA"]
[null,"Coordenação-Geral de Projetos Especiais de Tecnologia da lnformação - CGPTI do MAPA","Coordenação-Geral de Projetos Especiais de Tecnologia da lnformação - CGPTI do MAPA"]
[null,"Secretaria Nacional de Assistência Social do MCIDADANIA","Secretaria Nacional de Assistência Social do MCIDADANIA"]
[null,"Secretaria de Avaliação e Gestão da Informação do MCIDADANIA","Secretaria de Avaliação e Gestão da Informação do MCIDADANIA"]
[null,"Secretaria Nacional do Cadastro Único - SECAD","Secretaria Nacional do Cadastro Único - SECAD"]
[null,"Departamento de Polícia Federal - DPF","Departamento de Polícia Federal - DPF"]
[null,"Departamento de Polícia Rodoviária Federal - DPRF","Departamento de Polícia Rodoviária Federal - DPRF"]
[null,"Secretaria Nacional de Trânsito - SNT","Secretaria Nacional de Trânsito - SNT"]
[null,"Departamento Penitenciário Nacional - DEPEN","Departamento Penitenciário Nacional - DEPEN"]
[null,"Departamento Nacional de Registro Empresarial e Integração - DREI","Departamento Nacional de Registro Empresarial e Integração - DREI"]
[null,"Hospital das Forças Armadas – HFA","Hospital das Forças Armadas – HFA"]
[null,"Imprensa Nacional – IN","Imprensa Nacional – IN"]
[null,"Instituto Brasileiro de Informação em Ciência e Tecnologia – IBICT","Instituto Brasileiro de Informação em Ciência e Tecnologia – IBICT"]
[null,"Instituto Nacional de Câncer José Alencar Gomes da Silva - INCA","Instituto Nacional de Câncer José Alencar Gomes da Silva - INCA"]
[null,"Instituto Nacional de Cardiologia – INC/SAS","Instituto Nacional de Cardiologia – INC/SAS"]
[null,"Instituto Nacional de Meteorologia - INMET","Instituto Nacional de Meteorologia - INMET"]
[null,"Instituto Nacional de Pesquisas da Amazônia - INPA","Instituto Nacional de Pesquisas da Amazônia - INPA"]
[null,"Instituto Nacional de Pesquisas Espaciais – INPE-MCT","Instituto Nacional de Pesquisas Espaciais – INPE-MCT"]
[null,"Instituto Nacional de Educação de Surdos","Instituto Nacional de Educação de Surdos"]
[null,"Instituto Nacional de Tecnologia – INT","Instituto Nacional de Tecnologia – INT"]
[null,"Instituto Nacional de Tecnologia da Informação – ITI","Instituto Nacional de Tecnologia da Informação – ITI"]
[null,"Laboratório Nacional de Computação Científica – LNCC-MCT","Laboratório Nacional de Computação Científica – LNCC-MCT"]
[null,"Museu de Astronomia e Ciências Afins – MAST","Museu de Astronomia e Ciências Afins – MAST"]
[null,"Museu Paraense Emílio Goeldi – MPEG","Museu Paraense Emílio Goeldi – MPEG"]
[null,"Observatório Nacional – ON","Observatório Nacional – ON"]
[null,"Procuradoria-Geral da Fazenda Nacional – PGFN","Procuradoria-Geral da Fazenda Nacional – PGFN"]
[null,"Secretaria da Receita Federal do Brasil – RFB","Secretaria da Receita Federal do Brasil – RFB"]
[null,"Secretaria de Coordenação e Governança das Empresas Estatais - SEST","Secretaria de Coordenação e Governança das Empresas Estatais - SEST"]
[null,"Secretaria de Gestão - SEGES","Secretaria de Gestão - SEGES"]
[null,"Secretaria de Gestão de Pessoas - SGP","Secretaria de Gestão de Pessoas - SGP"]
[null,"Secretaria de Orçamento Federal - SOF","Secretaria de Orçamento Federal - SOF"]
[null,"Secretaria do Patrimônio da União - SPU","Secretaria do Patrimônio da União - SPU"]
[null,"Secretaria do Tesouro Nacional - STN","Secretaria do Tesouro Nacional - STN"]
[null,"Secretaria Nacional do Consumidor – SENACON","Secretaria Nacional do Consumidor – SENACON"]
[null,"Secretaria Nacional de Renda de Cidadania - SENARC","Secretaria Nacional de Renda de Cidadania - SENARC"]
[null,"Agência Espacial Brasileira – AEB","Agência Espacial Brasileira – AEB"]
[null,"Agência Nacional de Águas – ANA","Agência Nacional de Águas – ANA"]
[null,"Agência Nacional de Aviação Civil – ANAC","Agência Nacional de Aviação Civil – ANAC"]
[null,"Agência Nacional de Energia Elétrica – ANEEL","Agência Nacional de Energia Elétrica – ANEEL"]
[null,"Agência Nacional de Mineração - ANM","Agência Nacional de Mineração - ANM"]
[null,"Autoridade Nacional de Proteção de Dados - ANPD","Autoridade Nacional de Proteção de Dados - ANPD"]
[null,"Agência Nacional de Saúde Suplementar – ANS","Agência Nacional de Saúde Suplementar – ANS"]
[null,"Agência Nacional de Telecomunicações – ANATEL","Agência Nacional de Telecomunicações – ANATEL"]
[null,"Agência Nacional de Transportes Aquaviários – ANTAQ","Agência Nacional de Transportes Aquaviários – ANTAQ"]
[null,"Agência Nacional de Transportes Terrestres – ANTT","Agência Nacional de Transportes Terrestres – ANTT"]
[null,"Agência Nacional de Vigilância Sanitária – ANVISA","Agência Nacional de Vigilância Sanitária – ANVISA"]
[null,"Agência Nacional do Cinema – ANCINE","Agência Nacional do Cinema – ANCINE"]
[null,"Agência Nacional do Petróleo, Gás Natural e Biocombustíveis – ANP","Agência Nacional do Petróleo, Gás Natural e Biocombustíveis – ANP"]
[null,"Banco Central do Brasil – BACEN","Banco Central do Brasil – BACEN"]
[null,"Conselho Administrativo de Defesa Econômica – CADE","Conselho Administrativo de Defesa Econômica – CADE"]
[null,"Centro Federal de Educação Tecnológica Celso Suckow da Fonseca - CEFET- RJ","Centro Federal de Educação Tecnológica Celso Suckow da Fonseca - CEFET- RJ"]
[null,"Centro Federal de Educação Tecnológica de Minas Gerais – CEFET – MG","Centro Federal de Educação Tecnológica de Minas Gerais – CEFET – MG"]
[null,"Colégio Pedro II – CP II","Colégio Pedro II – CP II"]
[null,"Comissão de Valores Mobiliários – CVM","Comissão de Valores Mobiliários – CVM"]
[null,"Comissão Nacional de Energia Nuclear – CNEN","Comissão Nacional de Energia Nuclear – CNEN"]
[null,"Companhia Docas do Pará","Companhia Docas do Pará"]
[null,"Conselho Nacional de Desenvolvimento Científico e Tecnológico – CNPQ","Conselho Nacional de Desenvolvimento Científico e Tecnológico – CNPQ"]
[null,"Coordenação de Aperfeiçoamento de Pessoal de Nível Superior – CAPES","Coordenação de Aperfeiçoamento de Pessoal de Nível Superior – CAPES"]
[null,"Departamento Nacional de Infraestrutura de Transportes – DNIT","Departamento Nacional de Infraestrutura de Transportes – DNIT"]
[null,"Departamento Nacional de Obras Contra as Secas – DNOCS","Departamento Nacional de Obras Contra as Secas – DNOCS"]
[null,"Empresa Brasil de Comunicação – EBC","Empresa Brasil de Comunicação – EBC"]
[null,"Empresa de Planejamento e Logística - EPL","Empresa de Planejamento e Logística - EPL"]
[null,"Empresa Brasileira de Infraestrutura Aeroportuária - INFRAERO","Empresa Brasileira de Infraestrutura Aeroportuária - INFRAERO"]
[null,"Empresa Gerencial de Projetos Navais – EMGEPRON","Empresa Gerencial de Projetos Navais – EMGEPRON"]
[null,"Fundação Alexandre de Gusmão – FUNAG","Fundação Alexandre de Gusmão – FUNAG"]
[null,"Fundação Biblioteca Nacional – FBN","Fundação Biblioteca Nacional – FBN"]
[null,"Fundação Casa de Rui Barbosa – FCRB","Fundação Casa de Rui Barbosa – FCRB"]
[null,"Fundação Cultural Palmares – FCP","Fundação Cultural Palmares – FCP"]
[null,"Fundação Escola Nacional de Administração Pública - ENAP","Fundação Escola Nacional de Administração Pública - ENAP"]
[null,"Fundação Instituto Brasileiro de Geografia e Estatística – IBGE","Fundação Instituto Brasileiro de Geografia e Estatística – IBGE"]
[null,"Fundação Instituto de Pesquisa Econômica Aplicada - IPEA","Fundação Instituto de Pesquisa Econômica Aplicada - IPEA"]
[null,"Fundação Joaquim Nabuco – FUNDAJ","Fundação Joaquim Nabuco – FUNDAJ"]
[null,"Fundação Jorge Duprat Figueiredo, de Segurança e Medicina do Trabalho – FUNDACENTRO","Fundação Jorge Duprat Figueiredo, de Segurança e Medicina do Trabalho – FUNDACENTRO"]
[null,"Fundação Nacional de Artes – FUNARTE","Fundação Nacional de Artes – FUNARTE"]
[null,"Fundação Nacional de Saúde – FUNASA","Fundação Nacional de Saúde – FUNASA"]
[null,"Fundação Nacional do Índio – FUNAI","Fundação Nacional do Índio – FUNAI"]
[null,"Fundação Oswaldo Cruz – FIOCRUZ","Fundação Oswaldo Cruz – FIOCRUZ"]
[null,"Fundação Universidade de Brasília – UNB","Fundação Universidade de Brasília – UNB"]
[null,"Fundação Universidade do Amazonas – UFAM","Fundação Universidade do Amazonas – UFAM"]
[null,"Fundação Universidade do Rio Grande – FURG","Fundação Universidade do Rio Grande – FURG"]
[null,"Fundação Universidade Federal da Grande Dourados – UFGD","Fundação Universidade Federal da Grande Dourados – UFGD"]
[null,"Fundação Universidade Federal de Ciências da Saúde de Porto Alegre – UFCSPA","Fundação Universidade Federal de Ciências da Saúde de Porto Alegre – UFCSPA"]
[null,"Fundação Universidade Federal de Mato Grosso – UFMT","Fundação Universidade Federal de Mato Grosso – UFMT"]
[null,"Fundação Universidade Federal de Ouro Preto – UFOP","Fundação Universidade Federal de Ouro Preto – UFOP"]
[null,"Fundação Universidade Federal de Pelotas – UFPel","Fundação Universidade Federal de Pelotas – UFPel"]
[null,"Fundação Universidade Federal de Rondônia – UNIR","Fundação Universidade Federal de Rondônia – UNIR"]
[null,"Fundação Universidade Federal de Roraima – UFRR","Fundação Universidade Federal de Roraima – UFRR"]
[null,"Fundação Universidade Federal de São Carlos – UFSCar","Fundação Universidade Federal de São Carlos – UFSCar"]
[null,"Fundação Universidade Federal de São João Del Rei – FUNREI","Fundação Universidade Federal de São João Del Rei – FUNREI"]
[null,"Fundação Universidade Federal de Sergipe – UFS","Fundação Universidade Federal de Sergipe – UFS"]
[null,"Fundação Universidade Federal de Viçosa – UFV","Fundação Universidade Federal de Viçosa – UFV"]
[null,"Fundação Universidade Federal do ABC – UFABC","Fundação Universidade Federal do ABC – UFABC"]
[null,"Fundação Universidade Federal do Acre – UFAC","Fundação Universidade Federal do Acre – UFAC"]
[null,"Fundação Universidade Federal do Amapá – UNIFAP","Fundação Universidade Federal do Amapá – UNIFAP"]
[null,"Fundação Universidade Federal do Maranhão – UFMA","Fundação Universidade Federal do Maranhão – UFMA"]
[null,"Fundação Universidade Federal do Mato Grosso do Sul – UFMS","Fundação Universidade Federal do Mato Grosso do Sul – UFMS"]
[null,"Fundação Universidade Federal do Pampa – UNIPAMPA","Fundação Universidade Federal do Pampa – UNIPAMPA"]
[null,"Fundação Universidade Federal do Piauí – UFPI","Fundação Universidade Federal do Piauí – UFPI"]
[null,"Fundação Universidade Federal do Tocantins – UFT","Fundação Universidade Federal do Tocantins – UFT"]
[null,"Fundação Universidade Federal do Vale do São Francisco – UNIVASF","Fundação Universidade Federal do Vale do São Francisco – UNIVASF"]
[null,"Fundo Nacional de Desenvolvimento da Educação - FNDE","Fundo Nacional de Desenvolvimento da Educação - FNDE"]
[null,"Instituto Brasileiro de Museus – IBRAM","Instituto Brasileiro de Museus – IBRAM"]
[null,"Instituto Brasileiro do Meio Ambiente e dos Recursos Naturais Renováveis - IBAMA","Instituto Brasileiro do Meio Ambiente e dos Recursos Naturais Renováveis - IBAMA"]
[null,"Instituto Chico Mendes de Conservação da Biodiversidade - ICMBio","Instituto Chico Mendes de Conservação da Biodiversidade - ICMBio"]
[null,"Instituto de Pesquisas Jardim Botânico do Rio de Janeiro – JBRJ","Instituto de Pesquisas Jardim Botânico do Rio de Janeiro – JBRJ"]
[null,"Instituto do Patrimônio Histórico e Artístico Nacional - IPHAN","Instituto do Patrimônio Histórico e Artístico Nacional - IPHAN"]
[null,"Instituto Federal de Educação, Ciência e Tecnologia Baiano – IFBAIANO","Instituto Federal de Educação, Ciência e Tecnologia Baiano – IFBAIANO"]
[null,"Instituto Federal de Educação, Ciência e Tecnologia Catarinense – IFC","Instituto Federal de Educação, Ciência e Tecnologia Catarinense – IFC"]
[null,"Instituto Federal de Educação, Ciência e Tecnologia da Bahia – IFBA","Instituto Federal de Educação, Ciência e Tecnologia da Bahia – IFBA"]
[null,"Instituto Federal de Educação, Ciência e Tecnologia da Paraíba – IFPB","Instituto Federal de Educação, Ciência e Tecnologia da Paraíba – IFPB"]
[null,"Instituto Federal de Educação, Ciência e Tecnologia de Alagoas – IFAL","Instituto Federal de Educação, Ciência e Tecnologia de Alagoas – IFAL"]
[null,"Instituto Federal de Educação, Ciência e Tecnologia de Brasília – IFB","Instituto Federal de Educação, Ciência e Tecnologia de Brasília – IFB"]
[null,"Instituto Federal de Educação, Ciência e Tecnologia de Goiás – IFG","Instituto Federal de Educação, Ciência e Tecnologia de Goiás – IFG"]
[null,"Instituto Federal de Educação, Ciência e Tecnologia de Mato Grosso - IFMT","Instituto Federal de Educação, Ciência e Tecnologia de Mato Grosso - IFMT"]
[null,"Instituto Federal de Educação, Ciência e Tecnologia de Minas Gerais – IFMG","Instituto Federal de Educação, Ciência e Tecnologia de Minas Gerais – IFMG"]
[null,"Instituto Federal de Educação, Ciência e Tecnologia de Pernambuco – IFPE","Instituto Federal de Educação, Ciência e Tecnologia de Pernambuco – IFPE"]
[null,"Instituto Federal de Educação, Ciência e Tecnologia de Rondônia – IFRO","Instituto Federal de Educação, Ciência e Tecnologia de Rondônia – IFRO"]
[null,"Instituto Federal de Educação, Ciência e Tecnologia de Roraima – IFRR","Instituto Federal de Educação, Ciência e Tecnologia de Roraima – IFRR"]
[null,"Instituto Federal de Educação, Ciência e Tecnologia de Santa Catarina – IFSC","Instituto Federal de Educação, Ciência e Tecnologia de Santa Catarina – IFSC"]
[null,"Instituto Federal de Educação, Ciência e Tecnologia de São Paulo – IFSP","Instituto Federal de Educação, Ciência e Tecnologia de São Paulo – IFSP"]
[null,"Instituto Federal de Educação, Ciência e Tecnologia de Sergipe – IFS","Instituto Federal de Educação, Ciência e Tecnologia de Sergipe – IFS"]
[null,"Instituto Federal de Educação, Ciência e Tecnologia de Tocantins – IFTO","Instituto Federal de Educação, Ciência e Tecnologia de Tocantins – IFTO"]
[null,"Instituto Federal de Educação, Ciência e Tecnologia do Acre – IFAC","Instituto Federal de Educação, Ciência e Tecnologia do Acre – IFAC"]
[null,"Instituto Federal de Educação, Ciência e Tecnologia do Amapá – IFAP","Instituto Federal de Educação, Ciência e Tecnologia do Amapá – IFAP"]
[null,"Instituto Federal de Educação, Ciência e Tecnologia do Amazonas – IFAM","Instituto Federal de Educação, Ciência e Tecnologia do Amazonas – IFAM"]
[null,"Instituto Federal de Educação, Ciência e Tecnologia do Ceará – IFCE","Instituto Federal de Educação, Ciência e Tecnologia do Ceará – IFCE"]
[null,"Instituto Federal de Educação, Ciência e Tecnologia do Espírito Santo – IFES","Instituto Federal de Educação, Ciência e Tecnologia do Espírito Santo – IFES"]
[null,"Instituto Federal de Educação, Ciência e Tecnologia do Maranhão – IFMA","Instituto Federal de Educação, Ciência e Tecnologia do Maranhão – IFMA"]
[null,"Instituto Federal de Educação, Ciência e Tecnologia do Mato Grosso do Sul – IFMS","Instituto Federal de Educação, Ciência e Tecnologia do Mato Grosso do Sul – IFMS"]
[null,"Instituto Federal de Educação, Ciência e Tecnologia do Norte de Minas Gerais – IFNMG","Instituto Federal de Educação, Ciência e Tecnologia do Norte de Minas Gerais – IFNMG"]
[null,"Instituto Federal de Educação, Ciência e Tecnologia do Pará – IFPA","Instituto Federal de Educação, Ciência e Tecnologia do Pará – IFPA"]
[null,"Instituto Federal de Educação, Ciência e Tecnologia do Paraná – IFPR","Instituto Federal de Educação, Ciência e Tecnologia do Paraná – IFPR"]
[null,"Instituto Federal de Educação, Ciência e Tecnologia do Piauí – IFPI","Instituto Federal de Educação, Ciência e Tecnologia do Piauí – IFPI"]
[null,"Instituto Federal de Educação, Ciência e Tecnologia do Rio de Janeiro – IFRJ","Instituto Federal de Educação, Ciência e Tecnologia do Rio de Janeiro – IFRJ"]
[null,"Instituto Federal de Educação, Ciência e Tecnologia do Rio Grande do Norte – IFRN","Instituto Federal de Educação, Ciência e Tecnologia do Rio Grande do Norte – IFRN"]
[null,"Instituto Federal de Educação, Ciência e Tecnologia do Rio Grande do Sul – IFRS","Instituto Federal de Educação, Ciência e Tecnologia do Rio Grande do Sul – IFRS"]
[null,"Instituto Federal de Educação, Ciência e Tecnologia do Sertão Pernambucano – IFSPE","Instituto Federal de Educação, Ciência e Tecnologia do Sertão Pernambucano – IFSPE"]
[null,"Instituto Federal de Educação, Ciência e Tecnologia do Sul de Minas Gerais – IFMGS","Instituto Federal de Educação, Ciência e Tecnologia do Sul de Minas Gerais – IFMGS"]
[null,"Instituto Federal de Educação, Ciência e Tecnologia do Triângulo Mineiro - IFTRIAMG","Instituto Federal de Educação, Ciência e Tecnologia do Triângulo Mineiro - IFTRIAMG"]
[null,"Instituto Federal de Educação, Ciência e Tecnologia Farroupilha – IFFAR","Instituto Federal de Educação, Ciência e Tecnologia Farroupilha – IFFAR"]
[null,"Instituto Federal de Educação, Ciência e Tecnologia Fluminense – IFFLU","Instituto Federal de Educação, Ciência e Tecnologia Fluminense – IFFLU"]
[null,"Instituto Federal de Educação, Ciência e Tecnologia Goiano – IF-GOIANO","Instituto Federal de Educação, Ciência e Tecnologia Goiano – IF-GOIANO"]
[null,"Instituto Federal de Educação, Ciência e Tecnologia Sudeste de Minas Gerais – IFMGSE","Instituto Federal de Educação, Ciência e Tecnologia Sudeste de Minas Gerais – IFMGSE"]
[null,"Instituto Federal de Educação, Ciência e Tecnologia Sul-Rio-Grandense","Instituto Federal de Educação, Ciência e Tecnologia Sul-Rio-Grandense"]
[null,"Instituto Nacional da Propriedade Industrial – INPI","Instituto Nacional da Propriedade Industrial – INPI"]
[null,"Instituto Nacional de Colonização e Reforma Agrária - INCRA","Instituto Nacional de Colonização e Reforma Agrária - INCRA"]
[null,"Instituto Nacional de Estudos e Pesquisas Educacionais Anísio Teixeira - INEP","Instituto Nacional de Estudos e Pesquisas Educacionais Anísio Teixeira - INEP"]
[null,"Instituto Nacional de Metrologia, Qualidade e Tecnologia - INMETRO","Instituto Nacional de Metrologia, Qualidade e Tecnologia - INMETRO"]
[null,"Instituto Nacional de Tecnologia da Informação – ITI","Instituto Nacional de Tecnologia da Informação – ITI"]
[null,"Instituto Nacional do Seguro Social – INSS","Instituto Nacional do Seguro Social – INSS"]
[null,"Superintendência da Zona Franca de Manaus – SUFRAMA","Superintendência da Zona Franca de Manaus – SUFRAMA"]
[null,"Superintendência de Seguros Privados – SUSEP","Superintendência de Seguros Privados – SUSEP"]
[null,"Superintendência do Desenvolvimento da Amazônia – SUDAM","Superintendência do Desenvolvimento da Amazônia – SUDAM"]
[null,"Superintendência do Desenvolvimento do Centro-Oeste – SUDECO","Superintendência do Desenvolvimento do Centro-Oeste – SUDECO"]
[null,"Superintendência do Desenvolvimento do Nordeste – SUDENE","Superintendência do Desenvolvimento do Nordeste – SUDENE"]
[null,"Superintendência Nacional de Previdência Complementar – PREVIC","Superintendência Nacional de Previdência Complementar – PREVIC"]
[null,"Universidade da Integração Internacional da Lusofonia Afro-Brasileira – UNILAB","Universidade da Integração Internacional da Lusofonia Afro-Brasileira – UNILAB"]
[null,"Universidade Federal da Bahia – UFBA","Universidade Federal da Bahia – UFBA"]
[null,"Universidade Federal do Delta do Parnaíba - UFDPAR","Universidade Federal do Delta do Parnaíba - UFDPAR"]
[null,"Universidade Federal da Fronteira Sul – UFFS","Universidade Federal da Fronteira Sul – UFFS"]
[null,"Universidade Federal da Integração Latino-Americana – UNILA","Universidade Federal da Integração Latino-Americana – UNILA"]
[null,"Universidade Federal da Paraíba – UFPB","Universidade Federal da Paraíba – UFPB"]
[null,"Universidade Federal de Alagoas – UFAL","Universidade Federal de Alagoas – UFAL"]
[null,"Universidade Federal de Alfenas – UNIFAL-MG","Universidade Federal de Alfenas – UNIFAL-MG"]
[null,"Universidade Federal de Campina Grande – UFCG","Universidade Federal de Campina Grande – UFCG"]
[null,"Universidade Federal de Catalão - UFCAT","Universidade Federal de Catalão - UFCAT"]
[null,"Universidade Federal de Goiás – UFG","Universidade Federal de Goiás – UFG"]
[null,"Universidade Federal de Itajubá – UNIFEI","Universidade Federal de Itajubá – UNIFEI"]
[null,"Universidade Federal de Jataí - UFJ","Universidade Federal de Jataí - UFJ"]
[null,"Universidade Federal de Juiz de Fora – UFJF","Universidade Federal de Juiz de Fora – UFJF"]
[null,"Universidade Federal de Lavras - UFLA","Universidade Federal de Lavras - UFLA"]
[null,"Universidade Federal de Minas Gerais – UFMG","Universidade Federal de Minas Gerais – UFMG"]
[null,"Universidade Federal de Pernambuco – UFPE","Universidade Federal de Pernambuco – UFPE"]
[null,"Universidade Federal de Santa Catarina – UFSC","Universidade Federal de Santa Catarina – UFSC"]
[null,"Universidade Federal de Santa Maria – UFSM","Universidade Federal de Santa Maria – UFSM"]
[null,"Universidade Federal de São Paulo – UNIFESP","Universidade Federal de São Paulo – UNIFESP"]
[null,"Universidade Federal de Uberlândia – UFU","Universidade Federal de Uberlândia – UFU"]
[null,"Universidade Federal do Agreste de Pernambuco - UFAPE","Universidade Federal do Agreste de Pernambuco - UFAPE"]
[null,"Universidade Federal do Cariri - UFCA","Universidade Federal do Cariri - UFCA"]
[null,"Universidade Federal do Ceará – UFC","Universidade Federal do Ceará – UFC"]
[null,"Universidade Federal do Espírito Santo – UFES","Universidade Federal do Espírito Santo – UFES"]
[null,"Universidade Federal do Estado do Rio de Janeiro – UNIRIO","Universidade Federal do Estado do Rio de Janeiro – UNIRIO"]
[null,"Universidade Federal do Oeste da Bahia – UFOB","Universidade Federal do Oeste da Bahia – UFOB"]
[null,"Universidade Federal do Oeste do Pará – UFOPA","Universidade Federal do Oeste do Pará – UFOPA"]
[null,"Universidade Federal do Pará – UFPA","Universidade Federal do Pará – UFPA"]
[null,"Universidade Federal do Paraná – UFPR","Universidade Federal do Paraná – UFPR"]
[null,"Universidade Federal de Rondonópolis - UFR","Universidade Federal de Rondonópolis - UFR"]
[null,"Universidade Federal do Recôncavo da Bahia – UFRB","Universidade Federal do Recôncavo da Bahia – UFRB"]
[null,"Universidade Federal do Rio de Janeiro - UFRJ","Universidade Federal do Rio de Janeiro - UFRJ"]
[null,"Universidade Federal do Rio Grande do Norte - UFRN","Universidade Federal do Rio Grande do Norte - UFRN"]
[null,"Universidade Federal do Rio Grande do Sul - UFRGS","Universidade Federal do Rio Grande do Sul - UFRGS"]
[null,"Universidade Federal do Sul da Bahia – UFSB","Universidade Federal do Sul da Bahia – UFSB"]
[null,"Universidade Federal do Sul e Sudeste do Pará – UNIFESPA","Universidade Federal do Sul e Sudeste do Pará – UNIFESPA"]
[null,"Universidade Federal do Norte de Tocantins - UFNT","Universidade Federal do Norte de Tocantins - UFNT"]
[null,"Universidade Federal do Triângulo Mineiro – UFTM","Universidade Federal do Triângulo Mineiro – UFTM"]
[null,"Universidade Federal dos Vales do Jequitinhonha e Mucuri – UFVJM","Universidade Federal dos Vales do Jequitinhonha e Mucuri – UFVJM"]
[null,"Universidade Federal Fluminense – UFF","Universidade Federal Fluminense – UFF"]
[null,"Universidade Federal Rural da Amazônia – UFRA","Universidade Federal Rural da Amazônia – UFRA"]
[null,"Universidade Federal Rural de Pernambuco – UFRPE","Universidade Federal Rural de Pernambuco – UFRPE"]
[null,"Universidade Federal Rural do Rio de Janeiro – UFRRJ","Universidade Federal Rural do Rio de Janeiro – UFRRJ"]
[null,"Universidade Federal Rural do Semi-Árido – UFERSA-RN","Universidade Federal Rural do Semi-Árido – UFERSA-RN"]
[null,"Universidade Tecnológica Federal do Paraná – UTFPR","Universidade Tecnológica Federal do Paraná – UTFPR"]
[null,"Valec - Engenharia, Construções e Ferrovias S.A","Valec - Engenharia, Construções e Ferrovias S.A"]
[null,"Hospital de Clínicas de Porto Alegre - HCPA","Hospital de Clínicas de Porto Alegre - HCPA"]
[null,"Companhia de Entrepostos e Armazéns Gerais de São Paulo - CEAGESP","Companhia de Entrepostos e Armazéns Gerais de São Paulo - CEAGESP"]
[null,"Outros","Outros"]
[null,null,0]
[null,null,0]
[null,null,0]
[null,null,0]
[null,null,0]
[]
[null,"DIAGNOSTICO"]
[]
[null,"ESTRUTURAÇÃO BÁSICA "]
[null,"Nível de Capacidade do Controle "]
[null,"Selecione a Opção"]
[null,1]
[null,2]
[null,3]
[null,4]
[null,5]
[]
[]
[]
[]
[]
[]
[]
[]
[]
[]
[]
[null,"LISTA GERAL"]
[]
[null,"INCC - DESCRIÇÃO"]
[]
[null,0,"Ausência de capacidade para a implementação das medidas do controle, ou desconhecimento sobre o atendimento das medidas.",null,null,"5- iSeg / iPriv"]
[null,1,"O controle atinge mais ou menos seu objetivo, por meio da aplicação de um conjunto incompleto de atividades que podem ser caracterizadas como iniciais ou intuitivas (pouco organizadas).",null,null,"iSeg / iPriv","Nível de Maturidade"]
[null,2,"O controle atinge seu objetivo por meio da aplicação de um conjunto básico, porém completo, de atividades que podem ser caracterizadas como realizadas.",null,null,"0,00 a 0,29","Inicial"]
[null,3,"O controle atinge seu objetivo de forma muito mais organizada utilizando os recursos organizacionais. Além disso, o controle é formalizado por meio de uma política institucional, específica ou como parte de outra maior.",null,null,"0,30 a 0,49","Básico"]
[null,4,"O controle atinge seu objetivo, é bem definido e suas medidas são implementadas continuamente por meio de um processo decorrente da política formalizada.",null,null,"0,50 a 0,69","Intermediário"]
[null,5,"O controle atinge seu objetivo, é bem definido, suas medidas são implementadas continuamente por meio de um processo e seu desempenho é mensurado quantitativamente por meio de indicadores.",null,null,"0,70 a 0,89","Em Aprimoramento"]
[null,null,null,null,null,"0,90 a 1,00","Aprimorado"]
[]
[null,"Selecione a Opção"]
[null,"Alta Criticidade"]
[null,"Média Criticidade"]
[null,"Baixa Criticidade"]
[]
[]
[]
[]
[]
[]
[]
[]
[]
[]
[]
[]
[]
[]
[]
[]
[]
[null,"RELATÓRIOS"]

{"sheet":"FORM1","index":1,"n_rows":27,"n_cols":6,"rows_kept":27,"cut":false,"hidden":false,"merged":[[22,4,24,4],[22,5,24,5],[20,1,20,2],[15,1,15,2],[5,2,5,5],[15,4,15,5],[20,4,20,5]]}
[]
[]
[]
[]
[null,null,null,null,"Diagnóstico: "]
[null,"Por favor, informe seu órgão:"]
[]
[null,"Nome do Resposável pela Unidade de Controle Interno:","Nome_Responsável_ControleInterno",null,"Nome do Gestor de Segurança da Informação:","Nome_Responsável_SI"]
[]
[null,"E-mail do Respondente:","Nome_Responsável@orgao.com",null,"E-mail do Respondente:","Nome_Responsável@orgao.com"]
[]
[null,"Nome do Encarregado pelo Tratamento de Dados Pessoais:","Nome_Responsável_Privacidade",null,"Nome do Gestor de Tecnologia da Informação:","Nome_Responsável_TI"]
[]
[null,"E-mail do Respondente:","Nome_Responsável@orgao.com",null,"E-mail do Respondente:","Nome_Responsável@orgao.com"]
[]
[null,"OUTROS",null,null,"USO DA SGD"]
[null,"Nome do Órgão:","*",null,"Nº do Documento (Nota Técnica):"]
[null,"CNPJ:","*",null,"Versão do Diagnóstico enviado:"]
[null,null,null,null,"Data Limite para retorno do Diagnóstico:"]
[]
[null,"PLANOS DE AÇÃO",null,null,"DADOS DO RETORNO DO DIAGNÓSTICO PARA SGD"]
[null,"Responsável","Departamento",null,"Data de retorno do Diagnóstico para SGD:"]
[null,"NOME_RESPONSÁVEL_1","NOME_DEPARTAMENTO_1",null,"Versão do Diagnóstico devolvido:"]
[null,"NOME_RESPONSÁVEL_2","NOME_DEPARTAMENTO_2"]
[null,"NOME_RESPONSÁVEL_3","NOME_DEPARTAMENTO_3"]
[null,"NOME_RESPONSÁVEL_4","NOME_DEPARTAMENTO_4"]
[null,"NOME_RESPONSÁVEL_5","NOME_DEPARTAMENTO_5"]

{"sheet":"FORM2","index":2,"n_rows":6,"n_cols":2,"rows_kept":6,"cut":false,"hidden":false,"merged":[]}
[]
[]
[]
[]
[]
[null,"RESPONDA O DIAGNÓSTICO"]

{"sheet":"FORM2.1","index":3,"n_rows":11,"n_cols":5,"rows_kept":11,"cut":false,"hidden":false,"merged":[[5,1,5,3]]}
[]
[]
[]
[]
[]
[null,"A Instituição já utiliza uma metodologia para avaliação de criticidade de ambiente tecnológico do seus sistemas? ",null,null,"Selecione a Resposta"]
[]
[null,"Se a resposta for SIM :","Por favor, selecione a opção correta no campo em amarelo, considerando o Sistema de Nivel de Criticidadade mais ALTO.","Se a Resposta for NÃO :","1º Passo: Por favor, responder ao Questionário de Avaliação de Criticidade disponibilizado como sugestão pela SGD que encontra-se no mesmo endereço desse diagnóstico;\n2º Passo: Após obter a informação do Nivel de criticidade, selecione a opção correta no campo em amarelo, considerando o Sistema de Nivel de Criticidadade mais ALTO."]
[]
[null,"Nível de Criticidade","Grupo de Implementação"]
[null,"Selecione a Opção",{"$f":"_xlfn.IFS(B11=\"Selecione a Opção\", \"Selecione o nível de criticidade\", B11 = \"Alta Criticidade\", \"G3\", B11 = \"Média Criticidade\", \"G2\", B11 = \"Baixa Criticidade\", \"G2\")","v":"Selecione o nível de criticidade"}]

{"sheet":"FORM2.2","index":4,"n_rows":18,"n_cols":5,"rows_kept":18,"cut":false,"hidden":false,"merged":[[7,1,7,4]]}
[]
[]
[]
[]
[]
[null,"Selecione de  ( 0 a 5) o Nível de Capacidade do Controle ",null,null,"Selecione sua Resposta"]
[]
[null,{"$f":"_xlfn.IFS(E6=LISTA_GERAL!$B$274,LISTA_GERAL!$C$274,E6=LISTA_GERAL!$B$275,LISTA_GERAL!$C$275,E6=LISTA_GERAL!$B$276,LISTA_GERAL!$C$276,E6=LISTA_GERAL!$B$277,LISTA_GERAL!$C$277,E6=LISTA_GERAL!$B$278,LISTA_GERAL!$C$278,E6=LISTA_GERAL!$B$279,LISTA_GERAL!$C$279,E6=LISTA_GERAL!$B$2,\"Campo de Resposta Não preenchido\",E6=\"Selecione sua Resposta\",\"Controle Não Foi Respondido\")","v":"Controle Não Foi Respondido"}]
[]
[null,"ID","MEDIDA","DESCRIÇÃO","RESPOSTA"]
[]
[null,"0.1","O órgão nomeou uma autoridade máxima de Tecnologia da Informação?","A autoridade máxima de Tecnologia da Informação é responsável secundário por planejar, implementar e melhorar continuamente os controles de privacidade e segurança da informação em soluções de tecnologia da informação e comunicações, nos termos da Instrução Normativa SGD/ME nº 01, de 4 de abril de 2019, e suas alterações, considerando a cadeia de suprimentos relacionada à solução.","Selecione a Opção"]
[null,"0.2","O órgão nomeou um Gestor de Segurança da Informação?","O Gestor de Segurança da Informação é responsável primário por planejar, implementar e melhorar continuamente os controles de segurança da informação em ativos de informação.","Selecione a Opção"]
[null,"0.3","O órgão nomeou um responsável pela unidade de controle interno?","O responsável pela unidade de controle interno contribui no sentido de assegurar que os controles de privacidade e segurança da informação sejam executados de forma apropriada, por meio do desempenho das funções de apoio, supervisão e monitoramento das atividades desenvolvidas pela primeira linha de defesa.","Selecione a Opção"]
[null,"0.4","O órgão instituiu um Comitê de Segurança da Informação?","Instituir um Comitê de Segurança da Informação ou estrutura equivalente, para deliberar sobre os assuntos relativos à Política Nacional de Segurança da Informação.","Selecione a Opção"]
[null,"0.5","O órgão instituiu uma Equipe de Tratamento e Resposta a Incidentes Cibernéticos - ETIR?","Instituir e implementar Equipe de Tratamento e Resposta a Incidentes Cibernéticos - ETIR, que constituirá a rede de equipes, integrada pelos órgãos e pelas entidades da administração pública federal, coordenada pelo Centro de Tratamento e Resposta a Incidentes Cibernéticos de Governo do Gabinete de Segurança Institucional da Presidência da República.","Selecione a Opção"]
[null,"0.6","O órgão elaborou uma Política de Segurança da Informação - POSIN?","É obrigatório a todos os órgãos e as entidades da administração pública federal possuir uma Política de Segurança da Informação, implementada a partir da formalização e aprovação por parte da autoridade máxima da instituição, com o objetivo de estabelecer diretrizes, responsabilidades, competências e subsídios para a gestão da segurança da informação.","Selecione a Opção"]
[null,"0.7","O órgão nomeou um Encarregado pelo Tratamento de Dados Pessoais?","O Encarregado pelo Tratamento de Dados Pessoais é a pessoa indicada pelo controlador e operador para atuar como canal de comunicação entre o controlador, os titulares dos dados e a Autoridade Nacional de Proteção de Dados (ANPD), dentre outras atribuições, é o responsável por orientar os funcionários e os contratados da entidade a respeito das práticas a serem tomadas em relação à proteção de dados pessoais, nos termos do art. 41, §2º, da LGPD.","Selecione a Opção"]

{"sheet":"FORM2.3","index":5,"n_rows":251,"n_cols":11,"rows_kept":251,"cut":false,"hidden":false,"merged":[[3,5,3,8],[4,1,4,8],[5,2,5,3],[7,1,8,10]]}
[]
[]
[]
[null,null,null,null,"Aviso",{"$f":"IF(H6 > 0,\"Por favor, preencher todos os campos do formulário de Avaliação de Criticidade de Sistemas.\",\" O formulário de Avaliação de Criticidade de Sistemas foi preenchido corretamente. Lembrou de clicar no botão para atualizar as opções de respostas desse diagnóstico de segurança da informação? \")","v":"Por favor, preencher todos os campos do formulário de Avaliação de Criticidade de Sistemas."}]
[]
[null,{"$f":"FORM2.1!C11","v":"Selecione o nível de criticidade"},{"$f":"FORM2.1!B11","v":"Selecione a Opção"},null,null,{"$f":"IF(FORM2.1!E6 = \"Selecione a Resposta\", 1, 0)","v":1},{"$f":"IF(FORM2.1!B11 = \"Selecione a Opção\", 1, 0)","v":1},{"$f":"SUM(F6:G6)","v":2}]
[]
[null,"Controles CIS Versão 8"]
[]
[null,"FILTRO","ID","ID CIS 8","GRUPO IMPLE","FUNÇÃO NIST CSF","MEDIDA","DESCRIÇÃO DA MEDIDA","RESPOSTAS",null,"Questionario Qualitativo"]
[null,1,1,"CIS CONTROLE 1: INVENTÁRIO E CONTROLE DE ATIVOS INSTITUCIONAIS",null,null,null,null,null,null,"Selecione sua Resposta"]
[null,1,"1.1","1.1","G1","IDENTIFICAR","O órgão estabelece e mantém um inventário detalhado de ativos institucionais?","Estabelecer e manter um inventário preciso, detalhado e atualizado de todos os ativos institucionais com potencial para armazenar ou processar dado. Certificar de que o inventário registrará o endereço de rede (se estático), endereço de hardware, nome da máquina, etc.\nDeverá incluir ativos conectados à infraestrutura física, virtual, e remota e aqueles dentro de ambientes de nuvem. Necessário incluir também ativos mesmo que não estejam sob controle do órgão. Revisar e atualizar o inventário semestralmente ou com mais frequência.","Selecione a Resposta",null,{"$f":"_xlfn.IFS(K11=LISTA_GERAL!$B$274,LISTA_GERAL!$C$274,K11=LISTA_GERAL!$B$275,LISTA_GERAL!$C$275,K11=LISTA_GERAL!$B$276,LISTA_GERAL!$C$276,K11=LISTA_GERAL!$B$277,LISTA_GERAL!$C$277,K11=LISTA_GERAL!$B$278,LISTA_GERAL!$C$278,K11=LISTA_GERAL!$B$279,LISTA_GERAL!$C$279,U9=LISTA_GERAL!$B$2,\"Campo de Resposta Não preenchido\",K11=\"Selecione sua Resposta\",\"Controle Não Foi Respondido\")","v":"Controle Não Foi Respondido"}]
[null,1,"1.2","1.4","G2","IDENTIFICAR","O órgão usa o Dynamic Host Configuration Protocol DHCP para Atualizar o Inventários de Ativos ?","Utilizar o registro (logs) do Dynamic Host Configuration Protocol (DHCP) em todos os servidores DHCP ou utilizar uma ferramenta de gerenciamento de endereços IP para atualizar o inventário de ativos de hardware da instituição.","Selecione a Resposta"]
[null,1,"1.3","1.3","G2","DETECTAR","O órgão usa uma ferramenta de descoberta ativa? ","Identificar ativos conectados à rede institucional através de uma ferramenta de descoberta ativa. Configurar para que essa descoberta seja executada diariamente ou com mais frequência.","Selecione a Resposta"]
[null,1,"1.4","1.5","G3","DETECTAR","O órgão usa ferramenta de Descoberta Passiva?","Utilizar uma ferramenta de descoberta passiva para identificar dispositivos conectados à rede da instituição e automaticamente atualizar o inventário de ativos de hardware da instituição.","Selecione a Resposta"]
[null,1,"1.5","1.2","G1","RESPONDER","O órgão endereça ativos não autorizados?","Assegurar que exista um processo semanal para lidar com ativos não autorizados. Optar por remover o ativo da rede, negar que o ativo se conecte remotamente à rede ou colocar o ativo em quarentena.","Selecione a Resposta"]
[null,1,2,"CIS CONTROLE 2: INVENTÁRIO E CONTROLE DE ATIVOS DE SOFTWARE",null,null,null,null,null,null,"Selecione sua Resposta"]
[null,2,"2.1","2.1","G1","IDENTIFICAR","O órgão estabelece e mantém um inventário de software?","Estabelecer e manter um inventário detalhado de todos os softwares licenciados instalados em ativos. Revisar e atualizar o inventário de software semestralmente ou com mais frequência.","Selecione a Resposta",null,{"$f":"_xlfn.IFS(K17=LISTA_GERAL!$B$274,LISTA_GERAL!$C$274,K17=LISTA_GERAL!$B$275,LISTA_GERAL!$C$275,K17=LISTA_GERAL!$B$276,LISTA_GERAL!$C$276,K17=LISTA_GERAL!$B$277,LISTA_GERAL!$C$277,K17=LISTA_GERAL!$B$278,LISTA_GERAL!$C$278,K17=LISTA_GERAL!$B$279,LISTA_GERAL!$C$279,U15=LISTA_GERAL!$B$2,\"Campo de Resposta Não preenchido\",K17=\"Selecione sua Resposta\",\"Controle Não Foi Respondido\")","v":"Controle Não Foi Respondido"}]
[null,2,"2.2","2.2","G1","IDENTIFICAR","O órgão assegura que o software autorizado seja atualmente suportado?","Garantir que apenas aplicações ou sistemas operacionais atualmente suportados pelo fabricante sejam adicionados ao inventário de softwares autorizados. Softwares não suportados devem ser indicados no sistema de inventário. Revisar o inventário de software para verificar o suporte do software pelo menos uma vez por mês ou\ncom mais frequência.","Selecione a Resposta"]
[null,2,"2.3","2.5","G2","PROTEGER","O órgão possui lista de permissões de Software autorizado?","Utilizar controles técnicos em todos os ativos para garantir que apenas software autorizado seja executado. Reavaliar semestralmente ou com mais frequência.","Selecione a Resposta"]
[null,2,"2.4","2.6","G2","PROTEGER","O orgão possuí lista de permissões de bibliotecas autorizadas?","Utilizar controles técnicos para garantir que apenas bibliotecas autorizadas (tais como *.dll, *.ocx, *.so, etc) tenham permissão para serem carregadas nos processos em execução. Impedir que bibliotecas não autorizadas sejam carregadas nos processos. Reavaliar semestralmente ou com mais frequência.","Selecione a Resposta"]
[null,2,"2.5","2.7","G3","PROTEGER","O órgão possuí lista de permissões de Scripts autorizados?","Utilize controles técnicos como assinaturas digitais e controle de versão para garantir que apenas scripts autorizados e assinados digitalmente (tais como *.ps1, *.py, macros etc.) tenham permissão para serem executados. Bloqueie a execução de scripts não autorizados. Reavalie semestralmente ou com mais frequência.","Selecione a Resposta"]
[null,2,"2.6","2.4","G2","DETECTAR","O órgão utiliza ferramentas automatizadas de inventário de software?","Utilizar ferramentas de inventário de software, quando possível, em toda a organização para automatizar a descoberta e documentação do software instalado. ","Selecione a Resposta"]
[null,2,"2.7","2.3","G1","RESPONDER","O órgão endereça o software não autorizado?","Assegurar que o software não autorizado seja retirado de uso em ativos institucionais ou receba uma exceção documentada. Revisar mensalmente ou com mais frequência.","Selecione a Resposta"]
[null,3,3,"CIS CONTROLE 3: PROTEÇÃO DE DADOS",null,null,null,null,null,null,"Selecione sua Resposta"]
[null,3,"3.1","3.1","G1","IDENTIFICAR","O órgão estabelece e mantém um processo de gestão de dados?","Estabelecer e manter um processo de gestão de dados. No processo, tratar a sensibilidade dos dados, o proprietário dos dados, o manuseio dos dados, os limites de retenção de dados e os requisitos de descarte, com base em padrões de sensibilidade e retenção para a organização.\nRevisar e atualizar a documentação anualmente ou quando ocorrerem mudanças significativas na organização que possam impactar esta medida de segurança.","Selecione a Resposta",null,{"$f":"_xlfn.IFS(K25=LISTA_GERAL!$B$274,LISTA_GERAL!$C$274,K25=LISTA_GERAL!$B$275,LISTA_GERAL!$C$275,K25=LISTA_GERAL!$B$276,LISTA_GERAL!$C$276,K25=LISTA_GERAL!$B$277,LISTA_GERAL!$C$277,K25=LISTA_GERAL!$B$278,LISTA_GERAL!$C$278,K25=LISTA_GERAL!$B$279,LISTA_GERAL!$C$279,U23=LISTA_GERAL!$B$2,\"Campo de Resposta Não preenchido\",K25=\"Selecione sua Resposta\",\"Controle Não Foi Respondido\")","v":"Controle Não Foi Respondido"}]
[null,3,"3.2","3.2","G1","IDENTIFICAR","O órgão estabelece e mantém um inventário de dados?","Estabelecer e manter um inventário de dados, com base no processo de gestão de dados do órgão. No mínimo inventariar os dados sensíveis. Reavaliar e atualizar o inventário anualmente.","Selecione a Resposta"]
[null,3,"3.3","3.7","G1","IDENTIFICAR","O órgão estabelece e mantém um esquema de classificação de dados?","Estabelecer e manter um esquema geral de classificação de dados para o órgão, podendo ser “Sensíveis”, “Confidencial” e “Público.\nRevisar e atualizar o esquema de classificação anualmente ou quando ocorrerem mudanças significativas que possam impactar essa medida de segurança.","Selecione a Resposta"]
[null,3,"3.4","3.8","G1","IDENTIFICAR","O órgão documenta os Fluxos de Dados?","Documentar o fluxo de dados, contendo fluxos de dados do provedor de serviços, devendo ser baseada no processo de gestão de dados do órgão. Revisar e atualizar a documentação anualmente ou quando ocorrerem mudanças significativas que possam impactar essa medida de segurança.","Selecione a Resposta"]
[null,3,"3.5","3.3","G1","PROTEGER","O órgão configura listas de controle de acessos a dados?","Aplicar listas de controle de acesso a dados, também conhecidas como permissões de acesso, a sistemas de arquivos, banco de dados e aplicações locais e remotos.","Selecione a Resposta"]
[null,3,"3.6","3.4","G1","PROTEGER","O órgão aplica retenção de dados?","Reter os dados de acordo com o processo de gestão de dados da organização. A retenção deve incluir prazos mínimos e máximos.","Selecione a Resposta"]
[null,3,"3.7","3.5","G1","PROTEGER","O órgão descarta dados com segurança?","Descartar os dados com segurança, conforme processo de gestão de dados da organização. Certificar que o processo e método de descarte sejam compatíveis com a sensibilidade dos dados.","Selecione a Resposta"]
[null,3,"3.8","3.6","G1","PROTEGER","O órgão criptografa dados em dispositivos de usuário final?","Criptografar os dados em dispositivos de usuário final que contenham dados sensíveis. ","Selecione a Resposta"]
[null,3,"3.9","3.9","G2","PROTEGER","O órgão criptografa dados em mídia removível?","Criptografar os dados em removível.","Selecione a Resposta"]
[null,3,"3.10","3.10","G2","PROTEGER","O órgão criptografa dados sensíveis em trânsito?","Criptografar dados sensíveis em trânsito. Exemplos: Transport Layer Security (TLS) e Open Secure Shell (Open SSH)","Selecione a Resposta"]
[null,3,"3.11","3.11","G2","PROTEGER","O órgão criptografa dados sensíveis em repouso?","Criptografar dados sensíveis em repouso em servidores, aplicações e banco de dados que contenham dados sensíveis.","Selecione a Resposta"]
[null,3,"3.12","3.12","G2","PROTEGER","O órgão segmenta o processamento e o armazenamento de dados com base na sensibilidade?","Segmentar o processamento e armazenamento de dados com base na sensibilidade dos dados. Não processar dados sensíveis em ativos institucionais destinados a dados de menor sensibilidade.","Selecione a Resposta"]
[null,3,"3.13","3.13","G3","PROTEGER","O órgão implanta uma solução de prevenção contra perda de dados?","Implementar uma ferramenta automatizada, de prevenção de perda de dados (DLP) baseada em host para identificar todos os dados sensíveis armazenados, processados ou transmitidos por meio de ativos institucionais.","Selecione a Resposta"]
[null,3,"3.14","3.14","G3","DETECTAR","O órgão registra o acesso a dados sensíveis?","Registrar o acesso a dados sensíveis, incluindo modificação e descarte.","Selecione a Resposta"]
[null,4,4,"CIS CONTROLE 4: CONFIGURAÇÃO SEGURA DE ATIVOS INSTITUCIONAIS E SOFTWARE",null,null,null,null,null,null,"Selecione sua Resposta"]
[null,4,"4.1","4.1","G1","PROTEGER","O órgão estabelece e mantém um processo de configuração segura?","Estabelecer e manter um processo de configuração segura para ativos corporativos (dispositivos de usuário final, incluindo portáteis e móveis; dispositivos não computacionais/IoT; e servidores) e software (sistemas operacionais e \naplicações). Revisar e atualizar a documentação anualmente ou quando ocorrerem mudanças significativas na organização que possam impactar esta medida de segurança.","Selecione a Resposta",null,{"$f":"_xlfn.IFS(K40=LISTA_GERAL!$B$274,LISTA_GERAL!$C$274,K40=LISTA_GERAL!$B$275,LISTA_GERAL!$C$275,K40=LISTA_GERAL!$B$276,LISTA_GERAL!$C$276,K40=LISTA_GERAL!$B$277,LISTA_GERAL!$C$277,K40=LISTA_GERAL!$B$278,LISTA_GERAL!$C$278,K40=LISTA_GERAL!$B$279,LISTA_GERAL!$C$279,U38=LISTA_GERAL!$B$2,\"Campo de Resposta Não preenchido\",K40=\"Selecione sua Resposta\",\"Controle Não Foi Respondido\")","v":"Controle Não Foi Respondido"}]
[null,4,"4.2","4.2","G1","PROTEGER","O órgão estabelece e mantém um processo de configuração segura para a Infraestrutura de Rede?","Estabelecer e manter um processo de configuração segura para dispositivos de rede. Revisar e atualizar a documentação anualmente ou quando ocorrerem mudanças significativas na organização que possam impactar esta medida de segurança.","Selecione a Resposta"]
[null,4,"4.3","4.3","G1","PROTEGER","O órgão configura o bloqueio automático de sessão nos ativos?","Configurar o bloqueio automático de sessão nos ativos após um período definido de inatividade. Para sistemas operacionais de uso geral, o período não deve exceder 15 minutos. Para dispositivos móveis de usuário final, o período não deve exceder 2 minutos.","Selecione a Resposta"]
[null,4,"4.4","4.4","G1","PROTEGER","O órgão implementa e gerencia um firewall nos servidores?","Implementar e gerenciar um firewall nos servidores, onde houver suporte.","Selecione a Resposta"]
[null,4,"4.5","4.5","G1","PROTEGER","O órgão implementa e gerencia um firewall nos dispositivos de usuário final?","Implementar e gerenciar um firewall baseado em host ou uma ferramenta de filtragem de porta nos dispositivos de usuário final, com uma regra de negação padrão que bloqueia todo o tráfego, exceto os serviços e portas que são explicitamente permitidos.","Selecione a Resposta"]
[null,4,"4.6","4.6","G1","PROTEGER","O órgão gerencia com segurança os ativos coorporativos e softwares?","Gerenciar com segurança os ativos e software. Exemplos de implementações incluem gestão de configuração por meio de versioncontrolled-infrastructure-as-code e acesso a interfaces administrativas por meio de protocolos de rede seguros.","Selecione a Resposta"]
[null,4,"4.7","4.7","G1","PROTEGER","O órgão gerencia contas padrão nos ativos coorporativos e software?","Gerenciar contas padrão nos ativos e software, como root, administrador e outras contas de fornecedores pré configuradas.","Selecione a Resposta"]
[null,4,"4.8","4.8","G2","PROTEGER","O órgão desinstala ou desativa serviços desnecessários nos ativos e software?","Desinstalar ou desativar serviços desnecessários nos ativos e software, como serviço de compartilhamento de arquivo não utilizado, módulo de aplicação web ou função de serviço.","Selecione a Resposta"]
[null,4,"4.9","4.9","G2","PROTEGER","O órgão configura servidores DNS confiáveis nos ativos?","Implementar configuração de ativos para usar servidores DNS controlados pelo órgão e/ou servidores DNS confiáveis acessíveis externamente.","Selecione a Resposta"]
[null,4,"4.10","4.11","G2","PROTEGER","O órgão impõe a capacidade de limpeza remota nos dispositivos portáteis do usuário final?","Limpar remotamente os dados institucionais de dispositivos portáteis de usuário final de propriedade da organização quando for considerado apropriado, como dispositivos perdidos ou roubados, ou quando um indivíduo não trabalha mais no órgão.","Selecione a Resposta"]
[null,4,"4.11","4.12","G3","PROTEGER","O órgão separa os Espaços de Trabalho nos dispositivos móveis?","Certificar de que a separação de espaços de trabalho seja usada nos dispositivos móveis de usuário final, ou seja, separar aplicações e dados institucionais de aplicações e dados pessoais nos dispositivos, onde houver suporte.","Selecione a Resposta"]
[null,4,"4.12","4.10","G2","RESPONDER","O órgão impõe o bloqueio automático de dispositivos nos dispositivos portáteis do usuário final?","Impor bloqueio automático de dispositivos quando houver um número pré-definido de tentativas de autenticação com falha,","Selecione a Resposta"]
[null,5,5,"CIS CONTROLE 5:  GESTÃO DE CONTAS",null,null,null,null,null,null,"Selecione sua Resposta"]
[null,5,"5.1","5.1","G1","IDENTIFICAR","O órgão estabelece e mantém um inventário de contas?","Estabelecer e manter um inventário de todas as contas gerenciadas na organização. O inventário deve incluir contas de usuário e administrador. Validar se todas as contas ativas estão autorizadas, trimestralmente ou com mais frequência.","Selecione a Resposta",null,{"$f":"_xlfn.IFS(K53=LISTA_GERAL!$B$274,LISTA_GERAL!$C$274,K53=LISTA_GERAL!$B$275,LISTA_GERAL!$C$275,K53=LISTA_GERAL!$B$276,LISTA_GERAL!$C$276,K53=LISTA_GERAL!$B$277,LISTA_GERAL!$C$277,K53=LISTA_GERAL!$B$278,LISTA_GERAL!$C$278,K53=LISTA_GERAL!$B$279,LISTA_GERAL!$C$279,U51=LISTA_GERAL!$B$2,\"Campo de Resposta Não preenchido\",K53=\"Selecione sua Resposta\",\"Controle Não Foi Respondido\")","v":"Controle Não Foi Respondido"}]
[null,5,"5.2","5.5","G2","IDENTIFICAR","O órgão estabelece e mantém um inventário de contas de serviço?","Estabelecer e manter um inventário de contas de serviço. O inventário, no mínimo, deve conter o departamento proprietário, data de revisão e propósito. Realizar análises de contas de serviço para validar se todas as contas ativas estão autorizadas, em uma programação recorrente, no mínimo trimestralmente ou com mais frequência.","Selecione a Resposta"]
[null,5,"5.3","5.2","G1","PROTEGER","O órgão usa senhas exclusivas?","Usar senhas exclusivas para todos os ativos institucionais. Contas que usam MFA (Autenticação multifator) no mínimo senhas de 8 caracteres e uma senha de 14 caracteres para contas que não usam o MFA.","Selecione a Resposta"]
[null,5,"5.4","5.4","G1","PROTEGER","O órgão restringe privilégios de administrador a contas de administrador dedicadas?","Restringir os privilégios de administrador a contas de administrador dedicados nos ativos institucionais. Realizar atividades gerais de computação, como navegação na Internet, e-mail e uso do pacote de produtividade, a partir da conta primária não privilegiada do usuário.","Selecione a Resposta"]
[null,5,"5.5","5.6","G2","PROTEGER","O órgão centraliza a gestão de contas?","Centralizar a gestão de contas por meio de serviço de diretório ou de identidade.","Selecione a Resposta"]
[null,5,"5.6","5.3","G1","RESPONDER","O órgão desabilita contas inativas?","Excluir ou desabilitar quaisquer contas inativas após um período de 45 dias de inatividade.","Selecione a Resposta"]
[null,6,6,"CIS CONTROLE 6:  GESTÃO DO CONTROLE DE ACESSO",null,null,null,null,null,null,"Selecione sua Resposta"]
[null,6,"6.1","6.6","G2","IDENTIFICAR","O órgão estabelece e mantém um inventário de sistemas de autenticação e autorização?","Estabelecer e manter um inventário dos sistemas de autenticação e autorização da organização, incluindo aqueles hospedados no site local ou em um provedor de serviços remoto. Revisar e atualizar o inventário anualmente ou com mais frequência.","Selecione a Resposta",null,{"$f":"_xlfn.IFS(K60=LISTA_GERAL!$B$274,LISTA_GERAL!$C$274,K60=LISTA_GERAL!$B$275,LISTA_GERAL!$C$275,K60=LISTA_GERAL!$B$276,LISTA_GERAL!$C$276,K60=LISTA_GERAL!$B$277,LISTA_GERAL!$C$277,K60=LISTA_GERAL!$B$278,LISTA_GERAL!$C$278,K60=LISTA_GERAL!$B$279,LISTA_GERAL!$C$279,U58=LISTA_GERAL!$B$2,\"Campo de Resposta Não preenchido\",K60=\"Selecione sua Resposta\",\"Controle Não Foi Respondido\")","v":"Controle Não Foi Respondido"}]
[null,6,"6.2","6.1","G1","PROTEGER","O órgão estabelece um Processo de Concessão de Acesso?","Estabelecer e seguir um processo, de preferência automatizado, para conceder acesso aos ativos institucionais mediante nova contratação, concessão de direitos ou mudança de função de um usuário.","Selecione a Resposta"]
[null,6,"6.3","6.2","G1","PROTEGER","O órgão estabelece um Processo de Revogação de Acesso?","Estabelecer e seguir um processo, de preferência automatizado, para revogar o acesso aos ativos institucionais, por meio da desativação de contas imediatamente após o encerramento, revogação de direitos ou mudança de função de um usuário. Desativar contas, em vez de excluí-las, pode ser necessário para preservar as trilhas de auditoria.","Selecione a Resposta"]
[null,6,"6.4","6.3","G1","PROTEGER","O órgão exige MFA para aplicações expostas externamente?","Exigir que todas as aplicações corporativas ou de terceiros expostas externamente apliquem o MFA. Impor o MFA por meio de um serviço de diretório ou provedor de SSO é uma implementação satisfatória desta medida de segurança.","Selecione a Resposta"]
[null,6,"6.5","6.4","G1","PROTEGER","O órgão exige MFA para acesso remoto à rede?","Exigir MFA para acesso remoto à rede.","Selecione a Resposta"]
[null,6,"6.6","6.5","G1","PROTEGER","O órgão exige MFA para acesso administrativo?","Exigir MFA para todas as contas de acesso administrativo, em todos os ativos institucionais, sejam gerenciados no site local ou por meio de um provedor terceirizado.","Selecione a Resposta"]
[null,6,"6.7","6.7","G2","PROTEGER","O órgão centraliza o controle de acesso?","Centralizar o controle de acesso para todos os ativos institucionais por meio de um serviço de diretório ou provedor de SSO","Selecione a Resposta"]
[null,6,"6.8","6.8","G3","PROTEGER","O órgão define e mantém o controle de acesso baseado em funções?","Definir e manter o controle de acesso baseado em funções, determinando e documentando os direitos de acesso necessários para cada função dentro da organização para cumprir com sucesso suas funções atribuídas. Realizar análises de controle de acesso de ativos institucionais para validar se todos os privilégios estão autorizados, em uma programação recorrente, uma vez por ano ou com maior frequência.","Selecione a Resposta"]
[null,7,7,"CIS CONTROLE 7:  GESTÃO CONTÍNUA DE VUNERABILIDADES",null,null,null,null,null,null,"Selecione sua Resposta"]
[null,7,"7.1","7.5","G2","IDENTIFICAR","O órgão realiza varreduras automatizadas de vulnerabilidade em ativos institucionais internos?","Realizar varreduras automatizadas de vulnerabilidade em ativos institucionais internos trimestralmente ou com mais frequência. Realizar varreduras autenticadas e não autenticadas, usando uma ferramenta compatível com o SCAP(Security Content Automation Protocol).","Selecione a Resposta",null,{"$f":"_xlfn.IFS(K69=LISTA_GERAL!$B$274,LISTA_GERAL!$C$274,K69=LISTA_GERAL!$B$275,LISTA_GERAL!$C$275,K69=LISTA_GERAL!$B$276,LISTA_GERAL!$C$276,K69=LISTA_GERAL!$B$277,LISTA_GERAL!$C$277,K69=LISTA_GERAL!$B$278,LISTA_GERAL!$C$278,K69=LISTA_GERAL!$B$279,LISTA_GERAL!$C$279,U67=LISTA_GERAL!$B$2,\"Campo de Resposta Não preenchido\",K69=\"Selecione sua Resposta\",\"Controle Não Foi Respondido\")","v":"Controle Não Foi Respondido"}]
[null,7,"7.2","7.6","G2","IDENTIFICAR","O órgão realiza varreduras automatizadas de vulnerabilidade em ativos institucionais expostos externamente?","Executar varreduras de vulnerabilidade automatizadas de ativos institucionais expostos externamente usando uma ferramenta de varredura de vulnerabilidade compatível com o SCAP. Executar varreduras mensalmente ou com mais frequência.","Selecione a Resposta"]
[null,7,"7.3","7.1","G1","PROTEGER","O órgão estabelece e mantém um processo de gestão de vulnerabilidade?","Estabelecer e manter um processo de gestão de vulnerabilidade documentado para ativos institucionais. Revisar e atualizar a documentação anualmente ou quando ocorrerem mudanças significativas na organização","Selecione a Resposta"]
[null,7,"7.4","7.3","G1","PROTEGER","O órgão executa a gestão automatizada de patches do sistema operacional?","Realizar atualizações do sistema operacional em ativos institucionais por meio da gestão automatizada de patches mensalmente ou com mais frequência.","Selecione a Resposta"]
[null,7,"7.5","7.4","G1","PROTEGER","O órgão executa a gestão automatizada de patches de aplicações?","Realizar atualizações de aplicações em ativos institucionais por meio da gestão automatizada de patches mensalmente ou com mais frequência.","Selecione a Resposta"]
[null,7,"7.6","7.2","G1","RESPONDER","O órgão estabelece e mantém um processo de remediação?","Estabelecer e manter uma estratégia de remediação baseada em risco documentada em um processo de remediação, com revisões mensais ou mais frequentes.","Selecione a Resposta"]
[null,7,"7.7","7.7","G2","RESPONDER","O órgão corrige vulnerabilidades detectadas?","Corrigir as vulnerabilidades detectadas no software por meio de processos e ferramentas mensalmente, ou com mais frequentemente, com base no processo de correção.","Selecione a Resposta"]
[null,8,8,"CIS CONTROLE 8: GESTÃO DE REGISTROS DE AUDITORIA",null,null,null,null,null,null,"Selecione sua Resposta"]
[null,8,"8.1","8.1","G1","PROTEGER","O órgão estabelece e mantém um processo de gestão de log de auditoria?","Estabelecer e manter um processo de gestão de log de auditoria que defina os requisitos de log da organização. Tratar da coleta, revisão e retenção de logs de auditoria para ativos institucionais. Revisar e atualizar a documentação anualmente ou quando ocorrerem mudanças significativas.","Selecione a Resposta",null,{"$f":"_xlfn.IFS(K77=LISTA_GERAL!$B$274,LISTA_GERAL!$C$274,K77=LISTA_GERAL!$B$275,LISTA_GERAL!$C$275,K77=LISTA_GERAL!$B$276,LISTA_GERAL!$C$276,K77=LISTA_GERAL!$B$277,LISTA_GERAL!$C$277,K77=LISTA_GERAL!$B$278,LISTA_GERAL!$C$278,K77=LISTA_GERAL!$B$279,LISTA_GERAL!$C$279,U75=LISTA_GERAL!$B$2,\"Campo de Resposta Não preenchido\",K77=\"Selecione sua Resposta\",\"Controle Não Foi Respondido\")","v":"Controle Não Foi Respondido"}]
[null,8,"8.2","8.3","G1","PROTEGER","O órgão garante o armazenamento adequado do registro de auditoria?","Certificar de que os destinos dos logs mantenham armazenamento adequado para cumprir o processo de gestão de log de auditoria da organização","Selecione a Resposta"]
[null,8,"8.3","8.4","G2","PROTEGER","O órgão padroniza a sincronização de tempo?","Padronizar a sincronização de tempo. Configurar pelo menos duas fontes de tempo sincronizadas nos ativos institucionais.","Selecione a Resposta"]
[null,8,"8.4","8.10","G2","PROTEGER","O órgão retém os logs de auditoria?","Reter os logs de auditoria em ativos institucionais por no mínimo 90 dias.","Selecione a Resposta"]
[null,8,"8.5","8.2","G1","DETECTAR","O órgão coleta logs de auditoria?","Coletar logs de auditoria. Certificar de que o log, de acordo com o processo de gestão de log de auditoria da organização, tenha sido habilitado em todos os ativos.","Selecione a Resposta"]
[null,8,"8.6","8.5","G2","DETECTAR","O órgão coleta logs de auditoria detalhados?","Configurar o log de auditoria detalhado para ativos institucionais contendo dados sensíveis. Incluir a origem do evento, data, nome de usuário, carimbo de data/hora, endereços de origem, endereços de destino e outros elementos úteis que podem ajudar em uma investigação forense.","Selecione a Resposta"]
[null,8,"8.7","8.6","G2","DETECTAR","O órgão coleta logs de auditoria de consulta DNS?","Habilitar o registro de log de consulta do servidor DNS (Domain Name System) para detectar pesquisas de nomes de host para domínios maliciosos conhecidos.","Selecione a Resposta"]
[null,8,"8.8","8.7","G2","DETECTAR","O órgão coleta logs de auditoria de requisição de URL?","Coletar logs de auditoria de requisição de URL em ativos institucionais, quando apropriado e suportado.","Selecione a Resposta"]
[null,8,"8.9","8.8","G2","DETECTAR","O órgão coleta logs de auditoria de linha de comando?","Habilitar o log de auditoria sobre ferramentas de linha de comando, tais como Microsoft Powershell e Bash.","Selecione a Resposta"]
[null,8,"8.10","8.9","G2","DETECTAR","O órgão centraliza os logs de auditoria?","Centralizar a coleta e retenção de logs de auditoria nos ativos institucionais.","Selecione a Resposta"]
[null,8,"8.11","8.11","G2","DETECTAR","O órgão conduz revisões de log de auditoria?","Realizar análises de logs de auditoria para detectar anomalias ou eventos anormais que possam indicar uma ameaça potencial. Realizar revisões semanalmente ou com mais frequência.","Selecione a Resposta"]
[null,8,"8.12","8.12","G3","DETECTAR","O órgão coleta logs do provedor de serviços?","Coletar logs do provedor de serviços. Exemplos de implementações incluem coleta de eventos de autenticação e autorização, eventos de criação e de descarte de dados e eventos de gestão de usuários.","Selecione a Resposta"]
[null,9,9,"CIS CONTROLE 9: PROTEÇÕES DE E-MAIL E NAVEGADOR WEB",null,null,null,null,null,null,"Selecione sua Resposta"]
[null,9,"9.1","9.1","G1","PROTEGER","O órgão garante o uso apenas de navegadores e clientes de e-mail suportados plenamente?","Certificar de que apenas navegadores e clientes de e-mail suportados plenamente tenham permissão para executar na organização, usando apenas a versão mais recente dos navegadores e clientes de e-mail fornecidos pelo fornecedor.","Selecione a Resposta",null,{"$f":"_xlfn.IFS(K90=LISTA_GERAL!$B$274,LISTA_GERAL!$C$274,K90=LISTA_GERAL!$B$275,LISTA_GERAL!$C$275,K90=LISTA_GERAL!$B$276,LISTA_GERAL!$C$276,K90=LISTA_GERAL!$B$277,LISTA_GERAL!$C$277,K90=LISTA_GERAL!$B$278,LISTA_GERAL!$C$278,K90=LISTA_GERAL!$B$279,LISTA_GERAL!$C$279,U88=LISTA_GERAL!$B$2,\"Campo de Resposta Não preenchido\",K90=\"Selecione sua Resposta\",\"Controle Não Foi Respondido\")","v":"Controle Não Foi Respondido"}]
[null,9,"9.2","9.2","G1","PROTEGER","O órgão usa serviços de filtragem de DNS?","Usar os serviços de filtragem de DNS em todos os ativos institucionais para bloquear o acesso a domínios mal-intencionados conhecidos.","Selecione a Resposta"]
[null,9,"9.3","9.3","G2","PROTEGER","O órgão mantém e impõe filtros de URL baseados em rede?","Impor e atualizar filtros de URL baseados em rede para limitar um ativo institucional de se conectar a sites potencialmente maliciosos ou não aprovados.","Selecione a Resposta"]
[null,9,"9.4","9.4","G2","PROTEGER","O órgão restringe extensões de cliente de email e navegador desnecessárias ou não autorizadas?","Restringir, seja desinstalando ou desabilitando, quaisquer plug-ins de cliente de e-mail ou navegador, extensões e aplicações complementares não autorizados ou desnecessários.","Selecione a Resposta"]
[null,9,"9.5","9.5","G2","PROTEGER","O órgão implementa o DMARC?","Para diminuir a chance de e-mails forjados ou modificados de domínios válidos, implemente a política e verificação DMARC, começando com a implementação dos padrões Sender Policy Framework (SPF) e DomainKeys Identified Mail (DKIM)","Selecione a Resposta"]
[null,9,"9.6","9.6","G2","PROTEGER","O órgão bloqueia tipos de arquivo desnecessários?","Bloquear tipos de arquivo desnecessários que tentem entrar no gateway de e-mail do órgão.","Selecione a Resposta"]
[null,9,"9.7","9.7","G3","PROTEGER","O órgão implanta e mantém proteções antimalware de servidor de e-mail?","Implantar e manter proteção antimalware de servidores de e-mail, como varredura de anexos e/ou sandbox.","Selecione a Resposta"]
[null,10,10,"CIS CONTROLE 10: DEFESAS CONTRA MALWARE","CIS CONTROLE 10: DEFESAS CONTRA MALWARE",null,null,null,null,null,"Selecione sua Resposta"]
[null,10,"10.1","10.1","G1","PROTEGER","O órgão instala e \nmantém um \nsoftware antimalware?","Instalar e manter um software anti-malware em todos os ativos cibernéticos da organização.","Selecione a Resposta",null,{"$f":"_xlfn.IFS(K98=LISTA_GERAL!$B$274,LISTA_GERAL!$C$274,K98=LISTA_GERAL!$B$275,LISTA_GERAL!$C$275,K98=LISTA_GERAL!$B$276,LISTA_GERAL!$C$276,K98=LISTA_GERAL!$B$277,LISTA_GERAL!$C$277,K98=LISTA_GERAL!$B$278,LISTA_GERAL!$C$278,K98=LISTA_GERAL!$B$279,LISTA_GERAL!$C$279,U96=LISTA_GERAL!$B$2,\"Campo de Resposta Não preenchido\",K98=\"Selecione sua Resposta\",\"Controle Não Foi Respondido\")","v":"Controle Não Foi Respondido"}]
[null,10,"10.2","10.2","G1","PROTEGER","O órgão configura atualizações automáticas de assinatura antimalware?","Realizar a configuração de atualizações automáticas para as assinaturas anti-malware em todos os ativos cibernéticos da organização.","Selecione a Resposta"]
[null,10,"10.3","10.3","G1","PROTEGER","O órgão desabilita a execução e reprodução automática para mídias removíveis?","Configurar os dispositivos para a não execução e reprodução automática de mídias removíveis.","Selecione a Resposta"]
[null,10,"10.4","10.5","G2","PROTEGER","O órgão habilita funções antiexploração?","Habilitar funcionalidades \"anti-exploits\" tais como Data Execution Prevention (DEP) ou Address Space Layout Randomization (ASLR) que estejam disponíveis no sistema operacional, ou implantar ferramentas apropriadas que possam ser configuradas para aplicar proteções sobre um conjunto mais amplo de aplicações e executáveis.","Selecione a Resposta"]
[null,10,"10.5","10.6","G2","PROTEGER","O órgão gerencia o software antimalware de maneira centralizada?","Utilizar software anti-malware gerenciado centralmente para monitorar e defender continuamente cada uma das estações de trabalho e servidores da organização.","Selecione a Resposta"]
[null,10,"10.6","10.4","G2","DETECTAR","O órgão configura a varredura antimalware automática de mídia removível?","Configure o software anti-malware para verificar automaticamente a mídia removível.","Selecione a Resposta"]
[null,10,"10.7","10.7","G2","DETECTAR","O órgão utiliza software antimalware baseado em comportamento?","Utilizar software anti-malware que consiga monitorar e identificar comportamentos fora do comum dos equipamentos da organização.","Selecione a Resposta"]
[null,11,11,"CIS CONTROLE 11: RECUPERAÇÃO DE DADOS",null,null,null,null,null,null,"Selecione sua Resposta"]
[null,11,"11.1","11.3","G1","PROTEGER","O órgão protege os dados de recuperação?","Garantir que os dados de recuperação sejam protegidos adequadamente por meio de segurança física ou criptografia quando são armazenados, bem como quando são movidos pela rede. Isso inclui backups remotos e serviços em nuvem. Devem ser\nestabelecidos controles que garantam que os dados de recuperação sejam equivalentes aos dados originais.","Selecione a Resposta",null,{"$f":"_xlfn.IFS(K106=LISTA_GERAL!$B$274,LISTA_GERAL!$C$274,K106=LISTA_GERAL!$B$275,LISTA_GERAL!$C$275,K106=LISTA_GERAL!$B$276,LISTA_GERAL!$C$276,K106=LISTA_GERAL!$B$277,LISTA_GERAL!$C$277,K106=LISTA_GERAL!$B$278,LISTA_GERAL!$C$278,K106=LISTA_GERAL!$B$279,LISTA_GERAL!$C$279,U104=LISTA_GERAL!$B$2,\"Campo de Resposta Não preenchido\",K106=\"Selecione sua Resposta\",\"Controle Não Foi Respondido\")","v":"Controle Não Foi Respondido"}]
[null,11,"11.2","11.1","G1","RECUPERAR","O órgão estabelece e \nmantém um \nprocesso de \nrecuperação de \ndados?","Estabelecer e manter um processo de recuperação de dados. Tal processo deve descrever em seu escopo as atividades de recuperação de dados, priorização da recuperação e a atividade de segurança dos dados de backup. Periodicamente, deve ser realizada uma revisão e/ou atualização deste processo, assim como em casos específicos quando ocorrerem mudanças significativas na organização que venham impactar a organização de forma significativa.","Selecione a Resposta"]
[null,11,"11.3","11.2","G1","RECUPERAR","O órgão executa backups automatizados?","Garantir que todos os dados dos sistemas tenham cópias de segurança (backups) realizadas automaticamente e de forma regular.","Selecione a Resposta"]
[null,11,"11.4","11.4","G1","RECUPERAR","O órgão estabelece e mantém uma instância isolada de dados de recuperação?","Criar e manter pelo menos uma instância isolada dos dados de recuperação. Alguns exemplos deste tipo de implementação são controle de versão de destinos de backup por meio de sistemas e serviços offline (backup offline, não acessível por meio de uma conexão de rede), em nuvem, ou em datacenter separado do site local.","Selecione a Resposta"]
[null,11,"11.5","11.5","G2","RECUPERAR","O órgão testa os dados de recuperação?","Realizar o teste de integridade dos dados na mídia de backup regularmente, executando um processo de restauração de dados para garantir que o backup esteja funcionando corretamente.","Selecione a Resposta"]
[null,12,12,"CIS CONTROLE 12:  GESTÃO DA INFRAESTRUTURA DE REDE",null,null,null,null,null,null,"Selecione sua Resposta"]
[null,12,"12.1","12.4","G2","IDENTIFICAR","O órgão elabora e mantém diagramas de arquitetura?","Elaborar e manter diagramas e demais documentações da arquitetura de rede da organização. A revisão destas documentações deve ser realizada de forma periódica ou quando ocorrerem mudanças que possam impactar tais artefatos.","Selecione a Resposta",null,{"$f":"_xlfn.IFS(K112=LISTA_GERAL!$B$274,LISTA_GERAL!$C$274,K112=LISTA_GERAL!$B$275,LISTA_GERAL!$C$275,K112=LISTA_GERAL!$B$276,LISTA_GERAL!$C$276,K112=LISTA_GERAL!$B$277,LISTA_GERAL!$C$277,K112=LISTA_GERAL!$B$278,LISTA_GERAL!$C$278,K112=LISTA_GERAL!$B$279,LISTA_GERAL!$C$279,U110=LISTA_GERAL!$B$2,\"Campo de Resposta Não preenchido\",K112=\"Selecione sua Resposta\",\"Controle Não Foi Respondido\")","v":"Controle Não Foi Respondido"}]
[null,12,"12.2","12.1","G1","PROTEGER","O órgão garante que a infraestrutura de rede está atualizada?","Garantir que a infraestrutura de rede da organização esteja sempre atualizada. Deve ser realizada uma revisão das versões de software de forma periódica, ou quando for identificada uma vulnerabilidade que eleve o risco da organização.","Selecione a Resposta"]
[null,12,"12.3","12.2","G2","PROTEGER","O órgão garante níveis de segurança para a arquitetura de rede?","Garantir que a arquitetura de rede se mantenha segura. É interessante buscar implementar políticas de segurança como segmentação de rede, privilégio mínimo e níveis básicos de disponibilidade.","Selecione a Resposta"]
[null,12,"12.4","12.3","G2","PROTEGER","O órgão gerencia a infraestrutura de rede e segurança?","Implementar e gerenciar com segurança a infraestrutura de rede da organização.","Selecione a Resposta"]
[null,12,"12.5","12.5","G2","PROTEGER","O órgão centraliza a autenticação, autorização e auditoria de rede (AAA)?","Implementar a centralização de (AAA) de rede.","Selecione a Resposta"]
[null,12,"12.6","12.6","G2","PROTEGER","O órgão utiliza protocolos de comunicação e gestão de rede seguros?","Implementar protocolos de comunicação e rede seguros.","Selecione a Resposta"]
[null,12,"12.7","12.7","G2","PROTEGER","O órgão garante que os dispositivos remotos utilizem uma VPN e se conectem em uma infraestrutura AAA segura da organização?","Fazer com que os usuários se autentiquem em serviços de autenticação e VPN gerenciados pela organização antes de acessar os dispositivos e recursos da organização.","Selecione a Resposta"]
[null,12,"12.8","12.8","G3","PROTEGER","O órgão utiliza e mantém recursos cibernéticos dedicados para todo o trabalho administrativo?","Habilitar a coleta de Netflow e registros de log em cada um dos dispositivos existentes para a execução de tarefas administrativas, utilize e mantenha recursos cibernéticos dedicados, estes devem estar fisicamente ou logicamente separados e seguros. É importante que tais recursos sejam segmentados da rede primária\nda organização, e não deve ser permitido o acesso a rede externa da organização. fronteiras da rede.","Selecione a Resposta"]
[null,13,13,"CIS CONTROLE 13: MONITORAMENTO E DEFESA DA REDE",null,null,null,null,null,null,"Selecione sua Resposta"]
[null,13,"13.1","13.4","G2","PROTEGER","O órgão realiza filtragem de tráfego entre os segmentos de rede?","Realize a filtragem de tráfego entre os segmentos de rede.","Selecione a Resposta",null,{"$f":"_xlfn.IFS(K121=LISTA_GERAL!$B$274,LISTA_GERAL!$C$274,K121=LISTA_GERAL!$B$275,LISTA_GERAL!$C$275,K121=LISTA_GERAL!$B$276,LISTA_GERAL!$C$276,K121=LISTA_GERAL!$B$277,LISTA_GERAL!$C$277,K121=LISTA_GERAL!$B$278,LISTA_GERAL!$C$278,K121=LISTA_GERAL!$B$279,LISTA_GERAL!$C$279,U119=LISTA_GERAL!$B$2,\"Campo de Resposta Não preenchido\",K121=\"Selecione sua Resposta\",\"Controle Não Foi Respondido\")","v":"Controle Não Foi Respondido"}]
[null,13,"13.2","13.5","G2","PROTEGER","O órgão aplica o gerenciamento de controle de acesso em ativos remotos?","Aplique o gerenciamento de controle de acesso em ativos que se conectam remotamente a organização. Determine a quantidade de acesso aos recursos da organização utilizando softwares antimalware devidamente atualizados, processos de configuração segura de ativos e certifique-se que os sistemas operacionais e demais aplicações estejam sempre atualizados.","Selecione a Resposta"]
[null,13,"13.3","13.7","G3","PROTEGER","O órgão implanta soluções para prevenção de intrusão baseada em host?","Implante uma solução para prevenção de intrusão baseada em host e ativos institucionais, preferencialmente com suporte do fornecedor.","Selecione a Resposta"]
[null,13,"13.4","13.8","G3","PROTEGER","O órgão implanta soluções para prevenção de intrusão de rede?","Implante uma solução para prevenção de intrusão baseada em rede, preferencialmente com suporte do fornecedor.","Selecione a Resposta"]
[null,13,"13.5","13.9","G3","PROTEGER","O órgão implanta controle de acesso a nível de porta?","Implante o controle de acesso em nível de porta. Tal controle utiliza o protocolo 802.1x ou soluções semelhantes como certificados, também podem ser utilizadas ferramentas para autenticação de usuário e/ou dispositivo.","Selecione a Resposta"]
[null,1,"13.6","13.10","G3","PROTEGER","O órgão realiza a filtragem de camada de aplicação?","Realize a filtragem de camada de aplicação. Exemplos de implementações são proxy de filtragem, firewall desta camada ou gateway.","Selecione a Resposta"]
[null,13,"13.7","13.1","G3","DETECTAR","O órgão centraliza alertas de  eventos de  segurança?","Centralize os alertas de eventos de segurança em ativos institucionais para que a organização consiga realizar a correlação e análise do log. Uma boa prática é o uso de um SIEM que inclua alertas de correlação de eventos definidos pelo fornecedor. Outra boa prática é a adoção de uma plataforma de análise de log configurada com aletas de correlação relevantes para a segurança cibernética.","Selecione a Resposta"]
[null,13,"13.8","13.2","G2","DETECTAR","O órgão implanta soluções de detecção e intrusão baseada em host?","Implante soluções para detecção de intrusão baseada em host em ativos institucionais","Selecione a Resposta"]
[null,13,"13.9","13.3","G3","DETECTAR","O órgão implanta  soluções de  detecção e  intrusão  baseada em  rede?","Implante soluções para detecção de intrusão de rede em ativos institucionais","Selecione a Resposta"]
[null,13,"13.10","13.6","G2","DETECTAR","O órgão coleta logs de fluxo e tráfego de rede?","Realize a coleta dos logs de fluxo e tráfego de rede com o objetivo de checar e alertar sobre dispositivos de rede que estejam com comportamento que fujam do padrão. em sua necessidade de acesso como parte de suas responsabilidades.","Selecione a Resposta"]
[null,13,"13.11","13.11","G3","DETECTAR","O órgão ajusta limites de  alertas de  eventos de  segurança?","Ajuste periodicamente os limites dos alertas de eventos de segurança.","Selecione a Resposta"]
[null,14,14,"CIS CONTROLE 14: CONSCIENTIZAÇÃO E TREINAMENTO DE COMPETÊNCIAS SOBRE SEGURANÇA",null,null,null,null,null,null,"Selecione sua Resposta"]
[null,14,"14.1","14.1","G1","PROTEGER","O órgão implanta e mantém um programa de conscientização de segurança?","Criar programa de conscientização de segurança para que todos os membros da força de trabalho o realizem regularmente com o objetivo de garantir que eles entendam e exibam os conhecimentos e comportamentos necessários para ajudar a garantir a segurança da instituição. O programa de conscientização de segurança da instituição deve ser comunicado de maneira contínua e envolvente.","Selecione a Resposta",null,{"$f":"_xlfn.IFS(K133=LISTA_GERAL!$B$274,LISTA_GERAL!$C$274,K133=LISTA_GERAL!$B$275,LISTA_GERAL!$C$275,K133=LISTA_GERAL!$B$276,LISTA_GERAL!$C$276,K133=LISTA_GERAL!$B$277,LISTA_GERAL!$C$277,K133=LISTA_GERAL!$B$278,LISTA_GERAL!$C$278,K133=LISTA_GERAL!$B$279,LISTA_GERAL!$C$279,U131=LISTA_GERAL!$B$2,\"Campo de Resposta Não preenchido\",K133=\"Selecione sua Resposta\",\"Controle Não Foi Respondido\")","v":"Controle Não Foi Respondido"}]
[null,14,"14.2","14.2","G1","PROTEGER","O órgão treina colaboradores para reconhecer ataques de engenharia social?","Treinar os colaborares sobre como identificar diferentes formas de ataques de engenharia social, como phishing, golpes de telefone e chamadas realizadas por impostores.","Selecione a Resposta"]
[null,14,"14.3","14.3","G1","PROTEGER","O órgão treina os colaboradores nas melhores práticas de autenticação?","Treinar os colaboradores sobre a importância de habilitar utilizar as melhores práticas de autenticação segura como MFA (Multi-factor Authentication – Autenticação de múltiplos fatores), composição de senha e gestão de credenciais.","Selecione a Resposta"]
[null,14,"14.4","14.4","G1","PROTEGER","O órgão treina os colaboradores nas Melhores Práticas de Tratamento de Dados?","Treinar os membros da força de trabalho sobre como identificar e armazenar, transferir, arquivar e destruir informações sensíveis (incluindo dados pessoais) adequadamente. Isto também inclui o treinamento sobre práticas recomendadas de mesa e tela limpas, (não deixar senhas expostas nas mesas de trabalho e bloquear a tela da estação de trabalho ao se ausentar), apagar quadros físicos e virtuais após reuniões e armazenar dados e ativos com segurança.","Selecione a Resposta"]
[null,14,"14.5","14.5","G1","PROTEGER","O órgão treina os colaboradores sobre as causas da exposição não intencional de dados?","Treinar os membros da força de trabalho para estarem cientes das causas de exposições de dados não intencionais, como perder seus dispositivos móveis ou enviar e-mail para a pessoa errada devido ao preenchimento automático de e-mail.","Selecione a Resposta"]
[null,14,"14.6","14.6","G1","PROTEGER","O órgão treina os colaboradores sobre como Reconhecer e Relatar incidentes de Segurança?","Treinar os colaboradores para serem capazes de identificar os indicadores mais comuns de um incidente e serem capazes de relatar tal incidente.","Selecione a Resposta"]
[null,14,"14.7","14.7","G1","PROTEGER","O órgão treina os colaboradores sobre como identificar e comunicar se os seus ativos institucionais estão desatualizados em relação a segurança?","Treine os colaboradores para entender como verificar e relatar patches de software desatualizados ou quaisquer falhas em ferramentas e processos automatizados. É importante incluir nesse treinamento a etapa de notificação do pessoal de TI sobre quaisquer falhas em processos e ferramentas automatizadas que estejam ocorrendo.","Selecione a Resposta"]
[null,14,"14.8","14.8","G1","PROTEGER","O órgão treina os colaboradores sobre os perigos de se conectar e transmitir dados institucionais em redes inseguras?","Treine os colaboradores sobre os perigos de se conectar e transmitir dados em redes inseguras para atividades corporativas. Se a organização tiver funcionários remotos, o treinamento deve incluir orientação para garantir que todos os usuários configurem com segurança sua infraestrutura de rede doméstica.","Selecione a Resposta"]
[null,14,"14.9","14.9","G2","PROTEGER","O órgão conduz treinamento de competências e conscientização de segurança para funções específicas?","Para colaboradores que atuem em funções específicas, realize o treinamento de conscientização de segurança e de competências específicas para estas funções. Exemplos de implementações incluem cursos de administração de sistema seguro para profissionais de TI, treinamento de conscientização e prevenção de vulnerabilidades para desenvolvedores de aplicações da web do OWASP e treinamento avançado de conscientização de engenharia social para funções de níveis estratégico da organização ","Selecione a Resposta"]
[null,15,15,"CIS CONTROLE 15: GESTÃO DE PROVEDOR DE SERVIÇOS",null,null,null,null,null,null,"Selecione sua Resposta"]
[null,15,"15.1","15.1","G1","IDENTIFICAR","O órgão cria e gerencia o inventário de provedores de serviços?","Crie e gerencie o inventário de provedores de serviços. Este inventário deve listar todos os provedores de serviços da organização, incluir classificações, e conter contatos institucionais para cada provedor de serviço. Deve ser realizada uma revisão e/ou atualização deste inventário anualmente ou quando ocorrerem mudanças significativas do provedor que venham impactar a organização de forma significativa.","Selecione a Resposta",null,{"$f":"_xlfn.IFS(K143=LISTA_GERAL!$B$274,LISTA_GERAL!$C$274,K143=LISTA_GERAL!$B$275,LISTA_GERAL!$C$275,K143=LISTA_GERAL!$B$276,LISTA_GERAL!$C$276,K143=LISTA_GERAL!$B$277,LISTA_GERAL!$C$277,K143=LISTA_GERAL!$B$278,LISTA_GERAL!$C$278,K143=LISTA_GERAL!$B$279,LISTA_GERAL!$C$279,U141=LISTA_GERAL!$B$2,\"Campo de Resposta Não preenchido\",K143=\"Selecione sua Resposta\",\"Controle Não Foi Respondido\")","v":"Controle Não Foi Respondido"}]
[null,15,"15.2","15.2","G2","IDENTIFICAR","O órgão cria e gerencia uma política de gestão de provedores de serviços?","Crie e gerencie uma política de gestão de provedores de serviços. Faça com que tal política trate de classificação, inventário, avaliação, monitoramento e descomissionamento de prestadores e provedores de serviço da organização. Deve ser realizada uma revisão e/ou alteração desta política periodicamente, em casos específicos quando ocorrerem mudanças significativas na organização que venham impactar a organização de forma significativa.","Selecione a Resposta"]
[null,15,"15.3","15.3","G2","IDENTIFICAR","O órgão classifica provedores de serviços?","Realize a classificação de provedores de serviços. Para que seja realizada a classificação podem ser levadas em consideração uma ou mais característica do provedor, como a sensibilidade dos dados e informações que este provedor opera/gerencia, volume destes dados e informações, regulamentações aplicáveis, requisitos de disponibilidade e classificação de risco. Deve ser realizada uma revisão e/ou alteração desta classificação periodicamente, em casos específicos quando ocorrerem mudanças significativas na organização que venham impactar a organização e forma significativa","Selecione a Resposta"]
[null,15,"15.4","15.5","G3","IDENTIFICAR","O órgão avalia provedores de serviços?","Realizar a avaliação de provedores de serviços da organização. O escopo da avaliação deve levar em consideração as diretrizes contidas na política de gestão de provedores de serviços além de classificações e relatórios de avaliação padronizados, questionários, e processos rigorosos aplicáveis. A avaliação de provedores de serviço deve ser realizada de forma periódica e na medida em que novos contratos estipulados ou renovados.","Selecione a Resposta"]
[null,15,"15.5","15.4","G2","PROTEGER","O órgão garante que os contratos dos provedores de serviços contenham requisitos mínimos de segurança?","Faça com que os contratos do provedor de serviços contenham requisitos de segurança, alguns exemplos destes requisitos de segurança são, requisitos mínimos de segurança do software, resposta a incidentes de segurança, criptografia e descarte de dados. Tais requisitos mínimos devem ser concisos com a política de gestão de provedores da organização. Deve ser realizada uma revisão dos contratos de provedores de forma periódica com o objetivo de atualizar e garantir que os requisitos de segurança estão sendo cumpridos.","Selecione a Resposta"]
[null,15,"15.6","15.7","G3","PROTEGER","O órgão encerra de forma segura o contrato com o provedor de serviços?","Realizar de forma segura o encerramento de contrato de provedores e prestadores de serviço. Algumas ações que possam ser utilizadas para realizar o encerramento de contratos ou desligamento de prestadores são, desativação de contas de usuário e serviço utilizadas durante o contrato, encerramento de fluxo de dados e descarte\nseguros de dados e informações corporativas em sistemas dos provedores de serviço.","Selecione a Resposta"]
[null,15,"15.7","15.6","G3","DETECTAR","O órgão monitora provedores de serviço?","Realizar a monitoração de provedores de acordo com a política de gestão dos provedores de serviços. Tal monitoração pode incluir a avaliação periódica do provedor, monitoração de artefatos entregues pelo provedor","Selecione a Resposta"]
[null,16,16,"CIS CONTROLE 16: SEGURANÇA DE APLICAÇÕES",null,null,null,null,null,null,"Selecione sua Resposta"]
[null,16,"16.1","16.1","G2","PROTEGER","O órgão estabelece e \nmantém um \nprocesso de \ndesenvolvimento \nde aplicações?","Estabelecer e manter um processo de desenvolvimento de aplicações seguro. Este processo deve tratar de itens como padrões de design seguro de aplicações (Security by Design), práticas de codificação seguras, treinamentos para desenvolvedores, gestão de vulnerabilidades, segurança de código de terceiros e procedimentos\nde teste de segurança de aplicação. Deve ser realizada uma revisão e/ou alteração deste processo periodicamente, em casos específicos ou quando ocorrerem mudanças na organização que venham impactá-la de forma significativa.","Selecione a Resposta",null,{"$f":"_xlfn.IFS(K151=LISTA_GERAL!$B$274,LISTA_GERAL!$C$274,K151=LISTA_GERAL!$B$275,LISTA_GERAL!$C$275,K151=LISTA_GERAL!$B$276,LISTA_GERAL!$C$276,K151=LISTA_GERAL!$B$277,LISTA_GERAL!$C$277,K151=LISTA_GERAL!$B$278,LISTA_GERAL!$C$278,K151=LISTA_GERAL!$B$279,LISTA_GERAL!$C$279,U149=LISTA_GERAL!$B$2,\"Campo de Resposta Não preenchido\",K151=\"Selecione sua Resposta\",\"Controle Não Foi Respondido\")","v":"Controle Não Foi Respondido"}]
[null,16,"16.2","16.2","G2","PROTEGER","O órgão estabelece e mantém um processo para aceitar e endereçar vulnerabilidades de software?","Estabelecer e manter um processo de aceitação e tratamento de informações sobre vulnerabilidades de software, incluindo mecanismos para que entidades externas contactem o grupo de segurança da instituição. É importante que o processo inclua itens como: Política de tratamento de vulnerabilidades identificadas e relatadas, equipe ou profissional responsável por analisar os relatórios de vulnerabilidade e um processo de entrada, atribuição, correção e testes de correção. Como parte deste processo, é importante rastrear as vulnerabilidades, classificar a gravidade e atribuir métricas capazes de medir o tempo de identificação, análise e correção das vulnerabilidades. Deve ser realizada uma revisão e/ou alteração deste processo periodicamente, em casos específicos ou quando ocorrerem mudanças na organização que venham impactá-la de forma significativa.","Selecione a Resposta"]
[null,16,"16.3","16.3","G2","PROTEGER","O órgão executa análise de causa raiz em vulnerabilidades de segurança?","Executar a análise de causa raiz em vulnerabilidades de segurança. A análise da causa raiz é a tarefa capaz de avaliar os problemas subjacentes que criam vulnerabilidades no código da aplicação e permite que as equipes de desenvolvimento vão além de apenas corrigir vulnerabilidades individuais conforme elas surgem.","Selecione a Resposta"]
[null,16,"16.4","16.4","G2","PROTEGER","O órgão estabelece e gerencia um inventário de componentes de software de terceiros?","Estabelecer e gerenciar um inventário atualizado de componentes de terceiros usados no desenvolvimento, geralmente chamados de “lista de materiais”, bem como componentes programados para uso futuro. Este inventário deve incluir quaisquer riscos que cada componente de terceiros possa representar a organização. Deve ser realizada uma revisão e/ou alteração deste inventário periodicamente, com o objetivo de identificar quaisquer mudanças ou atualização nesses componentes e validar a compatibilidade do mesmo.","Selecione a Resposta"]
[null,16,"16.5","16.5","G2","PROTEGER","O órgão usa componentes de software de terceiros atualizados e confiáveis?","Utilizar apenas componentes de terceiros atualizados e confiáveis. Quando possível, escolher bibliotecas e estruturas pré-estabelecidas e comprovadas que forneçam a segurança adequada. É importante adquirir tais componentes de fornecedores e fontes confiáveis ou realizar a avaliação de vulnerabilidades do software antes de usar/adquirir.","Selecione a Resposta"]
[null,16,"16.6","16.6","G2","PROTEGER","O órgão estabelece e mantém um processo para a classificação de severidade de vulnerabilidades?","Estabelecer e manter um processo para a classificação de gravidade de vulnerabilidades capaz de facilitar a priorização na medida em que as vulnerabilidades descobertas são corrigidas. Esse processo deve incluir a definição de um nível mínimo de aceitabilidade de segurança para a liberação de código ou aplicações. A classificação de gravidade deve trazer uma forma sistemática de triagem de vulnerabilidades que venha a melhorar a gestão de riscos e ajuda a garantir que os bugs mais graves sejam priorizados. Revise o processo o e a classificação de vulnerabilidade periodicamente.","Selecione a Resposta"]
[null,16,"16.7","16.7","G2","PROTEGER","O órgão usa modelos de configurações de segurança padrão para infraestrutura de aplicações?","Utilizar modelos de configuração de segurança padrão (Segurança by Default) recomendados pela equipe de segurança em componentes de infraestrutura de aplicações. Isso inclui servidores subjacentes, bancos de dados e servidores web e se aplica a contêineres de nuvem, componentes de Platform as a Service (PaaS) e componentes de Security as a Service (SaaS). Não permita que o software desenvolvido internamente enfraqueça as configurações de segurança da organização.","Selecione a Resposta"]
[null,16,"16.8","16.8","G2","PROTEGER","O órgão separa sistemas de produção e não produção?","Manter ambientes separados para sistemas de produção e não produção.","Selecione a Resposta"]
[null,16,"16.9","16.9","G2","PROTEGER","O órgão treina desenvolvedores em conceitos de segurança de aplicações e codificação segura?","Garantir que todos os responsáveis pelo desenvolvimento de software recebam treinamento para escrever código seguro para seu ambiente de desenvolvimento e responsabilidades específicas. O treinamento deve incluir princípios gerais de segurança e práticas padrão de segurança para aplicações. O treinamento deve ser realizado periodicamente, é interessante estabelecer uma cultura de segurança entre os desenvolvedores.","Selecione a Resposta"]
[null,16,"16.10","16.10","G2","PROTEGER","O órgão aplica princípios de design seguro em arquiteturas de aplicações?","Aplicar princípios de design seguro em arquiteturas de aplicações. Os princípios de design seguro incluem o conceito de privilégio mínimo e aplicação de mediação para validar cada operação que o usuário faz, promovendo o conceito de “nunca confiar nas entradas do usuário”. Os exemplos incluem garantir que a verificação explícita de erros seja realizada e documentada para todas as entradas, incluindo tamanho, tipo de dados e intervalos ou formatos aceitáveis. O design seguro também significa minimizar a superfície de ataque da infraestrutura da aplicação, como desligar portas e serviços desprotegidos, remover programas e arquivos desnecessários e renomear ou remover contas padrão.","Selecione a Resposta"]
[null,16,"16.11","16.11","G2","PROTEGER","O órgão aproveita os módulos ou serviços controlados para componentes de segurança de aplicações?","Aproveitar módulos ou serviços controlados para componentes de segurança da aplicação, como gestão de identidade, criptografia e auditoria de logs. O uso de recursos para plataforma em funções críticas de segurança deve reduzir a carga de trabalho dos desenvolvedores e minimizará a probabilidade de erros de design ou\nimplementação. Os sistemas operacionais modernos fornecem mecanismos para criar e manter logs de auditoria seguros. mecanismos eficazes para identificação, autenticação e autorização e disponibilizam esses mecanismos para as aplicações. Use apenas algoritmos de criptografia padronizados, atualmente aceitos e amplamente revisados. Os sistemas operacionais também fornecem","Selecione a Resposta"]
[null,16,"16.12","16.12","G3","PROTEGER","O órgão implementa verificações de segurança em nível de código?","Utilizar ferramentas de análise estáticas e dinâmicas dentro do ciclo de vida da aplicação para verificar se as práticas de codificação seguras estão sendo utilizadas na organização.","Selecione a Resposta"]
[null,16,"16.13","16.13","G3","PROTEGER","O órgão realiza teste de invasão de aplicação?","Realizar testes de invasão em aplicações. Para aplicações críticas, o teste de invasão autenticado é mais adequado para localizar vulnerabilidades de codificação e de negócios do que a varredura de código e o teste de segurança automatizado. O teste de invasão depende da habilidade do testador para manipular manualmente uma aplicação como um usuário autenticado e não autenticado.","Selecione a Resposta"]
[null,16,"16.14","16.14","G3","PROTEGER","O órgão realiza a modelagem de ameaças?","Realizar a modelagem de ameaças. A modelagem de ameaças é o processo de identificar e abordar as falhas de design de segurança da aplicação em um desenho, antes que o código seja criado. É conduzido por profissionais especialmente treinados que avaliam o design da aplicação e medem os riscos de segurança para cada ponto de entrada e nível de acesso. O objetivo é mapear a aplicação, a arquitetura e a infraestrutura de uma forma estruturada para entender todos os pontos fracos.","Selecione a Resposta"]
[null,17,17,"CIS CONTROLE 17: GESTÃO DE RESPOSTA A INCIDENTES",null,null,null,null,null,null,"Selecione sua Resposta"]
[null,17,"17.1","17.1","G1","RESPONDER","O órgão designa os colaboradores para gerenciar o tratamento de incidentes?","Designar os responsáveis para gerenciar o processo de tratamento de incidentes da organização. A equipe de gestão é responsável pela coordenação e documentação dos esforços de resposta e recuperação a incidentes, esta equipe pode formada por\ncolaboradores internos, terceirizados ou pode contar com os dois tipos de  colaborares. Casos em que a equipe for composta somente por funcionários terceirizados, a organização deve designar pelo menos um colaborador interno para supervisionar qualquer ação terceirizada.","Selecione a Resposta",null,{"$f":"_xlfn.IFS(K166=LISTA_GERAL!$B$274,LISTA_GERAL!$C$274,K166=LISTA_GERAL!$B$275,LISTA_GERAL!$C$275,K166=LISTA_GERAL!$B$276,LISTA_GERAL!$C$276,K166=LISTA_GERAL!$B$277,LISTA_GERAL!$C$277,K166=LISTA_GERAL!$B$278,LISTA_GERAL!$C$278,K166=LISTA_GERAL!$B$279,LISTA_GERAL!$C$279,U164=LISTA_GERAL!$B$2,\"Campo de Resposta Não preenchido\",K166=\"Selecione sua Resposta\",\"Controle Não Foi Respondido\")","v":"Controle Não Foi Respondido"}]
[null,17,"17.2","17.2","G1","RESPONDER","O órgão estabelece e mantém informações de contato para relatar incidentes de segurança?","Estabelecer e manter as informações de contato das pessoas que precisam ser informadas sobre os incidentes de segurança. Os contatos podem incluir funcionários internos, fornecedores terceirizados, policiais, provedores de seguros cibernéticos, agências governamentais relevantes, parceiros do Information Sharing and Analysis Center (ISAC) ou outras partes interessadas. Verifique os contatos periodicamente para garantir que as informações estejam atualizadas.","Selecione a Resposta"]
[null,17,"17.3","17.3","G1","RESPONDER","O órgão estabelece e mantém um processo institucional para relatar incidentes?","Estabelecer e manter um processo institucional para a colaborares relatarem incidentes de segurança. O processo inclui cronograma de relatórios, pessoal responsável por para relatar, mecanismo para relatar e as informações mínimas a serem relatadas. É importante certificar que o processo está publicamente disponível para todos os colaboradores da organização. Deve ser realizada uma revisão  periódica deste processo ou quando ocorrerem mudanças significativas na organização que possam impactar esta medida de segurança.","Selecione a Resposta"]
[null,17,"17.4","17.4","G2","RESPONDER","O órgão estabelece e mantém um processo de resposta a incidente?","Estabelecer e manter um processo de resposta a incidentes que aborde funções e responsabilidades, requisitos de conformidade e um plano de comunicação. Realize a revisão deste processo de forma periódica ou quando ocorrerem mudanças significativas na organização que possam impactar esta medida de segurança.","Selecione a Resposta"]
[null,17,"17.5","17.5","G2","RESPONDER","O órgão atribui funções e responsabilidades?","Atribuir funções e responsabilidades chave para resposta a incidentes, incluindo equipe jurídica, TI, segurança da informação, instalações, relações s públicas, recursos humanos, equipe de resposta a incidentes, conforme aplicável. Realize a revisão deste processo de forma periódica ou quando ocorrerem mudanças significativas na organização que possam impactar esta medida de segurança. Realize a revisão desta medida de forma periódica ou quando ocorrerem mudanças significativas na organização que possam impactar esta medida de segurança.","Selecione a Resposta"]
[null,17,"17.6","17.6","G2","RESPONDER","O órgão define mecanismos de comunicação durante a resposta a incidente?","Determinar quais mecanismos primários e secundários serão usados para relatar um incidente e se comunicar durante um incidente de segurança. Os mecanismos podem incluir ligações, e-mails ou cartas. Lembre-se de que certos mecanismos, como e-mails, podem ser afetados durante um incidente de segurança. Realize a revisão desta medida de forma periódica ou quando ocorrerem mudanças significativas na organização que possam impactar esta medida de segurança.","Selecione a Resposta"]
[null,17,"17.7","17.7","G2","RECUPERAR","O órgão conduz exercícios de resposta a incidentes regularmente?","Planejar e conduzir exercícios e cenários rotineiros de resposta a incidentes para a equipe envolvida na resposta a incidentes, de forma a manter a conscientização e tranquilidade no caso de resposta a ameaças reais. Os exercícios devem testar os canais de comunicação, tomada de decisão e recursos técnicos da equipe de resposta a incidentes, contemplando a utilização das ferramentas e dados disponíveis.","Selecione a Resposta"]
[null,17,"17.8","17.8","G2","RECUPERAR","O órgão realiza análises pós-incidente?","Realizar análises pós-incidente. As análises pós-incidente ajudam a prevenir a recorrência do incidente por meio da identificação de lições aprendidas e ações de acompanhamento.","Selecione a Resposta"]
[null,17,"17.9","17.9","G3","RECUPERAR","O órgão estabelece e mantém limites de incidentes de segurança?","Estabelecer e mantenha limites de incidentes de segurança, incluindo, no mínimo, a diferenciação entre um incidente e um evento. Os exemplos podem incluir: atividade anormal, vulnerabilidade de segurança, ameaça de segurança, violação de dados, incidente de privacidade etc. Realize a revisão desta medida de forma periódica ou quando ocorrerem mudanças significativas na organização que possam impactar esta medida de segurança.","Selecione a Resposta"]
[null,18,18,"CIS CONTROLE 18: TESTES DE INVASÃO",null,null,null,null,null,null,"Selecione sua Resposta"]
[null,18,"18.1","18.1","G2","IDENTIFICAR","O órgão elabora e mantém um programa de teste de invasão?","Estabelecer um programa para testes de invasão adequado ao tamanho, complexidade e maturidade da organização. O programa de teste de invasão deve levar em consideração o escopo do teste como rede, aplicação web, API, controles de instalações físicas e etc.","Selecione a Resposta",null,{"$f":"_xlfn.IFS(K176=LISTA_GERAL!$B$274,LISTA_GERAL!$C$274,K176=LISTA_GERAL!$B$275,LISTA_GERAL!$C$275,K176=LISTA_GERAL!$B$276,LISTA_GERAL!$C$276,K176=LISTA_GERAL!$B$277,LISTA_GERAL!$C$277,K176=LISTA_GERAL!$B$278,LISTA_GERAL!$C$278,K176=LISTA_GERAL!$B$279,LISTA_GERAL!$C$279,U174=LISTA_GERAL!$B$2,\"Campo de Resposta Não preenchido\",K176=\"Selecione sua Resposta\",\"Controle Não Foi Respondido\")","v":"Controle Não Foi Respondido"}]
[null,18,"18.2","18.2","G2","IDENTIFICAR","O órgão realiza testes de invasão externos periódicos?","Conduzir testes de invasão e externos regularmente. A teste de invasão externo deve ser reconhecido pela organização e deve ser capaz de detectar informações exploráveis que possam impactar a segurança da organização. Tal teste deve ser realizado por profissionais qualificados.","Selecione a Resposta"]
[null,18,"18.3","18.5","G3","IDENTIFICAR","O órgão realiza testes de invasão internos periódicos?","Realize testes de invasão internos periódicos com base nos requisitos do programa de testes de invasão.","Selecione a Resposta"]
[null,18,"18.4","18.3","G2","PROTEGER","O órgão corrige os resultados dos testes de invasão?","Corrigir as descobertas do teste de invasão com base na política da organização para o escopo e a priorização de correção de vulnerabilidades.","Selecione a Resposta"]
[null,18,"18.5","18.4","G3","PROTEGER","O órgão valida as medidas de segurança?","Validar as medidas de segurança após cada teste de invasão. Se necessário, modificar os conjuntos de regras e recursos para detectar as técnicas usadas durante o teste.","Selecione a Resposta"]
[]
[]
[]
[]
[]
[]
[]
[]
[]
[]
[null,null,{"$f":"_xlfn.XLOOKUP(FORM2.3!C122:C181,FORM2.3!G122:G181,)","v":{"$error":"#VALUE!"}}]
[null,null,{"$error":"#VALUE!"}]
[null,null,{"$error":"#VALUE!"}]
[null,null,{"$error":"#VALUE!"}]
[null,null,{"$error":"#VALUE!"}]
[null,null,{"$error":"#VALUE!"}]
[null,null,{"$error":"#VALUE!"}]
[null,null,{"$error":"#VALUE!"}]
[null,null,{"$error":"#VALUE!"}]
[null,null,{"$error":"#VALUE!"}]
[null,null,{"$error":"#VALUE!"}]
[null,null,{"$error":"#VALUE!"}]
[null,null,{"$error":"#VALUE!"}]
[null,null,{"$error":"#VALUE!"}]
[null,null,{"$error":"#VALUE!"}]
[null,null,{"$error":"#VALUE!"}]
[null,null,{"$error":"#VALUE!"}]
[null,null,{"$error":"#VALUE!"}]
[null,null,{"$error":"#VALUE!"}]
[null,null,{"$error":"#VALUE!"}]
[null,null,{"$error":"#VALUE!"}]
[null,null,{"$error":"#VALUE!"}]
[null,null,{"$error":"#VALUE!"}]
[null,null,{"$error":"#VALUE!"}]
[null,null,{"$error":"#VALUE!"}]
[null,null,{"$error":"#VALUE!"}]
[null,null,{"$error":"#VALUE!"}]
[null,null,{"$error":"#VALUE!"}]
[null,null,{"$error":"#VALUE!"}]
[null,null,{"$error":"#VALUE!"}]
[null,null,{"$error":"#VALUE!"}]
[null,null,{"$error":"#VALUE!"}]
[null,null,{"$error":"#VALUE!"}]
[null,null,{"$error":"#VALUE!"}]
[null,null,{"$error":"#VALUE!"}]
[null,null,{"$error":"#VALUE!"}]
[null,null,{"$error":"#VALUE!"}]
[null,null,{"$error":"#VALUE!"}]
[null,null,{"$error":"#VALUE!"}]
[null,null,{"$error":"#VALUE!"}]
[null,null,{"$error":"#VALUE!"}]
[null,null,{"$error":"#VALUE!"}]
[null,null,{"$error":"#VALUE!"}]
[null,null,{"$error":"#VALUE!"}]
[null,null,{"$error":"#VALUE!"}]
[null,null,{"$error":"#VALUE!"}]
[null,null,{"$error":"#VALUE!"}]
[null,null,{"$error":"#VALUE!"}]
[null,null,{"$error":"#VALUE!"}]
[null,null,{"$error":"#VALUE!"}]
[null,null,{"$error":"#VALUE!"}]
[null,null,{"$error":"#VALUE!"}]
[null,null,{"$error":"#VALUE!"}]
[null,null,{"$error":"#VALUE!"}]
[null,null,{"$error":"#VALUE!"}]
[null,null,{"$error":"#VALUE!"}]
[null,null,{"$error":"#VALUE!"}]
[null,null,{"$error":"#VALUE!"}]
[null,null,{"$error":"#VALUE!"}]
[null,null,{"$error":"#VALUE!"}]

{"sheet":"FORM2.4","index":6,"n_rows":171,"n_cols":26,"rows_kept":171,"cut":false,"hidden":false,"merged":[[5,2,5,3],[112,8,112,12],[126,8,126,12],[139,8,139,12],[152,8,152,12],[62,8,62,12],[67,8,67,12],[83,8,83,12],[93,8,93,12],[106,8,106,12],[8,8,8,12],[7,7,7,12],[23,8,23,12],[38,8,38,12],[49,8,49,12]]}
[]
[]
[]
[]
[]
[null,{"$f":"FORM2.1!C11","v":"Selecione o nível de criticidade"},{"$f":"FORM2.1!B11","v":"Selecione a Opção"},null,"G4",{"$f":"IF(FORM2.1!E6 = \"Selecione a Resposta\", 1, 0)","v":1},{"$f":"IF(FORM2.1!B11 = \"Selecione a Opção\", 1, 0)","v":1},{"$f":"SUM(F6:G6)","v":2}]
[]
[null,"ID","GRUPO DE IMPLEMENTAÇÃO","FUNÇÃO NIST PF","MEDIDA","RESPOSTA ","Justificativa do porquê da resposta \"Não se aplica\"","NÍVEL DE CAPACIDADE DE TODO O CONTROLE "]
[null,19,"CONTROLE 19: INVENTÁRIO E MAPEAMENTO",null,null,null,null,"Selecione sua Resposta",{"$f":"_xlfn.IFS(H9=LISTA_GERAL!$B$274,LISTA_GERAL!$C$274,H9=LISTA_GERAL!$B$275,LISTA_GERAL!$C$275,H9=LISTA_GERAL!$B$276,LISTA_GERAL!$C$276,H9=LISTA_GERAL!$B$277,LISTA_GERAL!$C$277,H9=LISTA_GERAL!$B$278,LISTA_GERAL!$C$278,H9=LISTA_GERAL!$B$279,LISTA_GERAL!$C$279,Z11=LISTA_GERAL!$B$2,\"Campo de Resposta Não preenchido\",H9=\"Selecione sua Resposta\",\"Controle Não Foi Respondido\")","v":"Controle Não Foi Respondido"}]
[null,"19.1","G1","IDENTIFICAR-P","A organização documenta os sistemas, serviços e processos que tratam dados pessoais?","Selecione a Resposta"]
[null,"19.2","G1","IDENTIFICAR-P","O órgão mapeia os agentes de tratamento (controlador, co-controladores e operadores) responsáveis pelo processamento de dados pessoais?","Selecione a Resposta"]
[null,"19.3","G1","IDENTIFICAR-P","O órgão documenta as fases do tratamento em que o operador atua?","Selecione a Resposta"]
[null,"19.4","G1","IDENTIFICAR-P","O órgão mapeia os fluxos ou ações do tratamento de dados pessoais? ","Selecione a Resposta"]
[null,"19.5","G1","IDENTIFICAR-P","O órgão mapeia o escopo (abrangência ou área geográfica) dos tratamentos de dados pessoais?","Selecione a Resposta"]
[null,"19.6","G1","IDENTIFICAR-P","O órgão documenta a natureza (fonte) dos dados pessoais tratados?","Selecione a Resposta"]
[null,"19.7","G1","IDENTIFICAR-P","A organização registra as bases legais que fundamentam as atividades de tratamento de dados pessoais e dados pessoais sensíveis?","Selecione a Resposta"]
[null,"19.8","G1","IDENTIFICAR-P","O órgão inventaria as categorias dos dados pessoais e dados pessoais sensíveis objetos dos tratamentos realizados?","Selecione a Resposta"]
[null,"19.9","G1","IDENTIFICAR-P","O órgão registra o tempo de retenção de dados pessoais tratados conforme a finalidade de cada processamento?","Selecione a Resposta"]
[null,"19.10","G1","IDENTIFICAR-P","O órgão inventaria as categorias dos titulares de dados pessoais utilizados no tratamento?","Selecione a Resposta"]
[null,"19.11","G1","IDENTIFICAR-P","O órgão registra os compartilhamentos de dados pessoais realizados com operadores terceiros e outras instituições conforme Art. 26 e 27 da LGPD, incluindo quais dados pessoais foram divulgados, a quem e com que finalidade?","Selecione a Resposta"]
[null,"19.12","G1","IDENTIFICAR-P","O órgão mapeia os ambientes (ex: interno, nuvem, terceiros, etc) em que os dados pessoais objetos dos tratamentos são processados?","Selecione a Resposta"]
[null,"19.13","G1","IDENTIFICAR-P","O órgão registra as transferências internacionais de dados pessoais realizadas conforme o Capítulo V da LGPD, incluindo quais dados pessoais foram divulgados e a quem?","Selecione a Resposta"]
[null,"19.14","G1","IDENTIFICAR-P","O órgão mapeia os contratos estabelecidos/firmados com terceiros operadores responsáveis pelos tratamentos de dados pessoais?","Selecione a Resposta"]
[null,20,"CONTROLE 20: FINALIDADE E HIPÓTESES LEGAIS",null,null,null,null,"Selecione sua Resposta",{"$f":"_xlfn.IFS(H24=LISTA_GERAL!$B$274,LISTA_GERAL!$C$274,H24=LISTA_GERAL!$B$275,LISTA_GERAL!$C$275,H24=LISTA_GERAL!$B$276,LISTA_GERAL!$C$276,H24=LISTA_GERAL!$B$277,LISTA_GERAL!$C$277,H24=LISTA_GERAL!$B$278,LISTA_GERAL!$C$278,H24=LISTA_GERAL!$B$279,LISTA_GERAL!$C$279,Z26=LISTA_GERAL!$B$2,\"Campo de Resposta Não preenchido\",H24=\"Selecione sua Resposta\",\"Controle Não Foi Respondido\")","v":"Controle Não Foi Respondido"}]
[null,"20.1","G1","IDENTIFICAR-P","O órgão identifica as finalidades específicas antes da realização dos tratamentos de dados pessoais?","Selecione a Resposta"]
[null,"20.2","G1","IDENTIFICAR-P","O órgão identifica as hipóteses de tratamento antes da realização dos processamentos de dados pessoais?","Selecione a Resposta"]
[null,"20.3","G1","IDENTIFICAR-P","A organização identifica as bases legais que fundamentam as atividades de tratamento de dados pessoais e dados pessoais sensíveis antes da realização do tratamento?","Selecione a Resposta"]
[null,"20.4","G1","CONTROLAR-P","O órgão prioritariamente realiza tratamento de dados pessoais apenas para o atendimento de finalidade específica, na persecução do interesse público, com o objetivo de executar as competências legais ou cumprir as atribuições legais do serviço público?","Selecione a Resposta"]
[null,"20.5","G1","CONTROLAR-P","O órgão trata dados pessoais sensíveis para executar políticas públicas previstas apenas em leis e regulamentos?","Selecione a Resposta",null,null,null,null,null,null,null,null,null,null,null,null,null,null,null,null,null,null,null,"G4"]
[null,"20.6","G1","CONTROLAR-P","O órgão ao realizar tratamento de dados pessoais sensíveis baseado na hipótese de tutela da saúde, restringe o tratamento exclusivamente a profissionais de saúde, serviços de saúde ou autoridade sanitária?","Selecione a Resposta",null,null,null,null,null,null,null,null,null,null,null,null,null,null,null,null,null,null,null,"G4"]
[null,"20.7","G1","CONTROLAR-P","O órgão adota mecanismos para assegurar que a divulgação dos resultados ou de qualquer excerto do estudo ou da pesquisa, em nenhuma hipótese, revele dados pessoais?","Selecione a Resposta",null,null,null,null,null,null,null,null,null,null,null,null,null,null,null,null,null,null,null,"G4"]
[null,"20.8","G1","CONTROLAR-P","O órgão, ao realizar estudos em saúde pública, trata os dados pessoais exclusivamente dentro da instituição, mantidos em ambiente controlado e seguro, conforme práticas de segurança previstas em regulamento específico, e estritamente para a finalidade de realização de estudos e pesquisas?","Selecione a Resposta",null,null,null,null,null,null,null,null,null,null,null,null,null,null,null,null,null,null,null,"G4"]
[null,"20.9","G1","CONTROLAR-P","O órgão mantém processo contínuo de gerenciamento das hipóteses legais de tratamento, incluindo o desenvolvimento de capacidades para cumprimento de obrigações decorrentes da definição da hipótese legal de tratamento, tais como: gerenciamento do consentimento, elaboração de Avaliação de Legitimo Interesse, etc?","Selecione a Resposta"]
[null,"20.10","G1","CONTROLAR-P","O órgão, ao realizar compartilhamento de dados pessoais, adota medidas que assegurem a compatibilidade do propósito geral da finalidade original informada ao titular?","Selecione a Resposta"]
[null,"20.11","G1","CONTROLAR-P","O órgão ao coletar cookies identifica, no banner de segundo  nível, as hipóteses legais utilizadas, de acordo com cada finalidade/categoria de cookie, utilizando o consentimento como principal hipótese legal, exceção feita aos cookies estritamente necessários, que podem se basear no legítimo interesse ou, se for caso cumprimento de obrigações ou atribuições legais?","Selecione a Resposta",null,null,null,null,null,null,null,null,null,null,null,null,null,null,null,null,null,null,null,"G4"]
[null,"20.12","G1","CONTROLAR-P","O órgão ao coletar cookies permite, no banner de segundo  nível, a obtenção do consentimento específico de acordo com as categorias identificadas, observados o disposto na LGPD?","Selecione a Resposta",null,null,null,null,null,null,null,null,null,null,null,null,null,null,null,null,null,null,null,"G4"]
[null,"20.13","G1","CONTROLAR-P","O órgão mantém o fornecimento do serviço quando os titulares de dados pessoais se recusam a fornecer o consentimento para cookies não necessários?","Selecione a Resposta",null,null,null,null,null,null,null,null,null,null,null,null,null,null,null,null,null,null,null,"G4"]
[null,"20.14","G1","CONTROLAR-P","O tratamento de dados pessoais de crianças e adolescentes é realizado no seu melhor interesse com base em hipótese legal prevista pela LGPD e, no que couber, conforme preconizado pelo art. 14 da LGPD?","Selecione a Resposta",null,null,null,null,null,null,null,null,null,null,null,null,null,null,null,null,null,null,null,"G4"]
[null,21,"CONTROLE 21: GOVERNANÇA",null,null,null,null,"Selecione sua Resposta",{"$f":"_xlfn.IFS(H39=LISTA_GERAL!$B$274,LISTA_GERAL!$C$274,H39=LISTA_GERAL!$B$275,LISTA_GERAL!$C$275,H39=LISTA_GERAL!$B$276,LISTA_GERAL!$C$276,H39=LISTA_GERAL!$B$277,LISTA_GERAL!$C$277,H39=LISTA_GERAL!$B$278,LISTA_GERAL!$C$278,H39=LISTA_GERAL!$B$279,LISTA_GERAL!$C$279,Z41=LISTA_GERAL!$B$2,\"Campo de Resposta Não preenchido\",H39=\"Selecione sua Resposta\",\"Controle Não Foi Respondido\")","v":"Controle Não Foi Respondido"}]
[null,"21.1","G1","GOVERNAR-P","O órgão adota medidas para adequar seus processos e atividades relacionadas ao tratamento de dados pessoais às legislações/normativos de privacidade e proteção de dados vigentes?","Selecione a Resposta"]
[null,"21.2","G1","GOVERNAR-P","O órgão já elaborou e divulgou o seu Programa Institucional de Privacidade de Dados, conforme estabelecido no art.50 da LGPD?","Selecione a Resposta"]
[null,"21.3","G1","GOVERNAR-P","As funções e responsabilidades dos colaboradores envolvidos nos tratamentos de dados pessoais são claramente estabelecidas e comunicadas?","Selecione a Resposta"]
[null,"21.4","G1","GOVERNAR-P","O órgão disponibiliza para o encarregado os recursos necessários para implementação da LGPD e acesso direto à alta administração?","Selecione a Resposta"]
[null,"21.5","G2","GOVERNAR-P","O órgão determina as responsabilidades e respectivos papéis para o tratamento de dados pessoais com o(s) controlador(es) conjunto(s) envolvido(s)?","Selecione a Resposta",null,null,null,null,null,null,null,null,null,null,null,null,null,null,null,null,null,null,null,"G4"]
[null,"21.6","G1","GOVERNAR-P","O órgão divulga a seus colaboradores internos e externos as políticas e procedimentos operacionais relacionados à proteção de dados pessoais?","Selecione a Resposta"]
[null,"21.7","G1","GOVERNAR-P","Os requisitos legais, regulatórios e contratuais relativos à privacidade são compreendidos e direcionados por meio regras de boas práticas e de governança publicadas pela instituição?","Selecione a Resposta"]
[null,"21.8","G2","GOVERNAR-P","No âmbito das operações de tratamento de dados pessoais, existe uma tolerância ao risco organizacional definida, claramente expressa e informada às partes interessadas do órgão? ","Selecione a Resposta"]
[null,"21.9","G2","GOVERNAR-P","Foram definidos indicadores que serão utilizados para medir os resultados e desempenho do órgão na implementação do Programa Institucional de Privacidade de Dados?","Selecione a Resposta"]
[null,"21.10","G2","GOVERNAR-P","O órgão instituiu uma equipe que realiza o monitoramento das vulnerabilidades técnicas dos serviços que tratam dados pessoais?","Selecione a Resposta"]
[null,22,"CONTROLE 22: POLÍTICAS, PROCESSOS E PROCEDIMENTOS",null,null,null,null,"Selecione sua Resposta",{"$f":"_xlfn.IFS(H50=LISTA_GERAL!$B$274,LISTA_GERAL!$C$274,H50=LISTA_GERAL!$B$275,LISTA_GERAL!$C$275,H50=LISTA_GERAL!$B$276,LISTA_GERAL!$C$276,H50=LISTA_GERAL!$B$277,LISTA_GERAL!$C$277,H50=LISTA_GERAL!$B$278,LISTA_GERAL!$C$278,H50=LISTA_GERAL!$B$279,LISTA_GERAL!$C$279,Z52=LISTA_GERAL!$B$2,\"Campo de Resposta Não preenchido\",H50=\"Selecione sua Resposta\",\"Controle Não Foi Respondido\")","v":"Controle Não Foi Respondido"}]
[null,"22.1","G1","GOVERNAR-P","A organização revisou e adequou a Política de Segurança da Informação ou instrumento similar à LGPD?","Selecione a Resposta"]
[null,"22.2","G1","GOVERNAR-P","Há uma política vigente ou documento equivalente que dispõe sobre diretrizes de proteção de dados pessoais?","Selecione a Resposta"]
[null,"22.3","G2","GOVERNAR-P","As políticas, processos e procedimentos de gerenciamento de risco de privacidade do tratamento de dados pessoais são identificados, estabelecidos, avaliados, gerenciados e acordados pelas partes interessadas organizacionais, e seu progresso medido e comunicado?","Selecione a Resposta"]
[null,"22.4","G1","GOVERNAR-P","Os instrumentos convocatórios (editais licitatórios) estão adequados à LGPD?","Selecione a Resposta"]
[null,"22.5","G1","GOVERNAR-P","O órgão fornece um processo para monitorar as leis e políticas de privacidade com o objetivo de identificar alterações que afetem o programa de proteção de dados pessoais?","Selecione a Resposta"]
[null,"22.6","G1","CONTROLAR-P","A instituição estabelece um processo formal para a concessão de direitos de acesso privilegiado para o processamento de dados pessoais?","Selecione a Resposta"]
[null,"22.7","G1","CONTROLAR-P","O órgão estabelece procedimento ou metodologia para assegurar que os princípios da LGPD estão sendo respeitados desde a fase de concepção do produto ou do serviço até a sua execução (Privacy by Design)?","Selecione a Resposta"]
[null,"22.8","G1","CONTROLAR-P","A instituição implementa processos para que o tratamento dos dados pessoais seja preciso, completo, atualizado, adequado e relevante para a finalidade de uso?","Selecione a Resposta"]
[null,"22.9","G2","CONTROLAR-P","O órgão estabelece políticas, procedimentos e adota mecanismos documentados para o descarte de dados pessoais?","Selecione a Resposta"]
[null,"22.10","G1","CONTROLAR-P","A organização adequou seu Plano de Resposta a Incidentes (ou documento similar) à LGPD de forma a tratar violações relativas à privacidade dos titulares de dados pessoais?","Selecione a Resposta"]
[null,"22.11","G1","CONTROLAR-P","A organização estabeleceu procedimentos para comunicar à Autoridade Nacional de Proteção de Dados e ao titular a ocorrência de incidente de segurança que possa acarretar risco ou dano relevante aos titulares?","Selecione a Resposta"]
[null,"22.12","G2","CONTROLAR-P","O órgão revisa periodicamente as políticas, processos, planos e procedimentos de proteção de dados pessoais?","Selecione a Resposta"]
[null,23,"CONTROLE 23: CONSCIENTIZAÇÃO E TREINAMENTO",null,null,null,null,"Selecione sua Resposta",{"$f":"_xlfn.IFS(H63=LISTA_GERAL!$B$274,LISTA_GERAL!$C$274,H63=LISTA_GERAL!$B$275,LISTA_GERAL!$C$275,H63=LISTA_GERAL!$B$276,LISTA_GERAL!$C$276,H63=LISTA_GERAL!$B$277,LISTA_GERAL!$C$277,H63=LISTA_GERAL!$B$278,LISTA_GERAL!$C$278,H63=LISTA_GERAL!$B$279,LISTA_GERAL!$C$279,Z65=LISTA_GERAL!$B$2,\"Campo de Resposta Não preenchido\",H63=\"Selecione sua Resposta\",\"Controle Não Foi Respondido\")","v":"Controle Não Foi Respondido"}]
[null,"23.1","G1","GOVERNAR-P","O órgão implementa e mantêm uma estratégia abrangente de treinamento e conscientização a fim de garantir que a força de trabalho compreenda sobre suas responsabilidades e procedimentos de proteção de dados pessoais?","Selecione a Resposta"]
[null,"23.2","G1","GOVERNAR-P","O plano de desenvolvimento de pessoas do órgão contempla treinamento adequado sobre a temática de privacidade e de proteção de dados pessoais?","Selecione a Resposta"]
[null,"23.3","G1","GOVERNAR-P","As ações de treinamento e conscientização realizadas pela instituição visam a manter os colaboradores atualizados sobre os desenvolvimentos no ambiente regulatório, contratual e tecnológico que possam afetar a conformidade de privacidade da organização?","Selecione a Resposta"]
[null,"23.4","G1","GOVERNAR-P","O órgão executa regularmente (por exemplo, anual) ou conforme necessário (por exemplo, após um incidente) treinamento básico e direcionado de proteção de dados pessoais conforme as funções das pessoas envolvidas com o tratamento?","Selecione a Resposta"]
[null,24,"PRIVACIDADE CONTROLE 24: MINIMIZAÇÃO DE DADOS",null,null,null,null,"Selecione sua Resposta",{"$f":"_xlfn.IFS(H68=LISTA_GERAL!$B$274,LISTA_GERAL!$C$274,H68=LISTA_GERAL!$B$275,LISTA_GERAL!$C$275,H68=LISTA_GERAL!$B$276,LISTA_GERAL!$C$276,H68=LISTA_GERAL!$B$277,LISTA_GERAL!$C$277,H68=LISTA_GERAL!$B$278,LISTA_GERAL!$C$278,H68=LISTA_GERAL!$B$279,LISTA_GERAL!$C$279,Z70=LISTA_GERAL!$B$2,\"Campo de Resposta Não preenchido\",H68=\"Selecione sua Resposta\",\"Controle Não Foi Respondido\")","v":"Controle Não Foi Respondido"}]
[null,"24.1","G2","CONTROLAR-P","O órgão avalia e classifica os dados pessoais a serem coletados em obrigatórios e opcionais a fim de priorizar somente a coleta dos dados obrigatórios para a prestação do serviço?","Selecione a Resposta"]
[null,"24.2","G1","CONTROLAR-P","O órgão restringe ao máximo a coleta de dados de forma que seja suficiente para atender a finalidade específica do tratamento?","Selecione a Resposta"]
[null,"24.3","G1","CONTROLAR-P","O órgão, ao realizar o tratamento de dados pessoais, aplica o princípio da minimização de dados para restringir a quantidades de dados pessoais ao estritamente necessário para atendimento da finalidade específica?","Selecione a Resposta"]
[null,"24.4","G2","CONTROLAR-P","O órgão adota medidas para assegurar que as configurações de privacidade sejam aplicadas por padrão (Privacy by Default) nos serviços fornecidos?","Selecione a Resposta"]
[null,"24.5","G2","CONTROLAR-P","O órgão adota o princípio 'need-to-how', em que deve ser dado acesso apenas aos dados pessoais necessários para o desempenho das funções dos colaboradores?","Selecione a Resposta"]
[null,"24.6","G3","CONTROLAR-P","O órgão adota como padrão, sempre que possível, interações e transações que não envolvam a identificação dos titulares?","Selecione a Resposta"]
[null,"24.7","G3","CONTROLAR-P","O órgão adota mecanismos para limitar a vinculação dos dados pessoais coletados?","Selecione a Resposta"]
[null,"24.8","G3","CONTROLAR-P","As referências de atributos são substituídas por valores de atributos? Por exemplo, para o atributo \"aniversário\", um valor de atributo poderia ser \"1/12/1980\" e uma referência de atributo seria \"nascido em dezembro\".","Selecione a Resposta",null,null,null,null,null,null,null,null,null,null,null,null,null,null,null,null,null,null,null,"G4"]
[null,"24.9","G2","CONTROLAR-P","Os dados pessoais utilizados em ambiente de TDH (teste, desenvolvimento e homologação) passam por um processo de anonimização?","Selecione a Resposta"]
[null,"24.10","G3","CONTROLAR-P","O órgão realiza revisão periódica dos dados pessoais tratados para que continuem a ser o mínimo necessários para cumprir com a finalidade?","Selecione a Resposta"]
[null,"24.11","G2","CONTROLAR-P","O órgão determina e desidentifica os dados pessoais que necessitam ser anonimizados de acordo com o tratamento e exigências estabelecidas por leis aplicáveis?","Selecione a Resposta",null,null,null,null,null,null,null,null,null,null,null,null,null,null,null,null,null,null,null,"G4"]
[null,"24.12","G1","CONTROLAR-P","Ao fornecer a base de informações para órgãos de pesquisa ou para realização de estudos em saúde pública, os dados pessoais são, sempre que possível, anonimizados ou pseudoanonimizados?","Selecione a Resposta"]
[null,"24.13","G1","CONTROLAR-P","O órgão ao coletar cookies disponibiliza botão de fácil visualização, no banner de primeiro e de segundo nível, que permita rejeitar todos os cookies não-necessários?","Selecione a Resposta",null,null,null,null,null,null,null,null,null,null,null,null,null,null,null,null,null,null,null,"G4"]
[null,"24.14","G1","CONTROLAR-P","O órgão ao coletar cookies desativa, no banner de primeiro nível, cookies baseados no consentimento por padrão (opt-in)?","Selecione a Resposta",null,null,null,null,null,null,null,null,null,null,null,null,null,null,null,null,null,null,null,"G4"]
[null,"24.15","G1","CONTROLAR-P","O órgão ao coletar cookies classifica os cookies em categorias no banner de segundo nível?","Selecione a Resposta",null,null,null,null,null,null,null,null,null,null,null,null,null,null,null,null,null,null,null,"G4"]
[null,25,"CONTROLE 25: GESTÃO DO TRATAMENTO",null,null,null,null,"Selecione sua Resposta",{"$f":"_xlfn.IFS(H84=LISTA_GERAL!$B$274,LISTA_GERAL!$C$274,H84=LISTA_GERAL!$B$275,LISTA_GERAL!$C$275,H84=LISTA_GERAL!$B$276,LISTA_GERAL!$C$276,H84=LISTA_GERAL!$B$277,LISTA_GERAL!$C$277,H84=LISTA_GERAL!$B$278,LISTA_GERAL!$C$278,H84=LISTA_GERAL!$B$279,LISTA_GERAL!$C$279,Z86=LISTA_GERAL!$B$2,\"Campo de Resposta Não preenchido\",H84=\"Selecione sua Resposta\",\"Controle Não Foi Respondido\")","v":"Controle Não Foi Respondido"}]
[null,"25.1","G2","CONTROLAR-P","O órgão configura os sistemas para registrar a data em que os dados pessoais são coletados, criados, atualizados, excluídos ou arquivados?","Selecione a Resposta"]
[null,"25.2","G1","CONTROLAR-P","O órgão limita a quantidade de processamento sobre os dados pessoais sob sua custódia?","Selecione a Resposta"]
[null,"25.3","G3","CONTROLAR-P","O órgão define e documenta os objetivos da minimização do tratamento sobre os dados pessoais sob sua custódia?","Selecione a Resposta"]
[null,"25.4","G1","CONTROLAR-P","Os dados são mantidos em formato interoperável e estruturado para o uso compartilhado, com vistas à execução de políticas públicas, à prestação de serviços públicos, à descentralização da atividade pública e à disseminação e ao acesso das informações pelo público em geral?","Selecione a Resposta"]
[null,"25.5","G1","CONTROLAR-P","Há procedimentos para garantir que quando há o término do tratamento de dados do titular no órgão, este segue as hipóteses previstas no artigo 15 da LGPD?","Selecione a Resposta"]
[null,"25.6","G2","CONTROLAR-P","A instituição utiliza técnicas ou métodos apropriados para garantir exclusão ou destruição segura de dados pessoais (incluindo originais, cópias e registros arquivados), de modo a impedir sua recuperação?","Selecione a Resposta"]
[null,"25.7","G1","CONTROLAR-P","A organização avalia se os dados pessoais são retidos (armazenados) durante o tempo estritamente necessário para cumprir com as finalidades de tratamento de dados pessoais que foram identificadas?","Selecione a Resposta"]
[null,"25.8","G3","CONTROLAR-P","O órgão implementa no serviço a detecção da expiração do período de retenção e aviso automático de que deve ser avaliada a possibilidade de exclusão dos dados pessoais após o cumprimento das finalidades?","Selecione a Resposta"]
[null,"25.9","G3","CONTROLAR-P","O órgão bloqueia e adota medidas de proteção para isentar de processamento adicional os dados pessoais quando os propósitos informados ao titular são atingidos, mas a retenção for exigida pelas leis aplicáveis?","Selecione a Resposta"]
[null,26,"CONTROLE 26: ACESSO E QUALIDADE",null,null,null,null,"Selecione sua Resposta",{"$f":"_xlfn.IFS(H94=LISTA_GERAL!$B$274,LISTA_GERAL!$C$274,H94=LISTA_GERAL!$B$275,LISTA_GERAL!$C$275,H94=LISTA_GERAL!$B$276,LISTA_GERAL!$C$276,H94=LISTA_GERAL!$B$277,LISTA_GERAL!$C$277,H94=LISTA_GERAL!$B$278,LISTA_GERAL!$C$278,H94=LISTA_GERAL!$B$279,LISTA_GERAL!$C$279,Z96=LISTA_GERAL!$B$2,\"Campo de Resposta Não preenchido\",H94=\"Selecione sua Resposta\",\"Controle Não Foi Respondido\")","v":"Controle Não Foi Respondido"}]
[null,"26.1","G1","CONTROLAR-P","Há um canal de comunicação ativo, seguro e autenticado com um ponto de contato para receber e responder a reclamações e requisições do titular sobre o tratamento de dados pessoais?","Selecione a Resposta"]
[null,"26.2","G2","CONTROLAR-P","O órgão adota meios para verificar a validade e exatidão das solicitações de correção realizadas por parte do titular de dados pessoais?","Selecione a Resposta"]
[null,"26.3","G1","CONTROLAR-P","O órgão fornece meios para que o titulares de dados pessoais possam solicitar as correções dos dados pessoais ou contestar a exatidão e integridade dos dados pessoais com direito a confirmação de recebimento da solicitação?","Selecione a Resposta"]
[null,"26.4","G2","CONTROLAR-P","O órgão fornece, na medida do possível, as respostas ao titular de dados pessoais de forma equivalente àquela em que a solicitação foi realizada?","Selecione a Resposta"]
[null,"26.5","G1","CONTROLAR-P","O órgão adota mecanismos de rastreamento para garantir que todas as petições e reclamações recebidas dos titulares de dados pessoais sejam analisadas e tratadas adequadamente em tempo hábil?","Selecione a Resposta"]
[null,"26.6","G2","CONTROLAR-P","São utilizados padrões técnicos, principalmente os definidos pela ANPD, que facilitem o controle pelos titulares dos seus dados pessoais?","Selecione a Resposta"]
[null,"26.7","G2","CONTROLAR-P","O órgão implementa meios práticos para permitir que os titulares gerenciem os seus dados pessoais, de forma simples, rápida e eficiente, e que não acarrete atrasos indevidos ou custo ao titular?","Selecione a Resposta"]
[null,"26.8","G3","CONTROLAR-P","O órgão confirma, na medida do possível, a exatidão, relevância e integridade dos dados pessoais na coleta?","Selecione a Resposta"]
[null,"26.9","G1","CONTROLAR-P","A instituição implementa medidas que visam a garantir e maximizar a exatidão, qualidade e completude dos dados pessoais coletados? ","Selecione a Resposta"]
[null,"26.10","G2","CONTROLAR-P","O órgão revisa periodicamente e corrige conforme necessário os dados pessoais imprecisos ou desatualizados?","Selecione a Resposta"]
[null,"26.11","G2","COMUNICAR-P","O órgão fornece informações ao titular de dados pessoais sobre o andamento de suas solicitações?","Selecione a Resposta"]
[null,"26.12","G1","COMUNICAR-P","O órgão comunica qualquer alteração, correção ou remoção dos dados pessoais para operadores e terceiros com quem os dados pessoais foram compartilhados?","Selecione a Resposta"]
[null,27,"CONTROLE 27: COMPARTILHAMENTO, TRANSFERÊNCIA E DIVULGAÇÃO",null,null,null,null,"Selecione sua Resposta",{"$f":"_xlfn.IFS(H107=LISTA_GERAL!$B$274,LISTA_GERAL!$C$274,H107=LISTA_GERAL!$B$275,LISTA_GERAL!$C$275,H107=LISTA_GERAL!$B$276,LISTA_GERAL!$C$276,H107=LISTA_GERAL!$B$277,LISTA_GERAL!$C$277,H107=LISTA_GERAL!$B$278,LISTA_GERAL!$C$278,H107=LISTA_GERAL!$B$279,LISTA_GERAL!$C$279,Z109=LISTA_GERAL!$B$2,\"Campo de Resposta Não preenchido\",H107=\"Selecione sua Resposta\",\"Controle Não Foi Respondido\")","v":"Controle Não Foi Respondido"}]
[null,"27.1","G1","IDENTIFICAR-P","O órgão identifica os compartilhamentos de dados pessoais realizados com operadores terceiros e outras instituições conforme Art. 26 e 27 da LGPD, incluindo quais dados pessoais foram divulgados, a quem, a que horas e com que finalidade?","Selecione a Resposta"]
[null,"27.2","G1","IDENTIFICAR-P","O órgão identifica as transferências internacionais de dados pessoais realizadas conforme o Capítulo V da LGPD, incluindo quais dados pessoais foram divulgados, a quem, a que horas e com que finalidade?","Selecione a Resposta",null,null,null,null,null,null,null,null,null,null,null,null,null,null,null,null,null,null,null,"G4"]
[null,"27.3","G1","CONTROLAR-P","O órgão, ao compartilhar dados pessoais, adota um processo de formalização e registro, identificando objeto e finalidade, base legal e duração do tratamento?","Selecione a Resposta"]
[null,"27.4","G2","CONTROLAR-P","O órgão solicita descrição formal das medidas de proteção de dados pessoais adotadas pelas entidades com quem compartilha dados pessoais?","Selecione a Resposta"]
[null,"27.5","G1","CONTROLAR-P","O órgão observa o disposto pelo art. 33-36 da LGPD para a realização de transferência internacional de dados pessoais?","Selecione a Resposta",null,null,null,null,null,null,null,null,null,null,null,null,null,null,null,null,null,null,null,"G4"]
[null,28,"CONTROLE 28: SUPERVISÃO EM TERCEIROS",null,null,null,null,"Selecione sua Resposta",{"$f":"_xlfn.IFS(H113=LISTA_GERAL!$B$274,LISTA_GERAL!$C$274,H113=LISTA_GERAL!$B$275,LISTA_GERAL!$C$275,H113=LISTA_GERAL!$B$276,LISTA_GERAL!$C$276,H113=LISTA_GERAL!$B$277,LISTA_GERAL!$C$277,H113=LISTA_GERAL!$B$278,LISTA_GERAL!$C$278,H113=LISTA_GERAL!$B$279,LISTA_GERAL!$C$279,Z115=LISTA_GERAL!$B$2,\"Campo de Resposta Não preenchido\",H113=\"Selecione sua Resposta\",\"Controle Não Foi Respondido\")","v":"Controle Não Foi Respondido"}]
[null,"28.1","G1","CONTROLAR-P","O órgão estabelece as funções e responsabilidades do operador envolvido no tratamento de dados pessoais, principalmente a notificação em caso de violação de dados pessoais?","Selecione a Resposta"]
[null,"28.2","G1","CONTROLAR-P","São estabelecidos acordos de confidencialidade, termos de responsabilidade ou termos de sigilo com operadores de dados pessoais controlados pelos órgãos?","Selecione a Resposta"]
[null,"28.3","G1","CONTROLAR-P","O órgão estabelece no contrato que o operador não processe os dados pessoais para finalidades que divergem da finalidade principal informada pelo controlador?","Selecione a Resposta"]
[null,"28.4","G1","CONTROLAR-P","O órgão determina por contrato o assunto e o prazo do serviço a ser prestado, a extensão, a forma e a finalidade do tratamento de dados pessoais pelo operador, bem como os tipos de dados pessoais processados?","Selecione a Resposta"]
[null,"28.5","G2","CONTROLAR-P","O órgão documenta no contrato de nível de serviço os requisitos de proteção de dados pessoais que os operadores de dados pessoais devem atender?","Selecione a Resposta"]
[null,"28.6","G3","CONTROLAR-P","O órgão adota meios para garantir que os sistemas do operador de dados pessoais tenham mecanismos de proteção de dados implementados?","Selecione a Resposta"]
[null,"28.7","G2","CONTROLAR-P","O órgão instrui ao operador que implemente meios práticos para permitir que os titulares exerçam seu direito de gerenciamento dos dados pessoais?","Selecione a Resposta"]
[null,"28.8","G1","CONTROLAR-P","O órgão exige do operador o cumprimento de todas as cláusulas estipuladas em contrato sobre divulgação de dados pessoais, a menos que proibido por lei?","Selecione a Resposta"]
[null,"28.9","G1","CONTROLAR-P","O órgão exige que o operador o informe sobre assuntos envolvendo o tratamento de dados pessoais para que o controlador esteja em conformidade com suas obrigações, principalmente em casos de solicitações juridicamente vinculativas para divulgação de dados pessoais, violação de dados pessoais, sobre alterações relevantes ao serviço?","Selecione a Resposta"]
[null,"28.10","G3","CONTROLAR-P","O órgão especifica as condições sob as quais o operador deve devolver ou descartar com segurança os dados pessoais após a conclusão do serviço, rescisão de qualquer contrato ou de outra forma mediante solicitação do controlador?","Selecione a Resposta"]
[null,"28.11","G2","CONTROLAR-P","O órgão especifica no contrato entre controlador e operador sobre o uso de subcontratados para processar dados pessoais?","Selecione a Resposta"]
[null,"28.12","G2","CONTROLAR-P","O órgão monitora e inspeciona a implementação dos requisitos estabelecidos nas cláusulas contratuais pelos operadores?","Selecione a Resposta"]
[null,"28.13","G1","CONTROLAR-P","O órgão realizou revisão das cláusulas contratuais em vigência com os operadores terceiros para adequá-los à LGPD?","Selecione a Resposta"]
[null,29,"CONTROLE 29: ABERTURA, TRANSPARÊNCIA E NOTIFICAÇÃO",null,null,null,null,"Selecione sua Resposta",{"$f":"_xlfn.IFS(H127=LISTA_GERAL!$B$274,LISTA_GERAL!$C$274,H127=LISTA_GERAL!$B$275,LISTA_GERAL!$C$275,H127=LISTA_GERAL!$B$276,LISTA_GERAL!$C$276,H127=LISTA_GERAL!$B$277,LISTA_GERAL!$C$277,H127=LISTA_GERAL!$B$278,LISTA_GERAL!$C$278,H127=LISTA_GERAL!$B$279,LISTA_GERAL!$C$279,Z129=LISTA_GERAL!$B$2,\"Campo de Resposta Não preenchido\",H127=\"Selecione sua Resposta\",\"Controle Não Foi Respondido\")","v":"Controle Não Foi Respondido"}]
[null,"29.1","G1","CONTROLAR-P","O órgão adota meios para apresentar as informações de tratamento de dados pessoais de forma clara para que possam ser compreendidas por uma pessoa que não esteja familiarizada com as tecnologias da informação, internet ou jargões jurídicos?","Selecione a Resposta"]
[null,"29.2","G2","CONTROLAR-P","O órgão adota meios para disponibilizar a política de privacidade em local de fácil acesso, antes ou no momento do tratamento de dados pessoais, sem a necessidade de o titular ter que solicitá-lo especificamente?","Selecione a Resposta"]
[null,"29.3","G1","CONTROLAR-P","O órgão adota algum mecanismo, sempre que possível, para comprovar que o titular de dados pessoais obteve acesso à política de privacidade fornecida?","Selecione a Resposta"]
[null,"29.4","G1","CONTROLAR-P","O órgão revisa a política de privacidade, cookies e outras aplicáveis ao tratamento de dados pessoais, antes ou assim que possível, para refletir mudanças realizadas no tratamento?","Selecione a Resposta"]
[null,"29.5","G1","COMUNICAR-P","O órgão destaca na Política de Privacidade informações sobre os dados pessoais que a organização coleta e a(s) finalidade(s) do tratamento para a qual a coleta é realizada, hipóteses e bases legais?","Selecione a Resposta"]
[null,"29.6","G1","COMUNICAR-P","A identidade e as informações de contato do encarregado estão divulgadas publicamente, de forma clara e objetiva, preferencialmente no sítio eletrônico do controlador?","Selecione a Resposta"]
[null,"29.7","G1","COMUNICAR-P","O órgão fornece informações aos titulares sobre como é realizado o tratamento de dados pessoais, tais como o período de retenção dos dados pessoais coletados, entre outras ações de tratamento?","Selecione a Resposta"]
[null,"29.8","G1","COMUNICAR-P","Os titulares de dados são informados quando há alterações na forma de tratamento dos dados pessoais?","Selecione a Resposta"]
[null,"29.9","G2","COMUNICAR-P","O órgão fornece orientações ao titular sobre a forma e meios utilizados de gerenciamento aos dados pessoais?","Selecione a Resposta"]
[null,"29.10","G1","COMUNICAR-P","O órgão informa se a organização compartilha dados pessoais com entidades externas, os dados pessoais compartilhados e a finalidade para tal compartilhamento?","Selecione a Resposta"]
[null,"29.11","G2","COMUNICAR-P","O órgão fornece informações sobre a proteção e descarte seguro dos dados pessoais coletados?","Selecione a Resposta"]
[null,"29.12","G1","COMUNICAR-P","O órgão fornece, quando solicitado por instituição competente, informações relativas a violações de privacidade dos titulares, juntamente com quaisquer ações associadas que o solicitante possa tomar para mitigar os riscos adicionais decorrentes da violação?","Selecione a Resposta"]
[null,30,"CONTROLE 30: AVALIAÇÃO DE IMPACTO, MONITORAMENTO E AUDITORIA",null,null,null,null,"Selecione sua Resposta",{"$f":"_xlfn.IFS(H140=LISTA_GERAL!$B$274,LISTA_GERAL!$C$274,H140=LISTA_GERAL!$B$275,LISTA_GERAL!$C$275,H140=LISTA_GERAL!$B$276,LISTA_GERAL!$C$276,H140=LISTA_GERAL!$B$277,LISTA_GERAL!$C$277,H140=LISTA_GERAL!$B$278,LISTA_GERAL!$C$278,H140=LISTA_GERAL!$B$279,LISTA_GERAL!$C$279,Z142=LISTA_GERAL!$B$2,\"Campo de Resposta Não preenchido\",H140=\"Selecione sua Resposta\",\"Controle Não Foi Respondido\")","v":"Controle Não Foi Respondido"}]
[null,"30.1","G1","GOVERNAR-P","O órgão observa o conteúdo mínimo a ser inserido no Relatório de Impacto à Proteção de Dados Pessoais - RIPD conforme o disposto no Art. 38, parágrafo único da LGPD?","Selecione a Resposta"]
[null,"30.2","G1","GOVERNAR-P","O órgão estabelece processo para avaliar o impacto na privacidade ao fornecer serviços que tratam dados pessoais?","Selecione a Resposta"]
[null,"30.3","G1","GOVERNAR-P","A organização avalia os riscos dos processos de tratamento de dados pessoais que foram identificados?","Selecione a Resposta"]
[null,"30.4","G1","GOVERNAR-P","O órgão documenta os riscos de privacidade oriundos da avaliação de impacto à Proteção de Dados Pessoais?","Selecione a Resposta"]
[null,"30.5","G1","GOVERNAR-P","O órgão documenta as medidas de proteção de dados pessoais adotadas para mitigação do impacto à Proteção de Dados Pessoais?","Selecione a Resposta"]
[null,"30.6","G1","GOVERNAR-P","O órgão realiza e documenta os resultados de uma avaliação de impacto à Proteção de Dados Pessoais?","Selecione a Resposta"]
[null,"30.7","G3","GOVERNAR-P","O órgão desenvolve, divulga (no que couber) e atualiza relatórios (por exemplo, relatórios sobre violações, investigações, auditorias), a fim de demonstrar responsabilidade e conformidade com leis e regulamentos de proteção de dados pessoais?","Selecione a Resposta"]
[null,"30.8","G2","CONTROLAR-P","O órgão monitora e audita regularmente as operações de tratamento de dados pessoais, especialmente aquelas envolvendo dados pessoais sensíveis, para garantir que estejam em conformidade com as leis, regulamentos e termos contratuais aplicáveis?","Selecione a Resposta",null,null,null,null,null,null,null,null,null,null,null,null,null,null,null,null,null,null,null,"G4"]
[null,"30.9","G3","CONTROLAR-P","Os controles de proteção de dados pessoais são monitorados e auditados periodicamente para garantir que as operações que envolvam dados pessoais estejam em conformidade com normas e regulamentos internos e externos, quando aplicável, a organização?","Selecione a Resposta"]
[null,"30.10","G3","CONTROLAR-P","O órgão implementa medidas apropriadas para monitorar e auditar periodicamente os controles de privacidade e a eficácia da política de privacidade interna (política de proteção de dados pessoais) da instituição?","Selecione a Resposta"]
[null,"30.11","G3","CONTROLAR-P","O órgão assegura que as auditorias sejam conduzidas por partes qualificadas e independentes (internas ou externas à organização)?","Selecione a Resposta"]
[null,"30.12","G3","CONTROLAR-P","O órgão produz um relatório anual detalhando as ações tomadas para conformidade e um resumo das ações pendentes?","Selecione a Resposta"]
[null,31,"CONTROLE 31: SEGURANÇA APLICADA A PRIVACIDADE",null,null,null,null,"Selecione sua Resposta",{"$f":"_xlfn.IFS(H153=LISTA_GERAL!$B$274,LISTA_GERAL!$C$274,H153=LISTA_GERAL!$B$275,LISTA_GERAL!$C$275,H153=LISTA_GERAL!$B$276,LISTA_GERAL!$C$276,H153=LISTA_GERAL!$B$277,LISTA_GERAL!$C$277,H153=LISTA_GERAL!$B$278,LISTA_GERAL!$C$278,H153=LISTA_GERAL!$B$279,LISTA_GERAL!$C$279,Z155=LISTA_GERAL!$B$2,\"Campo de Resposta Não preenchido\",H153=\"Selecione sua Resposta\",\"Controle Não Foi Respondido\")","v":"Controle Não Foi Respondido"}]
[null,"31.1","G1","PROTEGER-P","A organização adota medidas de segurança, técnicas e administrativas, testadas e avaliadas, aptas a proteger dados pessoais de acordo com os resultados de uma avaliação de riscos ou impacto de proteção de dados pessoais?","Selecione a Resposta"]
[null,"31.2","G2","PROTEGER-P","O órgão submete os controles de segurança e proteção de dados a revisão e reavaliação periódicas em um processo contínuo de gerenciamento de riscos de segurança?","Selecione a Resposta"]
[null,"31.3","G1","PROTEGER-P","A organização implementa processo para registro, cancelamento e provisionamento de usuários em sistemas que realizam tratamento de dados pessoais?","Selecione a Resposta"]
[null,"31.4","G1","PROTEGER-P","A instituição considera o princípio do privilégio mínimo na concessão de direitos de acesso para o processamento de dados pessoais?","Selecione a Resposta"]
[null,"31.5","G2","PROTEGER-P","Meios fortes de autenticação são providos para o processamento dos dados pessoais, em especial os dados sensíveis (dados de saúde e demais dados previstos pelo art.5º, II da LGPD)?","Selecione a Resposta",null,null,null,null,null,null,null,null,null,null,null,null,null,null,null,null,null,null,null,"G4"]
[null,"31.6","G1","PROTEGER-P","O acesso físico aos dados e dispositivos é gerenciado?","Selecione a Resposta"]
[null,"31.7","G2","PROTEGER-P","O compartilhamento ou transferência de dados pessoais é realizado por meio de um canal criptografado e de cifra recomendada pelos sítios especializados de segurança (Exemplo: https://www.ssllabs.com/ssltest/)?","Selecione a Resposta"]
[null,"31.8","G2","PROTEGER-P","Os dados pessoais armazenados/retidos possuem controles de integridade permitindo identificar se os dados foram alterados sem permissão?","Selecione a Resposta"]
[null,"31.9","G1","PROTEGER-P","O órgão adota mecanismos para restauração de dados pessoais?","Selecione a Resposta"]
[null,"31.10","G1","PROTEGER-P","O órgão restringe e controla a impressão de documentos que contenha dados pessoais encaminhados para as impressoras corporativas?","Selecione a Resposta"]
[null,"31.11","G1","PROTEGER-P","O órgão descarta materiais impressos de forma segura?","Selecione a Resposta"]
[null,"31.12","G2","PROTEGER-P","As medidas de mitigação de riscos resultantes do RIPD são consideradas no processo de desenvolvimento de sistemas?","Selecione a Resposta"]
[null,"31.13","G2","PROTEGER-P","A manutenção e reparação dos ativos organizacionais são realizadas e registradas, com ferramentas aprovadas e controladas?","Selecione a Resposta"]
[null,"31.14","G2","PROTEGER-P","A manutenção remota dos ativos organizacionais é aprovada, registrada e executada de forma a impedir o acesso não autorizado?","Selecione a Resposta"]
[null,"31.15","G3","PROTEGER-P","A organização ao realizar registros de eventos (logs), considerando o princípio de minimização de dados, grava o acesso ao dado pessoal, incluindo por quem, quando, qual titular de dados pessoais foi acessado e quais mudanças (se houver alguma) foram feitas (adições, modificações ou exclusões), como um resultado do evento?","Selecione a Resposta"]
[null,"31.16","G2","PROTEGER-P","A organização monitora proativamente a ocorrência de eventos que podem ser associados à violação de dados pessoais?","Selecione a Resposta"]
[null,"31.17","G1","PROTEGER-P","A organização possui sistema para o registro de incidentes de segurança da informação que envolvem violação de dados pessoais?","Selecione a Resposta"]
[null,"31.18","G1","PROTEGER-P","A organização comunica à Autoridade Nacional de Proteção de Dados sobre a ocorrência de incidente de segurança e proteção de dados pessoais?","Selecione a Resposta"]

{"sheet":"FORM3","index":7,"n_rows":6,"n_cols":2,"rows_kept":6,"cut":false,"hidden":false,"merged":[]}
[]
[]
[]
[]
[]
[null,"ANÁLISE "]

{"sheet":"FORM3.1","index":8,"n_rows":48,"n_cols":6,"rows_kept":48,"cut":false,"hidden":false,"merged":[[20,2,20,3],[21,2,21,3],[22,2,22,3],[23,2,23,3],[15,2,15,3],[16,2,16,3],[17,2,17,3],[18,2,18,3],[19,2,19,3],[11,2,11,4],[13,2,13,3],[8,2,8,3],[9,2,9,3],[14,2,14,3],[24,2,24,3],[25,2,25,3],[26,2,26,3],[27,2,27,3],[28,2,28,3],[33,2,33,4],[29,2,29,3],[30,2,30,3],[31,2,31,3],[35,2,35,3],[36,2,36,3],[37,2,37,3],[38,2,38,3],[39,2,39,3],[40,2,40,3],[46,2,46,3],[47,2,47,3],[41,2,41,3],[42,2,42,3],[43,2,43,3],[44,2,44,3],[45,2,45,3]]}
[]
[]
[]
[]
[]
[]
[]
[]
[null,"ID CONTROLE","NOME CONTROLE",null,"Indicador de Maturidade do Controle de Estruturação Básica","Nível de Maturidade"]
[null,0,"ESTRUTURAÇÃO BÁSICA DE GESTÃO EM SEGURANÇA DA INFORMAÇÃO E PRIVACIDADE",null,{"$f":"BASE_CIS8!F8","v":"Por favor preencher o INCC"},{"$f":"IFERROR(_xlfn.IFS(E10<0.3,'TABELAS AUXILIARES'!O8,E10<0.5,'TABELAS AUXILIARES'!O9,E10 < 0.7,'TABELAS AUXILIARES'!O10,E10 < 0.89,'TABELAS AUXILIARES'!O11,E10 <= 1,'TABELAS AUXILIARES'!O12),\"Por favor preencha todos os campos\")","v":"Por favor preencha todos os campos"}]
[]
[null,"ISEG",{"$f":"BASE_CIS8!E10","v":"Por favor preencha todos os campos"},null,null,{"$f":"BASE_CIS8!G10","v":"Por favor preencha todos os campos"}]
[]
[null,"ID CONTROLE","NOME CONTROLE",null,"Indicador de Maturidade do Controle de Segurança da Informação","Nível de Maturidade"]
[null,1,"CIS CONTROLE 1: INVENTÁRIO E CONTROLE DE ATIVOS INSTITUCIONAIS",null,{"$f":"BASE_CIS8!F12","v":"Por favor preencha todas as medidas"},{"$f":"_xlfn.IFNA(_xlfn.IFS(E15<0.3,'TABELAS AUXILIARES'!$O$8,E15 <0.5,'TABELAS AUXILIARES'!$O$9,E15 < 0.7,'TABELAS AUXILIARES'!$O$10,E15 < 0.89,'TABELAS AUXILIARES'!$O$11,E15 <= 1,'TABELAS AUXILIARES'!$O$12,E15=LISTA_GERAL!$A$2,\" \"),\"Preencha todas as medidas\")","v":"Preencha todas as medidas"}]
[null,2,"CIS CONTROLE 2: INVENTÁRIO E CONTROLE DE ATIVOS DE SOFTWARE",null,{"$f":"BASE_CIS8!F13","v":"Por favor preencha todas as medidas"},{"$f":"_xlfn.IFNA(_xlfn.IFS(E16<0.3,'TABELAS AUXILIARES'!$O$8,E16 <0.5,'TABELAS AUXILIARES'!$O$9,E16 < 0.7,'TABELAS AUXILIARES'!$O$10,E16 < 0.89,'TABELAS AUXILIARES'!$O$11,E16 <= 1,'TABELAS AUXILIARES'!$O$12,E16=LISTA_GERAL!$A$2,\" \"),\"Preencha todas as medidas\")","v":"Preencha todas as medidas"}]
[null,3,"CIS CONTROLE 3: PROTEÇÃO DE DADOS",null,{"$f":"BASE_CIS8!F14","v":"Por favor preencha todas as medidas"},{"$f":"_xlfn.IFNA(_xlfn.IFS(E17<0.3,'TABELAS AUXILIARES'!$O$8,E17 <0.5,'TABELAS AUXILIARES'!$O$9,E17 < 0.7,'TABELAS AUXILIARES'!$O$10,E17 < 0.89,'TABELAS AUXILIARES'!$O$11,E17 <= 1,'TABELAS AUXILIARES'!$O$12,E17=LISTA_GERAL!$A$2,\" \"),\"Preencha todas as medidas\")","v":"Preencha todas as medidas"}]
[null,4,"CIS CONTROLE 4: CONFIGURAÇÃO SEGURA DE ATIVOS INSTITUCIONAIS E SOFTWARE",null,{"$f":"BASE_CIS8!F15","v":"Por favor preencha todas as medidas"},{"$f":"_xlfn.IFNA(_xlfn.IFS(E18<0.3,'TABELAS AUXILIARES'!$O$8,E18 <0.5,'TABELAS AUXILIARES'!$O$9,E18 < 0.7,'TABELAS AUXILIARES'!$O$10,E18 < 0.89,'TABELAS AUXILIARES'!$O$11,E18 <= 1,'TABELAS AUXILIARES'!$O$12,E18=LISTA_GERAL!$A$2,\" \"),\"Preencha todas as medidas\")","v":"Preencha todas as medidas"}]
[null,5,"CIS CONTROLE 5: GESTÃO DE CONTAS",null,{"$f":"BASE_CIS8!F16","v":"Por favor preencha todas as medidas"},{"$f":"_xlfn.IFNA(_xlfn.IFS(E19<0.3,'TABELAS AUXILIARES'!$O$8,E19 <0.5,'TABELAS AUXILIARES'!$O$9,E19 < 0.7,'TABELAS AUXILIARES'!$O$10,E19 < 0.89,'TABELAS AUXILIARES'!$O$11,E19 <= 1,'TABELAS AUXILIARES'!$O$12,E19=LISTA_GERAL!$A$2,\" \"),\"Preencha todas as medidas\")","v":"Preencha todas as medidas"}]
[null,6,"CIS CONTROLE 6: GESTÃO DO CONTROLE DE ACESSO",null,{"$f":"BASE_CIS8!F17","v":"Por favor preencha todas as medidas"},{"$f":"_xlfn.IFNA(_xlfn.IFS(E20<0.3,'TABELAS AUXILIARES'!$O$8,E20 <0.5,'TABELAS AUXILIARES'!$O$9,E20 < 0.7,'TABELAS AUXILIARES'!$O$10,E20 < 0.89,'TABELAS AUXILIARES'!$O$11,E20 <= 1,'TABELAS AUXILIARES'!$O$12,E20=LISTA_GERAL!$A$2,\" \"),\"Preencha todas as medidas\")","v":"Preencha todas as medidas"}]
[null,7,"CIS CONTROLE 7: GESTÃO CONTÍNUA DE VULNERABILIDADES",null,{"$f":"BASE_CIS8!F18","v":"Por favor preencha todas as medidas"},{"$f":"_xlfn.IFNA(_xlfn.IFS(E21<0.3,'TABELAS AUXILIARES'!$O$8,E21 <0.5,'TABELAS AUXILIARES'!$O$9,E21 < 0.7,'TABELAS AUXILIARES'!$O$10,E21 < 0.89,'TABELAS AUXILIARES'!$O$11,E21 <= 1,'TABELAS AUXILIARES'!$O$12,E21=LISTA_GERAL!$A$2,\" \"),\"Preencha todas as medidas\")","v":"Preencha todas as medidas"}]
[null,8,"CIS CONTROLE 8: GESTÃO DE REGISTROS DE AUDITORIA",null,{"$f":"BASE_CIS8!F19","v":"Por favor preencha todas as medidas"},{"$f":"_xlfn.IFNA(_xlfn.IFS(E22<0.3,'TABELAS AUXILIARES'!$O$8,E22 <0.5,'TABELAS AUXILIARES'!$O$9,E22 < 0.7,'TABELAS AUXILIARES'!$O$10,E22 < 0.89,'TABELAS AUXILIARES'!$O$11,E22 <= 1,'TABELAS AUXILIARES'!$O$12,E22=LISTA_GERAL!$A$2,\" \"),\"Preencha todas as medidas\")","v":"Preencha todas as medidas"}]
[null,9,"CIS CONTROLE 9: PROTEÇÕES DE E-MAIL E NAVEGADOR WEB",null,{"$f":"BASE_CIS8!F20","v":"Por favor preencha todas as medidas"},{"$f":"_xlfn.IFNA(_xlfn.IFS(E23<0.3,'TABELAS AUXILIARES'!$O$8,E23 <0.5,'TABELAS AUXILIARES'!$O$9,E23 < 0.7,'TABELAS AUXILIARES'!$O$10,E23 < 0.89,'TABELAS AUXILIARES'!$O$11,E23 <= 1,'TABELAS AUXILIARES'!$O$12,E23=LISTA_GERAL!$A$2,\" \"),\"Preencha todas as medidas\")","v":"Preencha todas as medidas"}]
[null,10,"CIS CONTROLE 10: DEFESAS CONTRA MALWARE",null,{"$f":"BASE_CIS8!F21","v":"Por favor preencha todas as medidas"},{"$f":"_xlfn.IFNA(_xlfn.IFS(E24<0.3,'TABELAS AUXILIARES'!$O$8,E24 <0.5,'TABELAS AUXILIARES'!$O$9,E24 < 0.7,'TABELAS AUXILIARES'!$O$10,E24 < 0.89,'TABELAS AUXILIARES'!$O$11,E24 <= 1,'TABELAS AUXILIARES'!$O$12,E24=LISTA_GERAL!$A$2,\" \"),\"Preencha todas as medidas\")","v":"Preencha todas as medidas"}]
[null,11,"CIS CONTROLE 11: RECUPERAÇÃO DE DADOS",null,{"$f":"BASE_CIS8!F22","v":"Por favor preencha todas as medidas"},{"$f":"_xlfn.IFNA(_xlfn.IFS(E25<0.3,'TABELAS AUXILIARES'!$O$8,E25 <0.5,'TABELAS AUXILIARES'!$O$9,E25 < 0.7,'TABELAS AUXILIARES'!$O$10,E25 < 0.89,'TABELAS AUXILIARES'!$O$11,E25 <= 1,'TABELAS AUXILIARES'!$O$12,E25=LISTA_GERAL!$A$2,\" \"),\"Preencha todas as medidas\")","v":"Preencha todas as medidas"}]
[null,12,"CIS CONTROLE 12: GESTÃO DA INFRAESTRUTURA DE REDE",null,{"$f":"BASE_CIS8!F23","v":"Por favor preencha todas as medidas"},{"$f":"_xlfn.IFNA(_xlfn.IFS(E26<0.3,'TABELAS AUXILIARES'!$O$8,E26 <0.5,'TABELAS AUXILIARES'!$O$9,E26 < 0.7,'TABELAS AUXILIARES'!$O$10,E26 < 0.89,'TABELAS AUXILIARES'!$O$11,E26 <= 1,'TABELAS AUXILIARES'!$O$12,E26=LISTA_GERAL!$A$2,\" \"),\"Preencha todas as medidas\")","v":"Preencha todas as medidas"}]
[null,13,"CIS CONTROLE 13: MONITORAMENTO E DEFESA DA REDE",null,{"$f":"BASE_CIS8!F24","v":"Por favor preencha todas as medidas"},{"$f":"_xlfn.IFNA(_xlfn.IFS(E27<0.3,'TABELAS AUXILIARES'!$O$8,E27 <0.5,'TABELAS AUXILIARES'!$O$9,E27 < 0.7,'TABELAS AUXILIARES'!$O$10,E27 < 0.89,'TABELAS AUXILIARES'!$O$11,E27 <= 1,'TABELAS AUXILIARES'!$O$12,E27=LISTA_GERAL!$A$2,\" \"),\"Preencha todas as medidas\")","v":"Preencha todas as medidas"}]
[null,14,"CIS CONTROLE 14: CONSCIENTIZAÇÃO E TREINAMENTO DE COMPETÊNCIAS SOBRE SEGURANÇA",null,{"$f":"BASE_CIS8!F25","v":"Por favor preencha todas as medidas"},{"$f":"_xlfn.IFNA(_xlfn.IFS(E28<0.3,'TABELAS AUXILIARES'!$O$8,E28 <0.5,'TABELAS AUXILIARES'!$O$9,E28 < 0.7,'TABELAS AUXILIARES'!$O$10,E28 < 0.89,'TABELAS AUXILIARES'!$O$11,E28 <= 1,'TABELAS AUXILIARES'!$O$12,E28=LISTA_GERAL!$A$2,\" \"),\"Preencha todas as medidas\")","v":"Preencha todas as medidas"}]
[null,15,"CIS CONTROLE 15: GESTÃO DE PROVEDOR DE SERVIÇOS",null,{"$f":"BASE_CIS8!F26","v":"Por favor preencha todas as medidas"},{"$f":"_xlfn.IFNA(_xlfn.IFS(E29<0.3,'TABELAS AUXILIARES'!$O$8,E29 <0.5,'TABELAS AUXILIARES'!$O$9,E29 < 0.7,'TABELAS AUXILIARES'!$O$10,E29 < 0.89,'TABELAS AUXILIARES'!$O$11,E29 <= 1,'TABELAS AUXILIARES'!$O$12,E29=LISTA_GERAL!$A$2,\" \"),\"Preencha todas as medidas\")","v":"Preencha todas as medidas"}]
[null,16,"CIS CONTROLE 16: SEGURANÇA DE APLICAÇÕES",null,{"$f":"BASE_CIS8!F27","v":"Por favor preencha todas as medidas"},{"$f":"_xlfn.IFNA(_xlfn.IFS(E30<0.3,'TABELAS AUXILIARES'!$O$8,E30 <0.5,'TABELAS AUXILIARES'!$O$9,E30 < 0.7,'TABELAS AUXILIARES'!$O$10,E30 < 0.89,'TABELAS AUXILIARES'!$O$11,E30 <= 1,'TABELAS AUXILIARES'!$O$12,E30=LISTA_GERAL!$A$2,\" \"),\"Preencha todas as medidas\")","v":"Preencha todas as medidas"}]
[null,17,"CIS CONTROLE 17: GESTÃO DE RESPOSTA A INCIDENTES",null,{"$f":"BASE_CIS8!F28","v":"Por favor preencha todas as medidas"},{"$f":"_xlfn.IFNA(_xlfn.IFS(E31<0.3,'TABELAS AUXILIARES'!$O$8,E31 <0.5,'TABELAS AUXILIARES'!$O$9,E31 < 0.7,'TABELAS AUXILIARES'!$O$10,E31 < 0.89,'TABELAS AUXILIARES'!$O$11,E31 <= 1,'TABELAS AUXILIARES'!$O$12,E31=LISTA_GERAL!$A$2,\" \"),\"Preencha todas as medidas\")","v":"Preencha todas as medidas"}]
[null,18,"CIS CONTROLE 18: TESTES DE INVASÃO",null,{"$f":"BASE_CIS8!F29","v":"Por favor preencha todas as medidas"},{"$f":"_xlfn.IFNA(_xlfn.IFS(E32<0.3,'TABELAS AUXILIARES'!$O$8,E32 <0.5,'TABELAS AUXILIARES'!$O$9,E32 < 0.7,'TABELAS AUXILIARES'!$O$10,E32 < 0.89,'TABELAS AUXILIARES'!$O$11,E32 <= 1,'TABELAS AUXILIARES'!$O$12,E32=LISTA_GERAL!$A$2,\" \"),\"Preencha todas as medidas\")","v":"Preencha todas as medidas"}]
[]
[null,"IPRIV",{"$f":"BASE_CIS8!E34","v":"Por favor preencha todos os campos"},null,null,{"$f":"BASE_CIS8!G34","v":"Por favor preencha todos os campos"}]
[]
[null,19,"PRIVACIDADE CONTROLE 19: INVENTÁRIO E MAPEAMENTO",null,{"$f":"BASE_CIS8!F36","v":"Por favor preencha todas as medidas"},{"$f":"_xlfn.IFNA(_xlfn.IFS(E36<0.3,'TABELAS AUXILIARES'!$O$8,E36 <0.5,'TABELAS AUXILIARES'!$O$9,E36 < 0.7,'TABELAS AUXILIARES'!$O$10,E36 < 0.89,'TABELAS AUXILIARES'!$O$11,E36 <= 1,'TABELAS AUXILIARES'!$O$12,E36=LISTA_GERAL!$A$2,\" \"),\"Preencha todas as medidas\")","v":"Preencha todas as medidas"}]
[null,20,"PRIVACIDADE CONTROLE 20: FINALIDADE E LEGITIMIDADE",null,{"$f":"BASE_CIS8!F37","v":"Por favor preencha todas as medidas"},{"$f":"_xlfn.IFNA(_xlfn.IFS(E37<0.3,'TABELAS AUXILIARES'!$O$8,E37 <0.5,'TABELAS AUXILIARES'!$O$9,E37 < 0.7,'TABELAS AUXILIARES'!$O$10,E37 < 0.89,'TABELAS AUXILIARES'!$O$11,E37 <= 1,'TABELAS AUXILIARES'!$O$12,E37=LISTA_GERAL!$A$2,\" \"),\"Preencha todas as medidas\")","v":"Preencha todas as medidas"}]
[null,21,"PRIVACIDADE CONTROLE 21: GOVERNANÇA",null,{"$f":"BASE_CIS8!F38","v":"Por favor preencha todas as medidas"},{"$f":"_xlfn.IFNA(_xlfn.IFS(E38<0.3,'TABELAS AUXILIARES'!$O$8,E38 <0.5,'TABELAS AUXILIARES'!$O$9,E38 < 0.7,'TABELAS AUXILIARES'!$O$10,E38 < 0.89,'TABELAS AUXILIARES'!$O$11,E38 <= 1,'TABELAS AUXILIARES'!$O$12,E38=LISTA_GERAL!$A$2,\" \"),\"Preencha todas as medidas\")","v":"Preencha todas as medidas"}]
[null,22,"PRIVACIDADE CONTROLE 22: POLÍTICAS, PROCESSOS E PROCEDIMENTOS",null,{"$f":"BASE_CIS8!F39","v":"Por favor preencha todas as medidas"},{"$f":"_xlfn.IFNA(_xlfn.IFS(E39<0.3,'TABELAS AUXILIARES'!$O$8,E39 <0.5,'TABELAS AUXILIARES'!$O$9,E39 < 0.7,'TABELAS AUXILIARES'!$O$10,E39 < 0.89,'TABELAS AUXILIARES'!$O$11,E39 <= 1,'TABELAS AUXILIARES'!$O$12,E39=LISTA_GERAL!$A$2,\" \"),\"Preencha todas as medidas\")","v":"Preencha todas as medidas"}]
[null,23,"PRIVACIDADE CONTROLE 23: CONSCIENTIZAÇÃO E TREINAMENTO",null,{"$f":"BASE_CIS8!F40","v":"Por favor preencha todas as medidas"},{"$f":"_xlfn.IFNA(_xlfn.IFS(E40<0.3,'TABELAS AUXILIARES'!$O$8,E40 <0.5,'TABELAS AUXILIARES'!$O$9,E40 < 0.7,'TABELAS AUXILIARES'!$O$10,E40 < 0.89,'TABELAS AUXILIARES'!$O$11,E40 <= 1,'TABELAS AUXILIARES'!$O$12,E40=LISTA_GERAL!$A$2,\" \"),\"Preencha todas as medidas\")","v":"Preencha todas as medidas"}]
[null,24,"PRIVACIDADE CONTROLE 24: MINIMIZAÇÃO DE DADOS",null,{"$f":"BASE_CIS8!F41","v":"Por favor preencha todas as medidas"},{"$f":"_xlfn.IFNA(_xlfn.IFS(E41<0.3,'TABELAS AUXILIARES'!$O$8,E41 <0.5,'TABELAS AUXILIARES'!$O$9,E41 < 0.7,'TABELAS AUXILIARES'!$O$10,E41 < 0.89,'TABELAS AUXILIARES'!$O$11,E41 <= 1,'TABELAS AUXILIARES'!$O$12,E41=LISTA_GERAL!$A$2,\" \"),\"Preencha todas as medidas\")","v":"Preencha todas as medidas"}]
[null,25,"PRIVACIDADE CONTROLE 25: GESTÃO DO TRATAMENTO",null,{"$f":"BASE_CIS8!F42","v":"Por favor preencha todas as medidas"},{"$f":"_xlfn.IFNA(_xlfn.IFS(E42<0.3,'TABELAS AUXILIARES'!$O$8,E42 <0.5,'TABELAS AUXILIARES'!$O$9,E42 < 0.7,'TABELAS AUXILIARES'!$O$10,E42 < 0.89,'TABELAS AUXILIARES'!$O$11,E42 <= 1,'TABELAS AUXILIARES'!$O$12,E42=LISTA_GERAL!$A$2,\" \"),\"Preencha todas as medidas\")","v":"Preencha todas as medidas"}]
[null,26,"PRIVACIDADE CONTROLE 26: ACESSO E QUALIDADE",null,{"$f":"BASE_CIS8!F43","v":"Por favor preencha todas as medidas"},{"$f":"_xlfn.IFNA(_xlfn.IFS(E43<0.3,'TABELAS AUXILIARES'!$O$8,E43 <0.5,'TABELAS AUXILIARES'!$O$9,E43 < 0.7,'TABELAS AUXILIARES'!$O$10,E43 < 0.89,'TABELAS AUXILIARES'!$O$11,E43 <= 1,'TABELAS AUXILIARES'!$O$12,E43=LISTA_GERAL!$A$2,\" \"),\"Preencha todas as medidas\")","v":"Preencha todas as medidas"}]
[null,27,"PRIVACIDADE CONTROLE 27: COMPARTILHAMENTO, TRANSFERÊNCIA E DIVULGAÇÃO",null,{"$f":"BASE_CIS8!F44","v":"Por favor preencha todas as medidas"},{"$f":"_xlfn.IFNA(_xlfn.IFS(E44<0.3,'TABELAS AUXILIARES'!$O$8,E44 <0.5,'TABELAS AUXILIARES'!$O$9,E44 < 0.7,'TABELAS AUXILIARES'!$O$10,E44 < 0.89,'TABELAS AUXILIARES'!$O$11,E44 <= 1,'TABELAS AUXILIARES'!$O$12,E44=LISTA_GERAL!$A$2,\" \"),\"Preencha todas as medidas\")","v":"Preencha todas as medidas"}]
[null,28,"PRIVACIDADE CONTROLE 28: SUPERVISÃO EM TERCEIROS",null,{"$f":"BASE_CIS8!F45","v":"Por favor preencha todas as medidas"},{"$f":"_xlfn.IFNA(_xlfn.IFS(E45<0.3,'TABELAS AUXILIARES'!$O$8,E45 <0.5,'TABELAS AUXILIARES'!$O$9,E45 < 0.7,'TABELAS AUXILIARES'!$O$10,E45 < 0.89,'TABELAS AUXILIARES'!$O$11,E45 <= 1,'TABELAS AUXILIARES'!$O$12,E45=LISTA_GERAL!$A$2,\" \"),\"Preencha todas as medidas\")","v":"Preencha todas as medidas"}]
[null,29,"PRIVACIDADE CONTROLE 29: ABERTURA, TRANSPARÊNCIA E NOTIFICAÇÃO",null,{"$f":"BASE_CIS8!F46","v":"Por favor preencha todas as medidas"},{"$f":"_xlfn.IFNA(_xlfn.IFS(E46<0.3,'TABELAS AUXILIARES'!$O$8,E46 <0.5,'TABELAS AUXILIARES'!$O$9,E46 < 0.7,'TABELAS AUXILIARES'!$O$10,E46 < 0.89,'TABELAS AUXILIARES'!$O$11,E46 <= 1,'TABELAS AUXILIARES'!$O$12,E46=LISTA_GERAL!$A$2,\" \"),\"Preencha todas as medidas\")","v":"Preencha todas as medidas"}]
[null,30,"PRIVACIDADE CONTROLE 30: AVALIAÇÃO DE IMPACTO, MONITORAMENTO E AUDITORIA",null,{"$f":"BASE_CIS8!F47","v":"Por favor preencha todas as medidas"},{"$f":"_xlfn.IFNA(_xlfn.IFS(E47<0.3,'TABELAS AUXILIARES'!$O$8,E47 <0.5,'TABELAS AUXILIARES'!$O$9,E47 < 0.7,'TABELAS AUXILIARES'!$O$10,E47 < 0.89,'TABELAS AUXILIARES'!$O$11,E47 <= 1,'TABELAS AUXILIARES'!$O$12,E47=LISTA_GERAL!$A$2,\" \"),\"Preencha todas as medidas\")","v":"Preencha todas as medidas"}]
[null,31,"PRIVACIDADE CONTROLE 31: SEGURANÇA APLICADA A PRIVACIDADE",null,{"$f":"BASE_CIS8!F48","v":"Por favor preencha todas as medidas"},{"$f":"_xlfn.IFNA(_xlfn.IFS(E48<0.3,'TABELAS AUXILIARES'!$O$8,E48 <0.5,'TABELAS AUXILIARES'!$O$9,E48 < 0.7,'TABELAS AUXILIARES'!$O$10,E48 < 0.89,'TABELAS AUXILIARES'!$O$11,E48 <= 1,'TABELAS AUXILIARES'!$O$12,E48=LISTA_GERAL!$A$2,\" \"),\"Preencha todas as medidas\")","v":"Preencha todas as medidas"}]

{"sheet":"GRÁFICOS.LÓGICA","index":9,"n_rows":44,"n_cols":16,"rows_kept":44,"cut":false,"hidden":true,"merged":[[2,14,2,15]]}
[]
[]
[null,null,"QTD TT","CONTROLE","Qtd PRIORIDADE","Qtd CONCLUÍDO","Qtd CONCLUÍDO prioridade",null,"QTD TT","CONTROLE","Qtd PRIORIDADE","Qtd CONCLUÍDO","Qtd CONCLUÍDO prioridade",null,"ESTRUTURA BÁSICA"]
[null,null,{"$f":"COUNTA(LOGICA_ISEG!D7:D11)","v":5},"CIS CONTROLE 1: INVENTÁRIO E CONTROLE DE ATIVOS INSTITUCIONAIS",{"$f":"COUNTIF(LOGICA_ISEG!K7:K11, 1)","v":0},{"$f":"COUNTIF(LOGICA_ISEG!L7:L11, \"Concluído\")","v":0},{"$f":"COUNTIF(LOGICA_ISEG!M7:M11, 1)","v":0},null,{"$f":"COUNTA(LOGICA_IPRIV!D7:D20)","v":14},"PRIVACIDADE CONTROLE 19: INVENTÁRIO E MAPEAMENTO",{"$f":"COUNTIF(LOGICA_IPRIV!H7:H20, 1)","v":0},{"$f":"COUNTIF(LOGICA_IPRIV!L7:L20, \"Concluído\")","v":0},{"$f":"COUNTIF(LOGICA_IPRIV!J7:J20, 1)","v":0},null,"QTD TT","CONTROLE"]
[null,null,{"$f":"COUNTA(LOGICA_ISEG!D12:D18)","v":7},"CIS CONTROLE 2: INVENTÁRIO E CONTROLE DE ATIVOS DE SOFTWARE",{"$f":"COUNTIF(LOGICA_ISEG!K12:K18, 1)","v":0},{"$f":"COUNTIF(LOGICA_ISEG!L12:L18, 1)","v":0},{"$f":"COUNTIF(LOGICA_ISEG!M12:M18, 1)","v":0},null,{"$f":"COUNTA(LOGICA_IPRIV!D21:D29)","v":9},"PRIVACIDADE CONTROLE 20: FINALIDADE E LEGITIMIDADE",{"$f":"COUNTIF(LOGICA_IPRIV!H21:H34, 1)","v":0},{"$f":"COUNTIF(LOGICA_IPRIV!L21:L34, \"Concluído\")","v":0},{"$f":"COUNTIF(LOGICA_IPRIV!J21:J34, 1)","v":0},null,7,0]
[null,null,{"$f":"COUNTA(LOGICA_ISEG!D19:D32)","v":14},"CIS CONTROLE 3: PROTEÇÃO DE DADOS",{"$f":"COUNTIF(LOGICA_ISEG!K19:K32, 1)","v":0},{"$f":"COUNTIF(LOGICA_ISEG!L19:L32, 1)","v":0},{"$f":"COUNTIF(LOGICA_ISEG!M19:M32, 1)","v":0},null,{"$f":"COUNTA(LOGICA_IPRIV!B35:B44)","v":10},"PRIVACIDADE CONTROLE 21: GOVERNANÇA",{"$f":"COUNTIF(LOGICA_IPRIV!H35:H44, 1)","v":0},{"$f":"COUNTIF(LOGICA_IPRIV!L35:L44, \"Concluído\")","v":0},{"$f":"COUNTIF(LOGICA_IPRIV!J35:J44, 1)","v":0},null,"Qtd PRIORIDADE","Qtd CONCLUÍDO"]
[null,null,{"$f":"COUNTA(LOGICA_ISEG!D33:D44)","v":12},"CIS CONTROLE 4: CONFIGURAÇÃO SEGURA DE ATIVOS INSTITUCIONAIS E SOFTWARE",{"$f":"COUNTIF(LOGICA_ISEG!K33:K44, 1)","v":0},{"$f":"COUNTIF(LOGICA_ISEG!L33:L44, 1)","v":0},{"$f":"COUNTIF(LOGICA_ISEG!M33:M44, 1)","v":0},null,{"$f":"COUNTA(LOGICA_IPRIV!B45:B56)","v":12},"PRIVACIDADE CONTROLE 22: POLÍTICAS, PROCESSOS E PROCEDIMENTOS",{"$f":"COUNTIF(LOGICA_IPRIV!H45:H56, 1)","v":0},{"$f":"COUNTIF(LOGICA_IPRIV!L45:L56, \"Concluído\")","v":0},{"$f":"COUNTIF(LOGICA_IPRIV!J45:J56, 1)","v":0},null,{"$f":"COUNTIF(LOGICA_CONTROLE_0!H8:H14,1)","v":0},{"$f":"COUNTIF(LOGICA_CONTROLE_0!I8:I14, \"Concluído\")","v":0}]
[null,null,{"$f":"COUNTA(LOGICA_ISEG!D45:D50)","v":6},"CIS CONTROLE 5: GESTÃO DE CONTAS",{"$f":"COUNTIF(LOGICA_ISEG!K45:K50, 1)","v":0},{"$f":"COUNTIF(LOGICA_ISEG!L45:L50, 1)","v":0},{"$f":"COUNTIF(LOGICA_ISEG!M45:M50, 1)","v":0},null,{"$f":"COUNTA(LOGICA_IPRIV!B57:B60)","v":4},"PRIVACIDADE CONTROLE 23: CONSCIENTIZAÇÃO E TREINAMENTO",{"$f":"COUNTIF(LOGICA_IPRIV!H57:H60, 1)","v":0},{"$f":"COUNTIF(LOGICA_IPRIV!L57:L60, \"Concluído\")","v":0},{"$f":"COUNTIF(LOGICA_IPRIV!J57:J60, 1)","v":0}]
[null,null,{"$f":"COUNTA(LOGICA_ISEG!D51:D58)","v":8},"CIS CONTROLE 6: GESTÃO DO CONTROLE DE ACESSO",{"$f":"COUNTIF(LOGICA_ISEG!K51:K58, 1)","v":0},{"$f":"COUNTIF(LOGICA_ISEG!L51:L58, 1)","v":0},{"$f":"COUNTIF(LOGICA_ISEG!M51:M58, 1)","v":0},null,{"$f":"COUNTA(LOGICA_IPRIV!B61:B75)","v":15},"PRIVACIDADE CONTROLE 24: MINIMIZAÇÃO DE DADOS",{"$f":"COUNTIF(LOGICA_IPRIV!H61:H75, 1)","v":0},{"$f":"COUNTIF(LOGICA_IPRIV!L61:L75, \"Concluído\")","v":0},{"$f":"COUNTIF(LOGICA_IPRIV!J61:J75, 1)","v":0}]
[null,null,{"$f":"COUNTA(LOGICA_ISEG!D59:D65)","v":7},"CIS CONTROLE 7: GESTÃO CONTÍNUA DE VULNERABILIDADES",{"$f":"COUNTIF(LOGICA_ISEG!K59:K65, 1)","v":0},{"$f":"COUNTIF(LOGICA_ISEG!L59:L65, 1)","v":0},{"$f":"COUNTIF(LOGICA_ISEG!M59:M65, 1)","v":0},null,{"$f":"COUNTA(LOGICA_IPRIV!B76:B84)","v":9},"PRIVACIDADE CONTROLE 25: GESTÃO DO TRATAMENTO",{"$f":"COUNTIF(LOGICA_IPRIV!H76:H84, 1)","v":0},{"$f":"COUNTIF(LOGICA_IPRIV!L76:L84, \"Concluído\")","v":0},{"$f":"COUNTIF(LOGICA_IPRIV!J76:J84, 1)","v":0}]
[null,null,{"$f":"COUNTA(LOGICA_ISEG!D66:D77)","v":12},"CIS CONTROLE 8: GESTÃO DE REGISTROS DE AUDITORIA",{"$f":"COUNTIF(LOGICA_ISEG!K66:K77, 1)","v":0},{"$f":"COUNTIF(LOGICA_ISEG!L66:L77, 1)","v":0},{"$f":"COUNTIF(LOGICA_ISEG!M66:M77, 1)","v":0},null,{"$f":"COUNTA(LOGICA_IPRIV!B85:B93)","v":9},"PRIVACIDADE CONTROLE 26: ACESSO E QUALIDADE",{"$f":"COUNTIF(LOGICA_IPRIV!H85:H96, 1)","v":0},{"$f":"COUNTIF(LOGICA_IPRIV!L85:L96, \"Concluído\")","v":0},{"$f":"COUNTIF(LOGICA_IPRIV!J85:J96, 1)","v":0}]
[null,null,{"$f":"COUNTA(LOGICA_ISEG!D78:D84)","v":7},"CIS CONTROLE 9: PROTEÇÕES DE E-MAIL E NAVEGADOR WEB",{"$f":"COUNTIF(LOGICA_ISEG!K78:K84, 1)","v":0},{"$f":"COUNTIF(LOGICA_ISEG!L78:L84, \"Concluído\")","v":0},{"$f":"COUNTIF(LOGICA_ISEG!M78:M84, 1)","v":0},null,{"$f":"COUNTA(LOGICA_IPRIV!B97:B101)","v":5},"PRIVACIDADE CONTROLE 27: COMPARTILHAMENTO, TRANSFERÊNCIA E DIVULGAÇÃO",{"$f":"COUNTIF(LOGICA_IPRIV!H97:H101, 1)","v":0},{"$f":"COUNTIF(LOGICA_IPRIV!L97:L101, \"Concluído\")","v":0},{"$f":"COUNTIF(LOGICA_IPRIV!J97:J101, 1)","v":0}]
[null,null,{"$f":"COUNTA(LOGICA_ISEG!D85:D91)","v":7},"CIS CONTROLE 10: DEFESAS CONTRA MALWARE",{"$f":"COUNTIF(LOGICA_ISEG!K85:K91, 1)","v":0},{"$f":"COUNTIF(LOGICA_ISEG!L85:L91, 1)","v":0},{"$f":"COUNTIF(LOGICA_ISEG!M85:M91, 1)","v":0},null,{"$f":"COUNTA(LOGICA_IPRIV!B102:B112)","v":11},"PRIVACIDADE CONTROLE 28: SUPERVISÃO EM TERCEIROS",{"$f":"COUNTIF(LOGICA_IPRIV!H102:H114, 1)","v":0},{"$f":"COUNTIF(LOGICA_IPRIV!L102:L114, \"Concluído\")","v":0},{"$f":"COUNTIF(LOGICA_IPRIV!J102:J114, 1)","v":0}]
[null,null,{"$f":"COUNTA(LOGICA_ISEG!D92:D96)","v":5},"CIS CONTROLE 11: RECUPERAÇÃO DE DADOS",{"$f":"COUNTIF(LOGICA_ISEG!K92:K96, 1)","v":0},{"$f":"COUNTIF(LOGICA_ISEG!L92:L96, 1)","v":0},{"$f":"COUNTIF(LOGICA_ISEG!M92:M96, 1)","v":0},null,{"$f":"COUNTA(LOGICA_IPRIV!D115:D126)","v":12},"PRIVACIDADE CONTROLE 29: ABERTURA, TRANSPARÊNCIA E NOTIFICAÇÃO",{"$f":"COUNTIF(LOGICA_IPRIV!H115:H126, 1)","v":0},{"$f":"COUNTIF(LOGICA_IPRIV!L115:L126, \"Concluído\")","v":0},{"$f":"COUNTIF(LOGICA_IPRIV!J115:J126, 1)","v":0}]
[null,null,{"$f":"COUNTA(LOGICA_ISEG!D97:D104)","v":8},"CIS CONTROLE 12: GESTÃO DA INFRAESTRUTURA DE REDE",{"$f":"COUNTIF(LOGICA_ISEG!K97:K104, 1)","v":0},{"$f":"COUNTIF(LOGICA_ISEG!L97:L104, 1)","v":0},{"$f":"COUNTIF(LOGICA_ISEG!M97:M104, 1)","v":0},null,{"$f":"COUNTA(LOGICA_IPRIV!D127:D138)","v":12},"PRIVACIDADE CONTROLE 30: AVALIAÇÃO DE IMPACTO, MONITORAMENTO E AUDITORIA",{"$f":"COUNTIF(LOGICA_IPRIV!H127:H138, 1)","v":0},{"$f":"COUNTIF(LOGICA_IPRIV!L127:L138, \"Concluído\")","v":0},{"$f":"COUNTIF(LOGICA_IPRIV!J127:J138, 1)","v":0}]
[null,null,{"$f":"COUNTA(LOGICA_ISEG!D105:D115)","v":11},"CIS CONTROLE 13: MONITORAMENTO E DEFESA DA REDE",{"$f":"COUNTIF(LOGICA_ISEG!K105:K115, 1)","v":0},{"$f":"COUNTIF(LOGICA_ISEG!L105:L115, 1)","v":0},{"$f":"COUNTIF(LOGICA_ISEG!M105:M115, 1)","v":0},null,{"$f":"COUNTA(LOGICA_IPRIV!D139:D150)","v":12},"PRIVACIDADE CONTROLE 31: SEGURANÇA APLICADA A PRIVACIDADE",{"$f":"COUNTIF(LOGICA_IPRIV!H139:H152, 1)","v":0},{"$f":"COUNTIF(LOGICA_IPRIV!L139:L152, \"Concluído\")","v":0},{"$f":"COUNTIF(LOGICA_IPRIV!J139:J152, 1)","v":0}]
[null,null,{"$f":"COUNTA(LOGICA_ISEG!D116:D124)","v":9},"CIS CONTROLE 14: CONSCIENTIZAÇÃO E TREINAMENTO DE COMPETÊNCIAS SOBRE SEGURANÇA",{"$f":"COUNTIF(LOGICA_ISEG!K116:K124, 1)","v":0},{"$f":"COUNTIF(LOGICA_ISEG!L116:L124, 1)","v":0},{"$f":"COUNTIF(LOGICA_ISEG!M116:M124, 1)","v":0}]
[null,null,{"$f":"COUNTA(LOGICA_ISEG!D125:D131)","v":7},"CIS CONTROLE 15: GESTÃO DE PROVEDOR DE SERVIÇOS",{"$f":"COUNTIF(LOGICA_ISEG!K125:K131, 1)","v":0},{"$f":"COUNTIF(LOGICA_ISEG!L125:L131, 1)","v":0},{"$f":"COUNTIF(LOGICA_ISEG!M125:M131, 1)","v":0}]
[null,null,{"$f":"COUNTA(LOGICA_ISEG!D132:D145)","v":14},"CIS CONTROLE 16: SEGURANÇA DE APLICAÇÕES",{"$f":"COUNTIF(LOGICA_ISEG!K132:K145, 1)","v":0},{"$f":"COUNTIF(LOGICA_ISEG!L132:L145, 1)","v":0},{"$f":"COUNTIF(LOGICA_ISEG!M132:M145, 1)","v":0}]
[null,null,{"$f":"COUNTA(LOGICA_ISEG!D146:D154)","v":9},"CIS CONTROLE 17: GESTÃO DE RESPOSTA A INCIDENTES",{"$f":"COUNTIF(LOGICA_ISEG!K146:K154, 1)","v":0},{"$f":"COUNTIF(LOGICA_ISEG!L146:L154, 1)","v":0},{"$f":"COUNTIF(LOGICA_ISEG!M146:M154, 1)","v":0}]
[null,null,{"$f":"COUNTA(LOGICA_ISEG!D155:D159)","v":5},"CIS CONTROLE 18: TESTES DE INVASÃO",{"$f":"COUNTIF(LOGICA_ISEG!K155:K159, 1)","v":0},{"$f":"COUNTIF(LOGICA_ISEG!L155:L159, 1)","v":0},{"$f":"COUNTIF(LOGICA_ISEG!M155:M159, 1)","v":0}]
[]
[null,null,{"$f":"SUM(C4:C21)","v":153}]
[]
[]
[]
[]
[]
[]
[]
[]
[]
[]
[]
[]
[]
[]
[]
[]
["MEDIDAS","SEGURANÇA DA INFORMAÇÃO","PRIVACIDADE","ESTRUTURA BÁSICA","SI","PRIVACIDADE","CONTROLE 0"]
["IMPLEMENTADAS",{"$f":"E41/E44","v":0},{"$f":"F41/F44","v":0},0,{"$f":"FORM3.2!C11","v":0},{"$f":"FORM3.2!D11","v":0},{"$f":"FORM3.2!E11","v":0}]
["NÃO IMPLEMENTADAS",{"$f":"E42/E44","v":0},{"$f":"F42/F44","v":0},1,{"$f":"FORM3.2!C12","v":0},{"$f":"FORM3.2!D12","v":0},{"$f":"FORM3.2!E12","v":7}]
["NÃO SE APLICA",{"$f":"E43/E44","v":0},{"$f":"F43/F44","v":0},0,{"$f":"FORM3.2!C14","v":0},{"$f":"FORM3.2!D14","v":0},{"$f":"FORM3.2!E14","v":0}]
[null,null,null,null,{"$f":"FORM3.2!C16","v":153},{"$f":"FORM3.2!D16","v":150}]

{"sheet":"FORM3.2","index":10,"n_rows":523,"n_cols":5,"rows_kept":523,"cut":false,"hidden":false,"merged":[[426,2,426,3],[427,2,427,3],[428,2,428,3],[458,2,458,3],[459,2,459,3],[517,2,517,3],[518,2,518,3],[519,2,519,3],[520,2,520,3],[508,2,508,3],[509,2,509,3],[510,2,510,3],[511,2,511,3],[512,2,512,3],[513,2,513,3],[514,2,514,3],[515,2,515,3],[516,2,516,3],[504,2,504,3],[503,1,503,2],[503,3,503,4],[502,2,502,3],[448,2,448,3],[437,2,437,3],[8,1,9,1],[506,2,506,3],[507,2,507,3],[9,2,9,4],[352,2,352,3],[370,2,370,3],[380,2,380,3],[401,2,401,3],[416,2,416,3],[434,2,434,3],[446,2,446,3],[467,2,467,3],[485,2,485,3],[480,2,480,3],[453,2,453,3],[454,2,454,3],[455,2,455,3],[456,2,456,3],[457,2,457,3],[468,2,468,3],[469,2,469,3],[470,2,470,3],[471,2,471,3],[505,2,505,3],[521,2,521,3],[522,2,522,3],[418,2,418,3],[419,2,419,3],[420,2,420,3],[415,3,415,4],[491,2,491,3],[492,2,492,3],[493,2,493,3],[501,1,501,4],[494,2,494,3],[495,2,495,3],[496,2,496,3],[497,2,497,3],[478,2,478,3],[479,2,479,3],[483,2,483,3],[484,1,484,2],[484,3,484,4],[487,2,487,3],[488,2,488,3],[489,2,489,3],[490,2,490,3],[435,2,435,3],[381,2,381,3],[410,2,410,3],[417,2,417,3],[406,2,406,3],[407,2,407,3],[408,2,408,3],[409,2,409,3],[394,2,394,3],[395,2,395,3],[402,2,402,3],[403,2,403,3],[404,2,404,3],[384,2,384,3],[385,2,385,3],[399,2,399,3],[400,1,400,2],[400,3,400,4],[405,2,405,3],[324,2,324,3],[330,2,330,3],[337,2,337,3],[338,2,338,3],[339,2,339,3],[340,2,340,3],[341,2,341,3],[342,2,342,3],[343,2,343,3],[336,2,336,3],[334,2,334,3],[335,1,335,2],[335,3,335,4],[325,2,325,3],[326,2,326,3],[327,2,327,3],[328,2,328,3],[329,2,329,3],[321,2,321,3],[322,2,322,3],[323,2,323,3],[44,2,44,3],[95,2,95,3],[96,1,96,2],[96,3,96,4],[106,2,106,3],[165,2,165,3],[152,2,152,3],[153,1,153,2],[153,3,153,4],[122,1,122,2],[122,3,122,4],[134,2,134,3],[135,1,135,2],[135,3,135,4],[179,1,179,2],[179,3,179,4],[166,1,166,2],[166,3,166,4],[178,2,178,3],[78,1,78,2],[78,3,78,4],[32,2,32,3],[33,2,33,3],[19,1,19,4],[21,1,21,2],[21,3,21,4],[20,2,20,3],[58,1,58,2],[58,3,58,4],[77,2,77,3],[45,1,45,2],[45,3,45,4],[57,2,57,3],[107,2,107,3],[108,1,108,2],[108,3,108,4],[121,2,121,3],[94,2,94,3],[34,1,34,2],[34,3,34,4],[43,1,43,4],[56,1,56,4],[282,1,282,4],[220,2,220,3],[221,1,221,2],[221,3,221,4],[235,2,235,3],[203,2,203,3],[204,1,204,2],[204,3,204,4],[189,2,189,3],[190,1,190,2],[190,3,190,4],[268,2,268,3],[269,1,269,2],[269,3,269,4],[236,1,236,2],[236,3,236,4],[248,2,248,3],[249,1,249,2],[249,3,249,4],[267,1,267,4],[219,1,219,4],[234,1,234,4],[247,1,247,4],[373,2,373,3],[374,2,374,3],[375,2,375,3],[294,2,294,3],[298,2,298,3],[299,2,299,3],[300,2,300,3],[301,2,301,3],[293,1,293,4],[297,2,297,3],[296,2,296,3],[315,3,315,4],[302,2,302,3],[303,2,303,3],[304,2,304,3],[305,2,305,3],[306,2,306,3],[307,2,307,3],[308,2,308,3],[309,2,309,3],[310,2,310,3],[318,2,318,3],[319,2,319,3],[320,2,320,3],[284,3,284,4],[313,1,313,4],[333,1,333,4],[344,2,344,3],[345,2,345,3],[346,2,346,3],[382,2,382,3],[383,2,383,3],[350,2,350,3],[351,1,351,2],[351,3,351,4],[368,2,368,3],[353,2,353,3],[354,2,354,3],[355,2,355,3],[356,2,356,3],[357,2,357,3],[378,2,378,3],[379,1,379,2],[379,3,379,4],[363,2,363,3],[364,2,364,3],[371,2,371,3],[372,2,372,3],[425,2,425,3],[429,2,429,3],[436,2,436,3],[76,1,76,4],[120,1,120,4],[358,2,358,3],[359,2,359,3],[360,2,360,3],[361,2,361,3],[362,2,362,3],[295,1,295,2],[295,3,295,4],[314,2,314,3],[315,1,315,2],[133,1,133,4],[151,1,151,4],[164,1,164,4],[177,1,177,4],[188,1,188,4],[202,1,202,4],[316,2,316,3],[317,2,317,3],[283,2,283,3],[284,1,284,2],[452,2,452,3],[473,2,473,3],[474,2,474,3],[369,1,369,2],[369,3,369,4],[476,2,476,3],[477,2,477,3],[433,1,433,2],[433,3,433,4],[386,2,386,3],[387,2,387,3],[388,2,388,3],[389,2,389,3],[390,2,390,3],[391,2,391,3],[392,2,392,3],[393,2,393,3],[414,2,414,3],[415,1,415,2],[432,2,432,3],[421,2,421,3],[422,2,422,3],[423,2,423,3],[424,2,424,3],[475,2,475,3],[486,2,486,3],[464,1,464,4],[482,1,482,4],[439,2,439,3],[349,1,349,4],[367,1,367,4],[377,1,377,4],[398,1,398,4],[413,1,413,4],[431,1,431,4],[443,1,443,4],[449,2,449,3],[444,2,444,3],[445,1,445,2],[445,3,445,4],[447,2,447,3],[465,2,465,3],[438,2,438,3],[466,1,466,2],[466,3,466,4],[472,2,472,3],[450,2,450,3],[451,2,451,3]]}
[" "]
[]
[]
[]
[]
[null,"NÍVEL DE CRITICIDADE",{"$f":"FORM2.1!B11","v":"Selecione a Opção"}]
[null,"GRUPO DE IMPMENTAÇÃO",{"$f":"FORM2.1!C11","v":"Selecione o nível de criticidade"}]
[]
[null,"MEDIDAS","SEGURANÇA DA INFORMAÇÃO: 153","PRIVACIDADE : 150","CONTROLE 0 - TOTAL DE MEDIDAS: 7"]
[null,null,"QUANTIDADE DE MEDIDAS "]
[null,"IMPLEMENTADAS",{"$f":"COUNTIF(E37:E291,\"Implementada\")","v":0},{"$f":"COUNTIF(E298:E523,\"Implementada\")","v":0},{"$f":"COUNTIF(E24:E30,\"Implementada\")","v":0}]
[null,"NÃO IMPLEMENTADAS",{"$f":"COUNTIF(E37:E291,\"Não Implementada\")","v":0},{"$f":"COUNTIF(E298:E523,\"Não Implementada\")","v":0},{"$f":"COUNTIF(E24:E30,\"Não Implementada\")","v":7}]
[null,"NÃO ADOTADAS",{"$f":"COUNTIF(E37:E291,\"Não Adota\")","v":0},{"$f":"COUNTIF(E298:E523,\"Não Adota\")","v":0},{"$f":"COUNTIF(E24:E30,\"Não Adota\")","v":0}]
[null,"NÃO SE APLICA",{"$f":"COUNTIF(E37:E291,\"Não se aplica\")","v":0},{"$f":"COUNTIF(E298:E523,\"Não se aplica\")","v":0},{"$f":"COUNTIF(E24:E30,\"Não se aplica\")","v":0}]
[null,"NÃO RESPONDIDAS",{"$f":"COUNTIF(E37:E291,\"Resposta Não Preenchida\")","v":153},{"$f":"COUNTIF(E298:E523,\"Resposta Não Preenchida\")","v":150},{"$f":"COUNTIF(E25:E30,\"Resposta Não Preenchida\")","v":0}]
[null,"TOTAL GERAL: 310",{"$f":"SUM(C11:C15)","v":153},{"$f":"SUM(D11:D15)","v":150},{"$f":"SUM(E11:E15)","v":7}]
[]
[null,"SEÇÃO 1: MEDIDAS IMPLEMENTADAS e NÃO IMPLEMENTADAS"]
[null,0,"CONTROLE 0: ESTRUTURAÇÃO BÁSICA DE GESTÃO EM SEGURANÇA DA INFORMAÇÃO E PRIVACIDADE"]
[null,{"$f":"FORM2.2!B8","v":"Controle Não Foi Respondido"}]
[null,null,"MEDIDAS DE ESTRUTURAÇÃO BÁSICA"]
[null,"Nível de Capacidade do Controle :"]
[null,"ID","Medida","Descrição","Resposta"]
[null,"0.1",{"$f":"FORM2.2!C12","v":"O órgão nomeou uma autoridade máxima de Tecnologia da Informação?"},{"$f":"FORM2.2!D12","v":"A autoridade máxima de Tecnologia da Informação é responsável secundário por planejar, implementar e melhorar continuamente os controles de privacidade e segurança da informação em soluções de tecnologia da informação e comunicações, nos termos da Instrução Normativa SGD/ME nº 01, de 4 de abril de 2019, e suas alterações, considerando a cadeia de suprimentos relacionada à solução."},{"$f":"IF(FORM2.2!E12=\"Sim\",\"Implementada\",\"Não Implementada\")","v":"Não Implementada"}]
[null,"0.2",{"$f":"FORM2.2!C13","v":"O órgão nomeou um Gestor de Segurança da Informação?"},{"$f":"FORM2.2!D13","v":"O Gestor de Segurança da Informação é responsável primário por planejar, implementar e melhorar continuamente os controles de segurança da informação em ativos de informação."},{"$f":"IF(FORM2.2!E13=\"Sim\",\"Implementada\",\"Não Implementada\")","v":"Não Implementada"}]
[null,"0.3",{"$f":"FORM2.2!C14","v":"O órgão nomeou um responsável pela unidade de controle interno?"},{"$f":"FORM2.2!D14","v":"O responsável pela unidade de controle interno contribui no sentido de assegurar que os controles de privacidade e segurança da informação sejam executados de forma apropriada, por meio do desempenho das funções de apoio, supervisão e monitoramento das atividades desenvolvidas pela primeira linha de defesa."},{"$f":"IF(FORM2.2!E14=\"Sim\",\"Implementada\",\"Não Implementada\")","v":"Não Implementada"}]
[null,"0.4",{"$f":"FORM2.2!C15","v":"O órgão instituiu um Comitê de Segurança da Informação?"},{"$f":"FORM2.2!D15","v":"Instituir um Comitê de Segurança da Informação ou estrutura equivalente, para deliberar sobre os assuntos relativos à Política Nacional de Segurança da Informação."},{"$f":"IF(FORM2.2!E15=\"Sim\",\"Implementada\",\"Não Implementada\")","v":"Não Implementada"}]
[null,"0.5",{"$f":"FORM2.2!C16","v":"O órgão instituiu uma Equipe de Tratamento e Resposta a Incidentes Cibernéticos - ETIR?"},{"$f":"FORM2.2!D16","v":"Instituir e implementar Equipe de Tratamento e Resposta a Incidentes Cibernéticos - ETIR, que constituirá a rede de equipes, integrada pelos órgãos e pelas entidades da administração pública federal, coordenada pelo Centro de Tratamento e Resposta a Incidentes Cibernéticos de Governo do Gabinete de Segurança Institucional da Presidência da República."},{"$f":"IF(FORM2.2!E16=\"Sim\",\"Implementada\",\"Não Implementada\")","v":"Não Implementada"}]
[null,"0.6",{"$f":"FORM2.2!C17","v":"O órgão elaborou uma Política de Segurança da Informação - POSIN?"},{"$f":"FORM2.2!D17","v":"É obrigatório a todos os órgãos e as entidades da administração pública federal possuir uma Política de Segurança da Informação, implementada a partir da formalização e aprovação por parte da autoridade máxima da instituição, com o objetivo de estabelecer diretrizes, responsabilidades, competências e subsídios para a gestão da segurança da informação."},{"$f":"IF(FORM2.2!E17=\"Sim\",\"Implementada\",\"Não Implementada\")","v":"Não Implementada"}]
[null,"0.7",{"$f":"FORM2.2!C18","v":"O órgão nomeou um Encarregado pelo Tratamento de Dados Pessoais?"},{"$f":"FORM2.2!D18","v":"O Encarregado pelo Tratamento de Dados Pessoais é a pessoa indicada pelo controlador e operador para atuar como canal de comunicação entre o controlador, os titulares dos dados e a Autoridade Nacional de Proteção de Dados (ANPD), dentre outras atribuições, é o responsável por orientar os funcionários e os contratados da entidade a respeito das práticas a serem tomadas em relação à proteção de dados pessoais, nos termos do art. 41, §2º, da LGPD."},{"$f":"IF(FORM2.2!E18=\"Sim\",\"Implementada\",\"Não Implementada\")","v":"Não Implementada"}]
[null,"SEÇÃO 2: MEDIDAS IMPLEMENTADAS,  NÃO IMPLEMENTADAS e NÃO ADOTADAS"]
[null,1,{"$f":"FORM2.3!D11","v":"CIS CONTROLE 1: INVENTÁRIO E CONTROLE DE ATIVOS INSTITUCIONAIS"}]
[null,null,{"$f":"FORM2.3!K12","v":"Controle Não Foi Respondido"}]
[null,null,"MEDIDAS DE SEGURANÇA"]
[null,"Nível de Capacidade do Controle"]
[null,"ID","Medida","Descrição","Resposta"]
[null,"1.1",{"$f":"FORM2.3!G12","v":"O órgão estabelece e mantém um inventário detalhado de ativos institucionais?"},{"$f":"FORM2.3!H14","v":"Identificar ativos conectados à rede institucional através de uma ferramenta de descoberta ativa. Configurar para que essa descoberta seja executada diariamente ou com mais frequência."},{"$f":"_xlfn.IFS(_xlfn.XLOOKUP(B37,FORM2.3!$C$12:$C$181,FORM2.3!$I$12:$I$181)='TABELAS AUXILIARES'!$E$7,\"Resposta Não Preenchida\", _xlfn.XLOOKUP(B37,FORM2.3!$C$12:$C$181,FORM2.3!$I$12:$I$181)='TABELAS AUXILIARES'!$E$8,\"Implementada\", _xlfn.XLOOKUP(B37,FORM2.3!$C$12:$C$181,FORM2.3!$I$12:$I$181)='TABELAS AUXILIARES'!$E$9,\"Não Implementada\",_xlfn.XLOOKUP(B37,FORM2.3!$C$12:$C$181,FORM2.3!$I$12:$I$181)='TABELAS AUXILIARES'!$E$10,\"Não Implementada\", _xlfn.XLOOKUP(B37,FORM2.3!$C$12:$C$181,FORM2.3!$I$12:$I$181)='TABELAS AUXILIARES'!$E$11,\"Não Implementada\", _xlfn.XLOOKUP(B37,FORM2.3!$C$12:$C$181,FORM2.3!$I$12:$I$181)='TABELAS AUXILIARES'!$E$12,\"Não Adota\", _xlfn.XLOOKUP(B37,FORM2.3!$C$12:$C$181,FORM2.3!$I$12:$I$181)='TABELAS AUXILIARES'!$E$13,\"Não se aplica\")","v":"Resposta Não Preenchida"}]
[null,"1.2",{"$f":"FORM2.3!G13","v":"O órgão usa o Dynamic Host Configuration Protocol DHCP para Atualizar o Inventários de Ativos ?"},{"$f":"FORM2.3!H15","v":"Utilizar uma ferramenta de descoberta passiva para identificar dispositivos conectados à rede da instituição e automaticamente atualizar o inventário de ativos de hardware da instituição."},{"$f":"_xlfn.IFS(_xlfn.XLOOKUP(B38,FORM2.3!$C$12:$C$181,FORM2.3!$I$12:$I$181)='TABELAS AUXILIARES'!$E$7,\"Resposta Não Preenchida\", _xlfn.XLOOKUP(B38,FORM2.3!$C$12:$C$181,FORM2.3!$I$12:$I$181)='TABELAS AUXILIARES'!$E$8,\"Implementada\", _xlfn.XLOOKUP(B38,FORM2.3!$C$12:$C$181,FORM2.3!$I$12:$I$181)='TABELAS AUXILIARES'!$E$9,\"Não Implementada\", _xlfn.XLOOKUP(B38,FORM2.3!$C$12:$C$181,FORM2.3!$I$12:$I$181)='TABELAS AUXILIARES'!$E$10,\"Não Implementada\", _xlfn.XLOOKUP(B38,FORM2.3!$C$12:$C$181,FORM2.3!$I$12:$I$181)='TABELAS AUXILIARES'!$E$11,\"Não Implementada\", _xlfn.XLOOKUP(B38,FORM2.3!$C$12:$C$181,FORM2.3!$I$12:$I$181)='TABELAS AUXILIARES'!$E$12,\"Não Adota\", _xlfn.XLOOKUP(B38,FORM2.3!$C$12:$C$181,FORM2.3!$I$12:$I$181)='TABELAS AUXILIARES'!$E$13,\"Não se aplica\")","v":"Resposta Não Preenchida"}]
[null,"1.3",{"$f":"FORM2.3!G14","v":"O órgão usa uma ferramenta de descoberta ativa? "},{"$f":"FORM2.3!H16","v":"Assegurar que exista um processo semanal para lidar com ativos não autorizados. Optar por remover o ativo da rede, negar que o ativo se conecte remotamente à rede ou colocar o ativo em quarentena."},{"$f":"_xlfn.IFS(_xlfn.XLOOKUP(B39,FORM2.3!$C$12:$C$181,FORM2.3!$I$12:$I$181)='TABELAS AUXILIARES'!$E$7,\"Resposta Não Preenchida\", _xlfn.XLOOKUP(B39,FORM2.3!$C$12:$C$181,FORM2.3!$I$12:$I$181)='TABELAS AUXILIARES'!$E$8,\"Implementada\", _xlfn.XLOOKUP(B39,FORM2.3!$C$12:$C$181,FORM2.3!$I$12:$I$181)='TABELAS AUXILIARES'!$E$9,\"Não Implementada\", _xlfn.XLOOKUP(B39,FORM2.3!$C$12:$C$181,FORM2.3!$I$12:$I$181)='TABELAS AUXILIARES'!$E$10,\"Não Implementada\", _xlfn.XLOOKUP(B39,FORM2.3!$C$12:$C$181,FORM2.3!$I$12:$I$181)='TABELAS AUXILIARES'!$E$11,\"Não Implementada\", _xlfn.XLOOKUP(B39,FORM2.3!$C$12:$C$181,FORM2.3!$I$12:$I$181)='TABELAS AUXILIARES'!$E$12,\"Não Adota\", _xlfn.XLOOKUP(B39,FORM2.3!$C$12:$C$181,FORM2.3!$I$12:$I$181)='TABELAS AUXILIARES'!$E$13,\"Não se aplica\")","v":"Resposta Não Preenchida"}]
[null,"1.4",{"$f":"FORM2.3!G15","v":"O órgão usa ferramenta de Descoberta Passiva?"},{"$f":"FORM2.3!H15","v":"Utilizar uma ferramenta de descoberta passiva para identificar dispositivos conectados à rede da instituição e automaticamente atualizar o inventário de ativos de hardware da instituição."},{"$f":"_xlfn.IFS(_xlfn.XLOOKUP(B40,FORM2.3!$C$12:$C$181,FORM2.3!$I$12:$I$181)='TABELAS AUXILIARES'!$E$7,\"Resposta Não Preenchida\", _xlfn.XLOOKUP(B40,FORM2.3!$C$12:$C$181,FORM2.3!$I$12:$I$181)='TABELAS AUXILIARES'!$E$8,\"Implementada\", _xlfn.XLOOKUP(B40,FORM2.3!$C$12:$C$181,FORM2.3!$I$12:$I$181)='TABELAS AUXILIARES'!$E$9,\"Não Implementada\", _xlfn.XLOOKUP(B40,FORM2.3!$C$12:$C$181,FORM2.3!$I$12:$I$181)='TABELAS AUXILIARES'!$E$10,\"Não Implementada\", _xlfn.XLOOKUP(B40,FORM2.3!$C$12:$C$181,FORM2.3!$I$12:$I$181)='TABELAS AUXILIARES'!$E$11,\"Não Implementada\", _xlfn.XLOOKUP(B40,FORM2.3!$C$12:$C$181,FORM2.3!$I$12:$I$181)='TABELAS AUXILIARES'!$E$12,\"Não Adota\", _xlfn.XLOOKUP(B40,FORM2.3!$C$12:$C$181,FORM2.3!$I$12:$I$181)='TABELAS AUXILIARES'!$E$13,\"Não se aplica\")","v":"Resposta Não Preenchida"}]
[null,"1.5",{"$f":"FORM2.3!G16","v":"O órgão endereça ativos não autorizados?"},{"$f":"FORM2.3!H16","v":"Assegurar que exista um processo semanal para lidar com ativos não autorizados. Optar por remover o ativo da rede, negar que o ativo se conecte remotamente à rede ou colocar o ativo em quarentena."},{"$f":"_xlfn.IFS(_xlfn.XLOOKUP(B41,FORM2.3!$C$12:$C$181,FORM2.3!$I$12:$I$181)='TABELAS AUXILIARES'!$E$7,\"Resposta Não Preenchida\", _xlfn.XLOOKUP(B41,FORM2.3!$C$12:$C$181,FORM2.3!$I$12:$I$181)='TABELAS AUXILIARES'!$E$8,\"Implementada\", _xlfn.XLOOKUP(B41,FORM2.3!$C$12:$C$181,FORM2.3!$I$12:$I$181)='TABELAS AUXILIARES'!$E$9,\"Não Implementada\", _xlfn.XLOOKUP(B41,FORM2.3!$C$12:$C$181,FORM2.3!$I$12:$I$181)='TABELAS AUXILIARES'!$E$10,\"Não Implementada\", _xlfn.XLOOKUP(B41,FORM2.3!$C$12:$C$181,FORM2.3!$I$12:$I$181)='TABELAS AUXILIARES'!$E$11,\"Não Implementada\", _xlfn.XLOOKUP(B41,FORM2.3!$C$12:$C$181,FORM2.3!$I$12:$I$181)='TABELAS AUXILIARES'!$E$12,\"Não Adota\", _xlfn.XLOOKUP(B41,FORM2.3!$C$12:$C$181,FORM2.3!$I$12:$I$181)='TABELAS AUXILIARES'!$E$13,\"Não se aplica\")","v":"Resposta Não Preenchida"}]
[]
[null,2,"CONTROLE 0: ESTRUTURAÇÃO BÁSICA DE GESTÃO EM SEGURANÇA DA INFORMAÇÃO E PRIVACIDADE"]
[null,{"$f":"FORM2.3!K18","v":"Controle Não Foi Respondido"}]
[null,null,"MEDIDAS DE SEGURANÇA"]
[null,"Nível de Capacidade do Controle"]
[null,"ID","Medida","Descrição","Resposta"]
[null,"2.1",{"$f":"FORM2.3!G18","v":"O órgão estabelece e mantém um inventário de software?"},{"$f":"FORM2.3!H18","v":"Estabelecer e manter um inventário detalhado de todos os softwares licenciados instalados em ativos. Revisar e atualizar o inventário de software semestralmente ou com mais frequência."},{"$f":"_xlfn.IFS(_xlfn.XLOOKUP(B48,FORM2.3!$C$12:$C$181,FORM2.3!$I$12:$I$181)='TABELAS AUXILIARES'!$E$7,\"Resposta Não Preenchida\", _xlfn.XLOOKUP(B48,FORM2.3!$C$12:$C$181,FORM2.3!$I$12:$I$181)='TABELAS AUXILIARES'!$E$8,\"Implementada\", _xlfn.XLOOKUP(B48,FORM2.3!$C$12:$C$181,FORM2.3!$I$12:$I$181)='TABELAS AUXILIARES'!$E$9,\"Não Implementada\", _xlfn.XLOOKUP(B48,FORM2.3!$C$12:$C$181,FORM2.3!$I$12:$I$181)='TABELAS AUXILIARES'!$E$10,\"Não Implementada\", _xlfn.XLOOKUP(B48,FORM2.3!$C$12:$C$181,FORM2.3!$I$12:$I$181)='TABELAS AUXILIARES'!$E$11,\"Não Implementada\", _xlfn.XLOOKUP(B48,FORM2.3!$C$12:$C$181,FORM2.3!$I$12:$I$181)='TABELAS AUXILIARES'!$E$12,\"Não Adota\", _xlfn.XLOOKUP(B48,FORM2.3!$C$12:$C$181,FORM2.3!$I$12:$I$181)='TABELAS AUXILIARES'!$E$13,\"Não se aplica\")","v":"Resposta Não Preenchida"}]
[null,"2.2",{"$f":"FORM2.3!G19","v":"O órgão assegura que o software autorizado seja atualmente suportado?"},{"$f":"FORM2.3!H19","v":"Garantir que apenas aplicações ou sistemas operacionais atualmente suportados pelo fabricante sejam adicionados ao inventário de softwares autorizados. Softwares não suportados devem ser indicados no sistema de inventário. Revisar o inventário de software para verificar o suporte do software pelo menos uma vez por mês ou\ncom mais frequência."},{"$f":"_xlfn.IFS(_xlfn.XLOOKUP(B49,FORM2.3!$C$12:$C$181,FORM2.3!$I$12:$I$181)='TABELAS AUXILIARES'!$E$7,\"Resposta Não Preenchida\", _xlfn.XLOOKUP(B49,FORM2.3!$C$12:$C$181,FORM2.3!$I$12:$I$181)='TABELAS AUXILIARES'!$E$8,\"Implementada\", _xlfn.XLOOKUP(B49,FORM2.3!$C$12:$C$181,FORM2.3!$I$12:$I$181)='TABELAS AUXILIARES'!$E$9,\"Não Implementada\", _xlfn.XLOOKUP(B49,FORM2.3!$C$12:$C$181,FORM2.3!$I$12:$I$181)='TABELAS AUXILIARES'!$E$10,\"Não Implementada\", _xlfn.XLOOKUP(B49,FORM2.3!$C$12:$C$181,FORM2.3!$I$12:$I$181)='TABELAS AUXILIARES'!$E$11,\"Não Implementada\", _xlfn.XLOOKUP(B49,FORM2.3!$C$12:$C$181,FORM2.3!$I$12:$I$181)='TABELAS AUXILIARES'!$E$12,\"Não Adota\", _xlfn.XLOOKUP(B49,FORM2.3!$C$12:$C$181,FORM2.3!$I$12:$I$181)='TABELAS AUXILIARES'!$E$13,\"Não se aplica\")","v":"Resposta Não Preenchida"}]
[null,"2.3",{"$f":"FORM2.3!G20","v":"O órgão possui lista de permissões de Software autorizado?"},{"$f":"FORM2.3!H20","v":"Utilizar controles técnicos em todos os ativos para garantir que apenas software autorizado seja executado. Reavaliar semestralmente ou com mais frequência."},{"$f":"_xlfn.IFS(_xlfn.XLOOKUP(B50,FORM2.3!$C$12:$C$181,FORM2.3!$I$12:$I$181)='TABELAS AUXILIARES'!$E$7,\"Resposta Não Preenchida\", _xlfn.XLOOKUP(B50,FORM2.3!$C$12:$C$181,FORM2.3!$I$12:$I$181)='TABELAS AUXILIARES'!$E$8,\"Implementada\", _xlfn.XLOOKUP(B50,FORM2.3!$C$12:$C$181,FORM2.3!$I$12:$I$181)='TABELAS AUXILIARES'!$E$9,\"Não Implementada\", _xlfn.XLOOKUP(B50,FORM2.3!$C$12:$C$181,FORM2.3!$I$12:$I$181)='TABELAS AUXILIARES'!$E$10,\"Não Implementada\", _xlfn.XLOOKUP(B50,FORM2.3!$C$12:$C$181,FORM2.3!$I$12:$I$181)='TABELAS AUXILIARES'!$E$11,\"Não Implementada\", _xlfn.XLOOKUP(B50,FORM2.3!$C$12:$C$181,FORM2.3!$I$12:$I$181)='TABELAS AUXILIARES'!$E$12,\"Não Adota\", _xlfn.XLOOKUP(B50,FORM2.3!$C$12:$C$181,FORM2.3!$I$12:$I$181)='TABELAS AUXILIARES'!$E$13,\"Não se aplica\")","v":"Resposta Não Preenchida"}]
[null,"2.4",{"$f":"FORM2.3!G21","v":"O orgão possuí lista de permissões de bibliotecas autorizadas?"},{"$f":"FORM2.3!H21","v":"Utilizar controles técnicos para garantir que apenas bibliotecas autorizadas (tais como *.dll, *.ocx, *.so, etc) tenham permissão para serem carregadas nos processos em execução. Impedir que bibliotecas não autorizadas sejam carregadas nos processos. Reavaliar semestralmente ou com mais frequência."},{"$f":"_xlfn.IFS(_xlfn.XLOOKUP(B51,FORM2.3!$C$12:$C$181,FORM2.3!$I$12:$I$181)='TABELAS AUXILIARES'!$E$7,\"Resposta Não Preenchida\", _xlfn.XLOOKUP(B51,FORM2.3!$C$12:$C$181,FORM2.3!$I$12:$I$181)='TABELAS AUXILIARES'!$E$8,\"Implementada\", _xlfn.XLOOKUP(B51,FORM2.3!$C$12:$C$181,FORM2.3!$I$12:$I$181)='TABELAS AUXILIARES'!$E$9,\"Não Implementada\", _xlfn.XLOOKUP(B51,FORM2.3!$C$12:$C$181,FORM2.3!$I$12:$I$181)='TABELAS AUXILIARES'!$E$10,\"Não Implementada\", _xlfn.XLOOKUP(B51,FORM2.3!$C$12:$C$181,FORM2.3!$I$12:$I$181)='TABELAS AUXILIARES'!$E$11,\"Não Implementada\", _xlfn.XLOOKUP(B51,FORM2.3!$C$12:$C$181,FORM2.3!$I$12:$I$181)='TABELAS AUXILIARES'!$E$12,\"Não Adota\", _xlfn.XLOOKUP(B51,FORM2.3!$C$12:$C$181,FORM2.3!$I$12:$I$181)='TABELAS AUXILIARES'!$E$13,\"Não se aplica\")","v":"Resposta Não Preenchida"}]
[null,"2.5",{"$f":"FORM2.3!G22","v":"O órgão possuí lista de permissões de Scripts autorizados?"},{"$f":"FORM2.3!H22","v":"Utilize controles técnicos como assinaturas digitais e controle de versão para garantir que apenas scripts autorizados e assinados digitalmente (tais como *.ps1, *.py, macros etc.) tenham permissão para serem executados. Bloqueie a execução de scripts não autorizados. Reavalie semestralmente ou com mais frequência."},{"$f":"_xlfn.IFS(_xlfn.XLOOKUP(B52,FORM2.3!$C$12:$C$181,FORM2.3!$I$12:$I$181)='TABELAS AUXILIARES'!$E$7,\"Resposta Não Preenchida\", _xlfn.XLOOKUP(B52,FORM2.3!$C$12:$C$181,FORM2.3!$I$12:$I$181)='TABELAS AUXILIARES'!$E$8,\"Implementada\", _xlfn.XLOOKUP(B52,FORM2.3!$C$12:$C$181,FORM2.3!$I$12:$I$181)='TABELAS AUXILIARES'!$E$9,\"Não Implementada\", _xlfn.XLOOKUP(B52,FORM2.3!$C$12:$C$181,FORM2.3!$I$12:$I$181)='TABELAS AUXILIARES'!$E$10,\"Não Implementada\", _xlfn.XLOOKUP(B52,FORM2.3!$C$12:$C$181,FORM2.3!$I$12:$I$181)='TABELAS AUXILIARES'!$E$11,\"Não Implementada\", _xlfn.XLOOKUP(B52,FORM2.3!$C$12:$C$181,FORM2.3!$I$12:$I$181)='TABELAS AUXILIARES'!$E$12,\"Não Adota\", _xlfn.XLOOKUP(B52,FORM2.3!$C$12:$C$181,FORM2.3!$I$12:$I$181)='TABELAS AUXILIARES'!$E$13,\"Não se aplica\")","v":"Resposta Não Preenchida"}]
[null,"2.6",{"$f":"FORM2.3!G23","v":"O órgão utiliza ferramentas automatizadas de inventário de software?"},{"$f":"FORM2.3!H23","v":"Utilizar ferramentas de inventário de software, quando possível, em toda a organização para automatizar a descoberta e documentação do software instalado. "},{"$f":"_xlfn.IFS(_xlfn.XLOOKUP(B53,FORM2.3!$C$12:$C$181,FORM2.3!$I$12:$I$181)='TABELAS AUXILIARES'!$E$7,\"Resposta Não Preenchida\", _xlfn.XLOOKUP(B53,FORM2.3!$C$12:$C$181,FORM2.3!$I$12:$I$181)='TABELAS AUXILIARES'!$E$8,\"Implementada\", _xlfn.XLOOKUP(B53,FORM2.3!$C$12:$C$181,FORM2.3!$I$12:$I$181)='TABELAS AUXILIARES'!$E$9,\"Não Implementada\", _xlfn.XLOOKUP(B53,FORM2.3!$C$12:$C$181,FORM2.3!$I$12:$I$181)='TABELAS AUXILIARES'!$E$10,\"Não Implementada\", _xlfn.XLOOKUP(B53,FORM2.3!$C$12:$C$181,FORM2.3!$I$12:$I$181)='TABELAS AUXILIARES'!$E$11,\"Não Implementada\", _xlfn.XLOOKUP(B53,FORM2.3!$C$12:$C$181,FORM2.3!$I$12:$I$181)='TABELAS AUXILIARES'!$E$12,\"Não Adota\", _xlfn.XLOOKUP(B53,FORM2.3!$C$12:$C$181,FORM2.3!$I$12:$I$181)='TABELAS AUXILIARES'!$E$13,\"Não se aplica\")","v":"Resposta Não Preenchida"}]
[null,"2.7",{"$f":"FORM2.3!G24","v":"O órgão endereça o software não autorizado?"},{"$f":"FORM2.3!H24","v":"Assegurar que o software não autorizado seja retirado de uso em ativos institucionais ou receba uma exceção documentada. Revisar mensalmente ou com mais frequência."},{"$f":"_xlfn.IFS(_xlfn.XLOOKUP(B54,FORM2.3!$C$12:$C$181,FORM2.3!$I$12:$I$181)='TABELAS AUXILIARES'!$E$7,\"Resposta Não Preenchida\", _xlfn.XLOOKUP(B54,FORM2.3!$C$12:$C$181,FORM2.3!$I$12:$I$181)='TABELAS AUXILIARES'!$E$8,\"Implementada\", _xlfn.XLOOKUP(B54,FORM2.3!$C$12:$C$181,FORM2.3!$I$12:$I$181)='TABELAS AUXILIARES'!$E$9,\"Não Implementada\", _xlfn.XLOOKUP(B54,FORM2.3!$C$12:$C$181,FORM2.3!$I$12:$I$181)='TABELAS AUXILIARES'!$E$10,\"Não Implementada\", _xlfn.XLOOKUP(B54,FORM2.3!$C$12:$C$181,FORM2.3!$I$12:$I$181)='TABELAS AUXILIARES'!$E$11,\"Não Implementada\", _xlfn.XLOOKUP(B54,FORM2.3!$C$12:$C$181,FORM2.3!$I$12:$I$181)='TABELAS AUXILIARES'!$E$12,\"Não Adota\", _xlfn.XLOOKUP(B54,FORM2.3!$C$12:$C$181,FORM2.3!$I$12:$I$181)='TABELAS AUXILIARES'!$E$13,\"Não se aplica\")","v":"Resposta Não Preenchida"}]
[]
[null,3,"CIS CONTROLE 3: PROTEÇÃO DE DADOS"]
[null,{"$f":"FORM2.3!K26","v":"Controle Não Foi Respondido"}]
[null,null,"MEDIDAS DE SEGURANÇA"]
[null,"Nível de Capacidade do Controle"]
[null,"ID","Medida","Descrição","Resposta"]
[null,"3.1",{"$f":"FORM2.3!G26","v":"O órgão estabelece e mantém um processo de gestão de dados?"},{"$f":"FORM2.3!H26","v":"Estabelecer e manter um processo de gestão de dados. No processo, tratar a sensibilidade dos dados, o proprietário dos dados, o manuseio dos dados, os limites de retenção de dados e os requisitos de descarte, com base em padrões de sensibilidade e retenção para a organização.\nRevisar e atualizar a documentação anualmente ou quando ocorrerem mudanças significativas na organização que possam impactar esta medida de segurança."},{"$f":"_xlfn.IFS(_xlfn.XLOOKUP(B61,FORM2.3!$C$12:$C$181,FORM2.3!$I$12:$I$181)='TABELAS AUXILIARES'!$E$7,\"Resposta Não Preenchida\", _xlfn.XLOOKUP(B61,FORM2.3!$C$12:$C$181,FORM2.3!$I$12:$I$181)='TABELAS AUXILIARES'!$E$8,\"Implementada\", _xlfn.XLOOKUP(B61,FORM2.3!$C$12:$C$181,FORM2.3!$I$12:$I$181)='TABELAS AUXILIARES'!$E$9,\"Não Implementada\", _xlfn.XLOOKUP(B61,FORM2.3!$C$12:$C$181,FORM2.3!$I$12:$I$181)='TABELAS AUXILIARES'!$E$10,\"Não Implementada\", _xlfn.XLOOKUP(B61,FORM2.3!$C$12:$C$181,FORM2.3!$I$12:$I$181)='TABELAS AUXILIARES'!$E$11,\"Não Implementada\", _xlfn.XLOOKUP(B61,FORM2.3!$C$12:$C$181,FORM2.3!$I$12:$I$181)='TABELAS AUXILIARES'!$E$12,\"Não Adota\", _xlfn.XLOOKUP(B61,FORM2.3!$C$12:$C$181,FORM2.3!$I$12:$I$181)='TABELAS AUXILIARES'!$E$13,\"Não se aplica\")","v":"Resposta Não Preenchida"}]
[null,"3.2",{"$f":"FORM2.3!G27","v":"O órgão estabelece e mantém um inventário de dados?"},{"$f":"FORM2.3!H27","v":"Estabelecer e manter um inventário de dados, com base no processo de gestão de dados do órgão. No mínimo inventariar os dados sensíveis. Reavaliar e atualizar o inventário anualmente."},{"$f":"_xlfn.IFS(_xlfn.XLOOKUP(B62,FORM2.3!$C$12:$C$181,FORM2.3!$I$12:$I$181)='TABELAS AUXILIARES'!$E$7,\"Resposta Não Preenchida\", _xlfn.XLOOKUP(B62,FORM2.3!$C$12:$C$181,FORM2.3!$I$12:$I$181)='TABELAS AUXILIARES'!$E$8,\"Implementada\", _xlfn.XLOOKUP(B62,FORM2.3!$C$12:$C$181,FORM2.3!$I$12:$I$181)='TABELAS AUXILIARES'!$E$9,\"Não Implementada\", _xlfn.XLOOKUP(B62,FORM2.3!$C$12:$C$181,FORM2.3!$I$12:$I$181)='TABELAS AUXILIARES'!$E$10,\"Não Implementada\", _xlfn.XLOOKUP(B62,FORM2.3!$C$12:$C$181,FORM2.3!$I$12:$I$181)='TABELAS AUXILIARES'!$E$11,\"Não Implementada\", _xlfn.XLOOKUP(B62,FORM2.3!$C$12:$C$181,FORM2.3!$I$12:$I$181)='TABELAS AUXILIARES'!$E$12,\"Não Adota\", _xlfn.XLOOKUP(B62,FORM2.3!$C$12:$C$181,FORM2.3!$I$12:$I$181)='TABELAS AUXILIARES'!$E$13,\"Não se aplica\")","v":"Resposta Não Preenchida"}]
[null,"3.3",{"$f":"FORM2.3!G28","v":"O órgão estabelece e mantém um esquema de classificação de dados?"},{"$f":"FORM2.3!H28","v":"Estabelecer e manter um esquema geral de classificação de dados para o órgão, podendo ser “Sensíveis”, “Confidencial” e “Público.\nRevisar e atualizar o esquema de classificação anualmente ou quando ocorrerem mudanças significativas que possam impactar essa medida de segurança."},{"$f":"_xlfn.IFS(_xlfn.XLOOKUP(B63,FORM2.3!$C$12:$C$181,FORM2.3!$I$12:$I$181)='TABELAS AUXILIARES'!$E$7,\"Resposta Não Preenchida\", _xlfn.XLOOKUP(B63,FORM2.3!$C$12:$C$181,FORM2.3!$I$12:$I$181)='TABELAS AUXILIARES'!$E$8,\"Implementada\", _xlfn.XLOOKUP(B63,FORM2.3!$C$12:$C$181,FORM2.3!$I$12:$I$181)='TABELAS AUXILIARES'!$E$9,\"Não Implementada\", _xlfn.XLOOKUP(B63,FORM2.3!$C$12:$C$181,FORM2.3!$I$12:$I$181)='TABELAS AUXILIARES'!$E$10,\"Não Implementada\", _xlfn.XLOOKUP(B63,FORM2.3!$C$12:$C$181,FORM2.3!$I$12:$I$181)='TABELAS AUXILIARES'!$E$11,\"Não Implementada\", _xlfn.XLOOKUP(B63,FORM2.3!$C$12:$C$181,FORM2.3!$I$12:$I$181)='TABELAS AUXILIARES'!$E$12,\"Não Adota\", _xlfn.XLOOKUP(B63,FORM2.3!$C$12:$C$181,FORM2.3!$I$12:$I$181)='TABELAS AUXILIARES'!$E$13,\"Não se aplica\")","v":"Resposta Não Preenchida"}]
[null,"3.4",{"$f":"FORM2.3!G29","v":"O órgão documenta os Fluxos de Dados?"},{"$f":"FORM2.3!H29","v":"Documentar o fluxo de dados, contendo fluxos de dados do provedor de serviços, devendo ser baseada no processo de gestão de dados do órgão. Revisar e atualizar a documentação anualmente ou quando ocorrerem mudanças significativas que possam impactar essa medida de segurança."},{"$f":"_xlfn.IFS(_xlfn.XLOOKUP(B64,FORM2.3!$C$12:$C$181,FORM2.3!$I$12:$I$181)='TABELAS AUXILIARES'!$E$7,\"Resposta Não Preenchida\", _xlfn.XLOOKUP(B64,FORM2.3!$C$12:$C$181,FORM2.3!$I$12:$I$181)='TABELAS AUXILIARES'!$E$8,\"Implementada\", _xlfn.XLOOKUP(B64,FORM2.3!$C$12:$C$181,FORM2.3!$I$12:$I$181)='TABELAS AUXILIARES'!$E$9,\"Não Implementada\", _xlfn.XLOOKUP(B64,FORM2.3!$C$12:$C$181,FORM2.3!$I$12:$I$181)='TABELAS AUXILIARES'!$E$10,\"Não Implementada\", _xlfn.XLOOKUP(B64,FORM2.3!$C$12:$C$181,FORM2.3!$I$12:$I$181)='TABELAS AUXILIARES'!$E$11,\"Não Implementada\", _xlfn.XLOOKUP(B64,FORM2.3!$C$12:$C$181,FORM2.3!$I$12:$I$181)='TABELAS AUXILIARES'!$E$12,\"Não Adota\", _xlfn.XLOOKUP(B64,FORM2.3!$C$12:$C$181,FORM2.3!$I$12:$I$181)='TABELAS AUXILIARES'!$E$13,\"Não se aplica\")","v":"Resposta Não Preenchida"}]
[null,"3.5",{"$f":"FORM2.3!G30","v":"O órgão configura listas de controle de acessos a dados?"},{"$f":"FORM2.3!H30","v":"Aplicar listas de controle de acesso a dados, também conhecidas como permissões de acesso, a sistemas de arquivos, banco de dados e aplicações locais e remotos."},{"$f":"_xlfn.IFS(_xlfn.XLOOKUP(B65,FORM2.3!$C$12:$C$181,FORM2.3!$I$12:$I$181)='TABELAS AUXILIARES'!$E$7,\"Resposta Não Preenchida\", _xlfn.XLOOKUP(B65,FORM2.3!$C$12:$C$181,FORM2.3!$I$12:$I$181)='TABELAS AUXILIARES'!$E$8,\"Implementada\", _xlfn.XLOOKUP(B65,FORM2.3!$C$12:$C$181,FORM2.3!$I$12:$I$181)='TABELAS AUXILIARES'!$E$9,\"Não Implementada\", _xlfn.XLOOKUP(B65,FORM2.3!$C$12:$C$181,FORM2.3!$I$12:$I$181)='TABELAS AUXILIARES'!$E$10,\"Não Implementada\", _xlfn.XLOOKUP(B65,FORM2.3!$C$12:$C$181,FORM2.3!$I$12:$I$181)='TABELAS AUXILIARES'!$E$11,\"Não Implementada\", _xlfn.XLOOKUP(B65,FORM2.3!$C$12:$C$181,FORM2.3!$I$12:$I$181)='TABELAS AUXILIARES'!$E$12,\"Não Adota\", _xlfn.XLOOKUP(B65,FORM2.3!$C$12:$C$181,FORM2.3!$I$12:$I$181)='TABELAS AUXILIARES'!$E$13,\"Não se aplica\")","v":"Resposta Não Preenchida"}]
[null,"3.6",{"$f":"FORM2.3!G31","v":"O órgão aplica retenção de dados?"},{"$f":"FORM2.3!H31","v":"Reter os dados de acordo com o processo de gestão de dados da organização. A retenção deve incluir prazos mínimos e máximos."},{"$f":"_xlfn.IFS(_xlfn.XLOOKUP(B66,FORM2.3!$C$12:$C$181,FORM2.3!$I$12:$I$181)='TABELAS AUXILIARES'!$E$7,\"Resposta Não Preenchida\", _xlfn.XLOOKUP(B66,FORM2.3!$C$12:$C$181,FORM2.3!$I$12:$I$181)='TABELAS AUXILIARES'!$E$8,\"Implementada\", _xlfn.XLOOKUP(B66,FORM2.3!$C$12:$C$181,FORM2.3!$I$12:$I$181)='TABELAS AUXILIARES'!$E$9,\"Não Implementada\", _xlfn.XLOOKUP(B66,FORM2.3!$C$12:$C$181,FORM2.3!$I$12:$I$181)='TABELAS AUXILIARES'!$E$10,\"Não Implementada\", _xlfn.XLOOKUP(B66,FORM2.3!$C$12:$C$181,FORM2.3!$I$12:$I$181)='TABELAS AUXILIARES'!$E$11,\"Não Implementada\", _xlfn.XLOOKUP(B66,FORM2.3!$C$12:$C$181,FORM2.3!$I$12:$I$181)='TABELAS AUXILIARES'!$E$12,\"Não Adota\", _xlfn.XLOOKUP(B66,FORM2.3!$C$12:$C$181,FORM2.3!$I$12:$I$181)='TABELAS AUXILIARES'!$E$13,\"Não se aplica\")","v":"Resposta Não Preenchida"}]
[null,"3.7",{"$f":"FORM2.3!G32","v":"O órgão descarta dados com segurança?"},{"$f":"FORM2.3!H32","v":"Descartar os dados com segurança, conforme processo de gestão de dados da organização. Certificar que o processo e método de descarte sejam compatíveis com a sensibilidade dos dados."},{"$f":"_xlfn.IFS(_xlfn.XLOOKUP(B67,FORM2.3!$C$12:$C$181,FORM2.3!$I$12:$I$181)='TABELAS AUXILIARES'!$E$7,\"Resposta Não Preenchida\", _xlfn.XLOOKUP(B67,FORM2.3!$C$12:$C$181,FORM2.3!$I$12:$I$181)='TABELAS AUXILIARES'!$E$8,\"Implementada\", _xlfn.XLOOKUP(B67,FORM2.3!$C$12:$C$181,FORM2.3!$I$12:$I$181)='TABELAS AUXILIARES'!$E$9,\"Não Implementada\", _xlfn.XLOOKUP(B67,FORM2.3!$C$12:$C$181,FORM2.3!$I$12:$I$181)='TABELAS AUXILIARES'!$E$10,\"Não Implementada\", _xlfn.XLOOKUP(B67,FORM2.3!$C$12:$C$181,FORM2.3!$I$12:$I$181)='TABELAS AUXILIARES'!$E$11,\"Não Implementada\", _xlfn.XLOOKUP(B67,FORM2.3!$C$12:$C$181,FORM2.3!$I$12:$I$181)='TABELAS AUXILIARES'!$E$12,\"Não Adota\", _xlfn.XLOOKUP(B67,FORM2.3!$C$12:$C$181,FORM2.3!$I$12:$I$181)='TABELAS AUXILIARES'!$E$13,\"Não se aplica\")","v":"Resposta Não Preenchida"}]
[null,"3.8",{"$f":"FORM2.3!G33","v":"O órgão criptografa dados em dispositivos de usuário final?"},{"$f":"FORM2.3!H33","v":"Criptografar os dados em dispositivos de usuário final que contenham dados sensíveis. "},{"$f":"_xlfn.IFS(_xlfn.XLOOKUP(B68,FORM2.3!$C$12:$C$181,FORM2.3!$I$12:$I$181)='TABELAS AUXILIARES'!$E$7,\"Resposta Não Preenchida\", _xlfn.XLOOKUP(B68,FORM2.3!$C$12:$C$181,FORM2.3!$I$12:$I$181)='TABELAS AUXILIARES'!$E$8,\"Implementada\", _xlfn.XLOOKUP(B68,FORM2.3!$C$12:$C$181,FORM2.3!$I$12:$I$181)='TABELAS AUXILIARES'!$E$9,\"Não Implementada\", _xlfn.XLOOKUP(B68,FORM2.3!$C$12:$C$181,FORM2.3!$I$12:$I$181)='TABELAS AUXILIARES'!$E$10,\"Não Implementada\", _xlfn.XLOOKUP(B68,FORM2.3!$C$12:$C$181,FORM2.3!$I$12:$I$181)='TABELAS AUXILIARES'!$E$11,\"Não Implementada\", _xlfn.XLOOKUP(B68,FORM2.3!$C$12:$C$181,FORM2.3!$I$12:$I$181)='TABELAS AUXILIARES'!$E$12,\"Não Adota\", _xlfn.XLOOKUP(B68,FORM2.3!$C$12:$C$181,FORM2.3!$I$12:$I$181)='TABELAS AUXILIARES'!$E$13,\"Não se aplica\")","v":"Resposta Não Preenchida"}]
[null,"3.9",{"$f":"FORM2.3!G34","v":"O órgão criptografa dados em mídia removível?"},{"$f":"FORM2.3!H34","v":"Criptografar os dados em removível."},{"$f":"_xlfn.IFS(_xlfn.XLOOKUP(B69,FORM2.3!$C$12:$C$181,FORM2.3!$I$12:$I$181)='TABELAS AUXILIARES'!$E$7,\"Resposta Não Preenchida\", _xlfn.XLOOKUP(B69,FORM2.3!$C$12:$C$181,FORM2.3!$I$12:$I$181)='TABELAS AUXILIARES'!$E$8,\"Implementada\", _xlfn.XLOOKUP(B69,FORM2.3!$C$12:$C$181,FORM2.3!$I$12:$I$181)='TABELAS AUXILIARES'!$E$9,\"Não Implementada\", _xlfn.XLOOKUP(B69,FORM2.3!$C$12:$C$181,FORM2.3!$I$12:$I$181)='TABELAS AUXILIARES'!$E$10,\"Não Implementada\", _xlfn.XLOOKUP(B69,FORM2.3!$C$12:$C$181,FORM2.3!$I$12:$I$181)='TABELAS AUXILIARES'!$E$11,\"Não Implementada\", _xlfn.XLOOKUP(B69,FORM2.3!$C$12:$C$181,FORM2.3!$I$12:$I$181)='TABELAS AUXILIARES'!$E$12,\"Não Adota\", _xlfn.XLOOKUP(B69,FORM2.3!$C$12:$C$181,FORM2.3!$I$12:$I$181)='TABELAS AUXILIARES'!$E$13,\"Não se aplica\")","v":"Resposta Não Preenchida"}]
[null,"3.10",{"$f":"FORM2.3!G35","v":"O órgão criptografa dados sensíveis em trânsito?"},{"$f":"FORM2.3!H35","v":"Criptografar dados sensíveis em trânsito. Exemplos: Transport Layer Security (TLS) e Open Secure Shell (Open SSH)"},{"$f":"_xlfn.IFS(_xlfn.XLOOKUP(B70,FORM2.3!$C$12:$C$181,FORM2.3!$I$12:$I$181)='TABELAS AUXILIARES'!$E$7,\"Resposta Não Preenchida\", _xlfn.XLOOKUP(B70,FORM2.3!$C$12:$C$181,FORM2.3!$I$12:$I$181)='TABELAS AUXILIARES'!$E$8,\"Implementada\", _xlfn.XLOOKUP(B70,FORM2.3!$C$12:$C$181,FORM2.3!$I$12:$I$181)='TABELAS AUXILIARES'!$E$9,\"Não Implementada\", _xlfn.XLOOKUP(B70,FORM2.3!$C$12:$C$181,FORM2.3!$I$12:$I$181)='TABELAS AUXILIARES'!$E$10,\"Não Implementada\", _xlfn.XLOOKUP(B70,FORM2.3!$C$12:$C$181,FORM2.3!$I$12:$I$181)='TABELAS AUXILIARES'!$E$11,\"Não Implementada\", _xlfn.XLOOKUP(B70,FORM2.3!$C$12:$C$181,FORM2.3!$I$12:$I$181)='TABELAS AUXILIARES'!$E$12,\"Não Adota\", _xlfn.XLOOKUP(B70,FORM2.3!$C$12:$C$181,FORM2.3!$I$12:$I$181)='TABELAS AUXILIARES'!$E$13,\"Não se aplica\")","v":"Resposta Não Preenchida"}]
[null,"3.11",{"$f":"FORM2.3!G36","v":"O órgão criptografa dados sensíveis em repouso?"},{"$f":"FORM2.3!H36","v":"Criptografar dados sensíveis em repouso em servidores, aplicações e banco de dados que contenham dados sensíveis."},{"$f":"_xlfn.IFS(_xlfn.XLOOKUP(B71,FORM2.3!$C$12:$C$181,FORM2.3!$I$12:$I$181)='TABELAS AUXILIARES'!$E$7,\"Resposta Não Preenchida\", _xlfn.XLOOKUP(B71,FORM2.3!$C$12:$C$181,FORM2.3!$I$12:$I$181)='TABELAS AUXILIARES'!$E$8,\"Implementada\", _xlfn.XLOOKUP(B71,FORM2.3!$C$12:$C$181,FORM2.3!$I$12:$I$181)='TABELAS AUXILIARES'!$E$9,\"Não Implementada\", _xlfn.XLOOKUP(B71,FORM2.3!$C$12:$C$181,FORM2.3!$I$12:$I$181)='TABELAS AUXILIARES'!$E$10,\"Não Implementada\", _xlfn.XLOOKUP(B71,FORM2.3!$C$12:$C$181,FORM2.3!$I$12:$I$181)='TABELAS AUXILIARES'!$E$11,\"Não Implementada\", _xlfn.XLOOKUP(B71,FORM2.3!$C$12:$C$181,FORM2.3!$I$12:$I$181)='TABELAS AUXILIARES'!$E$12,\"Não Adota\", _xlfn.XLOOKUP(B71,FORM2.3!$C$12:$C$181,FORM2.3!$I$12:$I$181)='TABELAS AUXILIARES'!$E$13,\"Não se aplica\")","v":"Resposta Não Preenchida"}]
[null,"3.12",{"$f":"FORM2.3!G37","v":"O órgão segmenta o processamento e o armazenamento de dados com base na sensibilidade?"},{"$f":"FORM2.3!H37","v":"Segmentar o processamento e armazenamento de dados com base na sensibilidade dos dados. Não processar dados sensíveis em ativos institucionais destinados a dados de menor sensibilidade."},{"$f":"_xlfn.IFS(_xlfn.XLOOKUP(B72,FORM2.3!$C$12:$C$181,FORM2.3!$I$12:$I$181)='TABELAS AUXILIARES'!$E$7,\"Resposta Não Preenchida\", _xlfn.XLOOKUP(B72,FORM2.3!$C$12:$C$181,FORM2.3!$I$12:$I$181)='TABELAS AUXILIARES'!$E$8,\"Implementada\", _xlfn.XLOOKUP(B72,FORM2.3!$C$12:$C$181,FORM2.3!$I$12:$I$181)='TABELAS AUXILIARES'!$E$9,\"Não Implementada\", _xlfn.XLOOKUP(B72,FORM2.3!$C$12:$C$181,FORM2.3!$I$12:$I$181)='TABELAS AUXILIARES'!$E$10,\"Não Implementada\", _xlfn.XLOOKUP(B72,FORM2.3!$C$12:$C$181,FORM2.3!$I$12:$I$181)='TABELAS AUXILIARES'!$E$11,\"Não Implementada\", _xlfn.XLOOKUP(B72,FORM2.3!$C$12:$C$181,FORM2.3!$I$12:$I$181)='TABELAS AUXILIARES'!$E$12,\"Não Adota\", _xlfn.XLOOKUP(B72,FORM2.3!$C$12:$C$181,FORM2.3!$I$12:$I$181)='TABELAS AUXILIARES'!$E$13,\"Não se aplica\")","v":"Resposta Não Preenchida"}]
[null,"3.13",{"$f":"FORM2.3!G38","v":"O órgão implanta uma solução de prevenção contra perda de dados?"},{"$f":"FORM2.3!H38","v":"Implementar uma ferramenta automatizada, de prevenção de perda de dados (DLP) baseada em host para identificar todos os dados sensíveis armazenados, processados ou transmitidos por meio de ativos institucionais."},{"$f":"_xlfn.IFS(_xlfn.XLOOKUP(B73,FORM2.3!$C$12:$C$181,FORM2.3!$I$12:$I$181)='TABELAS AUXILIARES'!$E$7,\"Resposta Não Preenchida\", _xlfn.XLOOKUP(B73,FORM2.3!$C$12:$C$181,FORM2.3!$I$12:$I$181)='TABELAS AUXILIARES'!$E$8,\"Implementada\", _xlfn.XLOOKUP(B73,FORM2.3!$C$12:$C$181,FORM2.3!$I$12:$I$181)='TABELAS AUXILIARES'!$E$9,\"Não Implementada\", _xlfn.XLOOKUP(B73,FORM2.3!$C$12:$C$181,FORM2.3!$I$12:$I$181)='TABELAS AUXILIARES'!$E$10,\"Não Implementada\", _xlfn.XLOOKUP(B73,FORM2.3!$C$12:$C$181,FORM2.3!$I$12:$I$181)='TABELAS AUXILIARES'!$E$11,\"Não Implementada\", _xlfn.XLOOKUP(B73,FORM2.3!$C$12:$C$181,FORM2.3!$I$12:$I$181)='TABELAS AUXILIARES'!$E$12,\"Não Adota\", _xlfn.XLOOKUP(B73,FORM2.3!$C$12:$C$181,FORM2.3!$I$12:$I$181)='TABELAS AUXILIARES'!$E$13,\"Não se aplica\")","v":"Resposta Não Preenchida"}]
[null,"3.14",{"$f":"FORM2.3!G39","v":"O órgão registra o acesso a dados sensíveis?"},{"$f":"FORM2.3!H39","v":"Registrar o acesso a dados sensíveis, incluindo modificação e descarte."},{"$f":"_xlfn.IFS(_xlfn.XLOOKUP(B74,FORM2.3!$C$12:$C$181,FORM2.3!$I$12:$I$181)='TABELAS AUXILIARES'!$E$7,\"Resposta Não Preenchida\", _xlfn.XLOOKUP(B74,FORM2.3!$C$12:$C$181,FORM2.3!$I$12:$I$181)='TABELAS AUXILIARES'!$E$8,\"Implementada\", _xlfn.XLOOKUP(B74,FORM2.3!$C$12:$C$181,FORM2.3!$I$12:$I$181)='TABELAS AUXILIARES'!$E$9,\"Não Implementada\", _xlfn.XLOOKUP(B74,FORM2.3!$C$12:$C$181,FORM2.3!$I$12:$I$181)='TABELAS AUXILIARES'!$E$10,\"Não Implementada\", _xlfn.XLOOKUP(B74,FORM2.3!$C$12:$C$181,FORM2.3!$I$12:$I$181)='TABELAS AUXILIARES'!$E$11,\"Não Implementada\", _xlfn.XLOOKUP(B74,FORM2.3!$C$12:$C$181,FORM2.3!$I$12:$I$181)='TABELAS AUXILIARES'!$E$12,\"Não Adota\", _xlfn.XLOOKUP(B74,FORM2.3!$C$12:$C$181,FORM2.3!$I$12:$I$181)='TABELAS AUXILIARES'!$E$13,\"Não se aplica\")","v":"Resposta Não Preenchida"}]
[]
[null,4,"CIS CONTROLE 4: CONFIGURAÇÃO SEGURA DE ATIVOS INSTITUCIONAIS E SOFTWARE"]
[null,{"$f":"FORM2.3!K41","v":"Controle Não Foi Respondido"}]
[null,null,"MEDIDAS DE SEGURANÇA"]
[null,"Nível de Capacidade do Controle"]
[null,"ID","Medida","Descrição","Resposta"]
[null,"4.1",{"$f":"FORM2.3!G41","v":"O órgão estabelece e mantém um processo de configuração segura?"},{"$f":"FORM2.3!H41","v":"Estabelecer e manter um processo de configuração segura para ativos corporativos (dispositivos de usuário final, incluindo portáteis e móveis; dispositivos não computacionais/IoT; e servidores) e software (sistemas operacionais e \naplicações). Revisar e atualizar a documentação anualmente ou quando ocorrerem mudanças significativas na organização que possam impactar esta medida de segurança."},{"$f":"_xlfn.IFS(_xlfn.XLOOKUP(B81,FORM2.3!$C$12:$C$181,FORM2.3!$I$12:$I$181)='TABELAS AUXILIARES'!$E$7,\"Resposta Não Preenchida\", _xlfn.XLOOKUP(B81,FORM2.3!$C$12:$C$181,FORM2.3!$I$12:$I$181)='TABELAS AUXILIARES'!$E$8,\"Implementada\", _xlfn.XLOOKUP(B81,FORM2.3!$C$12:$C$181,FORM2.3!$I$12:$I$181)='TABELAS AUXILIARES'!$E$9,\"Não Implementada\", _xlfn.XLOOKUP(B81,FORM2.3!$C$12:$C$181,FORM2.3!$I$12:$I$181)='TABELAS AUXILIARES'!$E$10,\"Não Implementada\", _xlfn.XLOOKUP(B81,FORM2.3!$C$12:$C$181,FORM2.3!$I$12:$I$181)='TABELAS AUXILIARES'!$E$11,\"Não Implementada\", _xlfn.XLOOKUP(B81,FORM2.3!$C$12:$C$181,FORM2.3!$I$12:$I$181)='TABELAS AUXILIARES'!$E$12,\"Não Adota\", _xlfn.XLOOKUP(B81,FORM2.3!$C$12:$C$181,FORM2.3!$I$12:$I$181)='TABELAS AUXILIARES'!$E$13,\"Não se aplica\")","v":"Resposta Não Preenchida"}]
[null,"4.2",{"$f":"FORM2.3!G42","v":"O órgão estabelece e mantém um processo de configuração segura para a Infraestrutura de Rede?"},{"$f":"FORM2.3!H42","v":"Estabelecer e manter um processo de configuração segura para dispositivos de rede. Revisar e atualizar a documentação anualmente ou quando ocorrerem mudanças significativas na organização que possam impactar esta medida de segurança."},{"$f":"_xlfn.IFS(_xlfn.XLOOKUP(B82,FORM2.3!$C$12:$C$181,FORM2.3!$I$12:$I$181)='TABELAS AUXILIARES'!$E$7,\"Resposta Não Preenchida\", _xlfn.XLOOKUP(B82,FORM2.3!$C$12:$C$181,FORM2.3!$I$12:$I$181)='TABELAS AUXILIARES'!$E$8,\"Implementada\", _xlfn.XLOOKUP(B82,FORM2.3!$C$12:$C$181,FORM2.3!$I$12:$I$181)='TABELAS AUXILIARES'!$E$9,\"Não Implementada\", _xlfn.XLOOKUP(B82,FORM2.3!$C$12:$C$181,FORM2.3!$I$12:$I$181)='TABELAS AUXILIARES'!$E$10,\"Não Implementada\", _xlfn.XLOOKUP(B82,FORM2.3!$C$12:$C$181,FORM2.3!$I$12:$I$181)='TABELAS AUXILIARES'!$E$11,\"Não Implementada\", _xlfn.XLOOKUP(B82,FORM2.3!$C$12:$C$181,FORM2.3!$I$12:$I$181)='TABELAS AUXILIARES'!$E$12,\"Não Adota\", _xlfn.XLOOKUP(B82,FORM2.3!$C$12:$C$181,FORM2.3!$I$12:$I$181)='TABELAS AUXILIARES'!$E$13,\"Não se aplica\")","v":"Resposta Não Preenchida"}]
[null,"4.3",{"$f":"FORM2.3!G43","v":"O órgão configura o bloqueio automático de sessão nos ativos?"},{"$f":"FORM2.3!H43","v":"Configurar o bloqueio automático de sessão nos ativos após um período definido de inatividade. Para sistemas operacionais de uso geral, o período não deve exceder 15 minutos. Para dispositivos móveis de usuário final, o período não deve exceder 2 minutos."},{"$f":"_xlfn.IFS(_xlfn.XLOOKUP(B83,FORM2.3!$C$12:$C$181,FORM2.3!$I$12:$I$181)='TABELAS AUXILIARES'!$E$7,\"Resposta Não Preenchida\", _xlfn.XLOOKUP(B83,FORM2.3!$C$12:$C$181,FORM2.3!$I$12:$I$181)='TABELAS AUXILIARES'!$E$8,\"Implementada\", _xlfn.XLOOKUP(B83,FORM2.3!$C$12:$C$181,FORM2.3!$I$12:$I$181)='TABELAS AUXILIARES'!$E$9,\"Não Implementada\", _xlfn.XLOOKUP(B83,FORM2.3!$C$12:$C$181,FORM2.3!$I$12:$I$181)='TABELAS AUXILIARES'!$E$10,\"Não Implementada\", _xlfn.XLOOKUP(B83,FORM2.3!$C$12:$C$181,FORM2.3!$I$12:$I$181)='TABELAS AUXILIARES'!$E$11,\"Não Implementada\", _xlfn.XLOOKUP(B83,FORM2.3!$C$12:$C$181,FORM2.3!$I$12:$I$181)='TABELAS AUXILIARES'!$E$12,\"Não Adota\", _xlfn.XLOOKUP(B83,FORM2.3!$C$12:$C$181,FORM2.3!$I$12:$I$181)='TABELAS AUXILIARES'!$E$13,\"Não se aplica\")","v":"Resposta Não Preenchida"}]
[null,"4.4",{"$f":"FORM2.3!G44","v":"O órgão implementa e gerencia um firewall nos servidores?"},{"$f":"FORM2.3!H44","v":"Implementar e gerenciar um firewall nos servidores, onde houver suporte."},{"$f":"_xlfn.IFS(_xlfn.XLOOKUP(B84,FORM2.3!$C$12:$C$181,FORM2.3!$I$12:$I$181)='TABELAS AUXILIARES'!$E$7,\"Resposta Não Preenchida\", _xlfn.XLOOKUP(B84,FORM2.3!$C$12:$C$181,FORM2.3!$I$12:$I$181)='TABELAS AUXILIARES'!$E$8,\"Implementada\", _xlfn.XLOOKUP(B84,FORM2.3!$C$12:$C$181,FORM2.3!$I$12:$I$181)='TABELAS AUXILIARES'!$E$9,\"Não Implementada\", _xlfn.XLOOKUP(B84,FORM2.3!$C$12:$C$181,FORM2.3!$I$12:$I$181)='TABELAS AUXILIARES'!$E$10,\"Não Implementada\", _xlfn.XLOOKUP(B84,FORM2.3!$C$12:$C$181,FORM2.3!$I$12:$I$181)='TABELAS AUXILIARES'!$E$11,\"Não Implementada\", _xlfn.XLOOKUP(B84,FORM2.3!$C$12:$C$181,FORM2.3!$I$12:$I$181)='TABELAS AUXILIARES'!$E$12,\"Não Adota\", _xlfn.XLOOKUP(B84,FORM2.3!$C$12:$C$181,FORM2.3!$I$12:$I$181)='TABELAS AUXILIARES'!$E$13,\"Não se aplica\")","v":"Resposta Não Preenchida"}]
[null,"4.5",{"$f":"FORM2.3!G45","v":"O órgão implementa e gerencia um firewall nos dispositivos de usuário final?"},{"$f":"FORM2.3!H45","v":"Implementar e gerenciar um firewall baseado em host ou uma ferramenta de filtragem de porta nos dispositivos de usuário final, com uma regra de negação padrão que bloqueia todo o tráfego, exceto os serviços e portas que são explicitamente permitidos."},{"$f":"_xlfn.IFS(_xlfn.XLOOKUP(B85,FORM2.3!$C$12:$C$181,FORM2.3!$I$12:$I$181)='TABELAS AUXILIARES'!$E$7,\"Resposta Não Preenchida\", _xlfn.XLOOKUP(B85,FORM2.3!$C$12:$C$181,FORM2.3!$I$12:$I$181)='TABELAS AUXILIARES'!$E$8,\"Implementada\", _xlfn.XLOOKUP(B85,FORM2.3!$C$12:$C$181,FORM2.3!$I$12:$I$181)='TABELAS AUXILIARES'!$E$9,\"Não Implementada\", _xlfn.XLOOKUP(B85,FORM2.3!$C$12:$C$181,FORM2.3!$I$12:$I$181)='TABELAS AUXILIARES'!$E$10,\"Não Implementada\", _xlfn.XLOOKUP(B85,FORM2.3!$C$12:$C$181,FORM2.3!$I$12:$I$181)='TABELAS AUXILIARES'!$E$11,\"Não Implementada\", _xlfn.XLOOKUP(B85,FORM2.3!$C$12:$C$181,FORM2.3!$I$12:$I$181)='TABELAS AUXILIARES'!$E$12,\"Não Adota\", _xlfn.XLOOKUP(B85,FORM2.3!$C$12:$C$181,FORM2.3!$I$12:$I$181)='TABELAS AUXILIARES'!$E$13,\"Não se aplica\")","v":"Resposta Não Preenchida"}]
[null,"4.6",{"$f":"FORM2.3!G46","v":"O órgão gerencia com segurança os ativos coorporativos e softwares?"},{"$f":"FORM2.3!H46","v":"Gerenciar com segurança os ativos e software. Exemplos de implementações incluem gestão de configuração por meio de versioncontrolled-infrastructure-as-code e acesso a interfaces administrativas por meio de protocolos de rede seguros."},{"$f":"_xlfn.IFS(_xlfn.XLOOKUP(B86,FORM2.3!$C$12:$C$181,FORM2.3!$I$12:$I$181)='TABELAS AUXILIARES'!$E$7,\"Resposta Não Preenchida\", _xlfn.XLOOKUP(B86,FORM2.3!$C$12:$C$181,FORM2.3!$I$12:$I$181)='TABELAS AUXILIARES'!$E$8,\"Implementada\", _xlfn.XLOOKUP(B86,FORM2.3!$C$12:$C$181,FORM2.3!$I$12:$I$181)='TABELAS AUXILIARES'!$E$9,\"Não Implementada\", _xlfn.XLOOKUP(B86,FORM2.3!$C$12:$C$181,FORM2.3!$I$12:$I$181)='TABELAS AUXILIARES'!$E$10,\"Não Implementada\", _xlfn.XLOOKUP(B86,FORM2.3!$C$12:$C$181,FORM2.3!$I$12:$I$181)='TABELAS AUXILIARES'!$E$11,\"Não Implementada\", _xlfn.XLOOKUP(B86,FORM2.3!$C$12:$C$181,FORM2.3!$I$12:$I$181)='TABELAS AUXILIARES'!$E$12,\"Não Adota\", _xlfn.XLOOKUP(B86,FORM2.3!$C$12:$C$181,FORM2.3!$I$12:$I$181)='TABELAS AUXILIARES'!$E$13,\"Não se aplica\")","v":"Resposta Não Preenchida"}]
[null,"4.7",{"$f":"FORM2.3!G47","v":"O órgão gerencia contas padrão nos ativos coorporativos e software?"},{"$f":"FORM2.3!H47","v":"Gerenciar contas padrão nos ativos e software, como root, administrador e outras contas de fornecedores pré configuradas."},{"$f":"_xlfn.IFS(_xlfn.XLOOKUP(B87,FORM2.3!$C$12:$C$181,FORM2.3!$I$12:$I$181)='TABELAS AUXILIARES'!$E$7,\"Resposta Não Preenchida\", _xlfn.XLOOKUP(B87,FORM2.3!$C$12:$C$181,FORM2.3!$I$12:$I$181)='TABELAS AUXILIARES'!$E$8,\"Implementada\", _xlfn.XLOOKUP(B87,FORM2.3!$C$12:$C$181,FORM2.3!$I$12:$I$181)='TABELAS AUXILIARES'!$E$9,\"Não Implementada\", _xlfn.XLOOKUP(B87,FORM2.3!$C$12:$C$181,FORM2.3!$I$12:$I$181)='TABELAS AUXILIARES'!$E$10,\"Não Implementada\", _xlfn.XLOOKUP(B87,FORM2.3!$C$12:$C$181,FORM2.3!$I$12:$I$181)='TABELAS AUXILIARES'!$E$11,\"Não Implementada\", _xlfn.XLOOKUP(B87,FORM2.3!$C$12:$C$181,FORM2.3!$I$12:$I$181)='TABELAS AUXILIARES'!$E$12,\"Não Adota\", _xlfn.XLOOKUP(B87,FORM2.3!$C$12:$C$181,FORM2.3!$I$12:$I$181)='TABELAS AUXILIARES'!$E$13,\"Não se aplica\")","v":"Resposta Não Preenchida"}]
[null,"4.8",{"$f":"FORM2.3!G48","v":"O órgão desinstala ou desativa serviços desnecessários nos ativos e software?"},{"$f":"FORM2.3!H48","v":"Desinstalar ou desativar serviços desnecessários nos ativos e software, como serviço de compartilhamento de arquivo não utilizado, módulo de aplicação web ou função de serviço."},{"$f":"_xlfn.IFS(_xlfn.XLOOKUP(B88,FORM2.3!$C$12:$C$181,FORM2.3!$I$12:$I$181)='TABELAS AUXILIARES'!$E$7,\"Resposta Não Preenchida\", _xlfn.XLOOKUP(B88,FORM2.3!$C$12:$C$181,FORM2.3!$I$12:$I$181)='TABELAS AUXILIARES'!$E$8,\"Implementada\", _xlfn.XLOOKUP(B88,FORM2.3!$C$12:$C$181,FORM2.3!$I$12:$I$181)='TABELAS AUXILIARES'!$E$9,\"Não Implementada\", _xlfn.XLOOKUP(B88,FORM2.3!$C$12:$C$181,FORM2.3!$I$12:$I$181)='TABELAS AUXILIARES'!$E$10,\"Não Implementada\", _xlfn.XLOOKUP(B88,FORM2.3!$C$12:$C$181,FORM2.3!$I$12:$I$181)='TABELAS AUXILIARES'!$E$11,\"Não Implementada\", _xlfn.XLOOKUP(B88,FORM2.3!$C$12:$C$181,FORM2.3!$I$12:$I$181)='TABELAS AUXILIARES'!$E$12,\"Não Adota\", _xlfn.XLOOKUP(B88,FORM2.3!$C$12:$C$181,FORM2.3!$I$12:$I$181)='TABELAS AUXILIARES'!$E$13,\"Não se aplica\")","v":"Resposta Não Preenchida"}]
[null,"4.9",{"$f":"FORM2.3!G49","v":"O órgão configura servidores DNS confiáveis nos ativos?"},{"$f":"FORM2.3!H49","v":"Implementar configuração de ativos para usar servidores DNS controlados pelo órgão e/ou servidores DNS confiáveis acessíveis externamente."},{"$f":"_xlfn.IFS(_xlfn.XLOOKUP(B89,FORM2.3!$C$12:$C$181,FORM2.3!$I$12:$I$181)='TABELAS AUXILIARES'!$E$7,\"Resposta Não Preenchida\", _xlfn.XLOOKUP(B89,FORM2.3!$C$12:$C$181,FORM2.3!$I$12:$I$181)='TABELAS AUXILIARES'!$E$8,\"Implementada\", _xlfn.XLOOKUP(B89,FORM2.3!$C$12:$C$181,FORM2.3!$I$12:$I$181)='TABELAS AUXILIARES'!$E$9,\"Não Implementada\", _xlfn.XLOOKUP(B89,FORM2.3!$C$12:$C$181,FORM2.3!$I$12:$I$181)='TABELAS AUXILIARES'!$E$10,\"Não Implementada\", _xlfn.XLOOKUP(B89,FORM2.3!$C$12:$C$181,FORM2.3!$I$12:$I$181)='TABELAS AUXILIARES'!$E$11,\"Não Implementada\", _xlfn.XLOOKUP(B89,FORM2.3!$C$12:$C$181,FORM2.3!$I$12:$I$181)='TABELAS AUXILIARES'!$E$12,\"Não Adota\", _xlfn.XLOOKUP(B89,FORM2.3!$C$12:$C$181,FORM2.3!$I$12:$I$181)='TABELAS AUXILIARES'!$E$13,\"Não se aplica\")","v":"Resposta Não Preenchida"}]
[null,"4.10",{"$f":"FORM2.3!G48","v":"O órgão desinstala ou desativa serviços desnecessários nos ativos e software?"},{"$f":"FORM2.3!H48","v":"Desinstalar ou desativar serviços desnecessários nos ativos e software, como serviço de compartilhamento de arquivo não utilizado, módulo de aplicação web ou função de serviço."},{"$f":"_xlfn.IFS(_xlfn.XLOOKUP(B90,FORM2.3!$C$12:$C$181,FORM2.3!$I$12:$I$181)='TABELAS AUXILIARES'!$E$7,\"Resposta Não Preenchida\", _xlfn.XLOOKUP(B90,FORM2.3!$C$12:$C$181,FORM2.3!$I$12:$I$181)='TABELAS AUXILIARES'!$E$8,\"Implementada\", _xlfn.XLOOKUP(B90,FORM2.3!$C$12:$C$181,FORM2.3!$I$12:$I$181)='TABELAS AUXILIARES'!$E$9,\"Não Implementada\", _xlfn.XLOOKUP(B90,FORM2.3!$C$12:$C$181,FORM2.3!$I$12:$I$181)='TABELAS AUXILIARES'!$E$10,\"Não Implementada\", _xlfn.XLOOKUP(B90,FORM2.3!$C$12:$C$181,FORM2.3!$I$12:$I$181)='TABELAS AUXILIARES'!$E$11,\"Não Implementada\", _xlfn.XLOOKUP(B90,FORM2.3!$C$12:$C$181,FORM2.3!$I$12:$I$181)='TABELAS AUXILIARES'!$E$12,\"Não Adota\", _xlfn.XLOOKUP(B90,FORM2.3!$C$12:$C$181,FORM2.3!$I$12:$I$181)='TABELAS AUXILIARES'!$E$13,\"Não se aplica\")","v":"Resposta Não Preenchida"}]
[null,"4.11",{"$f":"FORM2.3!G49","v":"O órgão configura servidores DNS confiáveis nos ativos?"},{"$f":"FORM2.3!H49","v":"Implementar configuração de ativos para usar servidores DNS controlados pelo órgão e/ou servidores DNS confiáveis acessíveis externamente."},{"$f":"_xlfn.IFS(_xlfn.XLOOKUP(B91,FORM2.3!$C$12:$C$181,FORM2.3!$I$12:$I$181)='TABELAS AUXILIARES'!$E$7,\"Resposta Não Preenchida\", _xlfn.XLOOKUP(B91,FORM2.3!$C$12:$C$181,FORM2.3!$I$12:$I$181)='TABELAS AUXILIARES'!$E$8,\"Implementada\", _xlfn.XLOOKUP(B91,FORM2.3!$C$12:$C$181,FORM2.3!$I$12:$I$181)='TABELAS AUXILIARES'!$E$9,\"Não Implementada\", _xlfn.XLOOKUP(B91,FORM2.3!$C$12:$C$181,FORM2.3!$I$12:$I$181)='TABELAS AUXILIARES'!$E$10,\"Não Implementada\", _xlfn.XLOOKUP(B91,FORM2.3!$C$12:$C$181,FORM2.3!$I$12:$I$181)='TABELAS AUXILIARES'!$E$11,\"Não Implementada\", _xlfn.XLOOKUP(B91,FORM2.3!$C$12:$C$181,FORM2.3!$I$12:$I$181)='TABELAS AUXILIARES'!$E$12,\"Não Adota\", _xlfn.XLOOKUP(B91,FORM2.3!$C$12:$C$181,FORM2.3!$I$12:$I$181)='TABELAS AUXILIARES'!$E$13,\"Não se aplica\")","v":"Resposta Não Preenchida"}]
[null,"4.12",{"$f":"FORM2.3!G50","v":"O órgão impõe a capacidade de limpeza remota nos dispositivos portáteis do usuário final?"},{"$f":"FORM2.3!H50","v":"Limpar remotamente os dados institucionais de dispositivos portáteis de usuário final de propriedade da organização quando for considerado apropriado, como dispositivos perdidos ou roubados, ou quando um indivíduo não trabalha mais no órgão."},{"$f":"_xlfn.IFS(_xlfn.XLOOKUP(B92,FORM2.3!$C$12:$C$181,FORM2.3!$I$12:$I$181)='TABELAS AUXILIARES'!$E$7,\"Resposta Não Preenchida\", _xlfn.XLOOKUP(B92,FORM2.3!$C$12:$C$181,FORM2.3!$I$12:$I$181)='TABELAS AUXILIARES'!$E$8,\"Implementada\", _xlfn.XLOOKUP(B92,FORM2.3!$C$12:$C$181,FORM2.3!$I$12:$I$181)='TABELAS AUXILIARES'!$E$9,\"Não Implementada\", _xlfn.XLOOKUP(B92,FORM2.3!$C$12:$C$181,FORM2.3!$I$12:$I$181)='TABELAS AUXILIARES'!$E$10,\"Não Implementada\", _xlfn.XLOOKUP(B92,FORM2.3!$C$12:$C$181,FORM2.3!$I$12:$I$181)='TABELAS AUXILIARES'!$E$11,\"Não Implementada\", _xlfn.XLOOKUP(B92,FORM2.3!$C$12:$C$181,FORM2.3!$I$12:$I$181)='TABELAS AUXILIARES'!$E$12,\"Não Adota\", _xlfn.XLOOKUP(B92,FORM2.3!$C$12:$C$181,FORM2.3!$I$12:$I$181)='TABELAS AUXILIARES'!$E$13,\"Não se aplica\")","v":"Resposta Não Preenchida"}]
[]
[null,5,"CIS CONTROLE 5:  GESTÃO DE CONTAS"]
[null,null,{"$f":"FORM2.3!K54","v":"Controle Não Foi Respondido"}]
[null,null,"MEDIDAS DE SEGURANÇA"]
[null,"Nível de Capacidade do Controle"]
[null,"ID","Medida","Descrição","Resposta"]
[null,"5.1",{"$f":"FORM2.3!G54","v":"O órgão estabelece e mantém um inventário de contas?"},{"$f":"FORM2.3!H54","v":"Estabelecer e manter um inventário de todas as contas gerenciadas na organização. O inventário deve incluir contas de usuário e administrador. Validar se todas as contas ativas estão autorizadas, trimestralmente ou com mais frequência."},{"$f":"_xlfn.IFS(_xlfn.XLOOKUP(B99,FORM2.3!$C$12:$C$181,FORM2.3!$I$12:$I$181)='TABELAS AUXILIARES'!$E$7,\"Resposta Não Preenchida\", _xlfn.XLOOKUP(B99,FORM2.3!$C$12:$C$181,FORM2.3!$I$12:$I$181)='TABELAS AUXILIARES'!$E$8,\"Implementada\", _xlfn.XLOOKUP(B99,FORM2.3!$C$12:$C$181,FORM2.3!$I$12:$I$181)='TABELAS AUXILIARES'!$E$9,\"Não Implementada\", _xlfn.XLOOKUP(B99,FORM2.3!$C$12:$C$181,FORM2.3!$I$12:$I$181)='TABELAS AUXILIARES'!$E$10,\"Não Implementada\", _xlfn.XLOOKUP(B99,FORM2.3!$C$12:$C$181,FORM2.3!$I$12:$I$181)='TABELAS AUXILIARES'!$E$11,\"Não Implementada\", _xlfn.XLOOKUP(B99,FORM2.3!$C$12:$C$181,FORM2.3!$I$12:$I$181)='TABELAS AUXILIARES'!$E$12,\"Não Adota\", _xlfn.XLOOKUP(B99,FORM2.3!$C$12:$C$181,FORM2.3!$I$12:$I$181)='TABELAS AUXILIARES'!$E$13,\"Não se aplica\")","v":"Resposta Não Preenchida"}]
[null,"5.2",{"$f":"FORM2.3!G55","v":"O órgão estabelece e mantém um inventário de contas de serviço?"},{"$f":"FORM2.3!H55","v":"Estabelecer e manter um inventário de contas de serviço. O inventário, no mínimo, deve conter o departamento proprietário, data de revisão e propósito. Realizar análises de contas de serviço para validar se todas as contas ativas estão autorizadas, em uma programação recorrente, no mínimo trimestralmente ou com mais frequência."},{"$f":"_xlfn.IFS(_xlfn.XLOOKUP(B100,FORM2.3!$C$12:$C$181,FORM2.3!$I$12:$I$181)='TABELAS AUXILIARES'!$E$7,\"Resposta Não Preenchida\", _xlfn.XLOOKUP(B100,FORM2.3!$C$12:$C$181,FORM2.3!$I$12:$I$181)='TABELAS AUXILIARES'!$E$8,\"Implementada\", _xlfn.XLOOKUP(B100,FORM2.3!$C$12:$C$181,FORM2.3!$I$12:$I$181)='TABELAS AUXILIARES'!$E$9,\"Não Implementada\", _xlfn.XLOOKUP(B100,FORM2.3!$C$12:$C$181,FORM2.3!$I$12:$I$181)='TABELAS AUXILIARES'!$E$10,\"Não Implementada\", _xlfn.XLOOKUP(B100,FORM2.3!$C$12:$C$181,FORM2.3!$I$12:$I$181)='TABELAS AUXILIARES'!$E$11,\"Não Implementada\", _xlfn.XLOOKUP(B100,FORM2.3!$C$12:$C$181,FORM2.3!$I$12:$I$181)='TABELAS AUXILIARES'!$E$12,\"Não Adota\", _xlfn.XLOOKUP(B100,FORM2.3!$C$12:$C$181,FORM2.3!$I$12:$I$181)='TABELAS AUXILIARES'!$E$13,\"Não se aplica\")","v":"Resposta Não Preenchida"}]
[null,"5.3",{"$f":"FORM2.3!G56","v":"O órgão usa senhas exclusivas?"},{"$f":"FORM2.3!H56","v":"Usar senhas exclusivas para todos os ativos institucionais. Contas que usam MFA (Autenticação multifator) no mínimo senhas de 8 caracteres e uma senha de 14 caracteres para contas que não usam o MFA."},{"$f":"_xlfn.IFS(_xlfn.XLOOKUP(B101,FORM2.3!$C$12:$C$181,FORM2.3!$I$12:$I$181)='TABELAS AUXILIARES'!$E$7,\"Resposta Não Preenchida\", _xlfn.XLOOKUP(B101,FORM2.3!$C$12:$C$181,FORM2.3!$I$12:$I$181)='TABELAS AUXILIARES'!$E$8,\"Implementada\", _xlfn.XLOOKUP(B101,FORM2.3!$C$12:$C$181,FORM2.3!$I$12:$I$181)='TABELAS AUXILIARES'!$E$9,\"Não Implementada\", _xlfn.XLOOKUP(B101,FORM2.3!$C$12:$C$181,FORM2.3!$I$12:$I$181)='TABELAS AUXILIARES'!$E$10,\"Não Implementada\", _xlfn.XLOOKUP(B101,FORM2.3!$C$12:$C$181,FORM2.3!$I$12:$I$181)='TABELAS AUXILIARES'!$E$11,\"Não Implementada\", _xlfn.XLOOKUP(B101,FORM2.3!$C$12:$C$181,FORM2.3!$I$12:$I$181)='TABELAS AUXILIARES'!$E$12,\"Não Adota\", _xlfn.XLOOKUP(B101,FORM2.3!$C$12:$C$181,FORM2.3!$I$12:$I$181)='TABELAS AUXILIARES'!$E$13,\"Não se aplica\")","v":"Resposta Não Preenchida"}]
[null,"5.4",{"$f":"FORM2.3!G57","v":"O órgão restringe privilégios de administrador a contas de administrador dedicadas?"},{"$f":"FORM2.3!H57","v":"Restringir os privilégios de administrador a contas de administrador dedicados nos ativos institucionais. Realizar atividades gerais de computação, como navegação na Internet, e-mail e uso do pacote de produtividade, a partir da conta primária não privilegiada do usuário."},{"$f":"_xlfn.IFS(_xlfn.XLOOKUP(B102,FORM2.3!$C$12:$C$181,FORM2.3!$I$12:$I$181)='TABELAS AUXILIARES'!$E$7,\"Resposta Não Preenchida\", _xlfn.XLOOKUP(B102,FORM2.3!$C$12:$C$181,FORM2.3!$I$12:$I$181)='TABELAS AUXILIARES'!$E$8,\"Implementada\", _xlfn.XLOOKUP(B102,FORM2.3!$C$12:$C$181,FORM2.3!$I$12:$I$181)='TABELAS AUXILIARES'!$E$9,\"Não Implementada\", _xlfn.XLOOKUP(B102,FORM2.3!$C$12:$C$181,FORM2.3!$I$12:$I$181)='TABELAS AUXILIARES'!$E$10,\"Não Implementada\", _xlfn.XLOOKUP(B102,FORM2.3!$C$12:$C$181,FORM2.3!$I$12:$I$181)='TABELAS AUXILIARES'!$E$11,\"Não Implementada\", _xlfn.XLOOKUP(B102,FORM2.3!$C$12:$C$181,FORM2.3!$I$12:$I$181)='TABELAS AUXILIARES'!$E$12,\"Não Adota\", _xlfn.XLOOKUP(B102,FORM2.3!$C$12:$C$181,FORM2.3!$I$12:$I$181)='TABELAS AUXILIARES'!$E$13,\"Não se aplica\")","v":"Resposta Não Preenchida"}]
[null,"5.5",{"$f":"FORM2.3!G58","v":"O órgão centraliza a gestão de contas?"},{"$f":"FORM2.3!H58","v":"Centralizar a gestão de contas por meio de serviço de diretório ou de identidade."},{"$f":"_xlfn.IFS(_xlfn.XLOOKUP(B103,FORM2.3!$C$12:$C$181,FORM2.3!$I$12:$I$181)='TABELAS AUXILIARES'!$E$7,\"Resposta Não Preenchida\", _xlfn.XLOOKUP(B103,FORM2.3!$C$12:$C$181,FORM2.3!$I$12:$I$181)='TABELAS AUXILIARES'!$E$8,\"Implementada\", _xlfn.XLOOKUP(B103,FORM2.3!$C$12:$C$181,FORM2.3!$I$12:$I$181)='TABELAS AUXILIARES'!$E$9,\"Não Implementada\", _xlfn.XLOOKUP(B103,FORM2.3!$C$12:$C$181,FORM2.3!$I$12:$I$181)='TABELAS AUXILIARES'!$E$10,\"Não Implementada\", _xlfn.XLOOKUP(B103,FORM2.3!$C$12:$C$181,FORM2.3!$I$12:$I$181)='TABELAS AUXILIARES'!$E$11,\"Não Implementada\", _xlfn.XLOOKUP(B103,FORM2.3!$C$12:$C$181,FORM2.3!$I$12:$I$181)='TABELAS AUXILIARES'!$E$12,\"Não Adota\", _xlfn.XLOOKUP(B103,FORM2.3!$C$12:$C$181,FORM2.3!$I$12:$I$181)='TABELAS AUXILIARES'!$E$13,\"Não se aplica\")","v":"Resposta Não Preenchida"}]
[null,"5.6",{"$f":"FORM2.3!G59","v":"O órgão desabilita contas inativas?"},{"$f":"FORM2.3!H59","v":"Excluir ou desabilitar quaisquer contas inativas após um período de 45 dias de inatividade."},{"$f":"_xlfn.IFS(_xlfn.XLOOKUP(B104,FORM2.3!$C$12:$C$181,FORM2.3!$I$12:$I$181)='TABELAS AUXILIARES'!$E$7,\"Resposta Não Preenchida\", _xlfn.XLOOKUP(B104,FORM2.3!$C$12:$C$181,FORM2.3!$I$12:$I$181)='TABELAS AUXILIARES'!$E$8,\"Implementada\", _xlfn.XLOOKUP(B104,FORM2.3!$C$12:$C$181,FORM2.3!$I$12:$I$181)='TABELAS AUXILIARES'!$E$9,\"Não Implementada\", _xlfn.XLOOKUP(B104,FORM2.3!$C$12:$C$181,FORM2.3!$I$12:$I$181)='TABELAS AUXILIARES'!$E$10,\"Não Implementada\", _xlfn.XLOOKUP(B104,FORM2.3!$C$12:$C$181,FORM2.3!$I$12:$I$181)='TABELAS AUXILIARES'!$E$11,\"Não Implementada\", _xlfn.XLOOKUP(B104,FORM2.3!$C$12:$C$181,FORM2.3!$I$12:$I$181)='TABELAS AUXILIARES'!$E$12,\"Não Adota\", _xlfn.XLOOKUP(B104,FORM2.3!$C$12:$C$181,FORM2.3!$I$12:$I$181)='TABELAS AUXILIARES'!$E$13,\"Não se aplica\")","v":"Resposta Não Preenchida"}]
[]
[null,6,"CIS CONTROLE 6:  GESTÃO DO CONTROLE DE ACESSO"]
[null,null,{"$f":"FORM2.3!K61","v":"Controle Não Foi Respondido"}]
[null,null,"MEDIDAS DE SEGURANÇA"]
[null,"Nível de Capacidade do Controle"]
[null,"ID","Medida","Descrição","Resposta"]
[null,"6.1",{"$f":"FORM2.3!G61","v":"O órgão estabelece e mantém um inventário de sistemas de autenticação e autorização?"},{"$f":"FORM2.3!H61","v":"Estabelecer e manter um inventário dos sistemas de autenticação e autorização da organização, incluindo aqueles hospedados no site local ou em um provedor de serviços remoto. Revisar e atualizar o inventário anualmente ou com mais frequência."},{"$f":"_xlfn.IFS(_xlfn.XLOOKUP(B111,FORM2.3!$C$12:$C$181,FORM2.3!$I$12:$I$181)='TABELAS AUXILIARES'!$E$7,\"Resposta Não Preenchida\", _xlfn.XLOOKUP(B111,FORM2.3!$C$12:$C$181,FORM2.3!$I$12:$I$181)='TABELAS AUXILIARES'!$E$8,\"Implementada\", _xlfn.XLOOKUP(B111,FORM2.3!$C$12:$C$181,FORM2.3!$I$12:$I$181)='TABELAS AUXILIARES'!$E$9,\"Não Implementada\", _xlfn.XLOOKUP(B111,FORM2.3!$C$12:$C$181,FORM2.3!$I$12:$I$181)='TABELAS AUXILIARES'!$E$10,\"Não Implementada\", _xlfn.XLOOKUP(B111,FORM2.3!$C$12:$C$181,FORM2.3!$I$12:$I$181)='TABELAS AUXILIARES'!$E$11,\"Não Implementada\", _xlfn.XLOOKUP(B111,FORM2.3!$C$12:$C$181,FORM2.3!$I$12:$I$181)='TABELAS AUXILIARES'!$E$12,\"Não Adota\", _xlfn.XLOOKUP(B111,FORM2.3!$C$12:$C$181,FORM2.3!$I$12:$I$181)='TABELAS AUXILIARES'!$E$13,\"Não se aplica\")","v":"Resposta Não Preenchida"}]
[null,"6.2",{"$f":"FORM2.3!G62","v":"O órgão estabelece um Processo de Concessão de Acesso?"},{"$f":"FORM2.3!H62","v":"Estabelecer e seguir um processo, de preferência automatizado, para conceder acesso aos ativos institucionais mediante nova contratação, concessão de direitos ou mudança de função de um usuário."},{"$f":"_xlfn.IFS(_xlfn.XLOOKUP(B112,FORM2.3!$C$12:$C$181,FORM2.3!$I$12:$I$181)='TABELAS AUXILIARES'!$E$7,\"Resposta Não Preenchida\", _xlfn.XLOOKUP(B112,FORM2.3!$C$12:$C$181,FORM2.3!$I$12:$I$181)='TABELAS AUXILIARES'!$E$8,\"Implementada\", _xlfn.XLOOKUP(B112,FORM2.3!$C$12:$C$181,FORM2.3!$I$12:$I$181)='TABELAS AUXILIARES'!$E$9,\"Não Implementada\", _xlfn.XLOOKUP(B112,FORM2.3!$C$12:$C$181,FORM2.3!$I$12:$I$181)='TABELAS AUXILIARES'!$E$10,\"Não Implementada\", _xlfn.XLOOKUP(B112,FORM2.3!$C$12:$C$181,FORM2.3!$I$12:$I$181)='TABELAS AUXILIARES'!$E$11,\"Não Implementada\", _xlfn.XLOOKUP(B112,FORM2.3!$C$12:$C$181,FORM2.3!$I$12:$I$181)='TABELAS AUXILIARES'!$E$12,\"Não Adota\", _xlfn.XLOOKUP(B112,FORM2.3!$C$12:$C$181,FORM2.3!$I$12:$I$181)='TABELAS AUXILIARES'!$E$13,\"Não se aplica\")","v":"Resposta Não Preenchida"}]
[null,"6.3",{"$f":"FORM2.3!G63","v":"O órgão estabelece um Processo de Revogação de Acesso?"},{"$f":"FORM2.3!H63","v":"Estabelecer e seguir um processo, de preferência automatizado, para revogar o acesso aos ativos institucionais, por meio da desativação de contas imediatamente após o encerramento, revogação de direitos ou mudança de função de um usuário. Desativar contas, em vez de excluí-las, pode ser necessário para preservar as trilhas de auditoria."},{"$f":"_xlfn.IFS(_xlfn.XLOOKUP(B113,FORM2.3!$C$12:$C$181,FORM2.3!$I$12:$I$181)='TABELAS AUXILIARES'!$E$7,\"Resposta Não Preenchida\", _xlfn.XLOOKUP(B113,FORM2.3!$C$12:$C$181,FORM2.3!$I$12:$I$181)='TABELAS AUXILIARES'!$E$8,\"Implementada\", _xlfn.XLOOKUP(B113,FORM2.3!$C$12:$C$181,FORM2.3!$I$12:$I$181)='TABELAS AUXILIARES'!$E$9,\"Não Implementada\", _xlfn.XLOOKUP(B113,FORM2.3!$C$12:$C$181,FORM2.3!$I$12:$I$181)='TABELAS AUXILIARES'!$E$10,\"Não Implementada\", _xlfn.XLOOKUP(B113,FORM2.3!$C$12:$C$181,FORM2.3!$I$12:$I$181)='TABELAS AUXILIARES'!$E$11,\"Não Implementada\", _xlfn.XLOOKUP(B113,FORM2.3!$C$12:$C$181,FORM2.3!$I$12:$I$181)='TABELAS AUXILIARES'!$E$12,\"Não Adota\", _xlfn.XLOOKUP(B113,FORM2.3!$C$12:$C$181,FORM2.3!$I$12:$I$181)='TABELAS AUXILIARES'!$E$13,\"Não se aplica\")","v":"Resposta Não Preenchida"}]
[null,"6.4",{"$f":"FORM2.3!G64","v":"O órgão exige MFA para aplicações expostas externamente?"},{"$f":"FORM2.3!H64","v":"Exigir que todas as aplicações corporativas ou de terceiros expostas externamente apliquem o MFA. Impor o MFA por meio de um serviço de diretório ou provedor de SSO é uma implementação satisfatória desta medida de segurança."},{"$f":"_xlfn.IFS(_xlfn.XLOOKUP(B114,FORM2.3!$C$12:$C$181,FORM2.3!$I$12:$I$181)='TABELAS AUXILIARES'!$E$7,\"Resposta Não Preenchida\", _xlfn.XLOOKUP(B114,FORM2.3!$C$12:$C$181,FORM2.3!$I$12:$I$181)='TABELAS AUXILIARES'!$E$8,\"Implementada\", _xlfn.XLOOKUP(B114,FORM2.3!$C$12:$C$181,FORM2.3!$I$12:$I$181)='TABELAS AUXILIARES'!$E$9,\"Não Implementada\", _xlfn.XLOOKUP(B114,FORM2.3!$C$12:$C$181,FORM2.3!$I$12:$I$181)='TABELAS AUXILIARES'!$E$10,\"Não Implementada\", _xlfn.XLOOKUP(B114,FORM2.3!$C$12:$C$181,FORM2.3!$I$12:$I$181)='TABELAS AUXILIARES'!$E$11,\"Não Implementada\", _xlfn.XLOOKUP(B114,FORM2.3!$C$12:$C$181,FORM2.3!$I$12:$I$181)='TABELAS AUXILIARES'!$E$12,\"Não Adota\", _xlfn.XLOOKUP(B114,FORM2.3!$C$12:$C$181,FORM2.3!$I$12:$I$181)='TABELAS AUXILIARES'!$E$13,\"Não se aplica\")","v":"Resposta Não Preenchida"}]
[null,"6.5",{"$f":"FORM2.3!G65","v":"O órgão exige MFA para acesso remoto à rede?"},{"$f":"FORM2.3!H65","v":"Exigir MFA para acesso remoto à rede."},{"$f":"_xlfn.IFS(_xlfn.XLOOKUP(B115,FORM2.3!$C$12:$C$181,FORM2.3!$I$12:$I$181)='TABELAS AUXILIARES'!$E$7,\"Resposta Não Preenchida\", _xlfn.XLOOKUP(B115,FORM2.3!$C$12:$C$181,FORM2.3!$I$12:$I$181)='TABELAS AUXILIARES'!$E$8,\"Implementada\", _xlfn.XLOOKUP(B115,FORM2.3!$C$12:$C$181,FORM2.3!$I$12:$I$181)='TABELAS AUXILIARES'!$E$9,\"Não Implementada\", _xlfn.XLOOKUP(B115,FORM2.3!$C$12:$C$181,FORM2.3!$I$12:$I$181)='TABELAS AUXILIARES'!$E$10,\"Não Implementada\", _xlfn.XLOOKUP(B115,FORM2.3!$C$12:$C$181,FORM2.3!$I$12:$I$181)='TABELAS AUXILIARES'!$E$11,\"Não Implementada\", _xlfn.XLOOKUP(B115,FORM2.3!$C$12:$C$181,FORM2.3!$I$12:$I$181)='TABELAS AUXILIARES'!$E$12,\"Não Adota\", _xlfn.XLOOKUP(B115,FORM2.3!$C$12:$C$181,FORM2.3!$I$12:$I$181)='TABELAS AUXILIARES'!$E$13,\"Não se aplica\")","v":"Resposta Não Preenchida"}]
[null,"6.6",{"$f":"FORM2.3!G66","v":"O órgão exige MFA para acesso administrativo?"},{"$f":"FORM2.3!H66","v":"Exigir MFA para todas as contas de acesso administrativo, em todos os ativos institucionais, sejam gerenciados no site local ou por meio de um provedor terceirizado."},{"$f":"_xlfn.IFS(_xlfn.XLOOKUP(B116,FORM2.3!$C$12:$C$181,FORM2.3!$I$12:$I$181)='TABELAS AUXILIARES'!$E$7,\"Resposta Não Preenchida\", _xlfn.XLOOKUP(B116,FORM2.3!$C$12:$C$181,FORM2.3!$I$12:$I$181)='TABELAS AUXILIARES'!$E$8,\"Implementada\", _xlfn.XLOOKUP(B116,FORM2.3!$C$12:$C$181,FORM2.3!$I$12:$I$181)='TABELAS AUXILIARES'!$E$9,\"Não Implementada\", _xlfn.XLOOKUP(B116,FORM2.3!$C$12:$C$181,FORM2.3!$I$12:$I$181)='TABELAS AUXILIARES'!$E$10,\"Não Implementada\", _xlfn.XLOOKUP(B116,FORM2.3!$C$12:$C$181,FORM2.3!$I$12:$I$181)='TABELAS AUXILIARES'!$E$11,\"Não Implementada\", _xlfn.XLOOKUP(B116,FORM2.3!$C$12:$C$181,FORM2.3!$I$12:$I$181)='TABELAS AUXILIARES'!$E$12,\"Não Adota\", _xlfn.XLOOKUP(B116,FORM2.3!$C$12:$C$181,FORM2.3!$I$12:$I$181)='TABELAS AUXILIARES'!$E$13,\"Não se aplica\")","v":"Resposta Não Preenchida"}]
[null,"6.7",{"$f":"FORM2.3!G67","v":"O órgão centraliza o controle de acesso?"},{"$f":"FORM2.3!H67","v":"Centralizar o controle de acesso para todos os ativos institucionais por meio de um serviço de diretório ou provedor de SSO"},{"$f":"_xlfn.IFS(_xlfn.XLOOKUP(B117,FORM2.3!$C$12:$C$181,FORM2.3!$I$12:$I$181)='TABELAS AUXILIARES'!$E$7,\"Resposta Não Preenchida\", _xlfn.XLOOKUP(B117,FORM2.3!$C$12:$C$181,FORM2.3!$I$12:$I$181)='TABELAS AUXILIARES'!$E$8,\"Implementada\", _xlfn.XLOOKUP(B117,FORM2.3!$C$12:$C$181,FORM2.3!$I$12:$I$181)='TABELAS AUXILIARES'!$E$9,\"Não Implementada\", _xlfn.XLOOKUP(B117,FORM2.3!$C$12:$C$181,FORM2.3!$I$12:$I$181)='TABELAS AUXILIARES'!$E$10,\"Não Implementada\", _xlfn.XLOOKUP(B117,FORM2.3!$C$12:$C$181,FORM2.3!$I$12:$I$181)='TABELAS AUXILIARES'!$E$11,\"Não Implementada\", _xlfn.XLOOKUP(B117,FORM2.3!$C$12:$C$181,FORM2.3!$I$12:$I$181)='TABELAS AUXILIARES'!$E$12,\"Não Adota\", _xlfn.XLOOKUP(B117,FORM2.3!$C$12:$C$181,FORM2.3!$I$12:$I$181)='TABELAS AUXILIARES'!$E$13,\"Não se aplica\")","v":"Resposta Não Preenchida"}]
[null,"6.8",{"$f":"FORM2.3!G68","v":"O órgão define e mantém o controle de acesso baseado em funções?"},{"$f":"FORM2.3!H68","v":"Definir e manter o controle de acesso baseado em funções, determinando e documentando os direitos de acesso necessários para cada função dentro da organização para cumprir com sucesso suas funções atribuídas. Realizar análises de controle de acesso de ativos institucionais para validar se todos os privilégios estão autorizados, em uma programação recorrente, uma vez por ano ou com maior frequência."},{"$f":"_xlfn.IFS(_xlfn.XLOOKUP(B118,FORM2.3!$C$12:$C$181,FORM2.3!$I$12:$I$181)='TABELAS AUXILIARES'!$E$7,\"Resposta Não Preenchida\", _xlfn.XLOOKUP(B118,FORM2.3!$C$12:$C$181,FORM2.3!$I$12:$I$181)='TABELAS AUXILIARES'!$E$8,\"Implementada\", _xlfn.XLOOKUP(B118,FORM2.3!$C$12:$C$181,FORM2.3!$I$12:$I$181)='TABELAS AUXILIARES'!$E$9,\"Não Implementada\", _xlfn.XLOOKUP(B118,FORM2.3!$C$12:$C$181,FORM2.3!$I$12:$I$181)='TABELAS AUXILIARES'!$E$10,\"Não Implementada\", _xlfn.XLOOKUP(B118,FORM2.3!$C$12:$C$181,FORM2.3!$I$12:$I$181)='TABELAS AUXILIARES'!$E$11,\"Não Implementada\", _xlfn.XLOOKUP(B118,FORM2.3!$C$12:$C$181,FORM2.3!$I$12:$I$181)='TABELAS AUXILIARES'!$E$12,\"Não Adota\", _xlfn.XLOOKUP(B118,FORM2.3!$C$12:$C$181,FORM2.3!$I$12:$I$181)='TABELAS AUXILIARES'!$E$13,\"Não se aplica\")","v":"Resposta Não Preenchida"}]
[]
[null,7,"CIS CONTROLE 7:  GESTÃO CONTÍNUA DE VUNERABILIDADES"]
[null,{"$f":"FORM2.3!K99","v":"Controle Não Foi Respondido"}]
[null,null,"MEDIDAS DE SEGURANÇA"]
[null,"Nível de Capacidade do Controle"]
[null,"ID","Medida","Descrição","Resposta"]
[null,"7.1",{"$f":"FORM2.3!G70","v":"O órgão realiza varreduras automatizadas de vulnerabilidade em ativos institucionais internos?"},{"$f":"FORM2.3!H70","v":"Realizar varreduras automatizadas de vulnerabilidade em ativos institucionais internos trimestralmente ou com mais frequência. Realizar varreduras autenticadas e não autenticadas, usando uma ferramenta compatível com o SCAP(Security Content Automation Protocol)."},{"$f":"_xlfn.IFS(_xlfn.XLOOKUP(B125,FORM2.3!$C$12:$C$181,FORM2.3!$I$12:$I$181)='TABELAS AUXILIARES'!$E$7,\"Resposta Não Preenchida\", _xlfn.XLOOKUP(B125,FORM2.3!$C$12:$C$181,FORM2.3!$I$12:$I$181)='TABELAS AUXILIARES'!$E$8,\"Implementada\", _xlfn.XLOOKUP(B125,FORM2.3!$C$12:$C$181,FORM2.3!$I$12:$I$181)='TABELAS AUXILIARES'!$E$9,\"Não Implementada\", _xlfn.XLOOKUP(B125,FORM2.3!$C$12:$C$181,FORM2.3!$I$12:$I$181)='TABELAS AUXILIARES'!$E$10,\"Não Implementada\", _xlfn.XLOOKUP(B125,FORM2.3!$C$12:$C$181,FORM2.3!$I$12:$I$181)='TABELAS AUXILIARES'!$E$11,\"Não Implementada\", _xlfn.XLOOKUP(B125,FORM2.3!$C$12:$C$181,FORM2.3!$I$12:$I$181)='TABELAS AUXILIARES'!$E$12,\"Não Adota\", _xlfn.XLOOKUP(B125,FORM2.3!$C$12:$C$181,FORM2.3!$I$12:$I$181)='TABELAS AUXILIARES'!$E$13,\"Não se aplica\")","v":"Resposta Não Preenchida"}]
[null,"7.2",{"$f":"FORM2.3!G71","v":"O órgão realiza varreduras automatizadas de vulnerabilidade em ativos institucionais expostos externamente?"},{"$f":"FORM2.3!H71","v":"Executar varreduras de vulnerabilidade automatizadas de ativos institucionais expostos externamente usando uma ferramenta de varredura de vulnerabilidade compatível com o SCAP. Executar varreduras mensalmente ou com mais frequência."},{"$f":"_xlfn.IFS(_xlfn.XLOOKUP(B126,FORM2.3!$C$12:$C$181,FORM2.3!$I$12:$I$181)='TABELAS AUXILIARES'!$E$7,\"Resposta Não Preenchida\", _xlfn.XLOOKUP(B126,FORM2.3!$C$12:$C$181,FORM2.3!$I$12:$I$181)='TABELAS AUXILIARES'!$E$8,\"Implementada\", _xlfn.XLOOKUP(B126,FORM2.3!$C$12:$C$181,FORM2.3!$I$12:$I$181)='TABELAS AUXILIARES'!$E$9,\"Não Implementada\", _xlfn.XLOOKUP(B126,FORM2.3!$C$12:$C$181,FORM2.3!$I$12:$I$181)='TABELAS AUXILIARES'!$E$10,\"Não Implementada\", _xlfn.XLOOKUP(B126,FORM2.3!$C$12:$C$181,FORM2.3!$I$12:$I$181)='TABELAS AUXILIARES'!$E$11,\"Não Implementada\", _xlfn.XLOOKUP(B126,FORM2.3!$C$12:$C$181,FORM2.3!$I$12:$I$181)='TABELAS AUXILIARES'!$E$12,\"Não Adota\", _xlfn.XLOOKUP(B126,FORM2.3!$C$12:$C$181,FORM2.3!$I$12:$I$181)='TABELAS AUXILIARES'!$E$13,\"Não se aplica\")","v":"Resposta Não Preenchida"}]
[null,"7.3",{"$f":"FORM2.3!G72","v":"O órgão estabelece e mantém um processo de gestão de vulnerabilidade?"},{"$f":"FORM2.3!H72","v":"Estabelecer e manter um processo de gestão de vulnerabilidade documentado para ativos institucionais. Revisar e atualizar a documentação anualmente ou quando ocorrerem mudanças significativas na organização"},{"$f":"_xlfn.IFS(_xlfn.XLOOKUP(B127,FORM2.3!$C$12:$C$181,FORM2.3!$I$12:$I$181)='TABELAS AUXILIARES'!$E$7,\"Resposta Não Preenchida\", _xlfn.XLOOKUP(B127,FORM2.3!$C$12:$C$181,FORM2.3!$I$12:$I$181)='TABELAS AUXILIARES'!$E$8,\"Implementada\", _xlfn.XLOOKUP(B127,FORM2.3!$C$12:$C$181,FORM2.3!$I$12:$I$181)='TABELAS AUXILIARES'!$E$9,\"Não Implementada\", _xlfn.XLOOKUP(B127,FORM2.3!$C$12:$C$181,FORM2.3!$I$12:$I$181)='TABELAS AUXILIARES'!$E$10,\"Não Implementada\", _xlfn.XLOOKUP(B127,FORM2.3!$C$12:$C$181,FORM2.3!$I$12:$I$181)='TABELAS AUXILIARES'!$E$11,\"Não Implementada\", _xlfn.XLOOKUP(B127,FORM2.3!$C$12:$C$181,FORM2.3!$I$12:$I$181)='TABELAS AUXILIARES'!$E$12,\"Não Adota\", _xlfn.XLOOKUP(B127,FORM2.3!$C$12:$C$181,FORM2.3!$I$12:$I$181)='TABELAS AUXILIARES'!$E$13,\"Não se aplica\")","v":"Resposta Não Preenchida"}]
[null,"7.4",{"$f":"FORM2.3!G73","v":"O órgão executa a gestão automatizada de patches do sistema operacional?"},{"$f":"FORM2.3!H73","v":"Realizar atualizações do sistema operacional em ativos institucionais por meio da gestão automatizada de patches mensalmente ou com mais frequência."},{"$f":"_xlfn.IFS(_xlfn.XLOOKUP(B128,FORM2.3!$C$12:$C$181,FORM2.3!$I$12:$I$181)='TABELAS AUXILIARES'!$E$7,\"Resposta Não Preenchida\", _xlfn.XLOOKUP(B128,FORM2.3!$C$12:$C$181,FORM2.3!$I$12:$I$181)='TABELAS AUXILIARES'!$E$8,\"Implementada\", _xlfn.XLOOKUP(B128,FORM2.3!$C$12:$C$181,FORM2.3!$I$12:$I$181)='TABELAS AUXILIARES'!$E$9,\"Não Implementada\", _xlfn.XLOOKUP(B128,FORM2.3!$C$12:$C$181,FORM2.3!$I$12:$I$181)='TABELAS AUXILIARES'!$E$10,\"Não Implementada\", _xlfn.XLOOKUP(B128,FORM2.3!$C$12:$C$181,FORM2.3!$I$12:$I$181)='TABELAS AUXILIARES'!$E$11,\"Não Implementada\", _xlfn.XLOOKUP(B128,FORM2.3!$C$12:$C$181,FORM2.3!$I$12:$I$181)='TABELAS AUXILIARES'!$E$12,\"Não Adota\", _xlfn.XLOOKUP(B128,FORM2.3!$C$12:$C$181,FORM2.3!$I$12:$I$181)='TABELAS AUXILIARES'!$E$13,\"Não se aplica\")","v":"Resposta Não Preenchida"}]
[null,"7.5",{"$f":"FORM2.3!G74","v":"O órgão executa a gestão automatizada de patches de aplicações?"},{"$f":"FORM2.3!H74","v":"Realizar atualizações de aplicações em ativos institucionais por meio da gestão automatizada de patches mensalmente ou com mais frequência."},{"$f":"_xlfn.IFS(_xlfn.XLOOKUP(B129,FORM2.3!$C$12:$C$181,FORM2.3!$I$12:$I$181)='TABELAS AUXILIARES'!$E$7,\"Resposta Não Preenchida\", _xlfn.XLOOKUP(B129,FORM2.3!$C$12:$C$181,FORM2.3!$I$12:$I$181)='TABELAS AUXILIARES'!$E$8,\"Implementada\", _xlfn.XLOOKUP(B129,FORM2.3!$C$12:$C$181,FORM2.3!$I$12:$I$181)='TABELAS AUXILIARES'!$E$9,\"Não Implementada\", _xlfn.XLOOKUP(B129,FORM2.3!$C$12:$C$181,FORM2.3!$I$12:$I$181)='TABELAS AUXILIARES'!$E$10,\"Não Implementada\", _xlfn.XLOOKUP(B129,FORM2.3!$C$12:$C$181,FORM2.3!$I$12:$I$181)='TABELAS AUXILIARES'!$E$11,\"Não Implementada\", _xlfn.XLOOKUP(B129,FORM2.3!$C$12:$C$181,FORM2.3!$I$12:$I$181)='TABELAS AUXILIARES'!$E$12,\"Não Adota\", _xlfn.XLOOKUP(B129,FORM2.3!$C$12:$C$181,FORM2.3!$I$12:$I$181)='TABELAS AUXILIARES'!$E$13,\"Não se aplica\")","v":"Resposta Não Preenchida"}]
[null,"7.6",{"$f":"FORM2.3!G75","v":"O órgão estabelece e mantém um processo de remediação?"},{"$f":"FORM2.3!H75","v":"Estabelecer e manter uma estratégia de remediação baseada em risco documentada em um processo de remediação, com revisões mensais ou mais frequentes."},{"$f":"_xlfn.IFS(_xlfn.XLOOKUP(B130,FORM2.3!$C$12:$C$181,FORM2.3!$I$12:$I$181)='TABELAS AUXILIARES'!$E$7,\"Resposta Não Preenchida\", _xlfn.XLOOKUP(B130,FORM2.3!$C$12:$C$181,FORM2.3!$I$12:$I$181)='TABELAS AUXILIARES'!$E$8,\"Implementada\", _xlfn.XLOOKUP(B130,FORM2.3!$C$12:$C$181,FORM2.3!$I$12:$I$181)='TABELAS AUXILIARES'!$E$9,\"Não Implementada\", _xlfn.XLOOKUP(B130,FORM2.3!$C$12:$C$181,FORM2.3!$I$12:$I$181)='TABELAS AUXILIARES'!$E$10,\"Não Implementada\", _xlfn.XLOOKUP(B130,FORM2.3!$C$12:$C$181,FORM2.3!$I$12:$I$181)='TABELAS AUXILIARES'!$E$11,\"Não Implementada\", _xlfn.XLOOKUP(B130,FORM2.3!$C$12:$C$181,FORM2.3!$I$12:$I$181)='TABELAS AUXILIARES'!$E$12,\"Não Adota\", _xlfn.XLOOKUP(B130,FORM2.3!$C$12:$C$181,FORM2.3!$I$12:$I$181)='TABELAS AUXILIARES'!$E$13,\"Não se aplica\")","v":"Resposta Não Preenchida"}]
[null,"7.7",{"$f":"FORM2.3!G76","v":"O órgão corrige vulnerabilidades detectadas?"},{"$f":"FORM2.3!H76","v":"Corrigir as vulnerabilidades detectadas no software por meio de processos e ferramentas mensalmente, ou com mais frequentemente, com base no processo de correção."},{"$f":"_xlfn.IFS(_xlfn.XLOOKUP(B131,FORM2.3!$C$12:$C$181,FORM2.3!$I$12:$I$181)='TABELAS AUXILIARES'!$E$7,\"Resposta Não Preenchida\", _xlfn.XLOOKUP(B131,FORM2.3!$C$12:$C$181,FORM2.3!$I$12:$I$181)='TABELAS AUXILIARES'!$E$8,\"Implementada\", _xlfn.XLOOKUP(B131,FORM2.3!$C$12:$C$181,FORM2.3!$I$12:$I$181)='TABELAS AUXILIARES'!$E$9,\"Não Implementada\", _xlfn.XLOOKUP(B131,FORM2.3!$C$12:$C$181,FORM2.3!$I$12:$I$181)='TABELAS AUXILIARES'!$E$10,\"Não Implementada\", _xlfn.XLOOKUP(B131,FORM2.3!$C$12:$C$181,FORM2.3!$I$12:$I$181)='TABELAS AUXILIARES'!$E$11,\"Não Implementada\", _xlfn.XLOOKUP(B131,FORM2.3!$C$12:$C$181,FORM2.3!$I$12:$I$181)='TABELAS AUXILIARES'!$E$12,\"Não Adota\", _xlfn.XLOOKUP(B131,FORM2.3!$C$12:$C$181,FORM2.3!$I$12:$I$181)='TABELAS AUXILIARES'!$E$13,\"Não se aplica\")","v":"Resposta Não Preenchida"}]
[]
[null,8,"CIS CONTROLE 8: GESTÃO DE REGISTROS DE AUDITORIA"]
[null,{"$f":"FORM2.3!K78","v":"Controle Não Foi Respondido"}]
[null,null,"MEDIDAS DE SEGURANÇA"]
[null,"Nível de Capacidade do Controle"]
[null,"ID","Medida","Descrição","Resposta"]
[null,"8.1",{"$f":"FORM2.3!G78","v":"O órgão estabelece e mantém um processo de gestão de log de auditoria?"},{"$f":"FORM2.3!H78","v":"Estabelecer e manter um processo de gestão de log de auditoria que defina os requisitos de log da organização. Tratar da coleta, revisão e retenção de logs de auditoria para ativos institucionais. Revisar e atualizar a documentação anualmente ou quando ocorrerem mudanças significativas."},{"$f":"_xlfn.IFS(_xlfn.XLOOKUP(B138,FORM2.3!$C$12:$C$181,FORM2.3!$I$12:$I$181)='TABELAS AUXILIARES'!$E$7,\"Resposta Não Preenchida\", _xlfn.XLOOKUP(B138,FORM2.3!$C$12:$C$181,FORM2.3!$I$12:$I$181)='TABELAS AUXILIARES'!$E$8,\"Implementada\", _xlfn.XLOOKUP(B138,FORM2.3!$C$12:$C$181,FORM2.3!$I$12:$I$181)='TABELAS AUXILIARES'!$E$9,\"Não Implementada\", _xlfn.XLOOKUP(B138,FORM2.3!$C$12:$C$181,FORM2.3!$I$12:$I$181)='TABELAS AUXILIARES'!$E$10,\"Não Implementada\", _xlfn.XLOOKUP(B138,FORM2.3!$C$12:$C$181,FORM2.3!$I$12:$I$181)='TABELAS AUXILIARES'!$E$11,\"Não Implementada\", _xlfn.XLOOKUP(B138,FORM2.3!$C$12:$C$181,FORM2.3!$I$12:$I$181)='TABELAS AUXILIARES'!$E$12,\"Não Adota\", _xlfn.XLOOKUP(B138,FORM2.3!$C$12:$C$181,FORM2.3!$I$12:$I$181)='TABELAS AUXILIARES'!$E$13,\"Não se aplica\")","v":"Resposta Não Preenchida"}]
[null,"8.2",{"$f":"FORM2.3!G79","v":"O órgão garante o armazenamento adequado do registro de auditoria?"},{"$f":"FORM2.3!H79","v":"Certificar de que os destinos dos logs mantenham armazenamento adequado para cumprir o processo de gestão de log de auditoria da organização"},{"$f":"_xlfn.IFS(_xlfn.XLOOKUP(B139,FORM2.3!$C$12:$C$181,FORM2.3!$I$12:$I$181)='TABELAS AUXILIARES'!$E$7,\"Resposta Não Preenchida\", _xlfn.XLOOKUP(B139,FORM2.3!$C$12:$C$181,FORM2.3!$I$12:$I$181)='TABELAS AUXILIARES'!$E$8,\"Implementada\", _xlfn.XLOOKUP(B139,FORM2.3!$C$12:$C$181,FORM2.3!$I$12:$I$181)='TABELAS AUXILIARES'!$E$9,\"Não Implementada\", _xlfn.XLOOKUP(B139,FORM2.3!$C$12:$C$181,FORM2.3!$I$12:$I$181)='TABELAS AUXILIARES'!$E$10,\"Não Implementada\", _xlfn.XLOOKUP(B139,FORM2.3!$C$12:$C$181,FORM2.3!$I$12:$I$181)='TABELAS AUXILIARES'!$E$11,\"Não Implementada\", _xlfn.XLOOKUP(B139,FORM2.3!$C$12:$C$181,FORM2.3!$I$12:$I$181)='TABELAS AUXILIARES'!$E$12,\"Não Adota\", _xlfn.XLOOKUP(B139,FORM2.3!$C$12:$C$181,FORM2.3!$I$12:$I$181)='TABELAS AUXILIARES'!$E$13,\"Não se aplica\")","v":"Resposta Não Preenchida"}]
[null,"8.3",{"$f":"FORM2.3!G80","v":"O órgão padroniza a sincronização de tempo?"},{"$f":"FORM2.3!H80","v":"Padronizar a sincronização de tempo. Configurar pelo menos duas fontes de tempo sincronizadas nos ativos institucionais."},{"$f":"_xlfn.IFS(_xlfn.XLOOKUP(B140,FORM2.3!$C$12:$C$181,FORM2.3!$I$12:$I$181)='TABELAS AUXILIARES'!$E$7,\"Resposta Não Preenchida\", _xlfn.XLOOKUP(B140,FORM2.3!$C$12:$C$181,FORM2.3!$I$12:$I$181)='TABELAS AUXILIARES'!$E$8,\"Implementada\", _xlfn.XLOOKUP(B140,FORM2.3!$C$12:$C$181,FORM2.3!$I$12:$I$181)='TABELAS AUXILIARES'!$E$9,\"Não Implementada\", _xlfn.XLOOKUP(B140,FORM2.3!$C$12:$C$181,FORM2.3!$I$12:$I$181)='TABELAS AUXILIARES'!$E$10,\"Não Implementada\", _xlfn.XLOOKUP(B140,FORM2.3!$C$12:$C$181,FORM2.3!$I$12:$I$181)='TABELAS AUXILIARES'!$E$11,\"Não Implementada\", _xlfn.XLOOKUP(B140,FORM2.3!$C$12:$C$181,FORM2.3!$I$12:$I$181)='TABELAS AUXILIARES'!$E$12,\"Não Adota\", _xlfn.XLOOKUP(B140,FORM2.3!$C$12:$C$181,FORM2.3!$I$12:$I$181)='TABELAS AUXILIARES'!$E$13,\"Não se aplica\")","v":"Resposta Não Preenchida"}]
[null,"8.4",{"$f":"FORM2.3!G81","v":"O órgão retém os logs de auditoria?"},{"$f":"FORM2.3!H81","v":"Reter os logs de auditoria em ativos institucionais por no mínimo 90 dias."},{"$f":"_xlfn.IFS(_xlfn.XLOOKUP(B141,FORM2.3!$C$12:$C$181,FORM2.3!$I$12:$I$181)='TABELAS AUXILIARES'!$E$7,\"Resposta Não Preenchida\", _xlfn.XLOOKUP(B141,FORM2.3!$C$12:$C$181,FORM2.3!$I$12:$I$181)='TABELAS AUXILIARES'!$E$8,\"Implementada\", _xlfn.XLOOKUP(B141,FORM2.3!$C$12:$C$181,FORM2.3!$I$12:$I$181)='TABELAS AUXILIARES'!$E$9,\"Não Implementada\", _xlfn.XLOOKUP(B141,FORM2.3!$C$12:$C$181,FORM2.3!$I$12:$I$181)='TABELAS AUXILIARES'!$E$10,\"Não Implementada\", _xlfn.XLOOKUP(B141,FORM2.3!$C$12:$C$181,FORM2.3!$I$12:$I$181)='TABELAS AUXILIARES'!$E$11,\"Não Implementada\", _xlfn.XLOOKUP(B141,FORM2.3!$C$12:$C$181,FORM2.3!$I$12:$I$181)='TABELAS AUXILIARES'!$E$12,\"Não Adota\", _xlfn.XLOOKUP(B141,FORM2.3!$C$12:$C$181,FORM2.3!$I$12:$I$181)='TABELAS AUXILIARES'!$E$13,\"Não se aplica\")","v":"Resposta Não Preenchida"}]
[null,"8.5",{"$f":"FORM2.3!G82","v":"O órgão coleta logs de auditoria?"},{"$f":"FORM2.3!H82","v":"Coletar logs de auditoria. Certificar de que o log, de acordo com o processo de gestão de log de auditoria da organização, tenha sido habilitado em todos os ativos."},{"$f":"_xlfn.IFS(_xlfn.XLOOKUP(B142,FORM2.3!$C$12:$C$181,FORM2.3!$I$12:$I$181)='TABELAS AUXILIARES'!$E$7,\"Resposta Não Preenchida\", _xlfn.XLOOKUP(B142,FORM2.3!$C$12:$C$181,FORM2.3!$I$12:$I$181)='TABELAS AUXILIARES'!$E$8,\"Implementada\", _xlfn.XLOOKUP(B142,FORM2.3!$C$12:$C$181,FORM2.3!$I$12:$I$181)='TABELAS AUXILIARES'!$E$9,\"Não Implementada\", _xlfn.XLOOKUP(B142,FORM2.3!$C$12:$C$181,FORM2.3!$I$12:$I$181)='TABELAS AUXILIARES'!$E$10,\"Não Implementada\", _xlfn.XLOOKUP(B142,FORM2.3!$C$12:$C$181,FORM2.3!$I$12:$I$181)='TABELAS AUXILIARES'!$E$11,\"Não Implementada\", _xlfn.XLOOKUP(B142,FORM2.3!$C$12:$C$181,FORM2.3!$I$12:$I$181)='TABELAS AUXILIARES'!$E$12,\"Não Adota\", _xlfn.XLOOKUP(B142,FORM2.3!$C$12:$C$181,FORM2.3!$I$12:$I$181)='TABELAS AUXILIARES'!$E$13,\"Não se aplica\")","v":"Resposta Não Preenchida"}]
[null,"8.6",{"$f":"FORM2.3!G83","v":"O órgão coleta logs de auditoria detalhados?"},{"$f":"FORM2.3!H83","v":"Configurar o log de auditoria detalhado para ativos institucionais contendo dados sensíveis. Incluir a origem do evento, data, nome de usuário, carimbo de data/hora, endereços de origem, endereços de destino e outros elementos úteis que podem ajudar em uma investigação forense."},{"$f":"_xlfn.IFS(_xlfn.XLOOKUP(B143,FORM2.3!$C$12:$C$181,FORM2.3!$I$12:$I$181)='TABELAS AUXILIARES'!$E$7,\"Resposta Não Preenchida\", _xlfn.XLOOKUP(B143,FORM2.3!$C$12:$C$181,FORM2.3!$I$12:$I$181)='TABELAS AUXILIARES'!$E$8,\"Implementada\", _xlfn.XLOOKUP(B143,FORM2.3!$C$12:$C$181,FORM2.3!$I$12:$I$181)='TABELAS AUXILIARES'!$E$9,\"Não Implementada\", _xlfn.XLOOKUP(B143,FORM2.3!$C$12:$C$181,FORM2.3!$I$12:$I$181)='TABELAS AUXILIARES'!$E$10,\"Não Implementada\", _xlfn.XLOOKUP(B143,FORM2.3!$C$12:$C$181,FORM2.3!$I$12:$I$181)='TABELAS AUXILIARES'!$E$11,\"Não Implementada\", _xlfn.XLOOKUP(B143,FORM2.3!$C$12:$C$181,FORM2.3!$I$12:$I$181)='TABELAS AUXILIARES'!$E$12,\"Não Adota\", _xlfn.XLOOKUP(B143,FORM2.3!$C$12:$C$181,FORM2.3!$I$12:$I$181)='TABELAS AUXILIARES'!$E$13,\"Não se aplica\")","v":"Resposta Não Preenchida"}]
[null,"8.7",{"$f":"FORM2.3!G84","v":"O órgão coleta logs de auditoria de consulta DNS?"},{"$f":"FORM2.3!H84","v":"Habilitar o registro de log de consulta do servidor DNS (Domain Name System) para detectar pesquisas de nomes de host para domínios maliciosos conhecidos."},{"$f":"_xlfn.IFS(_xlfn.XLOOKUP(B144,FORM2.3!$C$12:$C$181,FORM2.3!$I$12:$I$181)='TABELAS AUXILIARES'!$E$7,\"Resposta Não Preenchida\", _xlfn.XLOOKUP(B144,FORM2.3!$C$12:$C$181,FORM2.3!$I$12:$I$181)='TABELAS AUXILIARES'!$E$8,\"Implementada\", _xlfn.XLOOKUP(B144,FORM2.3!$C$12:$C$181,FORM2.3!$I$12:$I$181)='TABELAS AUXILIARES'!$E$9,\"Não Implementada\", _xlfn.XLOOKUP(B144,FORM2.3!$C$12:$C$181,FORM2.3!$I$12:$I$181)='TABELAS AUXILIARES'!$E$10,\"Não Implementada\", _xlfn.XLOOKUP(B144,FORM2.3!$C$12:$C$181,FORM2.3!$I$12:$I$181)='TABELAS AUXILIARES'!$E$11,\"Não Implementada\", _xlfn.XLOOKUP(B144,FORM2.3!$C$12:$C$181,FORM2.3!$I$12:$I$181)='TABELAS AUXILIARES'!$E$12,\"Não Adota\", _xlfn.XLOOKUP(B144,FORM2.3!$C$12:$C$181,FORM2.3!$I$12:$I$181)='TABELAS AUXILIARES'!$E$13,\"Não se aplica\")","v":"Resposta Não Preenchida"}]
[null,"8.8",{"$f":"FORM2.3!G85","v":"O órgão coleta logs de auditoria de requisição de URL?"},{"$f":"FORM2.3!H85","v":"Coletar logs de auditoria de requisição de URL em ativos institucionais, quando apropriado e suportado."},{"$f":"_xlfn.IFS(_xlfn.XLOOKUP(B145,FORM2.3!$C$12:$C$181,FORM2.3!$I$12:$I$181)='TABELAS AUXILIARES'!$E$7,\"Resposta Não Preenchida\", _xlfn.XLOOKUP(B145,FORM2.3!$C$12:$C$181,FORM2.3!$I$12:$I$181)='TABELAS AUXILIARES'!$E$8,\"Implementada\", _xlfn.XLOOKUP(B145,FORM2.3!$C$12:$C$181,FORM2.3!$I$12:$I$181)='TABELAS AUXILIARES'!$E$9,\"Não Implementada\", _xlfn.XLOOKUP(B145,FORM2.3!$C$12:$C$181,FORM2.3!$I$12:$I$181)='TABELAS AUXILIARES'!$E$10,\"Não Implementada\", _xlfn.XLOOKUP(B145,FORM2.3!$C$12:$C$181,FORM2.3!$I$12:$I$181)='TABELAS AUXILIARES'!$E$11,\"Não Implementada\", _xlfn.XLOOKUP(B145,FORM2.3!$C$12:$C$181,FORM2.3!$I$12:$I$181)='TABELAS AUXILIARES'!$E$12,\"Não Adota\", _xlfn.XLOOKUP(B145,FORM2.3!$C$12:$C$181,FORM2.3!$I$12:$I$181)='TABELAS AUXILIARES'!$E$13,\"Não se aplica\")","v":"Resposta Não Preenchida"}]
[null,"8.9",{"$f":"FORM2.3!G86","v":"O órgão coleta logs de auditoria de linha de comando?"},{"$f":"FORM2.3!H86","v":"Habilitar o log de auditoria sobre ferramentas de linha de comando, tais como Microsoft Powershell e Bash."},{"$f":"_xlfn.IFS(_xlfn.XLOOKUP(B146,FORM2.3!$C$12:$C$181,FORM2.3!$I$12:$I$181)='TABELAS AUXILIARES'!$E$7,\"Resposta Não Preenchida\", _xlfn.XLOOKUP(B146,FORM2.3!$C$12:$C$181,FORM2.3!$I$12:$I$181)='TABELAS AUXILIARES'!$E$8,\"Implementada\", _xlfn.XLOOKUP(B146,FORM2.3!$C$12:$C$181,FORM2.3!$I$12:$I$181)='TABELAS AUXILIARES'!$E$9,\"Não Implementada\", _xlfn.XLOOKUP(B146,FORM2.3!$C$12:$C$181,FORM2.3!$I$12:$I$181)='TABELAS AUXILIARES'!$E$10,\"Não Implementada\", _xlfn.XLOOKUP(B146,FORM2.3!$C$12:$C$181,FORM2.3!$I$12:$I$181)='TABELAS AUXILIARES'!$E$11,\"Não Implementada\", _xlfn.XLOOKUP(B146,FORM2.3!$C$12:$C$181,FORM2.3!$I$12:$I$181)='TABELAS AUXILIARES'!$E$12,\"Não Adota\", _xlfn.XLOOKUP(B146,FORM2.3!$C$12:$C$181,FORM2.3!$I$12:$I$181)='TABELAS AUXILIARES'!$E$13,\"Não se aplica\")","v":"Resposta Não Preenchida"}]
[null,"8.10",{"$f":"FORM2.3!G87","v":"O órgão centraliza os logs de auditoria?"},{"$f":"FORM2.3!H87","v":"Centralizar a coleta e retenção de logs de auditoria nos ativos institucionais."},{"$f":"_xlfn.IFS(_xlfn.XLOOKUP(B147,FORM2.3!$C$12:$C$181,FORM2.3!$I$12:$I$181)='TABELAS AUXILIARES'!$E$7,\"Resposta Não Preenchida\", _xlfn.XLOOKUP(B147,FORM2.3!$C$12:$C$181,FORM2.3!$I$12:$I$181)='TABELAS AUXILIARES'!$E$8,\"Implementada\", _xlfn.XLOOKUP(B147,FORM2.3!$C$12:$C$181,FORM2.3!$I$12:$I$181)='TABELAS AUXILIARES'!$E$9,\"Não Implementada\", _xlfn.XLOOKUP(B147,FORM2.3!$C$12:$C$181,FORM2.3!$I$12:$I$181)='TABELAS AUXILIARES'!$E$10,\"Não Implementada\", _xlfn.XLOOKUP(B147,FORM2.3!$C$12:$C$181,FORM2.3!$I$12:$I$181)='TABELAS AUXILIARES'!$E$11,\"Não Implementada\", _xlfn.XLOOKUP(B147,FORM2.3!$C$12:$C$181,FORM2.3!$I$12:$I$181)='TABELAS AUXILIARES'!$E$12,\"Não Adota\", _xlfn.XLOOKUP(B147,FORM2.3!$C$12:$C$181,FORM2.3!$I$12:$I$181)='TABELAS AUXILIARES'!$E$13,\"Não se aplica\")","v":"Resposta Não Preenchida"}]
[null,"8.11",{"$f":"FORM2.3!G88","v":"O órgão conduz revisões de log de auditoria?"},{"$f":"FORM2.3!H88","v":"Realizar análises de logs de auditoria para detectar anomalias ou eventos anormais que possam indicar uma ameaça potencial. Realizar revisões semanalmente ou com mais frequência."},{"$f":"_xlfn.IFS(_xlfn.XLOOKUP(B148,FORM2.3!$C$12:$C$181,FORM2.3!$I$12:$I$181)='TABELAS AUXILIARES'!$E$7,\"Resposta Não Preenchida\", _xlfn.XLOOKUP(B148,FORM2.3!$C$12:$C$181,FORM2.3!$I$12:$I$181)='TABELAS AUXILIARES'!$E$8,\"Implementada\", _xlfn.XLOOKUP(B148,FORM2.3!$C$12:$C$181,FORM2.3!$I$12:$I$181)='TABELAS AUXILIARES'!$E$9,\"Não Implementada\", _xlfn.XLOOKUP(B148,FORM2.3!$C$12:$C$181,FORM2.3!$I$12:$I$181)='TABELAS AUXILIARES'!$E$10,\"Não Implementada\", _xlfn.XLOOKUP(B148,FORM2.3!$C$12:$C$181,FORM2.3!$I$12:$I$181)='TABELAS AUXILIARES'!$E$11,\"Não Implementada\", _xlfn.XLOOKUP(B148,FORM2.3!$C$12:$C$181,FORM2.3!$I$12:$I$181)='TABELAS AUXILIARES'!$E$12,\"Não Adota\", _xlfn.XLOOKUP(B148,FORM2.3!$C$12:$C$181,FORM2.3!$I$12:$I$181)='TABELAS AUXILIARES'!$E$13,\"Não se aplica\")","v":"Resposta Não Preenchida"}]
[null,"8.12",{"$f":"FORM2.3!G89","v":"O órgão coleta logs do provedor de serviços?"},{"$f":"FORM2.3!H89","v":"Coletar logs do provedor de serviços. Exemplos de implementações incluem coleta de eventos de autenticação e autorização, eventos de criação e de descarte de dados e eventos de gestão de usuários."},{"$f":"_xlfn.IFS(_xlfn.XLOOKUP(B149,FORM2.3!$C$12:$C$181,FORM2.3!$I$12:$I$181)='TABELAS AUXILIARES'!$E$7,\"Resposta Não Preenchida\", _xlfn.XLOOKUP(B149,FORM2.3!$C$12:$C$181,FORM2.3!$I$12:$I$181)='TABELAS AUXILIARES'!$E$8,\"Implementada\", _xlfn.XLOOKUP(B149,FORM2.3!$C$12:$C$181,FORM2.3!$I$12:$I$181)='TABELAS AUXILIARES'!$E$9,\"Não Implementada\", _xlfn.XLOOKUP(B149,FORM2.3!$C$12:$C$181,FORM2.3!$I$12:$I$181)='TABELAS AUXILIARES'!$E$10,\"Não Implementada\", _xlfn.XLOOKUP(B149,FORM2.3!$C$12:$C$181,FORM2.3!$I$12:$I$181)='TABELAS AUXILIARES'!$E$11,\"Não Implementada\", _xlfn.XLOOKUP(B149,FORM2.3!$C$12:$C$181,FORM2.3!$I$12:$I$181)='TABELAS AUXILIARES'!$E$12,\"Não Adota\", _xlfn.XLOOKUP(B149,FORM2.3!$C$12:$C$181,FORM2.3!$I$12:$I$181)='TABELAS AUXILIARES'!$E$13,\"Não se aplica\")","v":"Resposta Não Preenchida"}]
[]
[null,9,"CIS CONTROLE 9: PROTEÇÕES DE E-MAIL E NAVEGADOR WEB"]
[null,{"$f":"FORM2.3!K91","v":"Controle Não Foi Respondido"}]
[null,null,"MEDIDAS DE SEGURANÇA"]
[null,"Nível de Capacidade do Controle"]
[null,"ID","Medida","Descrição","Resposta"]
[null,"9.1",{"$f":"FORM2.3!G91","v":"O órgão garante o uso apenas de navegadores e clientes de e-mail suportados plenamente?"},{"$f":"FORM2.3!H91","v":"Certificar de que apenas navegadores e clientes de e-mail suportados plenamente tenham permissão para executar na organização, usando apenas a versão mais recente dos navegadores e clientes de e-mail fornecidos pelo fornecedor."},{"$f":"_xlfn.IFS(_xlfn.XLOOKUP(B156,FORM2.3!$C$12:$C$181,FORM2.3!$I$12:$I$181)='TABELAS AUXILIARES'!$E$7,\"Resposta Não Preenchida\", _xlfn.XLOOKUP(B156,FORM2.3!$C$12:$C$181,FORM2.3!$I$12:$I$181)='TABELAS AUXILIARES'!$E$8,\"Implementada\", _xlfn.XLOOKUP(B156,FORM2.3!$C$12:$C$181,FORM2.3!$I$12:$I$181)='TABELAS AUXILIARES'!$E$9,\"Não Implementada\", _xlfn.XLOOKUP(B156,FORM2.3!$C$12:$C$181,FORM2.3!$I$12:$I$181)='TABELAS AUXILIARES'!$E$10,\"Não Implementada\", _xlfn.XLOOKUP(B156,FORM2.3!$C$12:$C$181,FORM2.3!$I$12:$I$181)='TABELAS AUXILIARES'!$E$11,\"Não Implementada\", _xlfn.XLOOKUP(B156,FORM2.3!$C$12:$C$181,FORM2.3!$I$12:$I$181)='TABELAS AUXILIARES'!$E$12,\"Não Adota\", _xlfn.XLOOKUP(B156,FORM2.3!$C$12:$C$181,FORM2.3!$I$12:$I$181)='TABELAS AUXILIARES'!$E$13,\"Não se aplica\")","v":"Resposta Não Preenchida"}]
[null,"9.2",{"$f":"FORM2.3!G92","v":"O órgão usa serviços de filtragem de DNS?"},{"$f":"FORM2.3!H92","v":"Usar os serviços de filtragem de DNS em todos os ativos institucionais para bloquear o acesso a domínios mal-intencionados conhecidos."},{"$f":"_xlfn.IFS(_xlfn.XLOOKUP(B157,FORM2.3!$C$12:$C$181,FORM2.3!$I$12:$I$181)='TABELAS AUXILIARES'!$E$7,\"Resposta Não Preenchida\", _xlfn.XLOOKUP(B157,FORM2.3!$C$12:$C$181,FORM2.3!$I$12:$I$181)='TABELAS AUXILIARES'!$E$8,\"Implementada\", _xlfn.XLOOKUP(B157,FORM2.3!$C$12:$C$181,FORM2.3!$I$12:$I$181)='TABELAS AUXILIARES'!$E$9,\"Não Implementada\", _xlfn.XLOOKUP(B157,FORM2.3!$C$12:$C$181,FORM2.3!$I$12:$I$181)='TABELAS AUXILIARES'!$E$10,\"Não Implementada\", _xlfn.XLOOKUP(B157,FORM2.3!$C$12:$C$181,FORM2.3!$I$12:$I$181)='TABELAS AUXILIARES'!$E$11,\"Não Implementada\", _xlfn.XLOOKUP(B157,FORM2.3!$C$12:$C$181,FORM2.3!$I$12:$I$181)='TABELAS AUXILIARES'!$E$12,\"Não Adota\", _xlfn.XLOOKUP(B157,FORM2.3!$C$12:$C$181,FORM2.3!$I$12:$I$181)='TABELAS AUXILIARES'!$E$13,\"Não se aplica\")","v":"Resposta Não Preenchida"}]
[null,"9.3",{"$f":"FORM2.3!G93","v":"O órgão mantém e impõe filtros de URL baseados em rede?"},{"$f":"FORM2.3!H93","v":"Impor e atualizar filtros de URL baseados em rede para limitar um ativo institucional de se conectar a sites potencialmente maliciosos ou não aprovados."},{"$f":"_xlfn.IFS(_xlfn.XLOOKUP(B158,FORM2.3!$C$12:$C$181,FORM2.3!$I$12:$I$181)='TABELAS AUXILIARES'!$E$7,\"Resposta Não Preenchida\", _xlfn.XLOOKUP(B158,FORM2.3!$C$12:$C$181,FORM2.3!$I$12:$I$181)='TABELAS AUXILIARES'!$E$8,\"Implementada\", _xlfn.XLOOKUP(B158,FORM2.3!$C$12:$C$181,FORM2.3!$I$12:$I$181)='TABELAS AUXILIARES'!$E$9,\"Não Implementada\", _xlfn.XLOOKUP(B158,FORM2.3!$C$12:$C$181,FORM2.3!$I$12:$I$181)='TABELAS AUXILIARES'!$E$10,\"Não Implementada\", _xlfn.XLOOKUP(B158,FORM2.3!$C$12:$C$181,FORM2.3!$I$12:$I$181)='TABELAS AUXILIARES'!$E$11,\"Não Implementada\", _xlfn.XLOOKUP(B158,FORM2.3!$C$12:$C$181,FORM2.3!$I$12:$I$181)='TABELAS AUXILIARES'!$E$12,\"Não Adota\", _xlfn.XLOOKUP(B158,FORM2.3!$C$12:$C$181,FORM2.3!$I$12:$I$181)='TABELAS AUXILIARES'!$E$13,\"Não se aplica\")","v":"Resposta Não Preenchida"}]
[null,"9.4",{"$f":"FORM2.3!G94","v":"O órgão restringe extensões de cliente de email e navegador desnecessárias ou não autorizadas?"},{"$f":"FORM2.3!H94","v":"Restringir, seja desinstalando ou desabilitando, quaisquer plug-ins de cliente de e-mail ou navegador, extensões e aplicações complementares não autorizados ou desnecessários."},{"$f":"_xlfn.IFS(_xlfn.XLOOKUP(B159,FORM2.3!$C$12:$C$181,FORM2.3!$I$12:$I$181)='TABELAS AUXILIARES'!$E$7,\"Resposta Não Preenchida\", _xlfn.XLOOKUP(B159,FORM2.3!$C$12:$C$181,FORM2.3!$I$12:$I$181)='TABELAS AUXILIARES'!$E$8,\"Implementada\", _xlfn.XLOOKUP(B159,FORM2.3!$C$12:$C$181,FORM2.3!$I$12:$I$181)='TABELAS AUXILIARES'!$E$9,\"Não Implementada\", _xlfn.XLOOKUP(B159,FORM2.3!$C$12:$C$181,FORM2.3!$I$12:$I$181)='TABELAS AUXILIARES'!$E$10,\"Não Implementada\", _xlfn.XLOOKUP(B159,FORM2.3!$C$12:$C$181,FORM2.3!$I$12:$I$181)='TABELAS AUXILIARES'!$E$11,\"Não Implementada\", _xlfn.XLOOKUP(B159,FORM2.3!$C$12:$C$181,FORM2.3!$I$12:$I$181)='TABELAS AUXILIARES'!$E$12,\"Não Adota\", _xlfn.XLOOKUP(B159,FORM2.3!$C$12:$C$181,FORM2.3!$I$12:$I$181)='TABELAS AUXILIARES'!$E$13,\"Não se aplica\")","v":"Resposta Não Preenchida"}]
[null,"9.5",{"$f":"FORM2.3!G95","v":"O órgão implementa o DMARC?"},{"$f":"FORM2.3!H95","v":"Para diminuir a chance de e-mails forjados ou modificados de domínios válidos, implemente a política e verificação DMARC, começando com a implementação dos padrões Sender Policy Framework (SPF) e DomainKeys Identified Mail (DKIM)"},{"$f":"_xlfn.IFS(_xlfn.XLOOKUP(B160,FORM2.3!$C$12:$C$181,FORM2.3!$I$12:$I$181)='TABELAS AUXILIARES'!$E$7,\"Resposta Não Preenchida\", _xlfn.XLOOKUP(B160,FORM2.3!$C$12:$C$181,FORM2.3!$I$12:$I$181)='TABELAS AUXILIARES'!$E$8,\"Implementada\", _xlfn.XLOOKUP(B160,FORM2.3!$C$12:$C$181,FORM2.3!$I$12:$I$181)='TABELAS AUXILIARES'!$E$9,\"Não Implementada\", _xlfn.XLOOKUP(B160,FORM2.3!$C$12:$C$181,FORM2.3!$I$12:$I$181)='TABELAS AUXILIARES'!$E$10,\"Não Implementada\", _xlfn.XLOOKUP(B160,FORM2.3!$C$12:$C$181,FORM2.3!$I$12:$I$181)='TABELAS AUXILIARES'!$E$11,\"Não Implementada\", _xlfn.XLOOKUP(B160,FORM2.3!$C$12:$C$181,FORM2.3!$I$12:$I$181)='TABELAS AUXILIARES'!$E$12,\"Não Adota\", _xlfn.XLOOKUP(B160,FORM2.3!$C$12:$C$181,FORM2.3!$I$12:$I$181)='TABELAS AUXILIARES'!$E$13,\"Não se aplica\")","v":"Resposta Não Preenchida"}]
[null,"9.6",{"$f":"FORM2.3!G96","v":"O órgão bloqueia tipos de arquivo desnecessários?"},{"$f":"FORM2.3!H96","v":"Bloquear tipos de arquivo desnecessários que tentem entrar no gateway de e-mail do órgão."},{"$f":"_xlfn.IFS(_xlfn.XLOOKUP(B161,FORM2.3!$C$12:$C$181,FORM2.3!$I$12:$I$181)='TABELAS AUXILIARES'!$E$7,\"Resposta Não Preenchida\", _xlfn.XLOOKUP(B161,FORM2.3!$C$12:$C$181,FORM2.3!$I$12:$I$181)='TABELAS AUXILIARES'!$E$8,\"Implementada\", _xlfn.XLOOKUP(B161,FORM2.3!$C$12:$C$181,FORM2.3!$I$12:$I$181)='TABELAS AUXILIARES'!$E$9,\"Não Implementada\", _xlfn.XLOOKUP(B161,FORM2.3!$C$12:$C$181,FORM2.3!$I$12:$I$181)='TABELAS AUXILIARES'!$E$10,\"Não Implementada\", _xlfn.XLOOKUP(B161,FORM2.3!$C$12:$C$181,FORM2.3!$I$12:$I$181)='TABELAS AUXILIARES'!$E$11,\"Não Implementada\", _xlfn.XLOOKUP(B161,FORM2.3!$C$12:$C$181,FORM2.3!$I$12:$I$181)='TABELAS AUXILIARES'!$E$12,\"Não Adota\", _xlfn.XLOOKUP(B161,FORM2.3!$C$12:$C$181,FORM2.3!$I$12:$I$181)='TABELAS AUXILIARES'!$E$13,\"Não se aplica\")","v":"Resposta Não Preenchida"}]
[null,"9.7",{"$f":"FORM2.3!G97","v":"O órgão implanta e mantém proteções antimalware de servidor de e-mail?"},{"$f":"FORM2.3!H97","v":"Implantar e manter proteção antimalware de servidores de e-mail, como varredura de anexos e/ou sandbox."},{"$f":"_xlfn.IFS(_xlfn.XLOOKUP(B162,FORM2.3!$C$12:$C$181,FORM2.3!$I$12:$I$181)='TABELAS AUXILIARES'!$E$7,\"Resposta Não Preenchida\", _xlfn.XLOOKUP(B162,FORM2.3!$C$12:$C$181,FORM2.3!$I$12:$I$181)='TABELAS AUXILIARES'!$E$8,\"Implementada\", _xlfn.XLOOKUP(B162,FORM2.3!$C$12:$C$181,FORM2.3!$I$12:$I$181)='TABELAS AUXILIARES'!$E$9,\"Não Implementada\", _xlfn.XLOOKUP(B162,FORM2.3!$C$12:$C$181,FORM2.3!$I$12:$I$181)='TABELAS AUXILIARES'!$E$10,\"Não Implementada\", _xlfn.XLOOKUP(B162,FORM2.3!$C$12:$C$181,FORM2.3!$I$12:$I$181)='TABELAS AUXILIARES'!$E$11,\"Não Implementada\", _xlfn.XLOOKUP(B162,FORM2.3!$C$12:$C$181,FORM2.3!$I$12:$I$181)='TABELAS AUXILIARES'!$E$12,\"Não Adota\", _xlfn.XLOOKUP(B162,FORM2.3!$C$12:$C$181,FORM2.3!$I$12:$I$181)='TABELAS AUXILIARES'!$E$13,\"Não se aplica\")","v":"Resposta Não Preenchida"}]
[]
[null,10,"CIS CONTROLE 10: DEFESAS CONTRA MALWARE"]
[null,{"$f":"FORM2.3!K99","v":"Controle Não Foi Respondido"}]
[null,null,"MEDIDAS DE SEGURANÇA"]
[null,"Nível de Capacidade do Controle"]
[null,"ID","Medida","Descrição","Resposta"]
[null,"10.1",{"$f":"FORM2.3!G99","v":"O órgão instala e \nmantém um \nsoftware antimalware?"},{"$f":"FORM2.3!H99","v":"Instalar e manter um software anti-malware em todos os ativos cibernéticos da organização."},{"$f":"_xlfn.IFS(_xlfn.XLOOKUP(B169,FORM2.3!$C$12:$C$181,FORM2.3!$I$12:$I$181)='TABELAS AUXILIARES'!$E$7,\"Resposta Não Preenchida\", _xlfn.XLOOKUP(B169,FORM2.3!$C$12:$C$181,FORM2.3!$I$12:$I$181)='TABELAS AUXILIARES'!$E$8,\"Implementada\", _xlfn.XLOOKUP(B169,FORM2.3!$C$12:$C$181,FORM2.3!$I$12:$I$181)='TABELAS AUXILIARES'!$E$9,\"Não Implementada\", _xlfn.XLOOKUP(B169,FORM2.3!$C$12:$C$181,FORM2.3!$I$12:$I$181)='TABELAS AUXILIARES'!$E$10,\"Não Implementada\", _xlfn.XLOOKUP(B169,FORM2.3!$C$12:$C$181,FORM2.3!$I$12:$I$181)='TABELAS AUXILIARES'!$E$11,\"Não Implementada\", _xlfn.XLOOKUP(B169,FORM2.3!$C$12:$C$181,FORM2.3!$I$12:$I$181)='TABELAS AUXILIARES'!$E$12,\"Não Adota\", _xlfn.XLOOKUP(B169,FORM2.3!$C$12:$C$181,FORM2.3!$I$12:$I$181)='TABELAS AUXILIARES'!$E$13,\"Não se aplica\")","v":"Resposta Não Preenchida"}]
[null,"10.2",{"$f":"FORM2.3!G100","v":"O órgão configura atualizações automáticas de assinatura antimalware?"},{"$f":"FORM2.3!H100","v":"Realizar a configuração de atualizações automáticas para as assinaturas anti-malware em todos os ativos cibernéticos da organização."},{"$f":"_xlfn.IFS(_xlfn.XLOOKUP(B170,FORM2.3!$C$12:$C$181,FORM2.3!$I$12:$I$181)='TABELAS AUXILIARES'!$E$7,\"Resposta Não Preenchida\", _xlfn.XLOOKUP(B170,FORM2.3!$C$12:$C$181,FORM2.3!$I$12:$I$181)='TABELAS AUXILIARES'!$E$8,\"Implementada\", _xlfn.XLOOKUP(B170,FORM2.3!$C$12:$C$181,FORM2.3!$I$12:$I$181)='TABELAS AUXILIARES'!$E$9,\"Não Implementada\", _xlfn.XLOOKUP(B170,FORM2.3!$C$12:$C$181,FORM2.3!$I$12:$I$181)='TABELAS AUXILIARES'!$E$10,\"Não Implementada\", _xlfn.XLOOKUP(B170,FORM2.3!$C$12:$C$181,FORM2.3!$I$12:$I$181)='TABELAS AUXILIARES'!$E$11,\"Não Implementada\", _xlfn.XLOOKUP(B170,FORM2.3!$C$12:$C$181,FORM2.3!$I$12:$I$181)='TABELAS AUXILIARES'!$E$12,\"Não Adota\", _xlfn.XLOOKUP(B170,FORM2.3!$C$12:$C$181,FORM2.3!$I$12:$I$181)='TABELAS AUXILIARES'!$E$13,\"Não se aplica\")","v":"Resposta Não Preenchida"}]
[null,"10.3",{"$f":"FORM2.3!G101","v":"O órgão desabilita a execução e reprodução automática para mídias removíveis?"},{"$f":"FORM2.3!H101","v":"Configurar os dispositivos para a não execução e reprodução automática de mídias removíveis."},{"$f":"_xlfn.IFS(_xlfn.XLOOKUP(B171,FORM2.3!$C$12:$C$181,FORM2.3!$I$12:$I$181)='TABELAS AUXILIARES'!$E$7,\"Resposta Não Preenchida\", _xlfn.XLOOKUP(B171,FORM2.3!$C$12:$C$181,FORM2.3!$I$12:$I$181)='TABELAS AUXILIARES'!$E$8,\"Implementada\", _xlfn.XLOOKUP(B171,FORM2.3!$C$12:$C$181,FORM2.3!$I$12:$I$181)='TABELAS AUXILIARES'!$E$9,\"Não Implementada\", _xlfn.XLOOKUP(B171,FORM2.3!$C$12:$C$181,FORM2.3!$I$12:$I$181)='TABELAS AUXILIARES'!$E$10,\"Não Implementada\", _xlfn.XLOOKUP(B171,FORM2.3!$C$12:$C$181,FORM2.3!$I$12:$I$181)='TABELAS AUXILIARES'!$E$11,\"Não Implementada\", _xlfn.XLOOKUP(B171,FORM2.3!$C$12:$C$181,FORM2.3!$I$12:$I$181)='TABELAS AUXILIARES'!$E$12,\"Não Adota\", _xlfn.XLOOKUP(B171,FORM2.3!$C$12:$C$181,FORM2.3!$I$12:$I$181)='TABELAS AUXILIARES'!$E$13,\"Não se aplica\")","v":"Resposta Não Preenchida"}]
[null,"10.4",{"$f":"FORM2.3!G102","v":"O órgão habilita funções antiexploração?"},{"$f":"FORM2.3!H102","v":"Habilitar funcionalidades \"anti-exploits\" tais como Data Execution Prevention (DEP) ou Address Space Layout Randomization (ASLR) que estejam disponíveis no sistema operacional, ou implantar ferramentas apropriadas que possam ser configuradas para aplicar proteções sobre um conjunto mais amplo de aplicações e executáveis."},{"$f":"_xlfn.IFS(_xlfn.XLOOKUP(B172,FORM2.3!$C$12:$C$181,FORM2.3!$I$12:$I$181)='TABELAS AUXILIARES'!$E$7,\"Resposta Não Preenchida\", _xlfn.XLOOKUP(B172,FORM2.3!$C$12:$C$181,FORM2.3!$I$12:$I$181)='TABELAS AUXILIARES'!$E$8,\"Implementada\", _xlfn.XLOOKUP(B172,FORM2.3!$C$12:$C$181,FORM2.3!$I$12:$I$181)='TABELAS AUXILIARES'!$E$9,\"Não Implementada\", _xlfn.XLOOKUP(B172,FORM2.3!$C$12:$C$181,FORM2.3!$I$12:$I$181)='TABELAS AUXILIARES'!$E$10,\"Não Implementada\", _xlfn.XLOOKUP(B172,FORM2.3!$C$12:$C$181,FORM2.3!$I$12:$I$181)='TABELAS AUXILIARES'!$E$11,\"Não Implementada\", _xlfn.XLOOKUP(B172,FORM2.3!$C$12:$C$181,FORM2.3!$I$12:$I$181)='TABELAS AUXILIARES'!$E$12,\"Não Adota\", _xlfn.XLOOKUP(B172,FORM2.3!$C$12:$C$181,FORM2.3!$I$12:$I$181)='TABELAS AUXILIARES'!$E$13,\"Não se aplica\")","v":"Resposta Não Preenchida"}]
[null,"10.5",{"$f":"FORM2.3!G103","v":"O órgão gerencia o software antimalware de maneira centralizada?"},{"$f":"FORM2.3!H103","v":"Utilizar software anti-malware gerenciado centralmente para monitorar e defender continuamente cada uma das estações de trabalho e servidores da organização."},{"$f":"_xlfn.IFS(_xlfn.XLOOKUP(B173,FORM2.3!$C$12:$C$181,FORM2.3!$I$12:$I$181)='TABELAS AUXILIARES'!$E$7,\"Resposta Não Preenchida\", _xlfn.XLOOKUP(B173,FORM2.3!$C$12:$C$181,FORM2.3!$I$12:$I$181)='TABELAS AUXILIARES'!$E$8,\"Implementada\", _xlfn.XLOOKUP(B173,FORM2.3!$C$12:$C$181,FORM2.3!$I$12:$I$181)='TABELAS AUXILIARES'!$E$9,\"Não Implementada\", _xlfn.XLOOKUP(B173,FORM2.3!$C$12:$C$181,FORM2.3!$I$12:$I$181)='TABELAS AUXILIARES'!$E$10,\"Não Implementada\", _xlfn.XLOOKUP(B173,FORM2.3!$C$12:$C$181,FORM2.3!$I$12:$I$181)='TABELAS AUXILIARES'!$E$11,\"Não Implementada\", _xlfn.XLOOKUP(B173,FORM2.3!$C$12:$C$181,FORM2.3!$I$12:$I$181)='TABELAS AUXILIARES'!$E$12,\"Não Adota\", _xlfn.XLOOKUP(B173,FORM2.3!$C$12:$C$181,FORM2.3!$I$12:$I$181)='TABELAS AUXILIARES'!$E$13,\"Não se aplica\")","v":"Resposta Não Preenchida"}]
[null,"10.6",{"$f":"FORM2.3!G104","v":"O órgão configura a varredura antimalware automática de mídia removível?"},{"$f":"FORM2.3!H104","v":"Configure o software anti-malware para verificar automaticamente a mídia removível."},{"$f":"_xlfn.IFS(_xlfn.XLOOKUP(B174,FORM2.3!$C$12:$C$181,FORM2.3!$I$12:$I$181)='TABELAS AUXILIARES'!$E$7,\"Resposta Não Preenchida\", _xlfn.XLOOKUP(B174,FORM2.3!$C$12:$C$181,FORM2.3!$I$12:$I$181)='TABELAS AUXILIARES'!$E$8,\"Implementada\", _xlfn.XLOOKUP(B174,FORM2.3!$C$12:$C$181,FORM2.3!$I$12:$I$181)='TABELAS AUXILIARES'!$E$9,\"Não Implementada\", _xlfn.XLOOKUP(B174,FORM2.3!$C$12:$C$181,FORM2.3!$I$12:$I$181)='TABELAS AUXILIARES'!$E$10,\"Não Implementada\", _xlfn.XLOOKUP(B174,FORM2.3!$C$12:$C$181,FORM2.3!$I$12:$I$181)='TABELAS AUXILIARES'!$E$11,\"Não Implementada\", _xlfn.XLOOKUP(B174,FORM2.3!$C$12:$C$181,FORM2.3!$I$12:$I$181)='TABELAS AUXILIARES'!$E$12,\"Não Adota\", _xlfn.XLOOKUP(B174,FORM2.3!$C$12:$C$181,FORM2.3!$I$12:$I$181)='TABELAS AUXILIARES'!$E$13,\"Não se aplica\")","v":"Resposta Não Preenchida"}]
[null,"10.7",{"$f":"FORM2.3!G105","v":"O órgão utiliza software antimalware baseado em comportamento?"},{"$f":"FORM2.3!H105","v":"Utilizar software anti-malware que consiga monitorar e identificar comportamentos fora do comum dos equipamentos da organização."},{"$f":"_xlfn.IFS(_xlfn.XLOOKUP(B175,FORM2.3!$C$12:$C$181,FORM2.3!$I$12:$I$181)='TABELAS AUXILIARES'!$E$7,\"Resposta Não Preenchida\", _xlfn.XLOOKUP(B175,FORM2.3!$C$12:$C$181,FORM2.3!$I$12:$I$181)='TABELAS AUXILIARES'!$E$8,\"Implementada\", _xlfn.XLOOKUP(B175,FORM2.3!$C$12:$C$181,FORM2.3!$I$12:$I$181)='TABELAS AUXILIARES'!$E$9,\"Não Implementada\", _xlfn.XLOOKUP(B175,FORM2.3!$C$12:$C$181,FORM2.3!$I$12:$I$181)='TABELAS AUXILIARES'!$E$10,\"Não Implementada\", _xlfn.XLOOKUP(B175,FORM2.3!$C$12:$C$181,FORM2.3!$I$12:$I$181)='TABELAS AUXILIARES'!$E$11,\"Não Implementada\", _xlfn.XLOOKUP(B175,FORM2.3!$C$12:$C$181,FORM2.3!$I$12:$I$181)='TABELAS AUXILIARES'!$E$12,\"Não Adota\", _xlfn.XLOOKUP(B175,FORM2.3!$C$12:$C$181,FORM2.3!$I$12:$I$181)='TABELAS AUXILIARES'!$E$13,\"Não se aplica\")","v":"Resposta Não Preenchida"}]
[]
[null,11,"CIS CONTROLE 11: RECUPERAÇÃO DE DADOS"]
[null,{"$f":"FORM2.3!K107","v":"Controle Não Foi Respondido"}]
[null,null,"MEDIDAS DE SEGURANÇA"]
[null,"Nível de Capacidade do Controle"]
[null,"ID","Medida","Descrição","Resposta"]
[null,"11.1",{"$f":"FORM2.3!G107","v":"O órgão protege os dados de recuperação?"},{"$f":"FORM2.3!H107","v":"Garantir que os dados de recuperação sejam protegidos adequadamente por meio de segurança física ou criptografia quando são armazenados, bem como quando são movidos pela rede. Isso inclui backups remotos e serviços em nuvem. Devem ser\nestabelecidos controles que garantam que os dados de recuperação sejam equivalentes aos dados originais."},{"$f":"_xlfn.IFS(_xlfn.XLOOKUP(B182,FORM2.3!$C$12:$C$181,FORM2.3!$I$12:$I$181)='TABELAS AUXILIARES'!$E$7,\"Resposta Não Preenchida\", _xlfn.XLOOKUP(B182,FORM2.3!$C$12:$C$181,FORM2.3!$I$12:$I$181)='TABELAS AUXILIARES'!$E$8,\"Implementada\", _xlfn.XLOOKUP(B182,FORM2.3!$C$12:$C$181,FORM2.3!$I$12:$I$181)='TABELAS AUXILIARES'!$E$9,\"Não Implementada\", _xlfn.XLOOKUP(B182,FORM2.3!$C$12:$C$181,FORM2.3!$I$12:$I$181)='TABELAS AUXILIARES'!$E$10,\"Não Implementada\", _xlfn.XLOOKUP(B182,FORM2.3!$C$12:$C$181,FORM2.3!$I$12:$I$181)='TABELAS AUXILIARES'!$E$11,\"Não Implementada\", _xlfn.XLOOKUP(B182,FORM2.3!$C$12:$C$181,FORM2.3!$I$12:$I$181)='TABELAS AUXILIARES'!$E$12,\"Não Adota\", _xlfn.XLOOKUP(B182,FORM2.3!$C$12:$C$181,FORM2.3!$I$12:$I$181)='TABELAS AUXILIARES'!$E$13,\"Não se aplica\")","v":"Resposta Não Preenchida"}]
[null,"11.2",{"$f":"FORM2.3!G108","v":"O órgão estabelece e \nmantém um \nprocesso de \nrecuperação de \ndados?"},{"$f":"FORM2.3!H108","v":"Estabelecer e manter um processo de recuperação de dados. Tal processo deve descrever em seu escopo as atividades de recuperação de dados, priorização da recuperação e a atividade de segurança dos dados de backup. Periodicamente, deve ser realizada uma revisão e/ou atualização deste processo, assim como em casos específicos quando ocorrerem mudanças significativas na organização que venham impactar a organização de forma significativa."},{"$f":"_xlfn.IFS(_xlfn.XLOOKUP(B183,FORM2.3!$C$12:$C$181,FORM2.3!$I$12:$I$181)='TABELAS AUXILIARES'!$E$7,\"Resposta Não Preenchida\", _xlfn.XLOOKUP(B183,FORM2.3!$C$12:$C$181,FORM2.3!$I$12:$I$181)='TABELAS AUXILIARES'!$E$8,\"Implementada\", _xlfn.XLOOKUP(B183,FORM2.3!$C$12:$C$181,FORM2.3!$I$12:$I$181)='TABELAS AUXILIARES'!$E$9,\"Não Implementada\", _xlfn.XLOOKUP(B183,FORM2.3!$C$12:$C$181,FORM2.3!$I$12:$I$181)='TABELAS AUXILIARES'!$E$10,\"Não Implementada\", _xlfn.XLOOKUP(B183,FORM2.3!$C$12:$C$181,FORM2.3!$I$12:$I$181)='TABELAS AUXILIARES'!$E$11,\"Não Implementada\", _xlfn.XLOOKUP(B183,FORM2.3!$C$12:$C$181,FORM2.3!$I$12:$I$181)='TABELAS AUXILIARES'!$E$12,\"Não Adota\", _xlfn.XLOOKUP(B183,FORM2.3!$C$12:$C$181,FORM2.3!$I$12:$I$181)='TABELAS AUXILIARES'!$E$13,\"Não se aplica\")","v":"Resposta Não Preenchida"}]
[null,"11.3",{"$f":"FORM2.3!G109","v":"O órgão executa backups automatizados?"},{"$f":"FORM2.3!H109","v":"Garantir que todos os dados dos sistemas tenham cópias de segurança (backups) realizadas automaticamente e de forma regular."},{"$f":"_xlfn.IFS(_xlfn.XLOOKUP(B184,FORM2.3!$C$12:$C$181,FORM2.3!$I$12:$I$181)='TABELAS AUXILIARES'!$E$7,\"Resposta Não Preenchida\", _xlfn.XLOOKUP(B184,FORM2.3!$C$12:$C$181,FORM2.3!$I$12:$I$181)='TABELAS AUXILIARES'!$E$8,\"Implementada\", _xlfn.XLOOKUP(B184,FORM2.3!$C$12:$C$181,FORM2.3!$I$12:$I$181)='TABELAS AUXILIARES'!$E$9,\"Não Implementada\", _xlfn.XLOOKUP(B184,FORM2.3!$C$12:$C$181,FORM2.3!$I$12:$I$181)='TABELAS AUXILIARES'!$E$10,\"Não Implementada\", _xlfn.XLOOKUP(B184,FORM2.3!$C$12:$C$181,FORM2.3!$I$12:$I$181)='TABELAS AUXILIARES'!$E$11,\"Não Implementada\", _xlfn.XLOOKUP(B184,FORM2.3!$C$12:$C$181,FORM2.3!$I$12:$I$181)='TABELAS AUXILIARES'!$E$12,\"Não Adota\", _xlfn.XLOOKUP(B184,FORM2.3!$C$12:$C$181,FORM2.3!$I$12:$I$181)='TABELAS AUXILIARES'!$E$13,\"Não se aplica\")","v":"Resposta Não Preenchida"}]
[null,"11.4",{"$f":"FORM2.3!G110","v":"O órgão estabelece e mantém uma instância isolada de dados de recuperação?"},{"$f":"FORM2.3!H110","v":"Criar e manter pelo menos uma instância isolada dos dados de recuperação. Alguns exemplos deste tipo de implementação são controle de versão de destinos de backup por meio de sistemas e serviços offline (backup offline, não acessível por meio de uma conexão de rede), em nuvem, ou em datacenter separado do site local."},{"$f":"_xlfn.IFS(_xlfn.XLOOKUP(B185,FORM2.3!$C$12:$C$181,FORM2.3!$I$12:$I$181)='TABELAS AUXILIARES'!$E$7,\"Resposta Não Preenchida\", _xlfn.XLOOKUP(B185,FORM2.3!$C$12:$C$181,FORM2.3!$I$12:$I$181)='TABELAS AUXILIARES'!$E$8,\"Implementada\", _xlfn.XLOOKUP(B185,FORM2.3!$C$12:$C$181,FORM2.3!$I$12:$I$181)='TABELAS AUXILIARES'!$E$9,\"Não Implementada\", _xlfn.XLOOKUP(B185,FORM2.3!$C$12:$C$181,FORM2.3!$I$12:$I$181)='TABELAS AUXILIARES'!$E$10,\"Não Implementada\", _xlfn.XLOOKUP(B185,FORM2.3!$C$12:$C$181,FORM2.3!$I$12:$I$181)='TABELAS AUXILIARES'!$E$11,\"Não Implementada\", _xlfn.XLOOKUP(B185,FORM2.3!$C$12:$C$181,FORM2.3!$I$12:$I$181)='TABELAS AUXILIARES'!$E$12,\"Não Adota\", _xlfn.XLOOKUP(B185,FORM2.3!$C$12:$C$181,FORM2.3!$I$12:$I$181)='TABELAS AUXILIARES'!$E$13,\"Não se aplica\")","v":"Resposta Não Preenchida"}]
[null,"11.5",{"$f":"FORM2.3!G111","v":"O órgão testa os dados de recuperação?"},{"$f":"FORM2.3!H111","v":"Realizar o teste de integridade dos dados na mídia de backup regularmente, executando um processo de restauração de dados para garantir que o backup esteja funcionando corretamente."},{"$f":"_xlfn.IFS(_xlfn.XLOOKUP(B186,FORM2.3!$C$12:$C$181,FORM2.3!$I$12:$I$181)='TABELAS AUXILIARES'!$E$7,\"Resposta Não Preenchida\", _xlfn.XLOOKUP(B186,FORM2.3!$C$12:$C$181,FORM2.3!$I$12:$I$181)='TABELAS AUXILIARES'!$E$8,\"Implementada\", _xlfn.XLOOKUP(B186,FORM2.3!$C$12:$C$181,FORM2.3!$I$12:$I$181)='TABELAS AUXILIARES'!$E$9,\"Não Implementada\", _xlfn.XLOOKUP(B186,FORM2.3!$C$12:$C$181,FORM2.3!$I$12:$I$181)='TABELAS AUXILIARES'!$E$10,\"Não Implementada\", _xlfn.XLOOKUP(B186,FORM2.3!$C$12:$C$181,FORM2.3!$I$12:$I$181)='TABELAS AUXILIARES'!$E$11,\"Não Implementada\", _xlfn.XLOOKUP(B186,FORM2.3!$C$12:$C$181,FORM2.3!$I$12:$I$181)='TABELAS AUXILIARES'!$E$12,\"Não Adota\", _xlfn.XLOOKUP(B186,FORM2.3!$C$12:$C$181,FORM2.3!$I$12:$I$181)='TABELAS AUXILIARES'!$E$13,\"Não se aplica\")","v":"Resposta Não Preenchida"}]
[]
[null,12,"CIS CONTROLE 12:  GESTÃO DA INFRAESTRUTURA DE REDE"]
[null,{"$f":"FORM2.3!K113","v":"Controle Não Foi Respondido"}]
[null,null,"MEDIDAS DE SEGURANÇA"]
[null,"Nível de Capacidade do Controle"]
[null,"ID","Medida","Descrição","Resposta"]
[null,"12.1",{"$f":"FORM2.3!G113","v":"O órgão elabora e mantém diagramas de arquitetura?"},{"$f":"FORM2.3!H113","v":"Elaborar e manter diagramas e demais documentações da arquitetura de rede da organização. A revisão destas documentações deve ser realizada de forma periódica ou quando ocorrerem mudanças que possam impactar tais artefatos."},{"$f":"_xlfn.IFS(_xlfn.XLOOKUP(B193,FORM2.3!$C$12:$C$181,FORM2.3!$I$12:$I$181)='TABELAS AUXILIARES'!$E$7,\"Resposta Não Preenchida\", _xlfn.XLOOKUP(B193,FORM2.3!$C$12:$C$181,FORM2.3!$I$12:$I$181)='TABELAS AUXILIARES'!$E$8,\"Implementada\", _xlfn.XLOOKUP(B193,FORM2.3!$C$12:$C$181,FORM2.3!$I$12:$I$181)='TABELAS AUXILIARES'!$E$9,\"Não Implementada\", _xlfn.XLOOKUP(B193,FORM2.3!$C$12:$C$181,FORM2.3!$I$12:$I$181)='TABELAS AUXILIARES'!$E$10,\"Não Implementada\", _xlfn.XLOOKUP(B193,FORM2.3!$C$12:$C$181,FORM2.3!$I$12:$I$181)='TABELAS AUXILIARES'!$E$11,\"Não Implementada\", _xlfn.XLOOKUP(B193,FORM2.3!$C$12:$C$181,FORM2.3!$I$12:$I$181)='TABELAS AUXILIARES'!$E$12,\"Não Adota\", _xlfn.XLOOKUP(B193,FORM2.3!$C$12:$C$181,FORM2.3!$I$12:$I$181)='TABELAS AUXILIARES'!$E$13,\"Não se aplica\")","v":"Resposta Não Preenchida"}]
[null,"12.2",{"$f":"FORM2.3!G114","v":"O órgão garante que a infraestrutura de rede está atualizada?"},{"$f":"FORM2.3!H114","v":"Garantir que a infraestrutura de rede da organização esteja sempre atualizada. Deve ser realizada uma revisão das versões de software de forma periódica, ou quando for identificada uma vulnerabilidade que eleve o risco da organização."},{"$f":"_xlfn.IFS(_xlfn.XLOOKUP(B194,FORM2.3!$C$12:$C$181,FORM2.3!$I$12:$I$181)='TABELAS AUXILIARES'!$E$7,\"Resposta Não Preenchida\", _xlfn.XLOOKUP(B194,FORM2.3!$C$12:$C$181,FORM2.3!$I$12:$I$181)='TABELAS AUXILIARES'!$E$8,\"Implementada\", _xlfn.XLOOKUP(B194,FORM2.3!$C$12:$C$181,FORM2.3!$I$12:$I$181)='TABELAS AUXILIARES'!$E$9,\"Não Implementada\", _xlfn.XLOOKUP(B194,FORM2.3!$C$12:$C$181,FORM2.3!$I$12:$I$181)='TABELAS AUXILIARES'!$E$10,\"Não Implementada\", _xlfn.XLOOKUP(B194,FORM2.3!$C$12:$C$181,FORM2.3!$I$12:$I$181)='TABELAS AUXILIARES'!$E$11,\"Não Implementada\", _xlfn.XLOOKUP(B194,FORM2.3!$C$12:$C$181,FORM2.3!$I$12:$I$181)='TABELAS AUXILIARES'!$E$12,\"Não Adota\", _xlfn.XLOOKUP(B194,FORM2.3!$C$12:$C$181,FORM2.3!$I$12:$I$181)='TABELAS AUXILIARES'!$E$13,\"Não se aplica\")","v":"Resposta Não Preenchida"}]
[null,"12.3",{"$f":"FORM2.3!G115","v":"O órgão garante níveis de segurança para a arquitetura de rede?"},{"$f":"FORM2.3!H115","v":"Garantir que a arquitetura de rede se mantenha segura. É interessante buscar implementar políticas de segurança como segmentação de rede, privilégio mínimo e níveis básicos de disponibilidade."},{"$f":"_xlfn.IFS(_xlfn.XLOOKUP(B195,FORM2.3!$C$12:$C$181,FORM2.3!$I$12:$I$181)='TABELAS AUXILIARES'!$E$7,\"Resposta Não Preenchida\", _xlfn.XLOOKUP(B195,FORM2.3!$C$12:$C$181,FORM2.3!$I$12:$I$181)='TABELAS AUXILIARES'!$E$8,\"Implementada\", _xlfn.XLOOKUP(B195,FORM2.3!$C$12:$C$181,FORM2.3!$I$12:$I$181)='TABELAS AUXILIARES'!$E$9,\"Não Implementada\", _xlfn.XLOOKUP(B195,FORM2.3!$C$12:$C$181,FORM2.3!$I$12:$I$181)='TABELAS AUXILIARES'!$E$10,\"Não Implementada\", _xlfn.XLOOKUP(B195,FORM2.3!$C$12:$C$181,FORM2.3!$I$12:$I$181)='TABELAS AUXILIARES'!$E$11,\"Não Implementada\", _xlfn.XLOOKUP(B195,FORM2.3!$C$12:$C$181,FORM2.3!$I$12:$I$181)='TABELAS AUXILIARES'!$E$12,\"Não Adota\", _xlfn.XLOOKUP(B195,FORM2.3!$C$12:$C$181,FORM2.3!$I$12:$I$181)='TABELAS AUXILIARES'!$E$13,\"Não se aplica\")","v":"Resposta Não Preenchida"}]
[null,"12.4",{"$f":"FORM2.3!G116","v":"O órgão gerencia a infraestrutura de rede e segurança?"},{"$f":"FORM2.3!H116","v":"Implementar e gerenciar com segurança a infraestrutura de rede da organização."},{"$f":"_xlfn.IFS(_xlfn.XLOOKUP(B196,FORM2.3!$C$12:$C$181,FORM2.3!$I$12:$I$181)='TABELAS AUXILIARES'!$E$7,\"Resposta Não Preenchida\", _xlfn.XLOOKUP(B196,FORM2.3!$C$12:$C$181,FORM2.3!$I$12:$I$181)='TABELAS AUXILIARES'!$E$8,\"Implementada\", _xlfn.XLOOKUP(B196,FORM2.3!$C$12:$C$181,FORM2.3!$I$12:$I$181)='TABELAS AUXILIARES'!$E$9,\"Não Implementada\", _xlfn.XLOOKUP(B196,FORM2.3!$C$12:$C$181,FORM2.3!$I$12:$I$181)='TABELAS AUXILIARES'!$E$10,\"Não Implementada\", _xlfn.XLOOKUP(B196,FORM2.3!$C$12:$C$181,FORM2.3!$I$12:$I$181)='TABELAS AUXILIARES'!$E$11,\"Não Implementada\", _xlfn.XLOOKUP(B196,FORM2.3!$C$12:$C$181,FORM2.3!$I$12:$I$181)='TABELAS AUXILIARES'!$E$12,\"Não Adota\", _xlfn.XLOOKUP(B196,FORM2.3!$C$12:$C$181,FORM2.3!$I$12:$I$181)='TABELAS AUXILIARES'!$E$13,\"Não se aplica\")","v":"Resposta Não Preenchida"}]
[null,"12.5",{"$f":"FORM2.3!G117","v":"O órgão centraliza a autenticação, autorização e auditoria de rede (AAA)?"},{"$f":"FORM2.3!H117","v":"Implementar a centralização de (AAA) de rede."},{"$f":"_xlfn.IFS(_xlfn.XLOOKUP(B197,FORM2.3!$C$12:$C$181,FORM2.3!$I$12:$I$181)='TABELAS AUXILIARES'!$E$7,\"Resposta Não Preenchida\", _xlfn.XLOOKUP(B197,FORM2.3!$C$12:$C$181,FORM2.3!$I$12:$I$181)='TABELAS AUXILIARES'!$E$8,\"Implementada\", _xlfn.XLOOKUP(B197,FORM2.3!$C$12:$C$181,FORM2.3!$I$12:$I$181)='TABELAS AUXILIARES'!$E$9,\"Não Implementada\", _xlfn.XLOOKUP(B197,FORM2.3!$C$12:$C$181,FORM2.3!$I$12:$I$181)='TABELAS AUXILIARES'!$E$10,\"Não Implementada\", _xlfn.XLOOKUP(B197,FORM2.3!$C$12:$C$181,FORM2.3!$I$12:$I$181)='TABELAS AUXILIARES'!$E$11,\"Não Implementada\", _xlfn.XLOOKUP(B197,FORM2.3!$C$12:$C$181,FORM2.3!$I$12:$I$181)='TABELAS AUXILIARES'!$E$12,\"Não Adota\", _xlfn.XLOOKUP(B197,FORM2.3!$C$12:$C$181,FORM2.3!$I$12:$I$181)='TABELAS AUXILIARES'!$E$13,\"Não se aplica\")","v":"Resposta Não Preenchida"}]
[null,"12.6",{"$f":"FORM2.3!G118","v":"O órgão utiliza protocolos de comunicação e gestão de rede seguros?"},{"$f":"FORM2.3!H118","v":"Implementar protocolos de comunicação e rede seguros."},{"$f":"_xlfn.IFS(_xlfn.XLOOKUP(B198,FORM2.3!$C$12:$C$181,FORM2.3!$I$12:$I$181)='TABELAS AUXILIARES'!$E$7,\"Resposta Não Preenchida\", _xlfn.XLOOKUP(B198,FORM2.3!$C$12:$C$181,FORM2.3!$I$12:$I$181)='TABELAS AUXILIARES'!$E$8,\"Implementada\", _xlfn.XLOOKUP(B198,FORM2.3!$C$12:$C$181,FORM2.3!$I$12:$I$181)='TABELAS AUXILIARES'!$E$9,\"Não Implementada\", _xlfn.XLOOKUP(B198,FORM2.3!$C$12:$C$181,FORM2.3!$I$12:$I$181)='TABELAS AUXILIARES'!$E$10,\"Não Implementada\", _xlfn.XLOOKUP(B198,FORM2.3!$C$12:$C$181,FORM2.3!$I$12:$I$181)='TABELAS AUXILIARES'!$E$11,\"Não Implementada\", _xlfn.XLOOKUP(B198,FORM2.3!$C$12:$C$181,FORM2.3!$I$12:$I$181)='TABELAS AUXILIARES'!$E$12,\"Não Adota\", _xlfn.XLOOKUP(B198,FORM2.3!$C$12:$C$181,FORM2.3!$I$12:$I$181)='TABELAS AUXILIARES'!$E$13,\"Não se aplica\")","v":"Resposta Não Preenchida"}]
[null,"12.7",{"$f":"FORM2.3!G119","v":"O órgão garante que os dispositivos remotos utilizem uma VPN e se conectem em uma infraestrutura AAA segura da organização?"},{"$f":"FORM2.3!H119","v":"Fazer com que os usuários se autentiquem em serviços de autenticação e VPN gerenciados pela organização antes de acessar os dispositivos e recursos da organização."},{"$f":"_xlfn.IFS(_xlfn.XLOOKUP(B199,FORM2.3!$C$12:$C$181,FORM2.3!$I$12:$I$181)='TABELAS AUXILIARES'!$E$7,\"Resposta Não Preenchida\", _xlfn.XLOOKUP(B199,FORM2.3!$C$12:$C$181,FORM2.3!$I$12:$I$181)='TABELAS AUXILIARES'!$E$8,\"Implementada\", _xlfn.XLOOKUP(B199,FORM2.3!$C$12:$C$181,FORM2.3!$I$12:$I$181)='TABELAS AUXILIARES'!$E$9,\"Não Implementada\", _xlfn.XLOOKUP(B199,FORM2.3!$C$12:$C$181,FORM2.3!$I$12:$I$181)='TABELAS AUXILIARES'!$E$10,\"Não Implementada\", _xlfn.XLOOKUP(B199,FORM2.3!$C$12:$C$181,FORM2.3!$I$12:$I$181)='TABELAS AUXILIARES'!$E$11,\"Não Implementada\", _xlfn.XLOOKUP(B199,FORM2.3!$C$12:$C$181,FORM2.3!$I$12:$I$181)='TABELAS AUXILIARES'!$E$12,\"Não Adota\", _xlfn.XLOOKUP(B199,FORM2.3!$C$12:$C$181,FORM2.3!$I$12:$I$181)='TABELAS AUXILIARES'!$E$13,\"Não se aplica\")","v":"Resposta Não Preenchida"}]
[null,"12.8",{"$f":"FORM2.3!G120","v":"O órgão utiliza e mantém recursos cibernéticos dedicados para todo o trabalho administrativo?"},{"$f":"FORM2.3!H120","v":"Habilitar a coleta de Netflow e registros de log em cada um dos dispositivos existentes para a execução de tarefas administrativas, utilize e mantenha recursos cibernéticos dedicados, estes devem estar fisicamente ou logicamente separados e seguros. É importante que tais recursos sejam segmentados da rede primária\nda organização, e não deve ser permitido o acesso a rede externa da organização. fronteiras da rede."},{"$f":"_xlfn.IFS(_xlfn.XLOOKUP(B200,FORM2.3!$C$12:$C$181,FORM2.3!$I$12:$I$181)='TABELAS AUXILIARES'!$E$7,\"Resposta Não Preenchida\", _xlfn.XLOOKUP(B200,FORM2.3!$C$12:$C$181,FORM2.3!$I$12:$I$181)='TABELAS AUXILIARES'!$E$8,\"Implementada\", _xlfn.XLOOKUP(B200,FORM2.3!$C$12:$C$181,FORM2.3!$I$12:$I$181)='TABELAS AUXILIARES'!$E$9,\"Não Implementada\", _xlfn.XLOOKUP(B200,FORM2.3!$C$12:$C$181,FORM2.3!$I$12:$I$181)='TABELAS AUXILIARES'!$E$10,\"Não Implementada\", _xlfn.XLOOKUP(B200,FORM2.3!$C$12:$C$181,FORM2.3!$I$12:$I$181)='TABELAS AUXILIARES'!$E$11,\"Não Implementada\", _xlfn.XLOOKUP(B200,FORM2.3!$C$12:$C$181,FORM2.3!$I$12:$I$181)='TABELAS AUXILIARES'!$E$12,\"Não Adota\", _xlfn.XLOOKUP(B200,FORM2.3!$C$12:$C$181,FORM2.3!$I$12:$I$181)='TABELAS AUXILIARES'!$E$13,\"Não se aplica\")","v":"Resposta Não Preenchida"}]
[]
[null,13,"CIS CONTROLE 13: MONITORAMENTO E DEFESA DA REDE"]
[null,{"$f":"FORM2.3!K122","v":"Controle Não Foi Respondido"}]
[null,null,"MEDIDAS DE SEGURANÇA"]
[null,"Nível de Capacidade do Controle"]
[null,"ID","Medida","Descrição","Resposta"]
[null,"13.1",{"$f":"_xlfn.XLOOKUP(B207,FORM2.3!$C$122:$C$181,FORM2.3!$G$122:$G$181)","v":"O órgão realiza filtragem de tráfego entre os segmentos de rede?"},{"$f":"_xlfn.XLOOKUP(B207,FORM2.3!$C$122:$C$181,FORM2.3!$H$122:$H$181)","v":"Realize a filtragem de tráfego entre os segmentos de rede."},{"$f":"_xlfn.IFS(_xlfn.XLOOKUP(B207,FORM2.3!$C$12:$C$181,FORM2.3!$I$12:$I$181)='TABELAS AUXILIARES'!$E$7,\"Resposta Não Preenchida\", _xlfn.XLOOKUP(B207,FORM2.3!$C$12:$C$181,FORM2.3!$I$12:$I$181)='TABELAS AUXILIARES'!$E$8,\"Implementada\", _xlfn.XLOOKUP(B207,FORM2.3!$C$12:$C$181,FORM2.3!$I$12:$I$181)='TABELAS AUXILIARES'!$E$9,\"Não Implementada\", _xlfn.XLOOKUP(B207,FORM2.3!$C$12:$C$181,FORM2.3!$I$12:$I$181)='TABELAS AUXILIARES'!$E$10,\"Não Implementada\", _xlfn.XLOOKUP(B207,FORM2.3!$C$12:$C$181,FORM2.3!$I$12:$I$181)='TABELAS AUXILIARES'!$E$11,\"Não Implementada\", _xlfn.XLOOKUP(B207,FORM2.3!$C$12:$C$181,FORM2.3!$I$12:$I$181)='TABELAS AUXILIARES'!$E$12,\"Não Adota\", _xlfn.XLOOKUP(B207,FORM2.3!$C$12:$C$181,FORM2.3!$I$12:$I$181)='TABELAS AUXILIARES'!$E$13,\"Não se aplica\")","v":"Resposta Não Preenchida"}]
[null,"13.2",{"$f":"_xlfn.XLOOKUP(B208,FORM2.3!$C$122:$C$181,FORM2.3!$G$122:$G$181)","v":"O órgão aplica o gerenciamento de controle de acesso em ativos remotos?"},{"$f":"_xlfn.XLOOKUP(B208,FORM2.3!$C$122:$C$181,FORM2.3!$H$122:$H$181)","v":"Aplique o gerenciamento de controle de acesso em ativos que se conectam remotamente a organização. Determine a quantidade de acesso aos recursos da organização utilizando softwares antimalware devidamente atualizados, processos de configuração segura de ativos e certifique-se que os sistemas operacionais e demais aplicações estejam sempre atualizados."},{"$f":"_xlfn.IFS(_xlfn.XLOOKUP(B208,FORM2.3!$C$12:$C$181,FORM2.3!$I$12:$I$181)='TABELAS AUXILIARES'!$E$7,\"Resposta Não Preenchida\", _xlfn.XLOOKUP(B208,FORM2.3!$C$12:$C$181,FORM2.3!$I$12:$I$181)='TABELAS AUXILIARES'!$E$8,\"Implementada\", _xlfn.XLOOKUP(B208,FORM2.3!$C$12:$C$181,FORM2.3!$I$12:$I$181)='TABELAS AUXILIARES'!$E$9,\"Não Implementada\", _xlfn.XLOOKUP(B208,FORM2.3!$C$12:$C$181,FORM2.3!$I$12:$I$181)='TABELAS AUXILIARES'!$E$10,\"Não Implementada\", _xlfn.XLOOKUP(B208,FORM2.3!$C$12:$C$181,FORM2.3!$I$12:$I$181)='TABELAS AUXILIARES'!$E$11,\"Não Implementada\", _xlfn.XLOOKUP(B208,FORM2.3!$C$12:$C$181,FORM2.3!$I$12:$I$181)='TABELAS AUXILIARES'!$E$12,\"Não Adota\", _xlfn.XLOOKUP(B208,FORM2.3!$C$12:$C$181,FORM2.3!$I$12:$I$181)='TABELAS AUXILIARES'!$E$13,\"Não se aplica\")","v":"Resposta Não Preenchida"}]
[null,"13.3",{"$f":"_xlfn.XLOOKUP(B209,FORM2.3!$C$122:$C$181,FORM2.3!$G$122:$G$181)","v":"O órgão implanta soluções para prevenção de intrusão baseada em host?"},{"$f":"_xlfn.XLOOKUP(B209,FORM2.3!$C$122:$C$181,FORM2.3!$H$122:$H$181)","v":"Implante uma solução para prevenção de intrusão baseada em host e ativos institucionais, preferencialmente com suporte do fornecedor."},{"$f":"_xlfn.IFS(_xlfn.XLOOKUP(B209,FORM2.3!$C$12:$C$181,FORM2.3!$I$12:$I$181)='TABELAS AUXILIARES'!$E$7,\"Resposta Não Preenchida\", _xlfn.XLOOKUP(B209,FORM2.3!$C$12:$C$181,FORM2.3!$I$12:$I$181)='TABELAS AUXILIARES'!$E$8,\"Implementada\", _xlfn.XLOOKUP(B209,FORM2.3!$C$12:$C$181,FORM2.3!$I$12:$I$181)='TABELAS AUXILIARES'!$E$9,\"Não Implementada\", _xlfn.XLOOKUP(B209,FORM2.3!$C$12:$C$181,FORM2.3!$I$12:$I$181)='TABELAS AUXILIARES'!$E$10,\"Não Implementada\", _xlfn.XLOOKUP(B209,FORM2.3!$C$12:$C$181,FORM2.3!$I$12:$I$181)='TABELAS AUXILIARES'!$E$11,\"Não Implementada\", _xlfn.XLOOKUP(B209,FORM2.3!$C$12:$C$181,FORM2.3!$I$12:$I$181)='TABELAS AUXILIARES'!$E$12,\"Não Adota\", _xlfn.XLOOKUP(B209,FORM2.3!$C$12:$C$181,FORM2.3!$I$12:$I$181)='TABELAS AUXILIARES'!$E$13,\"Não se aplica\")","v":"Resposta Não Preenchida"}]
[null,"13.4",{"$f":"_xlfn.XLOOKUP(B210,FORM2.3!$C$122:$C$181,FORM2.3!$G$122:$G$181)","v":"O órgão implanta soluções para prevenção de intrusão de rede?"},{"$f":"_xlfn.XLOOKUP(B210,FORM2.3!$C$122:$C$181,FORM2.3!$H$122:$H$181)","v":"Implante uma solução para prevenção de intrusão baseada em rede, preferencialmente com suporte do fornecedor."},{"$f":"_xlfn.IFS(_xlfn.XLOOKUP(B210,FORM2.3!$C$12:$C$181,FORM2.3!$I$12:$I$181)='TABELAS AUXILIARES'!$E$7,\"Resposta Não Preenchida\", _xlfn.XLOOKUP(B210,FORM2.3!$C$12:$C$181,FORM2.3!$I$12:$I$181)='TABELAS AUXILIARES'!$E$8,\"Implementada\", _xlfn.XLOOKUP(B210,FORM2.3!$C$12:$C$181,FORM2.3!$I$12:$I$181)='TABELAS AUXILIARES'!$E$9,\"Não Implementada\", _xlfn.XLOOKUP(B210,FORM2.3!$C$12:$C$181,FORM2.3!$I$12:$I$181)='TABELAS AUXILIARES'!$E$10,\"Não Implementada\", _xlfn.XLOOKUP(B210,FORM2.3!$C$12:$C$181,FORM2.3!$I$12:$I$181)='TABELAS AUXILIARES'!$E$11,\"Não Implementada\", _xlfn.XLOOKUP(B210,FORM2.3!$C$12:$C$181,FORM2.3!$I$12:$I$181)='TABELAS AUXILIARES'!$E$12,\"Não Adota\", _xlfn.XLOOKUP(B210,FORM2.3!$C$12:$C$181,FORM2.3!$I$12:$I$181)='TABELAS AUXILIARES'!$E$13,\"Não se aplica\")","v":"Resposta Não Preenchida"}]
[null,"13.5",{"$f":"_xlfn.XLOOKUP(B211,FORM2.3!$C$122:$C$181,FORM2.3!$G$122:$G$181)","v":"O órgão implanta controle de acesso a nível de porta?"},{"$f":"_xlfn.XLOOKUP(B211,FORM2.3!$C$122:$C$181,FORM2.3!$H$122:$H$181)","v":"Implante o controle de acesso em nível de porta. Tal controle utiliza o protocolo 802.1x ou soluções semelhantes como certificados, também podem ser utilizadas ferramentas para autenticação de usuário e/ou dispositivo."},{"$f":"_xlfn.IFS(_xlfn.XLOOKUP(B211,FORM2.3!$C$12:$C$181,FORM2.3!$I$12:$I$181)='TABELAS AUXILIARES'!$E$7,\"Resposta Não Preenchida\", _xlfn.XLOOKUP(B211,FORM2.3!$C$12:$C$181,FORM2.3!$I$12:$I$181)='TABELAS AUXILIARES'!$E$8,\"Implementada\", _xlfn.XLOOKUP(B211,FORM2.3!$C$12:$C$181,FORM2.3!$I$12:$I$181)='TABELAS AUXILIARES'!$E$9,\"Não Implementada\", _xlfn.XLOOKUP(B211,FORM2.3!$C$12:$C$181,FORM2.3!$I$12:$I$181)='TABELAS AUXILIARES'!$E$10,\"Não Implementada\", _xlfn.XLOOKUP(B211,FORM2.3!$C$12:$C$181,FORM2.3!$I$12:$I$181)='TABELAS AUXILIARES'!$E$11,\"Não Implementada\", _xlfn.XLOOKUP(B211,FORM2.3!$C$12:$C$181,FORM2.3!$I$12:$I$181)='TABELAS AUXILIARES'!$E$12,\"Não Adota\", _xlfn.XLOOKUP(B211,FORM2.3!$C$12:$C$181,FORM2.3!$I$12:$I$181)='TABELAS AUXILIARES'!$E$13,\"Não se aplica\")","v":"Resposta Não Preenchida"}]
[null,"13.6",{"$f":"_xlfn.XLOOKUP(B212,FORM2.3!$C$122:$C$181,FORM2.3!$G$122:$G$181)","v":"O órgão realiza a filtragem de camada de aplicação?"},{"$f":"_xlfn.XLOOKUP(B212,FORM2.3!$C$122:$C$181,FORM2.3!$H$122:$H$181)","v":"Realize a filtragem de camada de aplicação. Exemplos de implementações são proxy de filtragem, firewall desta camada ou gateway."},{"$f":"_xlfn.IFS(_xlfn.XLOOKUP(B212,FORM2.3!$C$12:$C$181,FORM2.3!$I$12:$I$181)='TABELAS AUXILIARES'!$E$7,\"Resposta Não Preenchida\", _xlfn.XLOOKUP(B212,FORM2.3!$C$12:$C$181,FORM2.3!$I$12:$I$181)='TABELAS AUXILIARES'!$E$8,\"Implementada\", _xlfn.XLOOKUP(B212,FORM2.3!$C$12:$C$181,FORM2.3!$I$12:$I$181)='TABELAS AUXILIARES'!$E$9,\"Não Implementada\", _xlfn.XLOOKUP(B212,FORM2.3!$C$12:$C$181,FORM2.3!$I$12:$I$181)='TABELAS AUXILIARES'!$E$10,\"Não Implementada\", _xlfn.XLOOKUP(B212,FORM2.3!$C$12:$C$181,FORM2.3!$I$12:$I$181)='TABELAS AUXILIARES'!$E$11,\"Não Implementada\", _xlfn.XLOOKUP(B212,FORM2.3!$C$12:$C$181,FORM2.3!$I$12:$I$181)='TABELAS AUXILIARES'!$E$12,\"Não Adota\", _xlfn.XLOOKUP(B212,FORM2.3!$C$12:$C$181,FORM2.3!$I$12:$I$181)='TABELAS AUXILIARES'!$E$13,\"Não se aplica\")","v":"Resposta Não Preenchida"}]
[null,"13.7",{"$f":"_xlfn.XLOOKUP(B213,FORM2.3!$C$122:$C$181,FORM2.3!$G$122:$G$181)","v":"O órgão centraliza alertas de  eventos de  segurança?"},{"$f":"_xlfn.XLOOKUP(B213,FORM2.3!$C$122:$C$181,FORM2.3!$H$122:$H$181)","v":"Centralize os alertas de eventos de segurança em ativos institucionais para que a organização consiga realizar a correlação e análise do log. Uma boa prática é o uso de um SIEM que inclua alertas de correlação de eventos definidos pelo fornecedor. Outra boa prática é a adoção de uma plataforma de análise de log configurada com aletas de correlação relevantes para a segurança cibernética."},{"$f":"_xlfn.IFS(_xlfn.XLOOKUP(B213,FORM2.3!$C$12:$C$181,FORM2.3!$I$12:$I$181)='TABELAS AUXILIARES'!$E$7,\"Resposta Não Preenchida\", _xlfn.XLOOKUP(B213,FORM2.3!$C$12:$C$181,FORM2.3!$I$12:$I$181)='TABELAS AUXILIARES'!$E$8,\"Implementada\", _xlfn.XLOOKUP(B213,FORM2.3!$C$12:$C$181,FORM2.3!$I$12:$I$181)='TABELAS AUXILIARES'!$E$9,\"Não Implementada\", _xlfn.XLOOKUP(B213,FORM2.3!$C$12:$C$181,FORM2.3!$I$12:$I$181)='TABELAS AUXILIARES'!$E$10,\"Não Implementada\", _xlfn.XLOOKUP(B213,FORM2.3!$C$12:$C$181,FORM2.3!$I$12:$I$181)='TABELAS AUXILIARES'!$E$11,\"Não Implementada\", _xlfn.XLOOKUP(B213,FORM2.3!$C$12:$C$181,FORM2.3!$I$12:$I$181)='TABELAS AUXILIARES'!$E$12,\"Não Adota\", _xlfn.XLOOKUP(B213,FORM2.3!$C$12:$C$181,FORM2.3!$I$12:$I$181)='TABELAS AUXILIARES'!$E$13,\"Não se aplica\")","v":"Resposta Não Preenchida"}]
[null,"13.8",{"$f":"_xlfn.XLOOKUP(B214,FORM2.3!$C$122:$C$181,FORM2.3!$G$122:$G$181)","v":"O órgão implanta soluções de detecção e intrusão baseada em host?"},{"$f":"_xlfn.XLOOKUP(B214,FORM2.3!$C$122:$C$181,FORM2.3!$H$122:$H$181)","v":"Implante soluções para detecção de intrusão baseada em host em ativos institucionais"},{"$f":"_xlfn.IFS(_xlfn.XLOOKUP(B214,FORM2.3!$C$12:$C$181,FORM2.3!$I$12:$I$181)='TABELAS AUXILIARES'!$E$7,\"Resposta Não Preenchida\", _xlfn.XLOOKUP(B214,FORM2.3!$C$12:$C$181,FORM2.3!$I$12:$I$181)='TABELAS AUXILIARES'!$E$8,\"Implementada\", _xlfn.XLOOKUP(B214,FORM2.3!$C$12:$C$181,FORM2.3!$I$12:$I$181)='TABELAS AUXILIARES'!$E$9,\"Não Implementada\", _xlfn.XLOOKUP(B214,FORM2.3!$C$12:$C$181,FORM2.3!$I$12:$I$181)='TABELAS AUXILIARES'!$E$10,\"Não Implementada\", _xlfn.XLOOKUP(B214,FORM2.3!$C$12:$C$181,FORM2.3!$I$12:$I$181)='TABELAS AUXILIARES'!$E$11,\"Não Implementada\", _xlfn.XLOOKUP(B214,FORM2.3!$C$12:$C$181,FORM2.3!$I$12:$I$181)='TABELAS AUXILIARES'!$E$12,\"Não Adota\", _xlfn.XLOOKUP(B214,FORM2.3!$C$12:$C$181,FORM2.3!$I$12:$I$181)='TABELAS AUXILIARES'!$E$13,\"Não se aplica\")","v":"Resposta Não Preenchida"}]
[null,"13.9",{"$f":"_xlfn.XLOOKUP(B215,FORM2.3!$C$122:$C$181,FORM2.3!$G$122:$G$181)","v":"O órgão implanta  soluções de  detecção e  intrusão  baseada em  rede?"},{"$f":"_xlfn.XLOOKUP(B215,FORM2.3!$C$122:$C$181,FORM2.3!$H$122:$H$181)","v":"Implante soluções para detecção de intrusão de rede em ativos institucionais"},{"$f":"_xlfn.IFS(_xlfn.XLOOKUP(B215,FORM2.3!$C$12:$C$181,FORM2.3!$I$12:$I$181)='TABELAS AUXILIARES'!$E$7,\"Resposta Não Preenchida\", _xlfn.XLOOKUP(B215,FORM2.3!$C$12:$C$181,FORM2.3!$I$12:$I$181)='TABELAS AUXILIARES'!$E$8,\"Implementada\", _xlfn.XLOOKUP(B215,FORM2.3!$C$12:$C$181,FORM2.3!$I$12:$I$181)='TABELAS AUXILIARES'!$E$9,\"Não Implementada\", _xlfn.XLOOKUP(B215,FORM2.3!$C$12:$C$181,FORM2.3!$I$12:$I$181)='TABELAS AUXILIARES'!$E$10,\"Não Implementada\", _xlfn.XLOOKUP(B215,FORM2.3!$C$12:$C$181,FORM2.3!$I$12:$I$181)='TABELAS AUXILIARES'!$E$11,\"Não Implementada\", _xlfn.XLOOKUP(B215,FORM2.3!$C$12:$C$181,FORM2.3!$I$12:$I$181)='TABELAS AUXILIARES'!$E$12,\"Não Adota\", _xlfn.XLOOKUP(B215,FORM2.3!$C$12:$C$181,FORM2.3!$I$12:$I$181)='TABELAS AUXILIARES'!$E$13,\"Não se aplica\")","v":"Resposta Não Preenchida"}]
[null,"13.10",{"$f":"_xlfn.XLOOKUP(B216,FORM2.3!$C$122:$C$181,FORM2.3!$G$122:$G$181)","v":"O órgão coleta logs de fluxo e tráfego de rede?"},{"$f":"_xlfn.XLOOKUP(B216,FORM2.3!$C$122:$C$181,FORM2.3!$H$122:$H$181)","v":"Realize a coleta dos logs de fluxo e tráfego de rede com o objetivo de checar e alertar sobre dispositivos de rede que estejam com comportamento que fujam do padrão. em sua necessidade de acesso como parte de suas responsabilidades."},{"$f":"_xlfn.IFS(_xlfn.XLOOKUP(B216,FORM2.3!$C$12:$C$181,FORM2.3!$I$12:$I$181)='TABELAS AUXILIARES'!$E$7,\"Resposta Não Preenchida\", _xlfn.XLOOKUP(B216,FORM2.3!$C$12:$C$181,FORM2.3!$I$12:$I$181)='TABELAS AUXILIARES'!$E$8,\"Implementada\", _xlfn.XLOOKUP(B216,FORM2.3!$C$12:$C$181,FORM2.3!$I$12:$I$181)='TABELAS AUXILIARES'!$E$9,\"Não Implementada\", _xlfn.XLOOKUP(B216,FORM2.3!$C$12:$C$181,FORM2.3!$I$12:$I$181)='TABELAS AUXILIARES'!$E$10,\"Não Implementada\", _xlfn.XLOOKUP(B216,FORM2.3!$C$12:$C$181,FORM2.3!$I$12:$I$181)='TABELAS AUXILIARES'!$E$11,\"Não Implementada\", _xlfn.XLOOKUP(B216,FORM2.3!$C$12:$C$181,FORM2.3!$I$12:$I$181)='TABELAS AUXILIARES'!$E$12,\"Não Adota\", _xlfn.XLOOKUP(B216,FORM2.3!$C$12:$C$181,FORM2.3!$I$12:$I$181)='TABELAS AUXILIARES'!$E$13,\"Não se aplica\")","v":"Resposta Não Preenchida"}]
[null,"13.11",{"$f":"_xlfn.XLOOKUP(B217,FORM2.3!$C$122:$C$181,FORM2.3!$G$122:$G$181)","v":"O órgão ajusta limites de  alertas de  eventos de  segurança?"},{"$f":"_xlfn.XLOOKUP(B217,FORM2.3!$C$122:$C$181,FORM2.3!$H$122:$H$181)","v":"Ajuste periodicamente os limites dos alertas de eventos de segurança."},{"$f":"_xlfn.IFS(_xlfn.XLOOKUP(B217,FORM2.3!$C$12:$C$181,FORM2.3!$I$12:$I$181)='TABELAS AUXILIARES'!$E$7,\"Resposta Não Preenchida\", _xlfn.XLOOKUP(B217,FORM2.3!$C$12:$C$181,FORM2.3!$I$12:$I$181)='TABELAS AUXILIARES'!$E$8,\"Implementada\", _xlfn.XLOOKUP(B217,FORM2.3!$C$12:$C$181,FORM2.3!$I$12:$I$181)='TABELAS AUXILIARES'!$E$9,\"Não Implementada\", _xlfn.XLOOKUP(B217,FORM2.3!$C$12:$C$181,FORM2.3!$I$12:$I$181)='TABELAS AUXILIARES'!$E$10,\"Não Implementada\", _xlfn.XLOOKUP(B217,FORM2.3!$C$12:$C$181,FORM2.3!$I$12:$I$181)='TABELAS AUXILIARES'!$E$11,\"Não Implementada\", _xlfn.XLOOKUP(B217,FORM2.3!$C$12:$C$181,FORM2.3!$I$12:$I$181)='TABELAS AUXILIARES'!$E$12,\"Não Adota\", _xlfn.XLOOKUP(B217,FORM2.3!$C$12:$C$181,FORM2.3!$I$12:$I$181)='TABELAS AUXILIARES'!$E$13,\"Não se aplica\")","v":"Resposta Não Preenchida"}]
[]
[null,14,"CIS CONTROLE 14: CONSCIENTIZAÇÃO E TREINAMENTO DE COMPETÊNCIAS SOBRE SEGURANÇA"]
[null,{"$f":"FORM2.3!K134","v":"Controle Não Foi Respondido"}]
[null,null,"MEDIDAS DE SEGURANÇA"]
[null,"Nível de Capacidade do Controle"]
[null,"ID","Medida","Descrição","Resposta"]
[null,"14.1",{"$f":"_xlfn.XLOOKUP(B224,FORM2.3!$C$122:$C$181,FORM2.3!$G$122:$G$181)","v":"O órgão implanta e mantém um programa de conscientização de segurança?"},{"$f":"_xlfn.XLOOKUP(B224,FORM2.3!$C$122:$C$181,FORM2.3!$H$122:$H$181)","v":"Criar programa de conscientização de segurança para que todos os membros da força de trabalho o realizem regularmente com o objetivo de garantir que eles entendam e exibam os conhecimentos e comportamentos necessários para ajudar a garantir a segurança da instituição. O programa de conscientização de segurança da instituição deve ser comunicado de maneira contínua e envolvente."},{"$f":"_xlfn.IFS(_xlfn.XLOOKUP(B224,FORM2.3!$C$12:$C$181,FORM2.3!$I$12:$I$181)='TABELAS AUXILIARES'!$E$7,\"Resposta Não Preenchida\", _xlfn.XLOOKUP(B224,FORM2.3!$C$12:$C$181,FORM2.3!$I$12:$I$181)='TABELAS AUXILIARES'!$E$8,\"Implementada\", _xlfn.XLOOKUP(B224,FORM2.3!$C$12:$C$181,FORM2.3!$I$12:$I$181)='TABELAS AUXILIARES'!$E$9,\"Não Implementada\", _xlfn.XLOOKUP(B224,FORM2.3!$C$12:$C$181,FORM2.3!$I$12:$I$181)='TABELAS AUXILIARES'!$E$10,\"Não Implementada\", _xlfn.XLOOKUP(B224,FORM2.3!$C$12:$C$181,FORM2.3!$I$12:$I$181)='TABELAS AUXILIARES'!$E$11,\"Não Implementada\", _xlfn.XLOOKUP(B224,FORM2.3!$C$12:$C$181,FORM2.3!$I$12:$I$181)='TABELAS AUXILIARES'!$E$12,\"Não Adota\", _xlfn.XLOOKUP(B224,FORM2.3!$C$12:$C$181,FORM2.3!$I$12:$I$181)='TABELAS AUXILIARES'!$E$13,\"Não se aplica\")","v":"Resposta Não Preenchida"}]
[null,"14.2",{"$f":"_xlfn.XLOOKUP(B225,FORM2.3!$C$122:$C$181,FORM2.3!$G$122:$G$181)","v":"O órgão treina colaboradores para reconhecer ataques de engenharia social?"},{"$f":"_xlfn.XLOOKUP(B225,FORM2.3!$C$122:$C$181,FORM2.3!$H$122:$H$181)","v":"Treinar os colaborares sobre como identificar diferentes formas de ataques de engenharia social, como phishing, golpes de telefone e chamadas realizadas por impostores."},{"$f":"_xlfn.IFS(_xlfn.XLOOKUP(B225,FORM2.3!$C$12:$C$181,FORM2.3!$I$12:$I$181)='TABELAS AUXILIARES'!$E$7,\"Resposta Não Preenchida\", _xlfn.XLOOKUP(B225,FORM2.3!$C$12:$C$181,FORM2.3!$I$12:$I$181)='TABELAS AUXILIARES'!$E$8,\"Implementada\", _xlfn.XLOOKUP(B225,FORM2.3!$C$12:$C$181,FORM2.3!$I$12:$I$181)='TABELAS AUXILIARES'!$E$9,\"Não Implementada\", _xlfn.XLOOKUP(B225,FORM2.3!$C$12:$C$181,FORM2.3!$I$12:$I$181)='TABELAS AUXILIARES'!$E$10,\"Não Implementada\", _xlfn.XLOOKUP(B225,FORM2.3!$C$12:$C$181,FORM2.3!$I$12:$I$181)='TABELAS AUXILIARES'!$E$11,\"Não Implementada\", _xlfn.XLOOKUP(B225,FORM2.3!$C$12:$C$181,FORM2.3!$I$12:$I$181)='TABELAS AUXILIARES'!$E$12,\"Não Adota\", _xlfn.XLOOKUP(B225,FORM2.3!$C$12:$C$181,FORM2.3!$I$12:$I$181)='TABELAS AUXILIARES'!$E$13,\"Não se aplica\")","v":"Resposta Não Preenchida"}]
[null,"14.3",{"$f":"_xlfn.XLOOKUP(B226,FORM2.3!$C$122:$C$181,FORM2.3!$G$122:$G$181)","v":"O órgão treina os colaboradores nas melhores práticas de autenticação?"},{"$f":"_xlfn.XLOOKUP(B226,FORM2.3!$C$122:$C$181,FORM2.3!$H$122:$H$181)","v":"Treinar os colaboradores sobre a importância de habilitar utilizar as melhores práticas de autenticação segura como MFA (Multi-factor Authentication – Autenticação de múltiplos fatores), composição de senha e gestão de credenciais."},{"$f":"_xlfn.IFS(_xlfn.XLOOKUP(B226,FORM2.3!$C$12:$C$181,FORM2.3!$I$12:$I$181)='TABELAS AUXILIARES'!$E$7,\"Resposta Não Preenchida\", _xlfn.XLOOKUP(B226,FORM2.3!$C$12:$C$181,FORM2.3!$I$12:$I$181)='TABELAS AUXILIARES'!$E$8,\"Implementada\", _xlfn.XLOOKUP(B226,FORM2.3!$C$12:$C$181,FORM2.3!$I$12:$I$181)='TABELAS AUXILIARES'!$E$9,\"Não Implementada\", _xlfn.XLOOKUP(B226,FORM2.3!$C$12:$C$181,FORM2.3!$I$12:$I$181)='TABELAS AUXILIARES'!$E$10,\"Não Implementada\", _xlfn.XLOOKUP(B226,FORM2.3!$C$12:$C$181,FORM2.3!$I$12:$I$181)='TABELAS AUXILIARES'!$E$11,\"Não Implementada\", _xlfn.XLOOKUP(B226,FORM2.3!$C$12:$C$181,FORM2.3!$I$12:$I$181)='TABELAS AUXILIARES'!$E$12,\"Não Adota\", _xlfn.XLOOKUP(B226,FORM2.3!$C$12:$C$181,FORM2.3!$I$12:$I$181)='TABELAS AUXILIARES'!$E$13,\"Não se aplica\")","v":"Resposta Não Preenchida"}]
[null,"14.4",{"$f":"_xlfn.XLOOKUP(B227,FORM2.3!$C$122:$C$181,FORM2.3!$G$122:$G$181)","v":"O órgão treina os colaboradores nas Melhores Práticas de Tratamento de Dados?"},{"$f":"_xlfn.XLOOKUP(B227,FORM2.3!$C$122:$C$181,FORM2.3!$H$122:$H$181)","v":"Treinar os membros da força de trabalho sobre como identificar e armazenar, transferir, arquivar e destruir informações sensíveis (incluindo dados pessoais) adequadamente. Isto também inclui o treinamento sobre práticas recomendadas de mesa e tela limpas, (não deixar senhas expostas nas mesas de trabalho e bloquear a tela da estação de trabalho ao se ausentar), apagar quadros físicos e virtuais após reuniões e armazenar dados e ativos com segurança."},{"$f":"_xlfn.IFS(_xlfn.XLOOKUP(B227,FORM2.3!$C$12:$C$181,FORM2.3!$I$12:$I$181)='TABELAS AUXILIARES'!$E$7,\"Resposta Não Preenchida\", _xlfn.XLOOKUP(B227,FORM2.3!$C$12:$C$181,FORM2.3!$I$12:$I$181)='TABELAS AUXILIARES'!$E$8,\"Implementada\", _xlfn.XLOOKUP(B227,FORM2.3!$C$12:$C$181,FORM2.3!$I$12:$I$181)='TABELAS AUXILIARES'!$E$9,\"Não Implementada\", _xlfn.XLOOKUP(B227,FORM2.3!$C$12:$C$181,FORM2.3!$I$12:$I$181)='TABELAS AUXILIARES'!$E$10,\"Não Implementada\", _xlfn.XLOOKUP(B227,FORM2.3!$C$12:$C$181,FORM2.3!$I$12:$I$181)='TABELAS AUXILIARES'!$E$11,\"Não Implementada\", _xlfn.XLOOKUP(B227,FORM2.3!$C$12:$C$181,FORM2.3!$I$12:$I$181)='TABELAS AUXILIARES'!$E$12,\"Não Adota\", _xlfn.XLOOKUP(B227,FORM2.3!$C$12:$C$181,FORM2.3!$I$12:$I$181)='TABELAS AUXILIARES'!$E$13,\"Não se aplica\")","v":"Resposta Não Preenchida"}]
[null,"14.5",{"$f":"_xlfn.XLOOKUP(B228,FORM2.3!$C$122:$C$181,FORM2.3!$G$122:$G$181)","v":"O órgão treina os colaboradores sobre as causas da exposição não intencional de dados?"},{"$f":"_xlfn.XLOOKUP(B228,FORM2.3!$C$122:$C$181,FORM2.3!$H$122:$H$181)","v":"Treinar os membros da força de trabalho para estarem cientes das causas de exposições de dados não intencionais, como perder seus dispositivos móveis ou enviar e-mail para a pessoa errada devido ao preenchimento automático de e-mail."},{"$f":"_xlfn.IFS(_xlfn.XLOOKUP(B228,FORM2.3!$C$12:$C$181,FORM2.3!$I$12:$I$181)='TABELAS AUXILIARES'!$E$7,\"Resposta Não Preenchida\", _xlfn.XLOOKUP(B228,FORM2.3!$C$12:$C$181,FORM2.3!$I$12:$I$181)='TABELAS AUXILIARES'!$E$8,\"Implementada\", _xlfn.XLOOKUP(B228,FORM2.3!$C$12:$C$181,FORM2.3!$I$12:$I$181)='TABELAS AUXILIARES'!$E$9,\"Não Implementada\", _xlfn.XLOOKUP(B228,FORM2.3!$C$12:$C$181,FORM2.3!$I$12:$I$181)='TABELAS AUXILIARES'!$E$10,\"Não Implementada\", _xlfn.XLOOKUP(B228,FORM2.3!$C$12:$C$181,FORM2.3!$I$12:$I$181)='TABELAS AUXILIARES'!$E$11,\"Não Implementada\", _xlfn.XLOOKUP(B228,FORM2.3!$C$12:$C$181,FORM2.3!$I$12:$I$181)='TABELAS AUXILIARES'!$E$12,\"Não Adota\", _xlfn.XLOOKUP(B228,FORM2.3!$C$12:$C$181,FORM2.3!$I$12:$I$181)='TABELAS AUXILIARES'!$E$13,\"Não se aplica\")","v":"Resposta Não Preenchida"}]
[null,"14.6",{"$f":"_xlfn.XLOOKUP(B229,FORM2.3!$C$122:$C$181,FORM2.3!$G$122:$G$181)","v":"O órgão treina os colaboradores sobre como Reconhecer e Relatar incidentes de Segurança?"},{"$f":"_xlfn.XLOOKUP(B229,FORM2.3!$C$122:$C$181,FORM2.3!$H$122:$H$181)","v":"Treinar os colaboradores para serem capazes de identificar os indicadores mais comuns de um incidente e serem capazes de relatar tal incidente."},{"$f":"_xlfn.IFS(_xlfn.XLOOKUP(B229,FORM2.3!$C$12:$C$181,FORM2.3!$I$12:$I$181)='TABELAS AUXILIARES'!$E$7,\"Resposta Não Preenchida\", _xlfn.XLOOKUP(B229,FORM2.3!$C$12:$C$181,FORM2.3!$I$12:$I$181)='TABELAS AUXILIARES'!$E$8,\"Implementada\", _xlfn.XLOOKUP(B229,FORM2.3!$C$12:$C$181,FORM2.3!$I$12:$I$181)='TABELAS AUXILIARES'!$E$9,\"Não Implementada\", _xlfn.XLOOKUP(B229,FORM2.3!$C$12:$C$181,FORM2.3!$I$12:$I$181)='TABELAS AUXILIARES'!$E$10,\"Não Implementada\", _xlfn.XLOOKUP(B229,FORM2.3!$C$12:$C$181,FORM2.3!$I$12:$I$181)='TABELAS AUXILIARES'!$E$11,\"Não Implementada\", _xlfn.XLOOKUP(B229,FORM2.3!$C$12:$C$181,FORM2.3!$I$12:$I$181)='TABELAS AUXILIARES'!$E$12,\"Não Adota\", _xlfn.XLOOKUP(B229,FORM2.3!$C$12:$C$181,FORM2.3!$I$12:$I$181)='TABELAS AUXILIARES'!$E$13,\"Não se aplica\")","v":"Resposta Não Preenchida"}]
[null,"14.7",{"$f":"_xlfn.XLOOKUP(B230,FORM2.3!$C$122:$C$181,FORM2.3!$G$122:$G$181)","v":"O órgão treina os colaboradores sobre como identificar e comunicar se os seus ativos institucionais estão desatualizados em relação a segurança?"},{"$f":"_xlfn.XLOOKUP(B230,FORM2.3!$C$122:$C$181,FORM2.3!$H$122:$H$181)","v":"Treine os colaboradores para entender como verificar e relatar patches de software desatualizados ou quaisquer falhas em ferramentas e processos automatizados. É importante incluir nesse treinamento a etapa de notificação do pessoal de TI sobre quaisquer falhas em processos e ferramentas automatizadas que estejam ocorrendo."},{"$f":"_xlfn.IFS(_xlfn.XLOOKUP(B230,FORM2.3!$C$12:$C$181,FORM2.3!$I$12:$I$181)='TABELAS AUXILIARES'!$E$7,\"Resposta Não Preenchida\", _xlfn.XLOOKUP(B230,FORM2.3!$C$12:$C$181,FORM2.3!$I$12:$I$181)='TABELAS AUXILIARES'!$E$8,\"Implementada\", _xlfn.XLOOKUP(B230,FORM2.3!$C$12:$C$181,FORM2.3!$I$12:$I$181)='TABELAS AUXILIARES'!$E$9,\"Não Implementada\", _xlfn.XLOOKUP(B230,FORM2.3!$C$12:$C$181,FORM2.3!$I$12:$I$181)='TABELAS AUXILIARES'!$E$10,\"Não Implementada\", _xlfn.XLOOKUP(B230,FORM2.3!$C$12:$C$181,FORM2.3!$I$12:$I$181)='TABELAS AUXILIARES'!$E$11,\"Não Implementada\", _xlfn.XLOOKUP(B230,FORM2.3!$C$12:$C$181,FORM2.3!$I$12:$I$181)='TABELAS AUXILIARES'!$E$12,\"Não Adota\", _xlfn.XLOOKUP(B230,FORM2.3!$C$12:$C$181,FORM2.3!$I$12:$I$181)='TABELAS AUXILIARES'!$E$13,\"Não se aplica\")","v":"Resposta Não Preenchida"}]
[null,"14.8",{"$f":"_xlfn.XLOOKUP(B231,FORM2.3!$C$122:$C$181,FORM2.3!$G$122:$G$181)","v":"O órgão treina os colaboradores sobre os perigos de se conectar e transmitir dados institucionais em redes inseguras?"},{"$f":"_xlfn.XLOOKUP(B231,FORM2.3!$C$122:$C$181,FORM2.3!$H$122:$H$181)","v":"Treine os colaboradores sobre os perigos de se conectar e transmitir dados em redes inseguras para atividades corporativas. Se a organização tiver funcionários remotos, o treinamento deve incluir orientação para garantir que todos os usuários configurem com segurança sua infraestrutura de rede doméstica."},{"$f":"_xlfn.IFS(_xlfn.XLOOKUP(B231,FORM2.3!$C$12:$C$181,FORM2.3!$I$12:$I$181)='TABELAS AUXILIARES'!$E$7,\"Resposta Não Preenchida\", _xlfn.XLOOKUP(B231,FORM2.3!$C$12:$C$181,FORM2.3!$I$12:$I$181)='TABELAS AUXILIARES'!$E$8,\"Implementada\", _xlfn.XLOOKUP(B231,FORM2.3!$C$12:$C$181,FORM2.3!$I$12:$I$181)='TABELAS AUXILIARES'!$E$9,\"Não Implementada\", _xlfn.XLOOKUP(B231,FORM2.3!$C$12:$C$181,FORM2.3!$I$12:$I$181)='TABELAS AUXILIARES'!$E$10,\"Não Implementada\", _xlfn.XLOOKUP(B231,FORM2.3!$C$12:$C$181,FORM2.3!$I$12:$I$181)='TABELAS AUXILIARES'!$E$11,\"Não Implementada\", _xlfn.XLOOKUP(B231,FORM2.3!$C$12:$C$181,FORM2.3!$I$12:$I$181)='TABELAS AUXILIARES'!$E$12,\"Não Adota\", _xlfn.XLOOKUP(B231,FORM2.3!$C$12:$C$181,FORM2.3!$I$12:$I$181)='TABELAS AUXILIARES'!$E$13,\"Não se aplica\")","v":"Resposta Não Preenchida"}]
[null,"14.9",{"$f":"_xlfn.XLOOKUP(B232,FORM2.3!$C$122:$C$181,FORM2.3!$G$122:$G$181)","v":"O órgão conduz treinamento de competências e conscientização de segurança para funções específicas?"},{"$f":"_xlfn.XLOOKUP(B232,FORM2.3!$C$122:$C$181,FORM2.3!$H$122:$H$181)","v":"Para colaboradores que atuem em funções específicas, realize o treinamento de conscientização de segurança e de competências específicas para estas funções. Exemplos de implementações incluem cursos de administração de sistema seguro para profissionais de TI, treinamento de conscientização e prevenção de vulnerabilidades para desenvolvedores de aplicações da web do OWASP e treinamento avançado de conscientização de engenharia social para funções de níveis estratégico da organização "},{"$f":"_xlfn.IFS(_xlfn.XLOOKUP(B232,FORM2.3!$C$12:$C$181,FORM2.3!$I$12:$I$181)='TABELAS AUXILIARES'!$E$7,\"Resposta Não Preenchida\", _xlfn.XLOOKUP(B232,FORM2.3!$C$12:$C$181,FORM2.3!$I$12:$I$181)='TABELAS AUXILIARES'!$E$8,\"Implementada\", _xlfn.XLOOKUP(B232,FORM2.3!$C$12:$C$181,FORM2.3!$I$12:$I$181)='TABELAS AUXILIARES'!$E$9,\"Não Implementada\", _xlfn.XLOOKUP(B232,FORM2.3!$C$12:$C$181,FORM2.3!$I$12:$I$181)='TABELAS AUXILIARES'!$E$10,\"Não Implementada\", _xlfn.XLOOKUP(B232,FORM2.3!$C$12:$C$181,FORM2.3!$I$12:$I$181)='TABELAS AUXILIARES'!$E$11,\"Não Implementada\", _xlfn.XLOOKUP(B232,FORM2.3!$C$12:$C$181,FORM2.3!$I$12:$I$181)='TABELAS AUXILIARES'!$E$12,\"Não Adota\", _xlfn.XLOOKUP(B232,FORM2.3!$C$12:$C$181,FORM2.3!$I$12:$I$181)='TABELAS AUXILIARES'!$E$13,\"Não se aplica\")","v":"Resposta Não Preenchida"}]
[]
[null,15,"CIS CONTROLE 15: GESTÃO DE PROVEDOR DE SERVIÇOS"]
[null,{"$f":"FORM2.3!K144","v":"Controle Não Foi Respondido"}]
[null,null,"MEDIDAS DE SEGURANÇA"]
[null,"Nível de Capacidade do Controle"]
[null,"ID","Medida","Descrição","Resposta"]
[null,"15.1",{"$f":"_xlfn.XLOOKUP(B239,FORM2.3!$C$122:$C$181,FORM2.3!$G$122:$G$181)","v":"O órgão cria e gerencia o inventário de provedores de serviços?"},{"$f":"_xlfn.XLOOKUP(B239,FORM2.3!$C$122:$C$181,FORM2.3!$H$122:$H$181)","v":"Crie e gerencie o inventário de provedores de serviços. Este inventário deve listar todos os provedores de serviços da organização, incluir classificações, e conter contatos institucionais para cada provedor de serviço. Deve ser realizada uma revisão e/ou atualização deste inventário anualmente ou quando ocorrerem mudanças significativas do provedor que venham impactar a organização de forma significativa."},{"$f":"_xlfn.IFS(_xlfn.XLOOKUP(B239,FORM2.3!$C$12:$C$181,FORM2.3!$I$12:$I$181)='TABELAS AUXILIARES'!$E$7,\"Resposta Não Preenchida\", _xlfn.XLOOKUP(B239,FORM2.3!$C$12:$C$181,FORM2.3!$I$12:$I$181)='TABELAS AUXILIARES'!$E$8,\"Implementada\", _xlfn.XLOOKUP(B239,FORM2.3!$C$12:$C$181,FORM2.3!$I$12:$I$181)='TABELAS AUXILIARES'!$E$9,\"Não Implementada\", _xlfn.XLOOKUP(B239,FORM2.3!$C$12:$C$181,FORM2.3!$I$12:$I$181)='TABELAS AUXILIARES'!$E$10,\"Não Implementada\", _xlfn.XLOOKUP(B239,FORM2.3!$C$12:$C$181,FORM2.3!$I$12:$I$181)='TABELAS AUXILIARES'!$E$11,\"Não Implementada\", _xlfn.XLOOKUP(B239,FORM2.3!$C$12:$C$181,FORM2.3!$I$12:$I$181)='TABELAS AUXILIARES'!$E$12,\"Não Adota\", _xlfn.XLOOKUP(B239,FORM2.3!$C$12:$C$181,FORM2.3!$I$12:$I$181)='TABELAS AUXILIARES'!$E$13,\"Não se aplica\")","v":"Resposta Não Preenchida"}]
[null,"15.2",{"$f":"_xlfn.XLOOKUP(B240,FORM2.3!$C$122:$C$181,FORM2.3!$G$122:$G$181)","v":"O órgão cria e gerencia uma política de gestão de provedores de serviços?"},{"$f":"_xlfn.XLOOKUP(B240,FORM2.3!$C$122:$C$181,FORM2.3!$H$122:$H$181)","v":"Crie e gerencie uma política de gestão de provedores de serviços. Faça com que tal política trate de classificação, inventário, avaliação, monitoramento e descomissionamento de prestadores e provedores de serviço da organização. Deve ser realizada uma revisão e/ou alteração desta política periodicamente, em casos específicos quando ocorrerem mudanças significativas na organização que venham impactar a organização de forma significativa."},{"$f":"_xlfn.IFS(_xlfn.XLOOKUP(B240,FORM2.3!$C$12:$C$181,FORM2.3!$I$12:$I$181)='TABELAS AUXILIARES'!$E$7,\"Resposta Não Preenchida\", _xlfn.XLOOKUP(B240,FORM2.3!$C$12:$C$181,FORM2.3!$I$12:$I$181)='TABELAS AUXILIARES'!$E$8,\"Implementada\", _xlfn.XLOOKUP(B240,FORM2.3!$C$12:$C$181,FORM2.3!$I$12:$I$181)='TABELAS AUXILIARES'!$E$9,\"Não Implementada\", _xlfn.XLOOKUP(B240,FORM2.3!$C$12:$C$181,FORM2.3!$I$12:$I$181)='TABELAS AUXILIARES'!$E$10,\"Não Implementada\", _xlfn.XLOOKUP(B240,FORM2.3!$C$12:$C$181,FORM2.3!$I$12:$I$181)='TABELAS AUXILIARES'!$E$11,\"Não Implementada\", _xlfn.XLOOKUP(B240,FORM2.3!$C$12:$C$181,FORM2.3!$I$12:$I$181)='TABELAS AUXILIARES'!$E$12,\"Não Adota\", _xlfn.XLOOKUP(B240,FORM2.3!$C$12:$C$181,FORM2.3!$I$12:$I$181)='TABELAS AUXILIARES'!$E$13,\"Não se aplica\")","v":"Resposta Não Preenchida"}]
[null,"15.3",{"$f":"_xlfn.XLOOKUP(B241,FORM2.3!$C$122:$C$181,FORM2.3!$G$122:$G$181)","v":"O órgão classifica provedores de serviços?"},{"$f":"_xlfn.XLOOKUP(B241,FORM2.3!$C$122:$C$181,FORM2.3!$H$122:$H$181)","v":"Realize a classificação de provedores de serviços. Para que seja realizada a classificação podem ser levadas em consideração uma ou mais característica do provedor, como a sensibilidade dos dados e informações que este provedor opera/gerencia, volume destes dados e informações, regulamentações aplicáveis, requisitos de disponibilidade e classificação de risco. Deve ser realizada uma revisão e/ou alteração desta classificação periodicamente, em casos específicos quando ocorrerem mudanças significativas na organização que venham impactar a organização e forma significativa"},{"$f":"_xlfn.IFS(_xlfn.XLOOKUP(B241,FORM2.3!$C$12:$C$181,FORM2.3!$I$12:$I$181)='TABELAS AUXILIARES'!$E$7,\"Resposta Não Preenchida\", _xlfn.XLOOKUP(B241,FORM2.3!$C$12:$C$181,FORM2.3!$I$12:$I$181)='TABELAS AUXILIARES'!$E$8,\"Implementada\", _xlfn.XLOOKUP(B241,FORM2.3!$C$12:$C$181,FORM2.3!$I$12:$I$181)='TABELAS AUXILIARES'!$E$9,\"Não Implementada\", _xlfn.XLOOKUP(B241,FORM2.3!$C$12:$C$181,FORM2.3!$I$12:$I$181)='TABELAS AUXILIARES'!$E$10,\"Não Implementada\", _xlfn.XLOOKUP(B241,FORM2.3!$C$12:$C$181,FORM2.3!$I$12:$I$181)='TABELAS AUXILIARES'!$E$11,\"Não Implementada\", _xlfn.XLOOKUP(B241,FORM2.3!$C$12:$C$181,FORM2.3!$I$12:$I$181)='TABELAS AUXILIARES'!$E$12,\"Não Adota\", _xlfn.XLOOKUP(B241,FORM2.3!$C$12:$C$181,FORM2.3!$I$12:$I$181)='TABELAS AUXILIARES'!$E$13,\"Não se aplica\")","v":"Resposta Não Preenchida"}]
[null,"15.4",{"$f":"_xlfn.XLOOKUP(B242,FORM2.3!$C$122:$C$181,FORM2.3!$G$122:$G$181)","v":"O órgão avalia provedores de serviços?"},{"$f":"_xlfn.XLOOKUP(B242,FORM2.3!$C$122:$C$181,FORM2.3!$H$122:$H$181)","v":"Realizar a avaliação de provedores de serviços da organização. O escopo da avaliação deve levar em consideração as diretrizes contidas na política de gestão de provedores de serviços além de classificações e relatórios de avaliação padronizados, questionários, e processos rigorosos aplicáveis. A avaliação de provedores de serviço deve ser realizada de forma periódica e na medida em que novos contratos estipulados ou renovados."},{"$f":"_xlfn.IFS(_xlfn.XLOOKUP(B242,FORM2.3!$C$12:$C$181,FORM2.3!$I$12:$I$181)='TABELAS AUXILIARES'!$E$7,\"Resposta Não Preenchida\", _xlfn.XLOOKUP(B242,FORM2.3!$C$12:$C$181,FORM2.3!$I$12:$I$181)='TABELAS AUXILIARES'!$E$8,\"Implementada\", _xlfn.XLOOKUP(B242,FORM2.3!$C$12:$C$181,FORM2.3!$I$12:$I$181)='TABELAS AUXILIARES'!$E$9,\"Não Implementada\", _xlfn.XLOOKUP(B242,FORM2.3!$C$12:$C$181,FORM2.3!$I$12:$I$181)='TABELAS AUXILIARES'!$E$10,\"Não Implementada\", _xlfn.XLOOKUP(B242,FORM2.3!$C$12:$C$181,FORM2.3!$I$12:$I$181)='TABELAS AUXILIARES'!$E$11,\"Não Implementada\", _xlfn.XLOOKUP(B242,FORM2.3!$C$12:$C$181,FORM2.3!$I$12:$I$181)='TABELAS AUXILIARES'!$E$12,\"Não Adota\", _xlfn.XLOOKUP(B242,FORM2.3!$C$12:$C$181,FORM2.3!$I$12:$I$181)='TABELAS AUXILIARES'!$E$13,\"Não se aplica\")","v":"Resposta Não Preenchida"}]
[null,"15.5",{"$f":"_xlfn.XLOOKUP(B243,FORM2.3!$C$122:$C$181,FORM2.3!$G$122:$G$181)","v":"O órgão garante que os contratos dos provedores de serviços contenham requisitos mínimos de segurança?"},{"$f":"_xlfn.XLOOKUP(B243,FORM2.3!$C$122:$C$181,FORM2.3!$H$122:$H$181)","v":"Faça com que os contratos do provedor de serviços contenham requisitos de segurança, alguns exemplos destes requisitos de segurança são, requisitos mínimos de segurança do software, resposta a incidentes de segurança, criptografia e descarte de dados. Tais requisitos mínimos devem ser concisos com a política de gestão de provedores da organização. Deve ser realizada uma revisão dos contratos de provedores de forma periódica com o objetivo de atualizar e garantir que os requisitos de segurança estão sendo cumpridos."},{"$f":"_xlfn.IFS(_xlfn.XLOOKUP(B243,FORM2.3!$C$12:$C$181,FORM2.3!$I$12:$I$181)='TABELAS AUXILIARES'!$E$7,\"Resposta Não Preenchida\", _xlfn.XLOOKUP(B243,FORM2.3!$C$12:$C$181,FORM2.3!$I$12:$I$181)='TABELAS AUXILIARES'!$E$8,\"Implementada\", _xlfn.XLOOKUP(B243,FORM2.3!$C$12:$C$181,FORM2.3!$I$12:$I$181)='TABELAS AUXILIARES'!$E$9,\"Não Implementada\", _xlfn.XLOOKUP(B243,FORM2.3!$C$12:$C$181,FORM2.3!$I$12:$I$181)='TABELAS AUXILIARES'!$E$10,\"Não Implementada\", _xlfn.XLOOKUP(B243,FORM2.3!$C$12:$C$181,FORM2.3!$I$12:$I$181)='TABELAS AUXILIARES'!$E$11,\"Não Implementada\", _xlfn.XLOOKUP(B243,FORM2.3!$C$12:$C$181,FORM2.3!$I$12:$I$181)='TABELAS AUXILIARES'!$E$12,\"Não Adota\", _xlfn.XLOOKUP(B243,FORM2.3!$C$12:$C$181,FORM2.3!$I$12:$I$181)='TABELAS AUXILIARES'!$E$13,\"Não se aplica\")","v":"Resposta Não Preenchida"}]
[null,"15.6",{"$f":"_xlfn.XLOOKUP(B244,FORM2.3!$C$122:$C$181,FORM2.3!$G$122:$G$181)","v":"O órgão encerra de forma segura o contrato com o provedor de serviços?"},{"$f":"_xlfn.XLOOKUP(B244,FORM2.3!$C$122:$C$181,FORM2.3!$H$122:$H$181)","v":"Realizar de forma segura o encerramento de contrato de provedores e prestadores de serviço. Algumas ações que possam ser utilizadas para realizar o encerramento de contratos ou desligamento de prestadores são, desativação de contas de usuário e serviço utilizadas durante o contrato, encerramento de fluxo de dados e descarte\nseguros de dados e informações corporativas em sistemas dos provedores de serviço."},{"$f":"_xlfn.IFS(_xlfn.XLOOKUP(B244,FORM2.3!$C$12:$C$181,FORM2.3!$I$12:$I$181)='TABELAS AUXILIARES'!$E$7,\"Resposta Não Preenchida\", _xlfn.XLOOKUP(B244,FORM2.3!$C$12:$C$181,FORM2.3!$I$12:$I$181)='TABELAS AUXILIARES'!$E$8,\"Implementada\", _xlfn.XLOOKUP(B244,FORM2.3!$C$12:$C$181,FORM2.3!$I$12:$I$181)='TABELAS AUXILIARES'!$E$9,\"Não Implementada\", _xlfn.XLOOKUP(B244,FORM2.3!$C$12:$C$181,FORM2.3!$I$12:$I$181)='TABELAS AUXILIARES'!$E$10,\"Não Implementada\", _xlfn.XLOOKUP(B244,FORM2.3!$C$12:$C$181,FORM2.3!$I$12:$I$181)='TABELAS AUXILIARES'!$E$11,\"Não Implementada\", _xlfn.XLOOKUP(B244,FORM2.3!$C$12:$C$181,FORM2.3!$I$12:$I$181)='TABELAS AUXILIARES'!$E$12,\"Não Adota\", _xlfn.XLOOKUP(B244,FORM2.3!$C$12:$C$181,FORM2.3!$I$12:$I$181)='TABELAS AUXILIARES'!$E$13,\"Não se aplica\")","v":"Resposta Não Preenchida"}]
[null,"15.7",{"$f":"_xlfn.XLOOKUP(B245,FORM2.3!$C$122:$C$181,FORM2.3!$G$122:$G$181)","v":"O órgão monitora provedores de serviço?"},{"$f":"_xlfn.XLOOKUP(B245,FORM2.3!$C$122:$C$181,FORM2.3!$H$122:$H$181)","v":"Realizar a monitoração de provedores de acordo com a política de gestão dos provedores de serviços. Tal monitoração pode incluir a avaliação periódica do provedor, monitoração de artefatos entregues pelo provedor"},{"$f":"_xlfn.IFS(_xlfn.XLOOKUP(B245,FORM2.3!$C$12:$C$181,FORM2.3!$I$12:$I$181)='TABELAS AUXILIARES'!$E$7,\"Resposta Não Preenchida\", _xlfn.XLOOKUP(B245,FORM2.3!$C$12:$C$181,FORM2.3!$I$12:$I$181)='TABELAS AUXILIARES'!$E$8,\"Implementada\", _xlfn.XLOOKUP(B245,FORM2.3!$C$12:$C$181,FORM2.3!$I$12:$I$181)='TABELAS AUXILIARES'!$E$9,\"Não Implementada\", _xlfn.XLOOKUP(B245,FORM2.3!$C$12:$C$181,FORM2.3!$I$12:$I$181)='TABELAS AUXILIARES'!$E$10,\"Não Implementada\", _xlfn.XLOOKUP(B245,FORM2.3!$C$12:$C$181,FORM2.3!$I$12:$I$181)='TABELAS AUXILIARES'!$E$11,\"Não Implementada\", _xlfn.XLOOKUP(B245,FORM2.3!$C$12:$C$181,FORM2.3!$I$12:$I$181)='TABELAS AUXILIARES'!$E$12,\"Não Adota\", _xlfn.XLOOKUP(B245,FORM2.3!$C$12:$C$181,FORM2.3!$I$12:$I$181)='TABELAS AUXILIARES'!$E$13,\"Não se aplica\")","v":"Resposta Não Preenchida"}]
[]
[null,16,"CIS CONTROLE 16: SEGURANÇA DE APLICAÇÕES"]
[null,{"$f":"FORM2.3!K152","v":"Controle Não Foi Respondido"}]
[null,null,"MEDIDAS DE SEGURANÇA"]
[null,"Nível de Capacidade do Controle"]
[null,"ID","Medida","Descrição","Resposta"]
[null,"16.1",{"$f":"_xlfn.XLOOKUP(B252,FORM2.3!$C$122:$C$181,FORM2.3!$G$122:$G$181)","v":"O órgão estabelece e \nmantém um \nprocesso de \ndesenvolvimento \nde aplicações?"},{"$f":"_xlfn.XLOOKUP(B252,FORM2.3!$C$122:$C$181,FORM2.3!$H$122:$H$181)","v":"Estabelecer e manter um processo de desenvolvimento de aplicações seguro. Este processo deve tratar de itens como padrões de design seguro de aplicações (Security by Design), práticas de codificação seguras, treinamentos para desenvolvedores, gestão de vulnerabilidades, segurança de código de terceiros e procedimentos\nde teste de segurança de aplicação. Deve ser realizada uma revisão e/ou alteração deste processo periodicamente, em casos específicos ou quando ocorrerem mudanças na organização que venham impactá-la de forma significativa."},{"$f":"_xlfn.IFS(_xlfn.XLOOKUP(B252,FORM2.3!$C$12:$C$181,FORM2.3!$I$12:$I$181)='TABELAS AUXILIARES'!$E$7,\"Resposta Não Preenchida\", _xlfn.XLOOKUP(B252,FORM2.3!$C$12:$C$181,FORM2.3!$I$12:$I$181)='TABELAS AUXILIARES'!$E$8,\"Implementada\", _xlfn.XLOOKUP(B252,FORM2.3!$C$12:$C$181,FORM2.3!$I$12:$I$181)='TABELAS AUXILIARES'!$E$9,\"Não Implementada\", _xlfn.XLOOKUP(B252,FORM2.3!$C$12:$C$181,FORM2.3!$I$12:$I$181)='TABELAS AUXILIARES'!$E$10,\"Não Implementada\", _xlfn.XLOOKUP(B252,FORM2.3!$C$12:$C$181,FORM2.3!$I$12:$I$181)='TABELAS AUXILIARES'!$E$11,\"Não Implementada\", _xlfn.XLOOKUP(B252,FORM2.3!$C$12:$C$181,FORM2.3!$I$12:$I$181)='TABELAS AUXILIARES'!$E$12,\"Não Adota\", _xlfn.XLOOKUP(B252,FORM2.3!$C$12:$C$181,FORM2.3!$I$12:$I$181)='TABELAS AUXILIARES'!$E$13,\"Não se aplica\")","v":"Resposta Não Preenchida"}]
[null,"16.2",{"$f":"_xlfn.XLOOKUP(B253,FORM2.3!$C$122:$C$181,FORM2.3!$G$122:$G$181)","v":"O órgão estabelece e mantém um processo para aceitar e endereçar vulnerabilidades de software?"},{"$f":"_xlfn.XLOOKUP(B253,FORM2.3!$C$122:$C$181,FORM2.3!$H$122:$H$181)","v":"Estabelecer e manter um processo de aceitação e tratamento de informações sobre vulnerabilidades de software, incluindo mecanismos para que entidades externas contactem o grupo de segurança da instituição. É importante que o processo inclua itens como: Política de tratamento de vulnerabilidades identificadas e relatadas, equipe ou profissional responsável por analisar os relatórios de vulnerabilidade e um processo de entrada, atribuição, correção e testes de correção. Como parte deste processo, é importante rastrear as vulnerabilidades, classificar a gravidade e atribuir métricas capazes de medir o tempo de identificação, análise e correção das vulnerabilidades. Deve ser realizada uma revisão e/ou alteração deste processo periodicamente, em casos específicos ou quando ocorrerem mudanças na organização que venham impactá-la de forma significativa."},{"$f":"_xlfn.IFS(_xlfn.XLOOKUP(B253,FORM2.3!$C$12:$C$181,FORM2.3!$I$12:$I$181)='TABELAS AUXILIARES'!$E$7,\"Resposta Não Preenchida\", _xlfn.XLOOKUP(B253,FORM2.3!$C$12:$C$181,FORM2.3!$I$12:$I$181)='TABELAS AUXILIARES'!$E$8,\"Implementada\", _xlfn.XLOOKUP(B253,FORM2.3!$C$12:$C$181,FORM2.3!$I$12:$I$181)='TABELAS AUXILIARES'!$E$9,\"Não Implementada\", _xlfn.XLOOKUP(B253,FORM2.3!$C$12:$C$181,FORM2.3!$I$12:$I$181)='TABELAS AUXILIARES'!$E$10,\"Não Implementada\", _xlfn.XLOOKUP(B253,FORM2.3!$C$12:$C$181,FORM2.3!$I$12:$I$181)='TABELAS AUXILIARES'!$E$11,\"Não Implementada\", _xlfn.XLOOKUP(B253,FORM2.3!$C$12:$C$181,FORM2.3!$I$12:$I$181)='TABELAS AUXILIARES'!$E$12,\"Não Adota\", _xlfn.XLOOKUP(B253,FORM2.3!$C$12:$C$181,FORM2.3!$I$12:$I$181)='TABELAS AUXILIARES'!$E$13,\"Não se aplica\")","v":"Resposta Não Preenchida"}]
[null,"16.3",{"$f":"_xlfn.XLOOKUP(B254,FORM2.3!$C$122:$C$181,FORM2.3!$G$122:$G$181)","v":"O órgão executa análise de causa raiz em vulnerabilidades de segurança?"},{"$f":"_xlfn.XLOOKUP(B254,FORM2.3!$C$122:$C$181,FORM2.3!$H$122:$H$181)","v":"Executar a análise de causa raiz em vulnerabilidades de segurança. A análise da causa raiz é a tarefa capaz de avaliar os problemas subjacentes que criam vulnerabilidades no código da aplicação e permite que as equipes de desenvolvimento vão além de apenas corrigir vulnerabilidades individuais conforme elas surgem."},{"$f":"_xlfn.IFS(_xlfn.XLOOKUP(B254,FORM2.3!$C$12:$C$181,FORM2.3!$I$12:$I$181)='TABELAS AUXILIARES'!$E$7,\"Resposta Não Preenchida\", _xlfn.XLOOKUP(B254,FORM2.3!$C$12:$C$181,FORM2.3!$I$12:$I$181)='TABELAS AUXILIARES'!$E$8,\"Implementada\", _xlfn.XLOOKUP(B254,FORM2.3!$C$12:$C$181,FORM2.3!$I$12:$I$181)='TABELAS AUXILIARES'!$E$9,\"Não Implementada\", _xlfn.XLOOKUP(B254,FORM2.3!$C$12:$C$181,FORM2.3!$I$12:$I$181)='TABELAS AUXILIARES'!$E$10,\"Não Implementada\", _xlfn.XLOOKUP(B254,FORM2.3!$C$12:$C$181,FORM2.3!$I$12:$I$181)='TABELAS AUXILIARES'!$E$11,\"Não Implementada\", _xlfn.XLOOKUP(B254,FORM2.3!$C$12:$C$181,FORM2.3!$I$12:$I$181)='TABELAS AUXILIARES'!$E$12,\"Não Adota\", _xlfn.XLOOKUP(B254,FORM2.3!$C$12:$C$181,FORM2.3!$I$12:$I$181)='TABELAS AUXILIARES'!$E$13,\"Não se aplica\")","v":"Resposta Não Preenchida"}]
[null,"16.4",{"$f":"_xlfn.XLOOKUP(B255,FORM2.3!$C$122:$C$181,FORM2.3!$G$122:$G$181)","v":"O órgão estabelece e gerencia um inventário de componentes de software de terceiros?"},{"$f":"_xlfn.XLOOKUP(B255,FORM2.3!$C$122:$C$181,FORM2.3!$H$122:$H$181)","v":"Estabelecer e gerenciar um inventário atualizado de componentes de terceiros usados no desenvolvimento, geralmente chamados de “lista de materiais”, bem como componentes programados para uso futuro. Este inventário deve incluir quaisquer riscos que cada componente de terceiros possa representar a organização. Deve ser realizada uma revisão e/ou alteração deste inventário periodicamente, com o objetivo de identificar quaisquer mudanças ou atualização nesses componentes e validar a compatibilidade do mesmo."},{"$f":"_xlfn.IFS(_xlfn.XLOOKUP(B255,FORM2.3!$C$12:$C$181,FORM2.3!$I$12:$I$181)='TABELAS AUXILIARES'!$E$7,\"Resposta Não Preenchida\", _xlfn.XLOOKUP(B255,FORM2.3!$C$12:$C$181,FORM2.3!$I$12:$I$181)='TABELAS AUXILIARES'!$E$8,\"Implementada\", _xlfn.XLOOKUP(B255,FORM2.3!$C$12:$C$181,FORM2.3!$I$12:$I$181)='TABELAS AUXILIARES'!$E$9,\"Não Implementada\", _xlfn.XLOOKUP(B255,FORM2.3!$C$12:$C$181,FORM2.3!$I$12:$I$181)='TABELAS AUXILIARES'!$E$10,\"Não Implementada\", _xlfn.XLOOKUP(B255,FORM2.3!$C$12:$C$181,FORM2.3!$I$12:$I$181)='TABELAS AUXILIARES'!$E$11,\"Não Implementada\", _xlfn.XLOOKUP(B255,FORM2.3!$C$12:$C$181,FORM2.3!$I$12:$I$181)='TABELAS AUXILIARES'!$E$12,\"Não Adota\", _xlfn.XLOOKUP(B255,FORM2.3!$C$12:$C$181,FORM2.3!$I$12:$I$181)='TABELAS AUXILIARES'!$E$13,\"Não se aplica\")","v":"Resposta Não Preenchida"}]
[null,"16.5",{"$f":"_xlfn.XLOOKUP(B256,FORM2.3!$C$122:$C$181,FORM2.3!$G$122:$G$181)","v":"O órgão usa componentes de software de terceiros atualizados e confiáveis?"},{"$f":"_xlfn.XLOOKUP(B256,FORM2.3!$C$122:$C$181,FORM2.3!$H$122:$H$181)","v":"Utilizar apenas componentes de terceiros atualizados e confiáveis. Quando possível, escolher bibliotecas e estruturas pré-estabelecidas e comprovadas que forneçam a segurança adequada. É importante adquirir tais componentes de fornecedores e fontes confiáveis ou realizar a avaliação de vulnerabilidades do software antes de usar/adquirir."},{"$f":"_xlfn.IFS(_xlfn.XLOOKUP(B256,FORM2.3!$C$12:$C$181,FORM2.3!$I$12:$I$181)='TABELAS AUXILIARES'!$E$7,\"Resposta Não Preenchida\", _xlfn.XLOOKUP(B256,FORM2.3!$C$12:$C$181,FORM2.3!$I$12:$I$181)='TABELAS AUXILIARES'!$E$8,\"Implementada\", _xlfn.XLOOKUP(B256,FORM2.3!$C$12:$C$181,FORM2.3!$I$12:$I$181)='TABELAS AUXILIARES'!$E$9,\"Não Implementada\", _xlfn.XLOOKUP(B256,FORM2.3!$C$12:$C$181,FORM2.3!$I$12:$I$181)='TABELAS AUXILIARES'!$E$10,\"Não Implementada\", _xlfn.XLOOKUP(B256,FORM2.3!$C$12:$C$181,FORM2.3!$I$12:$I$181)='TABELAS AUXILIARES'!$E$11,\"Não Implementada\", _xlfn.XLOOKUP(B256,FORM2.3!$C$12:$C$181,FORM2.3!$I$12:$I$181)='TABELAS AUXILIARES'!$E$12,\"Não Adota\", _xlfn.XLOOKUP(B256,FORM2.3!$C$12:$C$181,FORM2.3!$I$12:$I$181)='TABELAS AUXILIARES'!$E$13,\"Não se aplica\")","v":"Resposta Não Preenchida"}]
[null,"16.6",{"$f":"_xlfn.XLOOKUP(B257,FORM2.3!$C$122:$C$181,FORM2.3!$G$122:$G$181)","v":"O órgão estabelece e mantém um processo para a classificação de severidade de vulnerabilidades?"},{"$f":"_xlfn.XLOOKUP(B257,FORM2.3!$C$122:$C$181,FORM2.3!$H$122:$H$181)","v":"Estabelecer e manter um processo para a classificação de gravidade de vulnerabilidades capaz de facilitar a priorização na medida em que as vulnerabilidades descobertas são corrigidas. Esse processo deve incluir a definição de um nível mínimo de aceitabilidade de segurança para a liberação de código ou aplicações. A classificação de gravidade deve trazer uma forma sistemática de triagem de vulnerabilidades que venha a melhorar a gestão de riscos e ajuda a garantir que os bugs mais graves sejam priorizados. Revise o processo o e a classificação de vulnerabilidade periodicamente."},{"$f":"_xlfn.IFS(_xlfn.XLOOKUP(B257,FORM2.3!$C$12:$C$181,FORM2.3!$I$12:$I$181)='TABELAS AUXILIARES'!$E$7,\"Resposta Não Preenchida\", _xlfn.XLOOKUP(B257,FORM2.3!$C$12:$C$181,FORM2.3!$I$12:$I$181)='TABELAS AUXILIARES'!$E$8,\"Implementada\", _xlfn.XLOOKUP(B257,FORM2.3!$C$12:$C$181,FORM2.3!$I$12:$I$181)='TABELAS AUXILIARES'!$E$9,\"Não Implementada\", _xlfn.XLOOKUP(B257,FORM2.3!$C$12:$C$181,FORM2.3!$I$12:$I$181)='TABELAS AUXILIARES'!$E$10,\"Não Implementada\", _xlfn.XLOOKUP(B257,FORM2.3!$C$12:$C$181,FORM2.3!$I$12:$I$181)='TABELAS AUXILIARES'!$E$11,\"Não Implementada\", _xlfn.XLOOKUP(B257,FORM2.3!$C$12:$C$181,FORM2.3!$I$12:$I$181)='TABELAS AUXILIARES'!$E$12,\"Não Adota\", _xlfn.XLOOKUP(B257,FORM2.3!$C$12:$C$181,FORM2.3!$I$12:$I$181)='TABELAS AUXILIARES'!$E$13,\"Não se aplica\")","v":"Resposta Não Preenchida"}]
[null,"16.7",{"$f":"_xlfn.XLOOKUP(B258,FORM2.3!$C$122:$C$181,FORM2.3!$G$122:$G$181)","v":"O órgão usa modelos de configurações de segurança padrão para infraestrutura de aplicações?"},{"$f":"_xlfn.XLOOKUP(B258,FORM2.3!$C$122:$C$181,FORM2.3!$H$122:$H$181)","v":"Utilizar modelos de configuração de segurança padrão (Segurança by Default) recomendados pela equipe de segurança em componentes de infraestrutura de aplicações. Isso inclui servidores subjacentes, bancos de dados e servidores web e se aplica a contêineres de nuvem, componentes de Platform as a Service (PaaS) e componentes de Security as a Service (SaaS). Não permita que o software desenvolvido internamente enfraqueça as configurações de segurança da organização."},{"$f":"_xlfn.IFS(_xlfn.XLOOKUP(B258,FORM2.3!$C$12:$C$181,FORM2.3!$I$12:$I$181)='TABELAS AUXILIARES'!$E$7,\"Resposta Não Preenchida\", _xlfn.XLOOKUP(B258,FORM2.3!$C$12:$C$181,FORM2.3!$I$12:$I$181)='TABELAS AUXILIARES'!$E$8,\"Implementada\", _xlfn.XLOOKUP(B258,FORM2.3!$C$12:$C$181,FORM2.3!$I$12:$I$181)='TABELAS AUXILIARES'!$E$9,\"Não Implementada\", _xlfn.XLOOKUP(B258,FORM2.3!$C$12:$C$181,FORM2.3!$I$12:$I$181)='TABELAS AUXILIARES'!$E$10,\"Não Implementada\", _xlfn.XLOOKUP(B258,FORM2.3!$C$12:$C$181,FORM2.3!$I$12:$I$181)='TABELAS AUXILIARES'!$E$11,\"Não Implementada\", _xlfn.XLOOKUP(B258,FORM2.3!$C$12:$C$181,FORM2.3!$I$12:$I$181)='TABELAS AUXILIARES'!$E$12,\"Não Adota\", _xlfn.XLOOKUP(B258,FORM2.3!$C$12:$C$181,FORM2.3!$I$12:$I$181)='TABELAS AUXILIARES'!$E$13,\"Não se aplica\")","v":"Resposta Não Preenchida"}]
[null,"16.8",{"$f":"_xlfn.XLOOKUP(B259,FORM2.3!$C$122:$C$181,FORM2.3!$G$122:$G$181)","v":"O órgão separa sistemas de produção e não produção?"},{"$f":"_xlfn.XLOOKUP(B259,FORM2.3!$C$122:$C$181,FORM2.3!$H$122:$H$181)","v":"Manter ambientes separados para sistemas de produção e não produção."},{"$f":"_xlfn.IFS(_xlfn.XLOOKUP(B259,FORM2.3!$C$12:$C$181,FORM2.3!$I$12:$I$181)='TABELAS AUXILIARES'!$E$7,\"Resposta Não Preenchida\", _xlfn.XLOOKUP(B259,FORM2.3!$C$12:$C$181,FORM2.3!$I$12:$I$181)='TABELAS AUXILIARES'!$E$8,\"Implementada\", _xlfn.XLOOKUP(B259,FORM2.3!$C$12:$C$181,FORM2.3!$I$12:$I$181)='TABELAS AUXILIARES'!$E$9,\"Não Implementada\", _xlfn.XLOOKUP(B259,FORM2.3!$C$12:$C$181,FORM2.3!$I$12:$I$181)='TABELAS AUXILIARES'!$E$10,\"Não Implementada\", _xlfn.XLOOKUP(B259,FORM2.3!$C$12:$C$181,FORM2.3!$I$12:$I$181)='TABELAS AUXILIARES'!$E$11,\"Não Implementada\", _xlfn.XLOOKUP(B259,FORM2.3!$C$12:$C$181,FORM2.3!$I$12:$I$181)='TABELAS AUXILIARES'!$E$12,\"Não Adota\", _xlfn.XLOOKUP(B259,FORM2.3!$C$12:$C$181,FORM2.3!$I$12:$I$181)='TABELAS AUXILIARES'!$E$13,\"Não se aplica\")","v":"Resposta Não Preenchida"}]
[null,"16.9",{"$f":"_xlfn.XLOOKUP(B260,FORM2.3!$C$122:$C$181,FORM2.3!$G$122:$G$181)","v":"O órgão treina desenvolvedores em conceitos de segurança de aplicações e codificação segura?"},{"$f":"_xlfn.XLOOKUP(B260,FORM2.3!$C$122:$C$181,FORM2.3!$H$122:$H$181)","v":"Garantir que todos os responsáveis pelo desenvolvimento de software recebam treinamento para escrever código seguro para seu ambiente de desenvolvimento e responsabilidades específicas. O treinamento deve incluir princípios gerais de segurança e práticas padrão de segurança para aplicações. O treinamento deve ser realizado periodicamente, é interessante estabelecer uma cultura de segurança entre os desenvolvedores."},{"$f":"_xlfn.IFS(_xlfn.XLOOKUP(B260,FORM2.3!$C$12:$C$181,FORM2.3!$I$12:$I$181)='TABELAS AUXILIARES'!$E$7,\"Resposta Não Preenchida\", _xlfn.XLOOKUP(B260,FORM2.3!$C$12:$C$181,FORM2.3!$I$12:$I$181)='TABELAS AUXILIARES'!$E$8,\"Implementada\", _xlfn.XLOOKUP(B260,FORM2.3!$C$12:$C$181,FORM2.3!$I$12:$I$181)='TABELAS AUXILIARES'!$E$9,\"Não Implementada\", _xlfn.XLOOKUP(B260,FORM2.3!$C$12:$C$181,FORM2.3!$I$12:$I$181)='TABELAS AUXILIARES'!$E$10,\"Não Implementada\", _xlfn.XLOOKUP(B260,FORM2.3!$C$12:$C$181,FORM2.3!$I$12:$I$181)='TABELAS AUXILIARES'!$E$11,\"Não Implementada\", _xlfn.XLOOKUP(B260,FORM2.3!$C$12:$C$181,FORM2.3!$I$12:$I$181)='TABELAS AUXILIARES'!$E$12,\"Não Adota\", _xlfn.XLOOKUP(B260,FORM2.3!$C$12:$C$181,FORM2.3!$I$12:$I$181)='TABELAS AUXILIARES'!$E$13,\"Não se aplica\")","v":"Resposta Não Preenchida"}]
[null,"16.10",{"$f":"_xlfn.XLOOKUP(B261,FORM2.3!$C$122:$C$181,FORM2.3!$G$122:$G$181)","v":"O órgão aplica princípios de design seguro em arquiteturas de aplicações?"},{"$f":"_xlfn.XLOOKUP(B261,FORM2.3!$C$122:$C$181,FORM2.3!$H$122:$H$181)","v":"Aplicar princípios de design seguro em arquiteturas de aplicações. Os princípios de design seguro incluem o conceito de privilégio mínimo e aplicação de mediação para validar cada operação que o usuário faz, promovendo o conceito de “nunca confiar nas entradas do usuário”. Os exemplos incluem garantir que a verificação explícita de erros seja realizada e documentada para todas as entradas, incluindo tamanho, tipo de dados e intervalos ou formatos aceitáveis. O design seguro também significa minimizar a superfície de ataque da infraestrutura da aplicação, como desligar portas e serviços desprotegidos, remover programas e arquivos desnecessários e renomear ou remover contas padrão."},{"$f":"_xlfn.IFS(_xlfn.XLOOKUP(B261,FORM2.3!$C$12:$C$181,FORM2.3!$I$12:$I$181)='TABELAS AUXILIARES'!$E$7,\"Resposta Não Preenchida\", _xlfn.XLOOKUP(B261,FORM2.3!$C$12:$C$181,FORM2.3!$I$12:$I$181)='TABELAS AUXILIARES'!$E$8,\"Implementada\", _xlfn.XLOOKUP(B261,FORM2.3!$C$12:$C$181,FORM2.3!$I$12:$I$181)='TABELAS AUXILIARES'!$E$9,\"Não Implementada\", _xlfn.XLOOKUP(B261,FORM2.3!$C$12:$C$181,FORM2.3!$I$12:$I$181)='TABELAS AUXILIARES'!$E$10,\"Não Implementada\", _xlfn.XLOOKUP(B261,FORM2.3!$C$12:$C$181,FORM2.3!$I$12:$I$181)='TABELAS AUXILIARES'!$E$11,\"Não Implementada\", _xlfn.XLOOKUP(B261,FORM2.3!$C$12:$C$181,FORM2.3!$I$12:$I$181)='TABELAS AUXILIARES'!$E$12,\"Não Adota\", _xlfn.XLOOKUP(B261,FORM2.3!$C$12:$C$181,FORM2.3!$I$12:$I$181)='TABELAS AUXILIARES'!$E$13,\"Não se aplica\")","v":"Resposta Não Preenchida"}]
[null,"16.11",{"$f":"_xlfn.XLOOKUP(B262,FORM2.3!$C$122:$C$181,FORM2.3!$G$122:$G$181)","v":"O órgão aproveita os módulos ou serviços controlados para componentes de segurança de aplicações?"},{"$f":"_xlfn.XLOOKUP(B262,FORM2.3!$C$122:$C$181,FORM2.3!$H$122:$H$181)","v":"Aproveitar módulos ou serviços controlados para componentes de segurança da aplicação, como gestão de identidade, criptografia e auditoria de logs. O uso de recursos para plataforma em funções críticas de segurança deve reduzir a carga de trabalho dos desenvolvedores e minimizará a probabilidade de erros de design ou\nimplementação. Os sistemas operacionais modernos fornecem mecanismos para criar e manter logs de auditoria seguros. mecanismos eficazes para identificação, autenticação e autorização e disponibilizam esses mecanismos para as aplicações. Use apenas algoritmos de criptografia padronizados, atualmente aceitos e amplamente revisados. Os sistemas operacionais também fornecem"},{"$f":"_xlfn.IFS(_xlfn.XLOOKUP(B262,FORM2.3!$C$12:$C$181,FORM2.3!$I$12:$I$181)='TABELAS AUXILIARES'!$E$7,\"Resposta Não Preenchida\", _xlfn.XLOOKUP(B262,FORM2.3!$C$12:$C$181,FORM2.3!$I$12:$I$181)='TABELAS AUXILIARES'!$E$8,\"Implementada\", _xlfn.XLOOKUP(B262,FORM2.3!$C$12:$C$181,FORM2.3!$I$12:$I$181)='TABELAS AUXILIARES'!$E$9,\"Não Implementada\", _xlfn.XLOOKUP(B262,FORM2.3!$C$12:$C$181,FORM2.3!$I$12:$I$181)='TABELAS AUXILIARES'!$E$10,\"Não Implementada\", _xlfn.XLOOKUP(B262,FORM2.3!$C$12:$C$181,FORM2.3!$I$12:$I$181)='TABELAS AUXILIARES'!$E$11,\"Não Implementada\", _xlfn.XLOOKUP(B262,FORM2.3!$C$12:$C$181,FORM2.3!$I$12:$I$181)='TABELAS AUXILIARES'!$E$12,\"Não Adota\", _xlfn.XLOOKUP(B262,FORM2.3!$C$12:$C$181,FORM2.3!$I$12:$I$181)='TABELAS AUXILIARES'!$E$13,\"Não se aplica\")","v":"Resposta Não Preenchida"}]
[null,"16.12",{"$f":"_xlfn.XLOOKUP(B263,FORM2.3!$C$122:$C$181,FORM2.3!$G$122:$G$181)","v":"O órgão implementa verificações de segurança em nível de código?"},{"$f":"_xlfn.XLOOKUP(B263,FORM2.3!$C$122:$C$181,FORM2.3!$H$122:$H$181)","v":"Utilizar ferramentas de análise estáticas e dinâmicas dentro do ciclo de vida da aplicação para verificar se as práticas de codificação seguras estão sendo utilizadas na organização."},{"$f":"_xlfn.IFS(_xlfn.XLOOKUP(B263,FORM2.3!$C$12:$C$181,FORM2.3!$I$12:$I$181)='TABELAS AUXILIARES'!$E$7,\"Resposta Não Preenchida\", _xlfn.XLOOKUP(B263,FORM2.3!$C$12:$C$181,FORM2.3!$I$12:$I$181)='TABELAS AUXILIARES'!$E$8,\"Implementada\", _xlfn.XLOOKUP(B263,FORM2.3!$C$12:$C$181,FORM2.3!$I$12:$I$181)='TABELAS AUXILIARES'!$E$9,\"Não Implementada\", _xlfn.XLOOKUP(B263,FORM2.3!$C$12:$C$181,FORM2.3!$I$12:$I$181)='TABELAS AUXILIARES'!$E$10,\"Não Implementada\", _xlfn.XLOOKUP(B263,FORM2.3!$C$12:$C$181,FORM2.3!$I$12:$I$181)='TABELAS AUXILIARES'!$E$11,\"Não Implementada\", _xlfn.XLOOKUP(B263,FORM2.3!$C$12:$C$181,FORM2.3!$I$12:$I$181)='TABELAS AUXILIARES'!$E$12,\"Não Adota\", _xlfn.XLOOKUP(B263,FORM2.3!$C$12:$C$181,FORM2.3!$I$12:$I$181)='TABELAS AUXILIARES'!$E$13,\"Não se aplica\")","v":"Resposta Não Preenchida"}]
[null,"16.13",{"$f":"_xlfn.XLOOKUP(B264,FORM2.3!$C$122:$C$181,FORM2.3!$G$122:$G$181)","v":"O órgão realiza teste de invasão de aplicação?"},{"$f":"_xlfn.XLOOKUP(B264,FORM2.3!$C$122:$C$181,FORM2.3!$H$122:$H$181)","v":"Realizar testes de invasão em aplicações. Para aplicações críticas, o teste de invasão autenticado é mais adequado para localizar vulnerabilidades de codificação e de negócios do que a varredura de código e o teste de segurança automatizado. O teste de invasão depende da habilidade do testador para manipular manualmente uma aplicação como um usuário autenticado e não autenticado."},{"$f":"_xlfn.IFS(_xlfn.XLOOKUP(B264,FORM2.3!$C$12:$C$181,FORM2.3!$I$12:$I$181)='TABELAS AUXILIARES'!$E$7,\"Resposta Não Preenchida\", _xlfn.XLOOKUP(B264,FORM2.3!$C$12:$C$181,FORM2.3!$I$12:$I$181)='TABELAS AUXILIARES'!$E$8,\"Implementada\", _xlfn.XLOOKUP(B264,FORM2.3!$C$12:$C$181,FORM2.3!$I$12:$I$181)='TABELAS AUXILIARES'!$E$9,\"Não Implementada\", _xlfn.XLOOKUP(B264,FORM2.3!$C$12:$C$181,FORM2.3!$I$12:$I$181)='TABELAS AUXILIARES'!$E$10,\"Não Implementada\", _xlfn.XLOOKUP(B264,FORM2.3!$C$12:$C$181,FORM2.3!$I$12:$I$181)='TABELAS AUXILIARES'!$E$11,\"Não Implementada\", _xlfn.XLOOKUP(B264,FORM2.3!$C$12:$C$181,FORM2.3!$I$12:$I$181)='TABELAS AUXILIARES'!$E$12,\"Não Adota\", _xlfn.XLOOKUP(B264,FORM2.3!$C$12:$C$181,FORM2.3!$I$12:$I$181)='TABELAS AUXILIARES'!$E$13,\"Não se aplica\")","v":"Resposta Não Preenchida"}]
[null,"16.14",{"$f":"_xlfn.XLOOKUP(B265,FORM2.3!$C$122:$C$181,FORM2.3!$G$122:$G$181)","v":"O órgão realiza a modelagem de ameaças?"},{"$f":"_xlfn.XLOOKUP(B265,FORM2.3!$C$122:$C$181,FORM2.3!$H$122:$H$181)","v":"Realizar a modelagem de ameaças. A modelagem de ameaças é o processo de identificar e abordar as falhas de design de segurança da aplicação em um desenho, antes que o código seja criado. É conduzido por profissionais especialmente treinados que avaliam o design da aplicação e medem os riscos de segurança para cada ponto de entrada e nível de acesso. O objetivo é mapear a aplicação, a arquitetura e a infraestrutura de uma forma estruturada para entender todos os pontos fracos."},{"$f":"_xlfn.IFS(_xlfn.XLOOKUP(B265,FORM2.3!$C$12:$C$181,FORM2.3!$I$12:$I$181)='TABELAS AUXILIARES'!$E$7,\"Resposta Não Preenchida\", _xlfn.XLOOKUP(B265,FORM2.3!$C$12:$C$181,FORM2.3!$I$12:$I$181)='TABELAS AUXILIARES'!$E$8,\"Implementada\", _xlfn.XLOOKUP(B265,FORM2.3!$C$12:$C$181,FORM2.3!$I$12:$I$181)='TABELAS AUXILIARES'!$E$9,\"Não Implementada\", _xlfn.XLOOKUP(B265,FORM2.3!$C$12:$C$181,FORM2.3!$I$12:$I$181)='TABELAS AUXILIARES'!$E$10,\"Não Implementada\", _xlfn.XLOOKUP(B265,FORM2.3!$C$12:$C$181,FORM2.3!$I$12:$I$181)='TABELAS AUXILIARES'!$E$11,\"Não Implementada\", _xlfn.XLOOKUP(B265,FORM2.3!$C$12:$C$181,FORM2.3!$I$12:$I$181)='TABELAS AUXILIARES'!$E$12,\"Não Adota\", _xlfn.XLOOKUP(B265,FORM2.3!$C$12:$C$181,FORM2.3!$I$12:$I$181)='TABELAS AUXILIARES'!$E$13,\"Não se aplica\")","v":"Resposta Não Preenchida"}]
[]
[null,17,"CIS CONTROLE 17: GESTÃO DE RESPOSTA A INCIDENTES"]
[null,{"$f":"FORM2.3!K167","v":"Controle Não Foi Respondido"}]
[null,null,"MEDIDAS DE SEGURANÇA"]
[null,"Nível de Capacidade do Controle"]
[null,"ID","Medida","Descrição","Resposta"]
[null,"17.1",{"$f":"_xlfn.XLOOKUP(B272,FORM2.3!$C$122:$C$181,FORM2.3!$G$122:$G$181)","v":"O órgão designa os colaboradores para gerenciar o tratamento de incidentes?"},{"$f":"_xlfn.XLOOKUP(B272,FORM2.3!$C$122:$C$181,FORM2.3!$H$122:$H$181)","v":"Designar os responsáveis para gerenciar o processo de tratamento de incidentes da organização. A equipe de gestão é responsável pela coordenação e documentação dos esforços de resposta e recuperação a incidentes, esta equipe pode formada por\ncolaboradores internos, terceirizados ou pode contar com os dois tipos de  colaborares. Casos em que a equipe for composta somente por funcionários terceirizados, a organização deve designar pelo menos um colaborador interno para supervisionar qualquer ação terceirizada."},{"$f":"_xlfn.IFS(_xlfn.XLOOKUP(B272,FORM2.3!$C$12:$C$181,FORM2.3!$I$12:$I$181)='TABELAS AUXILIARES'!$E$7,\"Resposta Não Preenchida\", _xlfn.XLOOKUP(B272,FORM2.3!$C$12:$C$181,FORM2.3!$I$12:$I$181)='TABELAS AUXILIARES'!$E$8,\"Implementada\", _xlfn.XLOOKUP(B272,FORM2.3!$C$12:$C$181,FORM2.3!$I$12:$I$181)='TABELAS AUXILIARES'!$E$9,\"Não Implementada\", _xlfn.XLOOKUP(B272,FORM2.3!$C$12:$C$181,FORM2.3!$I$12:$I$181)='TABELAS AUXILIARES'!$E$10,\"Não Implementada\", _xlfn.XLOOKUP(B272,FORM2.3!$C$12:$C$181,FORM2.3!$I$12:$I$181)='TABELAS AUXILIARES'!$E$11,\"Não Implementada\", _xlfn.XLOOKUP(B272,FORM2.3!$C$12:$C$181,FORM2.3!$I$12:$I$181)='TABELAS AUXILIARES'!$E$12,\"Não Adota\", _xlfn.XLOOKUP(B272,FORM2.3!$C$12:$C$181,FORM2.3!$I$12:$I$181)='TABELAS AUXILIARES'!$E$13,\"Não se aplica\")","v":"Resposta Não Preenchida"}]
[null,"17.2",{"$f":"_xlfn.XLOOKUP(B273,FORM2.3!$C$122:$C$181,FORM2.3!$G$122:$G$181)","v":"O órgão estabelece e mantém informações de contato para relatar incidentes de segurança?"},{"$f":"_xlfn.XLOOKUP(B273,FORM2.3!$C$122:$C$181,FORM2.3!$H$122:$H$181)","v":"Estabelecer e manter as informações de contato das pessoas que precisam ser informadas sobre os incidentes de segurança. Os contatos podem incluir funcionários internos, fornecedores terceirizados, policiais, provedores de seguros cibernéticos, agências governamentais relevantes, parceiros do Information Sharing and Analysis Center (ISAC) ou outras partes interessadas. Verifique os contatos periodicamente para garantir que as informações estejam atualizadas."},{"$f":"_xlfn.IFS(_xlfn.XLOOKUP(B273,FORM2.3!$C$12:$C$181,FORM2.3!$I$12:$I$181)='TABELAS AUXILIARES'!$E$7,\"Resposta Não Preenchida\", _xlfn.XLOOKUP(B273,FORM2.3!$C$12:$C$181,FORM2.3!$I$12:$I$181)='TABELAS AUXILIARES'!$E$8,\"Implementada\", _xlfn.XLOOKUP(B273,FORM2.3!$C$12:$C$181,FORM2.3!$I$12:$I$181)='TABELAS AUXILIARES'!$E$9,\"Não Implementada\", _xlfn.XLOOKUP(B273,FORM2.3!$C$12:$C$181,FORM2.3!$I$12:$I$181)='TABELAS AUXILIARES'!$E$10,\"Não Implementada\", _xlfn.XLOOKUP(B273,FORM2.3!$C$12:$C$181,FORM2.3!$I$12:$I$181)='TABELAS AUXILIARES'!$E$11,\"Não Implementada\", _xlfn.XLOOKUP(B273,FORM2.3!$C$12:$C$181,FORM2.3!$I$12:$I$181)='TABELAS AUXILIARES'!$E$12,\"Não Adota\", _xlfn.XLOOKUP(B273,FORM2.3!$C$12:$C$181,FORM2.3!$I$12:$I$181)='TABELAS AUXILIARES'!$E$13,\"Não se aplica\")","v":"Resposta Não Preenchida"}]
[null,"17.3",{"$f":"_xlfn.XLOOKUP(B274,FORM2.3!$C$122:$C$181,FORM2.3!$G$122:$G$181)","v":"O órgão estabelece e mantém um processo institucional para relatar incidentes?"},{"$f":"_xlfn.XLOOKUP(B274,FORM2.3!$C$122:$C$181,FORM2.3!$H$122:$H$181)","v":"Estabelecer e manter um processo institucional para a colaborares relatarem incidentes de segurança. O processo inclui cronograma de relatórios, pessoal responsável por para relatar, mecanismo para relatar e as informações mínimas a serem relatadas. É importante certificar que o processo está publicamente disponível para todos os colaboradores da organização. Deve ser realizada uma revisão  periódica deste processo ou quando ocorrerem mudanças significativas na organização que possam impactar esta medida de segurança."},{"$f":"_xlfn.IFS(_xlfn.XLOOKUP(B274,FORM2.3!$C$12:$C$181,FORM2.3!$I$12:$I$181)='TABELAS AUXILIARES'!$E$7,\"Resposta Não Preenchida\", _xlfn.XLOOKUP(B274,FORM2.3!$C$12:$C$181,FORM2.3!$I$12:$I$181)='TABELAS AUXILIARES'!$E$8,\"Implementada\", _xlfn.XLOOKUP(B274,FORM2.3!$C$12:$C$181,FORM2.3!$I$12:$I$181)='TABELAS AUXILIARES'!$E$9,\"Não Implementada\", _xlfn.XLOOKUP(B274,FORM2.3!$C$12:$C$181,FORM2.3!$I$12:$I$181)='TABELAS AUXILIARES'!$E$10,\"Não Implementada\", _xlfn.XLOOKUP(B274,FORM2.3!$C$12:$C$181,FORM2.3!$I$12:$I$181)='TABELAS AUXILIARES'!$E$11,\"Não Implementada\", _xlfn.XLOOKUP(B274,FORM2.3!$C$12:$C$181,FORM2.3!$I$12:$I$181)='TABELAS AUXILIARES'!$E$12,\"Não Adota\", _xlfn.XLOOKUP(B274,FORM2.3!$C$12:$C$181,FORM2.3!$I$12:$I$181)='TABELAS AUXILIARES'!$E$13,\"Não se aplica\")","v":"Resposta Não Preenchida"}]
[null,"17.4",{"$f":"_xlfn.XLOOKUP(B275,FORM2.3!$C$122:$C$181,FORM2.3!$G$122:$G$181)","v":"O órgão estabelece e mantém um processo de resposta a incidente?"},{"$f":"_xlfn.XLOOKUP(B275,FORM2.3!$C$122:$C$181,FORM2.3!$H$122:$H$181)","v":"Estabelecer e manter um processo de resposta a incidentes que aborde funções e responsabilidades, requisitos de conformidade e um plano de comunicação. Realize a revisão deste processo de forma periódica ou quando ocorrerem mudanças significativas na organização que possam impactar esta medida de segurança."},{"$f":"_xlfn.IFS(_xlfn.XLOOKUP(B275,FORM2.3!$C$12:$C$181,FORM2.3!$I$12:$I$181)='TABELAS AUXILIARES'!$E$7,\"Resposta Não Preenchida\", _xlfn.XLOOKUP(B275,FORM2.3!$C$12:$C$181,FORM2.3!$I$12:$I$181)='TABELAS AUXILIARES'!$E$8,\"Implementada\", _xlfn.XLOOKUP(B275,FORM2.3!$C$12:$C$181,FORM2.3!$I$12:$I$181)='TABELAS AUXILIARES'!$E$9,\"Não Implementada\", _xlfn.XLOOKUP(B275,FORM2.3!$C$12:$C$181,FORM2.3!$I$12:$I$181)='TABELAS AUXILIARES'!$E$10,\"Não Implementada\", _xlfn.XLOOKUP(B275,FORM2.3!$C$12:$C$181,FORM2.3!$I$12:$I$181)='TABELAS AUXILIARES'!$E$11,\"Não Implementada\", _xlfn.XLOOKUP(B275,FORM2.3!$C$12:$C$181,FORM2.3!$I$12:$I$181)='TABELAS AUXILIARES'!$E$12,\"Não Adota\", _xlfn.XLOOKUP(B275,FORM2.3!$C$12:$C$181,FORM2.3!$I$12:$I$181)='TABELAS AUXILIARES'!$E$13,\"Não se aplica\")","v":"Resposta Não Preenchida"}]
[null,"17.5",{"$f":"_xlfn.XLOOKUP(B276,FORM2.3!$C$122:$C$181,FORM2.3!$G$122:$G$181)","v":"O órgão atribui funções e responsabilidades?"},{"$f":"_xlfn.XLOOKUP(B276,FORM2.3!$C$122:$C$181,FORM2.3!$H$122:$H$181)","v":"Atribuir funções e responsabilidades chave para resposta a incidentes, incluindo equipe jurídica, TI, segurança da informação, instalações, relações s públicas, recursos humanos, equipe de resposta a incidentes, conforme aplicável. Realize a revisão deste processo de forma periódica ou quando ocorrerem mudanças significativas na organização que possam impactar esta medida de segurança. Realize a revisão desta medida de forma periódica ou quando ocorrerem mudanças significativas na organização que possam impactar esta medida de segurança."},{"$f":"_xlfn.IFS(_xlfn.XLOOKUP(B276,FORM2.3!$C$12:$C$181,FORM2.3!$I$12:$I$181)='TABELAS AUXILIARES'!$E$7,\"Resposta Não Preenchida\", _xlfn.XLOOKUP(B276,FORM2.3!$C$12:$C$181,FORM2.3!$I$12:$I$181)='TABELAS AUXILIARES'!$E$8,\"Implementada\", _xlfn.XLOOKUP(B276,FORM2.3!$C$12:$C$181,FORM2.3!$I$12:$I$181)='TABELAS AUXILIARES'!$E$9,\"Não Implementada\", _xlfn.XLOOKUP(B276,FORM2.3!$C$12:$C$181,FORM2.3!$I$12:$I$181)='TABELAS AUXILIARES'!$E$10,\"Não Implementada\", _xlfn.XLOOKUP(B276,FORM2.3!$C$12:$C$181,FORM2.3!$I$12:$I$181)='TABELAS AUXILIARES'!$E$11,\"Não Implementada\", _xlfn.XLOOKUP(B276,FORM2.3!$C$12:$C$181,FORM2.3!$I$12:$I$181)='TABELAS AUXILIARES'!$E$12,\"Não Adota\", _xlfn.XLOOKUP(B276,FORM2.3!$C$12:$C$181,FORM2.3!$I$12:$I$181)='TABELAS AUXILIARES'!$E$13,\"Não se aplica\")","v":"Resposta Não Preenchida"}]
[null,"17.6",{"$f":"_xlfn.XLOOKUP(B277,FORM2.3!$C$122:$C$181,FORM2.3!$G$122:$G$181)","v":"O órgão define mecanismos de comunicação durante a resposta a incidente?"},{"$f":"_xlfn.XLOOKUP(B277,FORM2.3!$C$122:$C$181,FORM2.3!$H$122:$H$181)","v":"Determinar quais mecanismos primários e secundários serão usados para relatar um incidente e se comunicar durante um incidente de segurança. Os mecanismos podem incluir ligações, e-mails ou cartas. Lembre-se de que certos mecanismos, como e-mails, podem ser afetados durante um incidente de segurança. Realize a revisão desta medida de forma periódica ou quando ocorrerem mudanças significativas na organização que possam impactar esta medida de segurança."},{"$f":"_xlfn.IFS(_xlfn.XLOOKUP(B277,FORM2.3!$C$12:$C$181,FORM2.3!$I$12:$I$181)='TABELAS AUXILIARES'!$E$7,\"Resposta Não Preenchida\", _xlfn.XLOOKUP(B277,FORM2.3!$C$12:$C$181,FORM2.3!$I$12:$I$181)='TABELAS AUXILIARES'!$E$8,\"Implementada\", _xlfn.XLOOKUP(B277,FORM2.3!$C$12:$C$181,FORM2.3!$I$12:$I$181)='TABELAS AUXILIARES'!$E$9,\"Não Implementada\", _xlfn.XLOOKUP(B277,FORM2.3!$C$12:$C$181,FORM2.3!$I$12:$I$181)='TABELAS AUXILIARES'!$E$10,\"Não Implementada\", _xlfn.XLOOKUP(B277,FORM2.3!$C$12:$C$181,FORM2.3!$I$12:$I$181)='TABELAS AUXILIARES'!$E$11,\"Não Implementada\", _xlfn.XLOOKUP(B277,FORM2.3!$C$12:$C$181,FORM2.3!$I$12:$I$181)='TABELAS AUXILIARES'!$E$12,\"Não Adota\", _xlfn.XLOOKUP(B277,FORM2.3!$C$12:$C$181,FORM2.3!$I$12:$I$181)='TABELAS AUXILIARES'!$E$13,\"Não se aplica\")","v":"Resposta Não Preenchida"}]
[null,"17.7",{"$f":"_xlfn.XLOOKUP(B278,FORM2.3!$C$122:$C$181,FORM2.3!$G$122:$G$181)","v":"O órgão conduz exercícios de resposta a incidentes regularmente?"},{"$f":"_xlfn.XLOOKUP(B278,FORM2.3!$C$122:$C$181,FORM2.3!$H$122:$H$181)","v":"Planejar e conduzir exercícios e cenários rotineiros de resposta a incidentes para a equipe envolvida na resposta a incidentes, de forma a manter a conscientização e tranquilidade no caso de resposta a ameaças reais. Os exercícios devem testar os canais de comunicação, tomada de decisão e recursos técnicos da equipe de resposta a incidentes, contemplando a utilização das ferramentas e dados disponíveis."},{"$f":"_xlfn.IFS(_xlfn.XLOOKUP(B278,FORM2.3!$C$12:$C$181,FORM2.3!$I$12:$I$181)='TABELAS AUXILIARES'!$E$7,\"Resposta Não Preenchida\", _xlfn.XLOOKUP(B278,FORM2.3!$C$12:$C$181,FORM2.3!$I$12:$I$181)='TABELAS AUXILIARES'!$E$8,\"Implementada\", _xlfn.XLOOKUP(B278,FORM2.3!$C$12:$C$181,FORM2.3!$I$12:$I$181)='TABELAS AUXILIARES'!$E$9,\"Não Implementada\", _xlfn.XLOOKUP(B278,FORM2.3!$C$12:$C$181,FORM2.3!$I$12:$I$181)='TABELAS AUXILIARES'!$E$10,\"Não Implementada\", _xlfn.XLOOKUP(B278,FORM2.3!$C$12:$C$181,FORM2.3!$I$12:$I$181)='TABELAS AUXILIARES'!$E$11,\"Não Implementada\", _xlfn.XLOOKUP(B278,FORM2.3!$C$12:$C$181,FORM2.3!$I$12:$I$181)='TABELAS AUXILIARES'!$E$12,\"Não Adota\", _xlfn.XLOOKUP(B278,FORM2.3!$C$12:$C$181,FORM2.3!$I$12:$I$181)='TABELAS AUXILIARES'!$E$13,\"Não se aplica\")","v":"Resposta Não Preenchida"}]
[null,"17.8",{"$f":"_xlfn.XLOOKUP(B279,FORM2.3!$C$122:$C$181,FORM2.3!$G$122:$G$181)","v":"O órgão realiza análises pós-incidente?"},{"$f":"_xlfn.XLOOKUP(B279,FORM2.3!$C$122:$C$181,FORM2.3!$H$122:$H$181)","v":"Realizar análises pós-incidente. As análises pós-incidente ajudam a prevenir a recorrência do incidente por meio da identificação de lições aprendidas e ações de acompanhamento."},{"$f":"_xlfn.IFS(_xlfn.XLOOKUP(B279,FORM2.3!$C$12:$C$181,FORM2.3!$I$12:$I$181)='TABELAS AUXILIARES'!$E$7,\"Resposta Não Preenchida\", _xlfn.XLOOKUP(B279,FORM2.3!$C$12:$C$181,FORM2.3!$I$12:$I$181)='TABELAS AUXILIARES'!$E$8,\"Implementada\", _xlfn.XLOOKUP(B279,FORM2.3!$C$12:$C$181,FORM2.3!$I$12:$I$181)='TABELAS AUXILIARES'!$E$9,\"Não Implementada\", _xlfn.XLOOKUP(B279,FORM2.3!$C$12:$C$181,FORM2.3!$I$12:$I$181)='TABELAS AUXILIARES'!$E$10,\"Não Implementada\", _xlfn.XLOOKUP(B279,FORM2.3!$C$12:$C$181,FORM2.3!$I$12:$I$181)='TABELAS AUXILIARES'!$E$11,\"Não Implementada\", _xlfn.XLOOKUP(B279,FORM2.3!$C$12:$C$181,FORM2.3!$I$12:$I$181)='TABELAS AUXILIARES'!$E$12,\"Não Adota\", _xlfn.XLOOKUP(B279,FORM2.3!$C$12:$C$181,FORM2.3!$I$12:$I$181)='TABELAS AUXILIARES'!$E$13,\"Não se aplica\")","v":"Resposta Não Preenchida"}]
[null,"17.9",{"$f":"_xlfn.XLOOKUP(B280,FORM2.3!$C$122:$C$181,FORM2.3!$G$122:$G$181)","v":"O órgão estabelece e mantém limites de incidentes de segurança?"},{"$f":"_xlfn.XLOOKUP(B280,FORM2.3!$C$122:$C$181,FORM2.3!$H$122:$H$181)","v":"Estabelecer e mantenha limites de incidentes de segurança, incluindo, no mínimo, a diferenciação entre um incidente e um evento. Os exemplos podem incluir: atividade anormal, vulnerabilidade de segurança, ameaça de segurança, violação de dados, incidente de privacidade etc. Realize a revisão desta medida de forma periódica ou quando ocorrerem mudanças significativas na organização que possam impactar esta medida de segurança."},{"$f":"_xlfn.IFS(_xlfn.XLOOKUP(B280,FORM2.3!$C$12:$C$181,FORM2.3!$I$12:$I$181)='TABELAS AUXILIARES'!$E$7,\"Resposta Não Preenchida\", _xlfn.XLOOKUP(B280,FORM2.3!$C$12:$C$181,FORM2.3!$I$12:$I$181)='TABELAS AUXILIARES'!$E$8,\"Implementada\", _xlfn.XLOOKUP(B280,FORM2.3!$C$12:$C$181,FORM2.3!$I$12:$I$181)='TABELAS AUXILIARES'!$E$9,\"Não Implementada\", _xlfn.XLOOKUP(B280,FORM2.3!$C$12:$C$181,FORM2.3!$I$12:$I$181)='TABELAS AUXILIARES'!$E$10,\"Não Implementada\", _xlfn.XLOOKUP(B280,FORM2.3!$C$12:$C$181,FORM2.3!$I$12:$I$181)='TABELAS AUXILIARES'!$E$11,\"Não Implementada\", _xlfn.XLOOKUP(B280,FORM2.3!$C$12:$C$181,FORM2.3!$I$12:$I$181)='TABELAS AUXILIARES'!$E$12,\"Não Adota\", _xlfn.XLOOKUP(B280,FORM2.3!$C$12:$C$181,FORM2.3!$I$12:$I$181)='TABELAS AUXILIARES'!$E$13,\"Não se aplica\")","v":"Resposta Não Preenchida"}]
[]
[null,18,"CIS CONTROLE 18: TESTES DE INVASÃO"]
[null,{"$f":"FORM2.3!K177","v":"Controle Não Foi Respondido"}]
[null,null,"MEDIDAS DE SEGURANÇA"]
[null,"Nível de Capacidade do Controle"]
[null,"ID","Medida","Descrição","Resposta"]
[null,"18.1",{"$f":"_xlfn.XLOOKUP(B287,FORM2.3!$C$122:$C$181,FORM2.3!$G$122:$G$181)","v":"O órgão elabora e mantém um programa de teste de invasão?"},{"$f":"_xlfn.XLOOKUP(B287,FORM2.3!$C$122:$C$181,FORM2.3!$H$122:$H$181)","v":"Estabelecer um programa para testes de invasão adequado ao tamanho, complexidade e maturidade da organização. O programa de teste de invasão deve levar em consideração o escopo do teste como rede, aplicação web, API, controles de instalações físicas e etc."},{"$f":"_xlfn.IFS(_xlfn.XLOOKUP(B287,FORM2.3!$C$12:$C$181,FORM2.3!$I$12:$I$181)='TABELAS AUXILIARES'!$E$7,\"Resposta Não Preenchida\", _xlfn.XLOOKUP(B287,FORM2.3!$C$12:$C$181,FORM2.3!$I$12:$I$181)='TABELAS AUXILIARES'!$E$8,\"Implementada\", _xlfn.XLOOKUP(B287,FORM2.3!$C$12:$C$181,FORM2.3!$I$12:$I$181)='TABELAS AUXILIARES'!$E$9,\"Não Implementada\", _xlfn.XLOOKUP(B287,FORM2.3!$C$12:$C$181,FORM2.3!$I$12:$I$181)='TABELAS AUXILIARES'!$E$10,\"Não Implementada\", _xlfn.XLOOKUP(B287,FORM2.3!$C$12:$C$181,FORM2.3!$I$12:$I$181)='TABELAS AUXILIARES'!$E$11,\"Não Implementada\", _xlfn.XLOOKUP(B287,FORM2.3!$C$12:$C$181,FORM2.3!$I$12:$I$181)='TABELAS AUXILIARES'!$E$12,\"Não Adota\", _xlfn.XLOOKUP(B287,FORM2.3!$C$12:$C$181,FORM2.3!$I$12:$I$181)='TABELAS AUXILIARES'!$E$13,\"Não se aplica\")","v":"Resposta Não Preenchida"}]
[null,"18.2",{"$f":"_xlfn.XLOOKUP(B288,FORM2.3!$C$122:$C$181,FORM2.3!$G$122:$G$181)","v":"O órgão realiza testes de invasão externos periódicos?"},{"$f":"_xlfn.XLOOKUP(B288,FORM2.3!$C$122:$C$181,FORM2.3!$H$122:$H$181)","v":"Conduzir testes de invasão e externos regularmente. A teste de invasão externo deve ser reconhecido pela organização e deve ser capaz de detectar informações exploráveis que possam impactar a segurança da organização. Tal teste deve ser realizado por profissionais qualificados."},{"$f":"_xlfn.IFS(_xlfn.XLOOKUP(B288,FORM2.3!$C$12:$C$181,FORM2.3!$I$12:$I$181)='TABELAS AUXILIARES'!$E$7,\"Resposta Não Preenchida\", _xlfn.XLOOKUP(B288,FORM2.3!$C$12:$C$181,FORM2.3!$I$12:$I$181)='TABELAS AUXILIARES'!$E$8,\"Implementada\", _xlfn.XLOOKUP(B288,FORM2.3!$C$12:$C$181,FORM2.3!$I$12:$I$181)='TABELAS AUXILIARES'!$E$9,\"Não Implementada\", _xlfn.XLOOKUP(B288,FORM2.3!$C$12:$C$181,FORM2.3!$I$12:$I$181)='TABELAS AUXILIARES'!$E$10,\"Não Implementada\", _xlfn.XLOOKUP(B288,FORM2.3!$C$12:$C$181,FORM2.3!$I$12:$I$181)='TABELAS AUXILIARES'!$E$11,\"Não Implementada\", _xlfn.XLOOKUP(B288,FORM2.3!$C$12:$C$181,FORM2.3!$I$12:$I$181)='TABELAS AUXILIARES'!$E$12,\"Não Adota\", _xlfn.XLOOKUP(B288,FORM2.3!$C$12:$C$181,FORM2.3!$I$12:$I$181)='TABELAS AUXILIARES'!$E$13,\"Não se aplica\")","v":"Resposta Não Preenchida"}]
[null,"18.3",{"$f":"_xlfn.XLOOKUP(B289,FORM2.3!$C$122:$C$181,FORM2.3!$G$122:$G$181)","v":"O órgão realiza testes de invasão internos periódicos?"},{"$f":"_xlfn.XLOOKUP(B289,FORM2.3!$C$122:$C$181,FORM2.3!$H$122:$H$181)","v":"Realize testes de invasão internos periódicos com base nos requisitos do programa de testes de invasão."},{"$f":"_xlfn.IFS(_xlfn.XLOOKUP(B289,FORM2.3!$C$12:$C$181,FORM2.3!$I$12:$I$181)='TABELAS AUXILIARES'!$E$7,\"Resposta Não Preenchida\", _xlfn.XLOOKUP(B289,FORM2.3!$C$12:$C$181,FORM2.3!$I$12:$I$181)='TABELAS AUXILIARES'!$E$8,\"Implementada\", _xlfn.XLOOKUP(B289,FORM2.3!$C$12:$C$181,FORM2.3!$I$12:$I$181)='TABELAS AUXILIARES'!$E$9,\"Não Implementada\", _xlfn.XLOOKUP(B289,FORM2.3!$C$12:$C$181,FORM2.3!$I$12:$I$181)='TABELAS AUXILIARES'!$E$10,\"Não Implementada\", _xlfn.XLOOKUP(B289,FORM2.3!$C$12:$C$181,FORM2.3!$I$12:$I$181)='TABELAS AUXILIARES'!$E$11,\"Não Implementada\", _xlfn.XLOOKUP(B289,FORM2.3!$C$12:$C$181,FORM2.3!$I$12:$I$181)='TABELAS AUXILIARES'!$E$12,\"Não Adota\", _xlfn.XLOOKUP(B289,FORM2.3!$C$12:$C$181,FORM2.3!$I$12:$I$181)='TABELAS AUXILIARES'!$E$13,\"Não se aplica\")","v":"Resposta Não Preenchida"}]
[null,"18.4",{"$f":"_xlfn.XLOOKUP(B290,FORM2.3!$C$122:$C$181,FORM2.3!$G$122:$G$181)","v":"O órgão corrige os resultados dos testes de invasão?"},{"$f":"_xlfn.XLOOKUP(B290,FORM2.3!$C$122:$C$181,FORM2.3!$H$122:$H$181)","v":"Corrigir as descobertas do teste de invasão com base na política da organização para o escopo e a priorização de correção de vulnerabilidades."},{"$f":"_xlfn.IFS(_xlfn.XLOOKUP(B290,FORM2.3!$C$12:$C$181,FORM2.3!$I$12:$I$181)='TABELAS AUXILIARES'!$E$7,\"Resposta Não Preenchida\", _xlfn.XLOOKUP(B290,FORM2.3!$C$12:$C$181,FORM2.3!$I$12:$I$181)='TABELAS AUXILIARES'!$E$8,\"Implementada\", _xlfn.XLOOKUP(B290,FORM2.3!$C$12:$C$181,FORM2.3!$I$12:$I$181)='TABELAS AUXILIARES'!$E$9,\"Não Implementada\", _xlfn.XLOOKUP(B290,FORM2.3!$C$12:$C$181,FORM2.3!$I$12:$I$181)='TABELAS AUXILIARES'!$E$10,\"Não Implementada\", _xlfn.XLOOKUP(B290,FORM2.3!$C$12:$C$181,FORM2.3!$I$12:$I$181)='TABELAS AUXILIARES'!$E$11,\"Não Implementada\", _xlfn.XLOOKUP(B290,FORM2.3!$C$12:$C$181,FORM2.3!$I$12:$I$181)='TABELAS AUXILIARES'!$E$12,\"Não Adota\", _xlfn.XLOOKUP(B290,FORM2.3!$C$12:$C$181,FORM2.3!$I$12:$I$181)='TABELAS AUXILIARES'!$E$13,\"Não se aplica\")","v":"Resposta Não Preenchida"}]
[null,"18.5",{"$f":"_xlfn.XLOOKUP(B291,FORM2.3!$C$122:$C$181,FORM2.3!$G$122:$G$181)","v":"O órgão valida as medidas de segurança?"},{"$f":"_xlfn.XLOOKUP(B291,FORM2.3!$C$122:$C$181,FORM2.3!$H$122:$H$181)","v":"Validar as medidas de segurança após cada teste de invasão. Se necessário, modificar os conjuntos de regras e recursos para detectar as técnicas usadas durante o teste."},{"$f":"_xlfn.IFS(_xlfn.XLOOKUP(B291,FORM2.3!$C$12:$C$181,FORM2.3!$I$12:$I$181)='TABELAS AUXILIARES'!$E$7,\"Resposta Não Preenchida\", _xlfn.XLOOKUP(B291,FORM2.3!$C$12:$C$181,FORM2.3!$I$12:$I$181)='TABELAS AUXILIARES'!$E$8,\"Implementada\", _xlfn.XLOOKUP(B291,FORM2.3!$C$12:$C$181,FORM2.3!$I$12:$I$181)='TABELAS AUXILIARES'!$E$9,\"Não Implementada\", _xlfn.XLOOKUP(B291,FORM2.3!$C$12:$C$181,FORM2.3!$I$12:$I$181)='TABELAS AUXILIARES'!$E$10,\"Não Implementada\", _xlfn.XLOOKUP(B291,FORM2.3!$C$12:$C$181,FORM2.3!$I$12:$I$181)='TABELAS AUXILIARES'!$E$11,\"Não Implementada\", _xlfn.XLOOKUP(B291,FORM2.3!$C$12:$C$181,FORM2.3!$I$12:$I$181)='TABELAS AUXILIARES'!$E$12,\"Não Adota\", _xlfn.XLOOKUP(B291,FORM2.3!$C$12:$C$181,FORM2.3!$I$12:$I$181)='TABELAS AUXILIARES'!$E$13,\"Não se aplica\")","v":"Resposta Não Preenchida"}]
[]
[null,19,"PRIVACIDADE CONTROLE 19: INVENTÁRIO E MAPEAMENTO"]
[null,{"$f":"FORM2.4!I9","v":"Controle Não Foi Respondido"}]
[null,null,"MEDIDAS DE PRIVACIDADE"]
[null,"Nível de Capacidade do Controle"]
[null,"ID","Medida",null,"Resposta"]
[null,"19.1",{"$f":"FORM2.4!E10","v":"A organização documenta os sistemas, serviços e processos que tratam dados pessoais?"},null,{"$f":"_xlfn.IFS(_xlfn.XLOOKUP(B298,FORM2.4!$B$10:$B$183,FORM2.4!$F$10:$F$183)='TABELAS AUXILIARES'!$E$7,\"Resposta Não Preenchida\",_xlfn.XLOOKUP(B298,FORM2.4!$B$10:$B$183,FORM2.4!$F$10:$F$183)='TABELAS AUXILIARES'!$E$8,\"Implementada\",_xlfn.XLOOKUP(B298,FORM2.4!$B$10:$B$183,FORM2.4!$F$10:$F$183)='TABELAS AUXILIARES'!$E$9,\"Não Implementada\",_xlfn.XLOOKUP(B298,FORM2.4!$B$10:$B$183,FORM2.4!$F$10:$F$183)='TABELAS AUXILIARES'!$E$10,\"Não Implementada\",_xlfn.XLOOKUP(B298,FORM2.4!$B$10:$B$183,FORM2.4!$F$10:$F$183)='TABELAS AUXILIARES'!$E$11,\"Não Implementada\",_xlfn.XLOOKUP(B298,FORM2.4!$B$10:$B$183,FORM2.4!$F$10:$F$183)='TABELAS AUXILIARES'!$E$12,\"Não Adota\",_xlfn.XLOOKUP(B298,FORM2.4!$B$10:$B$183,FORM2.4!$F$10:$F$183)='TABELAS AUXILIARES'!$E$13,\"Não se aplica\")","v":"Resposta Não Preenchida"}]
[null,"19.2",{"$f":"FORM2.4!E11","v":"O órgão mapeia os agentes de tratamento (controlador, co-controladores e operadores) responsáveis pelo processamento de dados pessoais?"},null,{"$f":"_xlfn.IFS(_xlfn.XLOOKUP(B299,FORM2.4!$B$10:$B$183,FORM2.4!$F$10:$F$183)='TABELAS AUXILIARES'!$E$7,\"Resposta Não Preenchida\",_xlfn.XLOOKUP(B299,FORM2.4!$B$10:$B$183,FORM2.4!$F$10:$F$183)='TABELAS AUXILIARES'!$E$8,\"Implementada\",_xlfn.XLOOKUP(B299,FORM2.4!$B$10:$B$183,FORM2.4!$F$10:$F$183)='TABELAS AUXILIARES'!$E$9,\"Não Implementada\",_xlfn.XLOOKUP(B299,FORM2.4!$B$10:$B$183,FORM2.4!$F$10:$F$183)='TABELAS AUXILIARES'!$E$10,\"Não Implementada\",_xlfn.XLOOKUP(B299,FORM2.4!$B$10:$B$183,FORM2.4!$F$10:$F$183)='TABELAS AUXILIARES'!$E$11,\"Não Implementada\",_xlfn.XLOOKUP(B299,FORM2.4!$B$10:$B$183,FORM2.4!$F$10:$F$183)='TABELAS AUXILIARES'!$E$12,\"Não Adota\",_xlfn.XLOOKUP(B299,FORM2.4!$B$10:$B$183,FORM2.4!$F$10:$F$183)='TABELAS AUXILIARES'!$E$13,\"Não se aplica\")","v":"Resposta Não Preenchida"}]
[null,"19.3",{"$f":"FORM2.4!E12","v":"O órgão documenta as fases do tratamento em que o operador atua?"},null,{"$f":"_xlfn.IFS(_xlfn.XLOOKUP(B300,FORM2.4!$B$10:$B$183,FORM2.4!$F$10:$F$183)='TABELAS AUXILIARES'!$E$7,\"Resposta Não Preenchida\",_xlfn.XLOOKUP(B300,FORM2.4!$B$10:$B$183,FORM2.4!$F$10:$F$183)='TABELAS AUXILIARES'!$E$8,\"Implementada\",_xlfn.XLOOKUP(B300,FORM2.4!$B$10:$B$183,FORM2.4!$F$10:$F$183)='TABELAS AUXILIARES'!$E$9,\"Não Implementada\",_xlfn.XLOOKUP(B300,FORM2.4!$B$10:$B$183,FORM2.4!$F$10:$F$183)='TABELAS AUXILIARES'!$E$10,\"Não Implementada\",_xlfn.XLOOKUP(B300,FORM2.4!$B$10:$B$183,FORM2.4!$F$10:$F$183)='TABELAS AUXILIARES'!$E$11,\"Não Implementada\",_xlfn.XLOOKUP(B300,FORM2.4!$B$10:$B$183,FORM2.4!$F$10:$F$183)='TABELAS AUXILIARES'!$E$12,\"Não Adota\",_xlfn.XLOOKUP(B300,FORM2.4!$B$10:$B$183,FORM2.4!$F$10:$F$183)='TABELAS AUXILIARES'!$E$13,\"Não se aplica\")","v":"Resposta Não Preenchida"}]
[null,"19.4",{"$f":"FORM2.4!E13","v":"O órgão mapeia os fluxos ou ações do tratamento de dados pessoais? "},null,{"$f":"_xlfn.IFS(_xlfn.XLOOKUP(B301,FORM2.4!$B$10:$B$183,FORM2.4!$F$10:$F$183)='TABELAS AUXILIARES'!$E$7,\"Resposta Não Preenchida\",_xlfn.XLOOKUP(B301,FORM2.4!$B$10:$B$183,FORM2.4!$F$10:$F$183)='TABELAS AUXILIARES'!$E$8,\"Implementada\",_xlfn.XLOOKUP(B301,FORM2.4!$B$10:$B$183,FORM2.4!$F$10:$F$183)='TABELAS AUXILIARES'!$E$9,\"Não Implementada\",_xlfn.XLOOKUP(B301,FORM2.4!$B$10:$B$183,FORM2.4!$F$10:$F$183)='TABELAS AUXILIARES'!$E$10,\"Não Implementada\",_xlfn.XLOOKUP(B301,FORM2.4!$B$10:$B$183,FORM2.4!$F$10:$F$183)='TABELAS AUXILIARES'!$E$11,\"Não Implementada\",_xlfn.XLOOKUP(B301,FORM2.4!$B$10:$B$183,FORM2.4!$F$10:$F$183)='TABELAS AUXILIARES'!$E$12,\"Não Adota\",_xlfn.XLOOKUP(B301,FORM2.4!$B$10:$B$183,FORM2.4!$F$10:$F$183)='TABELAS AUXILIARES'!$E$13,\"Não se aplica\")","v":"Resposta Não Preenchida"}]
[null,"19.5",{"$f":"FORM2.4!E14","v":"O órgão mapeia o escopo (abrangência ou área geográfica) dos tratamentos de dados pessoais?"},null,{"$f":"_xlfn.IFS(_xlfn.XLOOKUP(B302,FORM2.4!$B$10:$B$183,FORM2.4!$F$10:$F$183)='TABELAS AUXILIARES'!$E$7,\"Resposta Não Preenchida\",_xlfn.XLOOKUP(B302,FORM2.4!$B$10:$B$183,FORM2.4!$F$10:$F$183)='TABELAS AUXILIARES'!$E$8,\"Implementada\",_xlfn.XLOOKUP(B302,FORM2.4!$B$10:$B$183,FORM2.4!$F$10:$F$183)='TABELAS AUXILIARES'!$E$9,\"Não Implementada\",_xlfn.XLOOKUP(B302,FORM2.4!$B$10:$B$183,FORM2.4!$F$10:$F$183)='TABELAS AUXILIARES'!$E$10,\"Não Implementada\",_xlfn.XLOOKUP(B302,FORM2.4!$B$10:$B$183,FORM2.4!$F$10:$F$183)='TABELAS AUXILIARES'!$E$11,\"Não Implementada\",_xlfn.XLOOKUP(B302,FORM2.4!$B$10:$B$183,FORM2.4!$F$10:$F$183)='TABELAS AUXILIARES'!$E$12,\"Não Adota\",_xlfn.XLOOKUP(B302,FORM2.4!$B$10:$B$183,FORM2.4!$F$10:$F$183)='TABELAS AUXILIARES'!$E$13,\"Não se aplica\")","v":"Resposta Não Preenchida"}]
[null,"19.6",{"$f":"FORM2.4!E15","v":"O órgão documenta a natureza (fonte) dos dados pessoais tratados?"},null,{"$f":"_xlfn.IFS(_xlfn.XLOOKUP(B303,FORM2.4!$B$10:$B$183,FORM2.4!$F$10:$F$183)='TABELAS AUXILIARES'!$E$7,\"Resposta Não Preenchida\",_xlfn.XLOOKUP(B303,FORM2.4!$B$10:$B$183,FORM2.4!$F$10:$F$183)='TABELAS AUXILIARES'!$E$8,\"Implementada\",_xlfn.XLOOKUP(B303,FORM2.4!$B$10:$B$183,FORM2.4!$F$10:$F$183)='TABELAS AUXILIARES'!$E$9,\"Não Implementada\",_xlfn.XLOOKUP(B303,FORM2.4!$B$10:$B$183,FORM2.4!$F$10:$F$183)='TABELAS AUXILIARES'!$E$10,\"Não Implementada\",_xlfn.XLOOKUP(B303,FORM2.4!$B$10:$B$183,FORM2.4!$F$10:$F$183)='TABELAS AUXILIARES'!$E$11,\"Não Implementada\",_xlfn.XLOOKUP(B303,FORM2.4!$B$10:$B$183,FORM2.4!$F$10:$F$183)='TABELAS AUXILIARES'!$E$12,\"Não Adota\",_xlfn.XLOOKUP(B303,FORM2.4!$B$10:$B$183,FORM2.4!$F$10:$F$183)='TABELAS AUXILIARES'!$E$13,\"Não se aplica\")","v":"Resposta Não Preenchida"}]
[null,"19.7",{"$f":"FORM2.4!E16","v":"A organização registra as bases legais que fundamentam as atividades de tratamento de dados pessoais e dados pessoais sensíveis?"},null,{"$f":"_xlfn.IFS(_xlfn.XLOOKUP(B304,FORM2.4!$B$10:$B$183,FORM2.4!$F$10:$F$183)='TABELAS AUXILIARES'!$E$7,\"Resposta Não Preenchida\",_xlfn.XLOOKUP(B304,FORM2.4!$B$10:$B$183,FORM2.4!$F$10:$F$183)='TABELAS AUXILIARES'!$E$8,\"Implementada\",_xlfn.XLOOKUP(B304,FORM2.4!$B$10:$B$183,FORM2.4!$F$10:$F$183)='TABELAS AUXILIARES'!$E$9,\"Não Implementada\",_xlfn.XLOOKUP(B304,FORM2.4!$B$10:$B$183,FORM2.4!$F$10:$F$183)='TABELAS AUXILIARES'!$E$10,\"Não Implementada\",_xlfn.XLOOKUP(B304,FORM2.4!$B$10:$B$183,FORM2.4!$F$10:$F$183)='TABELAS AUXILIARES'!$E$11,\"Não Implementada\",_xlfn.XLOOKUP(B304,FORM2.4!$B$10:$B$183,FORM2.4!$F$10:$F$183)='TABELAS AUXILIARES'!$E$12,\"Não Adota\",_xlfn.XLOOKUP(B304,FORM2.4!$B$10:$B$183,FORM2.4!$F$10:$F$183)='TABELAS AUXILIARES'!$E$13,\"Não se aplica\")","v":"Resposta Não Preenchida"}]
[null,"19.8",{"$f":"FORM2.4!E17","v":"O órgão inventaria as categorias dos dados pessoais e dados pessoais sensíveis objetos dos tratamentos realizados?"},null,{"$f":"_xlfn.IFS(_xlfn.XLOOKUP(B305,FORM2.4!$B$10:$B$183,FORM2.4!$F$10:$F$183)='TABELAS AUXILIARES'!$E$7,\"Resposta Não Preenchida\",_xlfn.XLOOKUP(B305,FORM2.4!$B$10:$B$183,FORM2.4!$F$10:$F$183)='TABELAS AUXILIARES'!$E$8,\"Implementada\",_xlfn.XLOOKUP(B305,FORM2.4!$B$10:$B$183,FORM2.4!$F$10:$F$183)='TABELAS AUXILIARES'!$E$9,\"Não Implementada\",_xlfn.XLOOKUP(B305,FORM2.4!$B$10:$B$183,FORM2.4!$F$10:$F$183)='TABELAS AUXILIARES'!$E$10,\"Não Implementada\",_xlfn.XLOOKUP(B305,FORM2.4!$B$10:$B$183,FORM2.4!$F$10:$F$183)='TABELAS AUXILIARES'!$E$11,\"Não Implementada\",_xlfn.XLOOKUP(B305,FORM2.4!$B$10:$B$183,FORM2.4!$F$10:$F$183)='TABELAS AUXILIARES'!$E$12,\"Não Adota\",_xlfn.XLOOKUP(B305,FORM2.4!$B$10:$B$183,FORM2.4!$F$10:$F$183)='TABELAS AUXILIARES'!$E$13,\"Não se aplica\")","v":"Resposta Não Preenchida"}]
[null,"19.9",{"$f":"FORM2.4!E18","v":"O órgão registra o tempo de retenção de dados pessoais tratados conforme a finalidade de cada processamento?"},null,{"$f":"_xlfn.IFS(_xlfn.XLOOKUP(B306,FORM2.4!$B$10:$B$183,FORM2.4!$F$10:$F$183)='TABELAS AUXILIARES'!$E$7,\"Resposta Não Preenchida\",_xlfn.XLOOKUP(B306,FORM2.4!$B$10:$B$183,FORM2.4!$F$10:$F$183)='TABELAS AUXILIARES'!$E$8,\"Implementada\",_xlfn.XLOOKUP(B306,FORM2.4!$B$10:$B$183,FORM2.4!$F$10:$F$183)='TABELAS AUXILIARES'!$E$9,\"Não Implementada\",_xlfn.XLOOKUP(B306,FORM2.4!$B$10:$B$183,FORM2.4!$F$10:$F$183)='TABELAS AUXILIARES'!$E$10,\"Não Implementada\",_xlfn.XLOOKUP(B306,FORM2.4!$B$10:$B$183,FORM2.4!$F$10:$F$183)='TABELAS AUXILIARES'!$E$11,\"Não Implementada\",_xlfn.XLOOKUP(B306,FORM2.4!$B$10:$B$183,FORM2.4!$F$10:$F$183)='TABELAS AUXILIARES'!$E$12,\"Não Adota\",_xlfn.XLOOKUP(B306,FORM2.4!$B$10:$B$183,FORM2.4!$F$10:$F$183)='TABELAS AUXILIARES'!$E$13,\"Não se aplica\")","v":"Resposta Não Preenchida"}]
[null,"19.10",{"$f":"FORM2.4!E19","v":"O órgão inventaria as categorias dos titulares de dados pessoais utilizados no tratamento?"},null,{"$f":"_xlfn.IFS(_xlfn.XLOOKUP(B307,FORM2.4!$B$10:$B$183,FORM2.4!$F$10:$F$183)='TABELAS AUXILIARES'!$E$7,\"Resposta Não Preenchida\",_xlfn.XLOOKUP(B307,FORM2.4!$B$10:$B$183,FORM2.4!$F$10:$F$183)='TABELAS AUXILIARES'!$E$8,\"Implementada\",_xlfn.XLOOKUP(B307,FORM2.4!$B$10:$B$183,FORM2.4!$F$10:$F$183)='TABELAS AUXILIARES'!$E$9,\"Não Implementada\",_xlfn.XLOOKUP(B307,FORM2.4!$B$10:$B$183,FORM2.4!$F$10:$F$183)='TABELAS AUXILIARES'!$E$10,\"Não Implementada\",_xlfn.XLOOKUP(B307,FORM2.4!$B$10:$B$183,FORM2.4!$F$10:$F$183)='TABELAS AUXILIARES'!$E$11,\"Não Implementada\",_xlfn.XLOOKUP(B307,FORM2.4!$B$10:$B$183,FORM2.4!$F$10:$F$183)='TABELAS AUXILIARES'!$E$12,\"Não Adota\",_xlfn.XLOOKUP(B307,FORM2.4!$B$10:$B$183,FORM2.4!$F$10:$F$183)='TABELAS AUXILIARES'!$E$13,\"Não se aplica\")","v":"Resposta Não Preenchida"}]
[null,"19.11",{"$f":"FORM2.4!E20","v":"O órgão registra os compartilhamentos de dados pessoais realizados com operadores terceiros e outras instituições conforme Art. 26 e 27 da LGPD, incluindo quais dados pessoais foram divulgados, a quem e com que finalidade?"},null,{"$f":"_xlfn.IFS(_xlfn.XLOOKUP(B308,FORM2.4!$B$10:$B$183,FORM2.4!$F$10:$F$183)='TABELAS AUXILIARES'!$E$7,\"Resposta Não Preenchida\",_xlfn.XLOOKUP(B308,FORM2.4!$B$10:$B$183,FORM2.4!$F$10:$F$183)='TABELAS AUXILIARES'!$E$8,\"Implementada\",_xlfn.XLOOKUP(B308,FORM2.4!$B$10:$B$183,FORM2.4!$F$10:$F$183)='TABELAS AUXILIARES'!$E$9,\"Não Implementada\",_xlfn.XLOOKUP(B308,FORM2.4!$B$10:$B$183,FORM2.4!$F$10:$F$183)='TABELAS AUXILIARES'!$E$10,\"Não Implementada\",_xlfn.XLOOKUP(B308,FORM2.4!$B$10:$B$183,FORM2.4!$F$10:$F$183)='TABELAS AUXILIARES'!$E$11,\"Não Implementada\",_xlfn.XLOOKUP(B308,FORM2.4!$B$10:$B$183,FORM2.4!$F$10:$F$183)='TABELAS AUXILIARES'!$E$12,\"Não Adota\",_xlfn.XLOOKUP(B308,FORM2.4!$B$10:$B$183,FORM2.4!$F$10:$F$183)='TABELAS AUXILIARES'!$E$13,\"Não se aplica\")","v":"Resposta Não Preenchida"}]
[null,"19.12",{"$f":"FORM2.4!E21","v":"O órgão mapeia os ambientes (ex: interno, nuvem, terceiros, etc) em que os dados pessoais objetos dos tratamentos são processados?"},null,{"$f":"_xlfn.IFS(_xlfn.XLOOKUP(B309,FORM2.4!$B$10:$B$183,FORM2.4!$F$10:$F$183)='TABELAS AUXILIARES'!$E$7,\"Resposta Não Preenchida\",_xlfn.XLOOKUP(B309,FORM2.4!$B$10:$B$183,FORM2.4!$F$10:$F$183)='TABELAS AUXILIARES'!$E$8,\"Implementada\",_xlfn.XLOOKUP(B309,FORM2.4!$B$10:$B$183,FORM2.4!$F$10:$F$183)='TABELAS AUXILIARES'!$E$9,\"Não Implementada\",_xlfn.XLOOKUP(B309,FORM2.4!$B$10:$B$183,FORM2.4!$F$10:$F$183)='TABELAS AUXILIARES'!$E$10,\"Não Implementada\",_xlfn.XLOOKUP(B309,FORM2.4!$B$10:$B$183,FORM2.4!$F$10:$F$183)='TABELAS AUXILIARES'!$E$11,\"Não Implementada\",_xlfn.XLOOKUP(B309,FORM2.4!$B$10:$B$183,FORM2.4!$F$10:$F$183)='TABELAS AUXILIARES'!$E$12,\"Não Adota\",_xlfn.XLOOKUP(B309,FORM2.4!$B$10:$B$183,FORM2.4!$F$10:$F$183)='TABELAS AUXILIARES'!$E$13,\"Não se aplica\")","v":"Resposta Não Preenchida"}]
[null,"19.13",{"$f":"FORM2.4!E22","v":"O órgão registra as transferências internacionais de dados pessoais realizadas conforme o Capítulo V da LGPD, incluindo quais dados pessoais foram divulgados e a quem?"},null,{"$f":"_xlfn.IFS(_xlfn.XLOOKUP(B310,FORM2.4!$B$10:$B$183,FORM2.4!$F$10:$F$183)='TABELAS AUXILIARES'!$E$7,\"Resposta Não Preenchida\",_xlfn.XLOOKUP(B310,FORM2.4!$B$10:$B$183,FORM2.4!$F$10:$F$183)='TABELAS AUXILIARES'!$E$8,\"Implementada\",_xlfn.XLOOKUP(B310,FORM2.4!$B$10:$B$183,FORM2.4!$F$10:$F$183)='TABELAS AUXILIARES'!$E$9,\"Não Implementada\",_xlfn.XLOOKUP(B310,FORM2.4!$B$10:$B$183,FORM2.4!$F$10:$F$183)='TABELAS AUXILIARES'!$E$10,\"Não Implementada\",_xlfn.XLOOKUP(B310,FORM2.4!$B$10:$B$183,FORM2.4!$F$10:$F$183)='TABELAS AUXILIARES'!$E$11,\"Não Implementada\",_xlfn.XLOOKUP(B310,FORM2.4!$B$10:$B$183,FORM2.4!$F$10:$F$183)='TABELAS AUXILIARES'!$E$12,\"Não Adota\",_xlfn.XLOOKUP(B310,FORM2.4!$B$10:$B$183,FORM2.4!$F$10:$F$183)='TABELAS AUXILIARES'!$E$13,\"Não se aplica\")","v":"Resposta Não Preenchida"}]
[null,"19.14",{"$f":"FORM2.4!E23","v":"O órgão mapeia os contratos estabelecidos/firmados com terceiros operadores responsáveis pelos tratamentos de dados pessoais?"},null,{"$f":"_xlfn.IFS(_xlfn.XLOOKUP(B311,FORM2.4!$B$10:$B$183,FORM2.4!$F$10:$F$183)='TABELAS AUXILIARES'!$E$7,\"Resposta Não Preenchida\",_xlfn.XLOOKUP(B311,FORM2.4!$B$10:$B$183,FORM2.4!$F$10:$F$183)='TABELAS AUXILIARES'!$E$8,\"Implementada\",_xlfn.XLOOKUP(B311,FORM2.4!$B$10:$B$183,FORM2.4!$F$10:$F$183)='TABELAS AUXILIARES'!$E$9,\"Não Implementada\",_xlfn.XLOOKUP(B311,FORM2.4!$B$10:$B$183,FORM2.4!$F$10:$F$183)='TABELAS AUXILIARES'!$E$10,\"Não Implementada\",_xlfn.XLOOKUP(B311,FORM2.4!$B$10:$B$183,FORM2.4!$F$10:$F$183)='TABELAS AUXILIARES'!$E$11,\"Não Implementada\",_xlfn.XLOOKUP(B311,FORM2.4!$B$10:$B$183,FORM2.4!$F$10:$F$183)='TABELAS AUXILIARES'!$E$12,\"Não Adota\",_xlfn.XLOOKUP(B311,FORM2.4!$B$10:$B$183,FORM2.4!$F$10:$F$183)='TABELAS AUXILIARES'!$E$13,\"Não se aplica\")","v":"Resposta Não Preenchida"}]
[]
[null,20,"PRIVACIDADE CONTROLE 20: FINALIDADE E LEGITIMIDADE"]
[null,{"$f":"FORM2.4!I24","v":"Controle Não Foi Respondido"}]
[null,null,"MEDIDAS DE PRIVACIDADE"]
[null,"Nível de Capacidade do Controle"]
[null,"ID","Medida",null,"Resposta"]
[null,"20.1",{"$f":"FORM2.4!E25","v":"O órgão identifica as finalidades específicas antes da realização dos tratamentos de dados pessoais?"},null,{"$f":"_xlfn.IFS(_xlfn.XLOOKUP(B318,FORM2.4!$B$10:$B$183,FORM2.4!$F$10:$F$183)='TABELAS AUXILIARES'!$E$7,\"Resposta Não Preenchida\",_xlfn.XLOOKUP(B318,FORM2.4!$B$10:$B$183,FORM2.4!$F$10:$F$183)='TABELAS AUXILIARES'!$E$8,\"Implementada\",_xlfn.XLOOKUP(B318,FORM2.4!$B$10:$B$183,FORM2.4!$F$10:$F$183)='TABELAS AUXILIARES'!$E$9,\"Não Implementada\",_xlfn.XLOOKUP(B318,FORM2.4!$B$10:$B$183,FORM2.4!$F$10:$F$183)='TABELAS AUXILIARES'!$E$10,\"Não Implementada\",_xlfn.XLOOKUP(B318,FORM2.4!$B$10:$B$183,FORM2.4!$F$10:$F$183)='TABELAS AUXILIARES'!$E$11,\"Não Implementada\",_xlfn.XLOOKUP(B318,FORM2.4!$B$10:$B$183,FORM2.4!$F$10:$F$183)='TABELAS AUXILIARES'!$E$12,\"Não Adota\",_xlfn.XLOOKUP(B318,FORM2.4!$B$10:$B$183,FORM2.4!$F$10:$F$183)='TABELAS AUXILIARES'!$E$13,\"Não se aplica\")","v":"Resposta Não Preenchida"}]
[null,"20.2",{"$f":"FORM2.4!E26","v":"O órgão identifica as hipóteses de tratamento antes da realização dos processamentos de dados pessoais?"},null,{"$f":"_xlfn.IFS(_xlfn.XLOOKUP(B319,FORM2.4!$B$10:$B$183,FORM2.4!$F$10:$F$183)='TABELAS AUXILIARES'!$E$7,\"Resposta Não Preenchida\",_xlfn.XLOOKUP(B319,FORM2.4!$B$10:$B$183,FORM2.4!$F$10:$F$183)='TABELAS AUXILIARES'!$E$8,\"Implementada\",_xlfn.XLOOKUP(B319,FORM2.4!$B$10:$B$183,FORM2.4!$F$10:$F$183)='TABELAS AUXILIARES'!$E$9,\"Não Implementada\",_xlfn.XLOOKUP(B319,FORM2.4!$B$10:$B$183,FORM2.4!$F$10:$F$183)='TABELAS AUXILIARES'!$E$10,\"Não Implementada\",_xlfn.XLOOKUP(B319,FORM2.4!$B$10:$B$183,FORM2.4!$F$10:$F$183)='TABELAS AUXILIARES'!$E$11,\"Não Implementada\",_xlfn.XLOOKUP(B319,FORM2.4!$B$10:$B$183,FORM2.4!$F$10:$F$183)='TABELAS AUXILIARES'!$E$12,\"Não Adota\",_xlfn.XLOOKUP(B319,FORM2.4!$B$10:$B$183,FORM2.4!$F$10:$F$183)='TABELAS AUXILIARES'!$E$13,\"Não se aplica\")","v":"Resposta Não Preenchida"}]
[null,"20.3",{"$f":"FORM2.4!E27","v":"A organização identifica as bases legais que fundamentam as atividades de tratamento de dados pessoais e dados pessoais sensíveis antes da realização do tratamento?"},null,{"$f":"_xlfn.IFS(_xlfn.XLOOKUP(B320,FORM2.4!$B$10:$B$183,FORM2.4!$F$10:$F$183)='TABELAS AUXILIARES'!$E$7,\"Resposta Não Preenchida\",_xlfn.XLOOKUP(B320,FORM2.4!$B$10:$B$183,FORM2.4!$F$10:$F$183)='TABELAS AUXILIARES'!$E$8,\"Implementada\",_xlfn.XLOOKUP(B320,FORM2.4!$B$10:$B$183,FORM2.4!$F$10:$F$183)='TABELAS AUXILIARES'!$E$9,\"Não Implementada\",_xlfn.XLOOKUP(B320,FORM2.4!$B$10:$B$183,FORM2.4!$F$10:$F$183)='TABELAS AUXILIARES'!$E$10,\"Não Implementada\",_xlfn.XLOOKUP(B320,FORM2.4!$B$10:$B$183,FORM2.4!$F$10:$F$183)='TABELAS AUXILIARES'!$E$11,\"Não Implementada\",_xlfn.XLOOKUP(B320,FORM2.4!$B$10:$B$183,FORM2.4!$F$10:$F$183)='TABELAS AUXILIARES'!$E$12,\"Não Adota\",_xlfn.XLOOKUP(B320,FORM2.4!$B$10:$B$183,FORM2.4!$F$10:$F$183)='TABELAS AUXILIARES'!$E$13,\"Não se aplica\")","v":"Resposta Não Preenchida"}]
[null,"20.4",{"$f":"FORM2.4!E28","v":"O órgão prioritariamente realiza tratamento de dados pessoais apenas para o atendimento de finalidade específica, na persecução do interesse público, com o objetivo de executar as competências legais ou cumprir as atribuições legais do serviço público?"},null,{"$f":"_xlfn.IFS(_xlfn.XLOOKUP(B321,FORM2.4!$B$10:$B$183,FORM2.4!$F$10:$F$183)='TABELAS AUXILIARES'!$E$7,\"Resposta Não Preenchida\",_xlfn.XLOOKUP(B321,FORM2.4!$B$10:$B$183,FORM2.4!$F$10:$F$183)='TABELAS AUXILIARES'!$E$8,\"Implementada\",_xlfn.XLOOKUP(B321,FORM2.4!$B$10:$B$183,FORM2.4!$F$10:$F$183)='TABELAS AUXILIARES'!$E$9,\"Não Implementada\",_xlfn.XLOOKUP(B321,FORM2.4!$B$10:$B$183,FORM2.4!$F$10:$F$183)='TABELAS AUXILIARES'!$E$10,\"Não Implementada\",_xlfn.XLOOKUP(B321,FORM2.4!$B$10:$B$183,FORM2.4!$F$10:$F$183)='TABELAS AUXILIARES'!$E$11,\"Não Implementada\",_xlfn.XLOOKUP(B321,FORM2.4!$B$10:$B$183,FORM2.4!$F$10:$F$183)='TABELAS AUXILIARES'!$E$12,\"Não Adota\",_xlfn.XLOOKUP(B321,FORM2.4!$B$10:$B$183,FORM2.4!$F$10:$F$183)='TABELAS AUXILIARES'!$E$13,\"Não se aplica\")","v":"Resposta Não Preenchida"}]
[null,"20.5",{"$f":"FORM2.4!E29","v":"O órgão trata dados pessoais sensíveis para executar políticas públicas previstas apenas em leis e regulamentos?"},null,{"$f":"_xlfn.IFS(_xlfn.XLOOKUP(B322,FORM2.4!$B$10:$B$183,FORM2.4!$F$10:$F$183)='TABELAS AUXILIARES'!$E$7,\"Resposta Não Preenchida\",_xlfn.XLOOKUP(B322,FORM2.4!$B$10:$B$183,FORM2.4!$F$10:$F$183)='TABELAS AUXILIARES'!$E$8,\"Implementada\",_xlfn.XLOOKUP(B322,FORM2.4!$B$10:$B$183,FORM2.4!$F$10:$F$183)='TABELAS AUXILIARES'!$E$9,\"Não Implementada\",_xlfn.XLOOKUP(B322,FORM2.4!$B$10:$B$183,FORM2.4!$F$10:$F$183)='TABELAS AUXILIARES'!$E$10,\"Não Implementada\",_xlfn.XLOOKUP(B322,FORM2.4!$B$10:$B$183,FORM2.4!$F$10:$F$183)='TABELAS AUXILIARES'!$E$11,\"Não Implementada\",_xlfn.XLOOKUP(B322,FORM2.4!$B$10:$B$183,FORM2.4!$F$10:$F$183)='TABELAS AUXILIARES'!$E$12,\"Não Adota\",_xlfn.XLOOKUP(B322,FORM2.4!$B$10:$B$183,FORM2.4!$F$10:$F$183)='TABELAS AUXILIARES'!$E$13,\"Não se aplica\")","v":"Resposta Não Preenchida"}]
[null,"20.6",{"$f":"FORM2.4!E30","v":"O órgão ao realizar tratamento de dados pessoais sensíveis baseado na hipótese de tutela da saúde, restringe o tratamento exclusivamente a profissionais de saúde, serviços de saúde ou autoridade sanitária?"},null,{"$f":"_xlfn.IFS(_xlfn.XLOOKUP(B323,FORM2.4!$B$10:$B$183,FORM2.4!$F$10:$F$183)='TABELAS AUXILIARES'!$E$7,\"Resposta Não Preenchida\",_xlfn.XLOOKUP(B323,FORM2.4!$B$10:$B$183,FORM2.4!$F$10:$F$183)='TABELAS AUXILIARES'!$E$8,\"Implementada\",_xlfn.XLOOKUP(B323,FORM2.4!$B$10:$B$183,FORM2.4!$F$10:$F$183)='TABELAS AUXILIARES'!$E$9,\"Não Implementada\",_xlfn.XLOOKUP(B323,FORM2.4!$B$10:$B$183,FORM2.4!$F$10:$F$183)='TABELAS AUXILIARES'!$E$10,\"Não Implementada\",_xlfn.XLOOKUP(B323,FORM2.4!$B$10:$B$183,FORM2.4!$F$10:$F$183)='TABELAS AUXILIARES'!$E$11,\"Não Implementada\",_xlfn.XLOOKUP(B323,FORM2.4!$B$10:$B$183,FORM2.4!$F$10:$F$183)='TABELAS AUXILIARES'!$E$12,\"Não Adota\",_xlfn.XLOOKUP(B323,FORM2.4!$B$10:$B$183,FORM2.4!$F$10:$F$183)='TABELAS AUXILIARES'!$E$13,\"Não se aplica\")","v":"Resposta Não Preenchida"}]
[null,"20.7",{"$f":"FORM2.4!E31","v":"O órgão adota mecanismos para assegurar que a divulgação dos resultados ou de qualquer excerto do estudo ou da pesquisa, em nenhuma hipótese, revele dados pessoais?"},null,{"$f":"_xlfn.IFS(_xlfn.XLOOKUP(B324,FORM2.4!$B$10:$B$183,FORM2.4!$F$10:$F$183)='TABELAS AUXILIARES'!$E$7,\"Resposta Não Preenchida\",_xlfn.XLOOKUP(B324,FORM2.4!$B$10:$B$183,FORM2.4!$F$10:$F$183)='TABELAS AUXILIARES'!$E$8,\"Implementada\",_xlfn.XLOOKUP(B324,FORM2.4!$B$10:$B$183,FORM2.4!$F$10:$F$183)='TABELAS AUXILIARES'!$E$9,\"Não Implementada\",_xlfn.XLOOKUP(B324,FORM2.4!$B$10:$B$183,FORM2.4!$F$10:$F$183)='TABELAS AUXILIARES'!$E$10,\"Não Implementada\",_xlfn.XLOOKUP(B324,FORM2.4!$B$10:$B$183,FORM2.4!$F$10:$F$183)='TABELAS AUXILIARES'!$E$11,\"Não Implementada\",_xlfn.XLOOKUP(B324,FORM2.4!$B$10:$B$183,FORM2.4!$F$10:$F$183)='TABELAS AUXILIARES'!$E$12,\"Não Adota\",_xlfn.XLOOKUP(B324,FORM2.4!$B$10:$B$183,FORM2.4!$F$10:$F$183)='TABELAS AUXILIARES'!$E$13,\"Não se aplica\")","v":"Resposta Não Preenchida"}]
[null,"20.8",{"$f":"FORM2.4!E32","v":"O órgão, ao realizar estudos em saúde pública, trata os dados pessoais exclusivamente dentro da instituição, mantidos em ambiente controlado e seguro, conforme práticas de segurança previstas em regulamento específico, e estritamente para a finalidade de realização de estudos e pesquisas?"},null,{"$f":"_xlfn.IFS(_xlfn.XLOOKUP(B325,FORM2.4!$B$10:$B$183,FORM2.4!$F$10:$F$183)='TABELAS AUXILIARES'!$E$7,\"Resposta Não Preenchida\",_xlfn.XLOOKUP(B325,FORM2.4!$B$10:$B$183,FORM2.4!$F$10:$F$183)='TABELAS AUXILIARES'!$E$8,\"Implementada\",_xlfn.XLOOKUP(B325,FORM2.4!$B$10:$B$183,FORM2.4!$F$10:$F$183)='TABELAS AUXILIARES'!$E$9,\"Não Implementada\",_xlfn.XLOOKUP(B325,FORM2.4!$B$10:$B$183,FORM2.4!$F$10:$F$183)='TABELAS AUXILIARES'!$E$10,\"Não Implementada\",_xlfn.XLOOKUP(B325,FORM2.4!$B$10:$B$183,FORM2.4!$F$10:$F$183)='TABELAS AUXILIARES'!$E$11,\"Não Implementada\",_xlfn.XLOOKUP(B325,FORM2.4!$B$10:$B$183,FORM2.4!$F$10:$F$183)='TABELAS AUXILIARES'!$E$12,\"Não Adota\",_xlfn.XLOOKUP(B325,FORM2.4!$B$10:$B$183,FORM2.4!$F$10:$F$183)='TABELAS AUXILIARES'!$E$13,\"Não se aplica\")","v":"Resposta Não Preenchida"}]
[null,"20.9",{"$f":"FORM2.4!E33","v":"O órgão mantém processo contínuo de gerenciamento das hipóteses legais de tratamento, incluindo o desenvolvimento de capacidades para cumprimento de obrigações decorrentes da definição da hipótese legal de tratamento, tais como: gerenciamento do consentimento, elaboração de Avaliação de Legitimo Interesse, etc?"},null,{"$f":"_xlfn.IFS(_xlfn.XLOOKUP(B326,FORM2.4!$B$10:$B$183,FORM2.4!$F$10:$F$183)='TABELAS AUXILIARES'!$E$7,\"Resposta Não Preenchida\",_xlfn.XLOOKUP(B326,FORM2.4!$B$10:$B$183,FORM2.4!$F$10:$F$183)='TABELAS AUXILIARES'!$E$8,\"Implementada\",_xlfn.XLOOKUP(B326,FORM2.4!$B$10:$B$183,FORM2.4!$F$10:$F$183)='TABELAS AUXILIARES'!$E$9,\"Não Implementada\",_xlfn.XLOOKUP(B326,FORM2.4!$B$10:$B$183,FORM2.4!$F$10:$F$183)='TABELAS AUXILIARES'!$E$10,\"Não Implementada\",_xlfn.XLOOKUP(B326,FORM2.4!$B$10:$B$183,FORM2.4!$F$10:$F$183)='TABELAS AUXILIARES'!$E$11,\"Não Implementada\",_xlfn.XLOOKUP(B326,FORM2.4!$B$10:$B$183,FORM2.4!$F$10:$F$183)='TABELAS AUXILIARES'!$E$12,\"Não Adota\",_xlfn.XLOOKUP(B326,FORM2.4!$B$10:$B$183,FORM2.4!$F$10:$F$183)='TABELAS AUXILIARES'!$E$13,\"Não se aplica\")","v":"Resposta Não Preenchida"}]
[null,"20.10",{"$f":"FORM2.4!E34","v":"O órgão, ao realizar compartilhamento de dados pessoais, adota medidas que assegurem a compatibilidade do propósito geral da finalidade original informada ao titular?"},null,{"$f":"_xlfn.IFS(_xlfn.XLOOKUP(B327,FORM2.4!$B$10:$B$183,FORM2.4!$F$10:$F$183)='TABELAS AUXILIARES'!$E$7,\"Resposta Não Preenchida\",_xlfn.XLOOKUP(B327,FORM2.4!$B$10:$B$183,FORM2.4!$F$10:$F$183)='TABELAS AUXILIARES'!$E$8,\"Implementada\",_xlfn.XLOOKUP(B327,FORM2.4!$B$10:$B$183,FORM2.4!$F$10:$F$183)='TABELAS AUXILIARES'!$E$9,\"Não Implementada\",_xlfn.XLOOKUP(B327,FORM2.4!$B$10:$B$183,FORM2.4!$F$10:$F$183)='TABELAS AUXILIARES'!$E$10,\"Não Implementada\",_xlfn.XLOOKUP(B327,FORM2.4!$B$10:$B$183,FORM2.4!$F$10:$F$183)='TABELAS AUXILIARES'!$E$11,\"Não Implementada\",_xlfn.XLOOKUP(B327,FORM2.4!$B$10:$B$183,FORM2.4!$F$10:$F$183)='TABELAS AUXILIARES'!$E$12,\"Não Adota\",_xlfn.XLOOKUP(B327,FORM2.4!$B$10:$B$183,FORM2.4!$F$10:$F$183)='TABELAS AUXILIARES'!$E$13,\"Não se aplica\")","v":"Resposta Não Preenchida"}]
[null,"20.11",{"$f":"FORM2.4!E35","v":"O órgão ao coletar cookies identifica, no banner de segundo  nível, as hipóteses legais utilizadas, de acordo com cada finalidade/categoria de cookie, utilizando o consentimento como principal hipótese legal, exceção feita aos cookies estritamente necessários, que podem se basear no legítimo interesse ou, se for caso cumprimento de obrigações ou atribuições legais?"},null,{"$f":"_xlfn.IFS(_xlfn.XLOOKUP(B328,FORM2.4!$B$10:$B$183,FORM2.4!$F$10:$F$183)='TABELAS AUXILIARES'!$E$7,\"Resposta Não Preenchida\",_xlfn.XLOOKUP(B328,FORM2.4!$B$10:$B$183,FORM2.4!$F$10:$F$183)='TABELAS AUXILIARES'!$E$8,\"Implementada\",_xlfn.XLOOKUP(B328,FORM2.4!$B$10:$B$183,FORM2.4!$F$10:$F$183)='TABELAS AUXILIARES'!$E$9,\"Não Implementada\",_xlfn.XLOOKUP(B328,FORM2.4!$B$10:$B$183,FORM2.4!$F$10:$F$183)='TABELAS AUXILIARES'!$E$10,\"Não Implementada\",_xlfn.XLOOKUP(B328,FORM2.4!$B$10:$B$183,FORM2.4!$F$10:$F$183)='TABELAS AUXILIARES'!$E$11,\"Não Implementada\",_xlfn.XLOOKUP(B328,FORM2.4!$B$10:$B$183,FORM2.4!$F$10:$F$183)='TABELAS AUXILIARES'!$E$12,\"Não Adota\",_xlfn.XLOOKUP(B328,FORM2.4!$B$10:$B$183,FORM2.4!$F$10:$F$183)='TABELAS AUXILIARES'!$E$13,\"Não se aplica\")","v":"Resposta Não Preenchida"}]
[null,"20.12",{"$f":"FORM2.4!E36","v":"O órgão ao coletar cookies permite, no banner de segundo  nível, a obtenção do consentimento específico de acordo com as categorias identificadas, observados o disposto na LGPD?"},null,{"$f":"_xlfn.IFS(_xlfn.XLOOKUP(B329,FORM2.4!$B$10:$B$183,FORM2.4!$F$10:$F$183)='TABELAS AUXILIARES'!$E$7,\"Resposta Não Preenchida\",_xlfn.XLOOKUP(B329,FORM2.4!$B$10:$B$183,FORM2.4!$F$10:$F$183)='TABELAS AUXILIARES'!$E$8,\"Implementada\",_xlfn.XLOOKUP(B329,FORM2.4!$B$10:$B$183,FORM2.4!$F$10:$F$183)='TABELAS AUXILIARES'!$E$9,\"Não Implementada\",_xlfn.XLOOKUP(B329,FORM2.4!$B$10:$B$183,FORM2.4!$F$10:$F$183)='TABELAS AUXILIARES'!$E$10,\"Não Implementada\",_xlfn.XLOOKUP(B329,FORM2.4!$B$10:$B$183,FORM2.4!$F$10:$F$183)='TABELAS AUXILIARES'!$E$11,\"Não Implementada\",_xlfn.XLOOKUP(B329,FORM2.4!$B$10:$B$183,FORM2.4!$F$10:$F$183)='TABELAS AUXILIARES'!$E$12,\"Não Adota\",_xlfn.XLOOKUP(B329,FORM2.4!$B$10:$B$183,FORM2.4!$F$10:$F$183)='TABELAS AUXILIARES'!$E$13,\"Não se aplica\")","v":"Resposta Não Preenchida"}]
[null,"20.13",{"$f":"FORM2.4!E37","v":"O órgão mantém o fornecimento do serviço quando os titulares de dados pessoais se recusam a fornecer o consentimento para cookies não necessários?"},null,{"$f":"_xlfn.IFS(_xlfn.XLOOKUP(B330,FORM2.4!$B$10:$B$183,FORM2.4!$F$10:$F$183)='TABELAS AUXILIARES'!$E$7,\"Resposta Não Preenchida\",_xlfn.XLOOKUP(B330,FORM2.4!$B$10:$B$183,FORM2.4!$F$10:$F$183)='TABELAS AUXILIARES'!$E$8,\"Implementada\",_xlfn.XLOOKUP(B330,FORM2.4!$B$10:$B$183,FORM2.4!$F$10:$F$183)='TABELAS AUXILIARES'!$E$9,\"Não Implementada\",_xlfn.XLOOKUP(B330,FORM2.4!$B$10:$B$183,FORM2.4!$F$10:$F$183)='TABELAS AUXILIARES'!$E$10,\"Não Implementada\",_xlfn.XLOOKUP(B330,FORM2.4!$B$10:$B$183,FORM2.4!$F$10:$F$183)='TABELAS AUXILIARES'!$E$11,\"Não Implementada\",_xlfn.XLOOKUP(B330,FORM2.4!$B$10:$B$183,FORM2.4!$F$10:$F$183)='TABELAS AUXILIARES'!$E$12,\"Não Adota\",_xlfn.XLOOKUP(B330,FORM2.4!$B$10:$B$183,FORM2.4!$F$10:$F$183)='TABELAS AUXILIARES'!$E$13,\"Não se aplica\")","v":"Resposta Não Preenchida"}]
[null,"20.14",{"$f":"FORM2.4!E38","v":"O tratamento de dados pessoais de crianças e adolescentes é realizado no seu melhor interesse com base em hipótese legal prevista pela LGPD e, no que couber, conforme preconizado pelo art. 14 da LGPD?"},null,{"$f":"_xlfn.IFS(_xlfn.XLOOKUP(B331,FORM2.4!$B$10:$B$183,FORM2.4!$F$10:$F$183)='TABELAS AUXILIARES'!$E$7,\"Resposta Não Preenchida\",_xlfn.XLOOKUP(B331,FORM2.4!$B$10:$B$183,FORM2.4!$F$10:$F$183)='TABELAS AUXILIARES'!$E$8,\"Implementada\",_xlfn.XLOOKUP(B331,FORM2.4!$B$10:$B$183,FORM2.4!$F$10:$F$183)='TABELAS AUXILIARES'!$E$9,\"Não Implementada\",_xlfn.XLOOKUP(B331,FORM2.4!$B$10:$B$183,FORM2.4!$F$10:$F$183)='TABELAS AUXILIARES'!$E$10,\"Não Implementada\",_xlfn.XLOOKUP(B331,FORM2.4!$B$10:$B$183,FORM2.4!$F$10:$F$183)='TABELAS AUXILIARES'!$E$11,\"Não Implementada\",_xlfn.XLOOKUP(B331,FORM2.4!$B$10:$B$183,FORM2.4!$F$10:$F$183)='TABELAS AUXILIARES'!$E$12,\"Não Adota\",_xlfn.XLOOKUP(B331,FORM2.4!$B$10:$B$183,FORM2.4!$F$10:$F$183)='TABELAS AUXILIARES'!$E$13,\"Não se aplica\")","v":"Resposta Não Preenchida"}]
[]
[null,21,"PRIVACIDADE CONTROLE 21: GOVERNANÇA"]
[null,{"$f":"FORM2.4!I39","v":"Controle Não Foi Respondido"}]
[null,null,"MEDIDAS DE PRIVACIDADE"]
[null,"Nível de Capacidade do Controle"]
[null,"ID","Medida",null,"Resposta"]
[null,"21.1",{"$f":"FORM2.4!E40","v":"O órgão adota medidas para adequar seus processos e atividades relacionadas ao tratamento de dados pessoais às legislações/normativos de privacidade e proteção de dados vigentes?"},null,{"$f":"_xlfn.IFS(_xlfn.XLOOKUP(B338,FORM2.4!$B$10:$B$183,FORM2.4!$F$10:$F$183)='TABELAS AUXILIARES'!$E$7,\"Resposta Não Preenchida\",_xlfn.XLOOKUP(B338,FORM2.4!$B$10:$B$183,FORM2.4!$F$10:$F$183)='TABELAS AUXILIARES'!$E$8,\"Implementada\",_xlfn.XLOOKUP(B338,FORM2.4!$B$10:$B$183,FORM2.4!$F$10:$F$183)='TABELAS AUXILIARES'!$E$9,\"Não Implementada\",_xlfn.XLOOKUP(B338,FORM2.4!$B$10:$B$183,FORM2.4!$F$10:$F$183)='TABELAS AUXILIARES'!$E$10,\"Não Implementada\",_xlfn.XLOOKUP(B338,FORM2.4!$B$10:$B$183,FORM2.4!$F$10:$F$183)='TABELAS AUXILIARES'!$E$11,\"Não Implementada\",_xlfn.XLOOKUP(B338,FORM2.4!$B$10:$B$183,FORM2.4!$F$10:$F$183)='TABELAS AUXILIARES'!$E$12,\"Não Adota\",_xlfn.XLOOKUP(B338,FORM2.4!$B$10:$B$183,FORM2.4!$F$10:$F$183)='TABELAS AUXILIARES'!$E$13,\"Não se aplica\")","v":"Resposta Não Preenchida"}]
[null,"21.2",{"$f":"FORM2.4!E41","v":"O órgão já elaborou e divulgou o seu Programa Institucional de Privacidade de Dados, conforme estabelecido no art.50 da LGPD?"},null,{"$f":"_xlfn.IFS(_xlfn.XLOOKUP(B339,FORM2.4!$B$10:$B$183,FORM2.4!$F$10:$F$183)='TABELAS AUXILIARES'!$E$7,\"Resposta Não Preenchida\",_xlfn.XLOOKUP(B339,FORM2.4!$B$10:$B$183,FORM2.4!$F$10:$F$183)='TABELAS AUXILIARES'!$E$8,\"Implementada\",_xlfn.XLOOKUP(B339,FORM2.4!$B$10:$B$183,FORM2.4!$F$10:$F$183)='TABELAS AUXILIARES'!$E$9,\"Não Implementada\",_xlfn.XLOOKUP(B339,FORM2.4!$B$10:$B$183,FORM2.4!$F$10:$F$183)='TABELAS AUXILIARES'!$E$10,\"Não Implementada\",_xlfn.XLOOKUP(B339,FORM2.4!$B$10:$B$183,FORM2.4!$F$10:$F$183)='TABELAS AUXILIARES'!$E$11,\"Não Implementada\",_xlfn.XLOOKUP(B339,FORM2.4!$B$10:$B$183,FORM2.4!$F$10:$F$183)='TABELAS AUXILIARES'!$E$12,\"Não Adota\",_xlfn.XLOOKUP(B339,FORM2.4!$B$10:$B$183,FORM2.4!$F$10:$F$183)='TABELAS AUXILIARES'!$E$13,\"Não se aplica\")","v":"Resposta Não Preenchida"}]
[null,"21.3",{"$f":"FORM2.4!E42","v":"As funções e responsabilidades dos colaboradores envolvidos nos tratamentos de dados pessoais são claramente estabelecidas e comunicadas?"},null,{"$f":"_xlfn.IFS(_xlfn.XLOOKUP(B340,FORM2.4!$B$10:$B$183,FORM2.4!$F$10:$F$183)='TABELAS AUXILIARES'!$E$7,\"Resposta Não Preenchida\",_xlfn.XLOOKUP(B340,FORM2.4!$B$10:$B$183,FORM2.4!$F$10:$F$183)='TABELAS AUXILIARES'!$E$8,\"Implementada\",_xlfn.XLOOKUP(B340,FORM2.4!$B$10:$B$183,FORM2.4!$F$10:$F$183)='TABELAS AUXILIARES'!$E$9,\"Não Implementada\",_xlfn.XLOOKUP(B340,FORM2.4!$B$10:$B$183,FORM2.4!$F$10:$F$183)='TABELAS AUXILIARES'!$E$10,\"Não Implementada\",_xlfn.XLOOKUP(B340,FORM2.4!$B$10:$B$183,FORM2.4!$F$10:$F$183)='TABELAS AUXILIARES'!$E$11,\"Não Implementada\",_xlfn.XLOOKUP(B340,FORM2.4!$B$10:$B$183,FORM2.4!$F$10:$F$183)='TABELAS AUXILIARES'!$E$12,\"Não Adota\",_xlfn.XLOOKUP(B340,FORM2.4!$B$10:$B$183,FORM2.4!$F$10:$F$183)='TABELAS AUXILIARES'!$E$13,\"Não se aplica\")","v":"Resposta Não Preenchida"}]
[null,"21.4",{"$f":"FORM2.4!E43","v":"O órgão disponibiliza para o encarregado os recursos necessários para implementação da LGPD e acesso direto à alta administração?"},null,{"$f":"_xlfn.IFS(_xlfn.XLOOKUP(B341,FORM2.4!$B$10:$B$183,FORM2.4!$F$10:$F$183)='TABELAS AUXILIARES'!$E$7,\"Resposta Não Preenchida\",_xlfn.XLOOKUP(B341,FORM2.4!$B$10:$B$183,FORM2.4!$F$10:$F$183)='TABELAS AUXILIARES'!$E$8,\"Implementada\",_xlfn.XLOOKUP(B341,FORM2.4!$B$10:$B$183,FORM2.4!$F$10:$F$183)='TABELAS AUXILIARES'!$E$9,\"Não Implementada\",_xlfn.XLOOKUP(B341,FORM2.4!$B$10:$B$183,FORM2.4!$F$10:$F$183)='TABELAS AUXILIARES'!$E$10,\"Não Implementada\",_xlfn.XLOOKUP(B341,FORM2.4!$B$10:$B$183,FORM2.4!$F$10:$F$183)='TABELAS AUXILIARES'!$E$11,\"Não Implementada\",_xlfn.XLOOKUP(B341,FORM2.4!$B$10:$B$183,FORM2.4!$F$10:$F$183)='TABELAS AUXILIARES'!$E$12,\"Não Adota\",_xlfn.XLOOKUP(B341,FORM2.4!$B$10:$B$183,FORM2.4!$F$10:$F$183)='TABELAS AUXILIARES'!$E$13,\"Não se aplica\")","v":"Resposta Não Preenchida"}]
[null,"21.5",{"$f":"FORM2.4!E44","v":"O órgão determina as responsabilidades e respectivos papéis para o tratamento de dados pessoais com o(s) controlador(es) conjunto(s) envolvido(s)?"},null,{"$f":"_xlfn.IFS(_xlfn.XLOOKUP(B342,FORM2.4!$B$10:$B$183,FORM2.4!$F$10:$F$183)='TABELAS AUXILIARES'!$E$7,\"Resposta Não Preenchida\",_xlfn.XLOOKUP(B342,FORM2.4!$B$10:$B$183,FORM2.4!$F$10:$F$183)='TABELAS AUXILIARES'!$E$8,\"Implementada\",_xlfn.XLOOKUP(B342,FORM2.4!$B$10:$B$183,FORM2.4!$F$10:$F$183)='TABELAS AUXILIARES'!$E$9,\"Não Implementada\",_xlfn.XLOOKUP(B342,FORM2.4!$B$10:$B$183,FORM2.4!$F$10:$F$183)='TABELAS AUXILIARES'!$E$10,\"Não Implementada\",_xlfn.XLOOKUP(B342,FORM2.4!$B$10:$B$183,FORM2.4!$F$10:$F$183)='TABELAS AUXILIARES'!$E$11,\"Não Implementada\",_xlfn.XLOOKUP(B342,FORM2.4!$B$10:$B$183,FORM2.4!$F$10:$F$183)='TABELAS AUXILIARES'!$E$12,\"Não Adota\",_xlfn.XLOOKUP(B342,FORM2.4!$B$10:$B$183,FORM2.4!$F$10:$F$183)='TABELAS AUXILIARES'!$E$13,\"Não se aplica\")","v":"Resposta Não Preenchida"}]
[null,"21.6",{"$f":"FORM2.4!E45","v":"O órgão divulga a seus colaboradores internos e externos as políticas e procedimentos operacionais relacionados à proteção de dados pessoais?"},null,{"$f":"_xlfn.IFS(_xlfn.XLOOKUP(B343,FORM2.4!$B$10:$B$183,FORM2.4!$F$10:$F$183)='TABELAS AUXILIARES'!$E$7,\"Resposta Não Preenchida\",_xlfn.XLOOKUP(B343,FORM2.4!$B$10:$B$183,FORM2.4!$F$10:$F$183)='TABELAS AUXILIARES'!$E$8,\"Implementada\",_xlfn.XLOOKUP(B343,FORM2.4!$B$10:$B$183,FORM2.4!$F$10:$F$183)='TABELAS AUXILIARES'!$E$9,\"Não Implementada\",_xlfn.XLOOKUP(B343,FORM2.4!$B$10:$B$183,FORM2.4!$F$10:$F$183)='TABELAS AUXILIARES'!$E$10,\"Não Implementada\",_xlfn.XLOOKUP(B343,FORM2.4!$B$10:$B$183,FORM2.4!$F$10:$F$183)='TABELAS AUXILIARES'!$E$11,\"Não Implementada\",_xlfn.XLOOKUP(B343,FORM2.4!$B$10:$B$183,FORM2.4!$F$10:$F$183)='TABELAS AUXILIARES'!$E$12,\"Não Adota\",_xlfn.XLOOKUP(B343,FORM2.4!$B$10:$B$183,FORM2.4!$F$10:$F$183)='TABELAS AUXILIARES'!$E$13,\"Não se aplica\")","v":"Resposta Não Preenchida"}]
[null,"21.7",{"$f":"FORM2.4!E46","v":"Os requisitos legais, regulatórios e contratuais relativos à privacidade são compreendidos e direcionados por meio regras de boas práticas e de governança publicadas pela instituição?"},null,{"$f":"_xlfn.IFS(_xlfn.XLOOKUP(B344,FORM2.4!$B$10:$B$183,FORM2.4!$F$10:$F$183)='TABELAS AUXILIARES'!$E$7,\"Resposta Não Preenchida\",_xlfn.XLOOKUP(B344,FORM2.4!$B$10:$B$183,FORM2.4!$F$10:$F$183)='TABELAS AUXILIARES'!$E$8,\"Implementada\",_xlfn.XLOOKUP(B344,FORM2.4!$B$10:$B$183,FORM2.4!$F$10:$F$183)='TABELAS AUXILIARES'!$E$9,\"Não Implementada\",_xlfn.XLOOKUP(B344,FORM2.4!$B$10:$B$183,FORM2.4!$F$10:$F$183)='TABELAS AUXILIARES'!$E$10,\"Não Implementada\",_xlfn.XLOOKUP(B344,FORM2.4!$B$10:$B$183,FORM2.4!$F$10:$F$183)='TABELAS AUXILIARES'!$E$11,\"Não Implementada\",_xlfn.XLOOKUP(B344,FORM2.4!$B$10:$B$183,FORM2.4!$F$10:$F$183)='TABELAS AUXILIARES'!$E$12,\"Não Adota\",_xlfn.XLOOKUP(B344,FORM2.4!$B$10:$B$183,FORM2.4!$F$10:$F$183)='TABELAS AUXILIARES'!$E$13,\"Não se aplica\")","v":"Resposta Não Preenchida"}]
[null,"21.8",{"$f":"FORM2.4!E47","v":"No âmbito das operações de tratamento de dados pessoais, existe uma tolerância ao risco organizacional definida, claramente expressa e informada às partes interessadas do órgão? "},null,{"$f":"_xlfn.IFS(_xlfn.XLOOKUP(B345,FORM2.4!$B$10:$B$183,FORM2.4!$F$10:$F$183)='TABELAS AUXILIARES'!$E$7,\"Resposta Não Preenchida\",_xlfn.XLOOKUP(B345,FORM2.4!$B$10:$B$183,FORM2.4!$F$10:$F$183)='TABELAS AUXILIARES'!$E$8,\"Implementada\",_xlfn.XLOOKUP(B345,FORM2.4!$B$10:$B$183,FORM2.4!$F$10:$F$183)='TABELAS AUXILIARES'!$E$9,\"Não Implementada\",_xlfn.XLOOKUP(B345,FORM2.4!$B$10:$B$183,FORM2.4!$F$10:$F$183)='TABELAS AUXILIARES'!$E$10,\"Não Implementada\",_xlfn.XLOOKUP(B345,FORM2.4!$B$10:$B$183,FORM2.4!$F$10:$F$183)='TABELAS AUXILIARES'!$E$11,\"Não Implementada\",_xlfn.XLOOKUP(B345,FORM2.4!$B$10:$B$183,FORM2.4!$F$10:$F$183)='TABELAS AUXILIARES'!$E$12,\"Não Adota\",_xlfn.XLOOKUP(B345,FORM2.4!$B$10:$B$183,FORM2.4!$F$10:$F$183)='TABELAS AUXILIARES'!$E$13,\"Não se aplica\")","v":"Resposta Não Preenchida"}]
[null,"21.9",{"$f":"FORM2.4!E48","v":"Foram definidos indicadores que serão utilizados para medir os resultados e desempenho do órgão na implementação do Programa Institucional de Privacidade de Dados?"},null,{"$f":"_xlfn.IFS(_xlfn.XLOOKUP(B346,FORM2.4!$B$10:$B$183,FORM2.4!$F$10:$F$183)='TABELAS AUXILIARES'!$E$7,\"Resposta Não Preenchida\",_xlfn.XLOOKUP(B346,FORM2.4!$B$10:$B$183,FORM2.4!$F$10:$F$183)='TABELAS AUXILIARES'!$E$8,\"Implementada\",_xlfn.XLOOKUP(B346,FORM2.4!$B$10:$B$183,FORM2.4!$F$10:$F$183)='TABELAS AUXILIARES'!$E$9,\"Não Implementada\",_xlfn.XLOOKUP(B346,FORM2.4!$B$10:$B$183,FORM2.4!$F$10:$F$183)='TABELAS AUXILIARES'!$E$10,\"Não Implementada\",_xlfn.XLOOKUP(B346,FORM2.4!$B$10:$B$183,FORM2.4!$F$10:$F$183)='TABELAS AUXILIARES'!$E$11,\"Não Implementada\",_xlfn.XLOOKUP(B346,FORM2.4!$B$10:$B$183,FORM2.4!$F$10:$F$183)='TABELAS AUXILIARES'!$E$12,\"Não Adota\",_xlfn.XLOOKUP(B346,FORM2.4!$B$10:$B$183,FORM2.4!$F$10:$F$183)='TABELAS AUXILIARES'!$E$13,\"Não se aplica\")","v":"Resposta Não Preenchida"}]
[null,"21.10",{"$f":"FORM2.4!E49","v":"O órgão instituiu uma equipe que realiza o monitoramento das vulnerabilidades técnicas dos serviços que tratam dados pessoais?"},null,{"$f":"_xlfn.IFS(_xlfn.XLOOKUP(B347,FORM2.4!$B$10:$B$183,FORM2.4!$F$10:$F$183)='TABELAS AUXILIARES'!$E$7,\"Resposta Não Preenchida\",_xlfn.XLOOKUP(B347,FORM2.4!$B$10:$B$183,FORM2.4!$F$10:$F$183)='TABELAS AUXILIARES'!$E$8,\"Implementada\",_xlfn.XLOOKUP(B347,FORM2.4!$B$10:$B$183,FORM2.4!$F$10:$F$183)='TABELAS AUXILIARES'!$E$9,\"Não Implementada\",_xlfn.XLOOKUP(B347,FORM2.4!$B$10:$B$183,FORM2.4!$F$10:$F$183)='TABELAS AUXILIARES'!$E$10,\"Não Implementada\",_xlfn.XLOOKUP(B347,FORM2.4!$B$10:$B$183,FORM2.4!$F$10:$F$183)='TABELAS AUXILIARES'!$E$11,\"Não Implementada\",_xlfn.XLOOKUP(B347,FORM2.4!$B$10:$B$183,FORM2.4!$F$10:$F$183)='TABELAS AUXILIARES'!$E$12,\"Não Adota\",_xlfn.XLOOKUP(B347,FORM2.4!$B$10:$B$183,FORM2.4!$F$10:$F$183)='TABELAS AUXILIARES'!$E$13,\"Não se aplica\")","v":"Resposta Não Preenchida"}]
[]
[null,22,"PRIVACIDADE CONTROLE 22: POLÍTICAS, PROCESSOS E PROCEDIMENTOS"]
[null,{"$f":"FORM2.4!I50","v":"Controle Não Foi Respondido"}]
[null,null,"MEDIDAS DE PRIVACIDADE"]
[null,"Nível de Capacidade do Controle"]
[null,"ID","Medida",null,"Resposta"]
[null,"22.1",{"$f":"FORM2.4!E51","v":"A organização revisou e adequou a Política de Segurança da Informação ou instrumento similar à LGPD?"},null,{"$f":"_xlfn.IFS(_xlfn.XLOOKUP(B354,FORM2.4!$B$10:$B$183,FORM2.4!$F$10:$F$183)='TABELAS AUXILIARES'!$E$7,\"Resposta Não Preenchida\",_xlfn.XLOOKUP(B354,FORM2.4!$B$10:$B$183,FORM2.4!$F$10:$F$183)='TABELAS AUXILIARES'!$E$8,\"Implementada\",_xlfn.XLOOKUP(B354,FORM2.4!$B$10:$B$183,FORM2.4!$F$10:$F$183)='TABELAS AUXILIARES'!$E$9,\"Não Implementada\",_xlfn.XLOOKUP(B354,FORM2.4!$B$10:$B$183,FORM2.4!$F$10:$F$183)='TABELAS AUXILIARES'!$E$10,\"Não Implementada\",_xlfn.XLOOKUP(B354,FORM2.4!$B$10:$B$183,FORM2.4!$F$10:$F$183)='TABELAS AUXILIARES'!$E$11,\"Não Implementada\",_xlfn.XLOOKUP(B354,FORM2.4!$B$10:$B$183,FORM2.4!$F$10:$F$183)='TABELAS AUXILIARES'!$E$12,\"Não Adota\",_xlfn.XLOOKUP(B354,FORM2.4!$B$10:$B$183,FORM2.4!$F$10:$F$183)='TABELAS AUXILIARES'!$E$13,\"Não se aplica\")","v":"Resposta Não Preenchida"}]
[null,"22.2",{"$f":"FORM2.4!E52","v":"Há uma política vigente ou documento equivalente que dispõe sobre diretrizes de proteção de dados pessoais?"},null,{"$f":"_xlfn.IFS(_xlfn.XLOOKUP(B355,FORM2.4!$B$10:$B$183,FORM2.4!$F$10:$F$183)='TABELAS AUXILIARES'!$E$7,\"Resposta Não Preenchida\",_xlfn.XLOOKUP(B355,FORM2.4!$B$10:$B$183,FORM2.4!$F$10:$F$183)='TABELAS AUXILIARES'!$E$8,\"Implementada\",_xlfn.XLOOKUP(B355,FORM2.4!$B$10:$B$183,FORM2.4!$F$10:$F$183)='TABELAS AUXILIARES'!$E$9,\"Não Implementada\",_xlfn.XLOOKUP(B355,FORM2.4!$B$10:$B$183,FORM2.4!$F$10:$F$183)='TABELAS AUXILIARES'!$E$10,\"Não Implementada\",_xlfn.XLOOKUP(B355,FORM2.4!$B$10:$B$183,FORM2.4!$F$10:$F$183)='TABELAS AUXILIARES'!$E$11,\"Não Implementada\",_xlfn.XLOOKUP(B355,FORM2.4!$B$10:$B$183,FORM2.4!$F$10:$F$183)='TABELAS AUXILIARES'!$E$12,\"Não Adota\",_xlfn.XLOOKUP(B355,FORM2.4!$B$10:$B$183,FORM2.4!$F$10:$F$183)='TABELAS AUXILIARES'!$E$13,\"Não se aplica\")","v":"Resposta Não Preenchida"}]
[null,"22.3",{"$f":"FORM2.4!E53","v":"As políticas, processos e procedimentos de gerenciamento de risco de privacidade do tratamento de dados pessoais são identificados, estabelecidos, avaliados, gerenciados e acordados pelas partes interessadas organizacionais, e seu progresso medido e comunicado?"},null,{"$f":"_xlfn.IFS(_xlfn.XLOOKUP(B356,FORM2.4!$B$10:$B$183,FORM2.4!$F$10:$F$183)='TABELAS AUXILIARES'!$E$7,\"Resposta Não Preenchida\",_xlfn.XLOOKUP(B356,FORM2.4!$B$10:$B$183,FORM2.4!$F$10:$F$183)='TABELAS AUXILIARES'!$E$8,\"Implementada\",_xlfn.XLOOKUP(B356,FORM2.4!$B$10:$B$183,FORM2.4!$F$10:$F$183)='TABELAS AUXILIARES'!$E$9,\"Não Implementada\",_xlfn.XLOOKUP(B356,FORM2.4!$B$10:$B$183,FORM2.4!$F$10:$F$183)='TABELAS AUXILIARES'!$E$10,\"Não Implementada\",_xlfn.XLOOKUP(B356,FORM2.4!$B$10:$B$183,FORM2.4!$F$10:$F$183)='TABELAS AUXILIARES'!$E$11,\"Não Implementada\",_xlfn.XLOOKUP(B356,FORM2.4!$B$10:$B$183,FORM2.4!$F$10:$F$183)='TABELAS AUXILIARES'!$E$12,\"Não Adota\",_xlfn.XLOOKUP(B356,FORM2.4!$B$10:$B$183,FORM2.4!$F$10:$F$183)='TABELAS AUXILIARES'!$E$13,\"Não se aplica\")","v":"Resposta Não Preenchida"}]
[null,"22.4",{"$f":"FORM2.4!E54","v":"Os instrumentos convocatórios (editais licitatórios) estão adequados à LGPD?"},null,{"$f":"_xlfn.IFS(_xlfn.XLOOKUP(B357,FORM2.4!$B$10:$B$183,FORM2.4!$F$10:$F$183)='TABELAS AUXILIARES'!$E$7,\"Resposta Não Preenchida\",_xlfn.XLOOKUP(B357,FORM2.4!$B$10:$B$183,FORM2.4!$F$10:$F$183)='TABELAS AUXILIARES'!$E$8,\"Implementada\",_xlfn.XLOOKUP(B357,FORM2.4!$B$10:$B$183,FORM2.4!$F$10:$F$183)='TABELAS AUXILIARES'!$E$9,\"Não Implementada\",_xlfn.XLOOKUP(B357,FORM2.4!$B$10:$B$183,FORM2.4!$F$10:$F$183)='TABELAS AUXILIARES'!$E$10,\"Não Implementada\",_xlfn.XLOOKUP(B357,FORM2.4!$B$10:$B$183,FORM2.4!$F$10:$F$183)='TABELAS AUXILIARES'!$E$11,\"Não Implementada\",_xlfn.XLOOKUP(B357,FORM2.4!$B$10:$B$183,FORM2.4!$F$10:$F$183)='TABELAS AUXILIARES'!$E$12,\"Não Adota\",_xlfn.XLOOKUP(B357,FORM2.4!$B$10:$B$183,FORM2.4!$F$10:$F$183)='TABELAS AUXILIARES'!$E$13,\"Não se aplica\")","v":"Resposta Não Preenchida"}]
[null,"22.5",{"$f":"FORM2.4!E55","v":"O órgão fornece um processo para monitorar as leis e políticas de privacidade com o objetivo de identificar alterações que afetem o programa de proteção de dados pessoais?"},null,{"$f":"_xlfn.IFS(_xlfn.XLOOKUP(B358,FORM2.4!$B$10:$B$183,FORM2.4!$F$10:$F$183)='TABELAS AUXILIARES'!$E$7,\"Resposta Não Preenchida\",_xlfn.XLOOKUP(B358,FORM2.4!$B$10:$B$183,FORM2.4!$F$10:$F$183)='TABELAS AUXILIARES'!$E$8,\"Implementada\",_xlfn.XLOOKUP(B358,FORM2.4!$B$10:$B$183,FORM2.4!$F$10:$F$183)='TABELAS AUXILIARES'!$E$9,\"Não Implementada\",_xlfn.XLOOKUP(B358,FORM2.4!$B$10:$B$183,FORM2.4!$F$10:$F$183)='TABELAS AUXILIARES'!$E$10,\"Não Implementada\",_xlfn.XLOOKUP(B358,FORM2.4!$B$10:$B$183,FORM2.4!$F$10:$F$183)='TABELAS AUXILIARES'!$E$11,\"Não Implementada\",_xlfn.XLOOKUP(B358,FORM2.4!$B$10:$B$183,FORM2.4!$F$10:$F$183)='TABELAS AUXILIARES'!$E$12,\"Não Adota\",_xlfn.XLOOKUP(B358,FORM2.4!$B$10:$B$183,FORM2.4!$F$10:$F$183)='TABELAS AUXILIARES'!$E$13,\"Não se aplica\")","v":"Resposta Não Preenchida"}]
[null,"22.6",{"$f":"FORM2.4!E56","v":"A instituição estabelece um processo formal para a concessão de direitos de acesso privilegiado para o processamento de dados pessoais?"},null,{"$f":"_xlfn.IFS(_xlfn.XLOOKUP(B359,FORM2.4!$B$10:$B$183,FORM2.4!$F$10:$F$183)='TABELAS AUXILIARES'!$E$7,\"Resposta Não Preenchida\",_xlfn.XLOOKUP(B359,FORM2.4!$B$10:$B$183,FORM2.4!$F$10:$F$183)='TABELAS AUXILIARES'!$E$8,\"Implementada\",_xlfn.XLOOKUP(B359,FORM2.4!$B$10:$B$183,FORM2.4!$F$10:$F$183)='TABELAS AUXILIARES'!$E$9,\"Não Implementada\",_xlfn.XLOOKUP(B359,FORM2.4!$B$10:$B$183,FORM2.4!$F$10:$F$183)='TABELAS AUXILIARES'!$E$10,\"Não Implementada\",_xlfn.XLOOKUP(B359,FORM2.4!$B$10:$B$183,FORM2.4!$F$10:$F$183)='TABELAS AUXILIARES'!$E$11,\"Não Implementada\",_xlfn.XLOOKUP(B359,FORM2.4!$B$10:$B$183,FORM2.4!$F$10:$F$183)='TABELAS AUXILIARES'!$E$12,\"Não Adota\",_xlfn.XLOOKUP(B359,FORM2.4!$B$10:$B$183,FORM2.4!$F$10:$F$183)='TABELAS AUXILIARES'!$E$13,\"Não se aplica\")","v":"Resposta Não Preenchida"}]
[null,"22.7",{"$f":"FORM2.4!E57","v":"O órgão estabelece procedimento ou metodologia para assegurar que os princípios da LGPD estão sendo respeitados desde a fase de concepção do produto ou do serviço até a sua execução (Privacy by Design)?"},null,{"$f":"_xlfn.IFS(_xlfn.XLOOKUP(B360,FORM2.4!$B$10:$B$183,FORM2.4!$F$10:$F$183)='TABELAS AUXILIARES'!$E$7,\"Resposta Não Preenchida\",_xlfn.XLOOKUP(B360,FORM2.4!$B$10:$B$183,FORM2.4!$F$10:$F$183)='TABELAS AUXILIARES'!$E$8,\"Implementada\",_xlfn.XLOOKUP(B360,FORM2.4!$B$10:$B$183,FORM2.4!$F$10:$F$183)='TABELAS AUXILIARES'!$E$9,\"Não Implementada\",_xlfn.XLOOKUP(B360,FORM2.4!$B$10:$B$183,FORM2.4!$F$10:$F$183)='TABELAS AUXILIARES'!$E$10,\"Não Implementada\",_xlfn.XLOOKUP(B360,FORM2.4!$B$10:$B$183,FORM2.4!$F$10:$F$183)='TABELAS AUXILIARES'!$E$11,\"Não Implementada\",_xlfn.XLOOKUP(B360,FORM2.4!$B$10:$B$183,FORM2.4!$F$10:$F$183)='TABELAS AUXILIARES'!$E$12,\"Não Adota\",_xlfn.XLOOKUP(B360,FORM2.4!$B$10:$B$183,FORM2.4!$F$10:$F$183)='TABELAS AUXILIARES'!$E$13,\"Não se aplica\")","v":"Resposta Não Preenchida"}]
[null,"22.8",{"$f":"FORM2.4!E58","v":"A instituição implementa processos para que o tratamento dos dados pessoais seja preciso, completo, atualizado, adequado e relevante para a finalidade de uso?"},null,{"$f":"_xlfn.IFS(_xlfn.XLOOKUP(B361,FORM2.4!$B$10:$B$183,FORM2.4!$F$10:$F$183)='TABELAS AUXILIARES'!$E$7,\"Resposta Não Preenchida\",_xlfn.XLOOKUP(B361,FORM2.4!$B$10:$B$183,FORM2.4!$F$10:$F$183)='TABELAS AUXILIARES'!$E$8,\"Implementada\",_xlfn.XLOOKUP(B361,FORM2.4!$B$10:$B$183,FORM2.4!$F$10:$F$183)='TABELAS AUXILIARES'!$E$9,\"Não Implementada\",_xlfn.XLOOKUP(B361,FORM2.4!$B$10:$B$183,FORM2.4!$F$10:$F$183)='TABELAS AUXILIARES'!$E$10,\"Não Implementada\",_xlfn.XLOOKUP(B361,FORM2.4!$B$10:$B$183,FORM2.4!$F$10:$F$183)='TABELAS AUXILIARES'!$E$11,\"Não Implementada\",_xlfn.XLOOKUP(B361,FORM2.4!$B$10:$B$183,FORM2.4!$F$10:$F$183)='TABELAS AUXILIARES'!$E$12,\"Não Adota\",_xlfn.XLOOKUP(B361,FORM2.4!$B$10:$B$183,FORM2.4!$F$10:$F$183)='TABELAS AUXILIARES'!$E$13,\"Não se aplica\")","v":"Resposta Não Preenchida"}]
[null,"22.9",{"$f":"FORM2.4!E59","v":"O órgão estabelece políticas, procedimentos e adota mecanismos documentados para o descarte de dados pessoais?"},null,{"$f":"_xlfn.IFS(_xlfn.XLOOKUP(B362,FORM2.4!$B$10:$B$183,FORM2.4!$F$10:$F$183)='TABELAS AUXILIARES'!$E$7,\"Resposta Não Preenchida\",_xlfn.XLOOKUP(B362,FORM2.4!$B$10:$B$183,FORM2.4!$F$10:$F$183)='TABELAS AUXILIARES'!$E$8,\"Implementada\",_xlfn.XLOOKUP(B362,FORM2.4!$B$10:$B$183,FORM2.4!$F$10:$F$183)='TABELAS AUXILIARES'!$E$9,\"Não Implementada\",_xlfn.XLOOKUP(B362,FORM2.4!$B$10:$B$183,FORM2.4!$F$10:$F$183)='TABELAS AUXILIARES'!$E$10,\"Não Implementada\",_xlfn.XLOOKUP(B362,FORM2.4!$B$10:$B$183,FORM2.4!$F$10:$F$183)='TABELAS AUXILIARES'!$E$11,\"Não Implementada\",_xlfn.XLOOKUP(B362,FORM2.4!$B$10:$B$183,FORM2.4!$F$10:$F$183)='TABELAS AUXILIARES'!$E$12,\"Não Adota\",_xlfn.XLOOKUP(B362,FORM2.4!$B$10:$B$183,FORM2.4!$F$10:$F$183)='TABELAS AUXILIARES'!$E$13,\"Não se aplica\")","v":"Resposta Não Preenchida"}]
[null,"22.10",{"$f":"FORM2.4!E60","v":"A organização adequou seu Plano de Resposta a Incidentes (ou documento similar) à LGPD de forma a tratar violações relativas à privacidade dos titulares de dados pessoais?"},null,{"$f":"_xlfn.IFS(_xlfn.XLOOKUP(B363,FORM2.4!$B$10:$B$183,FORM2.4!$F$10:$F$183)='TABELAS AUXILIARES'!$E$7,\"Resposta Não Preenchida\",_xlfn.XLOOKUP(B363,FORM2.4!$B$10:$B$183,FORM2.4!$F$10:$F$183)='TABELAS AUXILIARES'!$E$8,\"Implementada\",_xlfn.XLOOKUP(B363,FORM2.4!$B$10:$B$183,FORM2.4!$F$10:$F$183)='TABELAS AUXILIARES'!$E$9,\"Não Implementada\",_xlfn.XLOOKUP(B363,FORM2.4!$B$10:$B$183,FORM2.4!$F$10:$F$183)='TABELAS AUXILIARES'!$E$10,\"Não Implementada\",_xlfn.XLOOKUP(B363,FORM2.4!$B$10:$B$183,FORM2.4!$F$10:$F$183)='TABELAS AUXILIARES'!$E$11,\"Não Implementada\",_xlfn.XLOOKUP(B363,FORM2.4!$B$10:$B$183,FORM2.4!$F$10:$F$183)='TABELAS AUXILIARES'!$E$12,\"Não Adota\",_xlfn.XLOOKUP(B363,FORM2.4!$B$10:$B$183,FORM2.4!$F$10:$F$183)='TABELAS AUXILIARES'!$E$13,\"Não se aplica\")","v":"Resposta Não Preenchida"}]
[null,"22.11",{"$f":"FORM2.4!E61","v":"A organização estabeleceu procedimentos para comunicar à Autoridade Nacional de Proteção de Dados e ao titular a ocorrência de incidente de segurança que possa acarretar risco ou dano relevante aos titulares?"},null,{"$f":"_xlfn.IFS(_xlfn.XLOOKUP(B364,FORM2.4!$B$10:$B$183,FORM2.4!$F$10:$F$183)='TABELAS AUXILIARES'!$E$7,\"Resposta Não Preenchida\",_xlfn.XLOOKUP(B364,FORM2.4!$B$10:$B$183,FORM2.4!$F$10:$F$183)='TABELAS AUXILIARES'!$E$8,\"Implementada\",_xlfn.XLOOKUP(B364,FORM2.4!$B$10:$B$183,FORM2.4!$F$10:$F$183)='TABELAS AUXILIARES'!$E$9,\"Não Implementada\",_xlfn.XLOOKUP(B364,FORM2.4!$B$10:$B$183,FORM2.4!$F$10:$F$183)='TABELAS AUXILIARES'!$E$10,\"Não Implementada\",_xlfn.XLOOKUP(B364,FORM2.4!$B$10:$B$183,FORM2.4!$F$10:$F$183)='TABELAS AUXILIARES'!$E$11,\"Não Implementada\",_xlfn.XLOOKUP(B364,FORM2.4!$B$10:$B$183,FORM2.4!$F$10:$F$183)='TABELAS AUXILIARES'!$E$12,\"Não Adota\",_xlfn.XLOOKUP(B364,FORM2.4!$B$10:$B$183,FORM2.4!$F$10:$F$183)='TABELAS AUXILIARES'!$E$13,\"Não se aplica\")","v":"Resposta Não Preenchida"}]
[null,"22.12",{"$f":"FORM2.4!E62","v":"O órgão revisa periodicamente as políticas, processos, planos e procedimentos de proteção de dados pessoais?"},null,{"$f":"_xlfn.IFS(_xlfn.XLOOKUP(B365,FORM2.4!$B$10:$B$183,FORM2.4!$F$10:$F$183)='TABELAS AUXILIARES'!$E$7,\"Resposta Não Preenchida\",_xlfn.XLOOKUP(B365,FORM2.4!$B$10:$B$183,FORM2.4!$F$10:$F$183)='TABELAS AUXILIARES'!$E$8,\"Implementada\",_xlfn.XLOOKUP(B365,FORM2.4!$B$10:$B$183,FORM2.4!$F$10:$F$183)='TABELAS AUXILIARES'!$E$9,\"Não Implementada\",_xlfn.XLOOKUP(B365,FORM2.4!$B$10:$B$183,FORM2.4!$F$10:$F$183)='TABELAS AUXILIARES'!$E$10,\"Não Implementada\",_xlfn.XLOOKUP(B365,FORM2.4!$B$10:$B$183,FORM2.4!$F$10:$F$183)='TABELAS AUXILIARES'!$E$11,\"Não Implementada\",_xlfn.XLOOKUP(B365,FORM2.4!$B$10:$B$183,FORM2.4!$F$10:$F$183)='TABELAS AUXILIARES'!$E$12,\"Não Adota\",_xlfn.XLOOKUP(B365,FORM2.4!$B$10:$B$183,FORM2.4!$F$10:$F$183)='TABELAS AUXILIARES'!$E$13,\"Não se aplica\")","v":"Resposta Não Preenchida"}]
[]
[null,23,"PRIVACIDADE CONTROLE 23: CONSCIENTIZAÇÃO E TREINAMENTO"]
[null,{"$f":"FORM2.4!I63","v":"Controle Não Foi Respondido"}]
[null,null,"MEDIDAS DE PRIVACIDADE"]
[null,"Nível de Capacidade do Controle"]
[null,"ID","Medida",null,"Resposta"]
[null,"23.1",{"$f":"FORM2.4!E64","v":"O órgão implementa e mantêm uma estratégia abrangente de treinamento e conscientização a fim de garantir que a força de trabalho compreenda sobre suas responsabilidades e procedimentos de proteção de dados pessoais?"},null,{"$f":"_xlfn.IFS(_xlfn.XLOOKUP(B372,FORM2.4!$B$10:$B$183,FORM2.4!$F$10:$F$183)='TABELAS AUXILIARES'!$E$7,\"Resposta Não Preenchida\",_xlfn.XLOOKUP(B372,FORM2.4!$B$10:$B$183,FORM2.4!$F$10:$F$183)='TABELAS AUXILIARES'!$E$8,\"Implementada\",_xlfn.XLOOKUP(B372,FORM2.4!$B$10:$B$183,FORM2.4!$F$10:$F$183)='TABELAS AUXILIARES'!$E$9,\"Não Implementada\",_xlfn.XLOOKUP(B372,FORM2.4!$B$10:$B$183,FORM2.4!$F$10:$F$183)='TABELAS AUXILIARES'!$E$10,\"Não Implementada\",_xlfn.XLOOKUP(B372,FORM2.4!$B$10:$B$183,FORM2.4!$F$10:$F$183)='TABELAS AUXILIARES'!$E$11,\"Não Implementada\",_xlfn.XLOOKUP(B372,FORM2.4!$B$10:$B$183,FORM2.4!$F$10:$F$183)='TABELAS AUXILIARES'!$E$12,\"Não Adota\",_xlfn.XLOOKUP(B372,FORM2.4!$B$10:$B$183,FORM2.4!$F$10:$F$183)='TABELAS AUXILIARES'!$E$13,\"Não se aplica\")","v":"Resposta Não Preenchida"}]
[null,"23.2",{"$f":"FORM2.4!E65","v":"O plano de desenvolvimento de pessoas do órgão contempla treinamento adequado sobre a temática de privacidade e de proteção de dados pessoais?"},null,{"$f":"_xlfn.IFS(_xlfn.XLOOKUP(B373,FORM2.4!$B$10:$B$183,FORM2.4!$F$10:$F$183)='TABELAS AUXILIARES'!$E$7,\"Resposta Não Preenchida\",_xlfn.XLOOKUP(B373,FORM2.4!$B$10:$B$183,FORM2.4!$F$10:$F$183)='TABELAS AUXILIARES'!$E$8,\"Implementada\",_xlfn.XLOOKUP(B373,FORM2.4!$B$10:$B$183,FORM2.4!$F$10:$F$183)='TABELAS AUXILIARES'!$E$9,\"Não Implementada\",_xlfn.XLOOKUP(B373,FORM2.4!$B$10:$B$183,FORM2.4!$F$10:$F$183)='TABELAS AUXILIARES'!$E$10,\"Não Implementada\",_xlfn.XLOOKUP(B373,FORM2.4!$B$10:$B$183,FORM2.4!$F$10:$F$183)='TABELAS AUXILIARES'!$E$11,\"Não Implementada\",_xlfn.XLOOKUP(B373,FORM2.4!$B$10:$B$183,FORM2.4!$F$10:$F$183)='TABELAS AUXILIARES'!$E$12,\"Não Adota\",_xlfn.XLOOKUP(B373,FORM2.4!$B$10:$B$183,FORM2.4!$F$10:$F$183)='TABELAS AUXILIARES'!$E$13,\"Não se aplica\")","v":"Resposta Não Preenchida"}]
[null,"23.3",{"$f":"FORM2.4!E66","v":"As ações de treinamento e conscientização realizadas pela instituição visam a manter os colaboradores atualizados sobre os desenvolvimentos no ambiente regulatório, contratual e tecnológico que possam afetar a conformidade de privacidade da organização?"},null,{"$f":"_xlfn.IFS(_xlfn.XLOOKUP(B374,FORM2.4!$B$10:$B$183,FORM2.4!$F$10:$F$183)='TABELAS AUXILIARES'!$E$7,\"Resposta Não Preenchida\",_xlfn.XLOOKUP(B374,FORM2.4!$B$10:$B$183,FORM2.4!$F$10:$F$183)='TABELAS AUXILIARES'!$E$8,\"Implementada\",_xlfn.XLOOKUP(B374,FORM2.4!$B$10:$B$183,FORM2.4!$F$10:$F$183)='TABELAS AUXILIARES'!$E$9,\"Não Implementada\",_xlfn.XLOOKUP(B374,FORM2.4!$B$10:$B$183,FORM2.4!$F$10:$F$183)='TABELAS AUXILIARES'!$E$10,\"Não Implementada\",_xlfn.XLOOKUP(B374,FORM2.4!$B$10:$B$183,FORM2.4!$F$10:$F$183)='TABELAS AUXILIARES'!$E$11,\"Não Implementada\",_xlfn.XLOOKUP(B374,FORM2.4!$B$10:$B$183,FORM2.4!$F$10:$F$183)='TABELAS AUXILIARES'!$E$12,\"Não Adota\",_xlfn.XLOOKUP(B374,FORM2.4!$B$10:$B$183,FORM2.4!$F$10:$F$183)='TABELAS AUXILIARES'!$E$13,\"Não se aplica\")","v":"Resposta Não Preenchida"}]
[null,"23.4",{"$f":"FORM2.4!E67","v":"O órgão executa regularmente (por exemplo, anual) ou conforme necessário (por exemplo, após um incidente) treinamento básico e direcionado de proteção de dados pessoais conforme as funções das pessoas envolvidas com o tratamento?"},null,{"$f":"_xlfn.IFS(_xlfn.XLOOKUP(B375,FORM2.4!$B$10:$B$183,FORM2.4!$F$10:$F$183)='TABELAS AUXILIARES'!$E$7,\"Resposta Não Preenchida\",_xlfn.XLOOKUP(B375,FORM2.4!$B$10:$B$183,FORM2.4!$F$10:$F$183)='TABELAS AUXILIARES'!$E$8,\"Implementada\",_xlfn.XLOOKUP(B375,FORM2.4!$B$10:$B$183,FORM2.4!$F$10:$F$183)='TABELAS AUXILIARES'!$E$9,\"Não Implementada\",_xlfn.XLOOKUP(B375,FORM2.4!$B$10:$B$183,FORM2.4!$F$10:$F$183)='TABELAS AUXILIARES'!$E$10,\"Não Implementada\",_xlfn.XLOOKUP(B375,FORM2.4!$B$10:$B$183,FORM2.4!$F$10:$F$183)='TABELAS AUXILIARES'!$E$11,\"Não Implementada\",_xlfn.XLOOKUP(B375,FORM2.4!$B$10:$B$183,FORM2.4!$F$10:$F$183)='TABELAS AUXILIARES'!$E$12,\"Não Adota\",_xlfn.XLOOKUP(B375,FORM2.4!$B$10:$B$183,FORM2.4!$F$10:$F$183)='TABELAS AUXILIARES'!$E$13,\"Não se aplica\")","v":"Resposta Não Preenchida"}]
[]
[null,24,{"$f":"FORM3.1!C41","v":"PRIVACIDADE CONTROLE 24: MINIMIZAÇÃO DE DADOS"}]
[null,{"$f":"FORM2.4!I63","v":"Controle Não Foi Respondido"}]
[null,null,"MEDIDAS DE PRIVACIDADE"]
[null,"Nível de Capacidade do Controle"]
[null,"ID","Medida",null,"Resposta"]
[null,"24.1",{"$f":"FORM2.4!E69","v":"O órgão avalia e classifica os dados pessoais a serem coletados em obrigatórios e opcionais a fim de priorizar somente a coleta dos dados obrigatórios para a prestação do serviço?"},null,{"$f":"_xlfn.IFS(_xlfn.XLOOKUP(B382,FORM2.4!$B$10:$B$183,FORM2.4!$F$10:$F$183)='TABELAS AUXILIARES'!$E$7,\"Resposta Não Preenchida\",_xlfn.XLOOKUP(B382,FORM2.4!$B$10:$B$183,FORM2.4!$F$10:$F$183)='TABELAS AUXILIARES'!$E$8,\"Implementada\",_xlfn.XLOOKUP(B382,FORM2.4!$B$10:$B$183,FORM2.4!$F$10:$F$183)='TABELAS AUXILIARES'!$E$9,\"Não Implementada\",_xlfn.XLOOKUP(B382,FORM2.4!$B$10:$B$183,FORM2.4!$F$10:$F$183)='TABELAS AUXILIARES'!$E$10,\"Não Implementada\",_xlfn.XLOOKUP(B382,FORM2.4!$B$10:$B$183,FORM2.4!$F$10:$F$183)='TABELAS AUXILIARES'!$E$11,\"Não Implementada\",_xlfn.XLOOKUP(B382,FORM2.4!$B$10:$B$183,FORM2.4!$F$10:$F$183)='TABELAS AUXILIARES'!$E$12,\"Não Adota\",_xlfn.XLOOKUP(B382,FORM2.4!$B$10:$B$183,FORM2.4!$F$10:$F$183)='TABELAS AUXILIARES'!$E$13,\"Não se aplica\")","v":"Resposta Não Preenchida"}]
[null,"24.2",{"$f":"FORM2.4!E70","v":"O órgão restringe ao máximo a coleta de dados de forma que seja suficiente para atender a finalidade específica do tratamento?"},null,{"$f":"_xlfn.IFS(_xlfn.XLOOKUP(B383,FORM2.4!$B$10:$B$183,FORM2.4!$F$10:$F$183)='TABELAS AUXILIARES'!$E$7,\"Resposta Não Preenchida\",_xlfn.XLOOKUP(B383,FORM2.4!$B$10:$B$183,FORM2.4!$F$10:$F$183)='TABELAS AUXILIARES'!$E$8,\"Implementada\",_xlfn.XLOOKUP(B383,FORM2.4!$B$10:$B$183,FORM2.4!$F$10:$F$183)='TABELAS AUXILIARES'!$E$9,\"Não Implementada\",_xlfn.XLOOKUP(B383,FORM2.4!$B$10:$B$183,FORM2.4!$F$10:$F$183)='TABELAS AUXILIARES'!$E$10,\"Não Implementada\",_xlfn.XLOOKUP(B383,FORM2.4!$B$10:$B$183,FORM2.4!$F$10:$F$183)='TABELAS AUXILIARES'!$E$11,\"Não Implementada\",_xlfn.XLOOKUP(B383,FORM2.4!$B$10:$B$183,FORM2.4!$F$10:$F$183)='TABELAS AUXILIARES'!$E$12,\"Não Adota\",_xlfn.XLOOKUP(B383,FORM2.4!$B$10:$B$183,FORM2.4!$F$10:$F$183)='TABELAS AUXILIARES'!$E$13,\"Não se aplica\")","v":"Resposta Não Preenchida"}]
[null,"24.3",{"$f":"FORM2.4!E71","v":"O órgão, ao realizar o tratamento de dados pessoais, aplica o princípio da minimização de dados para restringir a quantidades de dados pessoais ao estritamente necessário para atendimento da finalidade específica?"},null,{"$f":"_xlfn.IFS(_xlfn.XLOOKUP(B384,FORM2.4!$B$10:$B$183,FORM2.4!$F$10:$F$183)='TABELAS AUXILIARES'!$E$7,\"Resposta Não Preenchida\",_xlfn.XLOOKUP(B384,FORM2.4!$B$10:$B$183,FORM2.4!$F$10:$F$183)='TABELAS AUXILIARES'!$E$8,\"Implementada\",_xlfn.XLOOKUP(B384,FORM2.4!$B$10:$B$183,FORM2.4!$F$10:$F$183)='TABELAS AUXILIARES'!$E$9,\"Não Implementada\",_xlfn.XLOOKUP(B384,FORM2.4!$B$10:$B$183,FORM2.4!$F$10:$F$183)='TABELAS AUXILIARES'!$E$10,\"Não Implementada\",_xlfn.XLOOKUP(B384,FORM2.4!$B$10:$B$183,FORM2.4!$F$10:$F$183)='TABELAS AUXILIARES'!$E$11,\"Não Implementada\",_xlfn.XLOOKUP(B384,FORM2.4!$B$10:$B$183,FORM2.4!$F$10:$F$183)='TABELAS AUXILIARES'!$E$12,\"Não Adota\",_xlfn.XLOOKUP(B384,FORM2.4!$B$10:$B$183,FORM2.4!$F$10:$F$183)='TABELAS AUXILIARES'!$E$13,\"Não se aplica\")","v":"Resposta Não Preenchida"}]
[null,"24.4",{"$f":"FORM2.4!E72","v":"O órgão adota medidas para assegurar que as configurações de privacidade sejam aplicadas por padrão (Privacy by Default) nos serviços fornecidos?"},null,{"$f":"_xlfn.IFS(_xlfn.XLOOKUP(B385,FORM2.4!$B$10:$B$183,FORM2.4!$F$10:$F$183)='TABELAS AUXILIARES'!$E$7,\"Resposta Não Preenchida\",_xlfn.XLOOKUP(B385,FORM2.4!$B$10:$B$183,FORM2.4!$F$10:$F$183)='TABELAS AUXILIARES'!$E$8,\"Implementada\",_xlfn.XLOOKUP(B385,FORM2.4!$B$10:$B$183,FORM2.4!$F$10:$F$183)='TABELAS AUXILIARES'!$E$9,\"Não Implementada\",_xlfn.XLOOKUP(B385,FORM2.4!$B$10:$B$183,FORM2.4!$F$10:$F$183)='TABELAS AUXILIARES'!$E$10,\"Não Implementada\",_xlfn.XLOOKUP(B385,FORM2.4!$B$10:$B$183,FORM2.4!$F$10:$F$183)='TABELAS AUXILIARES'!$E$11,\"Não Implementada\",_xlfn.XLOOKUP(B385,FORM2.4!$B$10:$B$183,FORM2.4!$F$10:$F$183)='TABELAS AUXILIARES'!$E$12,\"Não Adota\",_xlfn.XLOOKUP(B385,FORM2.4!$B$10:$B$183,FORM2.4!$F$10:$F$183)='TABELAS AUXILIARES'!$E$13,\"Não se aplica\")","v":"Resposta Não Preenchida"}]
[null,"24.5",{"$f":"FORM2.4!E73","v":"O órgão adota o princípio 'need-to-how', em que deve ser dado acesso apenas aos dados pessoais necessários para o desempenho das funções dos colaboradores?"},null,{"$f":"_xlfn.IFS(_xlfn.XLOOKUP(B386,FORM2.4!$B$10:$B$183,FORM2.4!$F$10:$F$183)='TABELAS AUXILIARES'!$E$7,\"Resposta Não Preenchida\",_xlfn.XLOOKUP(B386,FORM2.4!$B$10:$B$183,FORM2.4!$F$10:$F$183)='TABELAS AUXILIARES'!$E$8,\"Implementada\",_xlfn.XLOOKUP(B386,FORM2.4!$B$10:$B$183,FORM2.4!$F$10:$F$183)='TABELAS AUXILIARES'!$E$9,\"Não Implementada\",_xlfn.XLOOKUP(B386,FORM2.4!$B$10:$B$183,FORM2.4!$F$10:$F$183)='TABELAS AUXILIARES'!$E$10,\"Não Implementada\",_xlfn.XLOOKUP(B386,FORM2.4!$B$10:$B$183,FORM2.4!$F$10:$F$183)='TABELAS AUXILIARES'!$E$11,\"Não Implementada\",_xlfn.XLOOKUP(B386,FORM2.4!$B$10:$B$183,FORM2.4!$F$10:$F$183)='TABELAS AUXILIARES'!$E$12,\"Não Adota\",_xlfn.XLOOKUP(B386,FORM2.4!$B$10:$B$183,FORM2.4!$F$10:$F$183)='TABELAS AUXILIARES'!$E$13,\"Não se aplica\")","v":"Resposta Não Preenchida"}]
[null,"24.6",{"$f":"FORM2.4!E74","v":"O órgão adota como padrão, sempre que possível, interações e transações que não envolvam a identificação dos titulares?"},null,{"$f":"_xlfn.IFS(_xlfn.XLOOKUP(B387,FORM2.4!$B$10:$B$183,FORM2.4!$F$10:$F$183)='TABELAS AUXILIARES'!$E$7,\"Resposta Não Preenchida\",_xlfn.XLOOKUP(B387,FORM2.4!$B$10:$B$183,FORM2.4!$F$10:$F$183)='TABELAS AUXILIARES'!$E$8,\"Implementada\",_xlfn.XLOOKUP(B387,FORM2.4!$B$10:$B$183,FORM2.4!$F$10:$F$183)='TABELAS AUXILIARES'!$E$9,\"Não Implementada\",_xlfn.XLOOKUP(B387,FORM2.4!$B$10:$B$183,FORM2.4!$F$10:$F$183)='TABELAS AUXILIARES'!$E$10,\"Não Implementada\",_xlfn.XLOOKUP(B387,FORM2.4!$B$10:$B$183,FORM2.4!$F$10:$F$183)='TABELAS AUXILIARES'!$E$11,\"Não Implementada\",_xlfn.XLOOKUP(B387,FORM2.4!$B$10:$B$183,FORM2.4!$F$10:$F$183)='TABELAS AUXILIARES'!$E$12,\"Não Adota\",_xlfn.XLOOKUP(B387,FORM2.4!$B$10:$B$183,FORM2.4!$F$10:$F$183)='TABELAS AUXILIARES'!$E$13,\"Não se aplica\")","v":"Resposta Não Preenchida"}]
[null,"24.7",{"$f":"FORM2.4!E75","v":"O órgão adota mecanismos para limitar a vinculação dos dados pessoais coletados?"},null,{"$f":"_xlfn.IFS(_xlfn.XLOOKUP(B388,FORM2.4!$B$10:$B$183,FORM2.4!$F$10:$F$183)='TABELAS AUXILIARES'!$E$7,\"Resposta Não Preenchida\",_xlfn.XLOOKUP(B388,FORM2.4!$B$10:$B$183,FORM2.4!$F$10:$F$183)='TABELAS AUXILIARES'!$E$8,\"Implementada\",_xlfn.XLOOKUP(B388,FORM2.4!$B$10:$B$183,FORM2.4!$F$10:$F$183)='TABELAS AUXILIARES'!$E$9,\"Não Implementada\",_xlfn.XLOOKUP(B388,FORM2.4!$B$10:$B$183,FORM2.4!$F$10:$F$183)='TABELAS AUXILIARES'!$E$10,\"Não Implementada\",_xlfn.XLOOKUP(B388,FORM2.4!$B$10:$B$183,FORM2.4!$F$10:$F$183)='TABELAS AUXILIARES'!$E$11,\"Não Implementada\",_xlfn.XLOOKUP(B388,FORM2.4!$B$10:$B$183,FORM2.4!$F$10:$F$183)='TABELAS AUXILIARES'!$E$12,\"Não Adota\",_xlfn.XLOOKUP(B388,FORM2.4!$B$10:$B$183,FORM2.4!$F$10:$F$183)='TABELAS AUXILIARES'!$E$13,\"Não se aplica\")","v":"Resposta Não Preenchida"}]
[null,"24.8",{"$f":"FORM2.4!E76","v":"As referências de atributos são substituídas por valores de atributos? Por exemplo, para o atributo \"aniversário\", um valor de atributo poderia ser \"1/12/1980\" e uma referência de atributo seria \"nascido em dezembro\"."},null,{"$f":"_xlfn.IFS(_xlfn.XLOOKUP(B389,FORM2.4!$B$10:$B$183,FORM2.4!$F$10:$F$183)='TABELAS AUXILIARES'!$E$7,\"Resposta Não Preenchida\",_xlfn.XLOOKUP(B389,FORM2.4!$B$10:$B$183,FORM2.4!$F$10:$F$183)='TABELAS AUXILIARES'!$E$8,\"Implementada\",_xlfn.XLOOKUP(B389,FORM2.4!$B$10:$B$183,FORM2.4!$F$10:$F$183)='TABELAS AUXILIARES'!$E$9,\"Não Implementada\",_xlfn.XLOOKUP(B389,FORM2.4!$B$10:$B$183,FORM2.4!$F$10:$F$183)='TABELAS AUXILIARES'!$E$10,\"Não Implementada\",_xlfn.XLOOKUP(B389,FORM2.4!$B$10:$B$183,FORM2.4!$F$10:$F$183)='TABELAS AUXILIARES'!$E$11,\"Não Implementada\",_xlfn.XLOOKUP(B389,FORM2.4!$B$10:$B$183,FORM2.4!$F$10:$F$183)='TABELAS AUXILIARES'!$E$12,\"Não Adota\",_xlfn.XLOOKUP(B389,FORM2.4!$B$10:$B$183,FORM2.4!$F$10:$F$183)='TABELAS AUXILIARES'!$E$13,\"Não se aplica\")","v":"Resposta Não Preenchida"}]
[null,"24.9",{"$f":"FORM2.4!E77","v":"Os dados pessoais utilizados em ambiente de TDH (teste, desenvolvimento e homologação) passam por um processo de anonimização?"},null,{"$f":"_xlfn.IFS(_xlfn.XLOOKUP(B390,FORM2.4!$B$10:$B$183,FORM2.4!$F$10:$F$183)='TABELAS AUXILIARES'!$E$7,\"Resposta Não Preenchida\",_xlfn.XLOOKUP(B390,FORM2.4!$B$10:$B$183,FORM2.4!$F$10:$F$183)='TABELAS AUXILIARES'!$E$8,\"Implementada\",_xlfn.XLOOKUP(B390,FORM2.4!$B$10:$B$183,FORM2.4!$F$10:$F$183)='TABELAS AUXILIARES'!$E$9,\"Não Implementada\",_xlfn.XLOOKUP(B390,FORM2.4!$B$10:$B$183,FORM2.4!$F$10:$F$183)='TABELAS AUXILIARES'!$E$10,\"Não Implementada\",_xlfn.XLOOKUP(B390,FORM2.4!$B$10:$B$183,FORM2.4!$F$10:$F$183)='TABELAS AUXILIARES'!$E$11,\"Não Implementada\",_xlfn.XLOOKUP(B390,FORM2.4!$B$10:$B$183,FORM2.4!$F$10:$F$183)='TABELAS AUXILIARES'!$E$12,\"Não Adota\",_xlfn.XLOOKUP(B390,FORM2.4!$B$10:$B$183,FORM2.4!$F$10:$F$183)='TABELAS AUXILIARES'!$E$13,\"Não se aplica\")","v":"Resposta Não Preenchida"}]
[null,"24.10",{"$f":"FORM2.4!E78","v":"O órgão realiza revisão periódica dos dados pessoais tratados para que continuem a ser o mínimo necessários para cumprir com a finalidade?"},null,{"$f":"_xlfn.IFS(_xlfn.XLOOKUP(B391,FORM2.4!$B$10:$B$183,FORM2.4!$F$10:$F$183)='TABELAS AUXILIARES'!$E$7,\"Resposta Não Preenchida\",_xlfn.XLOOKUP(B391,FORM2.4!$B$10:$B$183,FORM2.4!$F$10:$F$183)='TABELAS AUXILIARES'!$E$8,\"Implementada\",_xlfn.XLOOKUP(B391,FORM2.4!$B$10:$B$183,FORM2.4!$F$10:$F$183)='TABELAS AUXILIARES'!$E$9,\"Não Implementada\",_xlfn.XLOOKUP(B391,FORM2.4!$B$10:$B$183,FORM2.4!$F$10:$F$183)='TABELAS AUXILIARES'!$E$10,\"Não Implementada\",_xlfn.XLOOKUP(B391,FORM2.4!$B$10:$B$183,FORM2.4!$F$10:$F$183)='TABELAS AUXILIARES'!$E$11,\"Não Implementada\",_xlfn.XLOOKUP(B391,FORM2.4!$B$10:$B$183,FORM2.4!$F$10:$F$183)='TABELAS AUXILIARES'!$E$12,\"Não Adota\",_xlfn.XLOOKUP(B391,FORM2.4!$B$10:$B$183,FORM2.4!$F$10:$F$183)='TABELAS AUXILIARES'!$E$13,\"Não se aplica\")","v":"Resposta Não Preenchida"}]
[null,"24.11",{"$f":"FORM2.4!E79","v":"O órgão determina e desidentifica os dados pessoais que necessitam ser anonimizados de acordo com o tratamento e exigências estabelecidas por leis aplicáveis?"},null,{"$f":"_xlfn.IFS(_xlfn.XLOOKUP(B392,FORM2.4!$B$10:$B$183,FORM2.4!$F$10:$F$183)='TABELAS AUXILIARES'!$E$7,\"Resposta Não Preenchida\",_xlfn.XLOOKUP(B392,FORM2.4!$B$10:$B$183,FORM2.4!$F$10:$F$183)='TABELAS AUXILIARES'!$E$8,\"Implementada\",_xlfn.XLOOKUP(B392,FORM2.4!$B$10:$B$183,FORM2.4!$F$10:$F$183)='TABELAS AUXILIARES'!$E$9,\"Não Implementada\",_xlfn.XLOOKUP(B392,FORM2.4!$B$10:$B$183,FORM2.4!$F$10:$F$183)='TABELAS AUXILIARES'!$E$10,\"Não Implementada\",_xlfn.XLOOKUP(B392,FORM2.4!$B$10:$B$183,FORM2.4!$F$10:$F$183)='TABELAS AUXILIARES'!$E$11,\"Não Implementada\",_xlfn.XLOOKUP(B392,FORM2.4!$B$10:$B$183,FORM2.4!$F$10:$F$183)='TABELAS AUXILIARES'!$E$12,\"Não Adota\",_xlfn.XLOOKUP(B392,FORM2.4!$B$10:$B$183,FORM2.4!$F$10:$F$183)='TABELAS AUXILIARES'!$E$13,\"Não se aplica\")","v":"Resposta Não Preenchida"}]
[null,"24.12",{"$f":"FORM2.4!E80","v":"Ao fornecer a base de informações para órgãos de pesquisa ou para realização de estudos em saúde pública, os dados pessoais são, sempre que possível, anonimizados ou pseudoanonimizados?"},null,{"$f":"_xlfn.IFS(_xlfn.XLOOKUP(B393,FORM2.4!$B$10:$B$183,FORM2.4!$F$10:$F$183)='TABELAS AUXILIARES'!$E$7,\"Resposta Não Preenchida\",_xlfn.XLOOKUP(B393,FORM2.4!$B$10:$B$183,FORM2.4!$F$10:$F$183)='TABELAS AUXILIARES'!$E$8,\"Implementada\",_xlfn.XLOOKUP(B393,FORM2.4!$B$10:$B$183,FORM2.4!$F$10:$F$183)='TABELAS AUXILIARES'!$E$9,\"Não Implementada\",_xlfn.XLOOKUP(B393,FORM2.4!$B$10:$B$183,FORM2.4!$F$10:$F$183)='TABELAS AUXILIARES'!$E$10,\"Não Implementada\",_xlfn.XLOOKUP(B393,FORM2.4!$B$10:$B$183,FORM2.4!$F$10:$F$183)='TABELAS AUXILIARES'!$E$11,\"Não Implementada\",_xlfn.XLOOKUP(B393,FORM2.4!$B$10:$B$183,FORM2.4!$F$10:$F$183)='TABELAS AUXILIARES'!$E$12,\"Não Adota\",_xlfn.XLOOKUP(B393,FORM2.4!$B$10:$B$183,FORM2.4!$F$10:$F$183)='TABELAS AUXILIARES'!$E$13,\"Não se aplica\")","v":"Resposta Não Preenchida"}]
[null,"24.13",{"$f":"FORM2.4!E81","v":"O órgão ao coletar cookies disponibiliza botão de fácil visualização, no banner de primeiro e de segundo nível, que permita rejeitar todos os cookies não-necessários?"},null,{"$f":"_xlfn.IFS(_xlfn.XLOOKUP(B394,FORM2.4!$B$10:$B$183,FORM2.4!$F$10:$F$183)='TABELAS AUXILIARES'!$E$7,\"Resposta Não Preenchida\",_xlfn.XLOOKUP(B394,FORM2.4!$B$10:$B$183,FORM2.4!$F$10:$F$183)='TABELAS AUXILIARES'!$E$8,\"Implementada\",_xlfn.XLOOKUP(B394,FORM2.4!$B$10:$B$183,FORM2.4!$F$10:$F$183)='TABELAS AUXILIARES'!$E$9,\"Não Implementada\",_xlfn.XLOOKUP(B394,FORM2.4!$B$10:$B$183,FORM2.4!$F$10:$F$183)='TABELAS AUXILIARES'!$E$10,\"Não Implementada\",_xlfn.XLOOKUP(B394,FORM2.4!$B$10:$B$183,FORM2.4!$F$10:$F$183)='TABELAS AUXILIARES'!$E$11,\"Não Implementada\",_xlfn.XLOOKUP(B394,FORM2.4!$B$10:$B$183,FORM2.4!$F$10:$F$183)='TABELAS AUXILIARES'!$E$12,\"Não Adota\",_xlfn.XLOOKUP(B394,FORM2.4!$B$10:$B$183,FORM2.4!$F$10:$F$183)='TABELAS AUXILIARES'!$E$13,\"Não se aplica\")","v":"Resposta Não Preenchida"}]
[null,"24.14",{"$f":"FORM2.4!E82","v":"O órgão ao coletar cookies desativa, no banner de primeiro nível, cookies baseados no consentimento por padrão (opt-in)?"},null,{"$f":"_xlfn.IFS(_xlfn.XLOOKUP(B395,FORM2.4!$B$10:$B$183,FORM2.4!$F$10:$F$183)='TABELAS AUXILIARES'!$E$7,\"Resposta Não Preenchida\",_xlfn.XLOOKUP(B395,FORM2.4!$B$10:$B$183,FORM2.4!$F$10:$F$183)='TABELAS AUXILIARES'!$E$8,\"Implementada\",_xlfn.XLOOKUP(B395,FORM2.4!$B$10:$B$183,FORM2.4!$F$10:$F$183)='TABELAS AUXILIARES'!$E$9,\"Não Implementada\",_xlfn.XLOOKUP(B395,FORM2.4!$B$10:$B$183,FORM2.4!$F$10:$F$183)='TABELAS AUXILIARES'!$E$10,\"Não Implementada\",_xlfn.XLOOKUP(B395,FORM2.4!$B$10:$B$183,FORM2.4!$F$10:$F$183)='TABELAS AUXILIARES'!$E$11,\"Não Implementada\",_xlfn.XLOOKUP(B395,FORM2.4!$B$10:$B$183,FORM2.4!$F$10:$F$183)='TABELAS AUXILIARES'!$E$12,\"Não Adota\",_xlfn.XLOOKUP(B395,FORM2.4!$B$10:$B$183,FORM2.4!$F$10:$F$183)='TABELAS AUXILIARES'!$E$13,\"Não se aplica\")","v":"Resposta Não Preenchida"}]
[null,"24.15",{"$f":"FORM2.4!E83","v":"O órgão ao coletar cookies classifica os cookies em categorias no banner de segundo nível?"},null,{"$f":"_xlfn.IFS(_xlfn.XLOOKUP(B396,FORM2.4!$B$10:$B$183,FORM2.4!$F$10:$F$183)='TABELAS AUXILIARES'!$E$7,\"Resposta Não Preenchida\",_xlfn.XLOOKUP(B396,FORM2.4!$B$10:$B$183,FORM2.4!$F$10:$F$183)='TABELAS AUXILIARES'!$E$8,\"Implementada\",_xlfn.XLOOKUP(B396,FORM2.4!$B$10:$B$183,FORM2.4!$F$10:$F$183)='TABELAS AUXILIARES'!$E$9,\"Não Implementada\",_xlfn.XLOOKUP(B396,FORM2.4!$B$10:$B$183,FORM2.4!$F$10:$F$183)='TABELAS AUXILIARES'!$E$10,\"Não Implementada\",_xlfn.XLOOKUP(B396,FORM2.4!$B$10:$B$183,FORM2.4!$F$10:$F$183)='TABELAS AUXILIARES'!$E$11,\"Não Implementada\",_xlfn.XLOOKUP(B396,FORM2.4!$B$10:$B$183,FORM2.4!$F$10:$F$183)='TABELAS AUXILIARES'!$E$12,\"Não Adota\",_xlfn.XLOOKUP(B396,FORM2.4!$B$10:$B$183,FORM2.4!$F$10:$F$183)='TABELAS AUXILIARES'!$E$13,\"Não se aplica\")","v":"Resposta Não Preenchida"}]
[]
[null,25,{"$f":"FORM3.1!C42","v":"PRIVACIDADE CONTROLE 25: GESTÃO DO TRATAMENTO"}]
[null,{"$f":"FORM2.4!I84","v":"Controle Não Foi Respondido"}]
[null,null,"MEDIDAS DE PRIVACIDADE"]
[null,"Nível de Capacidade do Controle"]
[null,"ID","Medida",null,"Resposta"]
[null,"25.1",{"$f":"FORM2.4!E85","v":"O órgão configura os sistemas para registrar a data em que os dados pessoais são coletados, criados, atualizados, excluídos ou arquivados?"},null,{"$f":"_xlfn.IFS(_xlfn.XLOOKUP(B403,FORM2.4!$B$10:$B$183,FORM2.4!$F$10:$F$183)='TABELAS AUXILIARES'!$E$7,\"Resposta Não Preenchida\",_xlfn.XLOOKUP(B403,FORM2.4!$B$10:$B$183,FORM2.4!$F$10:$F$183)='TABELAS AUXILIARES'!$E$8,\"Implementada\",_xlfn.XLOOKUP(B403,FORM2.4!$B$10:$B$183,FORM2.4!$F$10:$F$183)='TABELAS AUXILIARES'!$E$9,\"Não Implementada\",_xlfn.XLOOKUP(B403,FORM2.4!$B$10:$B$183,FORM2.4!$F$10:$F$183)='TABELAS AUXILIARES'!$E$10,\"Não Implementada\",_xlfn.XLOOKUP(B403,FORM2.4!$B$10:$B$183,FORM2.4!$F$10:$F$183)='TABELAS AUXILIARES'!$E$11,\"Não Implementada\",_xlfn.XLOOKUP(B403,FORM2.4!$B$10:$B$183,FORM2.4!$F$10:$F$183)='TABELAS AUXILIARES'!$E$12,\"Não Adota\",_xlfn.XLOOKUP(B403,FORM2.4!$B$10:$B$183,FORM2.4!$F$10:$F$183)='TABELAS AUXILIARES'!$E$13,\"Não se aplica\")","v":"Resposta Não Preenchida"}]
[null,"25.2",{"$f":"FORM2.4!E86","v":"O órgão limita a quantidade de processamento sobre os dados pessoais sob sua custódia?"},null,{"$f":"_xlfn.IFS(_xlfn.XLOOKUP(B404,FORM2.4!$B$10:$B$183,FORM2.4!$F$10:$F$183)='TABELAS AUXILIARES'!$E$7,\"Resposta Não Preenchida\",_xlfn.XLOOKUP(B404,FORM2.4!$B$10:$B$183,FORM2.4!$F$10:$F$183)='TABELAS AUXILIARES'!$E$8,\"Implementada\",_xlfn.XLOOKUP(B404,FORM2.4!$B$10:$B$183,FORM2.4!$F$10:$F$183)='TABELAS AUXILIARES'!$E$9,\"Não Implementada\",_xlfn.XLOOKUP(B404,FORM2.4!$B$10:$B$183,FORM2.4!$F$10:$F$183)='TABELAS AUXILIARES'!$E$10,\"Não Implementada\",_xlfn.XLOOKUP(B404,FORM2.4!$B$10:$B$183,FORM2.4!$F$10:$F$183)='TABELAS AUXILIARES'!$E$11,\"Não Implementada\",_xlfn.XLOOKUP(B404,FORM2.4!$B$10:$B$183,FORM2.4!$F$10:$F$183)='TABELAS AUXILIARES'!$E$12,\"Não Adota\",_xlfn.XLOOKUP(B404,FORM2.4!$B$10:$B$183,FORM2.4!$F$10:$F$183)='TABELAS AUXILIARES'!$E$13,\"Não se aplica\")","v":"Resposta Não Preenchida"}]
[null,"25.3",{"$f":"FORM2.4!E87","v":"O órgão define e documenta os objetivos da minimização do tratamento sobre os dados pessoais sob sua custódia?"},null,{"$f":"_xlfn.IFS(_xlfn.XLOOKUP(B405,FORM2.4!$B$10:$B$183,FORM2.4!$F$10:$F$183)='TABELAS AUXILIARES'!$E$7,\"Resposta Não Preenchida\",_xlfn.XLOOKUP(B405,FORM2.4!$B$10:$B$183,FORM2.4!$F$10:$F$183)='TABELAS AUXILIARES'!$E$8,\"Implementada\",_xlfn.XLOOKUP(B405,FORM2.4!$B$10:$B$183,FORM2.4!$F$10:$F$183)='TABELAS AUXILIARES'!$E$9,\"Não Implementada\",_xlfn.XLOOKUP(B405,FORM2.4!$B$10:$B$183,FORM2.4!$F$10:$F$183)='TABELAS AUXILIARES'!$E$10,\"Não Implementada\",_xlfn.XLOOKUP(B405,FORM2.4!$B$10:$B$183,FORM2.4!$F$10:$F$183)='TABELAS AUXILIARES'!$E$11,\"Não Implementada\",_xlfn.XLOOKUP(B405,FORM2.4!$B$10:$B$183,FORM2.4!$F$10:$F$183)='TABELAS AUXILIARES'!$E$12,\"Não Adota\",_xlfn.XLOOKUP(B405,FORM2.4!$B$10:$B$183,FORM2.4!$F$10:$F$183)='TABELAS AUXILIARES'!$E$13,\"Não se aplica\")","v":"Resposta Não Preenchida"}]
[null,"25.4",{"$f":"FORM2.4!E88","v":"Os dados são mantidos em formato interoperável e estruturado para o uso compartilhado, com vistas à execução de políticas públicas, à prestação de serviços públicos, à descentralização da atividade pública e à disseminação e ao acesso das informações pelo público em geral?"},null,{"$f":"_xlfn.IFS(_xlfn.XLOOKUP(B406,FORM2.4!$B$10:$B$183,FORM2.4!$F$10:$F$183)='TABELAS AUXILIARES'!$E$7,\"Resposta Não Preenchida\",_xlfn.XLOOKUP(B406,FORM2.4!$B$10:$B$183,FORM2.4!$F$10:$F$183)='TABELAS AUXILIARES'!$E$8,\"Implementada\",_xlfn.XLOOKUP(B406,FORM2.4!$B$10:$B$183,FORM2.4!$F$10:$F$183)='TABELAS AUXILIARES'!$E$9,\"Não Implementada\",_xlfn.XLOOKUP(B406,FORM2.4!$B$10:$B$183,FORM2.4!$F$10:$F$183)='TABELAS AUXILIARES'!$E$10,\"Não Implementada\",_xlfn.XLOOKUP(B406,FORM2.4!$B$10:$B$183,FORM2.4!$F$10:$F$183)='TABELAS AUXILIARES'!$E$11,\"Não Implementada\",_xlfn.XLOOKUP(B406,FORM2.4!$B$10:$B$183,FORM2.4!$F$10:$F$183)='TABELAS AUXILIARES'!$E$12,\"Não Adota\",_xlfn.XLOOKUP(B406,FORM2.4!$B$10:$B$183,FORM2.4!$F$10:$F$183)='TABELAS AUXILIARES'!$E$13,\"Não se aplica\")","v":"Resposta Não Preenchida"}]
[null,"25.5",{"$f":"FORM2.4!E89","v":"Há procedimentos para garantir que quando há o término do tratamento de dados do titular no órgão, este segue as hipóteses previstas no artigo 15 da LGPD?"},null,{"$f":"_xlfn.IFS(_xlfn.XLOOKUP(B407,FORM2.4!$B$10:$B$183,FORM2.4!$F$10:$F$183)='TABELAS AUXILIARES'!$E$7,\"Resposta Não Preenchida\",_xlfn.XLOOKUP(B407,FORM2.4!$B$10:$B$183,FORM2.4!$F$10:$F$183)='TABELAS AUXILIARES'!$E$8,\"Implementada\",_xlfn.XLOOKUP(B407,FORM2.4!$B$10:$B$183,FORM2.4!$F$10:$F$183)='TABELAS AUXILIARES'!$E$9,\"Não Implementada\",_xlfn.XLOOKUP(B407,FORM2.4!$B$10:$B$183,FORM2.4!$F$10:$F$183)='TABELAS AUXILIARES'!$E$10,\"Não Implementada\",_xlfn.XLOOKUP(B407,FORM2.4!$B$10:$B$183,FORM2.4!$F$10:$F$183)='TABELAS AUXILIARES'!$E$11,\"Não Implementada\",_xlfn.XLOOKUP(B407,FORM2.4!$B$10:$B$183,FORM2.4!$F$10:$F$183)='TABELAS AUXILIARES'!$E$12,\"Não Adota\",_xlfn.XLOOKUP(B407,FORM2.4!$B$10:$B$183,FORM2.4!$F$10:$F$183)='TABELAS AUXILIARES'!$E$13,\"Não se aplica\")","v":"Resposta Não Preenchida"}]
[null,"25.6",{"$f":"FORM2.4!E90","v":"A instituição utiliza técnicas ou métodos apropriados para garantir exclusão ou destruição segura de dados pessoais (incluindo originais, cópias e registros arquivados), de modo a impedir sua recuperação?"},null,{"$f":"_xlfn.IFS(_xlfn.XLOOKUP(B408,FORM2.4!$B$10:$B$183,FORM2.4!$F$10:$F$183)='TABELAS AUXILIARES'!$E$7,\"Resposta Não Preenchida\",_xlfn.XLOOKUP(B408,FORM2.4!$B$10:$B$183,FORM2.4!$F$10:$F$183)='TABELAS AUXILIARES'!$E$8,\"Implementada\",_xlfn.XLOOKUP(B408,FORM2.4!$B$10:$B$183,FORM2.4!$F$10:$F$183)='TABELAS AUXILIARES'!$E$9,\"Não Implementada\",_xlfn.XLOOKUP(B408,FORM2.4!$B$10:$B$183,FORM2.4!$F$10:$F$183)='TABELAS AUXILIARES'!$E$10,\"Não Implementada\",_xlfn.XLOOKUP(B408,FORM2.4!$B$10:$B$183,FORM2.4!$F$10:$F$183)='TABELAS AUXILIARES'!$E$11,\"Não Implementada\",_xlfn.XLOOKUP(B408,FORM2.4!$B$10:$B$183,FORM2.4!$F$10:$F$183)='TABELAS AUXILIARES'!$E$12,\"Não Adota\",_xlfn.XLOOKUP(B408,FORM2.4!$B$10:$B$183,FORM2.4!$F$10:$F$183)='TABELAS AUXILIARES'!$E$13,\"Não se aplica\")","v":"Resposta Não Preenchida"}]
[null,"25.7",{"$f":"FORM2.4!E91","v":"A organização avalia se os dados pessoais são retidos (armazenados) durante o tempo estritamente necessário para cumprir com as finalidades de tratamento de dados pessoais que foram identificadas?"},null,{"$f":"_xlfn.IFS(_xlfn.XLOOKUP(B409,FORM2.4!$B$10:$B$183,FORM2.4!$F$10:$F$183)='TABELAS AUXILIARES'!$E$7,\"Resposta Não Preenchida\",_xlfn.XLOOKUP(B409,FORM2.4!$B$10:$B$183,FORM2.4!$F$10:$F$183)='TABELAS AUXILIARES'!$E$8,\"Implementada\",_xlfn.XLOOKUP(B409,FORM2.4!$B$10:$B$183,FORM2.4!$F$10:$F$183)='TABELAS AUXILIARES'!$E$9,\"Não Implementada\",_xlfn.XLOOKUP(B409,FORM2.4!$B$10:$B$183,FORM2.4!$F$10:$F$183)='TABELAS AUXILIARES'!$E$10,\"Não Implementada\",_xlfn.XLOOKUP(B409,FORM2.4!$B$10:$B$183,FORM2.4!$F$10:$F$183)='TABELAS AUXILIARES'!$E$11,\"Não Implementada\",_xlfn.XLOOKUP(B409,FORM2.4!$B$10:$B$183,FORM2.4!$F$10:$F$183)='TABELAS AUXILIARES'!$E$12,\"Não Adota\",_xlfn.XLOOKUP(B409,FORM2.4!$B$10:$B$183,FORM2.4!$F$10:$F$183)='TABELAS AUXILIARES'!$E$13,\"Não se aplica\")","v":"Resposta Não Preenchida"}]
[null,"25.8",{"$f":"FORM2.4!E92","v":"O órgão implementa no serviço a detecção da expiração do período de retenção e aviso automático de que deve ser avaliada a possibilidade de exclusão dos dados pessoais após o cumprimento das finalidades?"},null,{"$f":"_xlfn.IFS(_xlfn.XLOOKUP(B410,FORM2.4!$B$10:$B$183,FORM2.4!$F$10:$F$183)='TABELAS AUXILIARES'!$E$7,\"Resposta Não Preenchida\",_xlfn.XLOOKUP(B410,FORM2.4!$B$10:$B$183,FORM2.4!$F$10:$F$183)='TABELAS AUXILIARES'!$E$8,\"Implementada\",_xlfn.XLOOKUP(B410,FORM2.4!$B$10:$B$183,FORM2.4!$F$10:$F$183)='TABELAS AUXILIARES'!$E$9,\"Não Implementada\",_xlfn.XLOOKUP(B410,FORM2.4!$B$10:$B$183,FORM2.4!$F$10:$F$183)='TABELAS AUXILIARES'!$E$10,\"Não Implementada\",_xlfn.XLOOKUP(B410,FORM2.4!$B$10:$B$183,FORM2.4!$F$10:$F$183)='TABELAS AUXILIARES'!$E$11,\"Não Implementada\",_xlfn.XLOOKUP(B410,FORM2.4!$B$10:$B$183,FORM2.4!$F$10:$F$183)='TABELAS AUXILIARES'!$E$12,\"Não Adota\",_xlfn.XLOOKUP(B410,FORM2.4!$B$10:$B$183,FORM2.4!$F$10:$F$183)='TABELAS AUXILIARES'!$E$13,\"Não se aplica\")","v":"Resposta Não Preenchida"}]
[null,"25.9",{"$f":"FORM2.4!E93","v":"O órgão bloqueia e adota medidas de proteção para isentar de processamento adicional os dados pessoais quando os propósitos informados ao titular são atingidos, mas a retenção for exigida pelas leis aplicáveis?"},null,{"$f":"_xlfn.IFS(_xlfn.XLOOKUP(B411,FORM2.4!$B$10:$B$183,FORM2.4!$F$10:$F$183)='TABELAS AUXILIARES'!$E$7,\"Resposta Não Preenchida\",_xlfn.XLOOKUP(B411,FORM2.4!$B$10:$B$183,FORM2.4!$F$10:$F$183)='TABELAS AUXILIARES'!$E$8,\"Implementada\",_xlfn.XLOOKUP(B411,FORM2.4!$B$10:$B$183,FORM2.4!$F$10:$F$183)='TABELAS AUXILIARES'!$E$9,\"Não Implementada\",_xlfn.XLOOKUP(B411,FORM2.4!$B$10:$B$183,FORM2.4!$F$10:$F$183)='TABELAS AUXILIARES'!$E$10,\"Não Implementada\",_xlfn.XLOOKUP(B411,FORM2.4!$B$10:$B$183,FORM2.4!$F$10:$F$183)='TABELAS AUXILIARES'!$E$11,\"Não Implementada\",_xlfn.XLOOKUP(B411,FORM2.4!$B$10:$B$183,FORM2.4!$F$10:$F$183)='TABELAS AUXILIARES'!$E$12,\"Não Adota\",_xlfn.XLOOKUP(B411,FORM2.4!$B$10:$B$183,FORM2.4!$F$10:$F$183)='TABELAS AUXILIARES'!$E$13,\"Não se aplica\")","v":"Resposta Não Preenchida"}]
[]
[null,26,{"$f":"FORM3.1!C43","v":"PRIVACIDADE CONTROLE 26: ACESSO E QUALIDADE"}]
[null,{"$f":"FORM2.4!I94","v":"Controle Não Foi Respondido"}]
[null,null,"MEDIDAS DE PRIVACIDADE"]
[null,"Nível de Capacidade do Controle"]
[null,"ID","Medida",null,"Resposta"]
[null,"26.1",{"$f":"FORM2.4!E95","v":"Há um canal de comunicação ativo, seguro e autenticado com um ponto de contato para receber e responder a reclamações e requisições do titular sobre o tratamento de dados pessoais?"},null,{"$f":"_xlfn.IFS(_xlfn.XLOOKUP(B418,FORM2.4!$B$10:$B$183,FORM2.4!$F$10:$F$183)='TABELAS AUXILIARES'!$E$7,\"Resposta Não Preenchida\",_xlfn.XLOOKUP(B418,FORM2.4!$B$10:$B$183,FORM2.4!$F$10:$F$183)='TABELAS AUXILIARES'!$E$8,\"Implementada\",_xlfn.XLOOKUP(B418,FORM2.4!$B$10:$B$183,FORM2.4!$F$10:$F$183)='TABELAS AUXILIARES'!$E$9,\"Não Implementada\",_xlfn.XLOOKUP(B418,FORM2.4!$B$10:$B$183,FORM2.4!$F$10:$F$183)='TABELAS AUXILIARES'!$E$10,\"Não Implementada\",_xlfn.XLOOKUP(B418,FORM2.4!$B$10:$B$183,FORM2.4!$F$10:$F$183)='TABELAS AUXILIARES'!$E$11,\"Não Implementada\",_xlfn.XLOOKUP(B418,FORM2.4!$B$10:$B$183,FORM2.4!$F$10:$F$183)='TABELAS AUXILIARES'!$E$12,\"Não Adota\",_xlfn.XLOOKUP(B418,FORM2.4!$B$10:$B$183,FORM2.4!$F$10:$F$183)='TABELAS AUXILIARES'!$E$13,\"Não se aplica\")","v":"Resposta Não Preenchida"}]
[null,"26.2",{"$f":"FORM2.4!E96","v":"O órgão adota meios para verificar a validade e exatidão das solicitações de correção realizadas por parte do titular de dados pessoais?"},null,{"$f":"_xlfn.IFS(_xlfn.XLOOKUP(B419,FORM2.4!$B$10:$B$183,FORM2.4!$F$10:$F$183)='TABELAS AUXILIARES'!$E$7,\"Resposta Não Preenchida\",_xlfn.XLOOKUP(B419,FORM2.4!$B$10:$B$183,FORM2.4!$F$10:$F$183)='TABELAS AUXILIARES'!$E$8,\"Implementada\",_xlfn.XLOOKUP(B419,FORM2.4!$B$10:$B$183,FORM2.4!$F$10:$F$183)='TABELAS AUXILIARES'!$E$9,\"Não Implementada\",_xlfn.XLOOKUP(B419,FORM2.4!$B$10:$B$183,FORM2.4!$F$10:$F$183)='TABELAS AUXILIARES'!$E$10,\"Não Implementada\",_xlfn.XLOOKUP(B419,FORM2.4!$B$10:$B$183,FORM2.4!$F$10:$F$183)='TABELAS AUXILIARES'!$E$11,\"Não Implementada\",_xlfn.XLOOKUP(B419,FORM2.4!$B$10:$B$183,FORM2.4!$F$10:$F$183)='TABELAS AUXILIARES'!$E$12,\"Não Adota\",_xlfn.XLOOKUP(B419,FORM2.4!$B$10:$B$183,FORM2.4!$F$10:$F$183)='TABELAS AUXILIARES'!$E$13,\"Não se aplica\")","v":"Resposta Não Preenchida"}]
[null,"26.3",{"$f":"FORM2.4!E97","v":"O órgão fornece meios para que o titulares de dados pessoais possam solicitar as correções dos dados pessoais ou contestar a exatidão e integridade dos dados pessoais com direito a confirmação de recebimento da solicitação?"},null,{"$f":"_xlfn.IFS(_xlfn.XLOOKUP(B420,FORM2.4!$B$10:$B$183,FORM2.4!$F$10:$F$183)='TABELAS AUXILIARES'!$E$7,\"Resposta Não Preenchida\",_xlfn.XLOOKUP(B420,FORM2.4!$B$10:$B$183,FORM2.4!$F$10:$F$183)='TABELAS AUXILIARES'!$E$8,\"Implementada\",_xlfn.XLOOKUP(B420,FORM2.4!$B$10:$B$183,FORM2.4!$F$10:$F$183)='TABELAS AUXILIARES'!$E$9,\"Não Implementada\",_xlfn.XLOOKUP(B420,FORM2.4!$B$10:$B$183,FORM2.4!$F$10:$F$183)='TABELAS AUXILIARES'!$E$10,\"Não Implementada\",_xlfn.XLOOKUP(B420,FORM2.4!$B$10:$B$183,FORM2.4!$F$10:$F$183)='TABELAS AUXILIARES'!$E$11,\"Não Implementada\",_xlfn.XLOOKUP(B420,FORM2.4!$B$10:$B$183,FORM2.4!$F$10:$F$183)='TABELAS AUXILIARES'!$E$12,\"Não Adota\",_xlfn.XLOOKUP(B420,FORM2.4!$B$10:$B$183,FORM2.4!$F$10:$F$183)='TABELAS AUXILIARES'!$E$13,\"Não se aplica\")","v":"Resposta Não Preenchida"}]
[null,"26.4",{"$f":"FORM2.4!E98","v":"O órgão fornece, na medida do possível, as respostas ao titular de dados pessoais de forma equivalente àquela em que a solicitação foi realizada?"},null,{"$f":"_xlfn.IFS(_xlfn.XLOOKUP(B421,FORM2.4!$B$10:$B$183,FORM2.4!$F$10:$F$183)='TABELAS AUXILIARES'!$E$7,\"Resposta Não Preenchida\",_xlfn.XLOOKUP(B421,FORM2.4!$B$10:$B$183,FORM2.4!$F$10:$F$183)='TABELAS AUXILIARES'!$E$8,\"Implementada\",_xlfn.XLOOKUP(B421,FORM2.4!$B$10:$B$183,FORM2.4!$F$10:$F$183)='TABELAS AUXILIARES'!$E$9,\"Não Implementada\",_xlfn.XLOOKUP(B421,FORM2.4!$B$10:$B$183,FORM2.4!$F$10:$F$183)='TABELAS AUXILIARES'!$E$10,\"Não Implementada\",_xlfn.XLOOKUP(B421,FORM2.4!$B$10:$B$183,FORM2.4!$F$10:$F$183)='TABELAS AUXILIARES'!$E$11,\"Não Implementada\",_xlfn.XLOOKUP(B421,FORM2.4!$B$10:$B$183,FORM2.4!$F$10:$F$183)='TABELAS AUXILIARES'!$E$12,\"Não Adota\",_xlfn.XLOOKUP(B421,FORM2.4!$B$10:$B$183,FORM2.4!$F$10:$F$183)='TABELAS AUXILIARES'!$E$13,\"Não se aplica\")","v":"Resposta Não Preenchida"}]
[null,"26.5",{"$f":"FORM2.4!E99","v":"O órgão adota mecanismos de rastreamento para garantir que todas as petições e reclamações recebidas dos titulares de dados pessoais sejam analisadas e tratadas adequadamente em tempo hábil?"},null,{"$f":"_xlfn.IFS(_xlfn.XLOOKUP(B422,FORM2.4!$B$10:$B$183,FORM2.4!$F$10:$F$183)='TABELAS AUXILIARES'!$E$7,\"Resposta Não Preenchida\",_xlfn.XLOOKUP(B422,FORM2.4!$B$10:$B$183,FORM2.4!$F$10:$F$183)='TABELAS AUXILIARES'!$E$8,\"Implementada\",_xlfn.XLOOKUP(B422,FORM2.4!$B$10:$B$183,FORM2.4!$F$10:$F$183)='TABELAS AUXILIARES'!$E$9,\"Não Implementada\",_xlfn.XLOOKUP(B422,FORM2.4!$B$10:$B$183,FORM2.4!$F$10:$F$183)='TABELAS AUXILIARES'!$E$10,\"Não Implementada\",_xlfn.XLOOKUP(B422,FORM2.4!$B$10:$B$183,FORM2.4!$F$10:$F$183)='TABELAS AUXILIARES'!$E$11,\"Não Implementada\",_xlfn.XLOOKUP(B422,FORM2.4!$B$10:$B$183,FORM2.4!$F$10:$F$183)='TABELAS AUXILIARES'!$E$12,\"Não Adota\",_xlfn.XLOOKUP(B422,FORM2.4!$B$10:$B$183,FORM2.4!$F$10:$F$183)='TABELAS AUXILIARES'!$E$13,\"Não se aplica\")","v":"Resposta Não Preenchida"}]
[null,"26.6",{"$f":"FORM2.4!E100","v":"São utilizados padrões técnicos, principalmente os definidos pela ANPD, que facilitem o controle pelos titulares dos seus dados pessoais?"},null,{"$f":"_xlfn.IFS(_xlfn.XLOOKUP(B423,FORM2.4!$B$10:$B$183,FORM2.4!$F$10:$F$183)='TABELAS AUXILIARES'!$E$7,\"Resposta Não Preenchida\",_xlfn.XLOOKUP(B423,FORM2.4!$B$10:$B$183,FORM2.4!$F$10:$F$183)='TABELAS AUXILIARES'!$E$8,\"Implementada\",_xlfn.XLOOKUP(B423,FORM2.4!$B$10:$B$183,FORM2.4!$F$10:$F$183)='TABELAS AUXILIARES'!$E$9,\"Não Implementada\",_xlfn.XLOOKUP(B423,FORM2.4!$B$10:$B$183,FORM2.4!$F$10:$F$183)='TABELAS AUXILIARES'!$E$10,\"Não Implementada\",_xlfn.XLOOKUP(B423,FORM2.4!$B$10:$B$183,FORM2.4!$F$10:$F$183)='TABELAS AUXILIARES'!$E$11,\"Não Implementada\",_xlfn.XLOOKUP(B423,FORM2.4!$B$10:$B$183,FORM2.4!$F$10:$F$183)='TABELAS AUXILIARES'!$E$12,\"Não Adota\",_xlfn.XLOOKUP(B423,FORM2.4!$B$10:$B$183,FORM2.4!$F$10:$F$183)='TABELAS AUXILIARES'!$E$13,\"Não se aplica\")","v":"Resposta Não Preenchida"}]
[null,"26.7",{"$f":"FORM2.4!E101","v":"O órgão implementa meios práticos para permitir que os titulares gerenciem os seus dados pessoais, de forma simples, rápida e eficiente, e que não acarrete atrasos indevidos ou custo ao titular?"},null,{"$f":"_xlfn.IFS(_xlfn.XLOOKUP(B424,FORM2.4!$B$10:$B$183,FORM2.4!$F$10:$F$183)='TABELAS AUXILIARES'!$E$7,\"Resposta Não Preenchida\",_xlfn.XLOOKUP(B424,FORM2.4!$B$10:$B$183,FORM2.4!$F$10:$F$183)='TABELAS AUXILIARES'!$E$8,\"Implementada\",_xlfn.XLOOKUP(B424,FORM2.4!$B$10:$B$183,FORM2.4!$F$10:$F$183)='TABELAS AUXILIARES'!$E$9,\"Não Implementada\",_xlfn.XLOOKUP(B424,FORM2.4!$B$10:$B$183,FORM2.4!$F$10:$F$183)='TABELAS AUXILIARES'!$E$10,\"Não Implementada\",_xlfn.XLOOKUP(B424,FORM2.4!$B$10:$B$183,FORM2.4!$F$10:$F$183)='TABELAS AUXILIARES'!$E$11,\"Não Implementada\",_xlfn.XLOOKUP(B424,FORM2.4!$B$10:$B$183,FORM2.4!$F$10:$F$183)='TABELAS AUXILIARES'!$E$12,\"Não Adota\",_xlfn.XLOOKUP(B424,FORM2.4!$B$10:$B$183,FORM2.4!$F$10:$F$183)='TABELAS AUXILIARES'!$E$13,\"Não se aplica\")","v":"Resposta Não Preenchida"}]
[null,"26.8",{"$f":"FORM2.4!E102","v":"O órgão confirma, na medida do possível, a exatidão, relevância e integridade dos dados pessoais na coleta?"},null,{"$f":"_xlfn.IFS(_xlfn.XLOOKUP(B425,FORM2.4!$B$10:$B$183,FORM2.4!$F$10:$F$183)='TABELAS AUXILIARES'!$E$7,\"Resposta Não Preenchida\",_xlfn.XLOOKUP(B425,FORM2.4!$B$10:$B$183,FORM2.4!$F$10:$F$183)='TABELAS AUXILIARES'!$E$8,\"Implementada\",_xlfn.XLOOKUP(B425,FORM2.4!$B$10:$B$183,FORM2.4!$F$10:$F$183)='TABELAS AUXILIARES'!$E$9,\"Não Implementada\",_xlfn.XLOOKUP(B425,FORM2.4!$B$10:$B$183,FORM2.4!$F$10:$F$183)='TABELAS AUXILIARES'!$E$10,\"Não Implementada\",_xlfn.XLOOKUP(B425,FORM2.4!$B$10:$B$183,FORM2.4!$F$10:$F$183)='TABELAS AUXILIARES'!$E$11,\"Não Implementada\",_xlfn.XLOOKUP(B425,FORM2.4!$B$10:$B$183,FORM2.4!$F$10:$F$183)='TABELAS AUXILIARES'!$E$12,\"Não Adota\",_xlfn.XLOOKUP(B425,FORM2.4!$B$10:$B$183,FORM2.4!$F$10:$F$183)='TABELAS AUXILIARES'!$E$13,\"Não se aplica\")","v":"Resposta Não Preenchida"}]
[null,"26.9",{"$f":"FORM2.4!E103","v":"A instituição implementa medidas que visam a garantir e maximizar a exatidão, qualidade e completude dos dados pessoais coletados? "},null,{"$f":"_xlfn.IFS(_xlfn.XLOOKUP(B426,FORM2.4!$B$10:$B$183,FORM2.4!$F$10:$F$183)='TABELAS AUXILIARES'!$E$7,\"Resposta Não Preenchida\",_xlfn.XLOOKUP(B426,FORM2.4!$B$10:$B$183,FORM2.4!$F$10:$F$183)='TABELAS AUXILIARES'!$E$8,\"Implementada\",_xlfn.XLOOKUP(B426,FORM2.4!$B$10:$B$183,FORM2.4!$F$10:$F$183)='TABELAS AUXILIARES'!$E$9,\"Não Implementada\",_xlfn.XLOOKUP(B426,FORM2.4!$B$10:$B$183,FORM2.4!$F$10:$F$183)='TABELAS AUXILIARES'!$E$10,\"Não Implementada\",_xlfn.XLOOKUP(B426,FORM2.4!$B$10:$B$183,FORM2.4!$F$10:$F$183)='TABELAS AUXILIARES'!$E$11,\"Não Implementada\",_xlfn.XLOOKUP(B426,FORM2.4!$B$10:$B$183,FORM2.4!$F$10:$F$183)='TABELAS AUXILIARES'!$E$12,\"Não Adota\",_xlfn.XLOOKUP(B426,FORM2.4!$B$10:$B$183,FORM2.4!$F$10:$F$183)='TABELAS AUXILIARES'!$E$13,\"Não se aplica\")","v":"Resposta Não Preenchida"}]
[null,"26.10",{"$f":"FORM2.4!E104","v":"O órgão revisa periodicamente e corrige conforme necessário os dados pessoais imprecisos ou desatualizados?"},null,{"$f":"_xlfn.IFS(_xlfn.XLOOKUP(B427,FORM2.4!$B$10:$B$183,FORM2.4!$F$10:$F$183)='TABELAS AUXILIARES'!$E$7,\"Resposta Não Preenchida\",_xlfn.XLOOKUP(B427,FORM2.4!$B$10:$B$183,FORM2.4!$F$10:$F$183)='TABELAS AUXILIARES'!$E$8,\"Implementada\",_xlfn.XLOOKUP(B427,FORM2.4!$B$10:$B$183,FORM2.4!$F$10:$F$183)='TABELAS AUXILIARES'!$E$9,\"Não Implementada\",_xlfn.XLOOKUP(B427,FORM2.4!$B$10:$B$183,FORM2.4!$F$10:$F$183)='TABELAS AUXILIARES'!$E$10,\"Não Implementada\",_xlfn.XLOOKUP(B427,FORM2.4!$B$10:$B$183,FORM2.4!$F$10:$F$183)='TABELAS AUXILIARES'!$E$11,\"Não Implementada\",_xlfn.XLOOKUP(B427,FORM2.4!$B$10:$B$183,FORM2.4!$F$10:$F$183)='TABELAS AUXILIARES'!$E$12,\"Não Adota\",_xlfn.XLOOKUP(B427,FORM2.4!$B$10:$B$183,FORM2.4!$F$10:$F$183)='TABELAS AUXILIARES'!$E$13,\"Não se aplica\")","v":"Resposta Não Preenchida"}]
[null,"26.11",{"$f":"FORM2.4!E105","v":"O órgão fornece informações ao titular de dados pessoais sobre o andamento de suas solicitações?"},null,{"$f":"_xlfn.IFS(_xlfn.XLOOKUP(B428,FORM2.4!$B$10:$B$183,FORM2.4!$F$10:$F$183)='TABELAS AUXILIARES'!$E$7,\"Resposta Não Preenchida\",_xlfn.XLOOKUP(B428,FORM2.4!$B$10:$B$183,FORM2.4!$F$10:$F$183)='TABELAS AUXILIARES'!$E$8,\"Implementada\",_xlfn.XLOOKUP(B428,FORM2.4!$B$10:$B$183,FORM2.4!$F$10:$F$183)='TABELAS AUXILIARES'!$E$9,\"Não Implementada\",_xlfn.XLOOKUP(B428,FORM2.4!$B$10:$B$183,FORM2.4!$F$10:$F$183)='TABELAS AUXILIARES'!$E$10,\"Não Implementada\",_xlfn.XLOOKUP(B428,FORM2.4!$B$10:$B$183,FORM2.4!$F$10:$F$183)='TABELAS AUXILIARES'!$E$11,\"Não Implementada\",_xlfn.XLOOKUP(B428,FORM2.4!$B$10:$B$183,FORM2.4!$F$10:$F$183)='TABELAS AUXILIARES'!$E$12,\"Não Adota\",_xlfn.XLOOKUP(B428,FORM2.4!$B$10:$B$183,FORM2.4!$F$10:$F$183)='TABELAS AUXILIARES'!$E$13,\"Não se aplica\")","v":"Resposta Não Preenchida"}]
[null,"26.12",{"$f":"FORM2.4!E106","v":"O órgão comunica qualquer alteração, correção ou remoção dos dados pessoais para operadores e terceiros com quem os dados pessoais foram compartilhados?"},null,{"$f":"_xlfn.IFS(_xlfn.XLOOKUP(B429,FORM2.4!$B$10:$B$183,FORM2.4!$F$10:$F$183)='TABELAS AUXILIARES'!$E$7,\"Resposta Não Preenchida\",_xlfn.XLOOKUP(B429,FORM2.4!$B$10:$B$183,FORM2.4!$F$10:$F$183)='TABELAS AUXILIARES'!$E$8,\"Implementada\",_xlfn.XLOOKUP(B429,FORM2.4!$B$10:$B$183,FORM2.4!$F$10:$F$183)='TABELAS AUXILIARES'!$E$9,\"Não Implementada\",_xlfn.XLOOKUP(B429,FORM2.4!$B$10:$B$183,FORM2.4!$F$10:$F$183)='TABELAS AUXILIARES'!$E$10,\"Não Implementada\",_xlfn.XLOOKUP(B429,FORM2.4!$B$10:$B$183,FORM2.4!$F$10:$F$183)='TABELAS AUXILIARES'!$E$11,\"Não Implementada\",_xlfn.XLOOKUP(B429,FORM2.4!$B$10:$B$183,FORM2.4!$F$10:$F$183)='TABELAS AUXILIARES'!$E$12,\"Não Adota\",_xlfn.XLOOKUP(B429,FORM2.4!$B$10:$B$183,FORM2.4!$F$10:$F$183)='TABELAS AUXILIARES'!$E$13,\"Não se aplica\")","v":"Resposta Não Preenchida"}]
[]
[null,27,{"$f":"FORM3.1!C44","v":"PRIVACIDADE CONTROLE 27: COMPARTILHAMENTO, TRANSFERÊNCIA E DIVULGAÇÃO"}]
[null,{"$f":"FORM2.4!I107","v":"Controle Não Foi Respondido"}]
[null,null,"MEDIDAS DE PRIVACIDADE"]
[null,"Nível de Capacidade do Controle"]
[null,"ID","Medida",null,"Resposta"]
[null,"27.1",{"$f":"FORM2.4!E108","v":"O órgão identifica os compartilhamentos de dados pessoais realizados com operadores terceiros e outras instituições conforme Art. 26 e 27 da LGPD, incluindo quais dados pessoais foram divulgados, a quem, a que horas e com que finalidade?"},null,{"$f":"_xlfn.IFS(_xlfn.XLOOKUP(B436,FORM2.4!$B$10:$B$183,FORM2.4!$F$10:$F$183)='TABELAS AUXILIARES'!$E$7,\"Resposta Não Preenchida\",_xlfn.XLOOKUP(B436,FORM2.4!$B$10:$B$183,FORM2.4!$F$10:$F$183)='TABELAS AUXILIARES'!$E$8,\"Implementada\",_xlfn.XLOOKUP(B436,FORM2.4!$B$10:$B$183,FORM2.4!$F$10:$F$183)='TABELAS AUXILIARES'!$E$9,\"Não Implementada\",_xlfn.XLOOKUP(B436,FORM2.4!$B$10:$B$183,FORM2.4!$F$10:$F$183)='TABELAS AUXILIARES'!$E$10,\"Não Implementada\",_xlfn.XLOOKUP(B436,FORM2.4!$B$10:$B$183,FORM2.4!$F$10:$F$183)='TABELAS AUXILIARES'!$E$11,\"Não Implementada\",_xlfn.XLOOKUP(B436,FORM2.4!$B$10:$B$183,FORM2.4!$F$10:$F$183)='TABELAS AUXILIARES'!$E$12,\"Não Adota\",_xlfn.XLOOKUP(B436,FORM2.4!$B$10:$B$183,FORM2.4!$F$10:$F$183)='TABELAS AUXILIARES'!$E$13,\"Não se aplica\")","v":"Resposta Não Preenchida"}]
[null,"27.2",{"$f":"FORM2.4!E109","v":"O órgão identifica as transferências internacionais de dados pessoais realizadas conforme o Capítulo V da LGPD, incluindo quais dados pessoais foram divulgados, a quem, a que horas e com que finalidade?"},null,{"$f":"_xlfn.IFS(_xlfn.XLOOKUP(B437,FORM2.4!$B$10:$B$183,FORM2.4!$F$10:$F$183)='TABELAS AUXILIARES'!$E$7,\"Resposta Não Preenchida\",_xlfn.XLOOKUP(B437,FORM2.4!$B$10:$B$183,FORM2.4!$F$10:$F$183)='TABELAS AUXILIARES'!$E$8,\"Implementada\",_xlfn.XLOOKUP(B437,FORM2.4!$B$10:$B$183,FORM2.4!$F$10:$F$183)='TABELAS AUXILIARES'!$E$9,\"Não Implementada\",_xlfn.XLOOKUP(B437,FORM2.4!$B$10:$B$183,FORM2.4!$F$10:$F$183)='TABELAS AUXILIARES'!$E$10,\"Não Implementada\",_xlfn.XLOOKUP(B437,FORM2.4!$B$10:$B$183,FORM2.4!$F$10:$F$183)='TABELAS AUXILIARES'!$E$11,\"Não Implementada\",_xlfn.XLOOKUP(B437,FORM2.4!$B$10:$B$183,FORM2.4!$F$10:$F$183)='TABELAS AUXILIARES'!$E$12,\"Não Adota\",_xlfn.XLOOKUP(B437,FORM2.4!$B$10:$B$183,FORM2.4!$F$10:$F$183)='TABELAS AUXILIARES'!$E$13,\"Não se aplica\")","v":"Resposta Não Preenchida"}]
[null,"27.3",{"$f":"FORM2.4!E110","v":"O órgão, ao compartilhar dados pessoais, adota um processo de formalização e registro, identificando objeto e finalidade, base legal e duração do tratamento?"},null,{"$f":"_xlfn.IFS(_xlfn.XLOOKUP(B438,FORM2.4!$B$10:$B$183,FORM2.4!$F$10:$F$183)='TABELAS AUXILIARES'!$E$7,\"Resposta Não Preenchida\",_xlfn.XLOOKUP(B438,FORM2.4!$B$10:$B$183,FORM2.4!$F$10:$F$183)='TABELAS AUXILIARES'!$E$8,\"Implementada\",_xlfn.XLOOKUP(B438,FORM2.4!$B$10:$B$183,FORM2.4!$F$10:$F$183)='TABELAS AUXILIARES'!$E$9,\"Não Implementada\",_xlfn.XLOOKUP(B438,FORM2.4!$B$10:$B$183,FORM2.4!$F$10:$F$183)='TABELAS AUXILIARES'!$E$10,\"Não Implementada\",_xlfn.XLOOKUP(B438,FORM2.4!$B$10:$B$183,FORM2.4!$F$10:$F$183)='TABELAS AUXILIARES'!$E$11,\"Não Implementada\",_xlfn.XLOOKUP(B438,FORM2.4!$B$10:$B$183,FORM2.4!$F$10:$F$183)='TABELAS AUXILIARES'!$E$12,\"Não Adota\",_xlfn.XLOOKUP(B438,FORM2.4!$B$10:$B$183,FORM2.4!$F$10:$F$183)='TABELAS AUXILIARES'!$E$13,\"Não se aplica\")","v":"Resposta Não Preenchida"}]
[null,"27.4",{"$f":"FORM2.4!E111","v":"O órgão solicita descrição formal das medidas de proteção de dados pessoais adotadas pelas entidades com quem compartilha dados pessoais?"},null,{"$f":"_xlfn.IFS(_xlfn.XLOOKUP(B439,FORM2.4!$B$10:$B$183,FORM2.4!$F$10:$F$183)='TABELAS AUXILIARES'!$E$7,\"Resposta Não Preenchida\",_xlfn.XLOOKUP(B439,FORM2.4!$B$10:$B$183,FORM2.4!$F$10:$F$183)='TABELAS AUXILIARES'!$E$8,\"Implementada\",_xlfn.XLOOKUP(B439,FORM2.4!$B$10:$B$183,FORM2.4!$F$10:$F$183)='TABELAS AUXILIARES'!$E$9,\"Não Implementada\",_xlfn.XLOOKUP(B439,FORM2.4!$B$10:$B$183,FORM2.4!$F$10:$F$183)='TABELAS AUXILIARES'!$E$10,\"Não Implementada\",_xlfn.XLOOKUP(B439,FORM2.4!$B$10:$B$183,FORM2.4!$F$10:$F$183)='TABELAS AUXILIARES'!$E$11,\"Não Implementada\",_xlfn.XLOOKUP(B439,FORM2.4!$B$10:$B$183,FORM2.4!$F$10:$F$183)='TABELAS AUXILIARES'!$E$12,\"Não Adota\",_xlfn.XLOOKUP(B439,FORM2.4!$B$10:$B$183,FORM2.4!$F$10:$F$183)='TABELAS AUXILIARES'!$E$13,\"Não se aplica\")","v":"Resposta Não Preenchida"}]
[null,"27.5",{"$f":"FORM2.4!E112","v":"O órgão observa o disposto pelo art. 33-36 da LGPD para a realização de transferência internacional de dados pessoais?"},null,{"$f":"_xlfn.IFS(_xlfn.XLOOKUP(B440,FORM2.4!$B$10:$B$183,FORM2.4!$F$10:$F$183)='TABELAS AUXILIARES'!$E$7,\"Resposta Não Preenchida\",_xlfn.XLOOKUP(B440,FORM2.4!$B$10:$B$183,FORM2.4!$F$10:$F$183)='TABELAS AUXILIARES'!$E$8,\"Implementada\",_xlfn.XLOOKUP(B440,FORM2.4!$B$10:$B$183,FORM2.4!$F$10:$F$183)='TABELAS AUXILIARES'!$E$9,\"Não Implementada\",_xlfn.XLOOKUP(B440,FORM2.4!$B$10:$B$183,FORM2.4!$F$10:$F$183)='TABELAS AUXILIARES'!$E$10,\"Não Implementada\",_xlfn.XLOOKUP(B440,FORM2.4!$B$10:$B$183,FORM2.4!$F$10:$F$183)='TABELAS AUXILIARES'!$E$11,\"Não Implementada\",_xlfn.XLOOKUP(B440,FORM2.4!$B$10:$B$183,FORM2.4!$F$10:$F$183)='TABELAS AUXILIARES'!$E$12,\"Não Adota\",_xlfn.XLOOKUP(B440,FORM2.4!$B$10:$B$183,FORM2.4!$F$10:$F$183)='TABELAS AUXILIARES'!$E$13,\"Não se aplica\")","v":"Resposta Não Preenchida"}]
[]
[]
[null,28,{"$f":"FORM3.1!C45","v":"PRIVACIDADE CONTROLE 28: SUPERVISÃO EM TERCEIROS"}]
[null,{"$f":"FORM2.4!I113","v":"Controle Não Foi Respondido"}]
[null,null,"MEDIDAS DE PRIVACIDADE"]
[null,"Nível de Capacidade do Controle"]
[null,"ID","Medida",null,"Resposta"]
[null,"28.1",{"$f":"FORM2.4!E114","v":"O órgão estabelece as funções e responsabilidades do operador envolvido no tratamento de dados pessoais, principalmente a notificação em caso de violação de dados pessoais?"},null,{"$f":"_xlfn.IFS(_xlfn.XLOOKUP(B448,FORM2.4!$B$10:$B$183,FORM2.4!$F$10:$F$183)='TABELAS AUXILIARES'!$E$7,\"Resposta Não Preenchida\",_xlfn.XLOOKUP(B448,FORM2.4!$B$10:$B$183,FORM2.4!$F$10:$F$183)='TABELAS AUXILIARES'!$E$8,\"Implementada\",_xlfn.XLOOKUP(B448,FORM2.4!$B$10:$B$183,FORM2.4!$F$10:$F$183)='TABELAS AUXILIARES'!$E$9,\"Não Implementada\",_xlfn.XLOOKUP(B448,FORM2.4!$B$10:$B$183,FORM2.4!$F$10:$F$183)='TABELAS AUXILIARES'!$E$10,\"Não Implementada\",_xlfn.XLOOKUP(B448,FORM2.4!$B$10:$B$183,FORM2.4!$F$10:$F$183)='TABELAS AUXILIARES'!$E$11,\"Não Implementada\",_xlfn.XLOOKUP(B448,FORM2.4!$B$10:$B$183,FORM2.4!$F$10:$F$183)='TABELAS AUXILIARES'!$E$12,\"Não Adota\",_xlfn.XLOOKUP(B448,FORM2.4!$B$10:$B$183,FORM2.4!$F$10:$F$183)='TABELAS AUXILIARES'!$E$13,\"Não se aplica\")","v":"Resposta Não Preenchida"}]
[null,"28.2",{"$f":"FORM2.4!E115","v":"São estabelecidos acordos de confidencialidade, termos de responsabilidade ou termos de sigilo com operadores de dados pessoais controlados pelos órgãos?"},null,{"$f":"_xlfn.IFS(_xlfn.XLOOKUP(B449,FORM2.4!$B$10:$B$183,FORM2.4!$F$10:$F$183)='TABELAS AUXILIARES'!$E$7,\"Resposta Não Preenchida\",_xlfn.XLOOKUP(B449,FORM2.4!$B$10:$B$183,FORM2.4!$F$10:$F$183)='TABELAS AUXILIARES'!$E$8,\"Implementada\",_xlfn.XLOOKUP(B449,FORM2.4!$B$10:$B$183,FORM2.4!$F$10:$F$183)='TABELAS AUXILIARES'!$E$9,\"Não Implementada\",_xlfn.XLOOKUP(B449,FORM2.4!$B$10:$B$183,FORM2.4!$F$10:$F$183)='TABELAS AUXILIARES'!$E$10,\"Não Implementada\",_xlfn.XLOOKUP(B449,FORM2.4!$B$10:$B$183,FORM2.4!$F$10:$F$183)='TABELAS AUXILIARES'!$E$11,\"Não Implementada\",_xlfn.XLOOKUP(B449,FORM2.4!$B$10:$B$183,FORM2.4!$F$10:$F$183)='TABELAS AUXILIARES'!$E$12,\"Não Adota\",_xlfn.XLOOKUP(B449,FORM2.4!$B$10:$B$183,FORM2.4!$F$10:$F$183)='TABELAS AUXILIARES'!$E$13,\"Não se aplica\")","v":"Resposta Não Preenchida"}]
[null,"28.3",{"$f":"FORM2.4!E116","v":"O órgão estabelece no contrato que o operador não processe os dados pessoais para finalidades que divergem da finalidade principal informada pelo controlador?"},null,{"$f":"_xlfn.IFS(_xlfn.XLOOKUP(B450,FORM2.4!$B$10:$B$183,FORM2.4!$F$10:$F$183)='TABELAS AUXILIARES'!$E$7,\"Resposta Não Preenchida\",_xlfn.XLOOKUP(B450,FORM2.4!$B$10:$B$183,FORM2.4!$F$10:$F$183)='TABELAS AUXILIARES'!$E$8,\"Implementada\",_xlfn.XLOOKUP(B450,FORM2.4!$B$10:$B$183,FORM2.4!$F$10:$F$183)='TABELAS AUXILIARES'!$E$9,\"Não Implementada\",_xlfn.XLOOKUP(B450,FORM2.4!$B$10:$B$183,FORM2.4!$F$10:$F$183)='TABELAS AUXILIARES'!$E$10,\"Não Implementada\",_xlfn.XLOOKUP(B450,FORM2.4!$B$10:$B$183,FORM2.4!$F$10:$F$183)='TABELAS AUXILIARES'!$E$11,\"Não Implementada\",_xlfn.XLOOKUP(B450,FORM2.4!$B$10:$B$183,FORM2.4!$F$10:$F$183)='TABELAS AUXILIARES'!$E$12,\"Não Adota\",_xlfn.XLOOKUP(B450,FORM2.4!$B$10:$B$183,FORM2.4!$F$10:$F$183)='TABELAS AUXILIARES'!$E$13,\"Não se aplica\")","v":"Resposta Não Preenchida"}]
[null,"28.4",{"$f":"FORM2.4!E117","v":"O órgão determina por contrato o assunto e o prazo do serviço a ser prestado, a extensão, a forma e a finalidade do tratamento de dados pessoais pelo operador, bem como os tipos de dados pessoais processados?"},null,{"$f":"_xlfn.IFS(_xlfn.XLOOKUP(B451,FORM2.4!$B$10:$B$183,FORM2.4!$F$10:$F$183)='TABELAS AUXILIARES'!$E$7,\"Resposta Não Preenchida\",_xlfn.XLOOKUP(B451,FORM2.4!$B$10:$B$183,FORM2.4!$F$10:$F$183)='TABELAS AUXILIARES'!$E$8,\"Implementada\",_xlfn.XLOOKUP(B451,FORM2.4!$B$10:$B$183,FORM2.4!$F$10:$F$183)='TABELAS AUXILIARES'!$E$9,\"Não Implementada\",_xlfn.XLOOKUP(B451,FORM2.4!$B$10:$B$183,FORM2.4!$F$10:$F$183)='TABELAS AUXILIARES'!$E$10,\"Não Implementada\",_xlfn.XLOOKUP(B451,FORM2.4!$B$10:$B$183,FORM2.4!$F$10:$F$183)='TABELAS AUXILIARES'!$E$11,\"Não Implementada\",_xlfn.XLOOKUP(B451,FORM2.4!$B$10:$B$183,FORM2.4!$F$10:$F$183)='TABELAS AUXILIARES'!$E$12,\"Não Adota\",_xlfn.XLOOKUP(B451,FORM2.4!$B$10:$B$183,FORM2.4!$F$10:$F$183)='TABELAS AUXILIARES'!$E$13,\"Não se aplica\")","v":"Resposta Não Preenchida"}]
[null,"28.5",{"$f":"FORM2.4!E118","v":"O órgão documenta no contrato de nível de serviço os requisitos de proteção de dados pessoais que os operadores de dados pessoais devem atender?"},null,{"$f":"_xlfn.IFS(_xlfn.XLOOKUP(B452,FORM2.4!$B$10:$B$183,FORM2.4!$F$10:$F$183)='TABELAS AUXILIARES'!$E$7,\"Resposta Não Preenchida\",_xlfn.XLOOKUP(B452,FORM2.4!$B$10:$B$183,FORM2.4!$F$10:$F$183)='TABELAS AUXILIARES'!$E$8,\"Implementada\",_xlfn.XLOOKUP(B452,FORM2.4!$B$10:$B$183,FORM2.4!$F$10:$F$183)='TABELAS AUXILIARES'!$E$9,\"Não Implementada\",_xlfn.XLOOKUP(B452,FORM2.4!$B$10:$B$183,FORM2.4!$F$10:$F$183)='TABELAS AUXILIARES'!$E$10,\"Não Implementada\",_xlfn.XLOOKUP(B452,FORM2.4!$B$10:$B$183,FORM2.4!$F$10:$F$183)='TABELAS AUXILIARES'!$E$11,\"Não Implementada\",_xlfn.XLOOKUP(B452,FORM2.4!$B$10:$B$183,FORM2.4!$F$10:$F$183)='TABELAS AUXILIARES'!$E$12,\"Não Adota\",_xlfn.XLOOKUP(B452,FORM2.4!$B$10:$B$183,FORM2.4!$F$10:$F$183)='TABELAS AUXILIARES'!$E$13,\"Não se aplica\")","v":"Resposta Não Preenchida"}]
[null,"28.6",{"$f":"FORM2.4!E119","v":"O órgão adota meios para garantir que os sistemas do operador de dados pessoais tenham mecanismos de proteção de dados implementados?"},null,{"$f":"_xlfn.IFS(_xlfn.XLOOKUP(B453,FORM2.4!$B$10:$B$183,FORM2.4!$F$10:$F$183)='TABELAS AUXILIARES'!$E$7,\"Resposta Não Preenchida\",_xlfn.XLOOKUP(B453,FORM2.4!$B$10:$B$183,FORM2.4!$F$10:$F$183)='TABELAS AUXILIARES'!$E$8,\"Implementada\",_xlfn.XLOOKUP(B453,FORM2.4!$B$10:$B$183,FORM2.4!$F$10:$F$183)='TABELAS AUXILIARES'!$E$9,\"Não Implementada\",_xlfn.XLOOKUP(B453,FORM2.4!$B$10:$B$183,FORM2.4!$F$10:$F$183)='TABELAS AUXILIARES'!$E$10,\"Não Implementada\",_xlfn.XLOOKUP(B453,FORM2.4!$B$10:$B$183,FORM2.4!$F$10:$F$183)='TABELAS AUXILIARES'!$E$11,\"Não Implementada\",_xlfn.XLOOKUP(B453,FORM2.4!$B$10:$B$183,FORM2.4!$F$10:$F$183)='TABELAS AUXILIARES'!$E$12,\"Não Adota\",_xlfn.XLOOKUP(B453,FORM2.4!$B$10:$B$183,FORM2.4!$F$10:$F$183)='TABELAS AUXILIARES'!$E$13,\"Não se aplica\")","v":"Resposta Não Preenchida"}]
[null,"28.7",{"$f":"FORM2.4!E120","v":"O órgão instrui ao operador que implemente meios práticos para permitir que os titulares exerçam seu direito de gerenciamento dos dados pessoais?"},null,{"$f":"_xlfn.IFS(_xlfn.XLOOKUP(B454,FORM2.4!$B$10:$B$183,FORM2.4!$F$10:$F$183)='TABELAS AUXILIARES'!$E$7,\"Resposta Não Preenchida\",_xlfn.XLOOKUP(B454,FORM2.4!$B$10:$B$183,FORM2.4!$F$10:$F$183)='TABELAS AUXILIARES'!$E$8,\"Implementada\",_xlfn.XLOOKUP(B454,FORM2.4!$B$10:$B$183,FORM2.4!$F$10:$F$183)='TABELAS AUXILIARES'!$E$9,\"Não Implementada\",_xlfn.XLOOKUP(B454,FORM2.4!$B$10:$B$183,FORM2.4!$F$10:$F$183)='TABELAS AUXILIARES'!$E$10,\"Não Implementada\",_xlfn.XLOOKUP(B454,FORM2.4!$B$10:$B$183,FORM2.4!$F$10:$F$183)='TABELAS AUXILIARES'!$E$11,\"Não Implementada\",_xlfn.XLOOKUP(B454,FORM2.4!$B$10:$B$183,FORM2.4!$F$10:$F$183)='TABELAS AUXILIARES'!$E$12,\"Não Adota\",_xlfn.XLOOKUP(B454,FORM2.4!$B$10:$B$183,FORM2.4!$F$10:$F$183)='TABELAS AUXILIARES'!$E$13,\"Não se aplica\")","v":"Resposta Não Preenchida"}]
[null,"28.8",{"$f":"FORM2.4!E121","v":"O órgão exige do operador o cumprimento de todas as cláusulas estipuladas em contrato sobre divulgação de dados pessoais, a menos que proibido por lei?"},null,{"$f":"_xlfn.IFS(_xlfn.XLOOKUP(B455,FORM2.4!$B$10:$B$183,FORM2.4!$F$10:$F$183)='TABELAS AUXILIARES'!$E$7,\"Resposta Não Preenchida\",_xlfn.XLOOKUP(B455,FORM2.4!$B$10:$B$183,FORM2.4!$F$10:$F$183)='TABELAS AUXILIARES'!$E$8,\"Implementada\",_xlfn.XLOOKUP(B455,FORM2.4!$B$10:$B$183,FORM2.4!$F$10:$F$183)='TABELAS AUXILIARES'!$E$9,\"Não Implementada\",_xlfn.XLOOKUP(B455,FORM2.4!$B$10:$B$183,FORM2.4!$F$10:$F$183)='TABELAS AUXILIARES'!$E$10,\"Não Implementada\",_xlfn.XLOOKUP(B455,FORM2.4!$B$10:$B$183,FORM2.4!$F$10:$F$183)='TABELAS AUXILIARES'!$E$11,\"Não Implementada\",_xlfn.XLOOKUP(B455,FORM2.4!$B$10:$B$183,FORM2.4!$F$10:$F$183)='TABELAS AUXILIARES'!$E$12,\"Não Adota\",_xlfn.XLOOKUP(B455,FORM2.4!$B$10:$B$183,FORM2.4!$F$10:$F$183)='TABELAS AUXILIARES'!$E$13,\"Não se aplica\")","v":"Resposta Não Preenchida"}]
[null,"28.9",{"$f":"FORM2.4!E122","v":"O órgão exige que o operador o informe sobre assuntos envolvendo o tratamento de dados pessoais para que o controlador esteja em conformidade com suas obrigações, principalmente em casos de solicitações juridicamente vinculativas para divulgação de dados pessoais, violação de dados pessoais, sobre alterações relevantes ao serviço?"},null,{"$f":"_xlfn.IFS(_xlfn.XLOOKUP(B456,FORM2.4!$B$10:$B$183,FORM2.4!$F$10:$F$183)='TABELAS AUXILIARES'!$E$7,\"Resposta Não Preenchida\",_xlfn.XLOOKUP(B456,FORM2.4!$B$10:$B$183,FORM2.4!$F$10:$F$183)='TABELAS AUXILIARES'!$E$8,\"Implementada\",_xlfn.XLOOKUP(B456,FORM2.4!$B$10:$B$183,FORM2.4!$F$10:$F$183)='TABELAS AUXILIARES'!$E$9,\"Não Implementada\",_xlfn.XLOOKUP(B456,FORM2.4!$B$10:$B$183,FORM2.4!$F$10:$F$183)='TABELAS AUXILIARES'!$E$10,\"Não Implementada\",_xlfn.XLOOKUP(B456,FORM2.4!$B$10:$B$183,FORM2.4!$F$10:$F$183)='TABELAS AUXILIARES'!$E$11,\"Não Implementada\",_xlfn.XLOOKUP(B456,FORM2.4!$B$10:$B$183,FORM2.4!$F$10:$F$183)='TABELAS AUXILIARES'!$E$12,\"Não Adota\",_xlfn.XLOOKUP(B456,FORM2.4!$B$10:$B$183,FORM2.4!$F$10:$F$183)='TABELAS AUXILIARES'!$E$13,\"Não se aplica\")","v":"Resposta Não Preenchida"}]
[null,"28.10",{"$f":"FORM2.4!E123","v":"O órgão especifica as condições sob as quais o operador deve devolver ou descartar com segurança os dados pessoais após a conclusão do serviço, rescisão de qualquer contrato ou de outra forma mediante solicitação do controlador?"},null,{"$f":"_xlfn.IFS(_xlfn.XLOOKUP(B457,FORM2.4!$B$10:$B$183,FORM2.4!$F$10:$F$183)='TABELAS AUXILIARES'!$E$7,\"Resposta Não Preenchida\",_xlfn.XLOOKUP(B457,FORM2.4!$B$10:$B$183,FORM2.4!$F$10:$F$183)='TABELAS AUXILIARES'!$E$8,\"Implementada\",_xlfn.XLOOKUP(B457,FORM2.4!$B$10:$B$183,FORM2.4!$F$10:$F$183)='TABELAS AUXILIARES'!$E$9,\"Não Implementada\",_xlfn.XLOOKUP(B457,FORM2.4!$B$10:$B$183,FORM2.4!$F$10:$F$183)='TABELAS AUXILIARES'!$E$10,\"Não Implementada\",_xlfn.XLOOKUP(B457,FORM2.4!$B$10:$B$183,FORM2.4!$F$10:$F$183)='TABELAS AUXILIARES'!$E$11,\"Não Implementada\",_xlfn.XLOOKUP(B457,FORM2.4!$B$10:$B$183,FORM2.4!$F$10:$F$183)='TABELAS AUXILIARES'!$E$12,\"Não Adota\",_xlfn.XLOOKUP(B457,FORM2.4!$B$10:$B$183,FORM2.4!$F$10:$F$183)='TABELAS AUXILIARES'!$E$13,\"Não se aplica\")","v":"Resposta Não Preenchida"}]
[null,"28.11",{"$f":"FORM2.4!E124","v":"O órgão especifica no contrato entre controlador e operador sobre o uso de subcontratados para processar dados pessoais?"},null,{"$f":"_xlfn.IFS(_xlfn.XLOOKUP(B458,FORM2.4!$B$10:$B$183,FORM2.4!$F$10:$F$183)='TABELAS AUXILIARES'!$E$7,\"Resposta Não Preenchida\",_xlfn.XLOOKUP(B458,FORM2.4!$B$10:$B$183,FORM2.4!$F$10:$F$183)='TABELAS AUXILIARES'!$E$8,\"Implementada\",_xlfn.XLOOKUP(B458,FORM2.4!$B$10:$B$183,FORM2.4!$F$10:$F$183)='TABELAS AUXILIARES'!$E$9,\"Não Implementada\",_xlfn.XLOOKUP(B458,FORM2.4!$B$10:$B$183,FORM2.4!$F$10:$F$183)='TABELAS AUXILIARES'!$E$10,\"Não Implementada\",_xlfn.XLOOKUP(B458,FORM2.4!$B$10:$B$183,FORM2.4!$F$10:$F$183)='TABELAS AUXILIARES'!$E$11,\"Não Implementada\",_xlfn.XLOOKUP(B458,FORM2.4!$B$10:$B$183,FORM2.4!$F$10:$F$183)='TABELAS AUXILIARES'!$E$12,\"Não Adota\",_xlfn.XLOOKUP(B458,FORM2.4!$B$10:$B$183,FORM2.4!$F$10:$F$183)='TABELAS AUXILIARES'!$E$13,\"Não se aplica\")","v":"Resposta Não Preenchida"}]
[null,"28.12",{"$f":"FORM2.4!E125","v":"O órgão monitora e inspeciona a implementação dos requisitos estabelecidos nas cláusulas contratuais pelos operadores?"},null,{"$f":"_xlfn.IFS(_xlfn.XLOOKUP(B459,FORM2.4!$B$10:$B$183,FORM2.4!$F$10:$F$183)='TABELAS AUXILIARES'!$E$7,\"Resposta Não Preenchida\",_xlfn.XLOOKUP(B459,FORM2.4!$B$10:$B$183,FORM2.4!$F$10:$F$183)='TABELAS AUXILIARES'!$E$8,\"Implementada\",_xlfn.XLOOKUP(B459,FORM2.4!$B$10:$B$183,FORM2.4!$F$10:$F$183)='TABELAS AUXILIARES'!$E$9,\"Não Implementada\",_xlfn.XLOOKUP(B459,FORM2.4!$B$10:$B$183,FORM2.4!$F$10:$F$183)='TABELAS AUXILIARES'!$E$10,\"Não Implementada\",_xlfn.XLOOKUP(B459,FORM2.4!$B$10:$B$183,FORM2.4!$F$10:$F$183)='TABELAS AUXILIARES'!$E$11,\"Não Implementada\",_xlfn.XLOOKUP(B459,FORM2.4!$B$10:$B$183,FORM2.4!$F$10:$F$183)='TABELAS AUXILIARES'!$E$12,\"Não Adota\",_xlfn.XLOOKUP(B459,FORM2.4!$B$10:$B$183,FORM2.4!$F$10:$F$183)='TABELAS AUXILIARES'!$E$13,\"Não se aplica\")","v":"Resposta Não Preenchida"}]
[null,"28.13",{"$f":"FORM2.4!E126","v":"O órgão realizou revisão das cláusulas contratuais em vigência com os operadores terceiros para adequá-los à LGPD?"},null,{"$f":"_xlfn.IFS(_xlfn.XLOOKUP(B460,FORM2.4!$B$10:$B$183,FORM2.4!$F$10:$F$183)='TABELAS AUXILIARES'!$E$7,\"Resposta Não Preenchida\",_xlfn.XLOOKUP(B460,FORM2.4!$B$10:$B$183,FORM2.4!$F$10:$F$183)='TABELAS AUXILIARES'!$E$8,\"Implementada\",_xlfn.XLOOKUP(B460,FORM2.4!$B$10:$B$183,FORM2.4!$F$10:$F$183)='TABELAS AUXILIARES'!$E$9,\"Não Implementada\",_xlfn.XLOOKUP(B460,FORM2.4!$B$10:$B$183,FORM2.4!$F$10:$F$183)='TABELAS AUXILIARES'!$E$10,\"Não Implementada\",_xlfn.XLOOKUP(B460,FORM2.4!$B$10:$B$183,FORM2.4!$F$10:$F$183)='TABELAS AUXILIARES'!$E$11,\"Não Implementada\",_xlfn.XLOOKUP(B460,FORM2.4!$B$10:$B$183,FORM2.4!$F$10:$F$183)='TABELAS AUXILIARES'!$E$12,\"Não Adota\",_xlfn.XLOOKUP(B460,FORM2.4!$B$10:$B$183,FORM2.4!$F$10:$F$183)='TABELAS AUXILIARES'!$E$13,\"Não se aplica\")","v":"Resposta Não Preenchida"}]
[]
[]
[]
[null,29,{"$f":"FORM3.1!C46","v":"PRIVACIDADE CONTROLE 29: ABERTURA, TRANSPARÊNCIA E NOTIFICAÇÃO"}]
[null,{"$f":"FORM2.4!I127","v":"Controle Não Foi Respondido"}]
[null,null,"MEDIDAS DE PRIVACIDADE"]
[null,"Nível de Capacidade do Controle"]
[null,"ID","Medida",null,"Resposta"]
[null,"29.1",{"$f":"FORM2.4!E128","v":"O órgão adota meios para apresentar as informações de tratamento de dados pessoais de forma clara para que possam ser compreendidas por uma pessoa que não esteja familiarizada com as tecnologias da informação, internet ou jargões jurídicos?"},null,{"$f":"_xlfn.IFS(_xlfn.XLOOKUP(B469,FORM2.4!$B$10:$B$183,FORM2.4!$F$10:$F$183)='TABELAS AUXILIARES'!$E$7,\"Resposta Não Preenchida\",_xlfn.XLOOKUP(B469,FORM2.4!$B$10:$B$183,FORM2.4!$F$10:$F$183)='TABELAS AUXILIARES'!$E$8,\"Implementada\",_xlfn.XLOOKUP(B469,FORM2.4!$B$10:$B$183,FORM2.4!$F$10:$F$183)='TABELAS AUXILIARES'!$E$9,\"Não Implementada\",_xlfn.XLOOKUP(B469,FORM2.4!$B$10:$B$183,FORM2.4!$F$10:$F$183)='TABELAS AUXILIARES'!$E$10,\"Não Implementada\",_xlfn.XLOOKUP(B469,FORM2.4!$B$10:$B$183,FORM2.4!$F$10:$F$183)='TABELAS AUXILIARES'!$E$11,\"Não Implementada\",_xlfn.XLOOKUP(B469,FORM2.4!$B$10:$B$183,FORM2.4!$F$10:$F$183)='TABELAS AUXILIARES'!$E$12,\"Não Adota\",_xlfn.XLOOKUP(B469,FORM2.4!$B$10:$B$183,FORM2.4!$F$10:$F$183)='TABELAS AUXILIARES'!$E$13,\"Não se aplica\")","v":"Resposta Não Preenchida"}]
[null,"29.2",{"$f":"FORM2.4!E129","v":"O órgão adota meios para disponibilizar a política de privacidade em local de fácil acesso, antes ou no momento do tratamento de dados pessoais, sem a necessidade de o titular ter que solicitá-lo especificamente?"},null,{"$f":"_xlfn.IFS(_xlfn.XLOOKUP(B470,FORM2.4!$B$10:$B$183,FORM2.4!$F$10:$F$183)='TABELAS AUXILIARES'!$E$7,\"Resposta Não Preenchida\",_xlfn.XLOOKUP(B470,FORM2.4!$B$10:$B$183,FORM2.4!$F$10:$F$183)='TABELAS AUXILIARES'!$E$8,\"Implementada\",_xlfn.XLOOKUP(B470,FORM2.4!$B$10:$B$183,FORM2.4!$F$10:$F$183)='TABELAS AUXILIARES'!$E$9,\"Não Implementada\",_xlfn.XLOOKUP(B470,FORM2.4!$B$10:$B$183,FORM2.4!$F$10:$F$183)='TABELAS AUXILIARES'!$E$10,\"Não Implementada\",_xlfn.XLOOKUP(B470,FORM2.4!$B$10:$B$183,FORM2.4!$F$10:$F$183)='TABELAS AUXILIARES'!$E$11,\"Não Implementada\",_xlfn.XLOOKUP(B470,FORM2.4!$B$10:$B$183,FORM2.4!$F$10:$F$183)='TABELAS AUXILIARES'!$E$12,\"Não Adota\",_xlfn.XLOOKUP(B470,FORM2.4!$B$10:$B$183,FORM2.4!$F$10:$F$183)='TABELAS AUXILIARES'!$E$13,\"Não se aplica\")","v":"Resposta Não Preenchida"}]
[null,"29.3",{"$f":"FORM2.4!E130","v":"O órgão adota algum mecanismo, sempre que possível, para comprovar que o titular de dados pessoais obteve acesso à política de privacidade fornecida?"},null,{"$f":"_xlfn.IFS(_xlfn.XLOOKUP(B471,FORM2.4!$B$10:$B$183,FORM2.4!$F$10:$F$183)='TABELAS AUXILIARES'!$E$7,\"Resposta Não Preenchida\",_xlfn.XLOOKUP(B471,FORM2.4!$B$10:$B$183,FORM2.4!$F$10:$F$183)='TABELAS AUXILIARES'!$E$8,\"Implementada\",_xlfn.XLOOKUP(B471,FORM2.4!$B$10:$B$183,FORM2.4!$F$10:$F$183)='TABELAS AUXILIARES'!$E$9,\"Não Implementada\",_xlfn.XLOOKUP(B471,FORM2.4!$B$10:$B$183,FORM2.4!$F$10:$F$183)='TABELAS AUXILIARES'!$E$10,\"Não Implementada\",_xlfn.XLOOKUP(B471,FORM2.4!$B$10:$B$183,FORM2.4!$F$10:$F$183)='TABELAS AUXILIARES'!$E$11,\"Não Implementada\",_xlfn.XLOOKUP(B471,FORM2.4!$B$10:$B$183,FORM2.4!$F$10:$F$183)='TABELAS AUXILIARES'!$E$12,\"Não Adota\",_xlfn.XLOOKUP(B471,FORM2.4!$B$10:$B$183,FORM2.4!$F$10:$F$183)='TABELAS AUXILIARES'!$E$13,\"Não se aplica\")","v":"Resposta Não Preenchida"}]
[null,"29.4",{"$f":"FORM2.4!E131","v":"O órgão revisa a política de privacidade, cookies e outras aplicáveis ao tratamento de dados pessoais, antes ou assim que possível, para refletir mudanças realizadas no tratamento?"},null,{"$f":"_xlfn.IFS(_xlfn.XLOOKUP(B472,FORM2.4!$B$10:$B$183,FORM2.4!$F$10:$F$183)='TABELAS AUXILIARES'!$E$7,\"Resposta Não Preenchida\",_xlfn.XLOOKUP(B472,FORM2.4!$B$10:$B$183,FORM2.4!$F$10:$F$183)='TABELAS AUXILIARES'!$E$8,\"Implementada\",_xlfn.XLOOKUP(B472,FORM2.4!$B$10:$B$183,FORM2.4!$F$10:$F$183)='TABELAS AUXILIARES'!$E$9,\"Não Implementada\",_xlfn.XLOOKUP(B472,FORM2.4!$B$10:$B$183,FORM2.4!$F$10:$F$183)='TABELAS AUXILIARES'!$E$10,\"Não Implementada\",_xlfn.XLOOKUP(B472,FORM2.4!$B$10:$B$183,FORM2.4!$F$10:$F$183)='TABELAS AUXILIARES'!$E$11,\"Não Implementada\",_xlfn.XLOOKUP(B472,FORM2.4!$B$10:$B$183,FORM2.4!$F$10:$F$183)='TABELAS AUXILIARES'!$E$12,\"Não Adota\",_xlfn.XLOOKUP(B472,FORM2.4!$B$10:$B$183,FORM2.4!$F$10:$F$183)='TABELAS AUXILIARES'!$E$13,\"Não se aplica\")","v":"Resposta Não Preenchida"}]
[null,"29.5",{"$f":"FORM2.4!E132","v":"O órgão destaca na Política de Privacidade informações sobre os dados pessoais que a organização coleta e a(s) finalidade(s) do tratamento para a qual a coleta é realizada, hipóteses e bases legais?"},null,{"$f":"_xlfn.IFS(_xlfn.XLOOKUP(B473,FORM2.4!$B$10:$B$183,FORM2.4!$F$10:$F$183)='TABELAS AUXILIARES'!$E$7,\"Resposta Não Preenchida\",_xlfn.XLOOKUP(B473,FORM2.4!$B$10:$B$183,FORM2.4!$F$10:$F$183)='TABELAS AUXILIARES'!$E$8,\"Implementada\",_xlfn.XLOOKUP(B473,FORM2.4!$B$10:$B$183,FORM2.4!$F$10:$F$183)='TABELAS AUXILIARES'!$E$9,\"Não Implementada\",_xlfn.XLOOKUP(B473,FORM2.4!$B$10:$B$183,FORM2.4!$F$10:$F$183)='TABELAS AUXILIARES'!$E$10,\"Não Implementada\",_xlfn.XLOOKUP(B473,FORM2.4!$B$10:$B$183,FORM2.4!$F$10:$F$183)='TABELAS AUXILIARES'!$E$11,\"Não Implementada\",_xlfn.XLOOKUP(B473,FORM2.4!$B$10:$B$183,FORM2.4!$F$10:$F$183)='TABELAS AUXILIARES'!$E$12,\"Não Adota\",_xlfn.XLOOKUP(B473,FORM2.4!$B$10:$B$183,FORM2.4!$F$10:$F$183)='TABELAS AUXILIARES'!$E$13,\"Não se aplica\")","v":"Resposta Não Preenchida"}]
[null,"29.6",{"$f":"FORM2.4!E133","v":"A identidade e as informações de contato do encarregado estão divulgadas publicamente, de forma clara e objetiva, preferencialmente no sítio eletrônico do controlador?"},null,{"$f":"_xlfn.IFS(_xlfn.XLOOKUP(B474,FORM2.4!$B$10:$B$183,FORM2.4!$F$10:$F$183)='TABELAS AUXILIARES'!$E$7,\"Resposta Não Preenchida\",_xlfn.XLOOKUP(B474,FORM2.4!$B$10:$B$183,FORM2.4!$F$10:$F$183)='TABELAS AUXILIARES'!$E$8,\"Implementada\",_xlfn.XLOOKUP(B474,FORM2.4!$B$10:$B$183,FORM2.4!$F$10:$F$183)='TABELAS AUXILIARES'!$E$9,\"Não Implementada\",_xlfn.XLOOKUP(B474,FORM2.4!$B$10:$B$183,FORM2.4!$F$10:$F$183)='TABELAS AUXILIARES'!$E$10,\"Não Implementada\",_xlfn.XLOOKUP(B474,FORM2.4!$B$10:$B$183,FORM2.4!$F$10:$F$183)='TABELAS AUXILIARES'!$E$11,\"Não Implementada\",_xlfn.XLOOKUP(B474,FORM2.4!$B$10:$B$183,FORM2.4!$F$10:$F$183)='TABELAS AUXILIARES'!$E$12,\"Não Adota\",_xlfn.XLOOKUP(B474,FORM2.4!$B$10:$B$183,FORM2.4!$F$10:$F$183)='TABELAS AUXILIARES'!$E$13,\"Não se aplica\")","v":"Resposta Não Preenchida"}]
[null,"29.7",{"$f":"FORM2.4!E134","v":"O órgão fornece informações aos titulares sobre como é realizado o tratamento de dados pessoais, tais como o período de retenção dos dados pessoais coletados, entre outras ações de tratamento?"},null,{"$f":"_xlfn.IFS(_xlfn.XLOOKUP(B475,FORM2.4!$B$10:$B$183,FORM2.4!$F$10:$F$183)='TABELAS AUXILIARES'!$E$7,\"Resposta Não Preenchida\",_xlfn.XLOOKUP(B475,FORM2.4!$B$10:$B$183,FORM2.4!$F$10:$F$183)='TABELAS AUXILIARES'!$E$8,\"Implementada\",_xlfn.XLOOKUP(B475,FORM2.4!$B$10:$B$183,FORM2.4!$F$10:$F$183)='TABELAS AUXILIARES'!$E$9,\"Não Implementada\",_xlfn.XLOOKUP(B475,FORM2.4!$B$10:$B$183,FORM2.4!$F$10:$F$183)='TABELAS AUXILIARES'!$E$10,\"Não Implementada\",_xlfn.XLOOKUP(B475,FORM2.4!$B$10:$B$183,FORM2.4!$F$10:$F$183)='TABELAS AUXILIARES'!$E$11,\"Não Implementada\",_xlfn.XLOOKUP(B475,FORM2.4!$B$10:$B$183,FORM2.4!$F$10:$F$183)='TABELAS AUXILIARES'!$E$12,\"Não Adota\",_xlfn.XLOOKUP(B475,FORM2.4!$B$10:$B$183,FORM2.4!$F$10:$F$183)='TABELAS AUXILIARES'!$E$13,\"Não se aplica\")","v":"Resposta Não Preenchida"}]
[null,"29.8",{"$f":"FORM2.4!E135","v":"Os titulares de dados são informados quando há alterações na forma de tratamento dos dados pessoais?"},null,{"$f":"_xlfn.IFS(_xlfn.XLOOKUP(B476,FORM2.4!$B$10:$B$183,FORM2.4!$F$10:$F$183)='TABELAS AUXILIARES'!$E$7,\"Resposta Não Preenchida\",_xlfn.XLOOKUP(B476,FORM2.4!$B$10:$B$183,FORM2.4!$F$10:$F$183)='TABELAS AUXILIARES'!$E$8,\"Implementada\",_xlfn.XLOOKUP(B476,FORM2.4!$B$10:$B$183,FORM2.4!$F$10:$F$183)='TABELAS AUXILIARES'!$E$9,\"Não Implementada\",_xlfn.XLOOKUP(B476,FORM2.4!$B$10:$B$183,FORM2.4!$F$10:$F$183)='TABELAS AUXILIARES'!$E$10,\"Não Implementada\",_xlfn.XLOOKUP(B476,FORM2.4!$B$10:$B$183,FORM2.4!$F$10:$F$183)='TABELAS AUXILIARES'!$E$11,\"Não Implementada\",_xlfn.XLOOKUP(B476,FORM2.4!$B$10:$B$183,FORM2.4!$F$10:$F$183)='TABELAS AUXILIARES'!$E$12,\"Não Adota\",_xlfn.XLOOKUP(B476,FORM2.4!$B$10:$B$183,FORM2.4!$F$10:$F$183)='TABELAS AUXILIARES'!$E$13,\"Não se aplica\")","v":"Resposta Não Preenchida"}]
[null,"29.9",{"$f":"FORM2.4!E136","v":"O órgão fornece orientações ao titular sobre a forma e meios utilizados de gerenciamento aos dados pessoais?"},null,{"$f":"_xlfn.IFS(_xlfn.XLOOKUP(B477,FORM2.4!$B$10:$B$183,FORM2.4!$F$10:$F$183)='TABELAS AUXILIARES'!$E$7,\"Resposta Não Preenchida\",_xlfn.XLOOKUP(B477,FORM2.4!$B$10:$B$183,FORM2.4!$F$10:$F$183)='TABELAS AUXILIARES'!$E$8,\"Implementada\",_xlfn.XLOOKUP(B477,FORM2.4!$B$10:$B$183,FORM2.4!$F$10:$F$183)='TABELAS AUXILIARES'!$E$9,\"Não Implementada\",_xlfn.XLOOKUP(B477,FORM2.4!$B$10:$B$183,FORM2.4!$F$10:$F$183)='TABELAS AUXILIARES'!$E$10,\"Não Implementada\",_xlfn.XLOOKUP(B477,FORM2.4!$B$10:$B$183,FORM2.4!$F$10:$F$183)='TABELAS AUXILIARES'!$E$11,\"Não Implementada\",_xlfn.XLOOKUP(B477,FORM2.4!$B$10:$B$183,FORM2.4!$F$10:$F$183)='TABELAS AUXILIARES'!$E$12,\"Não Adota\",_xlfn.XLOOKUP(B477,FORM2.4!$B$10:$B$183,FORM2.4!$F$10:$F$183)='TABELAS AUXILIARES'!$E$13,\"Não se aplica\")","v":"Resposta Não Preenchida"}]
[null,"29.10",{"$f":"FORM2.4!E137","v":"O órgão informa se a organização compartilha dados pessoais com entidades externas, os dados pessoais compartilhados e a finalidade para tal compartilhamento?"},null,{"$f":"_xlfn.IFS(_xlfn.XLOOKUP(B478,FORM2.4!$B$10:$B$183,FORM2.4!$F$10:$F$183)='TABELAS AUXILIARES'!$E$7,\"Resposta Não Preenchida\",_xlfn.XLOOKUP(B478,FORM2.4!$B$10:$B$183,FORM2.4!$F$10:$F$183)='TABELAS AUXILIARES'!$E$8,\"Implementada\",_xlfn.XLOOKUP(B478,FORM2.4!$B$10:$B$183,FORM2.4!$F$10:$F$183)='TABELAS AUXILIARES'!$E$9,\"Não Implementada\",_xlfn.XLOOKUP(B478,FORM2.4!$B$10:$B$183,FORM2.4!$F$10:$F$183)='TABELAS AUXILIARES'!$E$10,\"Não Implementada\",_xlfn.XLOOKUP(B478,FORM2.4!$B$10:$B$183,FORM2.4!$F$10:$F$183)='TABELAS AUXILIARES'!$E$11,\"Não Implementada\",_xlfn.XLOOKUP(B478,FORM2.4!$B$10:$B$183,FORM2.4!$F$10:$F$183)='TABELAS AUXILIARES'!$E$12,\"Não Adota\",_xlfn.XLOOKUP(B478,FORM2.4!$B$10:$B$183,FORM2.4!$F$10:$F$183)='TABELAS AUXILIARES'!$E$13,\"Não se aplica\")","v":"Resposta Não Preenchida"}]
[null,"29.11",{"$f":"FORM2.4!E138","v":"O órgão fornece informações sobre a proteção e descarte seguro dos dados pessoais coletados?"},null,{"$f":"_xlfn.IFS(_xlfn.XLOOKUP(B479,FORM2.4!$B$10:$B$183,FORM2.4!$F$10:$F$183)='TABELAS AUXILIARES'!$E$7,\"Resposta Não Preenchida\",_xlfn.XLOOKUP(B479,FORM2.4!$B$10:$B$183,FORM2.4!$F$10:$F$183)='TABELAS AUXILIARES'!$E$8,\"Implementada\",_xlfn.XLOOKUP(B479,FORM2.4!$B$10:$B$183,FORM2.4!$F$10:$F$183)='TABELAS AUXILIARES'!$E$9,\"Não Implementada\",_xlfn.XLOOKUP(B479,FORM2.4!$B$10:$B$183,FORM2.4!$F$10:$F$183)='TABELAS AUXILIARES'!$E$10,\"Não Implementada\",_xlfn.XLOOKUP(B479,FORM2.4!$B$10:$B$183,FORM2.4!$F$10:$F$183)='TABELAS AUXILIARES'!$E$11,\"Não Implementada\",_xlfn.XLOOKUP(B479,FORM2.4!$B$10:$B$183,FORM2.4!$F$10:$F$183)='TABELAS AUXILIARES'!$E$12,\"Não Adota\",_xlfn.XLOOKUP(B479,FORM2.4!$B$10:$B$183,FORM2.4!$F$10:$F$183)='TABELAS AUXILIARES'!$E$13,\"Não se aplica\")","v":"Resposta Não Preenchida"}]
[null,"29.12",{"$f":"FORM2.4!E139","v":"O órgão fornece, quando solicitado por instituição competente, informações relativas a violações de privacidade dos titulares, juntamente com quaisquer ações associadas que o solicitante possa tomar para mitigar os riscos adicionais decorrentes da violação?"},null,{"$f":"_xlfn.IFS(_xlfn.XLOOKUP(B480,FORM2.4!$B$10:$B$183,FORM2.4!$F$10:$F$183)='TABELAS AUXILIARES'!$E$7,\"Resposta Não Preenchida\",_xlfn.XLOOKUP(B480,FORM2.4!$B$10:$B$183,FORM2.4!$F$10:$F$183)='TABELAS AUXILIARES'!$E$8,\"Implementada\",_xlfn.XLOOKUP(B480,FORM2.4!$B$10:$B$183,FORM2.4!$F$10:$F$183)='TABELAS AUXILIARES'!$E$9,\"Não Implementada\",_xlfn.XLOOKUP(B480,FORM2.4!$B$10:$B$183,FORM2.4!$F$10:$F$183)='TABELAS AUXILIARES'!$E$10,\"Não Implementada\",_xlfn.XLOOKUP(B480,FORM2.4!$B$10:$B$183,FORM2.4!$F$10:$F$183)='TABELAS AUXILIARES'!$E$11,\"Não Implementada\",_xlfn.XLOOKUP(B480,FORM2.4!$B$10:$B$183,FORM2.4!$F$10:$F$183)='TABELAS AUXILIARES'!$E$12,\"Não Adota\",_xlfn.XLOOKUP(B480,FORM2.4!$B$10:$B$183,FORM2.4!$F$10:$F$183)='TABELAS AUXILIARES'!$E$13,\"Não se aplica\")","v":"Resposta Não Preenchida"}]
[]
[null,30,{"$f":"FORM3.1!C47","v":"PRIVACIDADE CONTROLE 30: AVALIAÇÃO DE IMPACTO, MONITORAMENTO E AUDITORIA"}]
[null,{"$f":"FORM2.4!I140","v":"Controle Não Foi Respondido"}]
[null,null,"MEDIDAS DE PRIVACIDADE"]
[null,"Nível de Capacidade do Controle"]
[null,"ID","Medida",null,"Resposta"]
[null,"30.1",{"$f":"FORM2.4!E141","v":"O órgão observa o conteúdo mínimo a ser inserido no Relatório de Impacto à Proteção de Dados Pessoais - RIPD conforme o disposto no Art. 38, parágrafo único da LGPD?"},null,{"$f":"_xlfn.IFS(_xlfn.XLOOKUP(B487,FORM2.4!$B$10:$B$183,FORM2.4!$F$10:$F$183)='TABELAS AUXILIARES'!$E$7,\"Resposta Não Preenchida\",_xlfn.XLOOKUP(B487,FORM2.4!$B$10:$B$183,FORM2.4!$F$10:$F$183)='TABELAS AUXILIARES'!$E$8,\"Implementada\",_xlfn.XLOOKUP(B487,FORM2.4!$B$10:$B$183,FORM2.4!$F$10:$F$183)='TABELAS AUXILIARES'!$E$9,\"Não Implementada\",_xlfn.XLOOKUP(B487,FORM2.4!$B$10:$B$183,FORM2.4!$F$10:$F$183)='TABELAS AUXILIARES'!$E$10,\"Não Implementada\",_xlfn.XLOOKUP(B487,FORM2.4!$B$10:$B$183,FORM2.4!$F$10:$F$183)='TABELAS AUXILIARES'!$E$11,\"Não Implementada\",_xlfn.XLOOKUP(B487,FORM2.4!$B$10:$B$183,FORM2.4!$F$10:$F$183)='TABELAS AUXILIARES'!$E$12,\"Não Adota\",_xlfn.XLOOKUP(B487,FORM2.4!$B$10:$B$183,FORM2.4!$F$10:$F$183)='TABELAS AUXILIARES'!$E$13,\"Não se aplica\")","v":"Resposta Não Preenchida"}]
[null,"30.2",{"$f":"FORM2.4!E142","v":"O órgão estabelece processo para avaliar o impacto na privacidade ao fornecer serviços que tratam dados pessoais?"},null,{"$f":"_xlfn.IFS(_xlfn.XLOOKUP(B488,FORM2.4!$B$10:$B$183,FORM2.4!$F$10:$F$183)='TABELAS AUXILIARES'!$E$7,\"Resposta Não Preenchida\",_xlfn.XLOOKUP(B488,FORM2.4!$B$10:$B$183,FORM2.4!$F$10:$F$183)='TABELAS AUXILIARES'!$E$8,\"Implementada\",_xlfn.XLOOKUP(B488,FORM2.4!$B$10:$B$183,FORM2.4!$F$10:$F$183)='TABELAS AUXILIARES'!$E$9,\"Não Implementada\",_xlfn.XLOOKUP(B488,FORM2.4!$B$10:$B$183,FORM2.4!$F$10:$F$183)='TABELAS AUXILIARES'!$E$10,\"Não Implementada\",_xlfn.XLOOKUP(B488,FORM2.4!$B$10:$B$183,FORM2.4!$F$10:$F$183)='TABELAS AUXILIARES'!$E$11,\"Não Implementada\",_xlfn.XLOOKUP(B488,FORM2.4!$B$10:$B$183,FORM2.4!$F$10:$F$183)='TABELAS AUXILIARES'!$E$12,\"Não Adota\",_xlfn.XLOOKUP(B488,FORM2.4!$B$10:$B$183,FORM2.4!$F$10:$F$183)='TABELAS AUXILIARES'!$E$13,\"Não se aplica\")","v":"Resposta Não Preenchida"}]
[null,"30.3",{"$f":"FORM2.4!E143","v":"A organização avalia os riscos dos processos de tratamento de dados pessoais que foram identificados?"},null,{"$f":"_xlfn.IFS(_xlfn.XLOOKUP(B489,FORM2.4!$B$10:$B$183,FORM2.4!$F$10:$F$183)='TABELAS AUXILIARES'!$E$7,\"Resposta Não Preenchida\",_xlfn.XLOOKUP(B489,FORM2.4!$B$10:$B$183,FORM2.4!$F$10:$F$183)='TABELAS AUXILIARES'!$E$8,\"Implementada\",_xlfn.XLOOKUP(B489,FORM2.4!$B$10:$B$183,FORM2.4!$F$10:$F$183)='TABELAS AUXILIARES'!$E$9,\"Não Implementada\",_xlfn.XLOOKUP(B489,FORM2.4!$B$10:$B$183,FORM2.4!$F$10:$F$183)='TABELAS AUXILIARES'!$E$10,\"Não Implementada\",_xlfn.XLOOKUP(B489,FORM2.4!$B$10:$B$183,FORM2.4!$F$10:$F$183)='TABELAS AUXILIARES'!$E$11,\"Não Implementada\",_xlfn.XLOOKUP(B489,FORM2.4!$B$10:$B$183,FORM2.4!$F$10:$F$183)='TABELAS AUXILIARES'!$E$12,\"Não Adota\",_xlfn.XLOOKUP(B489,FORM2.4!$B$10:$B$183,FORM2.4!$F$10:$F$183)='TABELAS AUXILIARES'!$E$13,\"Não se aplica\")","v":"Resposta Não Preenchida"}]
[null,"30.4",{"$f":"FORM2.4!E144","v":"O órgão documenta os riscos de privacidade oriundos da avaliação de impacto à Proteção de Dados Pessoais?"},null,{"$f":"_xlfn.IFS(_xlfn.XLOOKUP(B490,FORM2.4!$B$10:$B$183,FORM2.4!$F$10:$F$183)='TABELAS AUXILIARES'!$E$7,\"Resposta Não Preenchida\",_xlfn.XLOOKUP(B490,FORM2.4!$B$10:$B$183,FORM2.4!$F$10:$F$183)='TABELAS AUXILIARES'!$E$8,\"Implementada\",_xlfn.XLOOKUP(B490,FORM2.4!$B$10:$B$183,FORM2.4!$F$10:$F$183)='TABELAS AUXILIARES'!$E$9,\"Não Implementada\",_xlfn.XLOOKUP(B490,FORM2.4!$B$10:$B$183,FORM2.4!$F$10:$F$183)='TABELAS AUXILIARES'!$E$10,\"Não Implementada\",_xlfn.XLOOKUP(B490,FORM2.4!$B$10:$B$183,FORM2.4!$F$10:$F$183)='TABELAS AUXILIARES'!$E$11,\"Não Implementada\",_xlfn.XLOOKUP(B490,FORM2.4!$B$10:$B$183,FORM2.4!$F$10:$F$183)='TABELAS AUXILIARES'!$E$12,\"Não Adota\",_xlfn.XLOOKUP(B490,FORM2.4!$B$10:$B$183,FORM2.4!$F$10:$F$183)='TABELAS AUXILIARES'!$E$13,\"Não se aplica\")","v":"Resposta Não Preenchida"}]
[null,"30.5",{"$f":"FORM2.4!E145","v":"O órgão documenta as medidas de proteção de dados pessoais adotadas para mitigação do impacto à Proteção de Dados Pessoais?"},null,{"$f":"_xlfn.IFS(_xlfn.XLOOKUP(B491,FORM2.4!$B$10:$B$183,FORM2.4!$F$10:$F$183)='TABELAS AUXILIARES'!$E$7,\"Resposta Não Preenchida\",_xlfn.XLOOKUP(B491,FORM2.4!$B$10:$B$183,FORM2.4!$F$10:$F$183)='TABELAS AUXILIARES'!$E$8,\"Implementada\",_xlfn.XLOOKUP(B491,FORM2.4!$B$10:$B$183,FORM2.4!$F$10:$F$183)='TABELAS AUXILIARES'!$E$9,\"Não Implementada\",_xlfn.XLOOKUP(B491,FORM2.4!$B$10:$B$183,FORM2.4!$F$10:$F$183)='TABELAS AUXILIARES'!$E$10,\"Não Implementada\",_xlfn.XLOOKUP(B491,FORM2.4!$B$10:$B$183,FORM2.4!$F$10:$F$183)='TABELAS AUXILIARES'!$E$11,\"Não Implementada\",_xlfn.XLOOKUP(B491,FORM2.4!$B$10:$B$183,FORM2.4!$F$10:$F$183)='TABELAS AUXILIARES'!$E$12,\"Não Adota\",_xlfn.XLOOKUP(B491,FORM2.4!$B$10:$B$183,FORM2.4!$F$10:$F$183)='TABELAS AUXILIARES'!$E$13,\"Não se aplica\")","v":"Resposta Não Preenchida"}]
[null,"30.6",{"$f":"FORM2.4!E146","v":"O órgão realiza e documenta os resultados de uma avaliação de impacto à Proteção de Dados Pessoais?"},null,{"$f":"_xlfn.IFS(_xlfn.XLOOKUP(B492,FORM2.4!$B$10:$B$183,FORM2.4!$F$10:$F$183)='TABELAS AUXILIARES'!$E$7,\"Resposta Não Preenchida\",_xlfn.XLOOKUP(B492,FORM2.4!$B$10:$B$183,FORM2.4!$F$10:$F$183)='TABELAS AUXILIARES'!$E$8,\"Implementada\",_xlfn.XLOOKUP(B492,FORM2.4!$B$10:$B$183,FORM2.4!$F$10:$F$183)='TABELAS AUXILIARES'!$E$9,\"Não Implementada\",_xlfn.XLOOKUP(B492,FORM2.4!$B$10:$B$183,FORM2.4!$F$10:$F$183)='TABELAS AUXILIARES'!$E$10,\"Não Implementada\",_xlfn.XLOOKUP(B492,FORM2.4!$B$10:$B$183,FORM2.4!$F$10:$F$183)='TABELAS AUXILIARES'!$E$11,\"Não Implementada\",_xlfn.XLOOKUP(B492,FORM2.4!$B$10:$B$183,FORM2.4!$F$10:$F$183)='TABELAS AUXILIARES'!$E$12,\"Não Adota\",_xlfn.XLOOKUP(B492,FORM2.4!$B$10:$B$183,FORM2.4!$F$10:$F$183)='TABELAS AUXILIARES'!$E$13,\"Não se aplica\")","v":"Resposta Não Preenchida"}]
[null,"30.7",{"$f":"FORM2.4!E147","v":"O órgão desenvolve, divulga (no que couber) e atualiza relatórios (por exemplo, relatórios sobre violações, investigações, auditorias), a fim de demonstrar responsabilidade e conformidade com leis e regulamentos de proteção de dados pessoais?"},null,{"$f":"_xlfn.IFS(_xlfn.XLOOKUP(B493,FORM2.4!$B$10:$B$183,FORM2.4!$F$10:$F$183)='TABELAS AUXILIARES'!$E$7,\"Resposta Não Preenchida\",_xlfn.XLOOKUP(B493,FORM2.4!$B$10:$B$183,FORM2.4!$F$10:$F$183)='TABELAS AUXILIARES'!$E$8,\"Implementada\",_xlfn.XLOOKUP(B493,FORM2.4!$B$10:$B$183,FORM2.4!$F$10:$F$183)='TABELAS AUXILIARES'!$E$9,\"Não Implementada\",_xlfn.XLOOKUP(B493,FORM2.4!$B$10:$B$183,FORM2.4!$F$10:$F$183)='TABELAS AUXILIARES'!$E$10,\"Não Implementada\",_xlfn.XLOOKUP(B493,FORM2.4!$B$10:$B$183,FORM2.4!$F$10:$F$183)='TABELAS AUXILIARES'!$E$11,\"Não Implementada\",_xlfn.XLOOKUP(B493,FORM2.4!$B$10:$B$183,FORM2.4!$F$10:$F$183)='TABELAS AUXILIARES'!$E$12,\"Não Adota\",_xlfn.XLOOKUP(B493,FORM2.4!$B$10:$B$183,FORM2.4!$F$10:$F$183)='TABELAS AUXILIARES'!$E$13,\"Não se aplica\")","v":"Resposta Não Preenchida"}]
[null,"30.8",{"$f":"FORM2.4!E148","v":"O órgão monitora e audita regularmente as operações de tratamento de dados pessoais, especialmente aquelas envolvendo dados pessoais sensíveis, para garantir que estejam em conformidade com as leis, regulamentos e termos contratuais aplicáveis?"},null,{"$f":"_xlfn.IFS(_xlfn.XLOOKUP(B494,FORM2.4!$B$10:$B$183,FORM2.4!$F$10:$F$183)='TABELAS AUXILIARES'!$E$7,\"Resposta Não Preenchida\",_xlfn.XLOOKUP(B494,FORM2.4!$B$10:$B$183,FORM2.4!$F$10:$F$183)='TABELAS AUXILIARES'!$E$8,\"Implementada\",_xlfn.XLOOKUP(B494,FORM2.4!$B$10:$B$183,FORM2.4!$F$10:$F$183)='TABELAS AUXILIARES'!$E$9,\"Não Implementada\",_xlfn.XLOOKUP(B494,FORM2.4!$B$10:$B$183,FORM2.4!$F$10:$F$183)='TABELAS AUXILIARES'!$E$10,\"Não Implementada\",_xlfn.XLOOKUP(B494,FORM2.4!$B$10:$B$183,FORM2.4!$F$10:$F$183)='TABELAS AUXILIARES'!$E$11,\"Não Implementada\",_xlfn.XLOOKUP(B494,FORM2.4!$B$10:$B$183,FORM2.4!$F$10:$F$183)='TABELAS AUXILIARES'!$E$12,\"Não Adota\",_xlfn.XLOOKUP(B494,FORM2.4!$B$10:$B$183,FORM2.4!$F$10:$F$183)='TABELAS AUXILIARES'!$E$13,\"Não se aplica\")","v":"Resposta Não Preenchida"}]
[null,"30.9",{"$f":"FORM2.4!E149","v":"Os controles de proteção de dados pessoais são monitorados e auditados periodicamente para garantir que as operações que envolvam dados pessoais estejam em conformidade com normas e regulamentos internos e externos, quando aplicável, a organização?"},null,{"$f":"_xlfn.IFS(_xlfn.XLOOKUP(B495,FORM2.4!$B$10:$B$183,FORM2.4!$F$10:$F$183)='TABELAS AUXILIARES'!$E$7,\"Resposta Não Preenchida\",_xlfn.XLOOKUP(B495,FORM2.4!$B$10:$B$183,FORM2.4!$F$10:$F$183)='TABELAS AUXILIARES'!$E$8,\"Implementada\",_xlfn.XLOOKUP(B495,FORM2.4!$B$10:$B$183,FORM2.4!$F$10:$F$183)='TABELAS AUXILIARES'!$E$9,\"Não Implementada\",_xlfn.XLOOKUP(B495,FORM2.4!$B$10:$B$183,FORM2.4!$F$10:$F$183)='TABELAS AUXILIARES'!$E$10,\"Não Implementada\",_xlfn.XLOOKUP(B495,FORM2.4!$B$10:$B$183,FORM2.4!$F$10:$F$183)='TABELAS AUXILIARES'!$E$11,\"Não Implementada\",_xlfn.XLOOKUP(B495,FORM2.4!$B$10:$B$183,FORM2.4!$F$10:$F$183)='TABELAS AUXILIARES'!$E$12,\"Não Adota\",_xlfn.XLOOKUP(B495,FORM2.4!$B$10:$B$183,FORM2.4!$F$10:$F$183)='TABELAS AUXILIARES'!$E$13,\"Não se aplica\")","v":"Resposta Não Preenchida"}]
[null,"30.10",{"$f":"FORM2.4!E150","v":"O órgão implementa medidas apropriadas para monitorar e auditar periodicamente os controles de privacidade e a eficácia da política de privacidade interna (política de proteção de dados pessoais) da instituição?"},null,{"$f":"_xlfn.IFS(_xlfn.XLOOKUP(B496,FORM2.4!$B$10:$B$183,FORM2.4!$F$10:$F$183)='TABELAS AUXILIARES'!$E$7,\"Resposta Não Preenchida\",_xlfn.XLOOKUP(B496,FORM2.4!$B$10:$B$183,FORM2.4!$F$10:$F$183)='TABELAS AUXILIARES'!$E$8,\"Implementada\",_xlfn.XLOOKUP(B496,FORM2.4!$B$10:$B$183,FORM2.4!$F$10:$F$183)='TABELAS AUXILIARES'!$E$9,\"Não Implementada\",_xlfn.XLOOKUP(B496,FORM2.4!$B$10:$B$183,FORM2.4!$F$10:$F$183)='TABELAS AUXILIARES'!$E$10,\"Não Implementada\",_xlfn.XLOOKUP(B496,FORM2.4!$B$10:$B$183,FORM2.4!$F$10:$F$183)='TABELAS AUXILIARES'!$E$11,\"Não Implementada\",_xlfn.XLOOKUP(B496,FORM2.4!$B$10:$B$183,FORM2.4!$F$10:$F$183)='TABELAS AUXILIARES'!$E$12,\"Não Adota\",_xlfn.XLOOKUP(B496,FORM2.4!$B$10:$B$183,FORM2.4!$F$10:$F$183)='TABELAS AUXILIARES'!$E$13,\"Não se aplica\")","v":"Resposta Não Preenchida"}]
[null,"30.11",{"$f":"FORM2.4!E151","v":"O órgão assegura que as auditorias sejam conduzidas por partes qualificadas e independentes (internas ou externas à organização)?"},null,{"$f":"_xlfn.IFS(_xlfn.XLOOKUP(B497,FORM2.4!$B$10:$B$183,FORM2.4!$F$10:$F$183)='TABELAS AUXILIARES'!$E$7,\"Resposta Não Preenchida\",_xlfn.XLOOKUP(B497,FORM2.4!$B$10:$B$183,FORM2.4!$F$10:$F$183)='TABELAS AUXILIARES'!$E$8,\"Implementada\",_xlfn.XLOOKUP(B497,FORM2.4!$B$10:$B$183,FORM2.4!$F$10:$F$183)='TABELAS AUXILIARES'!$E$9,\"Não Implementada\",_xlfn.XLOOKUP(B497,FORM2.4!$B$10:$B$183,FORM2.4!$F$10:$F$183)='TABELAS AUXILIARES'!$E$10,\"Não Implementada\",_xlfn.XLOOKUP(B497,FORM2.4!$B$10:$B$183,FORM2.4!$F$10:$F$183)='TABELAS AUXILIARES'!$E$11,\"Não Implementada\",_xlfn.XLOOKUP(B497,FORM2.4!$B$10:$B$183,FORM2.4!$F$10:$F$183)='TABELAS AUXILIARES'!$E$12,\"Não Adota\",_xlfn.XLOOKUP(B497,FORM2.4!$B$10:$B$183,FORM2.4!$F$10:$F$183)='TABELAS AUXILIARES'!$E$13,\"Não se aplica\")","v":"Resposta Não Preenchida"}]
[null,"30.12",{"$f":"FORM2.4!E152","v":"O órgão produz um relatório anual detalhando as ações tomadas para conformidade e um resumo das ações pendentes?"},null,{"$f":"_xlfn.IFS(_xlfn.XLOOKUP(B498,FORM2.4!$B$10:$B$183,FORM2.4!$F$10:$F$183)='TABELAS AUXILIARES'!$E$7,\"Resposta Não Preenchida\",_xlfn.XLOOKUP(B498,FORM2.4!$B$10:$B$183,FORM2.4!$F$10:$F$183)='TABELAS AUXILIARES'!$E$8,\"Implementada\",_xlfn.XLOOKUP(B498,FORM2.4!$B$10:$B$183,FORM2.4!$F$10:$F$183)='TABELAS AUXILIARES'!$E$9,\"Não Implementada\",_xlfn.XLOOKUP(B498,FORM2.4!$B$10:$B$183,FORM2.4!$F$10:$F$183)='TABELAS AUXILIARES'!$E$10,\"Não Implementada\",_xlfn.XLOOKUP(B498,FORM2.4!$B$10:$B$183,FORM2.4!$F$10:$F$183)='TABELAS AUXILIARES'!$E$11,\"Não Implementada\",_xlfn.XLOOKUP(B498,FORM2.4!$B$10:$B$183,FORM2.4!$F$10:$F$183)='TABELAS AUXILIARES'!$E$12,\"Não Adota\",_xlfn.XLOOKUP(B498,FORM2.4!$B$10:$B$183,FORM2.4!$F$10:$F$183)='TABELAS AUXILIARES'!$E$13,\"Não se aplica\")","v":"Resposta Não Preenchida"}]
[]
[]
[null,31,{"$f":"FORM3.1!C48","v":"PRIVACIDADE CONTROLE 31: SEGURANÇA APLICADA A PRIVACIDADE"}]
[null,{"$f":"FORM2.4!I153","v":"Controle Não Foi Respondido"}]
[null,null,"MEDIDAS DE PRIVACIDADE"]
[null,"Nível de Capacidade do Controle"]
[null,"ID","Medida",null,"Resposta"]
[null,"31.1",{"$f":"FORM2.4!E154","v":"A organização adota medidas de segurança, técnicas e administrativas, testadas e avaliadas, aptas a proteger dados pessoais de acordo com os resultados de uma avaliação de riscos ou impacto de proteção de dados pessoais?"},null,{"$f":"_xlfn.IFS(_xlfn.XLOOKUP(B506,FORM2.4!$B$10:$B$183,FORM2.4!$F$10:$F$183)='TABELAS AUXILIARES'!$E$7,\"Resposta Não Preenchida\",_xlfn.XLOOKUP(B506,FORM2.4!$B$10:$B$183,FORM2.4!$F$10:$F$183)='TABELAS AUXILIARES'!$E$8,\"Implementada\",_xlfn.XLOOKUP(B506,FORM2.4!$B$10:$B$183,FORM2.4!$F$10:$F$183)='TABELAS AUXILIARES'!$E$9,\"Não Implementada\",_xlfn.XLOOKUP(B506,FORM2.4!$B$10:$B$183,FORM2.4!$F$10:$F$183)='TABELAS AUXILIARES'!$E$10,\"Não Implementada\",_xlfn.XLOOKUP(B506,FORM2.4!$B$10:$B$183,FORM2.4!$F$10:$F$183)='TABELAS AUXILIARES'!$E$11,\"Não Implementada\",_xlfn.XLOOKUP(B506,FORM2.4!$B$10:$B$183,FORM2.4!$F$10:$F$183)='TABELAS AUXILIARES'!$E$12,\"Não Adota\",_xlfn.XLOOKUP(B506,FORM2.4!$B$10:$B$183,FORM2.4!$F$10:$F$183)='TABELAS AUXILIARES'!$E$13,\"Não se aplica\")","v":"Resposta Não Preenchida"}]
[null,"31.2",{"$f":"FORM2.4!E155","v":"O órgão submete os controles de segurança e proteção de dados a revisão e reavaliação periódicas em um processo contínuo de gerenciamento de riscos de segurança?"},null,{"$f":"_xlfn.IFS(_xlfn.XLOOKUP(B507,FORM2.4!$B$10:$B$183,FORM2.4!$F$10:$F$183)='TABELAS AUXILIARES'!$E$7,\"Resposta Não Preenchida\",_xlfn.XLOOKUP(B507,FORM2.4!$B$10:$B$183,FORM2.4!$F$10:$F$183)='TABELAS AUXILIARES'!$E$8,\"Implementada\",_xlfn.XLOOKUP(B507,FORM2.4!$B$10:$B$183,FORM2.4!$F$10:$F$183)='TABELAS AUXILIARES'!$E$9,\"Não Implementada\",_xlfn.XLOOKUP(B507,FORM2.4!$B$10:$B$183,FORM2.4!$F$10:$F$183)='TABELAS AUXILIARES'!$E$10,\"Não Implementada\",_xlfn.XLOOKUP(B507,FORM2.4!$B$10:$B$183,FORM2.4!$F$10:$F$183)='TABELAS AUXILIARES'!$E$11,\"Não Implementada\",_xlfn.XLOOKUP(B507,FORM2.4!$B$10:$B$183,FORM2.4!$F$10:$F$183)='TABELAS AUXILIARES'!$E$12,\"Não Adota\",_xlfn.XLOOKUP(B507,FORM2.4!$B$10:$B$183,FORM2.4!$F$10:$F$183)='TABELAS AUXILIARES'!$E$13,\"Não se aplica\")","v":"Resposta Não Preenchida"}]
[null,"31.3",{"$f":"FORM2.4!E156","v":"A organização implementa processo para registro, cancelamento e provisionamento de usuários em sistemas que realizam tratamento de dados pessoais?"},null,{"$f":"_xlfn.IFS(_xlfn.XLOOKUP(B508,FORM2.4!$B$10:$B$183,FORM2.4!$F$10:$F$183)='TABELAS AUXILIARES'!$E$7,\"Resposta Não Preenchida\",_xlfn.XLOOKUP(B508,FORM2.4!$B$10:$B$183,FORM2.4!$F$10:$F$183)='TABELAS AUXILIARES'!$E$8,\"Implementada\",_xlfn.XLOOKUP(B508,FORM2.4!$B$10:$B$183,FORM2.4!$F$10:$F$183)='TABELAS AUXILIARES'!$E$9,\"Não Implementada\",_xlfn.XLOOKUP(B508,FORM2.4!$B$10:$B$183,FORM2.4!$F$10:$F$183)='TABELAS AUXILIARES'!$E$10,\"Não Implementada\",_xlfn.XLOOKUP(B508,FORM2.4!$B$10:$B$183,FORM2.4!$F$10:$F$183)='TABELAS AUXILIARES'!$E$11,\"Não Implementada\",_xlfn.XLOOKUP(B508,FORM2.4!$B$10:$B$183,FORM2.4!$F$10:$F$183)='TABELAS AUXILIARES'!$E$12,\"Não Adota\",_xlfn.XLOOKUP(B508,FORM2.4!$B$10:$B$183,FORM2.4!$F$10:$F$183)='TABELAS AUXILIARES'!$E$13,\"Não se aplica\")","v":"Resposta Não Preenchida"}]
[null,"31.4",{"$f":"FORM2.4!E157","v":"A instituição considera o princípio do privilégio mínimo na concessão de direitos de acesso para o processamento de dados pessoais?"},null,{"$f":"_xlfn.IFS(_xlfn.XLOOKUP(B509,FORM2.4!$B$10:$B$183,FORM2.4!$F$10:$F$183)='TABELAS AUXILIARES'!$E$7,\"Resposta Não Preenchida\",_xlfn.XLOOKUP(B509,FORM2.4!$B$10:$B$183,FORM2.4!$F$10:$F$183)='TABELAS AUXILIARES'!$E$8,\"Implementada\",_xlfn.XLOOKUP(B509,FORM2.4!$B$10:$B$183,FORM2.4!$F$10:$F$183)='TABELAS AUXILIARES'!$E$9,\"Não Implementada\",_xlfn.XLOOKUP(B509,FORM2.4!$B$10:$B$183,FORM2.4!$F$10:$F$183)='TABELAS AUXILIARES'!$E$10,\"Não Implementada\",_xlfn.XLOOKUP(B509,FORM2.4!$B$10:$B$183,FORM2.4!$F$10:$F$183)='TABELAS AUXILIARES'!$E$11,\"Não Implementada\",_xlfn.XLOOKUP(B509,FORM2.4!$B$10:$B$183,FORM2.4!$F$10:$F$183)='TABELAS AUXILIARES'!$E$12,\"Não Adota\",_xlfn.XLOOKUP(B509,FORM2.4!$B$10:$B$183,FORM2.4!$F$10:$F$183)='TABELAS AUXILIARES'!$E$13,\"Não se aplica\")","v":"Resposta Não Preenchida"}]
[null,"31.5",{"$f":"FORM2.4!E158","v":"Meios fortes de autenticação são providos para o processamento dos dados pessoais, em especial os dados sensíveis (dados de saúde e demais dados previstos pelo art.5º, II da LGPD)?"},null,{"$f":"_xlfn.IFS(_xlfn.XLOOKUP(B510,FORM2.4!$B$10:$B$183,FORM2.4!$F$10:$F$183)='TABELAS AUXILIARES'!$E$7,\"Resposta Não Preenchida\",_xlfn.XLOOKUP(B510,FORM2.4!$B$10:$B$183,FORM2.4!$F$10:$F$183)='TABELAS AUXILIARES'!$E$8,\"Implementada\",_xlfn.XLOOKUP(B510,FORM2.4!$B$10:$B$183,FORM2.4!$F$10:$F$183)='TABELAS AUXILIARES'!$E$9,\"Não Implementada\",_xlfn.XLOOKUP(B510,FORM2.4!$B$10:$B$183,FORM2.4!$F$10:$F$183)='TABELAS AUXILIARES'!$E$10,\"Não Implementada\",_xlfn.XLOOKUP(B510,FORM2.4!$B$10:$B$183,FORM2.4!$F$10:$F$183)='TABELAS AUXILIARES'!$E$11,\"Não Implementada\",_xlfn.XLOOKUP(B510,FORM2.4!$B$10:$B$183,FORM2.4!$F$10:$F$183)='TABELAS AUXILIARES'!$E$12,\"Não Adota\",_xlfn.XLOOKUP(B510,FORM2.4!$B$10:$B$183,FORM2.4!$F$10:$F$183)='TABELAS AUXILIARES'!$E$13,\"Não se aplica\")","v":"Resposta Não Preenchida"}]
[null,"31.6",{"$f":"FORM2.4!E159","v":"O acesso físico aos dados e dispositivos é gerenciado?"},null,{"$f":"_xlfn.IFS(_xlfn.XLOOKUP(B511,FORM2.4!$B$10:$B$183,FORM2.4!$F$10:$F$183)='TABELAS AUXILIARES'!$E$7,\"Resposta Não Preenchida\",_xlfn.XLOOKUP(B511,FORM2.4!$B$10:$B$183,FORM2.4!$F$10:$F$183)='TABELAS AUXILIARES'!$E$8,\"Implementada\",_xlfn.XLOOKUP(B511,FORM2.4!$B$10:$B$183,FORM2.4!$F$10:$F$183)='TABELAS AUXILIARES'!$E$9,\"Não Implementada\",_xlfn.XLOOKUP(B511,FORM2.4!$B$10:$B$183,FORM2.4!$F$10:$F$183)='TABELAS AUXILIARES'!$E$10,\"Não Implementada\",_xlfn.XLOOKUP(B511,FORM2.4!$B$10:$B$183,FORM2.4!$F$10:$F$183)='TABELAS AUXILIARES'!$E$11,\"Não Implementada\",_xlfn.XLOOKUP(B511,FORM2.4!$B$10:$B$183,FORM2.4!$F$10:$F$183)='TABELAS AUXILIARES'!$E$12,\"Não Adota\",_xlfn.XLOOKUP(B511,FORM2.4!$B$10:$B$183,FORM2.4!$F$10:$F$183)='TABELAS AUXILIARES'!$E$13,\"Não se aplica\")","v":"Resposta Não Preenchida"}]
[null,"31.7",{"$f":"FORM2.4!E160","v":"O compartilhamento ou transferência de dados pessoais é realizado por meio de um canal criptografado e de cifra recomendada pelos sítios especializados de segurança (Exemplo: https://www.ssllabs.com/ssltest/)?"},null,{"$f":"_xlfn.IFS(_xlfn.XLOOKUP(B512,FORM2.4!$B$10:$B$183,FORM2.4!$F$10:$F$183)='TABELAS AUXILIARES'!$E$7,\"Resposta Não Preenchida\",_xlfn.XLOOKUP(B512,FORM2.4!$B$10:$B$183,FORM2.4!$F$10:$F$183)='TABELAS AUXILIARES'!$E$8,\"Implementada\",_xlfn.XLOOKUP(B512,FORM2.4!$B$10:$B$183,FORM2.4!$F$10:$F$183)='TABELAS AUXILIARES'!$E$9,\"Não Implementada\",_xlfn.XLOOKUP(B512,FORM2.4!$B$10:$B$183,FORM2.4!$F$10:$F$183)='TABELAS AUXILIARES'!$E$10,\"Não Implementada\",_xlfn.XLOOKUP(B512,FORM2.4!$B$10:$B$183,FORM2.4!$F$10:$F$183)='TABELAS AUXILIARES'!$E$11,\"Não Implementada\",_xlfn.XLOOKUP(B512,FORM2.4!$B$10:$B$183,FORM2.4!$F$10:$F$183)='TABELAS AUXILIARES'!$E$12,\"Não Adota\",_xlfn.XLOOKUP(B512,FORM2.4!$B$10:$B$183,FORM2.4!$F$10:$F$183)='TABELAS AUXILIARES'!$E$13,\"Não se aplica\")","v":"Resposta Não Preenchida"}]
[null,"31.8",{"$f":"FORM2.4!E161","v":"Os dados pessoais armazenados/retidos possuem controles de integridade permitindo identificar se os dados foram alterados sem permissão?"},null,{"$f":"_xlfn.IFS(_xlfn.XLOOKUP(B513,FORM2.4!$B$10:$B$183,FORM2.4!$F$10:$F$183)='TABELAS AUXILIARES'!$E$7,\"Resposta Não Preenchida\",_xlfn.XLOOKUP(B513,FORM2.4!$B$10:$B$183,FORM2.4!$F$10:$F$183)='TABELAS AUXILIARES'!$E$8,\"Implementada\",_xlfn.XLOOKUP(B513,FORM2.4!$B$10:$B$183,FORM2.4!$F$10:$F$183)='TABELAS AUXILIARES'!$E$9,\"Não Implementada\",_xlfn.XLOOKUP(B513,FORM2.4!$B$10:$B$183,FORM2.4!$F$10:$F$183)='TABELAS AUXILIARES'!$E$10,\"Não Implementada\",_xlfn.XLOOKUP(B513,FORM2.4!$B$10:$B$183,FORM2.4!$F$10:$F$183)='TABELAS AUXILIARES'!$E$11,\"Não Implementada\",_xlfn.XLOOKUP(B513,FORM2.4!$B$10:$B$183,FORM2.4!$F$10:$F$183)='TABELAS AUXILIARES'!$E$12,\"Não Adota\",_xlfn.XLOOKUP(B513,FORM2.4!$B$10:$B$183,FORM2.4!$F$10:$F$183)='TABELAS AUXILIARES'!$E$13,\"Não se aplica\")","v":"Resposta Não Preenchida"}]
[null,"31.9",{"$f":"FORM2.4!E162","v":"O órgão adota mecanismos para restauração de dados pessoais?"},null,{"$f":"_xlfn.IFS(_xlfn.XLOOKUP(B514,FORM2.4!$B$10:$B$183,FORM2.4!$F$10:$F$183)='TABELAS AUXILIARES'!$E$7,\"Resposta Não Preenchida\",_xlfn.XLOOKUP(B514,FORM2.4!$B$10:$B$183,FORM2.4!$F$10:$F$183)='TABELAS AUXILIARES'!$E$8,\"Implementada\",_xlfn.XLOOKUP(B514,FORM2.4!$B$10:$B$183,FORM2.4!$F$10:$F$183)='TABELAS AUXILIARES'!$E$9,\"Não Implementada\",_xlfn.XLOOKUP(B514,FORM2.4!$B$10:$B$183,FORM2.4!$F$10:$F$183)='TABELAS AUXILIARES'!$E$10,\"Não Implementada\",_xlfn.XLOOKUP(B514,FORM2.4!$B$10:$B$183,FORM2.4!$F$10:$F$183)='TABELAS AUXILIARES'!$E$11,\"Não Implementada\",_xlfn.XLOOKUP(B514,FORM2.4!$B$10:$B$183,FORM2.4!$F$10:$F$183)='TABELAS AUXILIARES'!$E$12,\"Não Adota\",_xlfn.XLOOKUP(B514,FORM2.4!$B$10:$B$183,FORM2.4!$F$10:$F$183)='TABELAS AUXILIARES'!$E$13,\"Não se aplica\")","v":"Resposta Não Preenchida"}]
[null,"31.10",{"$f":"FORM2.4!E163","v":"O órgão restringe e controla a impressão de documentos que contenha dados pessoais encaminhados para as impressoras corporativas?"},null,{"$f":"_xlfn.IFS(_xlfn.XLOOKUP(B515,FORM2.4!$B$10:$B$183,FORM2.4!$F$10:$F$183)='TABELAS AUXILIARES'!$E$7,\"Resposta Não Preenchida\",_xlfn.XLOOKUP(B515,FORM2.4!$B$10:$B$183,FORM2.4!$F$10:$F$183)='TABELAS AUXILIARES'!$E$8,\"Implementada\",_xlfn.XLOOKUP(B515,FORM2.4!$B$10:$B$183,FORM2.4!$F$10:$F$183)='TABELAS AUXILIARES'!$E$9,\"Não Implementada\",_xlfn.XLOOKUP(B515,FORM2.4!$B$10:$B$183,FORM2.4!$F$10:$F$183)='TABELAS AUXILIARES'!$E$10,\"Não Implementada\",_xlfn.XLOOKUP(B515,FORM2.4!$B$10:$B$183,FORM2.4!$F$10:$F$183)='TABELAS AUXILIARES'!$E$11,\"Não Implementada\",_xlfn.XLOOKUP(B515,FORM2.4!$B$10:$B$183,FORM2.4!$F$10:$F$183)='TABELAS AUXILIARES'!$E$12,\"Não Adota\",_xlfn.XLOOKUP(B515,FORM2.4!$B$10:$B$183,FORM2.4!$F$10:$F$183)='TABELAS AUXILIARES'!$E$13,\"Não se aplica\")","v":"Resposta Não Preenchida"}]
[null,"31.11",{"$f":"FORM2.4!E164","v":"O órgão descarta materiais impressos de forma segura?"},null,{"$f":"_xlfn.IFS(_xlfn.XLOOKUP(B516,FORM2.4!$B$10:$B$183,FORM2.4!$F$10:$F$183)='TABELAS AUXILIARES'!$E$7,\"Resposta Não Preenchida\",_xlfn.XLOOKUP(B516,FORM2.4!$B$10:$B$183,FORM2.4!$F$10:$F$183)='TABELAS AUXILIARES'!$E$8,\"Implementada\",_xlfn.XLOOKUP(B516,FORM2.4!$B$10:$B$183,FORM2.4!$F$10:$F$183)='TABELAS AUXILIARES'!$E$9,\"Não Implementada\",_xlfn.XLOOKUP(B516,FORM2.4!$B$10:$B$183,FORM2.4!$F$10:$F$183)='TABELAS AUXILIARES'!$E$10,\"Não Implementada\",_xlfn.XLOOKUP(B516,FORM2.4!$B$10:$B$183,FORM2.4!$F$10:$F$183)='TABELAS AUXILIARES'!$E$11,\"Não Implementada\",_xlfn.XLOOKUP(B516,FORM2.4!$B$10:$B$183,FORM2.4!$F$10:$F$183)='TABELAS AUXILIARES'!$E$12,\"Não Adota\",_xlfn.XLOOKUP(B516,FORM2.4!$B$10:$B$183,FORM2.4!$F$10:$F$183)='TABELAS AUXILIARES'!$E$13,\"Não se aplica\")","v":"Resposta Não Preenchida"}]
[null,"31.12",{"$f":"FORM2.4!E165","v":"As medidas de mitigação de riscos resultantes do RIPD são consideradas no processo de desenvolvimento de sistemas?"},null,{"$f":"_xlfn.IFS(_xlfn.XLOOKUP(B517,FORM2.4!$B$10:$B$183,FORM2.4!$F$10:$F$183)='TABELAS AUXILIARES'!$E$7,\"Resposta Não Preenchida\",_xlfn.XLOOKUP(B517,FORM2.4!$B$10:$B$183,FORM2.4!$F$10:$F$183)='TABELAS AUXILIARES'!$E$8,\"Implementada\",_xlfn.XLOOKUP(B517,FORM2.4!$B$10:$B$183,FORM2.4!$F$10:$F$183)='TABELAS AUXILIARES'!$E$9,\"Não Implementada\",_xlfn.XLOOKUP(B517,FORM2.4!$B$10:$B$183,FORM2.4!$F$10:$F$183)='TABELAS AUXILIARES'!$E$10,\"Não Implementada\",_xlfn.XLOOKUP(B517,FORM2.4!$B$10:$B$183,FORM2.4!$F$10:$F$183)='TABELAS AUXILIARES'!$E$11,\"Não Implementada\",_xlfn.XLOOKUP(B517,FORM2.4!$B$10:$B$183,FORM2.4!$F$10:$F$183)='TABELAS AUXILIARES'!$E$12,\"Não Adota\",_xlfn.XLOOKUP(B517,FORM2.4!$B$10:$B$183,FORM2.4!$F$10:$F$183)='TABELAS AUXILIARES'!$E$13,\"Não se aplica\")","v":"Resposta Não Preenchida"}]
[null,"31.13",{"$f":"FORM2.4!E166","v":"A manutenção e reparação dos ativos organizacionais são realizadas e registradas, com ferramentas aprovadas e controladas?"},null,{"$f":"_xlfn.IFS(_xlfn.XLOOKUP(B518,FORM2.4!$B$10:$B$183,FORM2.4!$F$10:$F$183)='TABELAS AUXILIARES'!$E$7,\"Resposta Não Preenchida\",_xlfn.XLOOKUP(B518,FORM2.4!$B$10:$B$183,FORM2.4!$F$10:$F$183)='TABELAS AUXILIARES'!$E$8,\"Implementada\",_xlfn.XLOOKUP(B518,FORM2.4!$B$10:$B$183,FORM2.4!$F$10:$F$183)='TABELAS AUXILIARES'!$E$9,\"Não Implementada\",_xlfn.XLOOKUP(B518,FORM2.4!$B$10:$B$183,FORM2.4!$F$10:$F$183)='TABELAS AUXILIARES'!$E$10,\"Não Implementada\",_xlfn.XLOOKUP(B518,FORM2.4!$B$10:$B$183,FORM2.4!$F$10:$F$183)='TABELAS AUXILIARES'!$E$11,\"Não Implementada\",_xlfn.XLOOKUP(B518,FORM2.4!$B$10:$B$183,FORM2.4!$F$10:$F$183)='TABELAS AUXILIARES'!$E$12,\"Não Adota\",_xlfn.XLOOKUP(B518,FORM2.4!$B$10:$B$183,FORM2.4!$F$10:$F$183)='TABELAS AUXILIARES'!$E$13,\"Não se aplica\")","v":"Resposta Não Preenchida"}]
[null,"31.14",{"$f":"FORM2.4!E167","v":"A manutenção remota dos ativos organizacionais é aprovada, registrada e executada de forma a impedir o acesso não autorizado?"},null,{"$f":"_xlfn.IFS(_xlfn.XLOOKUP(B519,FORM2.4!$B$10:$B$183,FORM2.4!$F$10:$F$183)='TABELAS AUXILIARES'!$E$7,\"Resposta Não Preenchida\",_xlfn.XLOOKUP(B519,FORM2.4!$B$10:$B$183,FORM2.4!$F$10:$F$183)='TABELAS AUXILIARES'!$E$8,\"Implementada\",_xlfn.XLOOKUP(B519,FORM2.4!$B$10:$B$183,FORM2.4!$F$10:$F$183)='TABELAS AUXILIARES'!$E$9,\"Não Implementada\",_xlfn.XLOOKUP(B519,FORM2.4!$B$10:$B$183,FORM2.4!$F$10:$F$183)='TABELAS AUXILIARES'!$E$10,\"Não Implementada\",_xlfn.XLOOKUP(B519,FORM2.4!$B$10:$B$183,FORM2.4!$F$10:$F$183)='TABELAS AUXILIARES'!$E$11,\"Não Implementada\",_xlfn.XLOOKUP(B519,FORM2.4!$B$10:$B$183,FORM2.4!$F$10:$F$183)='TABELAS AUXILIARES'!$E$12,\"Não Adota\",_xlfn.XLOOKUP(B519,FORM2.4!$B$10:$B$183,FORM2.4!$F$10:$F$183)='TABELAS AUXILIARES'!$E$13,\"Não se aplica\")","v":"Resposta Não Preenchida"}]
[null,"31.15",{"$f":"FORM2.4!E168","v":"A organização ao realizar registros de eventos (logs), considerando o princípio de minimização de dados, grava o acesso ao dado pessoal, incluindo por quem, quando, qual titular de dados pessoais foi acessado e quais mudanças (se houver alguma) foram feitas (adições, modificações ou exclusões), como um resultado do evento?"},null,{"$f":"_xlfn.IFS(_xlfn.XLOOKUP(B520,FORM2.4!$B$10:$B$183,FORM2.4!$F$10:$F$183)='TABELAS AUXILIARES'!$E$7,\"Resposta Não Preenchida\",_xlfn.XLOOKUP(B520,FORM2.4!$B$10:$B$183,FORM2.4!$F$10:$F$183)='TABELAS AUXILIARES'!$E$8,\"Implementada\",_xlfn.XLOOKUP(B520,FORM2.4!$B$10:$B$183,FORM2.4!$F$10:$F$183)='TABELAS AUXILIARES'!$E$9,\"Não Implementada\",_xlfn.XLOOKUP(B520,FORM2.4!$B$10:$B$183,FORM2.4!$F$10:$F$183)='TABELAS AUXILIARES'!$E$10,\"Não Implementada\",_xlfn.XLOOKUP(B520,FORM2.4!$B$10:$B$183,FORM2.4!$F$10:$F$183)='TABELAS AUXILIARES'!$E$11,\"Não Implementada\",_xlfn.XLOOKUP(B520,FORM2.4!$B$10:$B$183,FORM2.4!$F$10:$F$183)='TABELAS AUXILIARES'!$E$12,\"Não Adota\",_xlfn.XLOOKUP(B520,FORM2.4!$B$10:$B$183,FORM2.4!$F$10:$F$183)='TABELAS AUXILIARES'!$E$13,\"Não se aplica\")","v":"Resposta Não Preenchida"}]
[null,"31.16",{"$f":"FORM2.4!E169","v":"A organização monitora proativamente a ocorrência de eventos que podem ser associados à violação de dados pessoais?"},null,{"$f":"_xlfn.IFS(_xlfn.XLOOKUP(B521,FORM2.4!$B$10:$B$183,FORM2.4!$F$10:$F$183)='TABELAS AUXILIARES'!$E$7,\"Resposta Não Preenchida\",_xlfn.XLOOKUP(B521,FORM2.4!$B$10:$B$183,FORM2.4!$F$10:$F$183)='TABELAS AUXILIARES'!$E$8,\"Implementada\",_xlfn.XLOOKUP(B521,FORM2.4!$B$10:$B$183,FORM2.4!$F$10:$F$183)='TABELAS AUXILIARES'!$E$9,\"Não Implementada\",_xlfn.XLOOKUP(B521,FORM2.4!$B$10:$B$183,FORM2.4!$F$10:$F$183)='TABELAS AUXILIARES'!$E$10,\"Não Implementada\",_xlfn.XLOOKUP(B521,FORM2.4!$B$10:$B$183,FORM2.4!$F$10:$F$183)='TABELAS AUXILIARES'!$E$11,\"Não Implementada\",_xlfn.XLOOKUP(B521,FORM2.4!$B$10:$B$183,FORM2.4!$F$10:$F$183)='TABELAS AUXILIARES'!$E$12,\"Não Adota\",_xlfn.XLOOKUP(B521,FORM2.4!$B$10:$B$183,FORM2.4!$F$10:$F$183)='TABELAS AUXILIARES'!$E$13,\"Não se aplica\")","v":"Resposta Não Preenchida"}]
[null,"31.17",{"$f":"FORM2.4!E170","v":"A organização possui sistema para o registro de incidentes de segurança da informação que envolvem violação de dados pessoais?"},null,{"$f":"_xlfn.IFS(_xlfn.XLOOKUP(B522,FORM2.4!$B$10:$B$183,FORM2.4!$F$10:$F$183)='TABELAS AUXILIARES'!$E$7,\"Resposta Não Preenchida\",_xlfn.XLOOKUP(B522,FORM2.4!$B$10:$B$183,FORM2.4!$F$10:$F$183)='TABELAS AUXILIARES'!$E$8,\"Implementada\",_xlfn.XLOOKUP(B522,FORM2.4!$B$10:$B$183,FORM2.4!$F$10:$F$183)='TABELAS AUXILIARES'!$E$9,\"Não Implementada\",_xlfn.XLOOKUP(B522,FORM2.4!$B$10:$B$183,FORM2.4!$F$10:$F$183)='TABELAS AUXILIARES'!$E$10,\"Não Implementada\",_xlfn.XLOOKUP(B522,FORM2.4!$B$10:$B$183,FORM2.4!$F$10:$F$183)='TABELAS AUXILIARES'!$E$11,\"Não Implementada\",_xlfn.XLOOKUP(B522,FORM2.4!$B$10:$B$183,FORM2.4!$F$10:$F$183)='TABELAS AUXILIARES'!$E$12,\"Não Adota\",_xlfn.XLOOKUP(B522,FORM2.4!$B$10:$B$183,FORM2.4!$F$10:$F$183)='TABELAS AUXILIARES'!$E$13,\"Não se aplica\")","v":"Resposta Não Preenchida"}]
[null,"31.18",{"$f":"FORM2.4!E171","v":"A organização comunica à Autoridade Nacional de Proteção de Dados sobre a ocorrência de incidente de segurança e proteção de dados pessoais?"},null,{"$f":"_xlfn.IFS(_xlfn.XLOOKUP(B523,FORM2.4!$B$10:$B$183,FORM2.4!$F$10:$F$183)='TABELAS AUXILIARES'!$E$7,\"Resposta Não Preenchida\",_xlfn.XLOOKUP(B523,FORM2.4!$B$10:$B$183,FORM2.4!$F$10:$F$183)='TABELAS AUXILIARES'!$E$8,\"Implementada\",_xlfn.XLOOKUP(B523,FORM2.4!$B$10:$B$183,FORM2.4!$F$10:$F$183)='TABELAS AUXILIARES'!$E$9,\"Não Implementada\",_xlfn.XLOOKUP(B523,FORM2.4!$B$10:$B$183,FORM2.4!$F$10:$F$183)='TABELAS AUXILIARES'!$E$10,\"Não Implementada\",_xlfn.XLOOKUP(B523,FORM2.4!$B$10:$B$183,FORM2.4!$F$10:$F$183)='TABELAS AUXILIARES'!$E$11,\"Não Implementada\",_xlfn.XLOOKUP(B523,FORM2.4!$B$10:$B$183,FORM2.4!$F$10:$F$183)='TABELAS AUXILIARES'!$E$12,\"Não Adota\",_xlfn.XLOOKUP(B523,FORM2.4!$B$10:$B$183,FORM2.4!$F$10:$F$183)='TABELAS AUXILIARES'!$E$13,\"Não se aplica\")","v":"Resposta Não Preenchida"}]

{"sheet":"FORM3.3","index":11,"n_rows":22,"n_cols":10,"rows_kept":22,"cut":false,"hidden":false,"merged":[[16,8,16,9]]}
[]
[]
[]
[]
[]
[null,{"$f":"IFERROR(_xlfn.CONCAT(\"Indicador de Segurança da Inforrmação (ISeg) Maturidade:  \",TRUNC(BASE_CIS8!E10,2)), \"Por favor preencha todos os campos\")","v":"Por favor preencha todos os campos"},{"$f":"BASE_CIS8!G10","v":"Por favor preencha todos os campos"}]
[]
[]
[]
[]
[]
[]
[]
[]
[]
[]
[]
[]
[]
[]
[null,null,null,null,null,null,null,null,"META",{"$f":"FORM3GERAL!F5","v":0}]
[null,null,null,null,null,null,null,null,"REALIZADOS",{"$f":"COUNTIF(FORM3GERAL!M:M,\"Finalizado\")","v":0}]

{"sheet":"FORM3.4","index":12,"n_rows":22,"n_cols":9,"rows_kept":22,"cut":false,"hidden":false,"merged":[[16,7,16,8]]}
[]
[]
[]
[]
[]
[null,{"$f":" IFERROR(_xlfn.CONCAT(\"Indicador de Privacidade (IPriv) Maturidade:  \",TRUNC(BASE_CIS8!E34,2)),\"Por favor preencha todos os campos\")","v":"Por favor preencha todos os campos"},{"$f":"BASE_CIS8!G34","v":"Por favor preencha todos os campos"}]
[]
[]
[]
[]
[]
[]
[]
[]
[]
[]
[]
[]
[]
[]
[null,null,null,null,null,null,null,"META",{"$f":"FORM3GERAL!F5","v":0}]
[null,null,null,null,null,null,null,"REALIZADOS",{"$f":"COUNTIF(FORM3GERAL!M:M,\"Finalizado\")","v":0}]

{"sheet":"FORM3.5","index":13,"n_rows":89,"n_cols":45,"rows_kept":89,"cut":false,"hidden":true,"merged":[[76,39,76,42],[31,0,31,3],[31,13,31,15],[31,26,31,28],[31,39,31,42],[45,0,45,2],[45,13,45,15],[45,26,45,28],[45,39,45,41],[17,0,17,3],[17,13,17,15],[17,26,17,28],[17,39,17,41],[61,39,61,42],[0,3,0,27],[3,0,3,3],[3,13,3,15],[3,26,3,28],[3,39,3,41]]}
[null,null,null,"SEGURANÇA DA INFORMAÇÃO"]
[]
[]
["CIS CONTROLE 1: INVENTÁRIO E CONTROLE DE ATIVOS INSTITUCIONAIS",null,null,null,null,null,null,null,null,null,null,null,null,"CIS CONTROLE 5: GESTÃO DE CONTAS",null,null,null,null,null,null,null,null,null,null,null,null,"CIS CONTROLE 9: PROTEÇÕES DE E-MAIL E NAVEGADOR WEB",null,null,null,null,null,null,null,null,null,null,null,null,"CIS CONTROLE 13: MONITORAMENTO E DEFESA DA REDE",null,null,null,null,"Legenda:"]
[null,{"$f":"$B$10*C5","v":2},0.2,null,null,null,null,null,null,null,null,null,null,null,{"$f":"$O$10*P5","v":2},0.2,null,null,null,null,null,null,null,null,null,null,null,{"$f":"$AB$10*AC5","v":2},0.2,null,null,null,null,null,null,null,null,null,null,null,{"$f":"$AO$10*AP5","v":2},0.2]
[null,2,0.2,null,null,null,null,null,null,null,null,null,null,null,2,0.2,null,null,null,null,null,null,null,null,null,null,null,2,0.2,null,null,null,null,null,null,null,null,null,null,null,2,0.2]
[null,2,0.2,null,null,null,null,null,null,null,null,null,null,null,2,0.2,null,null,null,null,null,null,null,null,null,null,null,2,0.2,null,null,null,null,null,null,null,null,null,null,null,2,0.2]
[null,2,0.2,null,null,null,null,null,null,null,null,null,null,null,2,0.2,null,null,null,null,null,null,null,null,null,null,null,2,0.2,null,null,null,null,null,null,null,null,null,null,null,2,0.2]
[null,{"$f":"$B$10*C9","v":2},0.2,null,null,null,null,null,null,null,null,null,null,null,{"$f":"$O$10*P9","v":2},0.2,null,null,null,null,null,null,null,null,null,null,null,{"$f":"$AB$10*AC9","v":2},0.2,null,null,null,null,null,null,null,null,null,null,null,{"$f":"$AO$10*AP9","v":2},0.2]
["Total de prioridade",{"$f":"IF(GRÁFICOS.LÓGICA!E4>0,GRÁFICOS.LÓGICA!E4,10)","v":10},1,null,null,null,null,null,null,null,null,null,null,"Total de prioridade",{"$f":"IF(GRÁFICOS.LÓGICA!E8>0,GRÁFICOS.LÓGICA!E8,10)","v":10},1,null,null,null,null,null,null,null,null,null,null,"Total de prioridade",{"$f":"IF(GRÁFICOS.LÓGICA!E12>0,GRÁFICOS.LÓGICA!E12,10)","v":10},1,null,null,null,null,null,null,null,null,null,null,"Total de prioridade",{"$f":"IF(GRÁFICOS.LÓGICA!E16>0,GRÁFICOS.LÓGICA!E16,10)","v":10},1]
[]
[]
[]
["Feitos",{"$f":"IF(GRÁFICOS.LÓGICA!G4>0,GRÁFICOS.LÓGICA!G4,0.01)","v":0.01},0.02,null,null,null,null,null,null,null,null,null,null,"Feitos",{"$f":"IF(GRÁFICOS.LÓGICA!G8>0,GRÁFICOS.LÓGICA!G8,0.01)","v":0.01},0.02,null,null,null,null,null,null,null,null,null,null,"Feitos",{"$f":"IF(GRÁFICOS.LÓGICA!G12>0,GRÁFICOS.LÓGICA!G12,0.01)","v":0.01},0.02,null,null,null,null,null,null,null,null,null,null,"Feitos",{"$f":"IF(GRÁFICOS.LÓGICA!G16>0,GRÁFICOS.LÓGICA!G16,0.01)","v":0.01},0.02]
["marcador ",{"$f":"C14*B10","v":0.2},{"$f":"IF(B14>=1,B14,\"\")","v":""},null,null,null,null,null,null,null,null,null,null,"marcador ",{"$f":"P14*O10","v":0.2},{"$f":"IF(O14>=1,O14,\"\")","v":""},null,null,null,null,null,null,null,null,null,null,"marcador ",{"$f":"AC14*AB10","v":0.2},{"$f":"IF(AB14>=1,AB14,\"\")","v":""},null,null,null,null,null,null,null,null,null,null,"marcador ",{"$f":"AP14*AO10","v":0.2},{"$f":"IF(AO14>=1,AO14,\"\")","v":""}]
["Complemento",{"$f":"SUM(B5:B10)-B15-B14","v":19.79},0,null,null,null,null,null,null,null,null,null,null,"Complemento",{"$f":"SUM(O5:O10)-O15-O14","v":19.79},0,null,null,null,null,null,null,null,null,null,null,"Complemento",{"$f":"SUM(AB5:AB10)-AB15-AB14","v":19.79},0,null,null,null,null,null,null,null,null,null,null,"Complemento",{"$f":"SUM(AO5:AO10)-AO15-AO14","v":19.79},0]
[]
["CIS CONTROLE 2: INVENTÁRIO E CONTROLE DE ATIVOS DE SOFTWARE",null,null,null,null,null,null,null,null,null,null,null,null,"CIS CONTROLE 6: GESTÃO DO CONTROLE DE ACESSO",null,null,null,null,null,null,null,null,null,null,null,null,"CIS CONTROLE 10: DEFESAS CONTRA MALWARE",null,null,null,null,null,null,null,null,null,null,null,null,"CIS CONTROLE 14: CONSCIENTIZAÇÃO E TREINAMENTO DE COMPETÊNCIAS SOBRE SEGURANÇA"]
[null,{"$f":"$B$24*C19","v":2},0.2,null,null,null,null,null,null,null,null,null,null,null,{"$f":"$O$24*P19","v":2},0.2,null,null,null,null,null,null,null,null,null,null,null,{"$f":"$AB$24*AC19","v":2},0.2,null,null,null,null,null,null,null,null,null,null,null,{"$f":"$AO$24*AP19","v":2},0.2]
[null,2,0.2,null,null,null,null,null,null,null,null,null,null,null,2,0.2,null,null,null,null,null,null,null,null,null,null,null,2,0.2,null,null,null,null,null,null,null,null,null,null,null,2,0.2]
[null,2,0.2,null,null,null,null,null,null,null,null,null,null,null,2,0.2,null,null,null,null,null,null,null,null,null,null,null,2,0.2,null,null,null,null,null,null,null,null,null,null,null,2,0.2]
[null,2,0.2,null,null,null,null,null,null,null,null,null,null,null,2,0.2,null,null,null,null,null,null,null,null,null,null,null,2,0.2,null,null,null,null,null,null,null,null,null,null,null,2,0.2]
[null,{"$f":"$B$24*C23","v":2},0.2,null,null,null,null,null,null,null,null,null,null,null,{"$f":"$O$24*P23","v":2},0.2,null,null,null,null,null,null,null,null,null,null,null,{"$f":"$AB$24*AC23","v":2},0.2,null,null,null,null,null,null,null,null,null,null,null,{"$f":"$AO$24*AP23","v":2},0.2]
["Total de prioridade",{"$f":"IF(GRÁFICOS.LÓGICA!E5>0,GRÁFICOS.LÓGICA!E5,10)","v":10},1,null,null,null,null,null,null,null,null,null,null,"Total de prioridade",{"$f":"IF(GRÁFICOS.LÓGICA!E9>0,GRÁFICOS.LÓGICA!E9,10)","v":10},1,null,null,null,null,null,null,null,null,null,null,"Total de prioridade",{"$f":"IF(GRÁFICOS.LÓGICA!E13>0,GRÁFICOS.LÓGICA!E13,10)","v":10},1,null,null,null,null,null,null,null,null,null,null,"Total de prioridade",{"$f":"IF(GRÁFICOS.LÓGICA!E17>0,GRÁFICOS.LÓGICA!E17,10)","v":10},1]
[]
[]
[]
["Feitos",{"$f":"IF(GRÁFICOS.LÓGICA!G5>0,GRÁFICOS.LÓGICA!G5,0.01)","v":0.01},0.02,null,null,null,null,null,null,null,null,null,null,"Feitos",{"$f":"IF(GRÁFICOS.LÓGICA!G9>0,GRÁFICOS.LÓGICA!G9,0.01)","v":0.01},0.02,null,null,null,null,null,null,null,null,null,null,"Feitos",{"$f":"IF(GRÁFICOS.LÓGICA!G13>0,GRÁFICOS.LÓGICA!G13,0.01)","v":0.01},0.02,null,null,null,null,null,null,null,null,null,null,"Feitos",{"$f":"IF(GRÁFICOS.LÓGICA!G17>0,GRÁFICOS.LÓGICA!G17,0.01)","v":0.01},0.02]
["marcador ",{"$f":"C28*B24","v":0.2},{"$f":"IF(B28>=1,B28,\"\")","v":""},null,null,null,null,null,null,null,null,null,null,"marcador ",{"$f":"P28*O24","v":0.2},{"$f":"IF(O28>=1,O28,\"\")","v":""},null,null,null,null,null,null,null,null,null,null,"marcador ",{"$f":"AC28*AB24","v":0.2},{"$f":"IF(AB28>=1,AB28,\"\")","v":""},null,null,null,null,null,null,null,null,null,null,"marcador ",{"$f":"AP28*AO24","v":0.2},{"$f":"IF(AO28>=1,AO28,\"\")","v":""}]
["Complemento",{"$f":"SUM(B19:B24)-B29-B28","v":19.79},0,null,null,null,null,null,null,null,null,null,null,"Complemento",{"$f":"SUM(O19:O24)-O29-O28","v":19.79},null,null,null,null,null,null,null,null,null,null,null,"Complemento",{"$f":"SUM(AB19:AB24)-AB29-AB28","v":19.79},null,null,null,null,null,null,null,null,null,null,null,"Complemento",{"$f":"SUM(AO19:AO24)-AO29-AO28","v":19.79},0]
[]
["CIS CONTROLE 3: PROTEÇÃO DE DADOS",null,null,null,null,null,null,null,null,null,null,null,null,"CIS CONTROLE 7: GESTÃO CONTÍNUA DE VULNERABILIDADES",null,null,null,null,null,null,null,null,null,null,null,null,"CIS CONTROLE 11: RECUPERAÇÃO DE DADOS",null,null,null,null,null,null,null,null,null,null,null,null,"CIS CONTROLE 15: GESTÃO DE PROVEDOR DE SERVIÇOS"]
[null,{"$f":"$B$38*C33","v":2},0.2,null,null,null,null,null,null,null,null,null,null,null,{"$f":"$O$38*P33","v":2},0.2,null,null,null,null,null,null,null,null,null,null,null,{"$f":"$AB$38*AC33","v":2},0.2,null,null,null,null,null,null,null,null,null,null,null,{"$f":"$AO$38*AP33","v":2},0.2]
[null,2,0.2,null,null,null,null,null,null,null,null,null,null,null,2,0.2,null,null,null,null,null,null,null,null,null,null,null,2,0.2,null,null,null,null,null,null,null,null,null,null,null,2,0.2]
[null,2,0.2,null,null,null,null,null,null,null,null,null,null,null,2,0.2,null,null,null,null,null,null,null,null,null,null,null,2,0.2,null,null,null,null,null,null,null,null,null,null,null,2,0.2]
[null,2,0.2,null,null,null,null,null,null,null,null,null,null,null,2,0.2,null,null,null,null,null,null,null,null,null,null,null,2,0.2,null,null,null,null,null,null,null,null,null,null,null,2,0.2]
[null,{"$f":"$B$38*C37","v":2},0.2,null,null,null,null,null,null,null,null,null,null,null,{"$f":"$O$38*P37","v":2},0.2,null,null,null,null,null,null,null,null,null,null,null,{"$f":"$AB$38*AC37","v":2},0.2,null,null,null,null,null,null,null,null,null,null,null,{"$f":"$AO$38*AP37","v":2},0.2]
["Total de prioridade",{"$f":"IF(GRÁFICOS.LÓGICA!E6>0,GRÁFICOS.LÓGICA!E6,10)","v":10},1,null,null,null,null,null,null,null,null,null,null,"Total de prioridade",{"$f":"IF(GRÁFICOS.LÓGICA!E10>0,GRÁFICOS.LÓGICA!E10,10)","v":10},1,null,null,null,null,null,null,null,null,null,null,"Total de prioridade",{"$f":"IF(GRÁFICOS.LÓGICA!E14>0,GRÁFICOS.LÓGICA!E14,10)","v":10},1,null,null,null,null,null,null,null,null,null,null,"Total de prioridade",{"$f":"IF(GRÁFICOS.LÓGICA!E18>0,GRÁFICOS.LÓGICA!E18,10)","v":10},1]
[]
[]
[]
["Feitos",{"$f":"IF(GRÁFICOS.LÓGICA!G6>0,GRÁFICOS.LÓGICA!G6,0.01)","v":0.01},0.02,null,null,null,null,null,null,null,null,null,null,"Feitos",{"$f":"IF(GRÁFICOS.LÓGICA!G10>0,GRÁFICOS.LÓGICA!G10,0.01)","v":0.01},0.02,null,null,null,null,null,null,null,null,null,null,"Feitos",{"$f":"IF(GRÁFICOS.LÓGICA!G14>0,GRÁFICOS.LÓGICA!G14,0.01)","v":0.01},0.02,null,null,null,null,null,null,null,null,null,null,"Feitos",{"$f":"IF(GRÁFICOS.LÓGICA!G18>0,GRÁFICOS.LÓGICA!G18,0.01)","v":0.01},0.02]
["marcador ",{"$f":"C42*B38","v":0.2},{"$f":"IF(B42>=1,B42,\"\")","v":""},null,null,null,null,null,null,null,null,null,null,"marcador ",{"$f":"P42*O38","v":0.2},{"$f":"IF(O42>=1,O42,\"\")","v":""},null,null,null,null,null,null,null,null,null,null,"marcador ",{"$f":"AC42*AB38","v":0.2},{"$f":"IF(AB42>=1,AB42,\"\")","v":""},null,null,null,null,null,null,null,null,null,null,"marcador ",{"$f":"AP42*AO38","v":0.2},{"$f":"IF(AO42>=1,AO42,\"\")","v":""}]
["Complemento",{"$f":"SUM(B33:B38)-B43-B42","v":19.79},null,null,null,null,null,null,null,null,null,null,null,"Complemento",{"$f":"SUM(O33:O38)-O43-O42","v":19.79},0,null,null,null,null,null,null,null,null,null,null,"Complemento",{"$f":"SUM(AB33:AB38)-AB43-AB42","v":19.79},null,null,null,null,null,null,null,null,null,null,null,"Complemento",{"$f":"SUM(AO33:AO38)-AO43-AO42","v":19.79},0]
[]
["CIS CONTROLE 4: CONFIGURAÇÃO SEGURA DE ATIVOS INSTITUCIONAIS E SOFTWARE",null,null,null,null,null,null,null,null,null,null,null,null,"CIS CONTROLE 8: GESTÃO DE REGISTROS DE AUDITORIA",null,null,null,null,null,null,null,null,null,null,null,null,"CIS CONTROLE 12: GESTÃO DA INFRAESTRUTURA DE REDE",null,null,null,null,null,null,null,null,null,null,null,null,"CIS CONTROLE 16: SEGURANÇA DE APLICAÇÕES"]
[null,{"$f":"$B$52*C47","v":2},0.2,null,null,null,null,null,null,null,null,null,null,null,{"$f":"$O$52*P47","v":2},0.2,null,null,null,null,null,null,null,null,null,null,null,{"$f":"$AB$52*AC47","v":2},0.2,null,null,null,null,null,null,null,null,null,null,null,{"$f":"$AO$52*AP47","v":2},0.2]
[null,2,0.2,null,null,null,null,null,null,null,null,null,null,null,2,0.2,null,null,null,null,null,null,null,null,null,null,null,2,0.2,null,null,null,null,null,null,null,null,null,null,null,2,0.2]
[null,2,0.2,null,null,null,null,null,null,null,null,null,null,null,2,0.2,null,null,null,null,null,null,null,null,null,null,null,2,0.2,null,null,null,null,null,null,null,null,null,null,null,2,0.2]
[null,2,0.2,null,null,null,null,null,null,null,null,null,null,null,2,0.2,null,null,null,null,null,null,null,null,null,null,null,2,0.2,null,null,null,null,null,null,null,null,null,null,null,2,0.2]
[null,{"$f":"$B$52*C51","v":2},0.2,null,null,null,null,null,null,null,null,null,null,null,{"$f":"$O$52*P51","v":2},0.2,null,null,null,null,null,null,null,null,null,null,null,{"$f":"$AB$52*AC51","v":2},0.2,null,null,null,null,null,null,null,null,null,null,null,{"$f":"$AO$52*AP51","v":2},0.2]
["Total de prioridade",{"$f":"IF(GRÁFICOS.LÓGICA!E7>0,GRÁFICOS.LÓGICA!E7,10)","v":10},1,null,null,null,null,null,null,null,null,null,null,"Total de prioridade",{"$f":"IF(GRÁFICOS.LÓGICA!E11>0,GRÁFICOS.LÓGICA!E11,10)","v":10},1,null,null,null,null,null,null,null,null,null,null,"Total de prioridade",{"$f":"IF(GRÁFICOS.LÓGICA!E15>0,GRÁFICOS.LÓGICA!E15,10)","v":10},1,null,null,null,null,null,null,null,null,null,null,"Total de prioridade",{"$f":"IF(GRÁFICOS.LÓGICA!E19>0,GRÁFICOS.LÓGICA!E19,10)","v":10},1]
[]
[]
[]
["Feitos",{"$f":"IF(GRÁFICOS.LÓGICA!G7>0,GRÁFICOS.LÓGICA!G7,0.01)","v":0.01},0.02,null,null,null,null,null,null,null,null,null,null,"Feitos",{"$f":"IF(GRÁFICOS.LÓGICA!G11>0,GRÁFICOS.LÓGICA!G11,0.01)","v":0.01},0.02,null,null,null,null,null,null,null,null,null,null,"Feitos",{"$f":"IF(GRÁFICOS.LÓGICA!G15>0,GRÁFICOS.LÓGICA!G15,0.01)","v":0.01},0.02,null,null,null,null,null,null,null,null,null,null,"Feitos",{"$f":"IF(GRÁFICOS.LÓGICA!G19>0,GRÁFICOS.LÓGICA!G19,0.01)","v":0.01},0.02]
["marcador ",{"$f":"C56*B52","v":0.2},{"$f":"IF(B56>=1,B56,\"\")","v":""},null,null,null,null,null,null,null,null,null,null,"marcador ",{"$f":"P56*O52","v":0.2},{"$f":"IF(O56>=1,O56,\"\")","v":""},null,null,null,null,null,null,null,null,null,null,"marcador ",{"$f":"AC56*AB52","v":0.2},{"$f":"IF(AB56>=1,AB56,\"\")","v":""},null,null,null,null,null,null,null,null,null,null,"marcador ",{"$f":"AP56*AO52","v":0.2},{"$f":"IF(AO56>=1,AO56,\"\")","v":""}]
["Complemento",{"$f":"SUM(B47:B52)-B57-B56","v":19.79},null,null,null,null,null,null,null,null,null,null,null,"Complemento",{"$f":"SUM(O47:O52)-O57-O56","v":19.79},0,null,null,null,null,null,null,null,null,null,null,"Complemento",{"$f":"SUM(AB47:AB52)-AB57-AB56","v":19.79},0,null,null,null,null,null,null,null,null,null,null,"Complemento",{"$f":"SUM(AO47:AO52)-AO57-AO56","v":19.79},0]
[]
[]
[]
[null,null,null,null,null,null,null,null,null,null,null,null,null,null,null,null,null,null,null,null,null,null,null,null,null,null,null,null,null,null,null,null,null,null,null,null,null,null,null,"CIS CONTROLE 17: GESTÃO DE RESPOSTA A INCIDENTES"]
[null,null,null,null,null,null,null,null,null,null,null,null,null,null,null,null,null,null,null,null,null,null,null,null,null,null,null,null,null,null,null,null,null,null,null,null,null,null,null,null,{"$f":"$AO$68*AP63","v":2},0.2]
[null,null,null,null,null,null,null,null,null,null,null,null,null,null,null,null,null,null,null,null,null,null,null,null,null,null,null,null,null,null,null,null,null,null,null,null,null,null,null,null,2,0.2]
[null,null,null,null,null,null,null,null,null,null,null,null,null,null,null,null,null,null,null,null,null,null,null,null,null,null,null,null,null,null,null,null,null,null,null,null,null,null,null,null,{"$f":"$AO$68*AP65","v":2},0.2]
[null,null,null,null,null,null,null,null,null,null,null,null,null,null,null,null,null,null,null,null,null,null,null,null,null,null,null,null,null,null,null,null,null,null,null,null,null,null,null,null,{"$f":"$AO$68*AP66","v":2},0.2]
[null,null,null,null,null,null,null,null,null,null,null,null,null,null,null,null,null,null,null,null,null,null,null,null,null,null,null,null,null,null,null,null,null,null,null,null,null,null,null,null,2,0.2]
[null,null,null,null,null,null,null,null,null,null,null,null,null,null,null,null,null,null,null,null,null,null,null,null,null,null,null,null,null,null,null,null,null,null,null,null,null,null,null,"Total de prioridade",{"$f":"IF(GRÁFICOS.LÓGICA!E20>0,GRÁFICOS.LÓGICA!E20,10)","v":10},1]
[]
[]
[]
[null,null,null,null,null,null,null,null,null,null,null,null,null,null,null,null,null,null,null,null,null,null,null,null,null,null,null,null,null,null,null,null,null,null,null,null,null,null,null,"Feitos",{"$f":"IF(GRÁFICOS.LÓGICA!G20>0,GRÁFICOS.LÓGICA!G20,0.01)","v":0.01},0.02]
[null,null,null,null,null,null,null,null,null,null,null,null,null,null,null,null,null,null,null,null,null,null,null,null,null,null,null,null,null,null,null,null,null,null,null,null,null,null,null,"marcador ",{"$f":"AP72*AO68","v":0.2},{"$f":"IF(AO72>=1,AO72,\"\")","v":""}]
[null,null,null,null,null,null,null,null,null,null,null,null,null,null,null,null,null,null,null,null,null,null,null,null,null,null,null,null,null,null,null,null,null,null,null,null,null,null,null,"Complemento",{"$f":"SUM(AO63:AO68)-AO73-AO72","v":19.79},0]
[]
[]
[null,null,null,null,null,null,null,null,null,null,null,null,null,null,null,null,null,null,null,null,null,null,null,null,null,null,null,null,null,null,null,null,null,null,null,null,null,null,null,"CIS CONTROLE 18: TESTES DE INVASÃO"]
[null,null,null,null,null,null,null,null,null,null,null,null,null,null,null,null,null,null,null,null,null,null,null,null,null,null,null,null,null,null,null,null,null,null,null,null,null,null,null,null,{"$f":"$AO$83*AP78","v":2},0.2]
[null,null,null,null,null,null,null,null,null,null,null,null,null,null,null,null,null,null,null,null,null,null,null,null,null,null,null,null,null,null,null,null,null,null,null,null,null,null,null,null,2,0.2]
[null,null,null,null,null,null,null,null,null,null,null,null,null,null,null,null,null,null,null,null,null,null,null,null,null,null,null,null,null,null,null,null,null,null,null,null,null,null,null,null,2,0.2]
[null,null,null,null,null,null,null,null,null,null,null,null,null,null,null,null,null,null,null,null,null,null,null,null,null,null,null,null,null,null,null,null,null,null,null,null,null,null,null,null,2,0.2]
[null,null,null,null,null,null,null,null,null,null,null,null,null,null,null,null,null,null,null,null,null,null,null,null,null,null,null,null,null,null,null,null,null,null,null,null,null,null,null,null,{"$f":"$AO$83*AP82","v":2},0.2]
[null,null,null,null,null,null,null,null,null,null,null,null,null,null,null,null,null,null,null,null,null,null,null,null,null,null,null,null,null,null,null,null,null,null,null,null,null,null,null,"Total de prioridade",{"$f":"IF(GRÁFICOS.LÓGICA!E21>0,GRÁFICOS.LÓGICA!E21,10)","v":10},1]
[]
[]
[]
[null,null,null,null,null,null,null,null,null,null,null,null,null,null,null,null,null,null,null,null,null,null,null,null,null,null,null,null,null,null,null,null,null,null,null,null,null,null,null,"Feitos",{"$f":"IF(GRÁFICOS.LÓGICA!G21>0,GRÁFICOS.LÓGICA!G21,0.01)","v":0.01},0.02]
[null,null,null,null,null,null,null,null,null,null,null,null,null,null,null,null,null,null,null,null,null,null,null,null,null,null,null,null,null,null,null,null,null,null,null,null,null,null,null,"marcador ",{"$f":"AP87*AO83","v":0.2},{"$f":"IF(AO87>=1,AO87,\"\")","v":""}]
[null,null,null,null,null,null,null,null,null,null,null,null,null,null,null,null,null,null,null,null,null,null,null,null,null,null,null,null,null,null,null,null,null,null,null,null,null,null,null,"Complemento",{"$f":"SUM(AO78:AO83)-AO88-AO87","v":19.79},0]

{"sheet":"FORM3.6","index":14,"n_rows":58,"n_cols":47,"rows_kept":58,"cut":false,"hidden":true,"merged":[[17,13,17,15],[17,26,17,28],[17,39,17,41],[1,13,1,38],[61,39,61,42],[76,39,76,42],[31,0,31,3],[31,13,31,15],[31,26,31,28],[31,39,31,42],[45,0,45,2],[45,13,45,15],[45,26,45,28],[45,39,45,41],[3,0,3,3],[3,13,3,15],[3,26,3,28],[3,39,3,41],[17,0,17,3]]}
[]
[null,null,null,null,null,null,null,null,null,null,null,null,null,"PRIVACIDADE"]
[]
["CONTROLE 19: INVENTÁRIO E MAPEAMENTO",null,null,null,null,null,null,null,null,null,null,null,null," CONTROLE 23: CONSCIENTIZAÇÃO E TREINAMENTO",null,null,null,null,null,null,null,null,null,null,null,null,"CONTROLE 27: COMPARTILHAMENTO, TRANSFERÊNCIA E DIVULGAÇÃO",null,null,null,null,null,null,null,null,null,null,null,null,"CONTROLE 31: SEGURANÇA APLICADA A PRIVACIDADE"]
[null,{"$f":"$B$10*C5","v":2},0.2,null,null,null,null,null,null,null,null,null,null,null,{"$f":"$O$10*P5","v":2},0.2,null,null,null,null,null,null,null,null,null,null,null,{"$f":"$AB$10*AC5","v":2},0.2,null,null,null,null,null,null,null,null,null,null,null,{"$f":"$AO$10*AP5","v":2},0.2]
[null,2,0.2,null,null,null,null,null,null,null,null,null,null,null,2,0.2,null,null,null,null,null,null,null,null,null,null,null,2,0.2,null,null,null,null,null,null,null,null,null,null,null,2,0.2]
[null,2,0.2,null,null,null,null,null,null,null,null,null,null,null,2,0.2,null,null,null,null,null,null,null,null,null,null,null,2,0.2,null,null,null,null,null,null,null,null,null,null,null,2,0.2,null,null,null,null,"Legenda:"]
[null,2,0.2,null,null,null,null,null,null,null,null,null,null,null,2,0.2,null,null,null,null,null,null,null,null,null,null,null,2,0.2,null,null,null,null,null,null,null,null,null,null,null,2,0.2]
[null,{"$f":"$B$10*C9","v":2},0.2,null,null,null,null,null,null,null,null,null,null,null,{"$f":"$O$10*P9","v":2},0.2,null,null,null,null,null,null,null,null,null,null,null,{"$f":"$AB$10*AC9","v":2},0.2,null,null,null,null,null,null,null,null,null,null,null,{"$f":"$AO$10*AP9","v":2},0.2]
["Total de prioridade",{"$f":"IF(GRÁFICOS.LÓGICA!K4>0,GRÁFICOS.LÓGICA!K4,10)","v":10},1,null,null,null,null,null,null,null,null,null,null,"Total de prioridade",{"$f":"IF(GRÁFICOS.LÓGICA!K8>0,GRÁFICOS.LÓGICA!K8,10)","v":10},1,null,null,null,null,null,null,null,null,null,null,"Total de prioridade",{"$f":"IF(GRÁFICOS.LÓGICA!K12>0,GRÁFICOS.LÓGICA!K12,10)","v":10},1,null,null,null,null,null,null,null,null,null,null,"Total de prioridade",{"$f":"IF(GRÁFICOS.LÓGICA!K16>0,GRÁFICOS.LÓGICA!K16,10)","v":10},1]
[]
[]
[]
["Feitos",{"$f":"IF(GRÁFICOS.LÓGICA!M4>0,GRÁFICOS.LÓGICA!M4,0.01)","v":0.01},0.02,null,null,null,null,null,null,null,null,null,null,"Feitos",{"$f":"IF(GRÁFICOS.LÓGICA!M8>0,GRÁFICOS.LÓGICA!M8,0.01)","v":0.01},0.02,null,null,null,null,null,null,null,null,null,null,"Feitos",{"$f":"IF(GRÁFICOS.LÓGICA!M12>0,GRÁFICOS.LÓGICA!M12,0.01)","v":0.01},0.02,null,null,null,null,null,null,null,null,null,null,"Feitos",{"$f":"IF(GRÁFICOS.LÓGICA!M16>0,GRÁFICOS.LÓGICA!M16,0.01)","v":0.01},0.02]
["marcador ",{"$f":"C14*B10","v":0.2},{"$f":"IF(B14>=1,B14,\"\")","v":""},null,null,null,null,null,null,null,null,null,null,"marcador ",{"$f":"P14*O10","v":0.2},{"$f":"IF(O14>=1,O14,\"\")","v":""},null,null,null,null,null,null,null,null,null,null,"marcador ",{"$f":"AC14*AB10","v":0.2},{"$f":"IF(AB14>=1,AB14,\"\")","v":""},null,null,null,null,null,null,null,null,null,null,"marcador ",{"$f":"AP14*AO10","v":0.2},{"$f":"IF(AO14>=1,AO14,\"\")","v":""}]
["Complemento",{"$f":"SUM(B5:B10)-B15-B14","v":19.79},0,null,null,null,null,null,null,null,null,null,null,"Complemento",{"$f":"SUM(O5:O10)-O15-O14","v":19.79},0,null,null,null,null,null,null,null,null,null,null,"Complemento",{"$f":"SUM(AB5:AB10)-AB15-AB14","v":19.79},0,null,null,null,null,null,null,null,null,null,null,"Complemento",{"$f":"SUM(AO5:AO10)-AO15-AO14","v":19.79},0]
[]
[" CONTROLE 20: FINALIDADE E LEGITIMIDADE",null,null,null,null,null,null,null,null,null,null,null,null,"CONTROLE 24: MINIMIZAÇÃO DE DADOS",null,null,null,null,null,null,null,null,null,null,null,null,"CONTROLE 28: SUPERVISÃO EM TERCEIROS"]
[null,{"$f":"$B$24*C19","v":2},0.2,null,null,null,null,null,null,null,null,null,null,null,{"$f":"$O$24*P19","v":2},0.2,null,null,null,null,null,null,null,null,null,null,null,{"$f":"$AB$24*AC19","v":2},0.2]
[null,2,0.2,null,null,null,null,null,null,null,null,null,null,null,2,0.2,null,null,null,null,null,null,null,null,null,null,null,2,0.2]
[null,2,0.2,null,null,null,null,null,null,null,null,null,null,null,2,0.2,null,null,null,null,null,null,null,null,null,null,null,2,0.2]
[null,2,0.2,null,null,null,null,null,null,null,null,null,null,null,2,0.2,null,null,null,null,null,null,null,null,null,null,null,2,0.2]
[null,{"$f":"$B$24*C23","v":2},0.2,null,null,null,null,null,null,null,null,null,null,null,{"$f":"$O$24*P23","v":2},0.2,null,null,null,null,null,null,null,null,null,null,null,{"$f":"$AB$24*AC23","v":2},0.2]
["Total de prioridade",{"$f":"IF(GRÁFICOS.LÓGICA!K5>0,GRÁFICOS.LÓGICA!K5,10)","v":10},1,null,null,null,null,null,null,null,null,null,null,"Total de prioridade",{"$f":"IF(GRÁFICOS.LÓGICA!K9>0,GRÁFICOS.LÓGICA!K9,10)","v":10},1,null,null,null,null,null,null,null,null,null,null,"Total de prioridade",{"$f":"IF(GRÁFICOS.LÓGICA!K13>0,GRÁFICOS.LÓGICA!K13,10)","v":10},1]
[]
[]
[]
["Feitos",{"$f":"IF(GRÁFICOS.LÓGICA!M5>0,GRÁFICOS.LÓGICA!M5,0.01)","v":0.01},0.02,null,null,null,null,null,null,null,null,null,null,"Feitos",{"$f":"IF(GRÁFICOS.LÓGICA!M9>0,GRÁFICOS.LÓGICA!M9,0.01)","v":0.01},0.02,null,null,null,null,null,null,null,null,null,null,"Feitos",{"$f":"IF(GRÁFICOS.LÓGICA!M13>0,GRÁFICOS.LÓGICA!M13,0.01)","v":0.01},0.02]
["marcador ",{"$f":"C28*B24","v":0.2},{"$f":"IF(B28>=1,B28,\"\")","v":""},null,null,null,null,null,null,null,null,null,null,"marcador ",{"$f":"P28*O24","v":0.2},{"$f":"IF(O28>=1,O28,\"\")","v":""},null,null,null,null,null,null,null,null,null,null,"marcador ",{"$f":"AC28*AB24","v":0.2},{"$f":"IF(AB28>=1,AB28,\"\")","v":""}]
["Complemento",{"$f":"SUM(B19:B24)-B29-B28","v":19.79},0,null,null,null,null,null,null,null,null,null,null,"Complemento",{"$f":"SUM(O19:O24)-O29-O28","v":19.79},null,null,null,null,null,null,null,null,null,null,null,"Complemento",{"$f":"SUM(AB19:AB24)-AB29-AB28","v":19.79}]
[]
["CONTROLE 21: GOVERNANÇA",null,null,null,null,null,null,null,null,null,null,null,null,"CONTROLE 25: GESTÃO DO TRATAMENTO",null,null,null,null,null,null,null,null,null,null,null,null,"CONTROLE 29:ABERTURA, TRANSPARÊNCIA E NOTIFICAÇÃO"]
[null,{"$f":"$B$38*C33","v":2},0.2,null,null,null,null,null,null,null,null,null,null,null,{"$f":"$O$38*P33","v":2},0.2,null,null,null,null,null,null,null,null,null,null,null,{"$f":"$AB$38*AC33","v":2},0.2]
[null,2,0.2,null,null,null,null,null,null,null,null,null,null,null,2,0.2,null,null,null,null,null,null,null,null,null,null,null,2,0.2]
[null,2,0.2,null,null,null,null,null,null,null,null,null,null,null,2,0.2,null,null,null,null,null,null,null,null,null,null,null,2,0.2]
[null,2,0.2,null,null,null,null,null,null,null,null,null,null,null,2,0.2,null,null,null,null,null,null,null,null,null,null,null,2,0.2]
[null,{"$f":"$B$38*C37","v":2},0.2,null,null,null,null,null,null,null,null,null,null,null,{"$f":"$O$38*P37","v":2},0.2,null,null,null,null,null,null,null,null,null,null,null,{"$f":"$AB$38*AC37","v":2},0.2]
["Total de prioridade",{"$f":"IF(GRÁFICOS.LÓGICA!K6>0,GRÁFICOS.LÓGICA!K6,10)","v":10},1,null,null,null,null,null,null,null,null,null,null,"Total de prioridade",{"$f":"IF(GRÁFICOS.LÓGICA!K10>0,GRÁFICOS.LÓGICA!K10,10)","v":10},1,null,null,null,null,null,null,null,null,null,null,"Total de prioridade",{"$f":"IF(GRÁFICOS.LÓGICA!K14>0,GRÁFICOS.LÓGICA!K14,10)","v":10},1]
[]
[]
[]
["Feitos",{"$f":"IF(GRÁFICOS.LÓGICA!M6>0,GRÁFICOS.LÓGICA!M6,0.01)","v":0.01},0.02,null,null,null,null,null,null,null,null,null,null,"Feitos",{"$f":"IF(GRÁFICOS.LÓGICA!M10>0,GRÁFICOS.LÓGICA!M10,0.01)","v":0.01},0.02,null,null,null,null,null,null,null,null,null,null,"Feitos",{"$f":"IF(GRÁFICOS.LÓGICA!M14>0,GRÁFICOS.LÓGICA!M14,0.01)","v":0.01},0.02]
["marcador ",{"$f":"C42*B38","v":0.2},{"$f":"IF(B42>=1,B42,\"\")","v":""},null,null,null,null,null,null,null,null,null,null,"marcador ",{"$f":"P42*O38","v":0.2},{"$f":"IF(O42>=1,O42,\"\")","v":""},null,null,null,null,null,null,null,null,null,null,"marcador ",{"$f":"AC42*AB38","v":0.2},{"$f":"IF(AB42>=1,AB42,\"\")","v":""}]
["Complemento",{"$f":"SUM(B33:B38)-B43-B42","v":19.79},null,null,null,null,null,null,null,null,null,null,null,"Complemento",{"$f":"SUM(O33:O38)-O43-O42","v":19.79},0,null,null,null,null,null,null,null,null,null,null,"Complemento",{"$f":"SUM(AB33:AB38)-AB43-AB42","v":19.79}]
[]
["CONTROLE 22: POLÍTICAS, PROCESSOS E PROCEDIMENTOS",null,null,null,null,null,null,null,null,null,null,null,null,"CONTROLE 26: ACESSO E QUALIDADE",null,null,null,null,null,null,null,null,null,null,null,null,"CONTROLE 30: AVALIAÇÃO DE IMPACTO, MONITORAMENTO E AUDITORIA"]
[null,{"$f":"$B$52*C47","v":2},0.2,null,null,null,null,null,null,null,null,null,null,null,{"$f":"$O$52*P47","v":2},0.2,null,null,null,null,null,null,null,null,null,null,null,{"$f":"$AB$52*AC47","v":2},0.2]
[null,2,0.2,null,null,null,null,null,null,null,null,null,null,null,2,0.2,null,null,null,null,null,null,null,null,null,null,null,2,0.2]
[null,2,0.2,null,null,null,null,null,null,null,null,null,null,null,2,0.2,null,null,null,null,null,null,null,null,null,null,null,2,0.2]
[null,2,0.2,null,null,null,null,null,null,null,null,null,null,null,2,0.2,null,null,null,null,null,null,null,null,null,null,null,2,0.2]
[null,{"$f":"$B$52*C51","v":2},0.2,null,null,null,null,null,null,null,null,null,null,null,{"$f":"$O$52*P51","v":2},0.2,null,null,null,null,null,null,null,null,null,null,null,{"$f":"$AB$52*AC51","v":2},0.2]
["Total de prioridade",{"$f":"IF(GRÁFICOS.LÓGICA!K7>0,GRÁFICOS.LÓGICA!K7,10)","v":10},1,null,null,null,null,null,null,null,null,null,null,"Total de prioridade",{"$f":"IF(GRÁFICOS.LÓGICA!K11>0,GRÁFICOS.LÓGICA!K11,10)","v":10},1,null,null,null,null,null,null,null,null,null,null,"Total de prioridade",{"$f":"IF(GRÁFICOS.LÓGICA!K15>0,GRÁFICOS.LÓGICA!K15,10)","v":10},1]
[]
[]
[]
["Feitos",{"$f":"IF(GRÁFICOS.LÓGICA!M7>0,GRÁFICOS.LÓGICA!M7,0.01)","v":0.01},0.02,null,null,null,null,null,null,null,null,null,null,"Feitos",{"$f":"IF(GRÁFICOS.LÓGICA!M11>0,GRÁFICOS.LÓGICA!M11,0.01)","v":0.01},0.02,null,null,null,null,null,null,null,null,null,null,"Feitos",{"$f":"IF(GRÁFICOS.LÓGICA!M15>0,GRÁFICOS.LÓGICA!M15,0.01)","v":0.01},0.02]
["marcador ",{"$f":"C56*B52","v":0.2},{"$f":"IF(B56>=1,B56,\"\")","v":""},null,null,null,null,null,null,null,null,null,null,"marcador ",{"$f":"P56*O52","v":0.2},{"$f":"IF(O56>=1,O56,\"\")","v":""},null,null,null,null,null,null,null,null,null,null,"marcador ",{"$f":"AC56*AB52","v":0.2},{"$f":"IF(AB56>=1,AB56,\"\")","v":""}]
["Complemento",{"$f":"SUM(B47:B52)-B57-B56","v":19.79},null,null,null,null,null,null,null,null,null,null,null,"Complemento",{"$f":"SUM(O47:O52)-O57-O56","v":19.79},0,null,null,null,null,null,null,null,null,null,null,"Complemento",{"$f":"SUM(AB47:AB52)-AB57-AB56","v":19.79},0]

{"sheet":"FORM3GERAL","index":15,"n_rows":11418,"n_cols":18,"rows_kept":4500,"cut":true,"hidden":false,"merged":[],"bounds":{"rows_first":2000,"rows_last":500,"rows_between":2000,"halvings":0}}
[]
[]
[]
[]
[null,null,"QTD TOTAL DE PLANOS DE AÇÃO",{"$f":"COUNTA(C7:C1048576)","v":0},"QTD PLANOS DE AÇÃO COM PRIORIDADE",{"$f":"COUNTIF(P:P,1)","v":0}]
[null,null,"ID","MEDIDA","RESPOSTA","Encaminhamento interno (o órgão faz o preenchimento manual )","Responsáveis","Departamento","Observação do Órgão p SGD","Previsão de Inicio","Previsão de Fim","Status PA","Status Medida","Nova resposta","Prioridade","Sim/Não","Verificador","Priorizados concluído"]
[null,null,null,null,null,null,null,null,null,null,null,{"$f":"IF(J7>K7,\"Datas inválidas\",IF(M7=\"Finalizado\",\"Concluído\",IF(J7>TODAY(),\"Não iniciado\",_xlfn.IFS(J7=TODAY(),\"Em andamento\",TODAY()>K7,\"Atrasado\",AND(TODAY()>J7,TODAY()<=K7),\"Em andamento\"))))","v":"Atrasado"},null,null,null,null,null,{"$f":"IF(Table26[[#This Row],[Status Medida]]=\"Finalizado\",IF(Table26[[#This Row],[Sim/Não]]=1,1,0),0)","v":0}]
[null,null,null,null,null,null,null,null,null,null,null,"Atrasado",null,null,null,{"$f":"IF(O8=\"Sim\",1,0)","v":0},{"$f":"IF(N8=E8,0,1)","v":0},{"$f":"IF(Table26[[#This Row],[Status Medida]]=\"Finalizado\",IF(Table26[[#This Row],[Sim/Não]]=1,1,0),0)","v":0}]
[null,null,null,null,null,null,null,null,null,null,null,"Atrasado",null,null,null,0,0,{"$f":"IF(Table26[[#This Row],[Status Medida]]=\"Finalizado\",IF(Table26[[#This Row],[Sim/Não]]=1,1,0),0)","v":0}]
[null,null,null,null,null,null,null,null,null,null,null,"Atrasado",null,null,null,0,0,{"$f":"IF(Table26[[#This Row],[Status Medida]]=\"Finalizado\",IF(Table26[[#This Row],[Sim/Não]]=1,1,0),0)","v":0}]
[null,null,null,null,null,null,null,null,null,null,null,"Atrasado",null,null,null,0,0,{"$f":"IF(Table26[[#This Row],[Status Medida]]=\"Finalizado\",IF(Table26[[#This Row],[Sim/Não]]=1,1,0),0)","v":0}]
[null,null,null,null,null,null,null,null,null,null,null,"Atrasado",null,null,null,0,0,{"$f":"IF(Table26[[#This Row],[Status Medida]]=\"Finalizado\",IF(Table26[[#This Row],[Sim/Não]]=1,1,0),0)","v":0}]
[null,null,null,null,null,null,null,null,null,null,null,"Atrasado",null,null,null,0,0,{"$f":"IF(Table26[[#This Row],[Status Medida]]=\"Finalizado\",IF(Table26[[#This Row],[Sim/Não]]=1,1,0),0)","v":0}]
[null,null,null,null,null,null,null,null,null,null,null,"Atrasado",null,null,null,0,0,{"$f":"IF(Table26[[#This Row],[Status Medida]]=\"Finalizado\",IF(Table26[[#This Row],[Sim/Não]]=1,1,0),0)","v":0}]
[null,null,null,null,null,null,null,null,null,null,null,"Atrasado",null,null,null,0,0,{"$f":"IF(Table26[[#This Row],[Status Medida]]=\"Finalizado\",IF(Table26[[#This Row],[Sim/Não]]=1,1,0),0)","v":0}]
[null,null,null,null,null,null,null,null,null,null,null,"Atrasado",null,null,null,0,0,{"$f":"IF(Table26[[#This Row],[Status Medida]]=\"Finalizado\",IF(Table26[[#This Row],[Sim/Não]]=1,1,0),0)","v":0}]
[null,null,null,null,null,null,null,null,null,null,null,"Atrasado",null,null,null,0,0,{"$f":"IF(Table26[[#This Row],[Status Medida]]=\"Finalizado\",IF(Table26[[#This Row],[Sim/Não]]=1,1,0),0)","v":0}]
[null,null,null,null,null,null,null,null,null,null,null,"Atrasado",null,null,null,0,0,{"$f":"IF(Table26[[#This Row],[Status Medida]]=\"Finalizado\",IF(Table26[[#This Row],[Sim/Não]]=1,1,0),0)","v":0}]
[null,null,null,null,null,null,null,null,null,null,null,"Atrasado",null,null,null,0,0,{"$f":"IF(Table26[[#This Row],[Status Medida]]=\"Finalizado\",IF(Table26[[#This Row],[Sim/Não]]=1,1,0),0)","v":0}]
[null,null,null,null,null,null,null,null,null,null,null,"Atrasado",null,null,null,0,0,{"$f":"IF(Table26[[#This Row],[Status Medida]]=\"Finalizado\",IF(Table26[[#This Row],[Sim/Não]]=1,1,0),0)","v":0}]
[null,null,null,null,null,null,null,null,null,null,null,"Atrasado",null,null,null,0,0,{"$f":"IF(Table26[[#This Row],[Status Medida]]=\"Finalizado\",IF(Table26[[#This Row],[Sim/Não]]=1,1,0),0)","v":0}]
[null,null,null,null,null,null,null,null,null,null,null,"Atrasado",null,null,null,0,0,{"$f":"IF(Table26[[#This Row],[Status Medida]]=\"Finalizado\",IF(Table26[[#This Row],[Sim/Não]]=1,1,0),0)","v":0}]
[null,null,null,null,null,null,null,null,null,null,null,"Atrasado",null,null,null,0,0,{"$f":"IF(Table26[[#This Row],[Status Medida]]=\"Finalizado\",IF(Table26[[#This Row],[Sim/Não]]=1,1,0),0)","v":0}]
[null,null,null,null,null,null,null,null,null,null,null,"Atrasado",null,null,null,0,0,{"$f":"IF(Table26[[#This Row],[Status Medida]]=\"Finalizado\",IF(Table26[[#This Row],[Sim/Não]]=1,1,0),0)","v":0}]
[null,null,null,null,null,null,null,null,null,null,null,"Atrasado",null,null,null,0,0,{"$f":"IF(Table26[[#This Row],[Status Medida]]=\"Finalizado\",IF(Table26[[#This Row],[Sim/Não]]=1,1,0),0)","v":0}]
[null,null,null,null,null,null,null,null,null,null,null,"Atrasado",null,null,null,0,0,{"$f":"IF(Table26[[#This Row],[Status Medida]]=\"Finalizado\",IF(Table26[[#This Row],[Sim/Não]]=1,1,0),0)","v":0}]
[null,null,null,null,null,null,null,null,null,null,null,"Atrasado",null,null,null,0,0,{"$f":"IF(Table26[[#This Row],[Status Medida]]=\"Finalizado\",IF(Table26[[#This Row],[Sim/Não]]=1,1,0),0)","v":0}]
[null,null,null,null,null,null,null,null,null,null,null,"Atrasado",null,null,null,0,0,{"$f":"IF(Table26[[#This Row],[Status Medida]]=\"Finalizado\",IF(Table26[[#This Row],[Sim/Não]]=1,1,0),0)","v":0}]
[null,null,null,null,null,null,null,null,null,null,null,"Atrasado",null,null,null,0,0,{"$f":"IF(Table26[[#This Row],[Status Medida]]=\"Finalizado\",IF(Table26[[#This Row],[Sim/Não]]=1,1,0),0)","v":0}]
[null,null,null,null,null,null,null,null,null,null,null,"Atrasado",null,null,null,0,0,{"$f":"IF(Table26[[#This Row],[Status Medida]]=\"Finalizado\",IF(Table26[[#This Row],[Sim/Não]]=1,1,0),0)","v":0}]
[null,null,null,null,null,null,null,null,null,null,null,"Atrasado",null,null,null,0,0,{"$f":"IF(Table26[[#This Row],[Status Medida]]=\"Finalizado\",IF(Table26[[#This Row],[Sim/Não]]=1,1,0),0)","v":0}]
[null,null,null,null,null,null,null,null,null,null,null,"Atrasado",null,null,null,0,0,{"$f":"IF(Table26[[#This Row],[Status Medida]]=\"Finalizado\",IF(Table26[[#This Row],[Sim/Não]]=1,1,0),0)","v":0}]
[null,null,null,null,null,null,null,null,null,null,null,"Atrasado",null,null,null,0,0,{"$f":"IF(Table26[[#This Row],[Status Medida]]=\"Finalizado\",IF(Table26[[#This Row],[Sim/Não]]=1,1,0),0)","v":0}]
[null,null,null,null,null,null,null,null,null,null,null,"Atrasado",null,null,null,0,0,{"$f":"IF(Table26[[#This Row],[Status Medida]]=\"Finalizado\",IF(Table26[[#This Row],[Sim/Não]]=1,1,0),0)","v":0}]
[null,null,null,null,null,null,null,null,null,null,null,"Atrasado",null,null,null,0,0,{"$f":"IF(Table26[[#This Row],[Status Medida]]=\"Finalizado\",IF(Table26[[#This Row],[Sim/Não]]=1,1,0),0)","v":0}]
[null,null,null,null,null,null,null,null,null,null,null,"Atrasado",null,null,null,0,0,{"$f":"IF(Table26[[#This Row],[Status Medida]]=\"Finalizado\",IF(Table26[[#This Row],[Sim/Não]]=1,1,0),0)","v":0}]
[null,null,null,null,null,null,null,null,null,null,null,"Atrasado",null,null,null,0,0,{"$f":"IF(Table26[[#This Row],[Status Medida]]=\"Finalizado\",IF(Table26[[#This Row],[Sim/Não]]=1,1,0),0)","v":0}]
[null,null,null,null,null,null,null,null,null,null,null,"Atrasado",null,null,null,0,0,{"$f":"IF(Table26[[#This Row],[Status Medida]]=\"Finalizado\",IF(Table26[[#This Row],[Sim/Não]]=1,1,0),0)","v":0}]
[null,null,null,null,null,null,null,null,null,null,null,"Atrasado",null,null,null,0,0,{"$f":"IF(Table26[[#This Row],[Status Medida]]=\"Finalizado\",IF(Table26[[#This Row],[Sim/Não]]=1,1,0),0)","v":0}]
[null,null,null,null,null,null,null,null,null,null,null,"Atrasado",null,null,null,0,0,{"$f":"IF(Table26[[#This Row],[Status Medida]]=\"Finalizado\",IF(Table26[[#This Row],[Sim/Não]]=1,1,0),0)","v":0}]
[null,null,null,null,null,null,null,null,null,null,null,"Atrasado",null,null,null,0,0,{"$f":"IF(Table26[[#This Row],[Status Medida]]=\"Finalizado\",IF(Table26[[#This Row],[Sim/Não]]=1,1,0),0)","v":0}]
[null,null,null,null,null,null,null,null,null,null,null,"Atrasado",null,null,null,0,0,{"$f":"IF(Table26[[#This Row],[Status Medida]]=\"Finalizado\",IF(Table26[[#This Row],[Sim/Não]]=1,1,0),0)","v":0}]
[null,null,null,null,null,null,null,null,null,null,null,"Atrasado",null,null,null,0,0,{"$f":"IF(Table26[[#This Row],[Status Medida]]=\"Finalizado\",IF(Table26[[#This Row],[Sim/Não]]=1,1,0),0)","v":0}]
[null,null,null,null,null,null,null,null,null,null,null,"Atrasado",null,null,null,0,0,{"$f":"IF(Table26[[#This Row],[Status Medida]]=\"Finalizado\",IF(Table26[[#This Row],[Sim/Não]]=1,1,0),0)","v":0}]
[null,null,null,null,null,null,null,null,null,null,null,"Atrasado",null,null,null,0,0,{"$f":"IF(Table26[[#This Row],[Status Medida]]=\"Finalizado\",IF(Table26[[#This Row],[Sim/Não]]=1,1,0),0)","v":0}]
[null,null,null,null,null,null,null,null,null,null,null,"Atrasado",null,null,null,0,0,{"$f":"IF(Table26[[#This Row],[Status Medida]]=\"Finalizado\",IF(Table26[[#This Row],[Sim/Não]]=1,1,0),0)","v":0}]
[null,null,null,null,null,null,null,null,null,null,null,"Atrasado",null,null,null,0,0,{"$f":"IF(Table26[[#This Row],[Status Medida]]=\"Finalizado\",IF(Table26[[#This Row],[Sim/Não]]=1,1,0),0)","v":0}]
[null,null,null,null,null,null,null,null,null,null,null,"Atrasado",null,null,null,0,0,{"$f":"IF(Table26[[#This Row],[Status Medida]]=\"Finalizado\",IF(Table26[[#This Row],[Sim/Não]]=1,1,0),0)","v":0}]
[null,null,null,null,null,null,null,null,null,null,null,"Atrasado",null,null,null,0,0,{"$f":"IF(Table26[[#This Row],[Status Medida]]=\"Finalizado\",IF(Table26[[#This Row],[Sim/Não]]=1,1,0),0)","v":0}]
[null,null,null,null,null,null,null,null,null,null,null,"Atrasado",null,null,null,0,0,{"$f":"IF(Table26[[#This Row],[Status Medida]]=\"Finalizado\",IF(Table26[[#This Row],[Sim/Não]]=1,1,0),0)","v":0}]
[null,null,null,null,null,null,null,null,null,null,null,"Atrasado",null,null,null,0,0,{"$f":"IF(Table26[[#This Row],[Status Medida]]=\"Finalizado\",IF(Table26[[#This Row],[Sim/Não]]=1,1,0),0)","v":0}]
[null,null,null,null,null,null,null,null,null,null,null,"Atrasado",null,null,null,0,0,{"$f":"IF(Table26[[#This Row],[Status Medida]]=\"Finalizado\",IF(Table26[[#This Row],[Sim/Não]]=1,1,0),0)","v":0}]
[null,null,null,null,null,null,null,null,null,null,null,"Atrasado",null,null,null,0,0,{"$f":"IF(Table26[[#This Row],[Status Medida]]=\"Finalizado\",IF(Table26[[#This Row],[Sim/Não]]=1,1,0),0)","v":0}]
[null,null,null,null,null,null,null,null,null,null,null,"Atrasado",null,null,null,0,0,{"$f":"IF(Table26[[#This Row],[Status Medida]]=\"Finalizado\",IF(Table26[[#This Row],[Sim/Não]]=1,1,0),0)","v":0}]
[null,null,null,null,null,null,null,null,null,null,null,"Atrasado",null,null,null,0,0,{"$f":"IF(Table26[[#This Row],[Status Medida]]=\"Finalizado\",IF(Table26[[#This Row],[Sim/Não]]=1,1,0),0)","v":0}]
[null,null,null,null,null,null,null,null,null,null,null,"Atrasado",null,null,null,0,0,{"$f":"IF(Table26[[#This Row],[Status Medida]]=\"Finalizado\",IF(Table26[[#This Row],[Sim/Não]]=1,1,0),0)","v":0}]
[null,null,null,null,null,null,null,null,null,null,null,"Atrasado",null,null,null,0,0,{"$f":"IF(Table26[[#This Row],[Status Medida]]=\"Finalizado\",IF(Table26[[#This Row],[Sim/Não]]=1,1,0),0)","v":0}]
[null,null,null,null,null,null,null,null,null,null,null,"Atrasado",null,null,null,0,0,{"$f":"IF(Table26[[#This Row],[Status Medida]]=\"Finalizado\",IF(Table26[[#This Row],[Sim/Não]]=1,1,0),0)","v":0}]
[null,null,null,null,null,null,null,null,null,null,null,"Atrasado",null,null,null,0,0,{"$f":"IF(Table26[[#This Row],[Status Medida]]=\"Finalizado\",IF(Table26[[#This Row],[Sim/Não]]=1,1,0),0)","v":0}]
[null,null,null,null,null,null,null,null,null,null,null,"Atrasado",null,null,null,0,0,{"$f":"IF(Table26[[#This Row],[Status Medida]]=\"Finalizado\",IF(Table26[[#This Row],[Sim/Não]]=1,1,0),0)","v":0}]
[null,null,null,null,null,null,null,null,null,null,null,"Atrasado",null,null,null,0,0,{"$f":"IF(Table26[[#This Row],[Status Medida]]=\"Finalizado\",IF(Table26[[#This Row],[Sim/Não]]=1,1,0),0)","v":0}]
[null,null,null,null,null,null,null,null,null,null,null,"Atrasado",null,null,null,0,0,{"$f":"IF(Table26[[#This Row],[Status Medida]]=\"Finalizado\",IF(Table26[[#This Row],[Sim/Não]]=1,1,0),0)","v":0}]
[null,null,null,null,null,null,null,null,null,null,null,"Atrasado",null,null,null,0,0,{"$f":"IF(Table26[[#This Row],[Status Medida]]=\"Finalizado\",IF(Table26[[#This Row],[Sim/Não]]=1,1,0),0)","v":0}]
[null,null,null,null,null,null,null,null,null,null,null,"Atrasado",null,null,null,0,0,{"$f":"IF(Table26[[#This Row],[Status Medida]]=\"Finalizado\",IF(Table26[[#This Row],[Sim/Não]]=1,1,0),0)","v":0}]
[null,null,null,null,null,null,null,null,null,null,null,"Atrasado",null,null,null,0,0,{"$f":"IF(Table26[[#This Row],[Status Medida]]=\"Finalizado\",IF(Table26[[#This Row],[Sim/Não]]=1,1,0),0)","v":0}]
[null,null,null,null,null,null,null,null,null,null,null,"Atrasado",null,null,null,0,0,{"$f":"IF(Table26[[#This Row],[Status Medida]]=\"Finalizado\",IF(Table26[[#This Row],[Sim/Não]]=1,1,0),0)","v":0}]
[null,null,null,null,null,null,null,null,null,null,null,"Atrasado",null,null,null,0,0,{"$f":"IF(Table26[[#This Row],[Status Medida]]=\"Finalizado\",IF(Table26[[#This Row],[Sim/Não]]=1,1,0),0)","v":0}]
[null,null,null,null,null,null,null,null,null,null,null,"Atrasado",null,null,null,0,0,{"$f":"IF(Table26[[#This Row],[Status Medida]]=\"Finalizado\",IF(Table26[[#This Row],[Sim/Não]]=1,1,0),0)","v":0}]
[null,null,null,null,null,null,null,null,null,null,null,"Atrasado",null,null,null,0,0,{"$f":"IF(Table26[[#This Row],[Status Medida]]=\"Finalizado\",IF(Table26[[#This Row],[Sim/Não]]=1,1,0),0)","v":0}]
[null,null,null,null,null,null,null,null,null,null,null,"Atrasado",null,null,null,0,0,{"$f":"IF(Table26[[#This Row],[Status Medida]]=\"Finalizado\",IF(Table26[[#This Row],[Sim/Não]]=1,1,0),0)","v":0}]
[null,null,null,null,null,null,null,null,null,null,null,{"$f":"IF(J71>K71,\"Datas inválidas\",IF(M71=\"Finalizado\",\"Concluído\",IF(J71>TODAY(),\"Não iniciado\",_xlfn.IFS(J71=TODAY(),\"Em andamento\",TODAY()>K71,\"Atrasado\",AND(TODAY()>J71,TODAY()<=K71),\"Em andamento\"))))","v":"Atrasado"},null,null,null,0,0,{"$f":"IF(Table26[[#This Row],[Status Medida]]=\"Finalizado\",IF(Table26[[#This Row],[Sim/Não]]=1,1,0),0)","v":0}]
[null,null,null,null,null,null,null,null,null,null,null,"Atrasado",null,null,null,{"$f":"IF(O72=\"Sim\",1,0)","v":0},{"$f":"IF(N72=E72,0,1)","v":0},{"$f":"IF(Table26[[#This Row],[Status Medida]]=\"Finalizado\",IF(Table26[[#This Row],[Sim/Não]]=1,1,0),0)","v":0}]
[null,null,null,null,null,null,null,null,null,null,null,"Atrasado",null,null,null,0,0,{"$f":"IF(Table26[[#This Row],[Status Medida]]=\"Finalizado\",IF(Table26[[#This Row],[Sim/Não]]=1,1,0),0)","v":0}]
[null,null,null,null,null,null,null,null,null,null,null,"Atrasado",null,null,null,0,0,{"$f":"IF(Table26[[#This Row],[Status Medida]]=\"Finalizado\",IF(Table26[[#This Row],[Sim/Não]]=1,1,0),0)","v":0}]
[null,null,null,null,null,null,null,null,null,null,null,"Atrasado",null,null,null,0,0,{"$f":"IF(Table26[[#This Row],[Status Medida]]=\"Finalizado\",IF(Table26[[#This Row],[Sim/Não]]=1,1,0),0)","v":0}]
[null,null,null,null,null,null,null,null,null,null,null,"Atrasado",null,null,null,0,0,{"$f":"IF(Table26[[#This Row],[Status Medida]]=\"Finalizado\",IF(Table26[[#This Row],[Sim/Não]]=1,1,0),0)","v":0}]
[null,null,null,null,null,null,null,null,null,null,null,"Atrasado",null,null,null,0,0,{"$f":"IF(Table26[[#This Row],[Status Medida]]=\"Finalizado\",IF(Table26[[#This Row],[Sim/Não]]=1,1,0),0)","v":0}]
[null,null,null,null,null,null,null,null,null,null,null,"Atrasado",null,null,null,0,0,{"$f":"IF(Table26[[#This Row],[Status Medida]]=\"Finalizado\",IF(Table26[[#This Row],[Sim/Não]]=1,1,0),0)","v":0}]
[null,null,null,null,null,null,null,null,null,null,null,"Atrasado",null,null,null,0,0,{"$f":"IF(Table26[[#This Row],[Status Medida]]=\"Finalizado\",IF(Table26[[#This Row],[Sim/Não]]=1,1,0),0)","v":0}]
[null,null,null,null,null,null,null,null,null,null,null,"Atrasado",null,null,null,0,0,{"$f":"IF(Table26[[#This Row],[Status Medida]]=\"Finalizado\",IF(Table26[[#This Row],[Sim/Não]]=1,1,0),0)","v":0}]
[null,null,null,null,null,null,null,null,null,null,null,"Atrasado",null,null,null,0,0,{"$f":"IF(Table26[[#This Row],[Status Medida]]=\"Finalizado\",IF(Table26[[#This Row],[Sim/Não]]=1,1,0),0)","v":0}]
[null,null,null,null,null,null,null,null,null,null,null,"Atrasado",null,null,null,0,0,{"$f":"IF(Table26[[#This Row],[Status Medida]]=\"Finalizado\",IF(Table26[[#This Row],[Sim/Não]]=1,1,0),0)","v":0}]
[null,null,null,null,null,null,null,null,null,null,null,"Atrasado",null,null,null,0,0,{"$f":"IF(Table26[[#This Row],[Status Medida]]=\"Finalizado\",IF(Table26[[#This Row],[Sim/Não]]=1,1,0),0)","v":0}]
[null,null,null,null,null,null,null,null,null,null,null,"Atrasado",null,null,null,0,0,{"$f":"IF(Table26[[#This Row],[Status Medida]]=\"Finalizado\",IF(Table26[[#This Row],[Sim/Não]]=1,1,0),0)","v":0}]
[null,null,null,null,null,null,null,null,null,null,null,"Atrasado",null,null,null,0,0,{"$f":"IF(Table26[[#This Row],[Status Medida]]=\"Finalizado\",IF(Table26[[#This Row],[Sim/Não]]=1,1,0),0)","v":0}]
[null,null,null,null,null,null,null,null,null,null,null,"Atrasado",null,null,null,0,0,{"$f":"IF(Table26[[#This Row],[Status Medida]]=\"Finalizado\",IF(Table26[[#This Row],[Sim/Não]]=1,1,0),0)","v":0}]
[null,null,null,null,null,null,null,null,null,null,null,"Atrasado",null,null,null,0,0,{"$f":"IF(Table26[[#This Row],[Status Medida]]=\"Finalizado\",IF(Table26[[#This Row],[Sim/Não]]=1,1,0),0)","v":0}]
[null,null,null,null,null,null,null,null,null,null,null,"Atrasado",null,null,null,0,0,{"$f":"IF(Table26[[#This Row],[Status Medida]]=\"Finalizado\",IF(Table26[[#This Row],[Sim/Não]]=1,1,0),0)","v":0}]
[null,null,null,null,null,null,null,null,null,null,null,"Atrasado",null,null,null,0,0,{"$f":"IF(Table26[[#This Row],[Status Medida]]=\"Finalizado\",IF(Table26[[#This Row],[Sim/Não]]=1,1,0),0)","v":0}]
[null,null,null,null,null,null,null,null,null,null,null,"Atrasado",null,null,null,0,0,{"$f":"IF(Table26[[#This Row],[Status Medida]]=\"Finalizado\",IF(Table26[[#This Row],[Sim/Não]]=1,1,0),0)","v":0}]
[null,null,null,null,null,null,null,null,null,null,null,"Atrasado",null,null,null,0,0,{"$f":"IF(Table26[[#This Row],[Status Medida]]=\"Finalizado\",IF(Table26[[#This Row],[Sim/Não]]=1,1,0),0)","v":0}]
[null,null,null,null,null,null,null,null,null,null,null,"Atrasado",null,null,null,0,0,{"$f":"IF(Table26[[#This Row],[Status Medida]]=\"Finalizado\",IF(Table26[[#This Row],[Sim/Não]]=1,1,0),0)","v":0}]
[null,null,null,null,null,null,null,null,null,null,null,"Atrasado",null,null,null,0,0,{"$f":"IF(Table26[[#This Row],[Status Medida]]=\"Finalizado\",IF(Table26[[#This Row],[Sim/Não]]=1,1,0),0)","v":0}]
[null,null,null,null,null,null,null,null,null,null,null,"Atrasado",null,null,null,0,0,{"$f":"IF(Table26[[#This Row],[Status Medida]]=\"Finalizado\",IF(Table26[[#This Row],[Sim/Não]]=1,1,0),0)","v":0}]
[null,null,null,null,null,null,null,null,null,null,null,"Atrasado",null,null,null,0,0,{"$f":"IF(Table26[[#This Row],[Status Medida]]=\"Finalizado\",IF(Table26[[#This Row],[Sim/Não]]=1,1,0),0)","v":0}]
[null,null,null,null,null,null,null,null,null,null,null,"Atrasado",null,null,null,0,0,{"$f":"IF(Table26[[#This Row],[Status Medida]]=\"Finalizado\",IF(Table26[[#This Row],[Sim/Não]]=1,1,0),0)","v":0}]
[null,null,null,null,null,null,null,null,null,null,null,"Atrasado",null,null,null,0,0,{"$f":"IF(Table26[[#This Row],[Status Medida]]=\"Finalizado\",IF(Table26[[#This Row],[Sim/Não]]=1,1,0),0)","v":0}]
[null,null,null,null,null,null,null,null,null,null,null,"Atrasado",null,null,null,0,0,{"$f":"IF(Table26[[#This Row],[Status Medida]]=\"Finalizado\",IF(Table26[[#This Row],[Sim/Não]]=1,1,0),0)","v":0}]
[null,null,null,null,null,null,null,null,null,null,null,"Atrasado",null,null,null,0,0,{"$f":"IF(Table26[[#This Row],[Status Medida]]=\"Finalizado\",IF(Table26[[#This Row],[Sim/Não]]=1,1,0),0)","v":0}]
[null,null,null,null,null,null,null,null,null,null,null,"Atrasado",null,null,null,0,0,{"$f":"IF(Table26[[#This Row],[Status Medida]]=\"Finalizado\",IF(Table26[[#This Row],[Sim/Não]]=1,1,0),0)","v":0}]
[null,null,null,null,null,null,null,null,null,null,null,"Atrasado",null,null,null,0,0,{"$f":"IF(Table26[[#This Row],[Status Medida]]=\"Finalizado\",IF(Table26[[#This Row],[Sim/Não]]=1,1,0),0)","v":0}]
[null,null,null,null,null,null,null,null,null,null,null,"Atrasado",null,null,null,0,0,{"$f":"IF(Table26[[#This Row],[Status Medida]]=\"Finalizado\",IF(Table26[[#This Row],[Sim/Não]]=1,1,0),0)","v":0}]
[null,null,null,null,null,null,null,null,null,null,null,"Atrasado",null,null,null,0,0,{"$f":"IF(Table26[[#This Row],[Status Medida]]=\"Finalizado\",IF(Table26[[#This Row],[Sim/Não]]=1,1,0),0)","v":0}]
[null,null,null,null,null,null,null,null,null,null,null,"Atrasado",null,null,null,0,0,{"$f":"IF(Table26[[#This Row],[Status Medida]]=\"Finalizado\",IF(Table26[[#This Row],[Sim/Não]]=1,1,0),0)","v":0}]
[null,null,null,null,null,null,null,null,null,null,null,"Atrasado",null,null,null,0,0,{"$f":"IF(Table26[[#This Row],[Status Medida]]=\"Finalizado\",IF(Table26[[#This Row],[Sim/Não]]=1,1,0),0)","v":0}]
[null,null,null,null,null,null,null,null,null,null,null,"Atrasado",null,null,null,0,0,{"$f":"IF(Table26[[#This Row],[Status Medida]]=\"Finalizado\",IF(Table26[[#This Row],[Sim/Não]]=1,1,0),0)","v":0}]
[null,null,null,null,null,null,null,null,null,null,null,"Atrasado",null,null,null,0,0,{"$f":"IF(Table26[[#This Row],[Status Medida]]=\"Finalizado\",IF(Table26[[#This Row],[Sim/Não]]=1,1,0),0)","v":0}]
[null,null,null,null,null,null,null,null,null,null,null,"Atrasado",null,null,null,0,0,{"$f":"IF(Table26[[#This Row],[Status Medida]]=\"Finalizado\",IF(Table26[[#This Row],[Sim/Não]]=1,1,0),0)","v":0}]
[null,null,null,null,null,null,null,null,null,null,null,"Atrasado",null,null,null,0,0,{"$f":"IF(Table26[[#This Row],[Status Medida]]=\"Finalizado\",IF(Table26[[#This Row],[Sim/Não]]=1,1,0),0)","v":0}]
[null,null,null,null,null,null,null,null,null,null,null,"Atrasado",null,null,null,0,0,{"$f":"IF(Table26[[#This Row],[Status Medida]]=\"Finalizado\",IF(Table26[[#This Row],[Sim/Não]]=1,1,0),0)","v":0}]
[null,null,null,null,null,null,null,null,null,null,null,"Atrasado",null,null,null,0,0,{"$f":"IF(Table26[[#This Row],[Status Medida]]=\"Finalizado\",IF(Table26[[#This Row],[Sim/Não]]=1,1,0),0)","v":0}]
[null,null,null,null,null,null,null,null,null,null,null,"Atrasado",null,null,null,0,0,{"$f":"IF(Table26[[#This Row],[Status Medida]]=\"Finalizado\",IF(Table26[[#This Row],[Sim/Não]]=1,1,0),0)","v":0}]
[null,null,null,null,null,null,null,null,null,null,null,"Atrasado",null,null,null,0,0,{"$f":"IF(Table26[[#This Row],[Status Medida]]=\"Finalizado\",IF(Table26[[#This Row],[Sim/Não]]=1,1,0),0)","v":0}]
[null,null,null,null,null,null,null,null,null,null,null,"Atrasado",null,null,null,0,0,{"$f":"IF(Table26[[#This Row],[Status Medida]]=\"Finalizado\",IF(Table26[[#This Row],[Sim/Não]]=1,1,0),0)","v":0}]
[null,null,null,null,null,null,null,null,null,null,null,"Atrasado",null,null,null,0,0,{"$f":"IF(Table26[[#This Row],[Status Medida]]=\"Finalizado\",IF(Table26[[#This Row],[Sim/Não]]=1,1,0),0)","v":0}]
[null,null,null,null,null,null,null,null,null,null,null,"Atrasado",null,null,null,0,0,{"$f":"IF(Table26[[#This Row],[Status Medida]]=\"Finalizado\",IF(Table26[[#This Row],[Sim/Não]]=1,1,0),0)","v":0}]
[null,null,null,null,null,null,null,null,null,null,null,"Atrasado",null,null,null,0,0,{"$f":"IF(Table26[[#This Row],[Status Medida]]=\"Finalizado\",IF(Table26[[#This Row],[Sim/Não]]=1,1,0),0)","v":0}]
[null,null,null,null,null,null,null,null,null,null,null,"Atrasado",null,null,null,0,0,{"$f":"IF(Table26[[#This Row],[Status Medida]]=\"Finalizado\",IF(Table26[[#This Row],[Sim/Não]]=1,1,0),0)","v":0}]
[null,null,null,null,null,null,null,null,null,null,null,"Atrasado",null,null,null,0,0,{"$f":"IF(Table26[[#This Row],[Status Medida]]=\"Finalizado\",IF(Table26[[#This Row],[Sim/Não]]=1,1,0),0)","v":0}]
[null,null,null,null,null,null,null,null,null,null,null,"Atrasado",null,null,null,0,0,{"$f":"IF(Table26[[#This Row],[Status Medida]]=\"Finalizado\",IF(Table26[[#This Row],[Sim/Não]]=1,1,0),0)","v":0}]
[null,null,null,null,null,null,null,null,null,null,null,"Atrasado",null,null,null,0,0,{"$f":"IF(Table26[[#This Row],[Status Medida]]=\"Finalizado\",IF(Table26[[#This Row],[Sim/Não]]=1,1,0),0)","v":0}]
[null,null,null,null,null,null,null,null,null,null,null,"Atrasado",null,null,null,0,0,{"$f":"IF(Table26[[#This Row],[Status Medida]]=\"Finalizado\",IF(Table26[[#This Row],[Sim/Não]]=1,1,0),0)","v":0}]
[null,null,null,null,null,null,null,null,null,null,null,"Atrasado",null,null,null,0,0,{"$f":"IF(Table26[[#This Row],[Status Medida]]=\"Finalizado\",IF(Table26[[#This Row],[Sim/Não]]=1,1,0),0)","v":0}]
[null,null,null,null,null,null,null,null,null,null,null,"Atrasado",null,null,null,0,0,{"$f":"IF(Table26[[#This Row],[Status Medida]]=\"Finalizado\",IF(Table26[[#This Row],[Sim/Não]]=1,1,0),0)","v":0}]
[null,null,null,null,null,null,null,null,null,null,null,"Atrasado",null,null,null,0,0,{"$f":"IF(Table26[[#This Row],[Status Medida]]=\"Finalizado\",IF(Table26[[#This Row],[Sim/Não]]=1,1,0),0)","v":0}]
[null,null,null,null,null,null,null,null,null,null,null,"Atrasado",null,null,null,0,0,{"$f":"IF(Table26[[#This Row],[Status Medida]]=\"Finalizado\",IF(Table26[[#This Row],[Sim/Não]]=1,1,0),0)","v":0}]
[null,null,null,null,null,null,null,null,null,null,null,"Atrasado",null,null,null,0,0,{"$f":"IF(Table26[[#This Row],[Status Medida]]=\"Finalizado\",IF(Table26[[#This Row],[Sim/Não]]=1,1,0),0)","v":0}]
[null,null,null,null,null,null,null,null,null,null,null,"Atrasado",null,null,null,0,0,{"$f":"IF(Table26[[#This Row],[Status Medida]]=\"Finalizado\",IF(Table26[[#This Row],[Sim/Não]]=1,1,0),0)","v":0}]
[null,null,null,null,null,null,null,null,null,null,null,"Atrasado",null,null,null,0,0,{"$f":"IF(Table26[[#This Row],[Status Medida]]=\"Finalizado\",IF(Table26[[#This Row],[Sim/Não]]=1,1,0),0)","v":0}]
[null,null,null,null,null,null,null,null,null,null,null,"Atrasado",null,null,null,0,0,{"$f":"IF(Table26[[#This Row],[Status Medida]]=\"Finalizado\",IF(Table26[[#This Row],[Sim/Não]]=1,1,0),0)","v":0}]
[null,null,null,null,null,null,null,null,null,null,null,"Atrasado",null,null,null,0,0,{"$f":"IF(Table26[[#This Row],[Status Medida]]=\"Finalizado\",IF(Table26[[#This Row],[Sim/Não]]=1,1,0),0)","v":0}]
[null,null,null,null,null,null,null,null,null,null,null,"Atrasado",null,null,null,0,0,{"$f":"IF(Table26[[#This Row],[Status Medida]]=\"Finalizado\",IF(Table26[[#This Row],[Sim/Não]]=1,1,0),0)","v":0}]
[null,null,null,null,null,null,null,null,null,null,null,"Atrasado",null,null,null,0,0,{"$f":"IF(Table26[[#This Row],[Status Medida]]=\"Finalizado\",IF(Table26[[#This Row],[Sim/Não]]=1,1,0),0)","v":0}]
[null,null,null,null,null,null,null,null,null,null,null,"Atrasado",null,null,null,0,0,{"$f":"IF(Table26[[#This Row],[Status Medida]]=\"Finalizado\",IF(Table26[[#This Row],[Sim/Não]]=1,1,0),0)","v":0}]
[null,null,null,null,null,null,null,null,null,null,null,{"$f":"IF(J135>K135,\"Datas inválidas\",IF(M135=\"Finalizado\",\"Concluído\",IF(J135>TODAY(),\"Não iniciado\",_xlfn.IFS(J135=TODAY(),\"Em andamento\",TODAY()>K135,\"Atrasado\",AND(TODAY()>J135,TODAY()<=K135),\"Em andamento\"))))","v":"Atrasado"},null,null,null,0,0,{"$f":"IF(Table26[[#This Row],[Status Medida]]=\"Finalizado\",IF(Table26[[#This Row],[Sim/Não]]=1,1,0),0)","v":0}]
[null,null,null,null,null,null,null,null,null,null,null,"Atrasado",null,null,null,{"$f":"IF(O136=\"Sim\",1,0)","v":0},{"$f":"IF(N136=E136,0,1)","v":0},{"$f":"IF(Table26[[#This Row],[Status Medida]]=\"Finalizado\",IF(Table26[[#This Row],[Sim/Não]]=1,1,0),0)","v":0}]
[null,null,null,null,null,null,null,null,null,null,null,"Atrasado",null,null,null,0,0,{"$f":"IF(Table26[[#This Row],[Status Medida]]=\"Finalizado\",IF(Table26[[#This Row],[Sim/Não]]=1,1,0),0)","v":0}]
[null,null,null,null,null,null,null,null,null,null,null,"Atrasado",null,null,null,0,0,{"$f":"IF(Table26[[#This Row],[Status Medida]]=\"Finalizado\",IF(Table26[[#This Row],[Sim/Não]]=1,1,0),0)","v":0}]
[null,null,null,null,null,null,null,null,null,null,null,"Atrasado",null,null,null,0,0,{"$f":"IF(Table26[[#This Row],[Status Medida]]=\"Finalizado\",IF(Table26[[#This Row],[Sim/Não]]=1,1,0),0)","v":0}]
[null,null,null,null,null,null,null,null,null,null,null,"Atrasado",null,null,null,0,0,{"$f":"IF(Table26[[#This Row],[Status Medida]]=\"Finalizado\",IF(Table26[[#This Row],[Sim/Não]]=1,1,0),0)","v":0}]
[null,null,null,null,null,null,null,null,null,null,null,"Atrasado",null,null,null,0,0,{"$f":"IF(Table26[[#This Row],[Status Medida]]=\"Finalizado\",IF(Table26[[#This Row],[Sim/Não]]=1,1,0),0)","v":0}]
[null,null,null,null,null,null,null,null,null,null,null,"Atrasado",null,null,null,0,0,{"$f":"IF(Table26[[#This Row],[Status Medida]]=\"Finalizado\",IF(Table26[[#This Row],[Sim/Não]]=1,1,0),0)","v":0}]
[null,null,null,null,null,null,null,null,null,null,null,"Atrasado",null,null,null,0,0,{"$f":"IF(Table26[[#This Row],[Status Medida]]=\"Finalizado\",IF(Table26[[#This Row],[Sim/Não]]=1,1,0),0)","v":0}]
[null,null,null,null,null,null,null,null,null,null,null,"Atrasado",null,null,null,0,0,{"$f":"IF(Table26[[#This Row],[Status Medida]]=\"Finalizado\",IF(Table26[[#This Row],[Sim/Não]]=1,1,0),0)","v":0}]
[null,null,null,null,null,null,null,null,null,null,null,"Atrasado",null,null,null,0,0,{"$f":"IF(Table26[[#This Row],[Status Medida]]=\"Finalizado\",IF(Table26[[#This Row],[Sim/Não]]=1,1,0),0)","v":0}]
[null,null,null,null,null,null,null,null,null,null,null,"Atrasado",null,null,null,0,0,{"$f":"IF(Table26[[#This Row],[Status Medida]]=\"Finalizado\",IF(Table26[[#This Row],[Sim/Não]]=1,1,0),0)","v":0}]
[null,null,null,null,null,null,null,null,null,null,null,"Atrasado",null,null,null,0,0,{"$f":"IF(Table26[[#This Row],[Status Medida]]=\"Finalizado\",IF(Table26[[#This Row],[Sim/Não]]=1,1,0),0)","v":0}]
[null,null,null,null,null,null,null,null,null,null,null,"Atrasado",null,null,null,0,0,{"$f":"IF(Table26[[#This Row],[Status Medida]]=\"Finalizado\",IF(Table26[[#This Row],[Sim/Não]]=1,1,0),0)","v":0}]
[null,null,null,null,null,null,null,null,null,null,null,"Atrasado",null,null,null,0,0,{"$f":"IF(Table26[[#This Row],[Status Medida]]=\"Finalizado\",IF(Table26[[#This Row],[Sim/Não]]=1,1,0),0)","v":0}]
[null,null,null,null,null,null,null,null,null,null,null,"Atrasado",null,null,null,0,0,{"$f":"IF(Table26[[#This Row],[Status Medida]]=\"Finalizado\",IF(Table26[[#This Row],[Sim/Não]]=1,1,0),0)","v":0}]
[null,null,null,null,null,null,null,null,null,null,null,"Atrasado",null,null,null,0,0,{"$f":"IF(Table26[[#This Row],[Status Medida]]=\"Finalizado\",IF(Table26[[#This Row],[Sim/Não]]=1,1,0),0)","v":0}]
[null,null,null,null,null,null,null,null,null,null,null,"Atrasado",null,null,null,0,0,{"$f":"IF(Table26[[#This Row],[Status Medida]]=\"Finalizado\",IF(Table26[[#This Row],[Sim/Não]]=1,1,0),0)","v":0}]
[null,null,null,null,null,null,null,null,null,null,null,"Atrasado",null,null,null,0,0,{"$f":"IF(Table26[[#This Row],[Status Medida]]=\"Finalizado\",IF(Table26[[#This Row],[Sim/Não]]=1,1,0),0)","v":0}]
[null,null,null,null,null,null,null,null,null,null,null,"Atrasado",null,null,null,0,0,{"$f":"IF(Table26[[#This Row],[Status Medida]]=\"Finalizado\",IF(Table26[[#This Row],[Sim/Não]]=1,1,0),0)","v":0}]
[null,null,null,null,null,null,null,null,null,null,null,"Atrasado",null,null,null,0,0,{"$f":"IF(Table26[[#This Row],[Status Medida]]=\"Finalizado\",IF(Table26[[#This Row],[Sim/Não]]=1,1,0),0)","v":0}]
[null,null,null,null,null,null,null,null,null,null,null,"Atrasado",null,null,null,0,0,{"$f":"IF(Table26[[#This Row],[Status Medida]]=\"Finalizado\",IF(Table26[[#This Row],[Sim/Não]]=1,1,0),0)","v":0}]
[null,null,null,null,null,null,null,null,null,null,null,"Atrasado",null,null,null,0,0,{"$f":"IF(Table26[[#This Row],[Status Medida]]=\"Finalizado\",IF(Table26[[#This Row],[Sim/Não]]=1,1,0),0)","v":0}]
[null,null,null,null,null,null,null,null,null,null,null,"Atrasado",null,null,null,0,0,{"$f":"IF(Table26[[#This Row],[Status Medida]]=\"Finalizado\",IF(Table26[[#This Row],[Sim/Não]]=1,1,0),0)","v":0}]
[null,null,null,null,null,null,null,null,null,null,null,"Atrasado",null,null,null,0,0,{"$f":"IF(Table26[[#This Row],[Status Medida]]=\"Finalizado\",IF(Table26[[#This Row],[Sim/Não]]=1,1,0),0)","v":0}]
[null,null,null,null,null,null,null,null,null,null,null,"Atrasado",null,null,null,0,0,{"$f":"IF(Table26[[#This Row],[Status Medida]]=\"Finalizado\",IF(Table26[[#This Row],[Sim/Não]]=1,1,0),0)","v":0}]
[null,null,null,null,null,null,null,null,null,null,null,"Atrasado",null,null,null,0,0,{"$f":"IF(Table26[[#This Row],[Status Medida]]=\"Finalizado\",IF(Table26[[#This Row],[Sim/Não]]=1,1,0),0)","v":0}]
[null,null,null,null,null,null,null,null,null,null,null,"Atrasado",null,null,null,0,0,{"$f":"IF(Table26[[#This Row],[Status Medida]]=\"Finalizado\",IF(Table26[[#This Row],[Sim/Não]]=1,1,0),0)","v":0}]
[null,null,null,null,null,null,null,null,null,null,null,"Atrasado",null,null,null,0,0,{"$f":"IF(Table26[[#This Row],[Status Medida]]=\"Finalizado\",IF(Table26[[#This Row],[Sim/Não]]=1,1,0),0)","v":0}]
[null,null,null,null,null,null,null,null,null,null,null,"Atrasado",null,null,null,0,0,{"$f":"IF(Table26[[#This Row],[Status Medida]]=\"Finalizado\",IF(Table26[[#This Row],[Sim/Não]]=1,1,0),0)","v":0}]
[null,null,null,null,null,null,null,null,null,null,null,"Atrasado",null,null,null,0,0,{"$f":"IF(Table26[[#This Row],[Status Medida]]=\"Finalizado\",IF(Table26[[#This Row],[Sim/Não]]=1,1,0),0)","v":0}]
[null,null,null,null,null,null,null,null,null,null,null,"Atrasado",null,null,null,0,0,{"$f":"IF(Table26[[#This Row],[Status Medida]]=\"Finalizado\",IF(Table26[[#This Row],[Sim/Não]]=1,1,0),0)","v":0}]
[null,null,null,null,null,null,null,null,null,null,null,"Atrasado",null,null,null,0,0,{"$f":"IF(Table26[[#This Row],[Status Medida]]=\"Finalizado\",IF(Table26[[#This Row],[Sim/Não]]=1,1,0),0)","v":0}]
[null,null,null,null,null,null,null,null,null,null,null,"Atrasado",null,null,null,0,0,{"$f":"IF(Table26[[#This Row],[Status Medida]]=\"Finalizado\",IF(Table26[[#This Row],[Sim/Não]]=1,1,0),0)","v":0}]
[null,null,null,null,null,null,null,null,null,null,null,"Atrasado",null,null,null,0,0,{"$f":"IF(Table26[[#This Row],[Status Medida]]=\"Finalizado\",IF(Table26[[#This Row],[Sim/Não]]=1,1,0),0)","v":0}]
[null,null,null,null,null,null,null,null,null,null,null,"Atrasado",null,null,null,0,0,{"$f":"IF(Table26[[#This Row],[Status Medida]]=\"Finalizado\",IF(Table26[[#This Row],[Sim/Não]]=1,1,0),0)","v":0}]
[null,null,null,null,null,null,null,null,null,null,null,"Atrasado",null,null,null,0,0,{"$f":"IF(Table26[[#This Row],[Status Medida]]=\"Finalizado\",IF(Table26[[#This Row],[Sim/Não]]=1,1,0),0)","v":0}]
[null,null,null,null,null,null,null,null,null,null,null,"Atrasado",null,null,null,0,0,{"$f":"IF(Table26[[#This Row],[Status Medida]]=\"Finalizado\",IF(Table26[[#This Row],[Sim/Não]]=1,1,0),0)","v":0}]
[null,null,null,null,null,null,null,null,null,null,null,"Atrasado",null,null,null,0,0,{"$f":"IF(Table26[[#This Row],[Status Medida]]=\"Finalizado\",IF(Table26[[#This Row],[Sim/Não]]=1,1,0),0)","v":0}]
[null,null,null,null,null,null,null,null,null,null,null,"Atrasado",null,null,null,0,0,{"$f":"IF(Table26[[#This Row],[Status Medida]]=\"Finalizado\",IF(Table26[[#This Row],[Sim/Não]]=1,1,0),0)","v":0}]
[null,null,null,null,null,null,null,null,null,null,null,"Atrasado",null,null,null,0,0,{"$f":"IF(Table26[[#This Row],[Status Medida]]=\"Finalizado\",IF(Table26[[#This Row],[Sim/Não]]=1,1,0),0)","v":0}]
[null,null,null,null,null,null,null,null,null,null,null,"Atrasado",null,null,null,0,0,{"$f":"IF(Table26[[#This Row],[Status Medida]]=\"Finalizado\",IF(Table26[[#This Row],[Sim/Não]]=1,1,0),0)","v":0}]
[null,null,null,null,null,null,null,null,null,null,null,"Atrasado",null,null,null,0,0,{"$f":"IF(Table26[[#This Row],[Status Medida]]=\"Finalizado\",IF(Table26[[#This Row],[Sim/Não]]=1,1,0),0)","v":0}]
[null,null,null,null,null,null,null,null,null,null,null,"Atrasado",null,null,null,0,0,{"$f":"IF(Table26[[#This Row],[Status Medida]]=\"Finalizado\",IF(Table26[[#This Row],[Sim/Não]]=1,1,0),0)","v":0}]
[null,null,null,null,null,null,null,null,null,null,null,"Atrasado",null,null,null,0,0,{"$f":"IF(Table26[[#This Row],[Status Medida]]=\"Finalizado\",IF(Table26[[#This Row],[Sim/Não]]=1,1,0),0)","v":0}]
[null,null,null,null,null,null,null,null,null,null,null,"Atrasado",null,null,null,0,0,{"$f":"IF(Table26[[#This Row],[Status Medida]]=\"Finalizado\",IF(Table26[[#This Row],[Sim/Não]]=1,1,0),0)","v":0}]
[null,null,null,null,null,null,null,null,null,null,null,"Atrasado",null,null,null,0,0,{"$f":"IF(Table26[[#This Row],[Status Medida]]=\"Finalizado\",IF(Table26[[#This Row],[Sim/Não]]=1,1,0),0)","v":0}]
[null,null,null,null,null,null,null,null,null,null,null,"Atrasado",null,null,null,0,0,{"$f":"IF(Table26[[#This Row],[Status Medida]]=\"Finalizado\",IF(Table26[[#This Row],[Sim/Não]]=1,1,0),0)","v":0}]
[null,null,null,null,null,null,null,null,null,null,null,"Atrasado",null,null,null,0,0,{"$f":"IF(Table26[[#This Row],[Status Medida]]=\"Finalizado\",IF(Table26[[#This Row],[Sim/Não]]=1,1,0),0)","v":0}]
[null,null,null,null,null,null,null,null,null,null,null,"Atrasado",null,null,null,0,0,{"$f":"IF(Table26[[#This Row],[Status Medida]]=\"Finalizado\",IF(Table26[[#This Row],[Sim/Não]]=1,1,0),0)","v":0}]
[null,null,null,null,null,null,null,null,null,null,null,"Atrasado",null,null,null,0,0,{"$f":"IF(Table26[[#This Row],[Status Medida]]=\"Finalizado\",IF(Table26[[#This Row],[Sim/Não]]=1,1,0),0)","v":0}]
[null,null,null,null,null,null,null,null,null,null,null,"Atrasado",null,null,null,0,0,{"$f":"IF(Table26[[#This Row],[Status Medida]]=\"Finalizado\",IF(Table26[[#This Row],[Sim/Não]]=1,1,0),0)","v":0}]
[null,null,null,null,null,null,null,null,null,null,null,"Atrasado",null,null,null,0,0,{"$f":"IF(Table26[[#This Row],[Status Medida]]=\"Finalizado\",IF(Table26[[#This Row],[Sim/Não]]=1,1,0),0)","v":0}]
[null,null,null,null,null,null,null,null,null,null,null,"Atrasado",null,null,null,0,0,{"$f":"IF(Table26[[#This Row],[Status Medida]]=\"Finalizado\",IF(Table26[[#This Row],[Sim/Não]]=1,1,0),0)","v":0}]
[null,null,null,null,null,null,null,null,null,null,null,"Atrasado",null,null,null,0,0,{"$f":"IF(Table26[[#This Row],[Status Medida]]=\"Finalizado\",IF(Table26[[#This Row],[Sim/Não]]=1,1,0),0)","v":0}]
[null,null,null,null,null,null,null,null,null,null,null,"Atrasado",null,null,null,0,0,{"$f":"IF(Table26[[#This Row],[Status Medida]]=\"Finalizado\",IF(Table26[[#This Row],[Sim/Não]]=1,1,0),0)","v":0}]
[null,null,null,null,null,null,null,null,null,null,null,"Atrasado",null,null,null,0,0,{"$f":"IF(Table26[[#This Row],[Status Medida]]=\"Finalizado\",IF(Table26[[#This Row],[Sim/Não]]=1,1,0),0)","v":0}]
[null,null,null,null,null,null,null,null,null,null,null,"Atrasado",null,null,null,0,0,{"$f":"IF(Table26[[#This Row],[Status Medida]]=\"Finalizado\",IF(Table26[[#This Row],[Sim/Não]]=1,1,0),0)","v":0}]
[null,null,null,null,null,null,null,null,null,null,null,"Atrasado",null,null,null,0,0,{"$f":"IF(Table26[[#This Row],[Status Medida]]=\"Finalizado\",IF(Table26[[#This Row],[Sim/Não]]=1,1,0),0)","v":0}]
[null,null,null,null,null,null,null,null,null,null,null,"Atrasado",null,null,null,0,0,{"$f":"IF(Table26[[#This Row],[Status Medida]]=\"Finalizado\",IF(Table26[[#This Row],[Sim/Não]]=1,1,0),0)","v":0}]
[null,null,null,null,null,null,null,null,null,null,null,"Atrasado",null,null,null,0,0,{"$f":"IF(Table26[[#This Row],[Status Medida]]=\"Finalizado\",IF(Table26[[#This Row],[Sim/Não]]=1,1,0),0)","v":0}]
[null,null,null,null,null,null,null,null,null,null,null,"Atrasado",null,null,null,0,0,{"$f":"IF(Table26[[#This Row],[Status Medida]]=\"Finalizado\",IF(Table26[[#This Row],[Sim/Não]]=1,1,0),0)","v":0}]
[null,null,null,null,null,null,null,null,null,null,null,"Atrasado",null,null,null,0,0,{"$f":"IF(Table26[[#This Row],[Status Medida]]=\"Finalizado\",IF(Table26[[#This Row],[Sim/Não]]=1,1,0),0)","v":0}]
[null,null,null,null,null,null,null,null,null,null,null,"Atrasado",null,null,null,0,0,{"$f":"IF(Table26[[#This Row],[Status Medida]]=\"Finalizado\",IF(Table26[[#This Row],[Sim/Não]]=1,1,0),0)","v":0}]
[null,null,null,null,null,null,null,null,null,null,null,{"$f":"IF(J199>K199,\"Datas inválidas\",IF(M199=\"Finalizado\",\"Concluído\",IF(J199>TODAY(),\"Não iniciado\",_xlfn.IFS(J199=TODAY(),\"Em andamento\",TODAY()>K199,\"Atrasado\",AND(TODAY()>J199,TODAY()<=K199),\"Em andamento\"))))","v":"Atrasado"},null,null,null,0,0,{"$f":"IF(Table26[[#This Row],[Status Medida]]=\"Finalizado\",IF(Table26[[#This Row],[Sim/Não]]=1,1,0),0)","v":0}]
[null,null,null,null,null,null,null,null,null,null,null,"Atrasado",null,null,null,{"$f":"IF(O200=\"Sim\",1,0)","v":0},{"$f":"IF(N200=E200,0,1)","v":0},{"$f":"IF(Table26[[#This Row],[Status Medida]]=\"Finalizado\",IF(Table26[[#This Row],[Sim/Não]]=1,1,0),0)","v":0}]
[null,null,null,null,null,null,null,null,null,null,null,"Atrasado",null,null,null,0,0,{"$f":"IF(Table26[[#This Row],[Status Medida]]=\"Finalizado\",IF(Table26[[#This Row],[Sim/Não]]=1,1,0),0)","v":0}]
[null,null,null,null,null,null,null,null,null,null,null,"Atrasado",null,null,null,0,0,{"$f":"IF(Table26[[#This Row],[Status Medida]]=\"Finalizado\",IF(Table26[[#This Row],[Sim/Não]]=1,1,0),0)","v":0}]
[null,null,null,null,null,null,null,null,null,null,null,"Atrasado",null,null,null,0,0,{"$f":"IF(Table26[[#This Row],[Status Medida]]=\"Finalizado\",IF(Table26[[#This Row],[Sim/Não]]=1,1,0),0)","v":0}]
[null,null,null,null,null,null,null,null,null,null,null,"Atrasado",null,null,null,0,0,{"$f":"IF(Table26[[#This Row],[Status Medida]]=\"Finalizado\",IF(Table26[[#This Row],[Sim/Não]]=1,1,0),0)","v":0}]
[null,null,null,null,null,null,null,null,null,null,null,"Atrasado",null,null,null,0,0,{"$f":"IF(Table26[[#This Row],[Status Medida]]=\"Finalizado\",IF(Table26[[#This Row],[Sim/Não]]=1,1,0),0)","v":0}]
[null,null,null,null,null,null,null,null,null,null,null,"Atrasado",null,null,null,0,0,{"$f":"IF(Table26[[#This Row],[Status Medida]]=\"Finalizado\",IF(Table26[[#This Row],[Sim/Não]]=1,1,0),0)","v":0}]
[null,null,null,null,null,null,null,null,null,null,null,"Atrasado",null,null,null,0,0,{"$f":"IF(Table26[[#This Row],[Status Medida]]=\"Finalizado\",IF(Table26[[#This Row],[Sim/Não]]=1,1,0),0)","v":0}]
[null,null,null,null,null,null,null,null,null,null,null,"Atrasado",null,null,null,0,0,{"$f":"IF(Table26[[#This Row],[Status Medida]]=\"Finalizado\",IF(Table26[[#This Row],[Sim/Não]]=1,1,0),0)","v":0}]
[null,null,null,null,null,null,null,null,null,null,null,"Atrasado",null,null,null,0,0,{"$f":"IF(Table26[[#This Row],[Status Medida]]=\"Finalizado\",IF(Table26[[#This Row],[Sim/Não]]=1,1,0),0)","v":0}]
[null,null,null,null,null,null,null,null,null,null,null,"Atrasado",null,null,null,0,0,{"$f":"IF(Table26[[#This Row],[Status Medida]]=\"Finalizado\",IF(Table26[[#This Row],[Sim/Não]]=1,1,0),0)","v":0}]
[null,null,null,null,null,null,null,null,null,null,null,"Atrasado",null,null,null,0,0,{"$f":"IF(Table26[[#This Row],[Status Medida]]=\"Finalizado\",IF(Table26[[#This Row],[Sim/Não]]=1,1,0),0)","v":0}]
[null,null,null,null,null,null,null,null,null,null,null,"Atrasado",null,null,null,0,0,{"$f":"IF(Table26[[#This Row],[Status Medida]]=\"Finalizado\",IF(Table26[[#This Row],[Sim/Não]]=1,1,0),0)","v":0}]
[null,null,null,null,null,null,null,null,null,null,null,"Atrasado",null,null,null,0,0,{"$f":"IF(Table26[[#This Row],[Status Medida]]=\"Finalizado\",IF(Table26[[#This Row],[Sim/Não]]=1,1,0),0)","v":0}]
[null,null,null,null,null,null,null,null,null,null,null,"Atrasado",null,null,null,0,0,{"$f":"IF(Table26[[#This Row],[Status Medida]]=\"Finalizado\",IF(Table26[[#This Row],[Sim/Não]]=1,1,0),0)","v":0}]
[null,null,null,null,null,null,null,null,null,null,null,"Atrasado",null,null,null,0,0,{"$f":"IF(Table26[[#This Row],[Status Medida]]=\"Finalizado\",IF(Table26[[#This Row],[Sim/Não]]=1,1,0),0)","v":0}]
[null,null,null,null,null,null,null,null,null,null,null,"Atrasado",null,null,null,0,0,{"$f":"IF(Table26[[#This Row],[Status Medida]]=\"Finalizado\",IF(Table26[[#This Row],[Sim/Não]]=1,1,0),0)","v":0}]
[null,null,null,null,null,null,null,null,null,null,null,"Atrasado",null,null,null,0,0,{"$f":"IF(Table26[[#This Row],[Status Medida]]=\"Finalizado\",IF(Table26[[#This Row],[Sim/Não]]=1,1,0),0)","v":0}]
[null,null,null,null,null,null,null,null,null,null,null,"Atrasado",null,null,null,0,0,{"$f":"IF(Table26[[#This Row],[Status Medida]]=\"Finalizado\",IF(Table26[[#This Row],[Sim/Não]]=1,1,0),0)","v":0}]
[null,null,null,null,null,null,null,null,null,null,null,"Atrasado",null,null,null,0,0,{"$f":"IF(Table26[[#This Row],[Status Medida]]=\"Finalizado\",IF(Table26[[#This Row],[Sim/Não]]=1,1,0),0)","v":0}]
[null,null,null,null,null,null,null,null,null,null,null,"Atrasado",null,null,null,0,0,{"$f":"IF(Table26[[#This Row],[Status Medida]]=\"Finalizado\",IF(Table26[[#This Row],[Sim/Não]]=1,1,0),0)","v":0}]
[null,null,null,null,null,null,null,null,null,null,null,"Atrasado",null,null,null,0,0,{"$f":"IF(Table26[[#This Row],[Status Medida]]=\"Finalizado\",IF(Table26[[#This Row],[Sim/Não]]=1,1,0),0)","v":0}]
[null,null,null,null,null,null,null,null,null,null,null,"Atrasado",null,null,null,0,0,{"$f":"IF(Table26[[#This Row],[Status Medida]]=\"Finalizado\",IF(Table26[[#This Row],[Sim/Não]]=1,1,0),0)","v":0}]
[null,null,null,null,null,null,null,null,null,null,null,"Atrasado",null,null,null,0,0,{"$f":"IF(Table26[[#This Row],[Status Medida]]=\"Finalizado\",IF(Table26[[#This Row],[Sim/Não]]=1,1,0),0)","v":0}]
[null,null,null,null,null,null,null,null,null,null,null,"Atrasado",null,null,null,0,0,{"$f":"IF(Table26[[#This Row],[Status Medida]]=\"Finalizado\",IF(Table26[[#This Row],[Sim/Não]]=1,1,0),0)","v":0}]
[null,null,null,null,null,null,null,null,null,null,null,"Atrasado",null,null,null,0,0,{"$f":"IF(Table26[[#This Row],[Status Medida]]=\"Finalizado\",IF(Table26[[#This Row],[Sim/Não]]=1,1,0),0)","v":0}]
[null,null,null,null,null,null,null,null,null,null,null,"Atrasado",null,null,null,0,0,{"$f":"IF(Table26[[#This Row],[Status Medida]]=\"Finalizado\",IF(Table26[[#This Row],[Sim/Não]]=1,1,0),0)","v":0}]
[null,null,null,null,null,null,null,null,null,null,null,"Atrasado",null,null,null,0,0,{"$f":"IF(Table26[[#This Row],[Status Medida]]=\"Finalizado\",IF(Table26[[#This Row],[Sim/Não]]=1,1,0),0)","v":0}]
[null,null,null,null,null,null,null,null,null,null,null,"Atrasado",null,null,null,0,0,{"$f":"IF(Table26[[#This Row],[Status Medida]]=\"Finalizado\",IF(Table26[[#This Row],[Sim/Não]]=1,1,0),0)","v":0}]
[null,null,null,null,null,null,null,null,null,null,null,"Atrasado",null,null,null,0,0,{"$f":"IF(Table26[[#This Row],[Status Medida]]=\"Finalizado\",IF(Table26[[#This Row],[Sim/Não]]=1,1,0),0)","v":0}]
[null,null,null,null,null,null,null,null,null,null,null,"Atrasado",null,null,null,0,0,{"$f":"IF(Table26[[#This Row],[Status Medida]]=\"Finalizado\",IF(Table26[[#This Row],[Sim/Não]]=1,1,0),0)","v":0}]
[null,null,null,null,null,null,null,null,null,null,null,"Atrasado",null,null,null,0,0,{"$f":"IF(Table26[[#This Row],[Status Medida]]=\"Finalizado\",IF(Table26[[#This Row],[Sim/Não]]=1,1,0),0)","v":0}]
[null,null,null,null,null,null,null,null,null,null,null,"Atrasado",null,null,null,0,0,{"$f":"IF(Table26[[#This Row],[Status Medida]]=\"Finalizado\",IF(Table26[[#This Row],[Sim/Não]]=1,1,0),0)","v":0}]
[null,null,null,null,null,null,null,null,null,null,null,"Atrasado",null,null,null,0,0,{"$f":"IF(Table26[[#This Row],[Status Medida]]=\"Finalizado\",IF(Table26[[#This Row],[Sim/Não]]=1,1,0),0)","v":0}]
[null,null,null,null,null,null,null,null,null,null,null,"Atrasado",null,null,null,0,0,{"$f":"IF(Table26[[#This Row],[Status Medida]]=\"Finalizado\",IF(Table26[[#This Row],[Sim/Não]]=1,1,0),0)","v":0}]
[null,null,null,null,null,null,null,null,null,null,null,"Atrasado",null,null,null,0,0,{"$f":"IF(Table26[[#This Row],[Status Medida]]=\"Finalizado\",IF(Table26[[#This Row],[Sim/Não]]=1,1,0),0)","v":0}]
[null,null,null,null,null,null,null,null,null,null,null,"Atrasado",null,null,null,0,0,{"$f":"IF(Table26[[#This Row],[Status Medida]]=\"Finalizado\",IF(Table26[[#This Row],[Sim/Não]]=1,1,0),0)","v":0}]
[null,null,null,null,null,null,null,null,null,null,null,"Atrasado",null,null,null,0,0,{"$f":"IF(Table26[[#This Row],[Status Medida]]=\"Finalizado\",IF(Table26[[#This Row],[Sim/Não]]=1,1,0),0)","v":0}]
[null,null,null,null,null,null,null,null,null,null,null,"Atrasado",null,null,null,0,0,{"$f":"IF(Table26[[#This Row],[Status Medida]]=\"Finalizado\",IF(Table26[[#This Row],[Sim/Não]]=1,1,0),0)","v":0}]
[null,null,null,null,null,null,null,null,null,null,null,"Atrasado",null,null,null,0,0,{"$f":"IF(Table26[[#This Row],[Status Medida]]=\"Finalizado\",IF(Table26[[#This Row],[Sim/Não]]=1,1,0),0)","v":0}]
[null,null,null,null,null,null,null,null,null,null,null,"Atrasado",null,null,null,0,0,{"$f":"IF(Table26[[#This Row],[Status Medida]]=\"Finalizado\",IF(Table26[[#This Row],[Sim/Não]]=1,1,0),0)","v":0}]
[null,null,null,null,null,null,null,null,null,null,null,"Atrasado",null,null,null,0,0,{"$f":"IF(Table26[[#This Row],[Status Medida]]=\"Finalizado\",IF(Table26[[#This Row],[Sim/Não]]=1,1,0),0)","v":0}]
[null,null,null,null,null,null,null,null,null,null,null,"Atrasado",null,null,null,0,0,{"$f":"IF(Table26[[#This Row],[Status Medida]]=\"Finalizado\",IF(Table26[[#This Row],[Sim/Não]]=1,1,0),0)","v":0}]
[null,null,null,null,null,null,null,null,null,null,null,"Atrasado",null,null,null,0,0,{"$f":"IF(Table26[[#This Row],[Status Medida]]=\"Finalizado\",IF(Table26[[#This Row],[Sim/Não]]=1,1,0),0)","v":0}]
[null,null,null,null,null,null,null,null,null,null,null,"Atrasado",null,null,null,0,0,{"$f":"IF(Table26[[#This Row],[Status Medida]]=\"Finalizado\",IF(Table26[[#This Row],[Sim/Não]]=1,1,0),0)","v":0}]
[null,null,null,null,null,null,null,null,null,null,null,"Atrasado",null,null,null,0,0,{"$f":"IF(Table26[[#This Row],[Status Medida]]=\"Finalizado\",IF(Table26[[#This Row],[Sim/Não]]=1,1,0),0)","v":0}]
[null,null,null,null,null,null,null,null,null,null,null,"Atrasado",null,null,null,0,0,{"$f":"IF(Table26[[#This Row],[Status Medida]]=\"Finalizado\",IF(Table26[[#This Row],[Sim/Não]]=1,1,0),0)","v":0}]
[null,null,null,null,null,null,null,null,null,null,null,"Atrasado",null,null,null,0,0,{"$f":"IF(Table26[[#This Row],[Status Medida]]=\"Finalizado\",IF(Table26[[#This Row],[Sim/Não]]=1,1,0),0)","v":0}]
[null,null,null,null,null,null,null,null,null,null,null,"Atrasado",null,null,null,0,0,{"$f":"IF(Table26[[#This Row],[Status Medida]]=\"Finalizado\",IF(Table26[[#This Row],[Sim/Não]]=1,1,0),0)","v":0}]
[null,null,null,null,null,null,null,null,null,null,null,"Atrasado",null,null,null,0,0,{"$f":"IF(Table26[[#This Row],[Status Medida]]=\"Finalizado\",IF(Table26[[#This Row],[Sim/Não]]=1,1,0),0)","v":0}]
[null,null,null,null,null,null,null,null,null,null,null,"Atrasado",null,null,null,0,0,{"$f":"IF(Table26[[#This Row],[Status Medida]]=\"Finalizado\",IF(Table26[[#This Row],[Sim/Não]]=1,1,0),0)","v":0}]
[null,null,null,null,null,null,null,null,null,null,null,"Atrasado",null,null,null,0,0,{"$f":"IF(Table26[[#This Row],[Status Medida]]=\"Finalizado\",IF(Table26[[#This Row],[Sim/Não]]=1,1,0),0)","v":0}]
[null,null,null,null,null,null,null,null,null,null,null,"Atrasado",null,null,null,0,0,{"$f":"IF(Table26[[#This Row],[Status Medida]]=\"Finalizado\",IF(Table26[[#This Row],[Sim/Não]]=1,1,0),0)","v":0}]
[null,null,null,null,null,null,null,null,null,null,null,"Atrasado",null,null,null,0,0,{"$f":"IF(Table26[[#This Row],[Status Medida]]=\"Finalizado\",IF(Table26[[#This Row],[Sim/Não]]=1,1,0),0)","v":0}]
[null,null,null,null,null,null,null,null,null,null,null,"Atrasado",null,null,null,0,0,{"$f":"IF(Table26[[#This Row],[Status Medida]]=\"Finalizado\",IF(Table26[[#This Row],[Sim/Não]]=1,1,0),0)","v":0}]
[null,null,null,null,null,null,null,null,null,null,null,"Atrasado",null,null,null,0,0,{"$f":"IF(Table26[[#This Row],[Status Medida]]=\"Finalizado\",IF(Table26[[#This Row],[Sim/Não]]=1,1,0),0)","v":0}]
[null,null,null,null,null,null,null,null,null,null,null,"Atrasado",null,null,null,0,0,{"$f":"IF(Table26[[#This Row],[Status Medida]]=\"Finalizado\",IF(Table26[[#This Row],[Sim/Não]]=1,1,0),0)","v":0}]
[null,null,null,null,null,null,null,null,null,null,null,"Atrasado",null,null,null,0,0,{"$f":"IF(Table26[[#This Row],[Status Medida]]=\"Finalizado\",IF(Table26[[#This Row],[Sim/Não]]=1,1,0),0)","v":0}]
[null,null,null,null,null,null,null,null,null,null,null,"Atrasado",null,null,null,0,0,{"$f":"IF(Table26[[#This Row],[Status Medida]]=\"Finalizado\",IF(Table26[[#This Row],[Sim/Não]]=1,1,0),0)","v":0}]
[null,null,null,null,null,null,null,null,null,null,null,"Atrasado",null,null,null,0,0,{"$f":"IF(Table26[[#This Row],[Status Medida]]=\"Finalizado\",IF(Table26[[#This Row],[Sim/Não]]=1,1,0),0)","v":0}]
[null,null,null,null,null,null,null,null,null,null,null,"Atrasado",null,null,null,0,0,{"$f":"IF(Table26[[#This Row],[Status Medida]]=\"Finalizado\",IF(Table26[[#This Row],[Sim/Não]]=1,1,0),0)","v":0}]
[null,null,null,null,null,null,null,null,null,null,null,"Atrasado",null,null,null,0,0,{"$f":"IF(Table26[[#This Row],[Status Medida]]=\"Finalizado\",IF(Table26[[#This Row],[Sim/Não]]=1,1,0),0)","v":0}]
[null,null,null,null,null,null,null,null,null,null,null,"Atrasado",null,null,null,0,0,{"$f":"IF(Table26[[#This Row],[Status Medida]]=\"Finalizado\",IF(Table26[[#This Row],[Sim/Não]]=1,1,0),0)","v":0}]
[null,null,null,null,null,null,null,null,null,null,null,{"$f":"IF(J263>K263,\"Datas inválidas\",IF(M263=\"Finalizado\",\"Concluído\",IF(J263>TODAY(),\"Não iniciado\",_xlfn.IFS(J263=TODAY(),\"Em andamento\",TODAY()>K263,\"Atrasado\",AND(TODAY()>J263,TODAY()<=K263),\"Em andamento\"))))","v":"Atrasado"},null,null,null,0,0,{"$f":"IF(Table26[[#This Row],[Status Medida]]=\"Finalizado\",IF(Table26[[#This Row],[Sim/Não]]=1,1,0),0)","v":0}]
[null,null,null,null,null,null,null,null,null,null,null,"Atrasado",null,null,null,{"$f":"IF(O264=\"Sim\",1,0)","v":0},{"$f":"IF(N264=E264,0,1)","v":0},{"$f":"IF(Table26[[#This Row],[Status Medida]]=\"Finalizado\",IF(Table26[[#This Row],[Sim/Não]]=1,1,0),0)","v":0}]
[null,null,null,null,null,null,null,null,null,null,null,"Atrasado",null,null,null,0,0,{"$f":"IF(Table26[[#This Row],[Status Medida]]=\"Finalizado\",IF(Table26[[#This Row],[Sim/Não]]=1,1,0),0)","v":0}]
[null,null,null,null,null,null,null,null,null,null,null,"Atrasado",null,null,null,0,0,{"$f":"IF(Table26[[#This Row],[Status Medida]]=\"Finalizado\",IF(Table26[[#This Row],[Sim/Não]]=1,1,0),0)","v":0}]
[null,null,null,null,null,null,null,null,null,null,null,"Atrasado",null,null,null,0,0,{"$f":"IF(Table26[[#This Row],[Status Medida]]=\"Finalizado\",IF(Table26[[#This Row],[Sim/Não]]=1,1,0),0)","v":0}]
[null,null,null,null,null,null,null,null,null,null,null,"Atrasado",null,null,null,0,0,{"$f":"IF(Table26[[#This Row],[Status Medida]]=\"Finalizado\",IF(Table26[[#This Row],[Sim/Não]]=1,1,0),0)","v":0}]
[null,null,null,null,null,null,null,null,null,null,null,"Atrasado",null,null,null,0,0,{"$f":"IF(Table26[[#This Row],[Status Medida]]=\"Finalizado\",IF(Table26[[#This Row],[Sim/Não]]=1,1,0),0)","v":0}]
[null,null,null,null,null,null,null,null,null,null,null,"Atrasado",null,null,null,0,0,{"$f":"IF(Table26[[#This Row],[Status Medida]]=\"Finalizado\",IF(Table26[[#This Row],[Sim/Não]]=1,1,0),0)","v":0}]
[null,null,null,null,null,null,null,null,null,null,null,"Atrasado",null,null,null,0,0,{"$f":"IF(Table26[[#This Row],[Status Medida]]=\"Finalizado\",IF(Table26[[#This Row],[Sim/Não]]=1,1,0),0)","v":0}]
[null,null,null,null,null,null,null,null,null,null,null,"Atrasado",null,null,null,0,0,{"$f":"IF(Table26[[#This Row],[Status Medida]]=\"Finalizado\",IF(Table26[[#This Row],[Sim/Não]]=1,1,0),0)","v":0}]
[null,null,null,null,null,null,null,null,null,null,null,"Atrasado",null,null,null,0,0,{"$f":"IF(Table26[[#This Row],[Status Medida]]=\"Finalizado\",IF(Table26[[#This Row],[Sim/Não]]=1,1,0),0)","v":0}]
[null,null,null,null,null,null,null,null,null,null,null,"Atrasado",null,null,null,0,0,{"$f":"IF(Table26[[#This Row],[Status Medida]]=\"Finalizado\",IF(Table26[[#This Row],[Sim/Não]]=1,1,0),0)","v":0}]
[null,null,null,null,null,null,null,null,null,null,null,"Atrasado",null,null,null,0,0,{"$f":"IF(Table26[[#This Row],[Status Medida]]=\"Finalizado\",IF(Table26[[#This Row],[Sim/Não]]=1,1,0),0)","v":0}]
[null,null,null,null,null,null,null,null,null,null,null,"Atrasado",null,null,null,0,0,{"$f":"IF(Table26[[#This Row],[Status Medida]]=\"Finalizado\",IF(Table26[[#This Row],[Sim/Não]]=1,1,0),0)","v":0}]
[null,null,null,null,null,null,null,null,null,null,null,"Atrasado",null,null,null,0,0,{"$f":"IF(Table26[[#This Row],[Status Medida]]=\"Finalizado\",IF(Table26[[#This Row],[Sim/Não]]=1,1,0),0)","v":0}]
[null,null,null,null,null,null,null,null,null,null,null,"Atrasado",null,null,null,0,0,{"$f":"IF(Table26[[#This Row],[Status Medida]]=\"Finalizado\",IF(Table26[[#This Row],[Sim/Não]]=1,1,0),0)","v":0}]
[null,null,null,null,null,null,null,null,null,null,null,"Atrasado",null,null,null,0,0,{"$f":"IF(Table26[[#This Row],[Status Medida]]=\"Finalizado\",IF(Table26[[#This Row],[Sim/Não]]=1,1,0),0)","v":0}]
[null,null,null,null,null,null,null,null,null,null,null,"Atrasado",null,null,null,0,0,{"$f":"IF(Table26[[#This Row],[Status Medida]]=\"Finalizado\",IF(Table26[[#This Row],[Sim/Não]]=1,1,0),0)","v":0}]
[null,null,null,null,null,null,null,null,null,null,null,"Atrasado",null,null,null,0,0,{"$f":"IF(Table26[[#This Row],[Status Medida]]=\"Finalizado\",IF(Table26[[#This Row],[Sim/Não]]=1,1,0),0)","v":0}]
[null,null,null,null,null,null,null,null,null,null,null,"Atrasado",null,null,null,0,0,{"$f":"IF(Table26[[#This Row],[Status Medida]]=\"Finalizado\",IF(Table26[[#This Row],[Sim/Não]]=1,1,0),0)","v":0}]
[null,null,null,null,null,null,null,null,null,null,null,"Atrasado",null,null,null,0,0,{"$f":"IF(Table26[[#This Row],[Status Medida]]=\"Finalizado\",IF(Table26[[#This Row],[Sim/Não]]=1,1,0),0)","v":0}]
[null,null,null,null,null,null,null,null,null,null,null,"Atrasado",null,null,null,0,0,{"$f":"IF(Table26[[#This Row],[Status Medida]]=\"Finalizado\",IF(Table26[[#This Row],[Sim/Não]]=1,1,0),0)","v":0}]
[null,null,null,null,null,null,null,null,null,null,null,"Atrasado",null,null,null,0,0,{"$f":"IF(Table26[[#This Row],[Status Medida]]=\"Finalizado\",IF(Table26[[#This Row],[Sim/Não]]=1,1,0),0)","v":0}]
[null,null,null,null,null,null,null,null,null,null,null,"Atrasado",null,null,null,0,0,{"$f":"IF(Table26[[#This Row],[Status Medida]]=\"Finalizado\",IF(Table26[[#This Row],[Sim/Não]]=1,1,0),0)","v":0}]
[null,null,null,null,null,null,null,null,null,null,null,"Atrasado",null,null,null,0,0,{"$f":"IF(Table26[[#This Row],[Status Medida]]=\"Finalizado\",IF(Table26[[#This Row],[Sim/Não]]=1,1,0),0)","v":0}]
[null,null,null,null,null,null,null,null,null,null,null,"Atrasado",null,null,null,0,0,{"$f":"IF(Table26[[#This Row],[Status Medida]]=\"Finalizado\",IF(Table26[[#This Row],[Sim/Não]]=1,1,0),0)","v":0}]
[null,null,null,null,null,null,null,null,null,null,null,"Atrasado",null,null,null,0,0,{"$f":"IF(Table26[[#This Row],[Status Medida]]=\"Finalizado\",IF(Table26[[#This Row],[Sim/Não]]=1,1,0),0)","v":0}]
[null,null,null,null,null,null,null,null,null,null,null,"Atrasado",null,null,null,0,0,{"$f":"IF(Table26[[#This Row],[Status Medida]]=\"Finalizado\",IF(Table26[[#This Row],[Sim/Não]]=1,1,0),0)","v":0}]
[null,null,null,null,null,null,null,null,null,null,null,"Atrasado",null,null,null,0,0,{"$f":"IF(Table26[[#This Row],[Status Medida]]=\"Finalizado\",IF(Table26[[#This Row],[Sim/Não]]=1,1,0),0)","v":0}]
[null,null,null,null,null,null,null,null,null,null,null,"Atrasado",null,null,null,0,0,{"$f":"IF(Table26[[#This Row],[Status Medida]]=\"Finalizado\",IF(Table26[[#This Row],[Sim/Não]]=1,1,0),0)","v":0}]
[null,null,null,null,null,null,null,null,null,null,null,"Atrasado",null,null,null,0,0,{"$f":"IF(Table26[[#This Row],[Status Medida]]=\"Finalizado\",IF(Table26[[#This Row],[Sim/Não]]=1,1,0),0)","v":0}]
[null,null,null,null,null,null,null,null,null,null,null,"Atrasado",null,null,null,0,0,{"$f":"IF(Table26[[#This Row],[Status Medida]]=\"Finalizado\",IF(Table26[[#This Row],[Sim/Não]]=1,1,0),0)","v":0}]
[null,null,null,null,null,null,null,null,null,null,null,"Atrasado",null,null,null,0,0,{"$f":"IF(Table26[[#This Row],[Status Medida]]=\"Finalizado\",IF(Table26[[#This Row],[Sim/Não]]=1,1,0),0)","v":0}]
[null,null,null,null,null,null,null,null,null,null,null,"Atrasado",null,null,null,0,0,{"$f":"IF(Table26[[#This Row],[Status Medida]]=\"Finalizado\",IF(Table26[[#This Row],[Sim/Não]]=1,1,0),0)","v":0}]
[null,null,null,null,null,null,null,null,null,null,null,"Atrasado",null,null,null,0,0,{"$f":"IF(Table26[[#This Row],[Status Medida]]=\"Finalizado\",IF(Table26[[#This Row],[Sim/Não]]=1,1,0),0)","v":0}]
[null,null,null,null,null,null,null,null,null,null,null,"Atrasado",null,null,null,0,0,{"$f":"IF(Table26[[#This Row],[Status Medida]]=\"Finalizado\",IF(Table26[[#This Row],[Sim/Não]]=1,1,0),0)","v":0}]
[null,null,null,null,null,null,null,null,null,null,null,"Atrasado",null,null,null,0,0,{"$f":"IF(Table26[[#This Row],[Status Medida]]=\"Finalizado\",IF(Table26[[#This Row],[Sim/Não]]=1,1,0),0)","v":0}]
[null,null,null,null,null,null,null,null,null,null,null,"Atrasado",null,null,null,0,0,{"$f":"IF(Table26[[#This Row],[Status Medida]]=\"Finalizado\",IF(Table26[[#This Row],[Sim/Não]]=1,1,0),0)","v":0}]
[null,null,null,null,null,null,null,null,null,null,null,"Atrasado",null,null,null,0,0,{"$f":"IF(Table26[[#This Row],[Status Medida]]=\"Finalizado\",IF(Table26[[#This Row],[Sim/Não]]=1,1,0),0)","v":0}]
[null,null,null,null,null,null,null,null,null,null,null,"Atrasado",null,null,null,0,0,{"$f":"IF(Table26[[#This Row],[Status Medida]]=\"Finalizado\",IF(Table26[[#This Row],[Sim/Não]]=1,1,0),0)","v":0}]
[null,null,null,null,null,null,null,null,null,null,null,"Atrasado",null,null,null,0,0,{"$f":"IF(Table26[[#This Row],[Status Medida]]=\"Finalizado\",IF(Table26[[#This Row],[Sim/Não]]=1,1,0),0)","v":0}]
[null,null,null,null,null,null,null,null,null,null,null,"Atrasado",null,null,null,0,0,{"$f":"IF(Table26[[#This Row],[Status Medida]]=\"Finalizado\",IF(Table26[[#This Row],[Sim/Não]]=1,1,0),0)","v":0}]
[null,null,null,null,null,null,null,null,null,null,null,"Atrasado",null,null,null,0,0,{"$f":"IF(Table26[[#This Row],[Status Medida]]=\"Finalizado\",IF(Table26[[#This Row],[Sim/Não]]=1,1,0),0)","v":0}]
[null,null,null,null,null,null,null,null,null,null,null,"Atrasado",null,null,null,0,0,{"$f":"IF(Table26[[#This Row],[Status Medida]]=\"Finalizado\",IF(Table26[[#This Row],[Sim/Não]]=1,1,0),0)","v":0}]
[null,null,null,null,null,null,null,null,null,null,null,"Atrasado",null,null,null,0,0,{"$f":"IF(Table26[[#This Row],[Status Medida]]=\"Finalizado\",IF(Table26[[#This Row],[Sim/Não]]=1,1,0),0)","v":0}]
[null,null,null,null,null,null,null,null,null,null,null,"Atrasado",null,null,null,0,0,{"$f":"IF(Table26[[#This Row],[Status Medida]]=\"Finalizado\",IF(Table26[[#This Row],[Sim/Não]]=1,1,0),0)","v":0}]
[null,null,null,null,null,null,null,null,null,null,null,"Atrasado",null,null,null,0,0,{"$f":"IF(Table26[[#This Row],[Status Medida]]=\"Finalizado\",IF(Table26[[#This Row],[Sim/Não]]=1,1,0),0)","v":0}]
[null,null,null,null,null,null,null,null,null,null,null,"Atrasado",null,null,null,0,0,{"$f":"IF(Table26[[#This Row],[Status Medida]]=\"Finalizado\",IF(Table26[[#This Row],[Sim/Não]]=1,1,0),0)","v":0}]
[null,null,null,null,null,null,null,null,null,null,null,"Atrasado",null,null,null,0,0,{"$f":"IF(Table26[[#This Row],[Status Medida]]=\"Finalizado\",IF(Table26[[#This Row],[Sim/Não]]=1,1,0),0)","v":0}]
[null,null,null,null,null,null,null,null,null,null,null,"Atrasado",null,null,null,0,0,{"$f":"IF(Table26[[#This Row],[Status Medida]]=\"Finalizado\",IF(Table26[[#This Row],[Sim/Não]]=1,1,0),0)","v":0}]
[null,null,null,null,null,null,null,null,null,null,null,"Atrasado",null,null,null,0,0,{"$f":"IF(Table26[[#This Row],[Status Medida]]=\"Finalizado\",IF(Table26[[#This Row],[Sim/Não]]=1,1,0),0)","v":0}]
[null,null,null,null,null,null,null,null,null,null,null,"Atrasado",null,null,null,0,0,{"$f":"IF(Table26[[#This Row],[Status Medida]]=\"Finalizado\",IF(Table26[[#This Row],[Sim/Não]]=1,1,0),0)","v":0}]
[null,null,null,null,null,null,null,null,null,null,null,"Atrasado",null,null,null,0,0,{"$f":"IF(Table26[[#This Row],[Status Medida]]=\"Finalizado\",IF(Table26[[#This Row],[Sim/Não]]=1,1,0),0)","v":0}]
[null,null,null,null,null,null,null,null,null,null,null,"Atrasado",null,null,null,0,0,{"$f":"IF(Table26[[#This Row],[Status Medida]]=\"Finalizado\",IF(Table26[[#This Row],[Sim/Não]]=1,1,0),0)","v":0}]
[null,null,null,null,null,null,null,null,null,null,null,"Atrasado",null,null,null,0,0,{"$f":"IF(Table26[[#This Row],[Status Medida]]=\"Finalizado\",IF(Table26[[#This Row],[Sim/Não]]=1,1,0),0)","v":0}]
[null,null,null,null,null,null,null,null,null,null,null,"Atrasado",null,null,null,0,0,{"$f":"IF(Table26[[#This Row],[Status Medida]]=\"Finalizado\",IF(Table26[[#This Row],[Sim/Não]]=1,1,0),0)","v":0}]
[null,null,null,null,null,null,null,null,null,null,null,"Atrasado",null,null,null,0,0,{"$f":"IF(Table26[[#This Row],[Status Medida]]=\"Finalizado\",IF(Table26[[#This Row],[Sim/Não]]=1,1,0),0)","v":0}]
[null,null,null,null,null,null,null,null,null,null,null,"Atrasado",null,null,null,0,0,{"$f":"IF(Table26[[#This Row],[Status Medida]]=\"Finalizado\",IF(Table26[[#This Row],[Sim/Não]]=1,1,0),0)","v":0}]
[null,null,null,null,null,null,null,null,null,null,null,"Atrasado",null,null,null,0,0,{"$f":"IF(Table26[[#This Row],[Status Medida]]=\"Finalizado\",IF(Table26[[#This Row],[Sim/Não]]=1,1,0),0)","v":0}]
[null,null,null,null,null,null,null,null,null,null,null,"Atrasado",null,null,null,0,0,{"$f":"IF(Table26[[#This Row],[Status Medida]]=\"Finalizado\",IF(Table26[[#This Row],[Sim/Não]]=1,1,0),0)","v":0}]
[null,null,null,null,null,null,null,null,null,null,null,"Atrasado",null,null,null,0,0,{"$f":"IF(Table26[[#This Row],[Status Medida]]=\"Finalizado\",IF(Table26[[#This Row],[Sim/Não]]=1,1,0),0)","v":0}]
[null,null,null,null,null,null,null,null,null,null,null,"Atrasado",null,null,null,0,0,{"$f":"IF(Table26[[#This Row],[Status Medida]]=\"Finalizado\",IF(Table26[[#This Row],[Sim/Não]]=1,1,0),0)","v":0}]
[null,null,null,null,null,null,null,null,null,null,null,"Atrasado",null,null,null,0,0,{"$f":"IF(Table26[[#This Row],[Status Medida]]=\"Finalizado\",IF(Table26[[#This Row],[Sim/Não]]=1,1,0),0)","v":0}]
[null,null,null,null,null,null,null,null,null,null,null,"Atrasado",null,null,null,0,0,{"$f":"IF(Table26[[#This Row],[Status Medida]]=\"Finalizado\",IF(Table26[[#This Row],[Sim/Não]]=1,1,0),0)","v":0}]
[null,null,null,null,null,null,null,null,null,null,null,{"$f":"IF(J327>K327,\"Datas inválidas\",IF(M327=\"Finalizado\",\"Concluído\",IF(J327>TODAY(),\"Não iniciado\",_xlfn.IFS(J327=TODAY(),\"Em andamento\",TODAY()>K327,\"Atrasado\",AND(TODAY()>J327,TODAY()<=K327),\"Em andamento\"))))","v":"Atrasado"},null,null,null,0,0,{"$f":"IF(Table26[[#This Row],[Status Medida]]=\"Finalizado\",IF(Table26[[#This Row],[Sim/Não]]=1,1,0),0)","v":0}]
[null,null,null,null,null,null,null,null,null,null,null,"Atrasado",null,null,null,{"$f":"IF(O328=\"Sim\",1,0)","v":0},{"$f":"IF(N328=E328,0,1)","v":0},{"$f":"IF(Table26[[#This Row],[Status Medida]]=\"Finalizado\",IF(Table26[[#This Row],[Sim/Não]]=1,1,0),0)","v":0}]
[null,null,null,null,null,null,null,null,null,null,null,"Atrasado",null,null,null,0,0,{"$f":"IF(Table26[[#This Row],[Status Medida]]=\"Finalizado\",IF(Table26[[#This Row],[Sim/Não]]=1,1,0),0)","v":0}]
[null,null,null,null,null,null,null,null,null,null,null,"Atrasado",null,null,null,0,0,{"$f":"IF(Table26[[#This Row],[Status Medida]]=\"Finalizado\",IF(Table26[[#This Row],[Sim/Não]]=1,1,0),0)","v":0}]
[null,null,null,null,null,null,null,null,null,null,null,"Atrasado",null,null,null,0,0,{"$f":"IF(Table26[[#This Row],[Status Medida]]=\"Finalizado\",IF(Table26[[#This Row],[Sim/Não]]=1,1,0),0)","v":0}]
[null,null,null,null,null,null,null,null,null,null,null,"Atrasado",null,null,null,0,0,{"$f":"IF(Table26[[#This Row],[Status Medida]]=\"Finalizado\",IF(Table26[[#This Row],[Sim/Não]]=1,1,0),0)","v":0}]
[null,null,null,null,null,null,null,null,null,null,null,"Atrasado",null,null,null,0,0,{"$f":"IF(Table26[[#This Row],[Status Medida]]=\"Finalizado\",IF(Table26[[#This Row],[Sim/Não]]=1,1,0),0)","v":0}]
[null,null,null,null,null,null,null,null,null,null,null,"Atrasado",null,null,null,0,0,{"$f":"IF(Table26[[#This Row],[Status Medida]]=\"Finalizado\",IF(Table26[[#This Row],[Sim/Não]]=1,1,0),0)","v":0}]
[null,null,null,null,null,null,null,null,null,null,null,"Atrasado",null,null,null,0,0,{"$f":"IF(Table26[[#This Row],[Status Medida]]=\"Finalizado\",IF(Table26[[#This Row],[Sim/Não]]=1,1,0),0)","v":0}]
[null,null,null,null,null,null,null,null,null,null,null,"Atrasado",null,null,null,0,0,{"$f":"IF(Table26[[#This Row],[Status Medida]]=\"Finalizado\",IF(Table26[[#This Row],[Sim/Não]]=1,1,0),0)","v":0}]
[null,null,null,null,null,null,null,null,null,null,null,"Atrasado",null,null,null,0,0,{"$f":"IF(Table26[[#This Row],[Status Medida]]=\"Finalizado\",IF(Table26[[#This Row],[Sim/Não]]=1,1,0),0)","v":0}]
[null,null,null,null,null,null,null,null,null,null,null,"Atrasado",null,null,null,0,0,{"$f":"IF(Table26[[#This Row],[Status Medida]]=\"Finalizado\",IF(Table26[[#This Row],[Sim/Não]]=1,1,0),0)","v":0}]
[null,null,null,null,null,null,null,null,null,null,null,"Atrasado",null,null,null,0,0,{"$f":"IF(Table26[[#This Row],[Status Medida]]=\"Finalizado\",IF(Table26[[#This Row],[Sim/Não]]=1,1,0),0)","v":0}]
[null,null,null,null,null,null,null,null,null,null,null,"Atrasado",null,null,null,0,0,{"$f":"IF(Table26[[#This Row],[Status Medida]]=\"Finalizado\",IF(Table26[[#This Row],[Sim/Não]]=1,1,0),0)","v":0}]
[null,null,null,null,null,null,null,null,null,null,null,"Atrasado",null,null,null,0,0,{"$f":"IF(Table26[[#This Row],[Status Medida]]=\"Finalizado\",IF(Table26[[#This Row],[Sim/Não]]=1,1,0),0)","v":0}]
[null,null,null,null,null,null,null,null,null,null,null,"Atrasado",null,null,null,0,0,{"$f":"IF(Table26[[#This Row],[Status Medida]]=\"Finalizado\",IF(Table26[[#This Row],[Sim/Não]]=1,1,0),0)","v":0}]
[null,null,null,null,null,null,null,null,null,null,null,"Atrasado",null,null,null,0,0,{"$f":"IF(Table26[[#This Row],[Status Medida]]=\"Finalizado\",IF(Table26[[#This Row],[Sim/Não]]=1,1,0),0)","v":0}]
[null,null,null,null,null,null,null,null,null,null,null,"Atrasado",null,null,null,0,0,{"$f":"IF(Table26[[#This Row],[Status Medida]]=\"Finalizado\",IF(Table26[[#This Row],[Sim/Não]]=1,1,0),0)","v":0}]
[null,null,null,null,null,null,null,null,null,null,null,"Atrasado",null,null,null,0,0,{"$f":"IF(Table26[[#This Row],[Status Medida]]=\"Finalizado\",IF(Table26[[#This Row],[Sim/Não]]=1,1,0),0)","v":0}]
[null,null,null,null,null,null,null,null,null,null,null,"Atrasado",null,null,null,0,0,{"$f":"IF(Table26[[#This Row],[Status Medida]]=\"Finalizado\",IF(Table26[[#This Row],[Sim/Não]]=1,1,0),0)","v":0}]
[null,null,null,null,null,null,null,null,null,null,null,"Atrasado",null,null,null,0,0,{"$f":"IF(Table26[[#This Row],[Status Medida]]=\"Finalizado\",IF(Table26[[#This Row],[Sim/Não]]=1,1,0),0)","v":0}]
[null,null,null,null,null,null,null,null,null,null,null,"Atrasado",null,null,null,0,0,{"$f":"IF(Table26[[#This Row],[Status Medida]]=\"Finalizado\",IF(Table26[[#This Row],[Sim/Não]]=1,1,0),0)","v":0}]
[null,null,null,null,null,null,null,null,null,null,null,"Atrasado",null,null,null,0,0,{"$f":"IF(Table26[[#This Row],[Status Medida]]=\"Finalizado\",IF(Table26[[#This Row],[Sim/Não]]=1,1,0),0)","v":0}]
[null,null,null,null,null,null,null,null,null,null,null,"Atrasado",null,null,null,0,0,{"$f":"IF(Table26[[#This Row],[Status Medida]]=\"Finalizado\",IF(Table26[[#This Row],[Sim/Não]]=1,1,0),0)","v":0}]
[null,null,null,null,null,null,null,null,null,null,null,"Atrasado",null,null,null,0,0,{"$f":"IF(Table26[[#This Row],[Status Medida]]=\"Finalizado\",IF(Table26[[#This Row],[Sim/Não]]=1,1,0),0)","v":0}]
[null,null,null,null,null,null,null,null,null,null,null,"Atrasado",null,null,null,0,0,{"$f":"IF(Table26[[#This Row],[Status Medida]]=\"Finalizado\",IF(Table26[[#This Row],[Sim/Não]]=1,1,0),0)","v":0}]
[null,null,null,null,null,null,null,null,null,null,null,"Atrasado",null,null,null,0,0,{"$f":"IF(Table26[[#This Row],[Status Medida]]=\"Finalizado\",IF(Table26[[#This Row],[Sim/Não]]=1,1,0),0)","v":0}]
[null,null,null,null,null,null,null,null,null,null,null,"Atrasado",null,null,null,0,0,{"$f":"IF(Table26[[#This Row],[Status Medida]]=\"Finalizado\",IF(Table26[[#This Row],[Sim/Não]]=1,1,0),0)","v":0}]
[null,null,null,null,null,null,null,null,null,null,null,"Atrasado",null,null,null,0,0,{"$f":"IF(Table26[[#This Row],[Status Medida]]=\"Finalizado\",IF(Table26[[#This Row],[Sim/Não]]=1,1,0),0)","v":0}]
[null,null,null,null,null,null,null,null,null,null,null,"Atrasado",null,null,null,0,0,{"$f":"IF(Table26[[#This Row],[Status Medida]]=\"Finalizado\",IF(Table26[[#This Row],[Sim/Não]]=1,1,0),0)","v":0}]
[null,null,null,null,null,null,null,null,null,null,null,"Atrasado",null,null,null,0,0,{"$f":"IF(Table26[[#This Row],[Status Medida]]=\"Finalizado\",IF(Table26[[#This Row],[Sim/Não]]=1,1,0),0)","v":0}]
[null,null,null,null,null,null,null,null,null,null,null,"Atrasado",null,null,null,0,0,{"$f":"IF(Table26[[#This Row],[Status Medida]]=\"Finalizado\",IF(Table26[[#This Row],[Sim/Não]]=1,1,0),0)","v":0}]
[null,null,null,null,null,null,null,null,null,null,null,"Atrasado",null,null,null,0,0,{"$f":"IF(Table26[[#This Row],[Status Medida]]=\"Finalizado\",IF(Table26[[#This Row],[Sim/Não]]=1,1,0),0)","v":0}]
[null,null,null,null,null,null,null,null,null,null,null,"Atrasado",null,null,null,0,0,{"$f":"IF(Table26[[#This Row],[Status Medida]]=\"Finalizado\",IF(Table26[[#This Row],[Sim/Não]]=1,1,0),0)","v":0}]
[null,null,null,null,null,null,null,null,null,null,null,"Atrasado",null,null,null,0,0,{"$f":"IF(Table26[[#This Row],[Status Medida]]=\"Finalizado\",IF(Table26[[#This Row],[Sim/Não]]=1,1,0),0)","v":0}]
[null,null,null,null,null,null,null,null,null,null,null,"Atrasado",null,null,null,0,0,{"$f":"IF(Table26[[#This Row],[Status Medida]]=\"Finalizado\",IF(Table26[[#This Row],[Sim/Não]]=1,1,0),0)","v":0}]
[null,null,null,null,null,null,null,null,null,null,null,"Atrasado",null,null,null,0,0,{"$f":"IF(Table26[[#This Row],[Status Medida]]=\"Finalizado\",IF(Table26[[#This Row],[Sim/Não]]=1,1,0),0)","v":0}]
[null,null,null,null,null,null,null,null,null,null,null,"Atrasado",null,null,null,0,0,{"$f":"IF(Table26[[#This Row],[Status Medida]]=\"Finalizado\",IF(Table26[[#This Row],[Sim/Não]]=1,1,0),0)","v":0}]
[null,null,null,null,null,null,null,null,null,null,null,"Atrasado",null,null,null,0,0,{"$f":"IF(Table26[[#This Row],[Status Medida]]=\"Finalizado\",IF(Table26[[#This Row],[Sim/Não]]=1,1,0),0)","v":0}]
[null,null,null,null,null,null,null,null,null,null,null,"Atrasado",null,null,null,0,0,{"$f":"IF(Table26[[#This Row],[Status Medida]]=\"Finalizado\",IF(Table26[[#This Row],[Sim/Não]]=1,1,0),0)","v":0}]
[null,null,null,null,null,null,null,null,null,null,null,"Atrasado",null,null,null,0,0,{"$f":"IF(Table26[[#This Row],[Status Medida]]=\"Finalizado\",IF(Table26[[#This Row],[Sim/Não]]=1,1,0),0)","v":0}]
[null,null,null,null,null,null,null,null,null,null,null,"Atrasado",null,null,null,0,0,{"$f":"IF(Table26[[#This Row],[Status Medida]]=\"Finalizado\",IF(Table26[[#This Row],[Sim/Não]]=1,1,0),0)","v":0}]
[null,null,null,null,null,null,null,null,null,null,null,"Atrasado",null,null,null,0,0,{"$f":"IF(Table26[[#This Row],[Status Medida]]=\"Finalizado\",IF(Table26[[#This Row],[Sim/Não]]=1,1,0),0)","v":0}]
[null,null,null,null,null,null,null,null,null,null,null,"Atrasado",null,null,null,0,0,{"$f":"IF(Table26[[#This Row],[Status Medida]]=\"Finalizado\",IF(Table26[[#This Row],[Sim/Não]]=1,1,0),0)","v":0}]
[null,null,null,null,null,null,null,null,null,null,null,{"$f":"IF(J371>K371,\"Datas inválidas\",IF(M371=\"Finalizado\",\"Concluído\",IF(J371>TODAY(),\"Não iniciado\",_xlfn.IFS(J371=TODAY(),\"Em andamento\",TODAY()>K371,\"Atrasado\",AND(TODAY()>J371,TODAY()<=K371),\"Em andamento\"))))","v":"Atrasado"},null,null,null,{"$f":"IF(O371=\"Sim\",1,0)","v":0},{"$f":"IF(N371=E371,0,1)","v":0},{"$f":"IF(Table26[[#This Row],[Status Medida]]=\"Finalizado\",IF(Table26[[#This Row],[Sim/Não]]=1,1,0),0)","v":0}]
[null,null,null,null,null,null,null,null,null,null,null,"Atrasado",null,null,null,0,0,{"$f":"IF(Table26[[#This Row],[Status Medida]]=\"Finalizado\",IF(Table26[[#This Row],[Sim/Não]]=1,1,0),0)","v":0}]
[null,null,null,null,null,null,null,null,null,null,null,"Atrasado",null,null,null,0,0,{"$f":"IF(Table26[[#This Row],[Status Medida]]=\"Finalizado\",IF(Table26[[#This Row],[Sim/Não]]=1,1,0),0)","v":0}]
[null,null,null,null,null,null,null,null,null,null,null,"Atrasado",null,null,null,0,0,{"$f":"IF(Table26[[#This Row],[Status Medida]]=\"Finalizado\",IF(Table26[[#This Row],[Sim/Não]]=1,1,0),0)","v":0}]
[null,null,null,null,null,null,null,null,null,null,null,"Atrasado",null,null,null,0,0,{"$f":"IF(Table26[[#This Row],[Status Medida]]=\"Finalizado\",IF(Table26[[#This Row],[Sim/Não]]=1,1,0),0)","v":0}]
[null,null,null,null,null,null,null,null,null,null,null,"Atrasado",null,null,null,0,0,{"$f":"IF(Table26[[#This Row],[Status Medida]]=\"Finalizado\",IF(Table26[[#This Row],[Sim/Não]]=1,1,0),0)","v":0}]
[null,null,null,null,null,null,null,null,null,null,null,"Atrasado",null,null,null,0,0,{"$f":"IF(Table26[[#This Row],[Status Medida]]=\"Finalizado\",IF(Table26[[#This Row],[Sim/Não]]=1,1,0),0)","v":0}]
[null,null,null,null,null,null,null,null,null,null,null,"Atrasado",null,null,null,0,0,{"$f":"IF(Table26[[#This Row],[Status Medida]]=\"Finalizado\",IF(Table26[[#This Row],[Sim/Não]]=1,1,0),0)","v":0}]
[null,null,null,null,null,null,null,null,null,null,null,"Atrasado",null,null,null,0,0,{"$f":"IF(Table26[[#This Row],[Status Medida]]=\"Finalizado\",IF(Table26[[#This Row],[Sim/Não]]=1,1,0),0)","v":0}]
[null,null,null,null,null,null,null,null,null,null,null,"Atrasado",null,null,null,0,0,{"$f":"IF(Table26[[#This Row],[Status Medida]]=\"Finalizado\",IF(Table26[[#This Row],[Sim/Não]]=1,1,0),0)","v":0}]
[null,null,null,null,null,null,null,null,null,null,null,"Atrasado",null,null,null,0,0,{"$f":"IF(Table26[[#This Row],[Status Medida]]=\"Finalizado\",IF(Table26[[#This Row],[Sim/Não]]=1,1,0),0)","v":0}]
[null,null,null,null,null,null,null,null,null,null,null,"Atrasado",null,null,null,0,0,{"$f":"IF(Table26[[#This Row],[Status Medida]]=\"Finalizado\",IF(Table26[[#This Row],[Sim/Não]]=1,1,0),0)","v":0}]
[null,null,null,null,null,null,null,null,null,null,null,"Atrasado",null,null,null,0,0,{"$f":"IF(Table26[[#This Row],[Status Medida]]=\"Finalizado\",IF(Table26[[#This Row],[Sim/Não]]=1,1,0),0)","v":0}]
[null,null,null,null,null,null,null,null,null,null,null,"Atrasado",null,null,null,0,0,{"$f":"IF(Table26[[#This Row],[Status Medida]]=\"Finalizado\",IF(Table26[[#This Row],[Sim/Não]]=1,1,0),0)","v":0}]
[null,null,null,null,null,null,null,null,null,null,null,"Atrasado",null,null,null,0,0,{"$f":"IF(Table26[[#This Row],[Status Medida]]=\"Finalizado\",IF(Table26[[#This Row],[Sim/Não]]=1,1,0),0)","v":0}]
[null,null,null,null,null,null,null,null,null,null,null,"Atrasado",null,null,null,0,0,{"$f":"IF(Table26[[#This Row],[Status Medida]]=\"Finalizado\",IF(Table26[[#This Row],[Sim/Não]]=1,1,0),0)","v":0}]
[null,null,null,null,null,null,null,null,null,null,null,"Atrasado",null,null,null,0,0,{"$f":"IF(Table26[[#This Row],[Status Medida]]=\"Finalizado\",IF(Table26[[#This Row],[Sim/Não]]=1,1,0),0)","v":0}]
[null,null,null,null,null,null,null,null,null,null,null,"Atrasado",null,null,null,0,0,{"$f":"IF(Table26[[#This Row],[Status Medida]]=\"Finalizado\",IF(Table26[[#This Row],[Sim/Não]]=1,1,0),0)","v":0}]
[null,null,null,null,null,null,null,null,null,null,null,{"$f":"IF(J389>K389,\"Datas inválidas\",IF(M389=\"Finalizado\",\"Concluído\",IF(J389>TODAY(),\"Não iniciado\",_xlfn.IFS(J389=TODAY(),\"Em andamento\",TODAY()>K389,\"Atrasado\",AND(TODAY()>J389,TODAY()<=K389),\"Em andamento\"))))","v":"Atrasado"},null,null,null,{"$f":"IF(O389=\"Sim\",1,0)","v":0},{"$f":"IF(N389=E389,0,1)","v":0},{"$f":"IF(Table26[[#This Row],[Status Medida]]=\"Finalizado\",IF(Table26[[#This Row],[Sim/Não]]=1,1,0),0)","v":0}]
[null,null,null,null,null,null,null,null,null,null,null,"Atrasado",null,null,null,0,0,{"$f":"IF(Table26[[#This Row],[Status Medida]]=\"Finalizado\",IF(Table26[[#This Row],[Sim/Não]]=1,1,0),0)","v":0}]
[null,null,null,null,null,null,null,null,null,null,null,"Atrasado",null,null,null,0,0,{"$f":"IF(Table26[[#This Row],[Status Medida]]=\"Finalizado\",IF(Table26[[#This Row],[Sim/Não]]=1,1,0),0)","v":0}]
[null,null,null,null,null,null,null,null,null,null,null,"Atrasado",null,null,null,0,0,{"$f":"IF(Table26[[#This Row],[Status Medida]]=\"Finalizado\",IF(Table26[[#This Row],[Sim/Não]]=1,1,0),0)","v":0}]
[null,null,null,null,null,null,null,null,null,null,null,"Atrasado",null,null,null,0,0,{"$f":"IF(Table26[[#This Row],[Status Medida]]=\"Finalizado\",IF(Table26[[#This Row],[Sim/Não]]=1,1,0),0)","v":0}]
[null,null,null,null,null,null,null,null,null,null,null,"Atrasado",null,null,null,0,0,{"$f":"IF(Table26[[#This Row],[Status Medida]]=\"Finalizado\",IF(Table26[[#This Row],[Sim/Não]]=1,1,0),0)","v":0}]
[null,null,null,null,null,null,null,null,null,null,null,"Atrasado",null,null,null,0,0,{"$f":"IF(Table26[[#This Row],[Status Medida]]=\"Finalizado\",IF(Table26[[#This Row],[Sim/Não]]=1,1,0),0)","v":0}]
[null,null,null,null,null,null,null,null,null,null,null,"Atrasado",null,null,null,0,0,{"$f":"IF(Table26[[#This Row],[Status Medida]]=\"Finalizado\",IF(Table26[[#This Row],[Sim/Não]]=1,1,0),0)","v":0}]
[null,null,null,null,null,null,null,null,null,null,null,"Atrasado",null,null,null,0,0,{"$f":"IF(Table26[[#This Row],[Status Medida]]=\"Finalizado\",IF(Table26[[#This Row],[Sim/Não]]=1,1,0),0)","v":0}]
[null,null,null,null,null,null,null,null,null,null,null,"Atrasado",null,null,null,0,0,{"$f":"IF(Table26[[#This Row],[Status Medida]]=\"Finalizado\",IF(Table26[[#This Row],[Sim/Não]]=1,1,0),0)","v":0}]
[null,null,null,null,null,null,null,null,null,null,null,"Atrasado",null,null,null,0,0,{"$f":"IF(Table26[[#This Row],[Status Medida]]=\"Finalizado\",IF(Table26[[#This Row],[Sim/Não]]=1,1,0),0)","v":0}]
[null,null,null,null,null,null,null,null,null,null,null,"Atrasado",null,null,null,0,0,{"$f":"IF(Table26[[#This Row],[Status Medida]]=\"Finalizado\",IF(Table26[[#This Row],[Sim/Não]]=1,1,0),0)","v":0}]
[null,null,null,null,null,null,null,null,null,null,null,"Atrasado",null,null,null,0,0,{"$f":"IF(Table26[[#This Row],[Status Medida]]=\"Finalizado\",IF(Table26[[#This Row],[Sim/Não]]=1,1,0),0)","v":0}]
[null,null,null,null,null,null,null,null,null,null,null,"Atrasado",null,null,null,0,0,{"$f":"IF(Table26[[#This Row],[Status Medida]]=\"Finalizado\",IF(Table26[[#This Row],[Sim/Não]]=1,1,0),0)","v":0}]
[null,null,null,null,null,null,null,null,null,null,null,"Atrasado",null,null,null,0,0,{"$f":"IF(Table26[[#This Row],[Status Medida]]=\"Finalizado\",IF(Table26[[#This Row],[Sim/Não]]=1,1,0),0)","v":0}]
[null,null,null,null,null,null,null,null,null,null,null,"Atrasado",null,null,null,0,0,{"$f":"IF(Table26[[#This Row],[Status Medida]]=\"Finalizado\",IF(Table26[[#This Row],[Sim/Não]]=1,1,0),0)","v":0}]
[null,null,null,null,null,null,null,null,null,null,null,"Atrasado",null,null,null,0,0,{"$f":"IF(Table26[[#This Row],[Status Medida]]=\"Finalizado\",IF(Table26[[#This Row],[Sim/Não]]=1,1,0),0)","v":0}]
[null,null,null,null,null,null,null,null,null,null,null,"Atrasado",null,null,null,0,0,{"$f":"IF(Table26[[#This Row],[Status Medida]]=\"Finalizado\",IF(Table26[[#This Row],[Sim/Não]]=1,1,0),0)","v":0}]
[null,null,null,null,null,null,null,null,null,null,null,"Atrasado",null,null,null,0,0,{"$f":"IF(Table26[[#This Row],[Status Medida]]=\"Finalizado\",IF(Table26[[#This Row],[Sim/Não]]=1,1,0),0)","v":0}]
[null,null,null,null,null,null,null,null,null,null,null,"Atrasado",null,null,null,0,0,{"$f":"IF(Table26[[#This Row],[Status Medida]]=\"Finalizado\",IF(Table26[[#This Row],[Sim/Não]]=1,1,0),0)","v":0}]
[null,null,null,null,null,null,null,null,null,null,null,"Atrasado",null,null,null,0,0,{"$f":"IF(Table26[[#This Row],[Status Medida]]=\"Finalizado\",IF(Table26[[#This Row],[Sim/Não]]=1,1,0),0)","v":0}]
[null,null,null,null,null,null,null,null,null,null,null,"Atrasado",null,null,null,0,0,{"$f":"IF(Table26[[#This Row],[Status Medida]]=\"Finalizado\",IF(Table26[[#This Row],[Sim/Não]]=1,1,0),0)","v":0}]
[null,null,null,null,null,null,null,null,null,null,null,"Atrasado",null,null,null,0,0,{"$f":"IF(Table26[[#This Row],[Status Medida]]=\"Finalizado\",IF(Table26[[#This Row],[Sim/Não]]=1,1,0),0)","v":0}]
[null,null,null,null,null,null,null,null,null,null,null,"Atrasado",null,null,null,0,0,{"$f":"IF(Table26[[#This Row],[Status Medida]]=\"Finalizado\",IF(Table26[[#This Row],[Sim/Não]]=1,1,0),0)","v":0}]
[null,null,null,null,null,null,null,null,null,null,null,"Atrasado",null,null,null,0,0,{"$f":"IF(Table26[[#This Row],[Status Medida]]=\"Finalizado\",IF(Table26[[#This Row],[Sim/Não]]=1,1,0),0)","v":0}]
[null,null,null,null,null,null,null,null,null,null,null,"Atrasado",null,null,null,0,0,{"$f":"IF(Table26[[#This Row],[Status Medida]]=\"Finalizado\",IF(Table26[[#This Row],[Sim/Não]]=1,1,0),0)","v":0}]
[null,null,null,null,null,null,null,null,null,null,null,"Atrasado",null,null,null,0,0,{"$f":"IF(Table26[[#This Row],[Status Medida]]=\"Finalizado\",IF(Table26[[#This Row],[Sim/Não]]=1,1,0),0)","v":0}]
[null,null,null,null,null,null,null,null,null,null,null,"Atrasado",null,null,null,0,0,{"$f":"IF(Table26[[#This Row],[Status Medida]]=\"Finalizado\",IF(Table26[[#This Row],[Sim/Não]]=1,1,0),0)","v":0}]
[null,null,null,null,null,null,null,null,null,null,null,"Atrasado",null,null,null,0,0,{"$f":"IF(Table26[[#This Row],[Status Medida]]=\"Finalizado\",IF(Table26[[#This Row],[Sim/Não]]=1,1,0),0)","v":0}]
[null,null,null,null,null,null,null,null,null,null,null,"Atrasado",null,null,null,0,0,{"$f":"IF(Table26[[#This Row],[Status Medida]]=\"Finalizado\",IF(Table26[[#This Row],[Sim/Não]]=1,1,0),0)","v":0}]
[null,null,null,null,null,null,null,null,null,null,null,"Atrasado",null,null,null,0,0,{"$f":"IF(Table26[[#This Row],[Status Medida]]=\"Finalizado\",IF(Table26[[#This Row],[Sim/Não]]=1,1,0),0)","v":0}]
[null,null,null,null,null,null,null,null,null,null,null,"Atrasado",null,null,null,0,0,{"$f":"IF(Table26[[#This Row],[Status Medida]]=\"Finalizado\",IF(Table26[[#This Row],[Sim/Não]]=1,1,0),0)","v":0}]
[null,null,null,null,null,null,null,null,null,null,null,"Atrasado",null,null,null,0,0,{"$f":"IF(Table26[[#This Row],[Status Medida]]=\"Finalizado\",IF(Table26[[#This Row],[Sim/Não]]=1,1,0),0)","v":0}]
[null,null,null,null,null,null,null,null,null,null,null,"Atrasado",null,null,null,0,0,{"$f":"IF(Table26[[#This Row],[Status Medida]]=\"Finalizado\",IF(Table26[[#This Row],[Sim/Não]]=1,1,0),0)","v":0}]
[null,null,null,null,null,null,null,null,null,null,null,"Atrasado",null,null,null,0,0,{"$f":"IF(Table26[[#This Row],[Status Medida]]=\"Finalizado\",IF(Table26[[#This Row],[Sim/Não]]=1,1,0),0)","v":0}]
[null,null,null,null,null,null,null,null,null,null,null,"Atrasado",null,null,null,0,0,{"$f":"IF(Table26[[#This Row],[Status Medida]]=\"Finalizado\",IF(Table26[[#This Row],[Sim/Não]]=1,1,0),0)","v":0}]
[null,null,null,null,null,null,null,null,null,null,null,"Atrasado",null,null,null,0,0,{"$f":"IF(Table26[[#This Row],[Status Medida]]=\"Finalizado\",IF(Table26[[#This Row],[Sim/Não]]=1,1,0),0)","v":0}]
[null,null,null,null,null,null,null,null,null,null,null,"Atrasado",null,null,null,0,0,{"$f":"IF(Table26[[#This Row],[Status Medida]]=\"Finalizado\",IF(Table26[[#This Row],[Sim/Não]]=1,1,0),0)","v":0}]
[null,null,null,null,null,null,null,null,null,null,null,"Atrasado",null,null,null,0,0,{"$f":"IF(Table26[[#This Row],[Status Medida]]=\"Finalizado\",IF(Table26[[#This Row],[Sim/Não]]=1,1,0),0)","v":0}]
[null,null,null,null,null,null,null,null,null,null,null,"Atrasado",null,null,null,0,0,{"$f":"IF(Table26[[#This Row],[Status Medida]]=\"Finalizado\",IF(Table26[[#This Row],[Sim/Não]]=1,1,0),0)","v":0}]
[null,null,null,null,null,null,null,null,null,null,null,"Atrasado",null,null,null,0,0,{"$f":"IF(Table26[[#This Row],[Status Medida]]=\"Finalizado\",IF(Table26[[#This Row],[Sim/Não]]=1,1,0),0)","v":0}]
[null,null,null,null,null,null,null,null,null,null,null,"Atrasado",null,null,null,0,0,{"$f":"IF(Table26[[#This Row],[Status Medida]]=\"Finalizado\",IF(Table26[[#This Row],[Sim/Não]]=1,1,0),0)","v":0}]
[null,null,null,null,null,null,null,null,null,null,null,"Atrasado",null,null,null,0,0,{"$f":"IF(Table26[[#This Row],[Status Medida]]=\"Finalizado\",IF(Table26[[#This Row],[Sim/Não]]=1,1,0),0)","v":0}]
[null,null,null,null,null,null,null,null,null,null,null,"Atrasado",null,null,null,0,0,{"$f":"IF(Table26[[#This Row],[Status Medida]]=\"Finalizado\",IF(Table26[[#This Row],[Sim/Não]]=1,1,0),0)","v":0}]
[null,null,null,null,null,null,null,null,null,null,null,"Atrasado",null,null,null,0,0,{"$f":"IF(Table26[[#This Row],[Status Medida]]=\"Finalizado\",IF(Table26[[#This Row],[Sim/Não]]=1,1,0),0)","v":0}]
[null,null,null,null,null,null,null,null,null,null,null,"Atrasado",null,null,null,0,0,{"$f":"IF(Table26[[#This Row],[Status Medida]]=\"Finalizado\",IF(Table26[[#This Row],[Sim/Não]]=1,1,0),0)","v":0}]
[null,null,null,null,null,null,null,null,null,null,null,"Atrasado",null,null,null,0,0,{"$f":"IF(Table26[[#This Row],[Status Medida]]=\"Finalizado\",IF(Table26[[#This Row],[Sim/Não]]=1,1,0),0)","v":0}]
[null,null,null,null,null,null,null,null,null,null,null,"Atrasado",null,null,null,0,0,{"$f":"IF(Table26[[#This Row],[Status Medida]]=\"Finalizado\",IF(Table26[[#This Row],[Sim/Não]]=1,1,0),0)","v":0}]
[null,null,null,null,null,null,null,null,null,null,null,"Atrasado",null,null,null,0,0,{"$f":"IF(Table26[[#This Row],[Status Medida]]=\"Finalizado\",IF(Table26[[#This Row],[Sim/Não]]=1,1,0),0)","v":0}]
[null,null,null,null,null,null,null,null,null,null,null,"Atrasado",null,null,null,0,0,{"$f":"IF(Table26[[#This Row],[Status Medida]]=\"Finalizado\",IF(Table26[[#This Row],[Sim/Não]]=1,1,0),0)","v":0}]
[null,null,null,null,null,null,null,null,null,null,null,"Atrasado",null,null,null,0,0,{"$f":"IF(Table26[[#This Row],[Status Medida]]=\"Finalizado\",IF(Table26[[#This Row],[Sim/Não]]=1,1,0),0)","v":0}]
[null,null,null,null,null,null,null,null,null,null,null,"Atrasado",null,null,null,0,0,{"$f":"IF(Table26[[#This Row],[Status Medida]]=\"Finalizado\",IF(Table26[[#This Row],[Sim/Não]]=1,1,0),0)","v":0}]
[null,null,null,null,null,null,null,null,null,null,null,"Atrasado",null,null,null,0,0,{"$f":"IF(Table26[[#This Row],[Status Medida]]=\"Finalizado\",IF(Table26[[#This Row],[Sim/Não]]=1,1,0),0)","v":0}]
[null,null,null,null,null,null,null,null,null,null,null,"Atrasado",null,null,null,0,0,{"$f":"IF(Table26[[#This Row],[Status Medida]]=\"Finalizado\",IF(Table26[[#This Row],[Sim/Não]]=1,1,0),0)","v":0}]
[null,null,null,null,null,null,null,null,null,null,null,"Atrasado",null,null,null,0,0,{"$f":"IF(Table26[[#This Row],[Status Medida]]=\"Finalizado\",IF(Table26[[#This Row],[Sim/Não]]=1,1,0),0)","v":0}]
[null,null,null,null,null,null,null,null,null,null,null,"Atrasado",null,null,null,0,0,{"$f":"IF(Table26[[#This Row],[Status Medida]]=\"Finalizado\",IF(Table26[[#This Row],[Sim/Não]]=1,1,0),0)","v":0}]
[null,null,null,null,null,null,null,null,null,null,null,"Atrasado",null,null,null,0,0,{"$f":"IF(Table26[[#This Row],[Status Medida]]=\"Finalizado\",IF(Table26[[#This Row],[Sim/Não]]=1,1,0),0)","v":0}]
[null,null,null,null,null,null,null,null,null,null,null,"Atrasado",null,null,null,0,0,{"$f":"IF(Table26[[#This Row],[Status Medida]]=\"Finalizado\",IF(Table26[[#This Row],[Sim/Não]]=1,1,0),0)","v":0}]
[null,null,null,null,null,null,null,null,null,null,null,"Atrasado",null,null,null,0,0,{"$f":"IF(Table26[[#This Row],[Status Medida]]=\"Finalizado\",IF(Table26[[#This Row],[Sim/Não]]=1,1,0),0)","v":0}]
[null,null,null,null,null,null,null,null,null,null,null,"Atrasado",null,null,null,0,0,{"$f":"IF(Table26[[#This Row],[Status Medida]]=\"Finalizado\",IF(Table26[[#This Row],[Sim/Não]]=1,1,0),0)","v":0}]
[null,null,null,null,null,null,null,null,null,null,null,"Atrasado",null,null,null,0,0,{"$f":"IF(Table26[[#This Row],[Status Medida]]=\"Finalizado\",IF(Table26[[#This Row],[Sim/Não]]=1,1,0),0)","v":0}]
[null,null,null,null,null,null,null,null,null,null,null,"Atrasado",null,null,null,0,0,{"$f":"IF(Table26[[#This Row],[Status Medida]]=\"Finalizado\",IF(Table26[[#This Row],[Sim/Não]]=1,1,0),0)","v":0}]
[null,null,null,null,null,null,null,null,null,null,null,"Atrasado",null,null,null,0,0,{"$f":"IF(Table26[[#This Row],[Status Medida]]=\"Finalizado\",IF(Table26[[#This Row],[Sim/Não]]=1,1,0),0)","v":0}]
[null,null,null,null,null,null,null,null,null,null,null,"Atrasado",null,null,null,0,0,{"$f":"IF(Table26[[#This Row],[Status Medida]]=\"Finalizado\",IF(Table26[[#This Row],[Sim/Não]]=1,1,0),0)","v":0}]
[null,null,null,null,null,null,null,null,null,null,null,{"$f":"IF(J453>K453,\"Datas inválidas\",IF(M453=\"Finalizado\",\"Concluído\",IF(J453>TODAY(),\"Não iniciado\",_xlfn.IFS(J453=TODAY(),\"Em andamento\",TODAY()>K453,\"Atrasado\",AND(TODAY()>J453,TODAY()<=K453),\"Em andamento\"))))","v":"Atrasado"},null,null,null,{"$f":"IF(O453=\"Sim\",1,0)","v":0},{"$f":"IF(N453=E453,0,1)","v":0},{"$f":"IF(Table26[[#This Row],[Status Medida]]=\"Finalizado\",IF(Table26[[#This Row],[Sim/Não]]=1,1,0),0)","v":0}]
[null,null,null,null,null,null,null,null,null,null,null,"Atrasado",null,null,null,0,0,{"$f":"IF(Table26[[#This Row],[Status Medida]]=\"Finalizado\",IF(Table26[[#This Row],[Sim/Não]]=1,1,0),0)","v":0}]
[null,null,null,null,null,null,null,null,null,null,null,"Atrasado",null,null,null,0,0,{"$f":"IF(Table26[[#This Row],[Status Medida]]=\"Finalizado\",IF(Table26[[#This Row],[Sim/Não]]=1,1,0),0)","v":0}]
[null,null,null,null,null,null,null,null,null,null,null,"Atrasado",null,null,null,0,0,{"$f":"IF(Table26[[#This Row],[Status Medida]]=\"Finalizado\",IF(Table26[[#This Row],[Sim/Não]]=1,1,0),0)","v":0}]
[null,null,null,null,null,null,null,null,null,null,null,"Atrasado",null,null,null,0,0,{"$f":"IF(Table26[[#This Row],[Status Medida]]=\"Finalizado\",IF(Table26[[#This Row],[Sim/Não]]=1,1,0),0)","v":0}]
[null,null,null,null,null,null,null,null,null,null,null,"Atrasado",null,null,null,0,0,{"$f":"IF(Table26[[#This Row],[Status Medida]]=\"Finalizado\",IF(Table26[[#This Row],[Sim/Não]]=1,1,0),0)","v":0}]
[null,null,null,null,null,null,null,null,null,null,null,"Atrasado",null,null,null,0,0,{"$f":"IF(Table26[[#This Row],[Status Medida]]=\"Finalizado\",IF(Table26[[#This Row],[Sim/Não]]=1,1,0),0)","v":0}]
[null,null,null,null,null,null,null,null,null,null,null,"Atrasado",null,null,null,0,0,{"$f":"IF(Table26[[#This Row],[Status Medida]]=\"Finalizado\",IF(Table26[[#This Row],[Sim/Não]]=1,1,0),0)","v":0}]
[null,null,null,null,null,null,null,null,null,null,null,"Atrasado",null,null,null,0,0,{"$f":"IF(Table26[[#This Row],[Status Medida]]=\"Finalizado\",IF(Table26[[#This Row],[Sim/Não]]=1,1,0),0)","v":0}]
[null,null,null,null,null,null,null,null,null,null,null,"Atrasado",null,null,null,0,0,{"$f":"IF(Table26[[#This Row],[Status Medida]]=\"Finalizado\",IF(Table26[[#This Row],[Sim/Não]]=1,1,0),0)","v":0}]
[null,null,null,null,null,null,null,null,null,null,null,"Atrasado",null,null,null,0,0,{"$f":"IF(Table26[[#This Row],[Status Medida]]=\"Finalizado\",IF(Table26[[#This Row],[Sim/Não]]=1,1,0),0)","v":0}]
[null,null,null,null,null,null,null,null,null,null,null,"Atrasado",null,null,null,0,0,{"$f":"IF(Table26[[#This Row],[Status Medida]]=\"Finalizado\",IF(Table26[[#This Row],[Sim/Não]]=1,1,0),0)","v":0}]
[null,null,null,null,null,null,null,null,null,null,null,"Atrasado",null,null,null,0,0,{"$f":"IF(Table26[[#This Row],[Status Medida]]=\"Finalizado\",IF(Table26[[#This Row],[Sim/Não]]=1,1,0),0)","v":0}]
[null,null,null,null,null,null,null,null,null,null,null,"Atrasado",null,null,null,0,0,{"$f":"IF(Table26[[#This Row],[Status Medida]]=\"Finalizado\",IF(Table26[[#This Row],[Sim/Não]]=1,1,0),0)","v":0}]
[null,null,null,null,null,null,null,null,null,null,null,"Atrasado",null,null,null,0,0,{"$f":"IF(Table26[[#This Row],[Status Medida]]=\"Finalizado\",IF(Table26[[#This Row],[Sim/Não]]=1,1,0),0)","v":0}]
[null,null,null,null,null,null,null,null,null,null,null,"Atrasado",null,null,null,0,0,{"$f":"IF(Table26[[#This Row],[Status Medida]]=\"Finalizado\",IF(Table26[[#This Row],[Sim/Não]]=1,1,0),0)","v":0}]
[null,null,null,null,null,null,null,null,null,null,null,"Atrasado",null,null,null,0,0,{"$f":"IF(Table26[[#This Row],[Status Medida]]=\"Finalizado\",IF(Table26[[#This Row],[Sim/Não]]=1,1,0),0)","v":0}]
[null,null,null,null,null,null,null,null,null,null,null,"Atrasado",null,null,null,0,0,{"$f":"IF(Table26[[#This Row],[Status Medida]]=\"Finalizado\",IF(Table26[[#This Row],[Sim/Não]]=1,1,0),0)","v":0}]
[null,null,null,null,null,null,null,null,null,null,null,"Atrasado",null,null,null,0,0,{"$f":"IF(Table26[[#This Row],[Status Medida]]=\"Finalizado\",IF(Table26[[#This Row],[Sim/Não]]=1,1,0),0)","v":0}]
[null,null,null,null,null,null,null,null,null,null,null,"Atrasado",null,null,null,0,0,{"$f":"IF(Table26[[#This Row],[Status Medida]]=\"Finalizado\",IF(Table26[[#This Row],[Sim/Não]]=1,1,0),0)","v":0}]
[null,null,null,null,null,null,null,null,null,null,null,"Atrasado",null,null,null,0,0,{"$f":"IF(Table26[[#This Row],[Status Medida]]=\"Finalizado\",IF(Table26[[#This Row],[Sim/Não]]=1,1,0),0)","v":0}]
[null,null,null,null,null,null,null,null,null,null,null,"Atrasado",null,null,null,0,0,{"$f":"IF(Table26[[#This Row],[Status Medida]]=\"Finalizado\",IF(Table26[[#This Row],[Sim/Não]]=1,1,0),0)","v":0}]
[null,null,null,null,null,null,null,null,null,null,null,"Atrasado",null,null,null,0,0,{"$f":"IF(Table26[[#This Row],[Status Medida]]=\"Finalizado\",IF(Table26[[#This Row],[Sim/Não]]=1,1,0),0)","v":0}]
[null,null,null,null,null,null,null,null,null,null,null,"Atrasado",null,null,null,0,0,{"$f":"IF(Table26[[#This Row],[Status Medida]]=\"Finalizado\",IF(Table26[[#This Row],[Sim/Não]]=1,1,0),0)","v":0}]
[null,null,null,null,null,null,null,null,null,null,null,"Atrasado",null,null,null,0,0,{"$f":"IF(Table26[[#This Row],[Status Medida]]=\"Finalizado\",IF(Table26[[#This Row],[Sim/Não]]=1,1,0),0)","v":0}]
[null,null,null,null,null,null,null,null,null,null,null,"Atrasado",null,null,null,0,0,{"$f":"IF(Table26[[#This Row],[Status Medida]]=\"Finalizado\",IF(Table26[[#This Row],[Sim/Não]]=1,1,0),0)","v":0}]
[null,null,null,null,null,null,null,null,null,null,null,"Atrasado",null,null,null,0,0,{"$f":"IF(Table26[[#This Row],[Status Medida]]=\"Finalizado\",IF(Table26[[#This Row],[Sim/Não]]=1,1,0),0)","v":0}]
[null,null,null,null,null,null,null,null,null,null,null,"Atrasado",null,null,null,0,0,{"$f":"IF(Table26[[#This Row],[Status Medida]]=\"Finalizado\",IF(Table26[[#This Row],[Sim/Não]]=1,1,0),0)","v":0}]
[null,null,null,null,null,null,null,null,null,null,null,"Atrasado",null,null,null,0,0,{"$f":"IF(Table26[[#This Row],[Status Medida]]=\"Finalizado\",IF(Table26[[#This Row],[Sim/Não]]=1,1,0),0)","v":0}]
[null,null,null,null,null,null,null,null,null,null,null,"Atrasado",null,null,null,0,0,{"$f":"IF(Table26[[#This Row],[Status Medida]]=\"Finalizado\",IF(Table26[[#This Row],[Sim/Não]]=1,1,0),0)","v":0}]
[null,null,null,null,null,null,null,null,null,null,null,"Atrasado",null,null,null,0,0,{"$f":"IF(Table26[[#This Row],[Status Medida]]=\"Finalizado\",IF(Table26[[#This Row],[Sim/Não]]=1,1,0),0)","v":0}]
[null,null,null,null,null,null,null,null,null,null,null,"Atrasado",null,null,null,0,0,{"$f":"IF(Table26[[#This Row],[Status Medida]]=\"Finalizado\",IF(Table26[[#This Row],[Sim/Não]]=1,1,0),0)","v":0}]
[null,null,null,null,null,null,null,null,null,null,null,"Atrasado",null,null,null,0,0,{"$f":"IF(Table26[[#This Row],[Status Medida]]=\"Finalizado\",IF(Table26[[#This Row],[Sim/Não]]=1,1,0),0)","v":0}]
[null,null,null,null,null,null,null,null,null,null,null,"Atrasado",null,null,null,0,0,{"$f":"IF(Table26[[#This Row],[Status Medida]]=\"Finalizado\",IF(Table26[[#This Row],[Sim/Não]]=1,1,0),0)","v":0}]
[null,null,null,null,null,null,null,null,null,null,null,"Atrasado",null,null,null,0,0,{"$f":"IF(Table26[[#This Row],[Status Medida]]=\"Finalizado\",IF(Table26[[#This Row],[Sim/Não]]=1,1,0),0)","v":0}]
[null,null,null,null,null,null,null,null,null,null,null,"Atrasado",null,null,null,0,0,{"$f":"IF(Table26[[#This Row],[Status Medida]]=\"Finalizado\",IF(Table26[[#This Row],[Sim/Não]]=1,1,0),0)","v":0}]
[null,null,null,null,null,null,null,null,null,null,null,"Atrasado",null,null,null,0,0,{"$f":"IF(Table26[[#This Row],[Status Medida]]=\"Finalizado\",IF(Table26[[#This Row],[Sim/Não]]=1,1,0),0)","v":0}]
[null,null,null,null,null,null,null,null,null,null,null,"Atrasado",null,null,null,0,0,{"$f":"IF(Table26[[#This Row],[Status Medida]]=\"Finalizado\",IF(Table26[[#This Row],[Sim/Não]]=1,1,0),0)","v":0}]
[null,null,null,null,null,null,null,null,null,null,null,"Atrasado",null,null,null,0,0,{"$f":"IF(Table26[[#This Row],[Status Medida]]=\"Finalizado\",IF(Table26[[#This Row],[Sim/Não]]=1,1,0),0)","v":0}]
[null,null,null,null,null,null,null,null,null,null,null,"Atrasado",null,null,null,0,0,{"$f":"IF(Table26[[#This Row],[Status Medida]]=\"Finalizado\",IF(Table26[[#This Row],[Sim/Não]]=1,1,0),0)","v":0}]
[null,null,null,null,null,null,null,null,null,null,null,"Atrasado",null,null,null,0,0,{"$f":"IF(Table26[[#This Row],[Status Medida]]=\"Finalizado\",IF(Table26[[#This Row],[Sim/Não]]=1,1,0),0)","v":0}]
[null,null,null,null,null,null,null,null,null,null,null,"Atrasado",null,null,null,0,0,{"$f":"IF(Table26[[#This Row],[Status Medida]]=\"Finalizado\",IF(Table26[[#This Row],[Sim/Não]]=1,1,0),0)","v":0}]
[null,null,null,null,null,null,null,null,null,null,null,"Atrasado",null,null,null,0,0,{"$f":"IF(Table26[[#This Row],[Status Medida]]=\"Finalizado\",IF(Table26[[#This Row],[Sim/Não]]=1,1,0),0)","v":0}]
[null,null,null,null,null,null,null,null,null,null,null,"Atrasado",null,null,null,0,0,{"$f":"IF(Table26[[#This Row],[Status Medida]]=\"Finalizado\",IF(Table26[[#This Row],[Sim/Não]]=1,1,0),0)","v":0}]
[null,null,null,null,null,null,null,null,null,null,null,"Atrasado",null,null,null,0,0,{"$f":"IF(Table26[[#This Row],[Status Medida]]=\"Finalizado\",IF(Table26[[#This Row],[Sim/Não]]=1,1,0),0)","v":0}]
[null,null,null,null,null,null,null,null,null,null,null,"Atrasado",null,null,null,0,0,{"$f":"IF(Table26[[#This Row],[Status Medida]]=\"Finalizado\",IF(Table26[[#This Row],[Sim/Não]]=1,1,0),0)","v":0}]
[null,null,null,null,null,null,null,null,null,null,null,"Atrasado",null,null,null,0,0,{"$f":"IF(Table26[[#This Row],[Status Medida]]=\"Finalizado\",IF(Table26[[#This Row],[Sim/Não]]=1,1,0),0)","v":0}]
[null,null,null,null,null,null,null,null,null,null,null,"Atrasado",null,null,null,0,0,{"$f":"IF(Table26[[#This Row],[Status Medida]]=\"Finalizado\",IF(Table26[[#This Row],[Sim/Não]]=1,1,0),0)","v":0}]
[null,null,null,null,null,null,null,null,null,null,null,"Atrasado",null,null,null,0,0,{"$f":"IF(Table26[[#This Row],[Status Medida]]=\"Finalizado\",IF(Table26[[#This Row],[Sim/Não]]=1,1,0),0)","v":0}]
[null,null,null,null,null,null,null,null,null,null,null,"Atrasado",null,null,null,0,0,{"$f":"IF(Table26[[#This Row],[Status Medida]]=\"Finalizado\",IF(Table26[[#This Row],[Sim/Não]]=1,1,0),0)","v":0}]
[null,null,null,null,null,null,null,null,null,null,null,"Atrasado",null,null,null,0,0,{"$f":"IF(Table26[[#This Row],[Status Medida]]=\"Finalizado\",IF(Table26[[#This Row],[Sim/Não]]=1,1,0),0)","v":0}]
[null,null,null,null,null,null,null,null,null,null,null,"Atrasado",null,null,null,0,0,{"$f":"IF(Table26[[#This Row],[Status Medida]]=\"Finalizado\",IF(Table26[[#This Row],[Sim/Não]]=1,1,0),0)","v":0}]
[null,null,null,null,null,null,null,null,null,null,null,"Atrasado",null,null,null,0,0,{"$f":"IF(Table26[[#This Row],[Status Medida]]=\"Finalizado\",IF(Table26[[#This Row],[Sim/Não]]=1,1,0),0)","v":0}]
[null,null,null,null,null,null,null,null,null,null,null,"Atrasado",null,null,null,0,0,{"$f":"IF(Table26[[#This Row],[Status Medida]]=\"Finalizado\",IF(Table26[[#This Row],[Sim/Não]]=1,1,0),0)","v":0}]
[null,null,null,null,null,null,null,null,null,null,null,"Atrasado",null,null,null,0,0,{"$f":"IF(Table26[[#This Row],[Status Medida]]=\"Finalizado\",IF(Table26[[#This Row],[Sim/Não]]=1,1,0),0)","v":0}]
[null,null,null,null,null,null,null,null,null,null,null,"Atrasado",null,null,null,0,0,{"$f":"IF(Table26[[#This Row],[Status Medida]]=\"Finalizado\",IF(Table26[[#This Row],[Sim/Não]]=1,1,0),0)","v":0}]
[null,null,null,null,null,null,null,null,null,null,null,"Atrasado",null,null,null,0,0,{"$f":"IF(Table26[[#This Row],[Status Medida]]=\"Finalizado\",IF(Table26[[#This Row],[Sim/Não]]=1,1,0),0)","v":0}]
[null,null,null,null,null,null,null,null,null,null,null,"Atrasado",null,null,null,0,0,{"$f":"IF(Table26[[#This Row],[Status Medida]]=\"Finalizado\",IF(Table26[[#This Row],[Sim/Não]]=1,1,0),0)","v":0}]
[null,null,null,null,null,null,null,null,null,null,null,"Atrasado",null,null,null,0,0,{"$f":"IF(Table26[[#This Row],[Status Medida]]=\"Finalizado\",IF(Table26[[#This Row],[Sim/Não]]=1,1,0),0)","v":0}]
[null,null,null,null,null,null,null,null,null,null,null,"Atrasado",null,null,null,0,0,{"$f":"IF(Table26[[#This Row],[Status Medida]]=\"Finalizado\",IF(Table26[[#This Row],[Sim/Não]]=1,1,0),0)","v":0}]
[null,null,null,null,null,null,null,null,null,null,null,"Atrasado",null,null,null,0,0,{"$f":"IF(Table26[[#This Row],[Status Medida]]=\"Finalizado\",IF(Table26[[#This Row],[Sim/Não]]=1,1,0),0)","v":0}]
[null,null,null,null,null,null,null,null,null,null,null,"Atrasado",null,null,null,0,0,{"$f":"IF(Table26[[#This Row],[Status Medida]]=\"Finalizado\",IF(Table26[[#This Row],[Sim/Não]]=1,1,0),0)","v":0}]
[null,null,null,null,null,null,null,null,null,null,null,"Atrasado",null,null,null,0,0,{"$f":"IF(Table26[[#This Row],[Status Medida]]=\"Finalizado\",IF(Table26[[#This Row],[Sim/Não]]=1,1,0),0)","v":0}]
[null,null,null,null,null,null,null,null,null,null,null,"Atrasado",null,null,null,0,0,{"$f":"IF(Table26[[#This Row],[Status Medida]]=\"Finalizado\",IF(Table26[[#This Row],[Sim/Não]]=1,1,0),0)","v":0}]
[null,null,null,null,null,null,null,null,null,null,null,{"$f":"IF(J517>K517,\"Datas inválidas\",IF(M517=\"Finalizado\",\"Concluído\",IF(J517>TODAY(),\"Não iniciado\",_xlfn.IFS(J517=TODAY(),\"Em andamento\",TODAY()>K517,\"Atrasado\",AND(TODAY()>J517,TODAY()<=K517),\"Em andamento\"))))","v":"Atrasado"},null,null,null,{"$f":"IF(O517=\"Sim\",1,0)","v":0},{"$f":"IF(N517=E517,0,1)","v":0},{"$f":"IF(Table26[[#This Row],[Status Medida]]=\"Finalizado\",IF(Table26[[#This Row],[Sim/Não]]=1,1,0),0)","v":0}]
[null,null,null,null,null,null,null,null,null,null,null,"Atrasado",null,null,null,0,0,{"$f":"IF(Table26[[#This Row],[Status Medida]]=\"Finalizado\",IF(Table26[[#This Row],[Sim/Não]]=1,1,0),0)","v":0}]
[null,null,null,null,null,null,null,null,null,null,null,"Atrasado",null,null,null,0,0,{"$f":"IF(Table26[[#This Row],[Status Medida]]=\"Finalizado\",IF(Table26[[#This Row],[Sim/Não]]=1,1,0),0)","v":0}]
[null,null,null,null,null,null,null,null,null,null,null,"Atrasado",null,null,null,0,0,{"$f":"IF(Table26[[#This Row],[Status Medida]]=\"Finalizado\",IF(Table26[[#This Row],[Sim/Não]]=1,1,0),0)","v":0}]
[null,null,null,null,null,null,null,null,null,null,null,"Atrasado",null,null,null,0,0,{"$f":"IF(Table26[[#This Row],[Status Medida]]=\"Finalizado\",IF(Table26[[#This Row],[Sim/Não]]=1,1,0),0)","v":0}]
[null,null,null,null,null,null,null,null,null,null,null,"Atrasado",null,null,null,0,0,{"$f":"IF(Table26[[#This Row],[Status Medida]]=\"Finalizado\",IF(Table26[[#This Row],[Sim/Não]]=1,1,0),0)","v":0}]
[null,null,null,null,null,null,null,null,null,null,null,"Atrasado",null,null,null,0,0,{"$f":"IF(Table26[[#This Row],[Status Medida]]=\"Finalizado\",IF(Table26[[#This Row],[Sim/Não]]=1,1,0),0)","v":0}]
[null,null,null,null,null,null,null,null,null,null,null,"Atrasado",null,null,null,0,0,{"$f":"IF(Table26[[#This Row],[Status Medida]]=\"Finalizado\",IF(Table26[[#This Row],[Sim/Não]]=1,1,0),0)","v":0}]
[null,null,null,null,null,null,null,null,null,null,null,"Atrasado",null,null,null,0,0,{"$f":"IF(Table26[[#This Row],[Status Medida]]=\"Finalizado\",IF(Table26[[#This Row],[Sim/Não]]=1,1,0),0)","v":0}]
[null,null,null,null,null,null,null,null,null,null,null,"Atrasado",null,null,null,0,0,{"$f":"IF(Table26[[#This Row],[Status Medida]]=\"Finalizado\",IF(Table26[[#This Row],[Sim/Não]]=1,1,0),0)","v":0}]
[null,null,null,null,null,null,null,null,null,null,null,"Atrasado",null,null,null,0,0,{"$f":"IF(Table26[[#This Row],[Status Medida]]=\"Finalizado\",IF(Table26[[#This Row],[Sim/Não]]=1,1,0),0)","v":0}]
[null,null,null,null,null,null,null,null,null,null,null,"Atrasado",null,null,null,0,0,{"$f":"IF(Table26[[#This Row],[Status Medida]]=\"Finalizado\",IF(Table26[[#This Row],[Sim/Não]]=1,1,0),0)","v":0}]
[null,null,null,null,null,null,null,null,null,null,null,"Atrasado",null,null,null,0,0,{"$f":"IF(Table26[[#This Row],[Status Medida]]=\"Finalizado\",IF(Table26[[#This Row],[Sim/Não]]=1,1,0),0)","v":0}]
[null,null,null,null,null,null,null,null,null,null,null,"Atrasado",null,null,null,0,0,{"$f":"IF(Table26[[#This Row],[Status Medida]]=\"Finalizado\",IF(Table26[[#This Row],[Sim/Não]]=1,1,0),0)","v":0}]
[null,null,null,null,null,null,null,null,null,null,null,"Atrasado",null,null,null,0,0,{"$f":"IF(Table26[[#This Row],[Status Medida]]=\"Finalizado\",IF(Table26[[#This Row],[Sim/Não]]=1,1,0),0)","v":0}]
[null,null,null,null,null,null,null,null,null,null,null,"Atrasado",null,null,null,0,0,{"$f":"IF(Table26[[#This Row],[Status Medida]]=\"Finalizado\",IF(Table26[[#This Row],[Sim/Não]]=1,1,0),0)","v":0}]
[null,null,null,null,null,null,null,null,null,null,null,"Atrasado",null,null,null,0,0,{"$f":"IF(Table26[[#This Row],[Status Medida]]=\"Finalizado\",IF(Table26[[#This Row],[Sim/Não]]=1,1,0),0)","v":0}]
[null,null,null,null,null,null,null,null,null,null,null,"Atrasado",null,null,null,0,0,{"$f":"IF(Table26[[#This Row],[Status Medida]]=\"Finalizado\",IF(Table26[[#This Row],[Sim/Não]]=1,1,0),0)","v":0}]
[null,null,null,null,null,null,null,null,null,null,null,"Atrasado",null,null,null,0,0,{"$f":"IF(Table26[[#This Row],[Status Medida]]=\"Finalizado\",IF(Table26[[#This Row],[Sim/Não]]=1,1,0),0)","v":0}]
[null,null,null,null,null,null,null,null,null,null,null,"Atrasado",null,null,null,0,0,{"$f":"IF(Table26[[#This Row],[Status Medida]]=\"Finalizado\",IF(Table26[[#This Row],[Sim/Não]]=1,1,0),0)","v":0}]
[null,null,null,null,null,null,null,null,null,null,null,"Atrasado",null,null,null,0,0,{"$f":"IF(Table26[[#This Row],[Status Medida]]=\"Finalizado\",IF(Table26[[#This Row],[Sim/Não]]=1,1,0),0)","v":0}]
[null,null,null,null,null,null,null,null,null,null,null,"Atrasado",null,null,null,0,0,{"$f":"IF(Table26[[#This Row],[Status Medida]]=\"Finalizado\",IF(Table26[[#This Row],[Sim/Não]]=1,1,0),0)","v":0}]
[null,null,null,null,null,null,null,null,null,null,null,"Atrasado",null,null,null,0,0,{"$f":"IF(Table26[[#This Row],[Status Medida]]=\"Finalizado\",IF(Table26[[#This Row],[Sim/Não]]=1,1,0),0)","v":0}]
[null,null,null,null,null,null,null,null,null,null,null,"Atrasado",null,null,null,0,0,{"$f":"IF(Table26[[#This Row],[Status Medida]]=\"Finalizado\",IF(Table26[[#This Row],[Sim/Não]]=1,1,0),0)","v":0}]
[null,null,null,null,null,null,null,null,null,null,null,"Atrasado",null,null,null,0,0,{"$f":"IF(Table26[[#This Row],[Status Medida]]=\"Finalizado\",IF(Table26[[#This Row],[Sim/Não]]=1,1,0),0)","v":0}]
[null,null,null,null,null,null,null,null,null,null,null,"Atrasado",null,null,null,0,0,{"$f":"IF(Table26[[#This Row],[Status Medida]]=\"Finalizado\",IF(Table26[[#This Row],[Sim/Não]]=1,1,0),0)","v":0}]
[null,null,null,null,null,null,null,null,null,null,null,"Atrasado",null,null,null,0,0,{"$f":"IF(Table26[[#This Row],[Status Medida]]=\"Finalizado\",IF(Table26[[#This Row],[Sim/Não]]=1,1,0),0)","v":0}]
[null,null,null,null,null,null,null,null,null,null,null,"Atrasado",null,null,null,0,0,{"$f":"IF(Table26[[#This Row],[Status Medida]]=\"Finalizado\",IF(Table26[[#This Row],[Sim/Não]]=1,1,0),0)","v":0}]
[null,null,null,null,null,null,null,null,null,null,null,"Atrasado",null,null,null,0,0,{"$f":"IF(Table26[[#This Row],[Status Medida]]=\"Finalizado\",IF(Table26[[#This Row],[Sim/Não]]=1,1,0),0)","v":0}]
[null,null,null,null,null,null,null,null,null,null,null,"Atrasado",null,null,null,0,0,{"$f":"IF(Table26[[#This Row],[Status Medida]]=\"Finalizado\",IF(Table26[[#This Row],[Sim/Não]]=1,1,0),0)","v":0}]
[null,null,null,null,null,null,null,null,null,null,null,"Atrasado",null,null,null,0,0,{"$f":"IF(Table26[[#This Row],[Status Medida]]=\"Finalizado\",IF(Table26[[#This Row],[Sim/Não]]=1,1,0),0)","v":0}]
[null,null,null,null,null,null,null,null,null,null,null,"Atrasado",null,null,null,0,0,{"$f":"IF(Table26[[#This Row],[Status Medida]]=\"Finalizado\",IF(Table26[[#This Row],[Sim/Não]]=1,1,0),0)","v":0}]
[null,null,null,null,null,null,null,null,null,null,null,"Atrasado",null,null,null,0,0,{"$f":"IF(Table26[[#This Row],[Status Medida]]=\"Finalizado\",IF(Table26[[#This Row],[Sim/Não]]=1,1,0),0)","v":0}]
[null,null,null,null,null,null,null,null,null,null,null,"Atrasado",null,null,null,0,0,{"$f":"IF(Table26[[#This Row],[Status Medida]]=\"Finalizado\",IF(Table26[[#This Row],[Sim/Não]]=1,1,0),0)","v":0}]
[null,null,null,null,null,null,null,null,null,null,null,"Atrasado",null,null,null,0,0,{"$f":"IF(Table26[[#This Row],[Status Medida]]=\"Finalizado\",IF(Table26[[#This Row],[Sim/Não]]=1,1,0),0)","v":0}]
[null,null,null,null,null,null,null,null,null,null,null,"Atrasado",null,null,null,0,0,{"$f":"IF(Table26[[#This Row],[Status Medida]]=\"Finalizado\",IF(Table26[[#This Row],[Sim/Não]]=1,1,0),0)","v":0}]
[null,null,null,null,null,null,null,null,null,null,null,"Atrasado",null,null,null,0,0,{"$f":"IF(Table26[[#This Row],[Status Medida]]=\"Finalizado\",IF(Table26[[#This Row],[Sim/Não]]=1,1,0),0)","v":0}]
[null,null,null,null,null,null,null,null,null,null,null,"Atrasado",null,null,null,0,0,{"$f":"IF(Table26[[#This Row],[Status Medida]]=\"Finalizado\",IF(Table26[[#This Row],[Sim/Não]]=1,1,0),0)","v":0}]
[null,null,null,null,null,null,null,null,null,null,null,"Atrasado",null,null,null,0,0,{"$f":"IF(Table26[[#This Row],[Status Medida]]=\"Finalizado\",IF(Table26[[#This Row],[Sim/Não]]=1,1,0),0)","v":0}]
[null,null,null,null,null,null,null,null,null,null,null,"Atrasado",null,null,null,0,0,{"$f":"IF(Table26[[#This Row],[Status Medida]]=\"Finalizado\",IF(Table26[[#This Row],[Sim/Não]]=1,1,0),0)","v":0}]
[null,null,null,null,null,null,null,null,null,null,null,"Atrasado",null,null,null,0,0,{"$f":"IF(Table26[[#This Row],[Status Medida]]=\"Finalizado\",IF(Table26[[#This Row],[Sim/Não]]=1,1,0),0)","v":0}]
[null,null,null,null,null,null,null,null,null,null,null,"Atrasado",null,null,null,0,0,{"$f":"IF(Table26[[#This Row],[Status Medida]]=\"Finalizado\",IF(Table26[[#This Row],[Sim/Não]]=1,1,0),0)","v":0}]
[null,null,null,null,null,null,null,null,null,null,null,"Atrasado",null,null,null,0,0,{"$f":"IF(Table26[[#This Row],[Status Medida]]=\"Finalizado\",IF(Table26[[#This Row],[Sim/Não]]=1,1,0),0)","v":0}]
[null,null,null,null,null,null,null,null,null,null,null,"Atrasado",null,null,null,0,0,{"$f":"IF(Table26[[#This Row],[Status Medida]]=\"Finalizado\",IF(Table26[[#This Row],[Sim/Não]]=1,1,0),0)","v":0}]
[null,null,null,null,null,null,null,null,null,null,null,"Atrasado",null,null,null,0,0,{"$f":"IF(Table26[[#This Row],[Status Medida]]=\"Finalizado\",IF(Table26[[#This Row],[Sim/Não]]=1,1,0),0)","v":0}]
[null,null,null,null,null,null,null,null,null,null,null,"Atrasado",null,null,null,0,0,{"$f":"IF(Table26[[#This Row],[Status Medida]]=\"Finalizado\",IF(Table26[[#This Row],[Sim/Não]]=1,1,0),0)","v":0}]
[null,null,null,null,null,null,null,null,null,null,null,"Atrasado",null,null,null,0,0,{"$f":"IF(Table26[[#This Row],[Status Medida]]=\"Finalizado\",IF(Table26[[#This Row],[Sim/Não]]=1,1,0),0)","v":0}]
[null,null,null,null,null,null,null,null,null,null,null,"Atrasado",null,null,null,0,0,{"$f":"IF(Table26[[#This Row],[Status Medida]]=\"Finalizado\",IF(Table26[[#This Row],[Sim/Não]]=1,1,0),0)","v":0}]
[null,null,null,null,null,null,null,null,null,null,null,"Atrasado",null,null,null,0,0,{"$f":"IF(Table26[[#This Row],[Status Medida]]=\"Finalizado\",IF(Table26[[#This Row],[Sim/Não]]=1,1,0),0)","v":0}]
[null,null,null,null,null,null,null,null,null,null,null,"Atrasado",null,null,null,0,0,{"$f":"IF(Table26[[#This Row],[Status Medida]]=\"Finalizado\",IF(Table26[[#This Row],[Sim/Não]]=1,1,0),0)","v":0}]
[null,null,null,null,null,null,null,null,null,null,null,"Atrasado",null,null,null,0,0,{"$f":"IF(Table26[[#This Row],[Status Medida]]=\"Finalizado\",IF(Table26[[#This Row],[Sim/Não]]=1,1,0),0)","v":0}]
[null,null,null,null,null,null,null,null,null,null,null,"Atrasado",null,null,null,0,0,{"$f":"IF(Table26[[#This Row],[Status Medida]]=\"Finalizado\",IF(Table26[[#This Row],[Sim/Não]]=1,1,0),0)","v":0}]
[null,null,null,null,null,null,null,null,null,null,null,"Atrasado",null,null,null,0,0,{"$f":"IF(Table26[[#This Row],[Status Medida]]=\"Finalizado\",IF(Table26[[#This Row],[Sim/Não]]=1,1,0),0)","v":0}]
[null,null,null,null,null,null,null,null,null,null,null,"Atrasado",null,null,null,0,0,{"$f":"IF(Table26[[#This Row],[Status Medida]]=\"Finalizado\",IF(Table26[[#This Row],[Sim/Não]]=1,1,0),0)","v":0}]
[null,null,null,null,null,null,null,null,null,null,null,"Atrasado",null,null,null,0,0,{"$f":"IF(Table26[[#This Row],[Status Medida]]=\"Finalizado\",IF(Table26[[#This Row],[Sim/Não]]=1,1,0),0)","v":0}]
[null,null,null,null,null,null,null,null,null,null,null,"Atrasado",null,null,null,0,0,{"$f":"IF(Table26[[#This Row],[Status Medida]]=\"Finalizado\",IF(Table26[[#This Row],[Sim/Não]]=1,1,0),0)","v":0}]
[null,null,null,null,null,null,null,null,null,null,null,"Atrasado",null,null,null,0,0,{"$f":"IF(Table26[[#This Row],[Status Medida]]=\"Finalizado\",IF(Table26[[#This Row],[Sim/Não]]=1,1,0),0)","v":0}]
[null,null,null,null,null,null,null,null,null,null,null,"Atrasado",null,null,null,0,0,{"$f":"IF(Table26[[#This Row],[Status Medida]]=\"Finalizado\",IF(Table26[[#This Row],[Sim/Não]]=1,1,0),0)","v":0}]
[null,null,null,null,null,null,null,null,null,null,null,"Atrasado",null,null,null,0,0,{"$f":"IF(Table26[[#This Row],[Status Medida]]=\"Finalizado\",IF(Table26[[#This Row],[Sim/Não]]=1,1,0),0)","v":0}]
[null,null,null,null,null,null,null,null,null,null,null,"Atrasado",null,null,null,0,0,{"$f":"IF(Table26[[#This Row],[Status Medida]]=\"Finalizado\",IF(Table26[[#This Row],[Sim/Não]]=1,1,0),0)","v":0}]
[null,null,null,null,null,null,null,null,null,null,null,"Atrasado",null,null,null,0,0,{"$f":"IF(Table26[[#This Row],[Status Medida]]=\"Finalizado\",IF(Table26[[#This Row],[Sim/Não]]=1,1,0),0)","v":0}]
[null,null,null,null,null,null,null,null,null,null,null,"Atrasado",null,null,null,0,0,{"$f":"IF(Table26[[#This Row],[Status Medida]]=\"Finalizado\",IF(Table26[[#This Row],[Sim/Não]]=1,1,0),0)","v":0}]
[null,null,null,null,null,null,null,null,null,null,null,"Atrasado",null,null,null,0,0,{"$f":"IF(Table26[[#This Row],[Status Medida]]=\"Finalizado\",IF(Table26[[#This Row],[Sim/Não]]=1,1,0),0)","v":0}]
[null,null,null,null,null,null,null,null,null,null,null,"Atrasado",null,null,null,0,0,{"$f":"IF(Table26[[#This Row],[Status Medida]]=\"Finalizado\",IF(Table26[[#This Row],[Sim/Não]]=1,1,0),0)","v":0}]
[null,null,null,null,null,null,null,null,null,null,null,{"$f":"IF(J581>K581,\"Datas inválidas\",IF(M581=\"Finalizado\",\"Concluído\",IF(J581>TODAY(),\"Não iniciado\",_xlfn.IFS(J581=TODAY(),\"Em andamento\",TODAY()>K581,\"Atrasado\",AND(TODAY()>J581,TODAY()<=K581),\"Em andamento\"))))","v":"Atrasado"},null,null,null,{"$f":"IF(O581=\"Sim\",1,0)","v":0},{"$f":"IF(N581=E581,0,1)","v":0},{"$f":"IF(Table26[[#This Row],[Status Medida]]=\"Finalizado\",IF(Table26[[#This Row],[Sim/Não]]=1,1,0),0)","v":0}]
[null,null,null,null,null,null,null,null,null,null,null,"Atrasado",null,null,null,0,0,{"$f":"IF(Table26[[#This Row],[Status Medida]]=\"Finalizado\",IF(Table26[[#This Row],[Sim/Não]]=1,1,0),0)","v":0}]
[null,null,null,null,null,null,null,null,null,null,null,"Atrasado",null,null,null,0,0,{"$f":"IF(Table26[[#This Row],[Status Medida]]=\"Finalizado\",IF(Table26[[#This Row],[Sim/Não]]=1,1,0),0)","v":0}]
[null,null,null,null,null,null,null,null,null,null,null,"Atrasado",null,null,null,0,0,{"$f":"IF(Table26[[#This Row],[Status Medida]]=\"Finalizado\",IF(Table26[[#This Row],[Sim/Não]]=1,1,0),0)","v":0}]
[null,null,null,null,null,null,null,null,null,null,null,"Atrasado",null,null,null,0,0,{"$f":"IF(Table26[[#This Row],[Status Medida]]=\"Finalizado\",IF(Table26[[#This Row],[Sim/Não]]=1,1,0),0)","v":0}]
[null,null,null,null,null,null,null,null,null,null,null,"Atrasado",null,null,null,0,0,{"$f":"IF(Table26[[#This Row],[Status Medida]]=\"Finalizado\",IF(Table26[[#This Row],[Sim/Não]]=1,1,0),0)","v":0}]
[null,null,null,null,null,null,null,null,null,null,null,"Atrasado",null,null,null,0,0,{"$f":"IF(Table26[[#This Row],[Status Medida]]=\"Finalizado\",IF(Table26[[#This Row],[Sim/Não]]=1,1,0),0)","v":0}]
[null,null,null,null,null,null,null,null,null,null,null,"Atrasado",null,null,null,0,0,{"$f":"IF(Table26[[#This Row],[Status Medida]]=\"Finalizado\",IF(Table26[[#This Row],[Sim/Não]]=1,1,0),0)","v":0}]
[null,null,null,null,null,null,null,null,null,null,null,"Atrasado",null,null,null,0,0,{"$f":"IF(Table26[[#This Row],[Status Medida]]=\"Finalizado\",IF(Table26[[#This Row],[Sim/Não]]=1,1,0),0)","v":0}]
[null,null,null,null,null,null,null,null,null,null,null,"Atrasado",null,null,null,0,0,{"$f":"IF(Table26[[#This Row],[Status Medida]]=\"Finalizado\",IF(Table26[[#This Row],[Sim/Não]]=1,1,0),0)","v":0}]
[null,null,null,null,null,null,null,null,null,null,null,"Atrasado",null,null,null,0,0,{"$f":"IF(Table26[[#This Row],[Status Medida]]=\"Finalizado\",IF(Table26[[#This Row],[Sim/Não]]=1,1,0),0)","v":0}]
[null,null,null,null,null,null,null,null,null,null,null,"Atrasado",null,null,null,0,0,{"$f":"IF(Table26[[#This Row],[Status Medida]]=\"Finalizado\",IF(Table26[[#This Row],[Sim/Não]]=1,1,0),0)","v":0}]
[null,null,null,null,null,null,null,null,null,null,null,"Atrasado",null,null,null,0,0,{"$f":"IF(Table26[[#This Row],[Status Medida]]=\"Finalizado\",IF(Table26[[#This Row],[Sim/Não]]=1,1,0),0)","v":0}]
[null,null,null,null,null,null,null,null,null,null,null,"Atrasado",null,null,null,0,0,{"$f":"IF(Table26[[#This Row],[Status Medida]]=\"Finalizado\",IF(Table26[[#This Row],[Sim/Não]]=1,1,0),0)","v":0}]
[null,null,null,null,null,null,null,null,null,null,null,"Atrasado",null,null,null,0,0,{"$f":"IF(Table26[[#This Row],[Status Medida]]=\"Finalizado\",IF(Table26[[#This Row],[Sim/Não]]=1,1,0),0)","v":0}]
[null,null,null,null,null,null,null,null,null,null,null,"Atrasado",null,null,null,0,0,{"$f":"IF(Table26[[#This Row],[Status Medida]]=\"Finalizado\",IF(Table26[[#This Row],[Sim/Não]]=1,1,0),0)","v":0}]
[null,null,null,null,null,null,null,null,null,null,null,"Atrasado",null,null,null,0,0,{"$f":"IF(Table26[[#This Row],[Status Medida]]=\"Finalizado\",IF(Table26[[#This Row],[Sim/Não]]=1,1,0),0)","v":0}]
[null,null,null,null,null,null,null,null,null,null,null,"Atrasado",null,null,null,0,0,{"$f":"IF(Table26[[#This Row],[Status Medida]]=\"Finalizado\",IF(Table26[[#This Row],[Sim/Não]]=1,1,0),0)","v":0}]
[null,null,null,null,null,null,null,null,null,null,null,"Atrasado",null,null,null,0,0,{"$f":"IF(Table26[[#This Row],[Status Medida]]=\"Finalizado\",IF(Table26[[#This Row],[Sim/Não]]=1,1,0),0)","v":0}]
[null,null,null,null,null,null,null,null,null,null,null,"Atrasado",null,null,null,0,0,{"$f":"IF(Table26[[#This Row],[Status Medida]]=\"Finalizado\",IF(Table26[[#This Row],[Sim/Não]]=1,1,0),0)","v":0}]
[null,null,null,null,null,null,null,null,null,null,null,"Atrasado",null,null,null,0,0,{"$f":"IF(Table26[[#This Row],[Status Medida]]=\"Finalizado\",IF(Table26[[#This Row],[Sim/Não]]=1,1,0),0)","v":0}]
[null,null,null,null,null,null,null,null,null,null,null,"Atrasado",null,null,null,0,0,{"$f":"IF(Table26[[#This Row],[Status Medida]]=\"Finalizado\",IF(Table26[[#This Row],[Sim/Não]]=1,1,0),0)","v":0}]
[null,null,null,null,null,null,null,null,null,null,null,"Atrasado",null,null,null,0,0,{"$f":"IF(Table26[[#This Row],[Status Medida]]=\"Finalizado\",IF(Table26[[#This Row],[Sim/Não]]=1,1,0),0)","v":0}]
[null,null,null,null,null,null,null,null,null,null,null,"Atrasado",null,null,null,0,0,{"$f":"IF(Table26[[#This Row],[Status Medida]]=\"Finalizado\",IF(Table26[[#This Row],[Sim/Não]]=1,1,0),0)","v":0}]
[null,null,null,null,null,null,null,null,null,null,null,"Atrasado",null,null,null,0,0,{"$f":"IF(Table26[[#This Row],[Status Medida]]=\"Finalizado\",IF(Table26[[#This Row],[Sim/Não]]=1,1,0),0)","v":0}]
[null,null,null,null,null,null,null,null,null,null,null,"Atrasado",null,null,null,0,0,{"$f":"IF(Table26[[#This Row],[Status Medida]]=\"Finalizado\",IF(Table26[[#This Row],[Sim/Não]]=1,1,0),0)","v":0}]
[null,null,null,null,null,null,null,null,null,null,null,"Atrasado",null,null,null,0,0,{"$f":"IF(Table26[[#This Row],[Status Medida]]=\"Finalizado\",IF(Table26[[#This Row],[Sim/Não]]=1,1,0),0)","v":0}]
[null,null,null,null,null,null,null,null,null,null,null,"Atrasado",null,null,null,0,0,{"$f":"IF(Table26[[#This Row],[Status Medida]]=\"Finalizado\",IF(Table26[[#This Row],[Sim/Não]]=1,1,0),0)","v":0}]
[null,null,null,null,null,null,null,null,null,null,null,"Atrasado",null,null,null,0,0,{"$f":"IF(Table26[[#This Row],[Status Medida]]=\"Finalizado\",IF(Table26[[#This Row],[Sim/Não]]=1,1,0),0)","v":0}]
[null,null,null,null,null,null,null,null,null,null,null,"Atrasado",null,null,null,0,0,{"$f":"IF(Table26[[#This Row],[Status Medida]]=\"Finalizado\",IF(Table26[[#This Row],[Sim/Não]]=1,1,0),0)","v":0}]
[null,null,null,null,null,null,null,null,null,null,null,"Atrasado",null,null,null,0,0,{"$f":"IF(Table26[[#This Row],[Status Medida]]=\"Finalizado\",IF(Table26[[#This Row],[Sim/Não]]=1,1,0),0)","v":0}]
[null,null,null,null,null,null,null,null,null,null,null,"Atrasado",null,null,null,0,0,{"$f":"IF(Table26[[#This Row],[Status Medida]]=\"Finalizado\",IF(Table26[[#This Row],[Sim/Não]]=1,1,0),0)","v":0}]
[null,null,null,null,null,null,null,null,null,null,null,"Atrasado",null,null,null,0,0,{"$f":"IF(Table26[[#This Row],[Status Medida]]=\"Finalizado\",IF(Table26[[#This Row],[Sim/Não]]=1,1,0),0)","v":0}]
[null,null,null,null,null,null,null,null,null,null,null,"Atrasado",null,null,null,0,0,{"$f":"IF(Table26[[#This Row],[Status Medida]]=\"Finalizado\",IF(Table26[[#This Row],[Sim/Não]]=1,1,0),0)","v":0}]
[null,null,null,null,null,null,null,null,null,null,null,"Atrasado",null,null,null,0,0,{"$f":"IF(Table26[[#This Row],[Status Medida]]=\"Finalizado\",IF(Table26[[#This Row],[Sim/Não]]=1,1,0),0)","v":0}]
[null,null,null,null,null,null,null,null,null,null,null,"Atrasado",null,null,null,0,0,{"$f":"IF(Table26[[#This Row],[Status Medida]]=\"Finalizado\",IF(Table26[[#This Row],[Sim/Não]]=1,1,0),0)","v":0}]
[null,null,null,null,null,null,null,null,null,null,null,"Atrasado",null,null,null,0,0,{"$f":"IF(Table26[[#This Row],[Status Medida]]=\"Finalizado\",IF(Table26[[#This Row],[Sim/Não]]=1,1,0),0)","v":0}]
[null,null,null,null,null,null,null,null,null,null,null,"Atrasado",null,null,null,0,0,{"$f":"IF(Table26[[#This Row],[Status Medida]]=\"Finalizado\",IF(Table26[[#This Row],[Sim/Não]]=1,1,0),0)","v":0}]
[null,null,null,null,null,null,null,null,null,null,null,"Atrasado",null,null,null,0,0,{"$f":"IF(Table26[[#This Row],[Status Medida]]=\"Finalizado\",IF(Table26[[#This Row],[Sim/Não]]=1,1,0),0)","v":0}]
[null,null,null,null,null,null,null,null,null,null,null,"Atrasado",null,null,null,0,0,{"$f":"IF(Table26[[#This Row],[Status Medida]]=\"Finalizado\",IF(Table26[[#This Row],[Sim/Não]]=1,1,0),0)","v":0}]
[null,null,null,null,null,null,null,null,null,null,null,"Atrasado",null,null,null,0,0,{"$f":"IF(Table26[[#This Row],[Status Medida]]=\"Finalizado\",IF(Table26[[#This Row],[Sim/Não]]=1,1,0),0)","v":0}]
[null,null,null,null,null,null,null,null,null,null,null,"Atrasado",null,null,null,0,0,{"$f":"IF(Table26[[#This Row],[Status Medida]]=\"Finalizado\",IF(Table26[[#This Row],[Sim/Não]]=1,1,0),0)","v":0}]
[null,null,null,null,null,null,null,null,null,null,null,"Atrasado",null,null,null,0,0,{"$f":"IF(Table26[[#This Row],[Status Medida]]=\"Finalizado\",IF(Table26[[#This Row],[Sim/Não]]=1,1,0),0)","v":0}]
[null,null,null,null,null,null,null,null,null,null,null,"Atrasado",null,null,null,0,0,{"$f":"IF(Table26[[#This Row],[Status Medida]]=\"Finalizado\",IF(Table26[[#This Row],[Sim/Não]]=1,1,0),0)","v":0}]
[null,null,null,null,null,null,null,null,null,null,null,"Atrasado",null,null,null,0,0,{"$f":"IF(Table26[[#This Row],[Status Medida]]=\"Finalizado\",IF(Table26[[#This Row],[Sim/Não]]=1,1,0),0)","v":0}]
[null,null,null,null,null,null,null,null,null,null,null,"Atrasado",null,null,null,0,0,{"$f":"IF(Table26[[#This Row],[Status Medida]]=\"Finalizado\",IF(Table26[[#This Row],[Sim/Não]]=1,1,0),0)","v":0}]
[null,null,null,null,null,null,null,null,null,null,null,"Atrasado",null,null,null,0,0,{"$f":"IF(Table26[[#This Row],[Status Medida]]=\"Finalizado\",IF(Table26[[#This Row],[Sim/Não]]=1,1,0),0)","v":0}]
[null,null,null,null,null,null,null,null,null,null,null,"Atrasado",null,null,null,0,0,{"$f":"IF(Table26[[#This Row],[Status Medida]]=\"Finalizado\",IF(Table26[[#This Row],[Sim/Não]]=1,1,0),0)","v":0}]
[null,null,null,null,null,null,null,null,null,null,null,"Atrasado",null,null,null,0,0,{"$f":"IF(Table26[[#This Row],[Status Medida]]=\"Finalizado\",IF(Table26[[#This Row],[Sim/Não]]=1,1,0),0)","v":0}]
[null,null,null,null,null,null,null,null,null,null,null,"Atrasado",null,null,null,0,0,{"$f":"IF(Table26[[#This Row],[Status Medida]]=\"Finalizado\",IF(Table26[[#This Row],[Sim/Não]]=1,1,0),0)","v":0}]
[null,null,null,null,null,null,null,null,null,null,null,"Atrasado",null,null,null,0,0,{"$f":"IF(Table26[[#This Row],[Status Medida]]=\"Finalizado\",IF(Table26[[#This Row],[Sim/Não]]=1,1,0),0)","v":0}]
[null,null,null,null,null,null,null,null,null,null,null,"Atrasado",null,null,null,0,0,{"$f":"IF(Table26[[#This Row],[Status Medida]]=\"Finalizado\",IF(Table26[[#This Row],[Sim/Não]]=1,1,0),0)","v":0}]
[null,null,null,null,null,null,null,null,null,null,null,"Atrasado",null,null,null,0,0,{"$f":"IF(Table26[[#This Row],[Status Medida]]=\"Finalizado\",IF(Table26[[#This Row],[Sim/Não]]=1,1,0),0)","v":0}]
[null,null,null,null,null,null,null,null,null,null,null,"Atrasado",null,null,null,0,0,{"$f":"IF(Table26[[#This Row],[Status Medida]]=\"Finalizado\",IF(Table26[[#This Row],[Sim/Não]]=1,1,0),0)","v":0}]
[null,null,null,null,null,null,null,null,null,null,null,"Atrasado",null,null,null,0,0,{"$f":"IF(Table26[[#This Row],[Status Medida]]=\"Finalizado\",IF(Table26[[#This Row],[Sim/Não]]=1,1,0),0)","v":0}]
[null,null,null,null,null,null,null,null,null,null,null,"Atrasado",null,null,null,0,0,{"$f":"IF(Table26[[#This Row],[Status Medida]]=\"Finalizado\",IF(Table26[[#This Row],[Sim/Não]]=1,1,0),0)","v":0}]
[null,null,null,null,null,null,null,null,null,null,null,"Atrasado",null,null,null,0,0,{"$f":"IF(Table26[[#This Row],[Status Medida]]=\"Finalizado\",IF(Table26[[#This Row],[Sim/Não]]=1,1,0),0)","v":0}]
[null,null,null,null,null,null,null,null,null,null,null,"Atrasado",null,null,null,0,0,{"$f":"IF(Table26[[#This Row],[Status Medida]]=\"Finalizado\",IF(Table26[[#This Row],[Sim/Não]]=1,1,0),0)","v":0}]
[null,null,null,null,null,null,null,null,null,null,null,"Atrasado",null,null,null,0,0,{"$f":"IF(Table26[[#This Row],[Status Medida]]=\"Finalizado\",IF(Table26[[#This Row],[Sim/Não]]=1,1,0),0)","v":0}]
[null,null,null,null,null,null,null,null,null,null,null,"Atrasado",null,null,null,0,0,{"$f":"IF(Table26[[#This Row],[Status Medida]]=\"Finalizado\",IF(Table26[[#This Row],[Sim/Não]]=1,1,0),0)","v":0}]
[null,null,null,null,null,null,null,null,null,null,null,"Atrasado",null,null,null,0,0,{"$f":"IF(Table26[[#This Row],[Status Medida]]=\"Finalizado\",IF(Table26[[#This Row],[Sim/Não]]=1,1,0),0)","v":0}]
[null,null,null,null,null,null,null,null,null,null,null,"Atrasado",null,null,null,0,0,{"$f":"IF(Table26[[#This Row],[Status Medida]]=\"Finalizado\",IF(Table26[[#This Row],[Sim/Não]]=1,1,0),0)","v":0}]
[null,null,null,null,null,null,null,null,null,null,null,"Atrasado",null,null,null,0,0,{"$f":"IF(Table26[[#This Row],[Status Medida]]=\"Finalizado\",IF(Table26[[#This Row],[Sim/Não]]=1,1,0),0)","v":0}]
[null,null,null,null,null,null,null,null,null,null,null,"Atrasado",null,null,null,0,0,{"$f":"IF(Table26[[#This Row],[Status Medida]]=\"Finalizado\",IF(Table26[[#This Row],[Sim/Não]]=1,1,0),0)","v":0}]
[null,null,null,null,null,null,null,null,null,null,null,{"$f":"IF(J645>K645,\"Datas inválidas\",IF(M645=\"Finalizado\",\"Concluído\",IF(J645>TODAY(),\"Não iniciado\",_xlfn.IFS(J645=TODAY(),\"Em andamento\",TODAY()>K645,\"Atrasado\",AND(TODAY()>J645,TODAY()<=K645),\"Em andamento\"))))","v":"Atrasado"},null,null,null,{"$f":"IF(O645=\"Sim\",1,0)","v":0},{"$f":"IF(N645=E645,0,1)","v":0},{"$f":"IF(Table26[[#This Row],[Status Medida]]=\"Finalizado\",IF(Table26[[#This Row],[Sim/Não]]=1,1,0),0)","v":0}]
[null,null,null,null,null,null,null,null,null,null,null,"Atrasado",null,null,null,0,0,{"$f":"IF(Table26[[#This Row],[Status Medida]]=\"Finalizado\",IF(Table26[[#This Row],[Sim/Não]]=1,1,0),0)","v":0}]
[null,null,null,null,null,null,null,null,null,null,null,"Atrasado",null,null,null,0,0,{"$f":"IF(Table26[[#This Row],[Status Medida]]=\"Finalizado\",IF(Table26[[#This Row],[Sim/Não]]=1,1,0),0)","v":0}]
[null,null,null,null,null,null,null,null,null,null,null,"Atrasado",null,null,null,0,0,{"$f":"IF(Table26[[#This Row],[Status Medida]]=\"Finalizado\",IF(Table26[[#This Row],[Sim/Não]]=1,1,0),0)","v":0}]
[null,null,null,null,null,null,null,null,null,null,null,"Atrasado",null,null,null,0,0,{"$f":"IF(Table26[[#This Row],[Status Medida]]=\"Finalizado\",IF(Table26[[#This Row],[Sim/Não]]=1,1,0),0)","v":0}]
[null,null,null,null,null,null,null,null,null,null,null,"Atrasado",null,null,null,0,0,{"$f":"IF(Table26[[#This Row],[Status Medida]]=\"Finalizado\",IF(Table26[[#This Row],[Sim/Não]]=1,1,0),0)","v":0}]
[null,null,null,null,null,null,null,null,null,null,null,"Atrasado",null,null,null,0,0,{"$f":"IF(Table26[[#This Row],[Status Medida]]=\"Finalizado\",IF(Table26[[#This Row],[Sim/Não]]=1,1,0),0)","v":0}]
[null,null,null,null,null,null,null,null,null,null,null,"Atrasado",null,null,null,0,0,{"$f":"IF(Table26[[#This Row],[Status Medida]]=\"Finalizado\",IF(Table26[[#This Row],[Sim/Não]]=1,1,0),0)","v":0}]
[null,null,null,null,null,null,null,null,null,null,null,"Atrasado",null,null,null,0,0,{"$f":"IF(Table26[[#This Row],[Status Medida]]=\"Finalizado\",IF(Table26[[#This Row],[Sim/Não]]=1,1,0),0)","v":0}]
[null,null,null,null,null,null,null,null,null,null,null,"Atrasado",null,null,null,0,0,{"$f":"IF(Table26[[#This Row],[Status Medida]]=\"Finalizado\",IF(Table26[[#This Row],[Sim/Não]]=1,1,0),0)","v":0}]
[null,null,null,null,null,null,null,null,null,null,null,"Atrasado",null,null,null,0,0,{"$f":"IF(Table26[[#This Row],[Status Medida]]=\"Finalizado\",IF(Table26[[#This Row],[Sim/Não]]=1,1,0),0)","v":0}]
[null,null,null,null,null,null,null,null,null,null,null,"Atrasado",null,null,null,0,0,{"$f":"IF(Table26[[#This Row],[Status Medida]]=\"Finalizado\",IF(Table26[[#This Row],[Sim/Não]]=1,1,0),0)","v":0}]
[null,null,null,null,null,null,null,null,null,null,null,"Atrasado",null,null,null,0,0,{"$f":"IF(Table26[[#This Row],[Status Medida]]=\"Finalizado\",IF(Table26[[#This Row],[Sim/Não]]=1,1,0),0)","v":0}]
[null,null,null,null,null,null,null,null,null,null,null,"Atrasado",null,null,null,0,0,{"$f":"IF(Table26[[#This Row],[Status Medida]]=\"Finalizado\",IF(Table26[[#This Row],[Sim/Não]]=1,1,0),0)","v":0}]
[null,null,null,null,null,null,null,null,null,null,null,"Atrasado",null,null,null,0,0,{"$f":"IF(Table26[[#This Row],[Status Medida]]=\"Finalizado\",IF(Table26[[#This Row],[Sim/Não]]=1,1,0),0)","v":0}]
[null,null,null,null,null,null,null,null,null,null,null,"Atrasado",null,null,null,0,0,{"$f":"IF(Table26[[#This Row],[Status Medida]]=\"Finalizado\",IF(Table26[[#This Row],[Sim/Não]]=1,1,0),0)","v":0}]
[null,null,null,null,null,null,null,null,null,null,null,"Atrasado",null,null,null,0,0,{"$f":"IF(Table26[[#This Row],[Status Medida]]=\"Finalizado\",IF(Table26[[#This Row],[Sim/Não]]=1,1,0),0)","v":0}]
[null,null,null,null,null,null,null,null,null,null,null,"Atrasado",null,null,null,0,0,{"$f":"IF(Table26[[#This Row],[Status Medida]]=\"Finalizado\",IF(Table26[[#This Row],[Sim/Não]]=1,1,0),0)","v":0}]
[null,null,null,null,null,null,null,null,null,null,null,"Atrasado",null,null,null,0,0,{"$f":"IF(Table26[[#This Row],[Status Medida]]=\"Finalizado\",IF(Table26[[#This Row],[Sim/Não]]=1,1,0),0)","v":0}]
[null,null,null,null,null,null,null,null,null,null,null,"Atrasado",null,null,null,0,0,{"$f":"IF(Table26[[#This Row],[Status Medida]]=\"Finalizado\",IF(Table26[[#This Row],[Sim/Não]]=1,1,0),0)","v":0}]
[null,null,null,null,null,null,null,null,null,null,null,"Atrasado",null,null,null,0,0,{"$f":"IF(Table26[[#This Row],[Status Medida]]=\"Finalizado\",IF(Table26[[#This Row],[Sim/Não]]=1,1,0),0)","v":0}]
[null,null,null,null,null,null,null,null,null,null,null,"Atrasado",null,null,null,0,0,{"$f":"IF(Table26[[#This Row],[Status Medida]]=\"Finalizado\",IF(Table26[[#This Row],[Sim/Não]]=1,1,0),0)","v":0}]
[null,null,null,null,null,null,null,null,null,null,null,"Atrasado",null,null,null,0,0,{"$f":"IF(Table26[[#This Row],[Status Medida]]=\"Finalizado\",IF(Table26[[#This Row],[Sim/Não]]=1,1,0),0)","v":0}]
[null,null,null,null,null,null,null,null,null,null,null,"Atrasado",null,null,null,0,0,{"$f":"IF(Table26[[#This Row],[Status Medida]]=\"Finalizado\",IF(Table26[[#This Row],[Sim/Não]]=1,1,0),0)","v":0}]
[null,null,null,null,null,null,null,null,null,null,null,"Atrasado",null,null,null,0,0,{"$f":"IF(Table26[[#This Row],[Status Medida]]=\"Finalizado\",IF(Table26[[#This Row],[Sim/Não]]=1,1,0),0)","v":0}]
[null,null,null,null,null,null,null,null,null,null,null,"Atrasado",null,null,null,0,0,{"$f":"IF(Table26[[#This Row],[Status Medida]]=\"Finalizado\",IF(Table26[[#This Row],[Sim/Não]]=1,1,0),0)","v":0}]
[null,null,null,null,null,null,null,null,null,null,null,"Atrasado",null,null,null,0,0,{"$f":"IF(Table26[[#This Row],[Status Medida]]=\"Finalizado\",IF(Table26[[#This Row],[Sim/Não]]=1,1,0),0)","v":0}]
[null,null,null,null,null,null,null,null,null,null,null,"Atrasado",null,null,null,0,0,{"$f":"IF(Table26[[#This Row],[Status Medida]]=\"Finalizado\",IF(Table26[[#This Row],[Sim/Não]]=1,1,0),0)","v":0}]
[null,null,null,null,null,null,null,null,null,null,null,"Atrasado",null,null,null,0,0,{"$f":"IF(Table26[[#This Row],[Status Medida]]=\"Finalizado\",IF(Table26[[#This Row],[Sim/Não]]=1,1,0),0)","v":0}]
[null,null,null,null,null,null,null,null,null,null,null,"Atrasado",null,null,null,0,0,{"$f":"IF(Table26[[#This Row],[Status Medida]]=\"Finalizado\",IF(Table26[[#This Row],[Sim/Não]]=1,1,0),0)","v":0}]
[null,null,null,null,null,null,null,null,null,null,null,"Atrasado",null,null,null,0,0,{"$f":"IF(Table26[[#This Row],[Status Medida]]=\"Finalizado\",IF(Table26[[#This Row],[Sim/Não]]=1,1,0),0)","v":0}]
[null,null,null,null,null,null,null,null,null,null,null,"Atrasado",null,null,null,0,0,{"$f":"IF(Table26[[#This Row],[Status Medida]]=\"Finalizado\",IF(Table26[[#This Row],[Sim/Não]]=1,1,0),0)","v":0}]
[null,null,null,null,null,null,null,null,null,null,null,"Atrasado",null,null,null,0,0,{"$f":"IF(Table26[[#This Row],[Status Medida]]=\"Finalizado\",IF(Table26[[#This Row],[Sim/Não]]=1,1,0),0)","v":0}]
[null,null,null,null,null,null,null,null,null,null,null,"Atrasado",null,null,null,0,0,{"$f":"IF(Table26[[#This Row],[Status Medida]]=\"Finalizado\",IF(Table26[[#This Row],[Sim/Não]]=1,1,0),0)","v":0}]
[null,null,null,null,null,null,null,null,null,null,null,"Atrasado",null,null,null,0,0,{"$f":"IF(Table26[[#This Row],[Status Medida]]=\"Finalizado\",IF(Table26[[#This Row],[Sim/Não]]=1,1,0),0)","v":0}]
[null,null,null,null,null,null,null,null,null,null,null,"Atrasado",null,null,null,0,0,{"$f":"IF(Table26[[#This Row],[Status Medida]]=\"Finalizado\",IF(Table26[[#This Row],[Sim/Não]]=1,1,0),0)","v":0}]
[null,null,null,null,null,null,null,null,null,null,null,"Atrasado",null,null,null,0,0,{"$f":"IF(Table26[[#This Row],[Status Medida]]=\"Finalizado\",IF(Table26[[#This Row],[Sim/Não]]=1,1,0),0)","v":0}]
[null,null,null,null,null,null,null,null,null,null,null,"Atrasado",null,null,null,0,0,{"$f":"IF(Table26[[#This Row],[Status Medida]]=\"Finalizado\",IF(Table26[[#This Row],[Sim/Não]]=1,1,0),0)","v":0}]
[null,null,null,null,null,null,null,null,null,null,null,"Atrasado",null,null,null,0,0,{"$f":"IF(Table26[[#This Row],[Status Medida]]=\"Finalizado\",IF(Table26[[#This Row],[Sim/Não]]=1,1,0),0)","v":0}]
[null,null,null,null,null,null,null,null,null,null,null,"Atrasado",null,null,null,0,0,{"$f":"IF(Table26[[#This Row],[Status Medida]]=\"Finalizado\",IF(Table26[[#This Row],[Sim/Não]]=1,1,0),0)","v":0}]
[null,null,null,null,null,null,null,null,null,null,null,"Atrasado",null,null,null,0,0,{"$f":"IF(Table26[[#This Row],[Status Medida]]=\"Finalizado\",IF(Table26[[#This Row],[Sim/Não]]=1,1,0),0)","v":0}]
[null,null,null,null,null,null,null,null,null,null,null,"Atrasado",null,null,null,0,0,{"$f":"IF(Table26[[#This Row],[Status Medida]]=\"Finalizado\",IF(Table26[[#This Row],[Sim/Não]]=1,1,0),0)","v":0}]
[null,null,null,null,null,null,null,null,null,null,null,"Atrasado",null,null,null,0,0,{"$f":"IF(Table26[[#This Row],[Status Medida]]=\"Finalizado\",IF(Table26[[#This Row],[Sim/Não]]=1,1,0),0)","v":0}]
[null,null,null,null,null,null,null,null,null,null,null,"Atrasado",null,null,null,0,0,{"$f":"IF(Table26[[#This Row],[Status Medida]]=\"Finalizado\",IF(Table26[[#This Row],[Sim/Não]]=1,1,0),0)","v":0}]
[null,null,null,null,null,null,null,null,null,null,null,{"$f":"IF(J689>K689,\"Datas inválidas\",IF(M689=\"Finalizado\",\"Concluído\",IF(J689>TODAY(),\"Não iniciado\",_xlfn.IFS(J689=TODAY(),\"Em andamento\",TODAY()>K689,\"Atrasado\",AND(TODAY()>J689,TODAY()<=K689),\"Em andamento\"))))","v":"Atrasado"},null,null,null,{"$f":"IF(O689=\"Sim\",1,0)","v":0},{"$f":"IF(N689=E689,0,1)","v":0},{"$f":"IF(Table26[[#This Row],[Status Medida]]=\"Finalizado\",IF(Table26[[#This Row],[Sim/Não]]=1,1,0),0)","v":0}]
[null,null,null,null,null,null,null,null,null,null,null,"Atrasado",null,null,null,0,0,{"$f":"IF(Table26[[#This Row],[Status Medida]]=\"Finalizado\",IF(Table26[[#This Row],[Sim/Não]]=1,1,0),0)","v":0}]
[null,null,null,null,null,null,null,null,null,null,null,"Atrasado",null,null,null,0,0,{"$f":"IF(Table26[[#This Row],[Status Medida]]=\"Finalizado\",IF(Table26[[#This Row],[Sim/Não]]=1,1,0),0)","v":0}]
[null,null,null,null,null,null,null,null,null,null,null,"Atrasado",null,null,null,0,0,{"$f":"IF(Table26[[#This Row],[Status Medida]]=\"Finalizado\",IF(Table26[[#This Row],[Sim/Não]]=1,1,0),0)","v":0}]
[null,null,null,null,null,null,null,null,null,null,null,"Atrasado",null,null,null,0,0,{"$f":"IF(Table26[[#This Row],[Status Medida]]=\"Finalizado\",IF(Table26[[#This Row],[Sim/Não]]=1,1,0),0)","v":0}]
[null,null,null,null,null,null,null,null,null,null,null,"Atrasado",null,null,null,0,0,{"$f":"IF(Table26[[#This Row],[Status Medida]]=\"Finalizado\",IF(Table26[[#This Row],[Sim/Não]]=1,1,0),0)","v":0}]
[null,null,null,null,null,null,null,null,null,null,null,"Atrasado",null,null,null,0,0,{"$f":"IF(Table26[[#This Row],[Status Medida]]=\"Finalizado\",IF(Table26[[#This Row],[Sim/Não]]=1,1,0),0)","v":0}]
[null,null,null,null,null,null,null,null,null,null,null,"Atrasado",null,null,null,0,0,{"$f":"IF(Table26[[#This Row],[Status Medida]]=\"Finalizado\",IF(Table26[[#This Row],[Sim/Não]]=1,1,0),0)","v":0}]
[null,null,null,null,null,null,null,null,null,null,null,"Atrasado",null,null,null,0,0,{"$f":"IF(Table26[[#This Row],[Status Medida]]=\"Finalizado\",IF(Table26[[#This Row],[Sim/Não]]=1,1,0),0)","v":0}]
[null,null,null,null,null,null,null,null,null,null,null,"Atrasado",null,null,null,0,0,{"$f":"IF(Table26[[#This Row],[Status Medida]]=\"Finalizado\",IF(Table26[[#This Row],[Sim/Não]]=1,1,0),0)","v":0}]
[null,null,null,null,null,null,null,null,null,null,null,"Atrasado",null,null,null,0,0,{"$f":"IF(Table26[[#This Row],[Status Medida]]=\"Finalizado\",IF(Table26[[#This Row],[Sim/Não]]=1,1,0),0)","v":0}]
[null,null,null,null,null,null,null,null,null,null,null,"Atrasado",null,null,null,0,0,{"$f":"IF(Table26[[#This Row],[Status Medida]]=\"Finalizado\",IF(Table26[[#This Row],[Sim/Não]]=1,1,0),0)","v":0}]
[null,null,null,null,null,null,null,null,null,null,null,"Atrasado",null,null,null,0,0,{"$f":"IF(Table26[[#This Row],[Status Medida]]=\"Finalizado\",IF(Table26[[#This Row],[Sim/Não]]=1,1,0),0)","v":0}]
[null,null,null,null,null,null,null,null,null,null,null,"Atrasado",null,null,null,0,0,{"$f":"IF(Table26[[#This Row],[Status Medida]]=\"Finalizado\",IF(Table26[[#This Row],[Sim/Não]]=1,1,0),0)","v":0}]
[null,null,null,null,null,null,null,null,null,null,null,"Atrasado",null,null,null,0,0,{"$f":"IF(Table26[[#This Row],[Status Medida]]=\"Finalizado\",IF(Table26[[#This Row],[Sim/Não]]=1,1,0),0)","v":0}]
[null,null,null,null,null,null,null,null,null,null,null,"Atrasado",null,null,null,0,0,{"$f":"IF(Table26[[#This Row],[Status Medida]]=\"Finalizado\",IF(Table26[[#This Row],[Sim/Não]]=1,1,0),0)","v":0}]
[null,null,null,null,null,null,null,null,null,null,null,"Atrasado",null,null,null,0,0,{"$f":"IF(Table26[[#This Row],[Status Medida]]=\"Finalizado\",IF(Table26[[#This Row],[Sim/Não]]=1,1,0),0)","v":0}]
[null,null,null,null,null,null,null,null,null,null,null,{"$f":"IF(J706>K706,\"Datas inválidas\",IF(M706=\"Finalizado\",\"Concluído\",IF(J706>TODAY(),\"Não iniciado\",_xlfn.IFS(J706=TODAY(),\"Em andamento\",TODAY()>K706,\"Atrasado\",AND(TODAY()>J706,TODAY()<=K706),\"Em andamento\"))))","v":"Atrasado"},null,null,null,{"$f":"IF(O706=\"Sim\",1,0)","v":0},{"$f":"IF(N706=E706,0,1)","v":0},{"$f":"IF(Table26[[#This Row],[Status Medida]]=\"Finalizado\",IF(Table26[[#This Row],[Sim/Não]]=1,1,0),0)","v":0}]
[null,null,null,null,null,null,null,null,null,null,null,"Atrasado",null,null,null,0,0,{"$f":"IF(Table26[[#This Row],[Status Medida]]=\"Finalizado\",IF(Table26[[#This Row],[Sim/Não]]=1,1,0),0)","v":0}]
[null,null,null,null,null,null,null,null,null,null,null,"Atrasado",null,null,null,0,0,{"$f":"IF(Table26[[#This Row],[Status Medida]]=\"Finalizado\",IF(Table26[[#This Row],[Sim/Não]]=1,1,0),0)","v":0}]
[null,null,null,null,null,null,null,null,null,null,null,"Atrasado",null,null,null,0,0,{"$f":"IF(Table26[[#This Row],[Status Medida]]=\"Finalizado\",IF(Table26[[#This Row],[Sim/Não]]=1,1,0),0)","v":0}]
[null,null,null,null,null,null,null,null,null,null,null,"Atrasado",null,null,null,0,0,{"$f":"IF(Table26[[#This Row],[Status Medida]]=\"Finalizado\",IF(Table26[[#This Row],[Sim/Não]]=1,1,0),0)","v":0}]
[null,null,null,null,null,null,null,null,null,null,null,"Atrasado",null,null,null,0,0,{"$f":"IF(Table26[[#This Row],[Status Medida]]=\"Finalizado\",IF(Table26[[#This Row],[Sim/Não]]=1,1,0),0)","v":0}]
[null,null,null,null,null,null,null,null,null,null,null,"Atrasado",null,null,null,0,0,{"$f":"IF(Table26[[#This Row],[Status Medida]]=\"Finalizado\",IF(Table26[[#This Row],[Sim/Não]]=1,1,0),0)","v":0}]
[null,null,null,null,null,null,null,null,null,null,null,"Atrasado",null,null,null,0,0,{"$f":"IF(Table26[[#This Row],[Status Medida]]=\"Finalizado\",IF(Table26[[#This Row],[Sim/Não]]=1,1,0),0)","v":0}]
[null,null,null,null,null,null,null,null,null,null,null,"Atrasado",null,null,null,0,0,{"$f":"IF(Table26[[#This Row],[Status Medida]]=\"Finalizado\",IF(Table26[[#This Row],[Sim/Não]]=1,1,0),0)","v":0}]
[null,null,null,null,null,null,null,null,null,null,null,"Atrasado",null,null,null,0,0,{"$f":"IF(Table26[[#This Row],[Status Medida]]=\"Finalizado\",IF(Table26[[#This Row],[Sim/Não]]=1,1,0),0)","v":0}]
[null,null,null,null,null,null,null,null,null,null,null,"Atrasado",null,null,null,0,0,{"$f":"IF(Table26[[#This Row],[Status Medida]]=\"Finalizado\",IF(Table26[[#This Row],[Sim/Não]]=1,1,0),0)","v":0}]
[null,null,null,null,null,null,null,null,null,null,null,"Atrasado",null,null,null,0,0,{"$f":"IF(Table26[[#This Row],[Status Medida]]=\"Finalizado\",IF(Table26[[#This Row],[Sim/Não]]=1,1,0),0)","v":0}]
[null,null,null,null,null,null,null,null,null,null,null,"Atrasado",null,null,null,0,0,{"$f":"IF(Table26[[#This Row],[Status Medida]]=\"Finalizado\",IF(Table26[[#This Row],[Sim/Não]]=1,1,0),0)","v":0}]
[null,null,null,null,null,null,null,null,null,null,null,"Atrasado",null,null,null,0,0,{"$f":"IF(Table26[[#This Row],[Status Medida]]=\"Finalizado\",IF(Table26[[#This Row],[Sim/Não]]=1,1,0),0)","v":0}]
[null,null,null,null,null,null,null,null,null,null,null,"Atrasado",null,null,null,0,0,{"$f":"IF(Table26[[#This Row],[Status Medida]]=\"Finalizado\",IF(Table26[[#This Row],[Sim/Não]]=1,1,0),0)","v":0}]
[null,null,null,null,null,null,null,null,null,null,null,"Atrasado",null,null,null,0,0,{"$f":"IF(Table26[[#This Row],[Status Medida]]=\"Finalizado\",IF(Table26[[#This Row],[Sim/Não]]=1,1,0),0)","v":0}]
[null,null,null,null,null,null,null,null,null,null,null,"Atrasado",null,null,null,0,0,{"$f":"IF(Table26[[#This Row],[Status Medida]]=\"Finalizado\",IF(Table26[[#This Row],[Sim/Não]]=1,1,0),0)","v":0}]
[null,null,null,null,null,null,null,null,null,null,null,"Atrasado",null,null,null,0,0,{"$f":"IF(Table26[[#This Row],[Status Medida]]=\"Finalizado\",IF(Table26[[#This Row],[Sim/Não]]=1,1,0),0)","v":0}]
[null,null,null,null,null,null,null,null,null,null,null,"Atrasado",null,null,null,0,0,{"$f":"IF(Table26[[#This Row],[Status Medida]]=\"Finalizado\",IF(Table26[[#This Row],[Sim/Não]]=1,1,0),0)","v":0}]
[null,null,null,null,null,null,null,null,null,null,null,"Atrasado",null,null,null,0,0,{"$f":"IF(Table26[[#This Row],[Status Medida]]=\"Finalizado\",IF(Table26[[#This Row],[Sim/Não]]=1,1,0),0)","v":0}]
[null,null,null,null,null,null,null,null,null,null,null,"Atrasado",null,null,null,0,0,{"$f":"IF(Table26[[#This Row],[Status Medida]]=\"Finalizado\",IF(Table26[[#This Row],[Sim/Não]]=1,1,0),0)","v":0}]
[null,null,null,null,null,null,null,null,null,null,null,"Atrasado",null,null,null,0,0,{"$f":"IF(Table26[[#This Row],[Status Medida]]=\"Finalizado\",IF(Table26[[#This Row],[Sim/Não]]=1,1,0),0)","v":0}]
[null,null,null,null,null,null,null,null,null,null,null,"Atrasado",null,null,null,0,0,{"$f":"IF(Table26[[#This Row],[Status Medida]]=\"Finalizado\",IF(Table26[[#This Row],[Sim/Não]]=1,1,0),0)","v":0}]
[null,null,null,null,null,null,null,null,null,null,null,"Atrasado",null,null,null,0,0,{"$f":"IF(Table26[[#This Row],[Status Medida]]=\"Finalizado\",IF(Table26[[#This Row],[Sim/Não]]=1,1,0),0)","v":0}]
[null,null,null,null,null,null,null,null,null,null,null,"Atrasado",null,null,null,0,0,{"$f":"IF(Table26[[#This Row],[Status Medida]]=\"Finalizado\",IF(Table26[[#This Row],[Sim/Não]]=1,1,0),0)","v":0}]
[null,null,null,null,null,null,null,null,null,null,null,"Atrasado",null,null,null,0,0,{"$f":"IF(Table26[[#This Row],[Status Medida]]=\"Finalizado\",IF(Table26[[#This Row],[Sim/Não]]=1,1,0),0)","v":0}]
[null,null,null,null,null,null,null,null,null,null,null,"Atrasado",null,null,null,0,0,{"$f":"IF(Table26[[#This Row],[Status Medida]]=\"Finalizado\",IF(Table26[[#This Row],[Sim/Não]]=1,1,0),0)","v":0}]
[null,null,null,null,null,null,null,null,null,null,null,"Atrasado",null,null,null,0,0,{"$f":"IF(Table26[[#This Row],[Status Medida]]=\"Finalizado\",IF(Table26[[#This Row],[Sim/Não]]=1,1,0),0)","v":0}]
[null,null,null,null,null,null,null,null,null,null,null,"Atrasado",null,null,null,0,0,{"$f":"IF(Table26[[#This Row],[Status Medida]]=\"Finalizado\",IF(Table26[[#This Row],[Sim/Não]]=1,1,0),0)","v":0}]
[null,null,null,null,null,null,null,null,null,null,null,"Atrasado",null,null,null,0,0,{"$f":"IF(Table26[[#This Row],[Status Medida]]=\"Finalizado\",IF(Table26[[#This Row],[Sim/Não]]=1,1,0),0)","v":0}]
[null,null,null,null,null,null,null,null,null,null,null,"Atrasado",null,null,null,0,0,{"$f":"IF(Table26[[#This Row],[Status Medida]]=\"Finalizado\",IF(Table26[[#This Row],[Sim/Não]]=1,1,0),0)","v":0}]
[null,null,null,null,null,null,null,null,null,null,null,"Atrasado",null,null,null,0,0,{"$f":"IF(Table26[[#This Row],[Status Medida]]=\"Finalizado\",IF(Table26[[#This Row],[Sim/Não]]=1,1,0),0)","v":0}]
[null,null,null,null,null,null,null,null,null,null,null,"Atrasado",null,null,null,0,0,{"$f":"IF(Table26[[#This Row],[Status Medida]]=\"Finalizado\",IF(Table26[[#This Row],[Sim/Não]]=1,1,0),0)","v":0}]
[null,null,null,null,null,null,null,null,null,null,null,"Atrasado",null,null,null,0,0,{"$f":"IF(Table26[[#This Row],[Status Medida]]=\"Finalizado\",IF(Table26[[#This Row],[Sim/Não]]=1,1,0),0)","v":0}]
[null,null,null,null,null,null,null,null,null,null,null,"Atrasado",null,null,null,0,0,{"$f":"IF(Table26[[#This Row],[Status Medida]]=\"Finalizado\",IF(Table26[[#This Row],[Sim/Não]]=1,1,0),0)","v":0}]
[null,null,null,null,null,null,null,null,null,null,null,"Atrasado",null,null,null,0,0,{"$f":"IF(Table26[[#This Row],[Status Medida]]=\"Finalizado\",IF(Table26[[#This Row],[Sim/Não]]=1,1,0),0)","v":0}]
[null,null,null,null,null,null,null,null,null,null,null,"Atrasado",null,null,null,0,0,{"$f":"IF(Table26[[#This Row],[Status Medida]]=\"Finalizado\",IF(Table26[[#This Row],[Sim/Não]]=1,1,0),0)","v":0}]
[null,null,null,null,null,null,null,null,null,null,null,"Atrasado",null,null,null,0,0,{"$f":"IF(Table26[[#This Row],[Status Medida]]=\"Finalizado\",IF(Table26[[#This Row],[Sim/Não]]=1,1,0),0)","v":0}]
[null,null,null,null,null,null,null,null,null,null,null,"Atrasado",null,null,null,0,0,{"$f":"IF(Table26[[#This Row],[Status Medida]]=\"Finalizado\",IF(Table26[[#This Row],[Sim/Não]]=1,1,0),0)","v":0}]
[null,null,null,null,null,null,null,null,null,null,null,"Atrasado",null,null,null,0,0,{"$f":"IF(Table26[[#This Row],[Status Medida]]=\"Finalizado\",IF(Table26[[#This Row],[Sim/Não]]=1,1,0),0)","v":0}]
[null,null,null,null,null,null,null,null,null,null,null,"Atrasado",null,null,null,0,0,{"$f":"IF(Table26[[#This Row],[Status Medida]]=\"Finalizado\",IF(Table26[[#This Row],[Sim/Não]]=1,1,0),0)","v":0}]
[null,null,null,null,null,null,null,null,null,null,null,"Atrasado",null,null,null,0,0,{"$f":"IF(Table26[[#This Row],[Status Medida]]=\"Finalizado\",IF(Table26[[#This Row],[Sim/Não]]=1,1,0),0)","v":0}]
[null,null,null,null,null,null,null,null,null,null,null,"Atrasado",null,null,null,0,0,{"$f":"IF(Table26[[#This Row],[Status Medida]]=\"Finalizado\",IF(Table26[[#This Row],[Sim/Não]]=1,1,0),0)","v":0}]
[null,null,null,null,null,null,null,null,null,null,null,"Atrasado",null,null,null,0,0,{"$f":"IF(Table26[[#This Row],[Status Medida]]=\"Finalizado\",IF(Table26[[#This Row],[Sim/Não]]=1,1,0),0)","v":0}]
[null,null,null,null,null,null,null,null,null,null,null,"Atrasado",null,null,null,0,0,{"$f":"IF(Table26[[#This Row],[Status Medida]]=\"Finalizado\",IF(Table26[[#This Row],[Sim/Não]]=1,1,0),0)","v":0}]
[null,null,null,null,null,null,null,null,null,null,null,"Atrasado",null,null,null,0,0,{"$f":"IF(Table26[[#This Row],[Status Medida]]=\"Finalizado\",IF(Table26[[#This Row],[Sim/Não]]=1,1,0),0)","v":0}]
[null,null,null,null,null,null,null,null,null,null,null,"Atrasado",null,null,null,0,0,{"$f":"IF(Table26[[#This Row],[Status Medida]]=\"Finalizado\",IF(Table26[[#This Row],[Sim/Não]]=1,1,0),0)","v":0}]
[null,null,null,null,null,null,null,null,null,null,null,"Atrasado",null,null,null,0,0,{"$f":"IF(Table26[[#This Row],[Status Medida]]=\"Finalizado\",IF(Table26[[#This Row],[Sim/Não]]=1,1,0),0)","v":0}]
[null,null,null,null,null,null,null,null,null,null,null,"Atrasado",null,null,null,0,0,{"$f":"IF(Table26[[#This Row],[Status Medida]]=\"Finalizado\",IF(Table26[[#This Row],[Sim/Não]]=1,1,0),0)","v":0}]
[null,null,null,null,null,null,null,null,null,null,null,"Atrasado",null,null,null,0,0,{"$f":"IF(Table26[[#This Row],[Status Medida]]=\"Finalizado\",IF(Table26[[#This Row],[Sim/Não]]=1,1,0),0)","v":0}]
[null,null,null,null,null,null,null,null,null,null,null,"Atrasado",null,null,null,0,0,{"$f":"IF(Table26[[#This Row],[Status Medida]]=\"Finalizado\",IF(Table26[[#This Row],[Sim/Não]]=1,1,0),0)","v":0}]
[null,null,null,null,null,null,null,null,null,null,null,"Atrasado",null,null,null,0,0,{"$f":"IF(Table26[[#This Row],[Status Medida]]=\"Finalizado\",IF(Table26[[#This Row],[Sim/Não]]=1,1,0),0)","v":0}]
[null,null,null,null,null,null,null,null,null,null,null,"Atrasado",null,null,null,0,0,{"$f":"IF(Table26[[#This Row],[Status Medida]]=\"Finalizado\",IF(Table26[[#This Row],[Sim/Não]]=1,1,0),0)","v":0}]
[null,null,null,null,null,null,null,null,null,null,null,"Atrasado",null,null,null,0,0,{"$f":"IF(Table26[[#This Row],[Status Medida]]=\"Finalizado\",IF(Table26[[#This Row],[Sim/Não]]=1,1,0),0)","v":0}]
[null,null,null,null,null,null,null,null,null,null,null,"Atrasado",null,null,null,0,0,{"$f":"IF(Table26[[#This Row],[Status Medida]]=\"Finalizado\",IF(Table26[[#This Row],[Sim/Não]]=1,1,0),0)","v":0}]
[null,null,null,null,null,null,null,null,null,null,null,"Atrasado",null,null,null,0,0,{"$f":"IF(Table26[[#This Row],[Status Medida]]=\"Finalizado\",IF(Table26[[#This Row],[Sim/Não]]=1,1,0),0)","v":0}]
[null,null,null,null,null,null,null,null,null,null,null,"Atrasado",null,null,null,0,0,{"$f":"IF(Table26[[#This Row],[Status Medida]]=\"Finalizado\",IF(Table26[[#This Row],[Sim/Não]]=1,1,0),0)","v":0}]
[null,null,null,null,null,null,null,null,null,null,null,"Atrasado",null,null,null,0,0,{"$f":"IF(Table26[[#This Row],[Status Medida]]=\"Finalizado\",IF(Table26[[#This Row],[Sim/Não]]=1,1,0),0)","v":0}]
[null,null,null,null,null,null,null,null,null,null,null,"Atrasado",null,null,null,0,0,{"$f":"IF(Table26[[#This Row],[Status Medida]]=\"Finalizado\",IF(Table26[[#This Row],[Sim/Não]]=1,1,0),0)","v":0}]
[null,null,null,null,null,null,null,null,null,null,null,"Atrasado",null,null,null,0,0,{"$f":"IF(Table26[[#This Row],[Status Medida]]=\"Finalizado\",IF(Table26[[#This Row],[Sim/Não]]=1,1,0),0)","v":0}]
[null,null,null,null,null,null,null,null,null,null,null,"Atrasado",null,null,null,0,0,{"$f":"IF(Table26[[#This Row],[Status Medida]]=\"Finalizado\",IF(Table26[[#This Row],[Sim/Não]]=1,1,0),0)","v":0}]
[null,null,null,null,null,null,null,null,null,null,null,"Atrasado",null,null,null,0,0,{"$f":"IF(Table26[[#This Row],[Status Medida]]=\"Finalizado\",IF(Table26[[#This Row],[Sim/Não]]=1,1,0),0)","v":0}]
[null,null,null,null,null,null,null,null,null,null,null,"Atrasado",null,null,null,0,0,{"$f":"IF(Table26[[#This Row],[Status Medida]]=\"Finalizado\",IF(Table26[[#This Row],[Sim/Não]]=1,1,0),0)","v":0}]
[null,null,null,null,null,null,null,null,null,null,null,"Atrasado",null,null,null,0,0,{"$f":"IF(Table26[[#This Row],[Status Medida]]=\"Finalizado\",IF(Table26[[#This Row],[Sim/Não]]=1,1,0),0)","v":0}]
[null,null,null,null,null,null,null,null,null,null,null,{"$f":"IF(J770>K770,\"Datas inválidas\",IF(M770=\"Finalizado\",\"Concluído\",IF(J770>TODAY(),\"Não iniciado\",_xlfn.IFS(J770=TODAY(),\"Em andamento\",TODAY()>K770,\"Atrasado\",AND(TODAY()>J770,TODAY()<=K770),\"Em andamento\"))))","v":"Atrasado"},null,null,null,{"$f":"IF(O770=\"Sim\",1,0)","v":0},{"$f":"IF(N770=E770,0,1)","v":0},{"$f":"IF(Table26[[#This Row],[Status Medida]]=\"Finalizado\",IF(Table26[[#This Row],[Sim/Não]]=1,1,0),0)","v":0}]
[null,null,null,null,null,null,null,null,null,null,null,"Atrasado",null,null,null,0,0,{"$f":"IF(Table26[[#This Row],[Status Medida]]=\"Finalizado\",IF(Table26[[#This Row],[Sim/Não]]=1,1,0),0)","v":0}]
[null,null,null,null,null,null,null,null,null,null,null,"Atrasado",null,null,null,0,0,{"$f":"IF(Table26[[#This Row],[Status Medida]]=\"Finalizado\",IF(Table26[[#This Row],[Sim/Não]]=1,1,0),0)","v":0}]
[null,null,null,null,null,null,null,null,null,null,null,"Atrasado",null,null,null,0,0,{"$f":"IF(Table26[[#This Row],[Status Medida]]=\"Finalizado\",IF(Table26[[#This Row],[Sim/Não]]=1,1,0),0)","v":0}]
[null,null,null,null,null,null,null,null,null,null,null,"Atrasado",null,null,null,0,0,{"$f":"IF(Table26[[#This Row],[Status Medida]]=\"Finalizado\",IF(Table26[[#This Row],[Sim/Não]]=1,1,0),0)","v":0}]
[null,null,null,null,null,null,null,null,null,null,null,"Atrasado",null,null,null,0,0,{"$f":"IF(Table26[[#This Row],[Status Medida]]=\"Finalizado\",IF(Table26[[#This Row],[Sim/Não]]=1,1,0),0)","v":0}]
[null,null,null,null,null,null,null,null,null,null,null,"Atrasado",null,null,null,0,0,{"$f":"IF(Table26[[#This Row],[Status Medida]]=\"Finalizado\",IF(Table26[[#This Row],[Sim/Não]]=1,1,0),0)","v":0}]
[null,null,null,null,null,null,null,null,null,null,null,"Atrasado",null,null,null,0,0,{"$f":"IF(Table26[[#This Row],[Status Medida]]=\"Finalizado\",IF(Table26[[#This Row],[Sim/Não]]=1,1,0),0)","v":0}]
[null,null,null,null,null,null,null,null,null,null,null,"Atrasado",null,null,null,0,0,{"$f":"IF(Table26[[#This Row],[Status Medida]]=\"Finalizado\",IF(Table26[[#This Row],[Sim/Não]]=1,1,0),0)","v":0}]
[null,null,null,null,null,null,null,null,null,null,null,"Atrasado",null,null,null,0,0,{"$f":"IF(Table26[[#This Row],[Status Medida]]=\"Finalizado\",IF(Table26[[#This Row],[Sim/Não]]=1,1,0),0)","v":0}]
[null,null,null,null,null,null,null,null,null,null,null,"Atrasado",null,null,null,0,0,{"$f":"IF(Table26[[#This Row],[Status Medida]]=\"Finalizado\",IF(Table26[[#This Row],[Sim/Não]]=1,1,0),0)","v":0}]
[null,null,null,null,null,null,null,null,null,null,null,"Atrasado",null,null,null,0,0,{"$f":"IF(Table26[[#This Row],[Status Medida]]=\"Finalizado\",IF(Table26[[#This Row],[Sim/Não]]=1,1,0),0)","v":0}]
[null,null,null,null,null,null,null,null,null,null,null,"Atrasado",null,null,null,0,0,{"$f":"IF(Table26[[#This Row],[Status Medida]]=\"Finalizado\",IF(Table26[[#This Row],[Sim/Não]]=1,1,0),0)","v":0}]
[null,null,null,null,null,null,null,null,null,null,null,"Atrasado",null,null,null,0,0,{"$f":"IF(Table26[[#This Row],[Status Medida]]=\"Finalizado\",IF(Table26[[#This Row],[Sim/Não]]=1,1,0),0)","v":0}]
[null,null,null,null,null,null,null,null,null,null,null,"Atrasado",null,null,null,0,0,{"$f":"IF(Table26[[#This Row],[Status Medida]]=\"Finalizado\",IF(Table26[[#This Row],[Sim/Não]]=1,1,0),0)","v":0}]
[null,null,null,null,null,null,null,null,null,null,null,"Atrasado",null,null,null,0,0,{"$f":"IF(Table26[[#This Row],[Status Medida]]=\"Finalizado\",IF(Table26[[#This Row],[Sim/Não]]=1,1,0),0)","v":0}]
[null,null,null,null,null,null,null,null,null,null,null,"Atrasado",null,null,null,0,0,{"$f":"IF(Table26[[#This Row],[Status Medida]]=\"Finalizado\",IF(Table26[[#This Row],[Sim/Não]]=1,1,0),0)","v":0}]
[null,null,null,null,null,null,null,null,null,null,null,"Atrasado",null,null,null,0,0,{"$f":"IF(Table26[[#This Row],[Status Medida]]=\"Finalizado\",IF(Table26[[#This Row],[Sim/Não]]=1,1,0),0)","v":0}]
[null,null,null,null,null,null,null,null,null,null,null,"Atrasado",null,null,null,0,0,{"$f":"IF(Table26[[#This Row],[Status Medida]]=\"Finalizado\",IF(Table26[[#This Row],[Sim/Não]]=1,1,0),0)","v":0}]
[null,null,null,null,null,null,null,null,null,null,null,"Atrasado",null,null,null,0,0,{"$f":"IF(Table26[[#This Row],[Status Medida]]=\"Finalizado\",IF(Table26[[#This Row],[Sim/Não]]=1,1,0),0)","v":0}]
[null,null,null,null,null,null,null,null,null,null,null,"Atrasado",null,null,null,0,0,{"$f":"IF(Table26[[#This Row],[Status Medida]]=\"Finalizado\",IF(Table26[[#This Row],[Sim/Não]]=1,1,0),0)","v":0}]
[null,null,null,null,null,null,null,null,null,null,null,"Atrasado",null,null,null,0,0,{"$f":"IF(Table26[[#This Row],[Status Medida]]=\"Finalizado\",IF(Table26[[#This Row],[Sim/Não]]=1,1,0),0)","v":0}]
[null,null,null,null,null,null,null,null,null,null,null,"Atrasado",null,null,null,0,0,{"$f":"IF(Table26[[#This Row],[Status Medida]]=\"Finalizado\",IF(Table26[[#This Row],[Sim/Não]]=1,1,0),0)","v":0}]
[null,null,null,null,null,null,null,null,null,null,null,"Atrasado",null,null,null,0,0,{"$f":"IF(Table26[[#This Row],[Status Medida]]=\"Finalizado\",IF(Table26[[#This Row],[Sim/Não]]=1,1,0),0)","v":0}]
[null,null,null,null,null,null,null,null,null,null,null,"Atrasado",null,null,null,0,0,{"$f":"IF(Table26[[#This Row],[Status Medida]]=\"Finalizado\",IF(Table26[[#This Row],[Sim/Não]]=1,1,0),0)","v":0}]
[null,null,null,null,null,null,null,null,null,null,null,"Atrasado",null,null,null,0,0,{"$f":"IF(Table26[[#This Row],[Status Medida]]=\"Finalizado\",IF(Table26[[#This Row],[Sim/Não]]=1,1,0),0)","v":0}]
[null,null,null,null,null,null,null,null,null,null,null,"Atrasado",null,null,null,0,0,{"$f":"IF(Table26[[#This Row],[Status Medida]]=\"Finalizado\",IF(Table26[[#This Row],[Sim/Não]]=1,1,0),0)","v":0}]
[null,null,null,null,null,null,null,null,null,null,null,"Atrasado",null,null,null,0,0,{"$f":"IF(Table26[[#This Row],[Status Medida]]=\"Finalizado\",IF(Table26[[#This Row],[Sim/Não]]=1,1,0),0)","v":0}]
[null,null,null,null,null,null,null,null,null,null,null,"Atrasado",null,null,null,0,0,{"$f":"IF(Table26[[#This Row],[Status Medida]]=\"Finalizado\",IF(Table26[[#This Row],[Sim/Não]]=1,1,0),0)","v":0}]
[null,null,null,null,null,null,null,null,null,null,null,"Atrasado",null,null,null,0,0,{"$f":"IF(Table26[[#This Row],[Status Medida]]=\"Finalizado\",IF(Table26[[#This Row],[Sim/Não]]=1,1,0),0)","v":0}]
[null,null,null,null,null,null,null,null,null,null,null,"Atrasado",null,null,null,0,0,{"$f":"IF(Table26[[#This Row],[Status Medida]]=\"Finalizado\",IF(Table26[[#This Row],[Sim/Não]]=1,1,0),0)","v":0}]
[null,null,null,null,null,null,null,null,null,null,null,"Atrasado",null,null,null,0,0,{"$f":"IF(Table26[[#This Row],[Status Medida]]=\"Finalizado\",IF(Table26[[#This Row],[Sim/Não]]=1,1,0),0)","v":0}]
[null,null,null,null,null,null,null,null,null,null,null,"Atrasado",null,null,null,0,0,{"$f":"IF(Table26[[#This Row],[Status Medida]]=\"Finalizado\",IF(Table26[[#This Row],[Sim/Não]]=1,1,0),0)","v":0}]
[null,null,null,null,null,null,null,null,null,null,null,"Atrasado",null,null,null,0,0,{"$f":"IF(Table26[[#This Row],[Status Medida]]=\"Finalizado\",IF(Table26[[#This Row],[Sim/Não]]=1,1,0),0)","v":0}]
[null,null,null,null,null,null,null,null,null,null,null,"Atrasado",null,null,null,0,0,{"$f":"IF(Table26[[#This Row],[Status Medida]]=\"Finalizado\",IF(Table26[[#This Row],[Sim/Não]]=1,1,0),0)","v":0}]
[null,null,null,null,null,null,null,null,null,null,null,"Atrasado",null,null,null,0,0,{"$f":"IF(Table26[[#This Row],[Status Medida]]=\"Finalizado\",IF(Table26[[#This Row],[Sim/Não]]=1,1,0),0)","v":0}]
[null,null,null,null,null,null,null,null,null,null,null,"Atrasado",null,null,null,0,0,{"$f":"IF(Table26[[#This Row],[Status Medida]]=\"Finalizado\",IF(Table26[[#This Row],[Sim/Não]]=1,1,0),0)","v":0}]
[null,null,null,null,null,null,null,null,null,null,null,"Atrasado",null,null,null,0,0,{"$f":"IF(Table26[[#This Row],[Status Medida]]=\"Finalizado\",IF(Table26[[#This Row],[Sim/Não]]=1,1,0),0)","v":0}]
[null,null,null,null,null,null,null,null,null,null,null,"Atrasado",null,null,null,0,0,{"$f":"IF(Table26[[#This Row],[Status Medida]]=\"Finalizado\",IF(Table26[[#This Row],[Sim/Não]]=1,1,0),0)","v":0}]
[null,null,null,null,null,null,null,null,null,null,null,"Atrasado",null,null,null,0,0,{"$f":"IF(Table26[[#This Row],[Status Medida]]=\"Finalizado\",IF(Table26[[#This Row],[Sim/Não]]=1,1,0),0)","v":0}]
[null,null,null,null,null,null,null,null,null,null,null,"Atrasado",null,null,null,0,0,{"$f":"IF(Table26[[#This Row],[Status Medida]]=\"Finalizado\",IF(Table26[[#This Row],[Sim/Não]]=1,1,0),0)","v":0}]
[null,null,null,null,null,null,null,null,null,null,null,"Atrasado",null,null,null,0,0,{"$f":"IF(Table26[[#This Row],[Status Medida]]=\"Finalizado\",IF(Table26[[#This Row],[Sim/Não]]=1,1,0),0)","v":0}]
[null,null,null,null,null,null,null,null,null,null,null,"Atrasado",null,null,null,0,0,{"$f":"IF(Table26[[#This Row],[Status Medida]]=\"Finalizado\",IF(Table26[[#This Row],[Sim/Não]]=1,1,0),0)","v":0}]
[null,null,null,null,null,null,null,null,null,null,null,"Atrasado",null,null,null,0,0,{"$f":"IF(Table26[[#This Row],[Status Medida]]=\"Finalizado\",IF(Table26[[#This Row],[Sim/Não]]=1,1,0),0)","v":0}]
[null,null,null,null,null,null,null,null,null,null,null,"Atrasado",null,null,null,0,0,{"$f":"IF(Table26[[#This Row],[Status Medida]]=\"Finalizado\",IF(Table26[[#This Row],[Sim/Não]]=1,1,0),0)","v":0}]
[null,null,null,null,null,null,null,null,null,null,null,"Atrasado",null,null,null,0,0,{"$f":"IF(Table26[[#This Row],[Status Medida]]=\"Finalizado\",IF(Table26[[#This Row],[Sim/Não]]=1,1,0),0)","v":0}]
[null,null,null,null,null,null,null,null,null,null,null,"Atrasado",null,null,null,0,0,{"$f":"IF(Table26[[#This Row],[Status Medida]]=\"Finalizado\",IF(Table26[[#This Row],[Sim/Não]]=1,1,0),0)","v":0}]
[null,null,null,null,null,null,null,null,null,null,null,"Atrasado",null,null,null,0,0,{"$f":"IF(Table26[[#This Row],[Status Medida]]=\"Finalizado\",IF(Table26[[#This Row],[Sim/Não]]=1,1,0),0)","v":0}]
[null,null,null,null,null,null,null,null,null,null,null,"Atrasado",null,null,null,0,0,{"$f":"IF(Table26[[#This Row],[Status Medida]]=\"Finalizado\",IF(Table26[[#This Row],[Sim/Não]]=1,1,0),0)","v":0}]
[null,null,null,null,null,null,null,null,null,null,null,"Atrasado",null,null,null,0,0,{"$f":"IF(Table26[[#This Row],[Status Medida]]=\"Finalizado\",IF(Table26[[#This Row],[Sim/Não]]=1,1,0),0)","v":0}]
[null,null,null,null,null,null,null,null,null,null,null,"Atrasado",null,null,null,0,0,{"$f":"IF(Table26[[#This Row],[Status Medida]]=\"Finalizado\",IF(Table26[[#This Row],[Sim/Não]]=1,1,0),0)","v":0}]
[null,null,null,null,null,null,null,null,null,null,null,"Atrasado",null,null,null,0,0,{"$f":"IF(Table26[[#This Row],[Status Medida]]=\"Finalizado\",IF(Table26[[#This Row],[Sim/Não]]=1,1,0),0)","v":0}]
[null,null,null,null,null,null,null,null,null,null,null,"Atrasado",null,null,null,0,0,{"$f":"IF(Table26[[#This Row],[Status Medida]]=\"Finalizado\",IF(Table26[[#This Row],[Sim/Não]]=1,1,0),0)","v":0}]
[null,null,null,null,null,null,null,null,null,null,null,"Atrasado",null,null,null,0,0,{"$f":"IF(Table26[[#This Row],[Status Medida]]=\"Finalizado\",IF(Table26[[#This Row],[Sim/Não]]=1,1,0),0)","v":0}]
[null,null,null,null,null,null,null,null,null,null,null,"Atrasado",null,null,null,0,0,{"$f":"IF(Table26[[#This Row],[Status Medida]]=\"Finalizado\",IF(Table26[[#This Row],[Sim/Não]]=1,1,0),0)","v":0}]
[null,null,null,null,null,null,null,null,null,null,null,"Atrasado",null,null,null,0,0,{"$f":"IF(Table26[[#This Row],[Status Medida]]=\"Finalizado\",IF(Table26[[#This Row],[Sim/Não]]=1,1,0),0)","v":0}]
[null,null,null,null,null,null,null,null,null,null,null,"Atrasado",null,null,null,0,0,{"$f":"IF(Table26[[#This Row],[Status Medida]]=\"Finalizado\",IF(Table26[[#This Row],[Sim/Não]]=1,1,0),0)","v":0}]
[null,null,null,null,null,null,null,null,null,null,null,"Atrasado",null,null,null,0,0,{"$f":"IF(Table26[[#This Row],[Status Medida]]=\"Finalizado\",IF(Table26[[#This Row],[Sim/Não]]=1,1,0),0)","v":0}]
[null,null,null,null,null,null,null,null,null,null,null,"Atrasado",null,null,null,0,0,{"$f":"IF(Table26[[#This Row],[Status Medida]]=\"Finalizado\",IF(Table26[[#This Row],[Sim/Não]]=1,1,0),0)","v":0}]
[null,null,null,null,null,null,null,null,null,null,null,"Atrasado",null,null,null,0,0,{"$f":"IF(Table26[[#This Row],[Status Medida]]=\"Finalizado\",IF(Table26[[#This Row],[Sim/Não]]=1,1,0),0)","v":0}]
[null,null,null,null,null,null,null,null,null,null,null,"Atrasado",null,null,null,0,0,{"$f":"IF(Table26[[#This Row],[Status Medida]]=\"Finalizado\",IF(Table26[[#This Row],[Sim/Não]]=1,1,0),0)","v":0}]
[null,null,null,null,null,null,null,null,null,null,null,"Atrasado",null,null,null,0,0,{"$f":"IF(Table26[[#This Row],[Status Medida]]=\"Finalizado\",IF(Table26[[#This Row],[Sim/Não]]=1,1,0),0)","v":0}]
[null,null,null,null,null,null,null,null,null,null,null,"Atrasado",null,null,null,0,0,{"$f":"IF(Table26[[#This Row],[Status Medida]]=\"Finalizado\",IF(Table26[[#This Row],[Sim/Não]]=1,1,0),0)","v":0}]
[null,null,null,null,null,null,null,null,null,null,null,"Atrasado",null,null,null,0,0,{"$f":"IF(Table26[[#This Row],[Status Medida]]=\"Finalizado\",IF(Table26[[#This Row],[Sim/Não]]=1,1,0),0)","v":0}]
[null,null,null,null,null,null,null,null,null,null,null,{"$f":"IF(J834>K834,\"Datas inválidas\",IF(M834=\"Finalizado\",\"Concluído\",IF(J834>TODAY(),\"Não iniciado\",_xlfn.IFS(J834=TODAY(),\"Em andamento\",TODAY()>K834,\"Atrasado\",AND(TODAY()>J834,TODAY()<=K834),\"Em andamento\"))))","v":"Atrasado"},null,null,null,{"$f":"IF(O834=\"Sim\",1,0)","v":0},{"$f":"IF(N834=E834,0,1)","v":0},{"$f":"IF(Table26[[#This Row],[Status Medida]]=\"Finalizado\",IF(Table26[[#This Row],[Sim/Não]]=1,1,0),0)","v":0}]
[null,null,null,null,null,null,null,null,null,null,null,"Atrasado",null,null,null,0,0,{"$f":"IF(Table26[[#This Row],[Status Medida]]=\"Finalizado\",IF(Table26[[#This Row],[Sim/Não]]=1,1,0),0)","v":0}]
[null,null,null,null,null,null,null,null,null,null,null,"Atrasado",null,null,null,0,0,{"$f":"IF(Table26[[#This Row],[Status Medida]]=\"Finalizado\",IF(Table26[[#This Row],[Sim/Não]]=1,1,0),0)","v":0}]
[null,null,null,null,null,null,null,null,null,null,null,"Atrasado",null,null,null,0,0,{"$f":"IF(Table26[[#This Row],[Status Medida]]=\"Finalizado\",IF(Table26[[#This Row],[Sim/Não]]=1,1,0),0)","v":0}]
[null,null,null,null,null,null,null,null,null,null,null,"Atrasado",null,null,null,0,0,{"$f":"IF(Table26[[#This Row],[Status Medida]]=\"Finalizado\",IF(Table26[[#This Row],[Sim/Não]]=1,1,0),0)","v":0}]
[null,null,null,null,null,null,null,null,null,null,null,"Atrasado",null,null,null,0,0,{"$f":"IF(Table26[[#This Row],[Status Medida]]=\"Finalizado\",IF(Table26[[#This Row],[Sim/Não]]=1,1,0),0)","v":0}]
[null,null,null,null,null,null,null,null,null,null,null,"Atrasado",null,null,null,0,0,{"$f":"IF(Table26[[#This Row],[Status Medida]]=\"Finalizado\",IF(Table26[[#This Row],[Sim/Não]]=1,1,0),0)","v":0}]
[null,null,null,null,null,null,null,null,null,null,null,"Atrasado",null,null,null,0,0,{"$f":"IF(Table26[[#This Row],[Status Medida]]=\"Finalizado\",IF(Table26[[#This Row],[Sim/Não]]=1,1,0),0)","v":0}]
[null,null,null,null,null,null,null,null,null,null,null,"Atrasado",null,null,null,0,0,{"$f":"IF(Table26[[#This Row],[Status Medida]]=\"Finalizado\",IF(Table26[[#This Row],[Sim/Não]]=1,1,0),0)","v":0}]
[null,null,null,null,null,null,null,null,null,null,null,"Atrasado",null,null,null,0,0,{"$f":"IF(Table26[[#This Row],[Status Medida]]=\"Finalizado\",IF(Table26[[#This Row],[Sim/Não]]=1,1,0),0)","v":0}]
[null,null,null,null,null,null,null,null,null,null,null,"Atrasado",null,null,null,0,0,{"$f":"IF(Table26[[#This Row],[Status Medida]]=\"Finalizado\",IF(Table26[[#This Row],[Sim/Não]]=1,1,0),0)","v":0}]
[null,null,null,null,null,null,null,null,null,null,null,"Atrasado",null,null,null,0,0,{"$f":"IF(Table26[[#This Row],[Status Medida]]=\"Finalizado\",IF(Table26[[#This Row],[Sim/Não]]=1,1,0),0)","v":0}]
[null,null,null,null,null,null,null,null,null,null,null,"Atrasado",null,null,null,0,0,{"$f":"IF(Table26[[#This Row],[Status Medida]]=\"Finalizado\",IF(Table26[[#This Row],[Sim/Não]]=1,1,0),0)","v":0}]
[null,null,null,null,null,null,null,null,null,null,null,"Atrasado",null,null,null,0,0,{"$f":"IF(Table26[[#This Row],[Status Medida]]=\"Finalizado\",IF(Table26[[#This Row],[Sim/Não]]=1,1,0),0)","v":0}]
[null,null,null,null,null,null,null,null,null,null,null,"Atrasado",null,null,null,0,0,{"$f":"IF(Table26[[#This Row],[Status Medida]]=\"Finalizado\",IF(Table26[[#This Row],[Sim/Não]]=1,1,0),0)","v":0}]
[null,null,null,null,null,null,null,null,null,null,null,"Atrasado",null,null,null,0,0,{"$f":"IF(Table26[[#This Row],[Status Medida]]=\"Finalizado\",IF(Table26[[#This Row],[Sim/Não]]=1,1,0),0)","v":0}]
[null,null,null,null,null,null,null,null,null,null,null,"Atrasado",null,null,null,0,0,{"$f":"IF(Table26[[#This Row],[Status Medida]]=\"Finalizado\",IF(Table26[[#This Row],[Sim/Não]]=1,1,0),0)","v":0}]
[null,null,null,null,null,null,null,null,null,null,null,"Atrasado",null,null,null,0,0,{"$f":"IF(Table26[[#This Row],[Status Medida]]=\"Finalizado\",IF(Table26[[#This Row],[Sim/Não]]=1,1,0),0)","v":0}]
[null,null,null,null,null,null,null,null,null,null,null,"Atrasado",null,null,null,0,0,{"$f":"IF(Table26[[#This Row],[Status Medida]]=\"Finalizado\",IF(Table26[[#This Row],[Sim/Não]]=1,1,0),0)","v":0}]
[null,null,null,null,null,null,null,null,null,null,null,"Atrasado",null,null,null,0,0,{"$f":"IF(Table26[[#This Row],[Status Medida]]=\"Finalizado\",IF(Table26[[#This Row],[Sim/Não]]=1,1,0),0)","v":0}]
[null,null,null,null,null,null,null,null,null,null,null,"Atrasado",null,null,null,0,0,{"$f":"IF(Table26[[#This Row],[Status Medida]]=\"Finalizado\",IF(Table26[[#This Row],[Sim/Não]]=1,1,0),0)","v":0}]
[null,null,null,null,null,null,null,null,null,null,null,"Atrasado",null,null,null,0,0,{"$f":"IF(Table26[[#This Row],[Status Medida]]=\"Finalizado\",IF(Table26[[#This Row],[Sim/Não]]=1,1,0),0)","v":0}]
[null,null,null,null,null,null,null,null,null,null,null,"Atrasado",null,null,null,0,0,{"$f":"IF(Table26[[#This Row],[Status Medida]]=\"Finalizado\",IF(Table26[[#This Row],[Sim/Não]]=1,1,0),0)","v":0}]
[null,null,null,null,null,null,null,null,null,null,null,"Atrasado",null,null,null,0,0,{"$f":"IF(Table26[[#This Row],[Status Medida]]=\"Finalizado\",IF(Table26[[#This Row],[Sim/Não]]=1,1,0),0)","v":0}]
[null,null,null,null,null,null,null,null,null,null,null,"Atrasado",null,null,null,0,0,{"$f":"IF(Table26[[#This Row],[Status Medida]]=\"Finalizado\",IF(Table26[[#This Row],[Sim/Não]]=1,1,0),0)","v":0}]
[null,null,null,null,null,null,null,null,null,null,null,"Atrasado",null,null,null,0,0,{"$f":"IF(Table26[[#This Row],[Status Medida]]=\"Finalizado\",IF(Table26[[#This Row],[Sim/Não]]=1,1,0),0)","v":0}]
[null,null,null,null,null,null,null,null,null,null,null,"Atrasado",null,null,null,0,0,{"$f":"IF(Table26[[#This Row],[Status Medida]]=\"Finalizado\",IF(Table26[[#This Row],[Sim/Não]]=1,1,0),0)","v":0}]
[null,null,null,null,null,null,null,null,null,null,null,"Atrasado",null,null,null,0,0,{"$f":"IF(Table26[[#This Row],[Status Medida]]=\"Finalizado\",IF(Table26[[#This Row],[Sim/Não]]=1,1,0),0)","v":0}]
[null,null,null,null,null,null,null,null,null,null,null,"Atrasado",null,null,null,0,0,{"$f":"IF(Table26[[#This Row],[Status Medida]]=\"Finalizado\",IF(Table26[[#This Row],[Sim/Não]]=1,1,0),0)","v":0}]
[null,null,null,null,null,null,null,null,null,null,null,"Atrasado",null,null,null,0,0,{"$f":"IF(Table26[[#This Row],[Status Medida]]=\"Finalizado\",IF(Table26[[#This Row],[Sim/Não]]=1,1,0),0)","v":0}]
[null,null,null,null,null,null,null,null,null,null,null,"Atrasado",null,null,null,0,0,{"$f":"IF(Table26[[#This Row],[Status Medida]]=\"Finalizado\",IF(Table26[[#This Row],[Sim/Não]]=1,1,0),0)","v":0}]
[null,null,null,null,null,null,null,null,null,null,null,"Atrasado",null,null,null,0,0,{"$f":"IF(Table26[[#This Row],[Status Medida]]=\"Finalizado\",IF(Table26[[#This Row],[Sim/Não]]=1,1,0),0)","v":0}]
[null,null,null,null,null,null,null,null,null,null,null,"Atrasado",null,null,null,0,0,{"$f":"IF(Table26[[#This Row],[Status Medida]]=\"Finalizado\",IF(Table26[[#This Row],[Sim/Não]]=1,1,0),0)","v":0}]
[null,null,null,null,null,null,null,null,null,null,null,"Atrasado",null,null,null,0,0,{"$f":"IF(Table26[[#This Row],[Status Medida]]=\"Finalizado\",IF(Table26[[#This Row],[Sim/Não]]=1,1,0),0)","v":0}]
[null,null,null,null,null,null,null,null,null,null,null,"Atrasado",null,null,null,0,0,{"$f":"IF(Table26[[#This Row],[Status Medida]]=\"Finalizado\",IF(Table26[[#This Row],[Sim/Não]]=1,1,0),0)","v":0}]
[null,null,null,null,null,null,null,null,null,null,null,"Atrasado",null,null,null,0,0,{"$f":"IF(Table26[[#This Row],[Status Medida]]=\"Finalizado\",IF(Table26[[#This Row],[Sim/Não]]=1,1,0),0)","v":0}]
[null,null,null,null,null,null,null,null,null,null,null,"Atrasado",null,null,null,0,0,{"$f":"IF(Table26[[#This Row],[Status Medida]]=\"Finalizado\",IF(Table26[[#This Row],[Sim/Não]]=1,1,0),0)","v":0}]
[null,null,null,null,null,null,null,null,null,null,null,"Atrasado",null,null,null,0,0,{"$f":"IF(Table26[[#This Row],[Status Medida]]=\"Finalizado\",IF(Table26[[#This Row],[Sim/Não]]=1,1,0),0)","v":0}]
[null,null,null,null,null,null,null,null,null,null,null,"Atrasado",null,null,null,0,0,{"$f":"IF(Table26[[#This Row],[Status Medida]]=\"Finalizado\",IF(Table26[[#This Row],[Sim/Não]]=1,1,0),0)","v":0}]
[null,null,null,null,null,null,null,null,null,null,null,"Atrasado",null,null,null,0,0,{"$f":"IF(Table26[[#This Row],[Status Medida]]=\"Finalizado\",IF(Table26[[#This Row],[Sim/Não]]=1,1,0),0)","v":0}]
[null,null,null,null,null,null,null,null,null,null,null,"Atrasado",null,null,null,0,0,{"$f":"IF(Table26[[#This Row],[Status Medida]]=\"Finalizado\",IF(Table26[[#This Row],[Sim/Não]]=1,1,0),0)","v":0}]
[null,null,null,null,null,null,null,null,null,null,null,"Atrasado",null,null,null,0,0,{"$f":"IF(Table26[[#This Row],[Status Medida]]=\"Finalizado\",IF(Table26[[#This Row],[Sim/Não]]=1,1,0),0)","v":0}]
[null,null,null,null,null,null,null,null,null,null,null,"Atrasado",null,null,null,0,0,{"$f":"IF(Table26[[#This Row],[Status Medida]]=\"Finalizado\",IF(Table26[[#This Row],[Sim/Não]]=1,1,0),0)","v":0}]
[null,null,null,null,null,null,null,null,null,null,null,"Atrasado",null,null,null,0,0,{"$f":"IF(Table26[[#This Row],[Status Medida]]=\"Finalizado\",IF(Table26[[#This Row],[Sim/Não]]=1,1,0),0)","v":0}]
[null,null,null,null,null,null,null,null,null,null,null,"Atrasado",null,null,null,0,0,{"$f":"IF(Table26[[#This Row],[Status Medida]]=\"Finalizado\",IF(Table26[[#This Row],[Sim/Não]]=1,1,0),0)","v":0}]
[null,null,null,null,null,null,null,null,null,null,null,"Atrasado",null,null,null,0,0,{"$f":"IF(Table26[[#This Row],[Status Medida]]=\"Finalizado\",IF(Table26[[#This Row],[Sim/Não]]=1,1,0),0)","v":0}]
[null,null,null,null,null,null,null,null,null,null,null,"Atrasado",null,null,null,0,0,{"$f":"IF(Table26[[#This Row],[Status Medida]]=\"Finalizado\",IF(Table26[[#This Row],[Sim/Não]]=1,1,0),0)","v":0}]
[null,null,null,null,null,null,null,null,null,null,null,"Atrasado",null,null,null,0,0,{"$f":"IF(Table26[[#This Row],[Status Medida]]=\"Finalizado\",IF(Table26[[#This Row],[Sim/Não]]=1,1,0),0)","v":0}]
[null,null,null,null,null,null,null,null,null,null,null,"Atrasado",null,null,null,0,0,{"$f":"IF(Table26[[#This Row],[Status Medida]]=\"Finalizado\",IF(Table26[[#This Row],[Sim/Não]]=1,1,0),0)","v":0}]
[null,null,null,null,null,null,null,null,null,null,null,"Atrasado",null,null,null,0,0,{"$f":"IF(Table26[[#This Row],[Status Medida]]=\"Finalizado\",IF(Table26[[#This Row],[Sim/Não]]=1,1,0),0)","v":0}]
[null,null,null,null,null,null,null,null,null,null,null,"Atrasado",null,null,null,0,0,{"$f":"IF(Table26[[#This Row],[Status Medida]]=\"Finalizado\",IF(Table26[[#This Row],[Sim/Não]]=1,1,0),0)","v":0}]
[null,null,null,null,null,null,null,null,null,null,null,"Atrasado",null,null,null,0,0,{"$f":"IF(Table26[[#This Row],[Status Medida]]=\"Finalizado\",IF(Table26[[#This Row],[Sim/Não]]=1,1,0),0)","v":0}]
[null,null,null,null,null,null,null,null,null,null,null,"Atrasado",null,null,null,0,0,{"$f":"IF(Table26[[#This Row],[Status Medida]]=\"Finalizado\",IF(Table26[[#This Row],[Sim/Não]]=1,1,0),0)","v":0}]
[null,null,null,null,null,null,null,null,null,null,null,"Atrasado",null,null,null,0,0,{"$f":"IF(Table26[[#This Row],[Status Medida]]=\"Finalizado\",IF(Table26[[#This Row],[Sim/Não]]=1,1,0),0)","v":0}]
[null,null,null,null,null,null,null,null,null,null,null,"Atrasado",null,null,null,0,0,{"$f":"IF(Table26[[#This Row],[Status Medida]]=\"Finalizado\",IF(Table26[[#This Row],[Sim/Não]]=1,1,0),0)","v":0}]
[null,null,null,null,null,null,null,null,null,null,null,"Atrasado",null,null,null,0,0,{"$f":"IF(Table26[[#This Row],[Status Medida]]=\"Finalizado\",IF(Table26[[#This Row],[Sim/Não]]=1,1,0),0)","v":0}]
[null,null,null,null,null,null,null,null,null,null,null,"Atrasado",null,null,null,0,0,{"$f":"IF(Table26[[#This Row],[Status Medida]]=\"Finalizado\",IF(Table26[[#This Row],[Sim/Não]]=1,1,0),0)","v":0}]
[null,null,null,null,null,null,null,null,null,null,null,"Atrasado",null,null,null,0,0,{"$f":"IF(Table26[[#This Row],[Status Medida]]=\"Finalizado\",IF(Table26[[#This Row],[Sim/Não]]=1,1,0),0)","v":0}]
[null,null,null,null,null,null,null,null,null,null,null,"Atrasado",null,null,null,0,0,{"$f":"IF(Table26[[#This Row],[Status Medida]]=\"Finalizado\",IF(Table26[[#This Row],[Sim/Não]]=1,1,0),0)","v":0}]
[null,null,null,null,null,null,null,null,null,null,null,"Atrasado",null,null,null,0,0,{"$f":"IF(Table26[[#This Row],[Status Medida]]=\"Finalizado\",IF(Table26[[#This Row],[Sim/Não]]=1,1,0),0)","v":0}]
[null,null,null,null,null,null,null,null,null,null,null,"Atrasado",null,null,null,0,0,{"$f":"IF(Table26[[#This Row],[Status Medida]]=\"Finalizado\",IF(Table26[[#This Row],[Sim/Não]]=1,1,0),0)","v":0}]
[null,null,null,null,null,null,null,null,null,null,null,"Atrasado",null,null,null,0,0,{"$f":"IF(Table26[[#This Row],[Status Medida]]=\"Finalizado\",IF(Table26[[#This Row],[Sim/Não]]=1,1,0),0)","v":0}]
[null,null,null,null,null,null,null,null,null,null,null,"Atrasado",null,null,null,0,0,{"$f":"IF(Table26[[#This Row],[Status Medida]]=\"Finalizado\",IF(Table26[[#This Row],[Sim/Não]]=1,1,0),0)","v":0}]
[null,null,null,null,null,null,null,null,null,null,null,"Atrasado",null,null,null,0,0,{"$f":"IF(Table26[[#This Row],[Status Medida]]=\"Finalizado\",IF(Table26[[#This Row],[Sim/Não]]=1,1,0),0)","v":0}]
[null,null,null,null,null,null,null,null,null,null,null,{"$f":"IF(J898>K898,\"Datas inválidas\",IF(M898=\"Finalizado\",\"Concluído\",IF(J898>TODAY(),\"Não iniciado\",_xlfn.IFS(J898=TODAY(),\"Em andamento\",TODAY()>K898,\"Atrasado\",AND(TODAY()>J898,TODAY()<=K898),\"Em andamento\"))))","v":"Atrasado"},null,null,null,{"$f":"IF(O898=\"Sim\",1,0)","v":0},{"$f":"IF(N898=E898,0,1)","v":0},{"$f":"IF(Table26[[#This Row],[Status Medida]]=\"Finalizado\",IF(Table26[[#This Row],[Sim/Não]]=1,1,0),0)","v":0}]
[null,null,null,null,null,null,null,null,null,null,null,"Atrasado",null,null,null,0,0,{"$f":"IF(Table26[[#This Row],[Status Medida]]=\"Finalizado\",IF(Table26[[#This Row],[Sim/Não]]=1,1,0),0)","v":0}]
[null,null,null,null,null,null,null,null,null,null,null,"Atrasado",null,null,null,0,0,{"$f":"IF(Table26[[#This Row],[Status Medida]]=\"Finalizado\",IF(Table26[[#This Row],[Sim/Não]]=1,1,0),0)","v":0}]
[null,null,null,null,null,null,null,null,null,null,null,"Atrasado",null,null,null,0,0,{"$f":"IF(Table26[[#This Row],[Status Medida]]=\"Finalizado\",IF(Table26[[#This Row],[Sim/Não]]=1,1,0),0)","v":0}]
[null,null,null,null,null,null,null,null,null,null,null,"Atrasado",null,null,null,0,0,{"$f":"IF(Table26[[#This Row],[Status Medida]]=\"Finalizado\",IF(Table26[[#This Row],[Sim/Não]]=1,1,0),0)","v":0}]
[null,null,null,null,null,null,null,null,null,null,null,"Atrasado",null,null,null,0,0,{"$f":"IF(Table26[[#This Row],[Status Medida]]=\"Finalizado\",IF(Table26[[#This Row],[Sim/Não]]=1,1,0),0)","v":0}]
[null,null,null,null,null,null,null,null,null,null,null,"Atrasado",null,null,null,0,0,{"$f":"IF(Table26[[#This Row],[Status Medida]]=\"Finalizado\",IF(Table26[[#This Row],[Sim/Não]]=1,1,0),0)","v":0}]
[null,null,null,null,null,null,null,null,null,null,null,"Atrasado",null,null,null,0,0,{"$f":"IF(Table26[[#This Row],[Status Medida]]=\"Finalizado\",IF(Table26[[#This Row],[Sim/Não]]=1,1,0),0)","v":0}]
[null,null,null,null,null,null,null,null,null,null,null,"Atrasado",null,null,null,0,0,{"$f":"IF(Table26[[#This Row],[Status Medida]]=\"Finalizado\",IF(Table26[[#This Row],[Sim/Não]]=1,1,0),0)","v":0}]
[null,null,null,null,null,null,null,null,null,null,null,"Atrasado",null,null,null,0,0,{"$f":"IF(Table26[[#This Row],[Status Medida]]=\"Finalizado\",IF(Table26[[#This Row],[Sim/Não]]=1,1,0),0)","v":0}]
[null,null,null,null,null,null,null,null,null,null,null,"Atrasado",null,null,null,0,0,{"$f":"IF(Table26[[#This Row],[Status Medida]]=\"Finalizado\",IF(Table26[[#This Row],[Sim/Não]]=1,1,0),0)","v":0}]
[null,null,null,null,null,null,null,null,null,null,null,"Atrasado",null,null,null,0,0,{"$f":"IF(Table26[[#This Row],[Status Medida]]=\"Finalizado\",IF(Table26[[#This Row],[Sim/Não]]=1,1,0),0)","v":0}]
[null,null,null,null,null,null,null,null,null,null,null,"Atrasado",null,null,null,0,0,{"$f":"IF(Table26[[#This Row],[Status Medida]]=\"Finalizado\",IF(Table26[[#This Row],[Sim/Não]]=1,1,0),0)","v":0}]
[null,null,null,null,null,null,null,null,null,null,null,"Atrasado",null,null,null,0,0,{"$f":"IF(Table26[[#This Row],[Status Medida]]=\"Finalizado\",IF(Table26[[#This Row],[Sim/Não]]=1,1,0),0)","v":0}]
[null,null,null,null,null,null,null,null,null,null,null,"Atrasado",null,null,null,0,0,{"$f":"IF(Table26[[#This Row],[Status Medida]]=\"Finalizado\",IF(Table26[[#This Row],[Sim/Não]]=1,1,0),0)","v":0}]
[null,null,null,null,null,null,null,null,null,null,null,"Atrasado",null,null,null,0,0,{"$f":"IF(Table26[[#This Row],[Status Medida]]=\"Finalizado\",IF(Table26[[#This Row],[Sim/Não]]=1,1,0),0)","v":0}]
[null,null,null,null,null,null,null,null,null,null,null,"Atrasado",null,null,null,0,0,{"$f":"IF(Table26[[#This Row],[Status Medida]]=\"Finalizado\",IF(Table26[[#This Row],[Sim/Não]]=1,1,0),0)","v":0}]
[null,null,null,null,null,null,null,null,null,null,null,"Atrasado",null,null,null,0,0,{"$f":"IF(Table26[[#This Row],[Status Medida]]=\"Finalizado\",IF(Table26[[#This Row],[Sim/Não]]=1,1,0),0)","v":0}]
[null,null,null,null,null,null,null,null,null,null,null,"Atrasado",null,null,null,0,0,{"$f":"IF(Table26[[#This Row],[Status Medida]]=\"Finalizado\",IF(Table26[[#This Row],[Sim/Não]]=1,1,0),0)","v":0}]
[null,null,null,null,null,null,null,null,null,null,null,"Atrasado",null,null,null,0,0,{"$f":"IF(Table26[[#This Row],[Status Medida]]=\"Finalizado\",IF(Table26[[#This Row],[Sim/Não]]=1,1,0),0)","v":0}]
[null,null,null,null,null,null,null,null,null,null,null,"Atrasado",null,null,null,0,0,{"$f":"IF(Table26[[#This Row],[Status Medida]]=\"Finalizado\",IF(Table26[[#This Row],[Sim/Não]]=1,1,0),0)","v":0}]
[null,null,null,null,null,null,null,null,null,null,null,"Atrasado",null,null,null,0,0,{"$f":"IF(Table26[[#This Row],[Status Medida]]=\"Finalizado\",IF(Table26[[#This Row],[Sim/Não]]=1,1,0),0)","v":0}]
[null,null,null,null,null,null,null,null,null,null,null,"Atrasado",null,null,null,0,0,{"$f":"IF(Table26[[#This Row],[Status Medida]]=\"Finalizado\",IF(Table26[[#This Row],[Sim/Não]]=1,1,0),0)","v":0}]
[null,null,null,null,null,null,null,null,null,null,null,"Atrasado",null,null,null,0,0,{"$f":"IF(Table26[[#This Row],[Status Medida]]=\"Finalizado\",IF(Table26[[#This Row],[Sim/Não]]=1,1,0),0)","v":0}]
[null,null,null,null,null,null,null,null,null,null,null,"Atrasado",null,null,null,0,0,{"$f":"IF(Table26[[#This Row],[Status Medida]]=\"Finalizado\",IF(Table26[[#This Row],[Sim/Não]]=1,1,0),0)","v":0}]
[null,null,null,null,null,null,null,null,null,null,null,"Atrasado",null,null,null,0,0,{"$f":"IF(Table26[[#This Row],[Status Medida]]=\"Finalizado\",IF(Table26[[#This Row],[Sim/Não]]=1,1,0),0)","v":0}]
[null,null,null,null,null,null,null,null,null,null,null,"Atrasado",null,null,null,0,0,{"$f":"IF(Table26[[#This Row],[Status Medida]]=\"Finalizado\",IF(Table26[[#This Row],[Sim/Não]]=1,1,0),0)","v":0}]
[null,null,null,null,null,null,null,null,null,null,null,"Atrasado",null,null,null,0,0,{"$f":"IF(Table26[[#This Row],[Status Medida]]=\"Finalizado\",IF(Table26[[#This Row],[Sim/Não]]=1,1,0),0)","v":0}]
[null,null,null,null,null,null,null,null,null,null,null,"Atrasado",null,null,null,0,0,{"$f":"IF(Table26[[#This Row],[Status Medida]]=\"Finalizado\",IF(Table26[[#This Row],[Sim/Não]]=1,1,0),0)","v":0}]
[null,null,null,null,null,null,null,null,null,null,null,"Atrasado",null,null,null,0,0,{"$f":"IF(Table26[[#This Row],[Status Medida]]=\"Finalizado\",IF(Table26[[#This Row],[Sim/Não]]=1,1,0),0)","v":0}]
[null,null,null,null,null,null,null,null,null,null,null,"Atrasado",null,null,null,0,0,{"$f":"IF(Table26[[#This Row],[Status Medida]]=\"Finalizado\",IF(Table26[[#This Row],[Sim/Não]]=1,1,0),0)","v":0}]
[null,null,null,null,null,null,null,null,null,null,null,"Atrasado",null,null,null,0,0,{"$f":"IF(Table26[[#This Row],[Status Medida]]=\"Finalizado\",IF(Table26[[#This Row],[Sim/Não]]=1,1,0),0)","v":0}]
[null,null,null,null,null,null,null,null,null,null,null,"Atrasado",null,null,null,0,0,{"$f":"IF(Table26[[#This Row],[Status Medida]]=\"Finalizado\",IF(Table26[[#This Row],[Sim/Não]]=1,1,0),0)","v":0}]
[null,null,null,null,null,null,null,null,null,null,null,"Atrasado",null,null,null,0,0,{"$f":"IF(Table26[[#This Row],[Status Medida]]=\"Finalizado\",IF(Table26[[#This Row],[Sim/Não]]=1,1,0),0)","v":0}]
[null,null,null,null,null,null,null,null,null,null,null,"Atrasado",null,null,null,0,0,{"$f":"IF(Table26[[#This Row],[Status Medida]]=\"Finalizado\",IF(Table26[[#This Row],[Sim/Não]]=1,1,0),0)","v":0}]
[null,null,null,null,null,null,null,null,null,null,null,"Atrasado",null,null,null,0,0,{"$f":"IF(Table26[[#This Row],[Status Medida]]=\"Finalizado\",IF(Table26[[#This Row],[Sim/Não]]=1,1,0),0)","v":0}]
[null,null,null,null,null,null,null,null,null,null,null,"Atrasado",null,null,null,0,0,{"$f":"IF(Table26[[#This Row],[Status Medida]]=\"Finalizado\",IF(Table26[[#This Row],[Sim/Não]]=1,1,0),0)","v":0}]
[null,null,null,null,null,null,null,null,null,null,null,"Atrasado",null,null,null,0,0,{"$f":"IF(Table26[[#This Row],[Status Medida]]=\"Finalizado\",IF(Table26[[#This Row],[Sim/Não]]=1,1,0),0)","v":0}]
[null,null,null,null,null,null,null,null,null,null,null,"Atrasado",null,null,null,0,0,{"$f":"IF(Table26[[#This Row],[Status Medida]]=\"Finalizado\",IF(Table26[[#This Row],[Sim/Não]]=1,1,0),0)","v":0}]
[null,null,null,null,null,null,null,null,null,null,null,"Atrasado",null,null,null,0,0,{"$f":"IF(Table26[[#This Row],[Status Medida]]=\"Finalizado\",IF(Table26[[#This Row],[Sim/Não]]=1,1,0),0)","v":0}]
[null,null,null,null,null,null,null,null,null,null,null,"Atrasado",null,null,null,0,0,{"$f":"IF(Table26[[#This Row],[Status Medida]]=\"Finalizado\",IF(Table26[[#This Row],[Sim/Não]]=1,1,0),0)","v":0}]
[null,null,null,null,null,null,null,null,null,null,null,"Atrasado",null,null,null,0,0,{"$f":"IF(Table26[[#This Row],[Status Medida]]=\"Finalizado\",IF(Table26[[#This Row],[Sim/Não]]=1,1,0),0)","v":0}]
[null,null,null,null,null,null,null,null,null,null,null,"Atrasado",null,null,null,0,0,{"$f":"IF(Table26[[#This Row],[Status Medida]]=\"Finalizado\",IF(Table26[[#This Row],[Sim/Não]]=1,1,0),0)","v":0}]
[null,null,null,null,null,null,null,null,null,null,null,"Atrasado",null,null,null,0,0,{"$f":"IF(Table26[[#This Row],[Status Medida]]=\"Finalizado\",IF(Table26[[#This Row],[Sim/Não]]=1,1,0),0)","v":0}]
[null,null,null,null,null,null,null,null,null,null,null,"Atrasado",null,null,null,0,0,{"$f":"IF(Table26[[#This Row],[Status Medida]]=\"Finalizado\",IF(Table26[[#This Row],[Sim/Não]]=1,1,0),0)","v":0}]
[null,null,null,null,null,null,null,null,null,null,null,"Atrasado",null,null,null,0,0,{"$f":"IF(Table26[[#This Row],[Status Medida]]=\"Finalizado\",IF(Table26[[#This Row],[Sim/Não]]=1,1,0),0)","v":0}]
[null,null,null,null,null,null,null,null,null,null,null,"Atrasado",null,null,null,0,0,{"$f":"IF(Table26[[#This Row],[Status Medida]]=\"Finalizado\",IF(Table26[[#This Row],[Sim/Não]]=1,1,0),0)","v":0}]
[null,null,null,null,null,null,null,null,null,null,null,"Atrasado",null,null,null,0,0,{"$f":"IF(Table26[[#This Row],[Status Medida]]=\"Finalizado\",IF(Table26[[#This Row],[Sim/Não]]=1,1,0),0)","v":0}]
[null,null,null,null,null,null,null,null,null,null,null,"Atrasado",null,null,null,0,0,{"$f":"IF(Table26[[#This Row],[Status Medida]]=\"Finalizado\",IF(Table26[[#This Row],[Sim/Não]]=1,1,0),0)","v":0}]
[null,null,null,null,null,null,null,null,null,null,null,"Atrasado",null,null,null,0,0,{"$f":"IF(Table26[[#This Row],[Status Medida]]=\"Finalizado\",IF(Table26[[#This Row],[Sim/Não]]=1,1,0),0)","v":0}]
[null,null,null,null,null,null,null,null,null,null,null,"Atrasado",null,null,null,0,0,{"$f":"IF(Table26[[#This Row],[Status Medida]]=\"Finalizado\",IF(Table26[[#This Row],[Sim/Não]]=1,1,0),0)","v":0}]
[null,null,null,null,null,null,null,null,null,null,null,"Atrasado",null,null,null,0,0,{"$f":"IF(Table26[[#This Row],[Status Medida]]=\"Finalizado\",IF(Table26[[#This Row],[Sim/Não]]=1,1,0),0)","v":0}]
[null,null,null,null,null,null,null,null,null,null,null,"Atrasado",null,null,null,0,0,{"$f":"IF(Table26[[#This Row],[Status Medida]]=\"Finalizado\",IF(Table26[[#This Row],[Sim/Não]]=1,1,0),0)","v":0}]
[null,null,null,null,null,null,null,null,null,null,null,"Atrasado",null,null,null,0,0,{"$f":"IF(Table26[[#This Row],[Status Medida]]=\"Finalizado\",IF(Table26[[#This Row],[Sim/Não]]=1,1,0),0)","v":0}]
[null,null,null,null,null,null,null,null,null,null,null,"Atrasado",null,null,null,0,0,{"$f":"IF(Table26[[#This Row],[Status Medida]]=\"Finalizado\",IF(Table26[[#This Row],[Sim/Não]]=1,1,0),0)","v":0}]
[null,null,null,null,null,null,null,null,null,null,null,"Atrasado",null,null,null,0,0,{"$f":"IF(Table26[[#This Row],[Status Medida]]=\"Finalizado\",IF(Table26[[#This Row],[Sim/Não]]=1,1,0),0)","v":0}]
[null,null,null,null,null,null,null,null,null,null,null,"Atrasado",null,null,null,0,0,{"$f":"IF(Table26[[#This Row],[Status Medida]]=\"Finalizado\",IF(Table26[[#This Row],[Sim/Não]]=1,1,0),0)","v":0}]
[null,null,null,null,null,null,null,null,null,null,null,"Atrasado",null,null,null,0,0,{"$f":"IF(Table26[[#This Row],[Status Medida]]=\"Finalizado\",IF(Table26[[#This Row],[Sim/Não]]=1,1,0),0)","v":0}]
[null,null,null,null,null,null,null,null,null,null,null,"Atrasado",null,null,null,0,0,{"$f":"IF(Table26[[#This Row],[Status Medida]]=\"Finalizado\",IF(Table26[[#This Row],[Sim/Não]]=1,1,0),0)","v":0}]
[null,null,null,null,null,null,null,null,null,null,null,"Atrasado",null,null,null,0,0,{"$f":"IF(Table26[[#This Row],[Status Medida]]=\"Finalizado\",IF(Table26[[#This Row],[Sim/Não]]=1,1,0),0)","v":0}]
[null,null,null,null,null,null,null,null,null,null,null,"Atrasado",null,null,null,0,0,{"$f":"IF(Table26[[#This Row],[Status Medida]]=\"Finalizado\",IF(Table26[[#This Row],[Sim/Não]]=1,1,0),0)","v":0}]
[null,null,null,null,null,null,null,null,null,null,null,"Atrasado",null,null,null,0,0,{"$f":"IF(Table26[[#This Row],[Status Medida]]=\"Finalizado\",IF(Table26[[#This Row],[Sim/Não]]=1,1,0),0)","v":0}]
[null,null,null,null,null,null,null,null,null,null,null,"Atrasado",null,null,null,0,0,{"$f":"IF(Table26[[#This Row],[Status Medida]]=\"Finalizado\",IF(Table26[[#This Row],[Sim/Não]]=1,1,0),0)","v":0}]
[null,null,null,null,null,null,null,null,null,null,null,"Atrasado",null,null,null,0,0,{"$f":"IF(Table26[[#This Row],[Status Medida]]=\"Finalizado\",IF(Table26[[#This Row],[Sim/Não]]=1,1,0),0)","v":0}]
[null,null,null,null,null,null,null,null,null,null,null,{"$f":"IF(J962>K962,\"Datas inválidas\",IF(M962=\"Finalizado\",\"Concluído\",IF(J962>TODAY(),\"Não iniciado\",_xlfn.IFS(J962=TODAY(),\"Em andamento\",TODAY()>K962,\"Atrasado\",AND(TODAY()>J962,TODAY()<=K962),\"Em andamento\"))))","v":"Atrasado"},null,null,null,{"$f":"IF(O962=\"Sim\",1,0)","v":0},{"$f":"IF(N962=E962,0,1)","v":0},{"$f":"IF(Table26[[#This Row],[Status Medida]]=\"Finalizado\",IF(Table26[[#This Row],[Sim/Não]]=1,1,0),0)","v":0}]
[null,null,null,null,null,null,null,null,null,null,null,"Atrasado",null,null,null,0,0,{"$f":"IF(Table26[[#This Row],[Status Medida]]=\"Finalizado\",IF(Table26[[#This Row],[Sim/Não]]=1,1,0),0)","v":0}]
[null,null,null,null,null,null,null,null,null,null,null,"Atrasado",null,null,null,0,0,{"$f":"IF(Table26[[#This Row],[Status Medida]]=\"Finalizado\",IF(Table26[[#This Row],[Sim/Não]]=1,1,0),0)","v":0}]
[null,null,null,null,null,null,null,null,null,null,null,"Atrasado",null,null,null,0,0,{"$f":"IF(Table26[[#This Row],[Status Medida]]=\"Finalizado\",IF(Table26[[#This Row],[Sim/Não]]=1,1,0),0)","v":0}]
[null,null,null,null,null,null,null,null,null,null,null,"Atrasado",null,null,null,0,0,{"$f":"IF(Table26[[#This Row],[Status Medida]]=\"Finalizado\",IF(Table26[[#This Row],[Sim/Não]]=1,1,0),0)","v":0}]
[null,null,null,null,null,null,null,null,null,null,null,"Atrasado",null,null,null,0,0,{"$f":"IF(Table26[[#This Row],[Status Medida]]=\"Finalizado\",IF(Table26[[#This Row],[Sim/Não]]=1,1,0),0)","v":0}]
[null,null,null,null,null,null,null,null,null,null,null,"Atrasado",null,null,null,0,0,{"$f":"IF(Table26[[#This Row],[Status Medida]]=\"Finalizado\",IF(Table26[[#This Row],[Sim/Não]]=1,1,0),0)","v":0}]
[null,null,null,null,null,null,null,null,null,null,null,"Atrasado",null,null,null,0,0,{"$f":"IF(Table26[[#This Row],[Status Medida]]=\"Finalizado\",IF(Table26[[#This Row],[Sim/Não]]=1,1,0),0)","v":0}]
[null,null,null,null,null,null,null,null,null,null,null,"Atrasado",null,null,null,0,0,{"$f":"IF(Table26[[#This Row],[Status Medida]]=\"Finalizado\",IF(Table26[[#This Row],[Sim/Não]]=1,1,0),0)","v":0}]
[null,null,null,null,null,null,null,null,null,null,null,"Atrasado",null,null,null,0,0,{"$f":"IF(Table26[[#This Row],[Status Medida]]=\"Finalizado\",IF(Table26[[#This Row],[Sim/Não]]=1,1,0),0)","v":0}]
[null,null,null,null,null,null,null,null,null,null,null,"Atrasado",null,null,null,0,0,{"$f":"IF(Table26[[#This Row],[Status Medida]]=\"Finalizado\",IF(Table26[[#This Row],[Sim/Não]]=1,1,0),0)","v":0}]
[null,null,null,null,null,null,null,null,null,null,null,"Atrasado",null,null,null,0,0,{"$f":"IF(Table26[[#This Row],[Status Medida]]=\"Finalizado\",IF(Table26[[#This Row],[Sim/Não]]=1,1,0),0)","v":0}]
[null,null,null,null,null,null,null,null,null,null,null,"Atrasado",null,null,null,0,0,{"$f":"IF(Table26[[#This Row],[Status Medida]]=\"Finalizado\",IF(Table26[[#This Row],[Sim/Não]]=1,1,0),0)","v":0}]
[null,null,null,null,null,null,null,null,null,null,null,"Atrasado",null,null,null,0,0,{"$f":"IF(Table26[[#This Row],[Status Medida]]=\"Finalizado\",IF(Table26[[#This Row],[Sim/Não]]=1,1,0),0)","v":0}]
[null,null,null,null,null,null,null,null,null,null,null,"Atrasado",null,null,null,0,0,{"$f":"IF(Table26[[#This Row],[Status Medida]]=\"Finalizado\",IF(Table26[[#This Row],[Sim/Não]]=1,1,0),0)","v":0}]
[null,null,null,null,null,null,null,null,null,null,null,"Atrasado",null,null,null,0,0,{"$f":"IF(Table26[[#This Row],[Status Medida]]=\"Finalizado\",IF(Table26[[#This Row],[Sim/Não]]=1,1,0),0)","v":0}]
[null,null,null,null,null,null,null,null,null,null,null,"Atrasado",null,null,null,0,0,{"$f":"IF(Table26[[#This Row],[Status Medida]]=\"Finalizado\",IF(Table26[[#This Row],[Sim/Não]]=1,1,0),0)","v":0}]
[null,null,null,null,null,null,null,null,null,null,null,"Atrasado",null,null,null,0,0,{"$f":"IF(Table26[[#This Row],[Status Medida]]=\"Finalizado\",IF(Table26[[#This Row],[Sim/Não]]=1,1,0),0)","v":0}]
[null,null,null,null,null,null,null,null,null,null,null,"Atrasado",null,null,null,0,0,{"$f":"IF(Table26[[#This Row],[Status Medida]]=\"Finalizado\",IF(Table26[[#This Row],[Sim/Não]]=1,1,0),0)","v":0}]
[null,null,null,null,null,null,null,null,null,null,null,"Atrasado",null,null,null,0,0,{"$f":"IF(Table26[[#This Row],[Status Medida]]=\"Finalizado\",IF(Table26[[#This Row],[Sim/Não]]=1,1,0),0)","v":0}]
[null,null,null,null,null,null,null,null,null,null,null,"Atrasado",null,null,null,0,0,{"$f":"IF(Table26[[#This Row],[Status Medida]]=\"Finalizado\",IF(Table26[[#This Row],[Sim/Não]]=1,1,0),0)","v":0}]
[null,null,null,null,null,null,null,null,null,null,null,"Atrasado",null,null,null,0,0,{"$f":"IF(Table26[[#This Row],[Status Medida]]=\"Finalizado\",IF(Table26[[#This Row],[Sim/Não]]=1,1,0),0)","v":0}]
[null,null,null,null,null,null,null,null,null,null,null,"Atrasado",null,null,null,0,0,{"$f":"IF(Table26[[#This Row],[Status Medida]]=\"Finalizado\",IF(Table26[[#This Row],[Sim/Não]]=1,1,0),0)","v":0}]
[null,null,null,null,null,null,null,null,null,null,null,"Atrasado",null,null,null,0,0,{"$f":"IF(Table26[[#This Row],[Status Medida]]=\"Finalizado\",IF(Table26[[#This Row],[Sim/Não]]=1,1,0),0)","v":0}]
[null,null,null,null,null,null,null,null,null,null,null,"Atrasado",null,null,null,0,0,{"$f":"IF(Table26[[#This Row],[Status Medida]]=\"Finalizado\",IF(Table26[[#This Row],[Sim/Não]]=1,1,0),0)","v":0}]
[null,null,null,null,null,null,null,null,null,null,null,"Atrasado",null,null,null,0,0,{"$f":"IF(Table26[[#This Row],[Status Medida]]=\"Finalizado\",IF(Table26[[#This Row],[Sim/Não]]=1,1,0),0)","v":0}]
[null,null,null,null,null,null,null,null,null,null,null,"Atrasado",null,null,null,0,0,{"$f":"IF(Table26[[#This Row],[Status Medida]]=\"Finalizado\",IF(Table26[[#This Row],[Sim/Não]]=1,1,0),0)","v":0}]
[null,null,null,null,null,null,null,null,null,null,null,"Atrasado",null,null,null,0,0,{"$f":"IF(Table26[[#This Row],[Status Medida]]=\"Finalizado\",IF(Table26[[#This Row],[Sim/Não]]=1,1,0),0)","v":0}]
[null,null,null,null,null,null,null,null,null,null,null,"Atrasado",null,null,null,0,0,{"$f":"IF(Table26[[#This Row],[Status Medida]]=\"Finalizado\",IF(Table26[[#This Row],[Sim/Não]]=1,1,0),0)","v":0}]
[null,null,null,null,null,null,null,null,null,null,null,"Atrasado",null,null,null,0,0,{"$f":"IF(Table26[[#This Row],[Status Medida]]=\"Finalizado\",IF(Table26[[#This Row],[Sim/Não]]=1,1,0),0)","v":0}]
[null,null,null,null,null,null,null,null,null,null,null,"Atrasado",null,null,null,0,0,{"$f":"IF(Table26[[#This Row],[Status Medida]]=\"Finalizado\",IF(Table26[[#This Row],[Sim/Não]]=1,1,0),0)","v":0}]
[null,null,null,null,null,null,null,null,null,null,null,"Atrasado",null,null,null,0,0,{"$f":"IF(Table26[[#This Row],[Status Medida]]=\"Finalizado\",IF(Table26[[#This Row],[Sim/Não]]=1,1,0),0)","v":0}]
[null,null,null,null,null,null,null,null,null,null,null,"Atrasado",null,null,null,0,0,{"$f":"IF(Table26[[#This Row],[Status Medida]]=\"Finalizado\",IF(Table26[[#This Row],[Sim/Não]]=1,1,0),0)","v":0}]
[null,null,null,null,null,null,null,null,null,null,null,"Atrasado",null,null,null,0,0,{"$f":"IF(Table26[[#This Row],[Status Medida]]=\"Finalizado\",IF(Table26[[#This Row],[Sim/Não]]=1,1,0),0)","v":0}]
[null,null,null,null,null,null,null,null,null,null,null,"Atrasado",null,null,null,0,0,{"$f":"IF(Table26[[#This Row],[Status Medida]]=\"Finalizado\",IF(Table26[[#This Row],[Sim/Não]]=1,1,0),0)","v":0}]
[null,null,null,null,null,null,null,null,null,null,null,"Atrasado",null,null,null,0,0,{"$f":"IF(Table26[[#This Row],[Status Medida]]=\"Finalizado\",IF(Table26[[#This Row],[Sim/Não]]=1,1,0),0)","v":0}]
[null,null,null,null,null,null,null,null,null,null,null,"Atrasado",null,null,null,0,0,{"$f":"IF(Table26[[#This Row],[Status Medida]]=\"Finalizado\",IF(Table26[[#This Row],[Sim/Não]]=1,1,0),0)","v":0}]
[null,null,null,null,null,null,null,null,null,null,null,"Atrasado",null,null,null,0,0,{"$f":"IF(Table26[[#This Row],[Status Medida]]=\"Finalizado\",IF(Table26[[#This Row],[Sim/Não]]=1,1,0),0)","v":0}]
[null,null,null,null,null,null,null,null,null,null,null,"Atrasado",null,null,null,0,0,{"$f":"IF(Table26[[#This Row],[Status Medida]]=\"Finalizado\",IF(Table26[[#This Row],[Sim/Não]]=1,1,0),0)","v":0}]
[null,null,null,null,null,null,null,null,null,null,null,"Atrasado",null,null,null,0,0,{"$f":"IF(Table26[[#This Row],[Status Medida]]=\"Finalizado\",IF(Table26[[#This Row],[Sim/Não]]=1,1,0),0)","v":0}]
[null,null,null,null,null,null,null,null,null,null,null,"Atrasado",null,null,null,0,0,{"$f":"IF(Table26[[#This Row],[Status Medida]]=\"Finalizado\",IF(Table26[[#This Row],[Sim/Não]]=1,1,0),0)","v":0}]
[null,null,null,null,null,null,null,null,null,null,null,"Atrasado",null,null,null,0,0,{"$f":"IF(Table26[[#This Row],[Status Medida]]=\"Finalizado\",IF(Table26[[#This Row],[Sim/Não]]=1,1,0),0)","v":0}]
[null,null,null,null,null,null,null,null,null,null,null,"Atrasado",null,null,null,0,0,{"$f":"IF(Table26[[#This Row],[Status Medida]]=\"Finalizado\",IF(Table26[[#This Row],[Sim/Não]]=1,1,0),0)","v":0}]
[null,null,null,null,null,null,null,null,null,null,null,"Atrasado",null,null,null,0,0,{"$f":"IF(Table26[[#This Row],[Status Medida]]=\"Finalizado\",IF(Table26[[#This Row],[Sim/Não]]=1,1,0),0)","v":0}]
[null,null,null,null,null,null,null,null,null,null,null,"Atrasado",null,null,null,0,0,{"$f":"IF(Table26[[#This Row],[Status Medida]]=\"Finalizado\",IF(Table26[[#This Row],[Sim/Não]]=1,1,0),0)","v":0}]
[null,null,null,null,null,null,null,null,null,null,null,"Atrasado",null,null,null,0,0,{"$f":"IF(Table26[[#This Row],[Status Medida]]=\"Finalizado\",IF(Table26[[#This Row],[Sim/Não]]=1,1,0),0)","v":0}]
[null,null,null,null,null,null,null,null,null,null,null,"Atrasado",null,null,null,0,0,{"$f":"IF(Table26[[#This Row],[Status Medida]]=\"Finalizado\",IF(Table26[[#This Row],[Sim/Não]]=1,1,0),0)","v":0}]
[null,null,null,null,null,null,null,null,null,null,null,"Atrasado",null,null,null,0,0,{"$f":"IF(Table26[[#This Row],[Status Medida]]=\"Finalizado\",IF(Table26[[#This Row],[Sim/Não]]=1,1,0),0)","v":0}]
[null,null,null,null,null,null,null,null,null,null,null,"Atrasado",null,null,null,0,0,{"$f":"IF(Table26[[#This Row],[Status Medida]]=\"Finalizado\",IF(Table26[[#This Row],[Sim/Não]]=1,1,0),0)","v":0}]
[null,null,null,null,null,null,null,null,null,null,null,"Atrasado",null,null,null,0,0,{"$f":"IF(Table26[[#This Row],[Status Medida]]=\"Finalizado\",IF(Table26[[#This Row],[Sim/Não]]=1,1,0),0)","v":0}]
[null,null,null,null,null,null,null,null,null,null,null,"Atrasado",null,null,null,0,0,{"$f":"IF(Table26[[#This Row],[Status Medida]]=\"Finalizado\",IF(Table26[[#This Row],[Sim/Não]]=1,1,0),0)","v":0}]
[null,null,null,null,null,null,null,null,null,null,null,"Atrasado",null,null,null,0,0,{"$f":"IF(Table26[[#This Row],[Status Medida]]=\"Finalizado\",IF(Table26[[#This Row],[Sim/Não]]=1,1,0),0)","v":0}]
[null,null,null,null,null,null,null,null,null,null,null,"Atrasado",null,null,null,0,0,{"$f":"IF(Table26[[#This Row],[Status Medida]]=\"Finalizado\",IF(Table26[[#This Row],[Sim/Não]]=1,1,0),0)","v":0}]
[null,null,null,null,null,null,null,null,null,null,null,"Atrasado",null,null,null,0,0,{"$f":"IF(Table26[[#This Row],[Status Medida]]=\"Finalizado\",IF(Table26[[#This Row],[Sim/Não]]=1,1,0),0)","v":0}]
[null,null,null,null,null,null,null,null,null,null,null,"Atrasado",null,null,null,0,0,{"$f":"IF(Table26[[#This Row],[Status Medida]]=\"Finalizado\",IF(Table26[[#This Row],[Sim/Não]]=1,1,0),0)","v":0}]
[null,null,null,null,null,null,null,null,null,null,null,"Atrasado",null,null,null,0,0,{"$f":"IF(Table26[[#This Row],[Status Medida]]=\"Finalizado\",IF(Table26[[#This Row],[Sim/Não]]=1,1,0),0)","v":0}]
[null,null,null,null,null,null,null,null,null,null,null,"Atrasado",null,null,null,0,0,{"$f":"IF(Table26[[#This Row],[Status Medida]]=\"Finalizado\",IF(Table26[[#This Row],[Sim/Não]]=1,1,0),0)","v":0}]
[null,null,null,null,null,null,null,null,null,null,null,"Atrasado",null,null,null,0,0,{"$f":"IF(Table26[[#This Row],[Status Medida]]=\"Finalizado\",IF(Table26[[#This Row],[Sim/Não]]=1,1,0),0)","v":0}]
[null,null,null,null,null,null,null,null,null,null,null,"Atrasado",null,null,null,0,0,{"$f":"IF(Table26[[#This Row],[Status Medida]]=\"Finalizado\",IF(Table26[[#This Row],[Sim/Não]]=1,1,0),0)","v":0}]
[null,null,null,null,null,null,null,null,null,null,null,"Atrasado",null,null,null,0,0,{"$f":"IF(Table26[[#This Row],[Status Medida]]=\"Finalizado\",IF(Table26[[#This Row],[Sim/Não]]=1,1,0),0)","v":0}]
[null,null,null,null,null,null,null,null,null,null,null,"Atrasado",null,null,null,0,0,{"$f":"IF(Table26[[#This Row],[Status Medida]]=\"Finalizado\",IF(Table26[[#This Row],[Sim/Não]]=1,1,0),0)","v":0}]
[null,null,null,null,null,null,null,null,null,null,null,"Atrasado",null,null,null,0,0,{"$f":"IF(Table26[[#This Row],[Status Medida]]=\"Finalizado\",IF(Table26[[#This Row],[Sim/Não]]=1,1,0),0)","v":0}]
[null,null,null,null,null,null,null,null,null,null,null,"Atrasado",null,null,null,0,0,{"$f":"IF(Table26[[#This Row],[Status Medida]]=\"Finalizado\",IF(Table26[[#This Row],[Sim/Não]]=1,1,0),0)","v":0}]
[null,null,null,null,null,null,null,null,null,null,null,"Atrasado",null,null,null,0,0,{"$f":"IF(Table26[[#This Row],[Status Medida]]=\"Finalizado\",IF(Table26[[#This Row],[Sim/Não]]=1,1,0),0)","v":0}]
[null,null,null,null,null,null,null,null,null,null,null,{"$f":"IF(J1026>K1026,\"Datas inválidas\",IF(M1026=\"Finalizado\",\"Concluído\",IF(J1026>TODAY(),\"Não iniciado\",_xlfn.IFS(J1026=TODAY(),\"Em andamento\",TODAY()>K1026,\"Atrasado\",AND(TODAY()>J1026,TODAY()<=K1026),\"Em andamento\"))))","v":"Atrasado"},null,null,null,{"$f":"IF(O1026=\"Sim\",1,0)","v":0},{"$f":"IF(N1026=E1026,0,1)","v":0},{"$f":"IF(Table26[[#This Row],[Status Medida]]=\"Finalizado\",IF(Table26[[#This Row],[Sim/Não]]=1,1,0),0)","v":0}]
[null,null,null,null,null,null,null,null,null,null,null,"Atrasado",null,null,null,0,0,{"$f":"IF(Table26[[#This Row],[Status Medida]]=\"Finalizado\",IF(Table26[[#This Row],[Sim/Não]]=1,1,0),0)","v":0}]
[null,null,null,null,null,null,null,null,null,null,null,"Atrasado",null,null,null,0,0,{"$f":"IF(Table26[[#This Row],[Status Medida]]=\"Finalizado\",IF(Table26[[#This Row],[Sim/Não]]=1,1,0),0)","v":0}]
[null,null,null,null,null,null,null,null,null,null,null,"Atrasado",null,null,null,0,0,{"$f":"IF(Table26[[#This Row],[Status Medida]]=\"Finalizado\",IF(Table26[[#This Row],[Sim/Não]]=1,1,0),0)","v":0}]
[null,null,null,null,null,null,null,null,null,null,null,"Atrasado",null,null,null,0,0,{"$f":"IF(Table26[[#This Row],[Status Medida]]=\"Finalizado\",IF(Table26[[#This Row],[Sim/Não]]=1,1,0),0)","v":0}]
[null,null,null,null,null,null,null,null,null,null,null,"Atrasado",null,null,null,0,0,{"$f":"IF(Table26[[#This Row],[Status Medida]]=\"Finalizado\",IF(Table26[[#This Row],[Sim/Não]]=1,1,0),0)","v":0}]
[null,null,null,null,null,null,null,null,null,null,null,"Atrasado",null,null,null,0,0,{"$f":"IF(Table26[[#This Row],[Status Medida]]=\"Finalizado\",IF(Table26[[#This Row],[Sim/Não]]=1,1,0),0)","v":0}]
[null,null,null,null,null,null,null,null,null,null,null,"Atrasado",null,null,null,0,0,{"$f":"IF(Table26[[#This Row],[Status Medida]]=\"Finalizado\",IF(Table26[[#This Row],[Sim/Não]]=1,1,0),0)","v":0}]
[null,null,null,null,null,null,null,null,null,null,null,"Atrasado",null,null,null,0,0,{"$f":"IF(Table26[[#This Row],[Status Medida]]=\"Finalizado\",IF(Table26[[#This Row],[Sim/Não]]=1,1,0),0)","v":0}]
[null,null,null,null,null,null,null,null,null,null,null,"Atrasado",null,null,null,0,0,{"$f":"IF(Table26[[#This Row],[Status Medida]]=\"Finalizado\",IF(Table26[[#This Row],[Sim/Não]]=1,1,0),0)","v":0}]
[null,null,null,null,null,null,null,null,null,null,null,"Atrasado",null,null,null,0,0,{"$f":"IF(Table26[[#This Row],[Status Medida]]=\"Finalizado\",IF(Table26[[#This Row],[Sim/Não]]=1,1,0),0)","v":0}]
[null,null,null,null,null,null,null,null,null,null,null,"Atrasado",null,null,null,0,0,{"$f":"IF(Table26[[#This Row],[Status Medida]]=\"Finalizado\",IF(Table26[[#This Row],[Sim/Não]]=1,1,0),0)","v":0}]
[null,null,null,null,null,null,null,null,null,null,null,"Atrasado",null,null,null,0,0,{"$f":"IF(Table26[[#This Row],[Status Medida]]=\"Finalizado\",IF(Table26[[#This Row],[Sim/Não]]=1,1,0),0)","v":0}]
[null,null,null,null,null,null,null,null,null,null,null,"Atrasado",null,null,null,0,0,{"$f":"IF(Table26[[#This Row],[Status Medida]]=\"Finalizado\",IF(Table26[[#This Row],[Sim/Não]]=1,1,0),0)","v":0}]
[null,null,null,null,null,null,null,null,null,null,null,"Atrasado",null,null,null,0,0,{"$f":"IF(Table26[[#This Row],[Status Medida]]=\"Finalizado\",IF(Table26[[#This Row],[Sim/Não]]=1,1,0),0)","v":0}]
[null,null,null,null,null,null,null,null,null,null,null,"Atrasado",null,null,null,0,0,{"$f":"IF(Table26[[#This Row],[Status Medida]]=\"Finalizado\",IF(Table26[[#This Row],[Sim/Não]]=1,1,0),0)","v":0}]
[null,null,null,null,null,null,null,null,null,null,null,"Atrasado",null,null,null,0,0,{"$f":"IF(Table26[[#This Row],[Status Medida]]=\"Finalizado\",IF(Table26[[#This Row],[Sim/Não]]=1,1,0),0)","v":0}]
[null,null,null,null,null,null,null,null,null,null,null,"Atrasado",null,null,null,0,0,{"$f":"IF(Table26[[#This Row],[Status Medida]]=\"Finalizado\",IF(Table26[[#This Row],[Sim/Não]]=1,1,0),0)","v":0}]
[null,null,null,null,null,null,null,null,null,null,null,"Atrasado",null,null,null,0,0,{"$f":"IF(Table26[[#This Row],[Status Medida]]=\"Finalizado\",IF(Table26[[#This Row],[Sim/Não]]=1,1,0),0)","v":0}]
[null,null,null,null,null,null,null,null,null,null,null,"Atrasado",null,null,null,0,0,{"$f":"IF(Table26[[#This Row],[Status Medida]]=\"Finalizado\",IF(Table26[[#This Row],[Sim/Não]]=1,1,0),0)","v":0}]
[null,null,null,null,null,null,null,null,null,null,null,"Atrasado",null,null,null,0,0,{"$f":"IF(Table26[[#This Row],[Status Medida]]=\"Finalizado\",IF(Table26[[#This Row],[Sim/Não]]=1,1,0),0)","v":0}]
[null,null,null,null,null,null,null,null,null,null,null,"Atrasado",null,null,null,0,0,{"$f":"IF(Table26[[#This Row],[Status Medida]]=\"Finalizado\",IF(Table26[[#This Row],[Sim/Não]]=1,1,0),0)","v":0}]
[null,null,null,null,null,null,null,null,null,null,null,"Atrasado",null,null,null,0,0,{"$f":"IF(Table26[[#This Row],[Status Medida]]=\"Finalizado\",IF(Table26[[#This Row],[Sim/Não]]=1,1,0),0)","v":0}]
[null,null,null,null,null,null,null,null,null,null,null,"Atrasado",null,null,null,0,0,{"$f":"IF(Table26[[#This Row],[Status Medida]]=\"Finalizado\",IF(Table26[[#This Row],[Sim/Não]]=1,1,0),0)","v":0}]
[null,null,null,null,null,null,null,null,null,null,null,"Atrasado",null,null,null,0,0,{"$f":"IF(Table26[[#This Row],[Status Medida]]=\"Finalizado\",IF(Table26[[#This Row],[Sim/Não]]=1,1,0),0)","v":0}]
[null,null,null,null,null,null,null,null,null,null,null,"Atrasado",null,null,null,0,0,{"$f":"IF(Table26[[#This Row],[Status Medida]]=\"Finalizado\",IF(Table26[[#This Row],[Sim/Não]]=1,1,0),0)","v":0}]
[null,null,null,null,null,null,null,null,null,null,null,"Atrasado",null,null,null,0,0,{"$f":"IF(Table26[[#This Row],[Status Medida]]=\"Finalizado\",IF(Table26[[#This Row],[Sim/Não]]=1,1,0),0)","v":0}]
[null,null,null,null,null,null,null,null,null,null,null,"Atrasado",null,null,null,0,0,{"$f":"IF(Table26[[#This Row],[Status Medida]]=\"Finalizado\",IF(Table26[[#This Row],[Sim/Não]]=1,1,0),0)","v":0}]
[null,null,null,null,null,null,null,null,null,null,null,"Atrasado",null,null,null,0,0,{"$f":"IF(Table26[[#This Row],[Status Medida]]=\"Finalizado\",IF(Table26[[#This Row],[Sim/Não]]=1,1,0),0)","v":0}]
[null,null,null,null,null,null,null,null,null,null,null,"Atrasado",null,null,null,0,0,{"$f":"IF(Table26[[#This Row],[Status Medida]]=\"Finalizado\",IF(Table26[[#This Row],[Sim/Não]]=1,1,0),0)","v":0}]
[null,null,null,null,null,null,null,null,null,null,null,"Atrasado",null,null,null,0,0,{"$f":"IF(Table26[[#This Row],[Status Medida]]=\"Finalizado\",IF(Table26[[#This Row],[Sim/Não]]=1,1,0),0)","v":0}]
[null,null,null,null,null,null,null,null,null,null,null,"Atrasado",null,null,null,0,0,{"$f":"IF(Table26[[#This Row],[Status Medida]]=\"Finalizado\",IF(Table26[[#This Row],[Sim/Não]]=1,1,0),0)","v":0}]
[null,null,null,null,null,null,null,null,null,null,null,"Atrasado",null,null,null,0,0,{"$f":"IF(Table26[[#This Row],[Status Medida]]=\"Finalizado\",IF(Table26[[#This Row],[Sim/Não]]=1,1,0),0)","v":0}]
[null,null,null,null,null,null,null,null,null,null,null,"Atrasado",null,null,null,0,0,{"$f":"IF(Table26[[#This Row],[Status Medida]]=\"Finalizado\",IF(Table26[[#This Row],[Sim/Não]]=1,1,0),0)","v":0}]
[null,null,null,null,null,null,null,null,null,null,null,"Atrasado",null,null,null,0,0,{"$f":"IF(Table26[[#This Row],[Status Medida]]=\"Finalizado\",IF(Table26[[#This Row],[Sim/Não]]=1,1,0),0)","v":0}]
[null,null,null,null,null,null,null,null,null,null,null,"Atrasado",null,null,null,0,0,{"$f":"IF(Table26[[#This Row],[Status Medida]]=\"Finalizado\",IF(Table26[[#This Row],[Sim/Não]]=1,1,0),0)","v":0}]
[null,null,null,null,null,null,null,null,null,null,null,"Atrasado",null,null,null,0,0,{"$f":"IF(Table26[[#This Row],[Status Medida]]=\"Finalizado\",IF(Table26[[#This Row],[Sim/Não]]=1,1,0),0)","v":0}]
[null,null,null,null,null,null,null,null,null,null,null,"Atrasado",null,null,null,0,0,{"$f":"IF(Table26[[#This Row],[Status Medida]]=\"Finalizado\",IF(Table26[[#This Row],[Sim/Não]]=1,1,0),0)","v":0}]
[null,null,null,null,null,null,null,null,null,null,null,"Atrasado",null,null,null,0,0,{"$f":"IF(Table26[[#This Row],[Status Medida]]=\"Finalizado\",IF(Table26[[#This Row],[Sim/Não]]=1,1,0),0)","v":0}]
[null,null,null,null,null,null,null,null,null,null,null,"Atrasado",null,null,null,0,0,{"$f":"IF(Table26[[#This Row],[Status Medida]]=\"Finalizado\",IF(Table26[[#This Row],[Sim/Não]]=1,1,0),0)","v":0}]
[null,null,null,null,null,null,null,null,null,null,null,"Atrasado",null,null,null,0,0,{"$f":"IF(Table26[[#This Row],[Status Medida]]=\"Finalizado\",IF(Table26[[#This Row],[Sim/Não]]=1,1,0),0)","v":0}]
[null,null,null,null,null,null,null,null,null,null,null,"Atrasado",null,null,null,0,0,{"$f":"IF(Table26[[#This Row],[Status Medida]]=\"Finalizado\",IF(Table26[[#This Row],[Sim/Não]]=1,1,0),0)","v":0}]
[null,null,null,null,null,null,null,null,null,null,null,"Atrasado",null,null,null,0,0,{"$f":"IF(Table26[[#This Row],[Status Medida]]=\"Finalizado\",IF(Table26[[#This Row],[Sim/Não]]=1,1,0),0)","v":0}]
[null,null,null,null,null,null,null,null,null,null,null,"Atrasado",null,null,null,0,0,{"$f":"IF(Table26[[#This Row],[Status Medida]]=\"Finalizado\",IF(Table26[[#This Row],[Sim/Não]]=1,1,0),0)","v":0}]
[null,null,null,null,null,null,null,null,null,null,null,"Atrasado",null,null,null,0,0,{"$f":"IF(Table26[[#This Row],[Status Medida]]=\"Finalizado\",IF(Table26[[#This Row],[Sim/Não]]=1,1,0),0)","v":0}]
[null,null,null,null,null,null,null,null,null,null,null,"Atrasado",null,null,null,0,0,{"$f":"IF(Table26[[#This Row],[Status Medida]]=\"Finalizado\",IF(Table26[[#This Row],[Sim/Não]]=1,1,0),0)","v":0}]
[null,null,null,null,null,null,null,null,null,null,null,"Atrasado",null,null,null,0,0,{"$f":"IF(Table26[[#This Row],[Status Medida]]=\"Finalizado\",IF(Table26[[#This Row],[Sim/Não]]=1,1,0),0)","v":0}]
[null,null,null,null,null,null,null,null,null,null,null,"Atrasado",null,null,null,0,0,{"$f":"IF(Table26[[#This Row],[Status Medida]]=\"Finalizado\",IF(Table26[[#This Row],[Sim/Não]]=1,1,0),0)","v":0}]
[null,null,null,null,null,null,null,null,null,null,null,"Atrasado",null,null,null,0,0,{"$f":"IF(Table26[[#This Row],[Status Medida]]=\"Finalizado\",IF(Table26[[#This Row],[Sim/Não]]=1,1,0),0)","v":0}]
[null,null,null,null,null,null,null,null,null,null,null,"Atrasado",null,null,null,0,0,{"$f":"IF(Table26[[#This Row],[Status Medida]]=\"Finalizado\",IF(Table26[[#This Row],[Sim/Não]]=1,1,0),0)","v":0}]
[null,null,null,null,null,null,null,null,null,null,null,"Atrasado",null,null,null,0,0,{"$f":"IF(Table26[[#This Row],[Status Medida]]=\"Finalizado\",IF(Table26[[#This Row],[Sim/Não]]=1,1,0),0)","v":0}]
[null,null,null,null,null,null,null,null,null,null,null,"Atrasado",null,null,null,0,0,{"$f":"IF(Table26[[#This Row],[Status Medida]]=\"Finalizado\",IF(Table26[[#This Row],[Sim/Não]]=1,1,0),0)","v":0}]
[null,null,null,null,null,null,null,null,null,null,null,"Atrasado",null,null,null,0,0,{"$f":"IF(Table26[[#This Row],[Status Medida]]=\"Finalizado\",IF(Table26[[#This Row],[Sim/Não]]=1,1,0),0)","v":0}]
[null,null,null,null,null,null,null,null,null,null,null,"Atrasado",null,null,null,0,0,{"$f":"IF(Table26[[#This Row],[Status Medida]]=\"Finalizado\",IF(Table26[[#This Row],[Sim/Não]]=1,1,0),0)","v":0}]
[null,null,null,null,null,null,null,null,null,null,null,"Atrasado",null,null,null,0,0,{"$f":"IF(Table26[[#This Row],[Status Medida]]=\"Finalizado\",IF(Table26[[#This Row],[Sim/Não]]=1,1,0),0)","v":0}]
[null,null,null,null,null,null,null,null,null,null,null,"Atrasado",null,null,null,0,0,{"$f":"IF(Table26[[#This Row],[Status Medida]]=\"Finalizado\",IF(Table26[[#This Row],[Sim/Não]]=1,1,0),0)","v":0}]
[null,null,null,null,null,null,null,null,null,null,null,"Atrasado",null,null,null,0,0,{"$f":"IF(Table26[[#This Row],[Status Medida]]=\"Finalizado\",IF(Table26[[#This Row],[Sim/Não]]=1,1,0),0)","v":0}]
[null,null,null,null,null,null,null,null,null,null,null,"Atrasado",null,null,null,0,0,{"$f":"IF(Table26[[#This Row],[Status Medida]]=\"Finalizado\",IF(Table26[[#This Row],[Sim/Não]]=1,1,0),0)","v":0}]
[null,null,null,null,null,null,null,null,null,null,null,"Atrasado",null,null,null,0,0,{"$f":"IF(Table26[[#This Row],[Status Medida]]=\"Finalizado\",IF(Table26[[#This Row],[Sim/Não]]=1,1,0),0)","v":0}]
[null,null,null,null,null,null,null,null,null,null,null,"Atrasado",null,null,null,0,0,{"$f":"IF(Table26[[#This Row],[Status Medida]]=\"Finalizado\",IF(Table26[[#This Row],[Sim/Não]]=1,1,0),0)","v":0}]
[null,null,null,null,null,null,null,null,null,null,null,"Atrasado",null,null,null,0,0,{"$f":"IF(Table26[[#This Row],[Status Medida]]=\"Finalizado\",IF(Table26[[#This Row],[Sim/Não]]=1,1,0),0)","v":0}]
[null,null,null,null,null,null,null,null,null,null,null,"Atrasado",null,null,null,0,0,{"$f":"IF(Table26[[#This Row],[Status Medida]]=\"Finalizado\",IF(Table26[[#This Row],[Sim/Não]]=1,1,0),0)","v":0}]
[null,null,null,null,null,null,null,null,null,null,null,"Atrasado",null,null,null,0,0,{"$f":"IF(Table26[[#This Row],[Status Medida]]=\"Finalizado\",IF(Table26[[#This Row],[Sim/Não]]=1,1,0),0)","v":0}]
[null,null,null,null,null,null,null,null,null,null,null,"Atrasado",null,null,null,0,0,{"$f":"IF(Table26[[#This Row],[Status Medida]]=\"Finalizado\",IF(Table26[[#This Row],[Sim/Não]]=1,1,0),0)","v":0}]
[null,null,null,null,null,null,null,null,null,null,null,{"$f":"IF(J1090>K1090,\"Datas inválidas\",IF(M1090=\"Finalizado\",\"Concluído\",IF(J1090>TODAY(),\"Não iniciado\",_xlfn.IFS(J1090=TODAY(),\"Em andamento\",TODAY()>K1090,\"Atrasado\",AND(TODAY()>J1090,TODAY()<=K1090),\"Em andamento\"))))","v":"Atrasado"},null,null,null,{"$f":"IF(O1090=\"Sim\",1,0)","v":0},{"$f":"IF(N1090=E1090,0,1)","v":0},{"$f":"IF(Table26[[#This Row],[Status Medida]]=\"Finalizado\",IF(Table26[[#This Row],[Sim/Não]]=1,1,0),0)","v":0}]
[null,null,null,null,null,null,null,null,null,null,null,"Atrasado",null,null,null,0,0,{"$f":"IF(Table26[[#This Row],[Status Medida]]=\"Finalizado\",IF(Table26[[#This Row],[Sim/Não]]=1,1,0),0)","v":0}]
[null,null,null,null,null,null,null,null,null,null,null,"Atrasado",null,null,null,0,0,{"$f":"IF(Table26[[#This Row],[Status Medida]]=\"Finalizado\",IF(Table26[[#This Row],[Sim/Não]]=1,1,0),0)","v":0}]
[null,null,null,null,null,null,null,null,null,null,null,"Atrasado",null,null,null,0,0,{"$f":"IF(Table26[[#This Row],[Status Medida]]=\"Finalizado\",IF(Table26[[#This Row],[Sim/Não]]=1,1,0),0)","v":0}]
[null,null,null,null,null,null,null,null,null,null,null,"Atrasado",null,null,null,0,0,{"$f":"IF(Table26[[#This Row],[Status Medida]]=\"Finalizado\",IF(Table26[[#This Row],[Sim/Não]]=1,1,0),0)","v":0}]
[null,null,null,null,null,null,null,null,null,null,null,"Atrasado",null,null,null,0,0,{"$f":"IF(Table26[[#This Row],[Status Medida]]=\"Finalizado\",IF(Table26[[#This Row],[Sim/Não]]=1,1,0),0)","v":0}]
[null,null,null,null,null,null,null,null,null,null,null,"Atrasado",null,null,null,0,0,{"$f":"IF(Table26[[#This Row],[Status Medida]]=\"Finalizado\",IF(Table26[[#This Row],[Sim/Não]]=1,1,0),0)","v":0}]
[null,null,null,null,null,null,null,null,null,null,null,"Atrasado",null,null,null,0,0,{"$f":"IF(Table26[[#This Row],[Status Medida]]=\"Finalizado\",IF(Table26[[#This Row],[Sim/Não]]=1,1,0),0)","v":0}]
[null,null,null,null,null,null,null,null,null,null,null,"Atrasado",null,null,null,0,0,{"$f":"IF(Table26[[#This Row],[Status Medida]]=\"Finalizado\",IF(Table26[[#This Row],[Sim/Não]]=1,1,0),0)","v":0}]
[null,null,null,null,null,null,null,null,null,null,null,"Atrasado",null,null,null,0,0,{"$f":"IF(Table26[[#This Row],[Status Medida]]=\"Finalizado\",IF(Table26[[#This Row],[Sim/Não]]=1,1,0),0)","v":0}]
[null,null,null,null,null,null,null,null,null,null,null,"Atrasado",null,null,null,0,0,{"$f":"IF(Table26[[#This Row],[Status Medida]]=\"Finalizado\",IF(Table26[[#This Row],[Sim/Não]]=1,1,0),0)","v":0}]
[null,null,null,null,null,null,null,null,null,null,null,"Atrasado",null,null,null,0,0,{"$f":"IF(Table26[[#This Row],[Status Medida]]=\"Finalizado\",IF(Table26[[#This Row],[Sim/Não]]=1,1,0),0)","v":0}]
[null,null,null,null,null,null,null,null,null,null,null,"Atrasado",null,null,null,0,0,{"$f":"IF(Table26[[#This Row],[Status Medida]]=\"Finalizado\",IF(Table26[[#This Row],[Sim/Não]]=1,1,0),0)","v":0}]
[null,null,null,null,null,null,null,null,null,null,null,"Atrasado",null,null,null,0,0,{"$f":"IF(Table26[[#This Row],[Status Medida]]=\"Finalizado\",IF(Table26[[#This Row],[Sim/Não]]=1,1,0),0)","v":0}]
[null,null,null,null,null,null,null,null,null,null,null,"Atrasado",null,null,null,0,0,{"$f":"IF(Table26[[#This Row],[Status Medida]]=\"Finalizado\",IF(Table26[[#This Row],[Sim/Não]]=1,1,0),0)","v":0}]
[null,null,null,null,null,null,null,null,null,null,null,"Atrasado",null,null,null,0,0,{"$f":"IF(Table26[[#This Row],[Status Medida]]=\"Finalizado\",IF(Table26[[#This Row],[Sim/Não]]=1,1,0),0)","v":0}]
[null,null,null,null,null,null,null,null,null,null,null,"Atrasado",null,null,null,0,0,{"$f":"IF(Table26[[#This Row],[Status Medida]]=\"Finalizado\",IF(Table26[[#This Row],[Sim/Não]]=1,1,0),0)","v":0}]
[null,null,null,null,null,null,null,null,null,null,null,"Atrasado",null,null,null,0,0,{"$f":"IF(Table26[[#This Row],[Status Medida]]=\"Finalizado\",IF(Table26[[#This Row],[Sim/Não]]=1,1,0),0)","v":0}]
[null,null,null,null,null,null,null,null,null,null,null,"Atrasado",null,null,null,0,0,{"$f":"IF(Table26[[#This Row],[Status Medida]]=\"Finalizado\",IF(Table26[[#This Row],[Sim/Não]]=1,1,0),0)","v":0}]
[null,null,null,null,null,null,null,null,null,null,null,"Atrasado",null,null,null,0,0,{"$f":"IF(Table26[[#This Row],[Status Medida]]=\"Finalizado\",IF(Table26[[#This Row],[Sim/Não]]=1,1,0),0)","v":0}]
[null,null,null,null,null,null,null,null,null,null,null,"Atrasado",null,null,null,0,0,{"$f":"IF(Table26[[#This Row],[Status Medida]]=\"Finalizado\",IF(Table26[[#This Row],[Sim/Não]]=1,1,0),0)","v":0}]
[null,null,null,null,null,null,null,null,null,null,null,"Atrasado",null,null,null,0,0,{"$f":"IF(Table26[[#This Row],[Status Medida]]=\"Finalizado\",IF(Table26[[#This Row],[Sim/Não]]=1,1,0),0)","v":0}]
[null,null,null,null,null,null,null,null,null,null,null,"Atrasado",null,null,null,0,0,{"$f":"IF(Table26[[#This Row],[Status Medida]]=\"Finalizado\",IF(Table26[[#This Row],[Sim/Não]]=1,1,0),0)","v":0}]
[null,null,null,null,null,null,null,null,null,null,null,"Atrasado",null,null,null,0,0,{"$f":"IF(Table26[[#This Row],[Status Medida]]=\"Finalizado\",IF(Table26[[#This Row],[Sim/Não]]=1,1,0),0)","v":0}]
[null,null,null,null,null,null,null,null,null,null,null,"Atrasado",null,null,null,0,0,{"$f":"IF(Table26[[#This Row],[Status Medida]]=\"Finalizado\",IF(Table26[[#This Row],[Sim/Não]]=1,1,0),0)","v":0}]
[null,null,null,null,null,null,null,null,null,null,null,"Atrasado",null,null,null,0,0,{"$f":"IF(Table26[[#This Row],[Status Medida]]=\"Finalizado\",IF(Table26[[#This Row],[Sim/Não]]=1,1,0),0)","v":0}]
[null,null,null,null,null,null,null,null,null,null,null,"Atrasado",null,null,null,0,0,{"$f":"IF(Table26[[#This Row],[Status Medida]]=\"Finalizado\",IF(Table26[[#This Row],[Sim/Não]]=1,1,0),0)","v":0}]
[null,null,null,null,null,null,null,null,null,null,null,"Atrasado",null,null,null,0,0,{"$f":"IF(Table26[[#This Row],[Status Medida]]=\"Finalizado\",IF(Table26[[#This Row],[Sim/Não]]=1,1,0),0)","v":0}]
[null,null,null,null,null,null,null,null,null,null,null,"Atrasado",null,null,null,0,0,{"$f":"IF(Table26[[#This Row],[Status Medida]]=\"Finalizado\",IF(Table26[[#This Row],[Sim/Não]]=1,1,0),0)","v":0}]
[null,null,null,null,null,null,null,null,null,null,null,"Atrasado",null,null,null,0,0,{"$f":"IF(Table26[[#This Row],[Status Medida]]=\"Finalizado\",IF(Table26[[#This Row],[Sim/Não]]=1,1,0),0)","v":0}]
[null,null,null,null,null,null,null,null,null,null,null,"Atrasado",null,null,null,0,0,{"$f":"IF(Table26[[#This Row],[Status Medida]]=\"Finalizado\",IF(Table26[[#This Row],[Sim/Não]]=1,1,0),0)","v":0}]
[null,null,null,null,null,null,null,null,null,null,null,"Atrasado",null,null,null,0,0,{"$f":"IF(Table26[[#This Row],[Status Medida]]=\"Finalizado\",IF(Table26[[#This Row],[Sim/Não]]=1,1,0),0)","v":0}]
[null,null,null,null,null,null,null,null,null,null,null,"Atrasado",null,null,null,0,0,{"$f":"IF(Table26[[#This Row],[Status Medida]]=\"Finalizado\",IF(Table26[[#This Row],[Sim/Não]]=1,1,0),0)","v":0}]
[null,null,null,null,null,null,null,null,null,null,null,"Atrasado",null,null,null,0,0,{"$f":"IF(Table26[[#This Row],[Status Medida]]=\"Finalizado\",IF(Table26[[#This Row],[Sim/Não]]=1,1,0),0)","v":0}]
[null,null,null,null,null,null,null,null,null,null,null,"Atrasado",null,null,null,0,0,{"$f":"IF(Table26[[#This Row],[Status Medida]]=\"Finalizado\",IF(Table26[[#This Row],[Sim/Não]]=1,1,0),0)","v":0}]
[null,null,null,null,null,null,null,null,null,null,null,"Atrasado",null,null,null,0,0,{"$f":"IF(Table26[[#This Row],[Status Medida]]=\"Finalizado\",IF(Table26[[#This Row],[Sim/Não]]=1,1,0),0)","v":0}]
[null,null,null,null,null,null,null,null,null,null,null,"Atrasado",null,null,null,0,0,{"$f":"IF(Table26[[#This Row],[Status Medida]]=\"Finalizado\",IF(Table26[[#This Row],[Sim/Não]]=1,1,0),0)","v":0}]
[null,null,null,null,null,null,null,null,null,null,null,"Atrasado",null,null,null,0,0,{"$f":"IF(Table26[[#This Row],[Status Medida]]=\"Finalizado\",IF(Table26[[#This Row],[Sim/Não]]=1,1,0),0)","v":0}]
[null,null,null,null,null,null,null,null,null,null,null,"Atrasado",null,null,null,0,0,{"$f":"IF(Table26[[#This Row],[Status Medida]]=\"Finalizado\",IF(Table26[[#This Row],[Sim/Não]]=1,1,0),0)","v":0}]
[null,null,null,null,null,null,null,null,null,null,null,"Atrasado",null,null,null,0,0,{"$f":"IF(Table26[[#This Row],[Status Medida]]=\"Finalizado\",IF(Table26[[#This Row],[Sim/Não]]=1,1,0),0)","v":0}]
[null,null,null,null,null,null,null,null,null,null,null,"Atrasado",null,null,null,0,0,{"$f":"IF(Table26[[#This Row],[Status Medida]]=\"Finalizado\",IF(Table26[[#This Row],[Sim/Não]]=1,1,0),0)","v":0}]
[null,null,null,null,null,null,null,null,null,null,null,"Atrasado",null,null,null,0,0,{"$f":"IF(Table26[[#This Row],[Status Medida]]=\"Finalizado\",IF(Table26[[#This Row],[Sim/Não]]=1,1,0),0)","v":0}]
[null,null,null,null,null,null,null,null,null,null,null,"Atrasado",null,null,null,0,0,{"$f":"IF(Table26[[#This Row],[Status Medida]]=\"Finalizado\",IF(Table26[[#This Row],[Sim/Não]]=1,1,0),0)","v":0}]
[null,null,null,null,null,null,null,null,null,null,null,"Atrasado",null,null,null,0,0,{"$f":"IF(Table26[[#This Row],[Status Medida]]=\"Finalizado\",IF(Table26[[#This Row],[Sim/Não]]=1,1,0),0)","v":0}]
[null,null,null,null,null,null,null,null,null,null,null,"Atrasado",null,null,null,0,0,{"$f":"IF(Table26[[#This Row],[Status Medida]]=\"Finalizado\",IF(Table26[[#This Row],[Sim/Não]]=1,1,0),0)","v":0}]
[null,null,null,null,null,null,null,null,null,null,null,"Atrasado",null,null,null,0,0,{"$f":"IF(Table26[[#This Row],[Status Medida]]=\"Finalizado\",IF(Table26[[#This Row],[Sim/Não]]=1,1,0),0)","v":0}]
[null,null,null,null,null,null,null,null,null,null,null,"Atrasado",null,null,null,0,0,{"$f":"IF(Table26[[#This Row],[Status Medida]]=\"Finalizado\",IF(Table26[[#This Row],[Sim/Não]]=1,1,0),0)","v":0}]
[null,null,null,null,null,null,null,null,null,null,null,"Atrasado",null,null,null,0,0,{"$f":"IF(Table26[[#This Row],[Status Medida]]=\"Finalizado\",IF(Table26[[#This Row],[Sim/Não]]=1,1,0),0)","v":0}]
[null,null,null,null,null,null,null,null,null,null,null,"Atrasado",null,null,null,0,0,{"$f":"IF(Table26[[#This Row],[Status Medida]]=\"Finalizado\",IF(Table26[[#This Row],[Sim/Não]]=1,1,0),0)","v":0}]
[null,null,null,null,null,null,null,null,null,null,null,"Atrasado",null,null,null,0,0,{"$f":"IF(Table26[[#This Row],[Status Medida]]=\"Finalizado\",IF(Table26[[#This Row],[Sim/Não]]=1,1,0),0)","v":0}]
[null,null,null,null,null,null,null,null,null,null,null,"Atrasado",null,null,null,0,0,{"$f":"IF(Table26[[#This Row],[Status Medida]]=\"Finalizado\",IF(Table26[[#This Row],[Sim/Não]]=1,1,0),0)","v":0}]
[null,null,null,null,null,null,null,null,null,null,null,"Atrasado",null,null,null,0,0,{"$f":"IF(Table26[[#This Row],[Status Medida]]=\"Finalizado\",IF(Table26[[#This Row],[Sim/Não]]=1,1,0),0)","v":0}]
[null,null,null,null,null,null,null,null,null,null,null,"Atrasado",null,null,null,0,0,{"$f":"IF(Table26[[#This Row],[Status Medida]]=\"Finalizado\",IF(Table26[[#This Row],[Sim/Não]]=1,1,0),0)","v":0}]
[null,null,null,null,null,null,null,null,null,null,null,"Atrasado",null,null,null,0,0,{"$f":"IF(Table26[[#This Row],[Status Medida]]=\"Finalizado\",IF(Table26[[#This Row],[Sim/Não]]=1,1,0),0)","v":0}]
[null,null,null,null,null,null,null,null,null,null,null,"Atrasado",null,null,null,0,0,{"$f":"IF(Table26[[#This Row],[Status Medida]]=\"Finalizado\",IF(Table26[[#This Row],[Sim/Não]]=1,1,0),0)","v":0}]
[null,null,null,null,null,null,null,null,null,null,null,"Atrasado",null,null,null,0,0,{"$f":"IF(Table26[[#This Row],[Status Medida]]=\"Finalizado\",IF(Table26[[#This Row],[Sim/Não]]=1,1,0),0)","v":0}]
[null,null,null,null,null,null,null,null,null,null,null,"Atrasado",null,null,null,0,0,{"$f":"IF(Table26[[#This Row],[Status Medida]]=\"Finalizado\",IF(Table26[[#This Row],[Sim/Não]]=1,1,0),0)","v":0}]
[null,null,null,null,null,null,null,null,null,null,null,"Atrasado",null,null,null,0,0,{"$f":"IF(Table26[[#This Row],[Status Medida]]=\"Finalizado\",IF(Table26[[#This Row],[Sim/Não]]=1,1,0),0)","v":0}]
[null,null,null,null,null,null,null,null,null,null,null,"Atrasado",null,null,null,0,0,{"$f":"IF(Table26[[#This Row],[Status Medida]]=\"Finalizado\",IF(Table26[[#This Row],[Sim/Não]]=1,1,0),0)","v":0}]
[null,null,null,null,null,null,null,null,null,null,null,"Atrasado",null,null,null,0,0,{"$f":"IF(Table26[[#This Row],[Status Medida]]=\"Finalizado\",IF(Table26[[#This Row],[Sim/Não]]=1,1,0),0)","v":0}]
[null,null,null,null,null,null,null,null,null,null,null,"Atrasado",null,null,null,0,0,{"$f":"IF(Table26[[#This Row],[Status Medida]]=\"Finalizado\",IF(Table26[[#This Row],[Sim/Não]]=1,1,0),0)","v":0}]
[null,null,null,null,null,null,null,null,null,null,null,"Atrasado",null,null,null,0,0,{"$f":"IF(Table26[[#This Row],[Status Medida]]=\"Finalizado\",IF(Table26[[#This Row],[Sim/Não]]=1,1,0),0)","v":0}]
[null,null,null,null,null,null,null,null,null,null,null,"Atrasado",null,null,null,0,0,{"$f":"IF(Table26[[#This Row],[Status Medida]]=\"Finalizado\",IF(Table26[[#This Row],[Sim/Não]]=1,1,0),0)","v":0}]
[null,null,null,null,null,null,null,null,null,null,null,"Atrasado",null,null,null,0,0,{"$f":"IF(Table26[[#This Row],[Status Medida]]=\"Finalizado\",IF(Table26[[#This Row],[Sim/Não]]=1,1,0),0)","v":0}]
[null,null,null,null,null,null,null,null,null,null,null,{"$f":"IF(J1154>K1154,\"Datas inválidas\",IF(M1154=\"Finalizado\",\"Concluído\",IF(J1154>TODAY(),\"Não iniciado\",_xlfn.IFS(J1154=TODAY(),\"Em andamento\",TODAY()>K1154,\"Atrasado\",AND(TODAY()>J1154,TODAY()<=K1154),\"Em andamento\"))))","v":"Atrasado"},null,null,null,{"$f":"IF(O1154=\"Sim\",1,0)","v":0},0,{"$f":"IF(Table26[[#This Row],[Status Medida]]=\"Finalizado\",IF(Table26[[#This Row],[Sim/Não]]=1,1,0),0)","v":0}]
[null,null,null,null,null,null,null,null,null,null,null,"Atrasado",null,null,null,0,0,{"$f":"IF(Table26[[#This Row],[Status Medida]]=\"Finalizado\",IF(Table26[[#This Row],[Sim/Não]]=1,1,0),0)","v":0}]
[null,null,null,null,null,null,null,null,null,null,null,"Atrasado",null,null,null,0,0,{"$f":"IF(Table26[[#This Row],[Status Medida]]=\"Finalizado\",IF(Table26[[#This Row],[Sim/Não]]=1,1,0),0)","v":0}]
[null,null,null,null,null,null,null,null,null,null,null,"Atrasado",null,null,null,0,0,{"$f":"IF(Table26[[#This Row],[Status Medida]]=\"Finalizado\",IF(Table26[[#This Row],[Sim/Não]]=1,1,0),0)","v":0}]
[null,null,null,null,null,null,null,null,null,null,null,"Atrasado",null,null,null,0,0,{"$f":"IF(Table26[[#This Row],[Status Medida]]=\"Finalizado\",IF(Table26[[#This Row],[Sim/Não]]=1,1,0),0)","v":0}]
[null,null,null,null,null,null,null,null,null,null,null,{"$f":"IF(J1159>K1159,\"Datas inválidas\",IF(M1159=\"Finalizado\",\"Concluído\",IF(J1159>TODAY(),\"Não iniciado\",_xlfn.IFS(J1159=TODAY(),\"Em andamento\",TODAY()>K1159,\"Atrasado\",AND(TODAY()>J1159,TODAY()<=K1159),\"Em andamento\"))))","v":"Atrasado"},"-",null,null,{"$f":"IF(O1159=\"Sim\",1,0)","v":0},{"$f":"IF(N1159=E1159,0,1)","v":0},{"$f":"IF(Table26[[#This Row],[Status Medida]]=\"Finalizado\",IF(Table26[[#This Row],[Sim/Não]]=1,1,0),0)","v":0}]
[null,null,null,null,null,null,null,null,null,null,null,"Atrasado","-",null,null,0,0,{"$f":"IF(Table26[[#This Row],[Status Medida]]=\"Finalizado\",IF(Table26[[#This Row],[Sim/Não]]=1,1,0),0)","v":0}]
[null,null,null,null,null,null,null,null,null,null,null,"Atrasado","-",null,null,0,0,{"$f":"IF(Table26[[#This Row],[Status Medida]]=\"Finalizado\",IF(Table26[[#This Row],[Sim/Não]]=1,1,0),0)","v":0}]
[null,null,null,null,null,null,null,null,null,null,null,"Atrasado",null,null,null,0,0,{"$f":"IF(Table26[[#This Row],[Status Medida]]=\"Finalizado\",IF(Table26[[#This Row],[Sim/Não]]=1,1,0),0)","v":0}]
[null,null,null,null,null,null,null,null,null,null,null,"Atrasado",null,null,null,0,0,{"$f":"IF(Table26[[#This Row],[Status Medida]]=\"Finalizado\",IF(Table26[[#This Row],[Sim/Não]]=1,1,0),0)","v":0}]
[null,null,null,null,null,null,null,null,null,null,null,"Atrasado",null,null,null,0,0,{"$f":"IF(Table26[[#This Row],[Status Medida]]=\"Finalizado\",IF(Table26[[#This Row],[Sim/Não]]=1,1,0),0)","v":0}]
[null,null,null,null,null,null,null,null,null,null,null,"Atrasado",null,null,null,0,0,{"$f":"IF(Table26[[#This Row],[Status Medida]]=\"Finalizado\",IF(Table26[[#This Row],[Sim/Não]]=1,1,0),0)","v":0}]
[null,null,null,null,null,null,null,null,null,null,null,"Atrasado",null,null,null,0,0,{"$f":"IF(Table26[[#This Row],[Status Medida]]=\"Finalizado\",IF(Table26[[#This Row],[Sim/Não]]=1,1,0),0)","v":0}]
[null,null,null,null,null,null,null,null,null,null,null,"Atrasado",null,null,null,0,0,{"$f":"IF(Table26[[#This Row],[Status Medida]]=\"Finalizado\",IF(Table26[[#This Row],[Sim/Não]]=1,1,0),0)","v":0}]
[null,null,null,null,null,null,null,null,null,null,null,"Atrasado",null,null,null,0,0,{"$f":"IF(Table26[[#This Row],[Status Medida]]=\"Finalizado\",IF(Table26[[#This Row],[Sim/Não]]=1,1,0),0)","v":0}]
[null,null,null,null,null,null,null,null,null,null,null,"Atrasado",null,null,null,0,0,{"$f":"IF(Table26[[#This Row],[Status Medida]]=\"Finalizado\",IF(Table26[[#This Row],[Sim/Não]]=1,1,0),0)","v":0}]
[null,null,null,null,null,null,null,null,null,null,null,"Atrasado",null,null,null,0,0,{"$f":"IF(Table26[[#This Row],[Status Medida]]=\"Finalizado\",IF(Table26[[#This Row],[Sim/Não]]=1,1,0),0)","v":0}]
[null,null,null,null,null,null,null,null,null,null,null,"Atrasado",null,null,null,0,0,{"$f":"IF(Table26[[#This Row],[Status Medida]]=\"Finalizado\",IF(Table26[[#This Row],[Sim/Não]]=1,1,0),0)","v":0}]
[null,null,null,null,null,null,null,null,null,null,null,"Atrasado",null,null,null,0,0,{"$f":"IF(Table26[[#This Row],[Status Medida]]=\"Finalizado\",IF(Table26[[#This Row],[Sim/Não]]=1,1,0),0)","v":0}]
[null,null,null,null,null,null,null,null,null,null,null,"Atrasado",null,null,null,0,0,{"$f":"IF(Table26[[#This Row],[Status Medida]]=\"Finalizado\",IF(Table26[[#This Row],[Sim/Não]]=1,1,0),0)","v":0}]
[null,null,null,null,null,null,null,null,null,null,null,"Atrasado",null,null,null,0,0,{"$f":"IF(Table26[[#This Row],[Status Medida]]=\"Finalizado\",IF(Table26[[#This Row],[Sim/Não]]=1,1,0),0)","v":0}]
[null,null,null,null,null,null,null,null,null,null,null,"Atrasado",null,null,null,0,0,{"$f":"IF(Table26[[#This Row],[Status Medida]]=\"Finalizado\",IF(Table26[[#This Row],[Sim/Não]]=1,1,0),0)","v":0}]
[null,null,null,null,null,null,null,null,null,null,null,"Atrasado",null,null,null,0,0,{"$f":"IF(Table26[[#This Row],[Status Medida]]=\"Finalizado\",IF(Table26[[#This Row],[Sim/Não]]=1,1,0),0)","v":0}]
[null,null,null,null,null,null,null,null,null,null,null,"Atrasado",null,null,null,0,0,{"$f":"IF(Table26[[#This Row],[Status Medida]]=\"Finalizado\",IF(Table26[[#This Row],[Sim/Não]]=1,1,0),0)","v":0}]
[null,null,null,null,null,null,null,null,null,null,null,"Atrasado",null,null,null,0,0,{"$f":"IF(Table26[[#This Row],[Status Medida]]=\"Finalizado\",IF(Table26[[#This Row],[Sim/Não]]=1,1,0),0)","v":0}]
[null,null,null,null,null,null,null,null,null,null,null,"Atrasado",null,null,null,0,0,{"$f":"IF(Table26[[#This Row],[Status Medida]]=\"Finalizado\",IF(Table26[[#This Row],[Sim/Não]]=1,1,0),0)","v":0}]
[null,null,null,null,null,null,null,null,null,null,null,"Atrasado",null,null,null,0,0,{"$f":"IF(Table26[[#This Row],[Status Medida]]=\"Finalizado\",IF(Table26[[#This Row],[Sim/Não]]=1,1,0),0)","v":0}]
[null,null,null,null,null,null,null,null,null,null,null,"Atrasado",null,null,null,0,0,{"$f":"IF(Table26[[#This Row],[Status Medida]]=\"Finalizado\",IF(Table26[[#This Row],[Sim/Não]]=1,1,0),0)","v":0}]
[null,null,null,null,null,null,null,null,null,null,null,"Atrasado",null,null,null,0,0,{"$f":"IF(Table26[[#This Row],[Status Medida]]=\"Finalizado\",IF(Table26[[#This Row],[Sim/Não]]=1,1,0),0)","v":0}]
[null,null,null,null,null,null,null,null,null,null,null,"Atrasado",null,null,null,0,0,{"$f":"IF(Table26[[#This Row],[Status Medida]]=\"Finalizado\",IF(Table26[[#This Row],[Sim/Não]]=1,1,0),0)","v":0}]
[null,null,null,null,null,null,null,null,null,null,null,"Atrasado",null,null,null,0,0,{"$f":"IF(Table26[[#This Row],[Status Medida]]=\"Finalizado\",IF(Table26[[#This Row],[Sim/Não]]=1,1,0),0)","v":0}]
[null,null,null,null,null,null,null,null,null,null,null,"Atrasado",null,null,null,0,0,{"$f":"IF(Table26[[#This Row],[Status Medida]]=\"Finalizado\",IF(Table26[[#This Row],[Sim/Não]]=1,1,0),0)","v":0}]
[null,null,null,null,null,null,null,null,null,null,null,"Atrasado",null,null,null,0,0,{"$f":"IF(Table26[[#This Row],[Status Medida]]=\"Finalizado\",IF(Table26[[#This Row],[Sim/Não]]=1,1,0),0)","v":0}]
[null,null,null,null,null,null,null,null,null,null,null,"Atrasado",null,null,null,0,0,{"$f":"IF(Table26[[#This Row],[Status Medida]]=\"Finalizado\",IF(Table26[[#This Row],[Sim/Não]]=1,1,0),0)","v":0}]
[null,null,null,null,null,null,null,null,null,null,null,"Atrasado",null,null,null,0,0,{"$f":"IF(Table26[[#This Row],[Status Medida]]=\"Finalizado\",IF(Table26[[#This Row],[Sim/Não]]=1,1,0),0)","v":0}]
[null,null,null,null,null,null,null,null,null,null,null,"Atrasado",null,null,null,0,0,{"$f":"IF(Table26[[#This Row],[Status Medida]]=\"Finalizado\",IF(Table26[[#This Row],[Sim/Não]]=1,1,0),0)","v":0}]
[null,null,null,null,null,null,null,null,null,null,null,"Atrasado",null,null,null,0,0,{"$f":"IF(Table26[[#This Row],[Status Medida]]=\"Finalizado\",IF(Table26[[#This Row],[Sim/Não]]=1,1,0),0)","v":0}]
[null,null,null,null,null,null,null,null,null,null,null,"Atrasado",null,null,null,0,0,{"$f":"IF(Table26[[#This Row],[Status Medida]]=\"Finalizado\",IF(Table26[[#This Row],[Sim/Não]]=1,1,0),0)","v":0}]
[null,null,null,null,null,null,null,null,null,null,null,"Atrasado",null,null,null,0,0,{"$f":"IF(Table26[[#This Row],[Status Medida]]=\"Finalizado\",IF(Table26[[#This Row],[Sim/Não]]=1,1,0),0)","v":0}]
[null,null,null,null,null,null,null,null,null,null,null,"Atrasado",null,null,null,0,0,{"$f":"IF(Table26[[#This Row],[Status Medida]]=\"Finalizado\",IF(Table26[[#This Row],[Sim/Não]]=1,1,0),0)","v":0}]
[null,null,null,null,null,null,null,null,null,null,null,"Atrasado",null,null,null,0,0,{"$f":"IF(Table26[[#This Row],[Status Medida]]=\"Finalizado\",IF(Table26[[#This Row],[Sim/Não]]=1,1,0),0)","v":0}]
[null,null,null,null,null,null,null,null,null,null,null,"Atrasado",null,null,null,0,0,{"$f":"IF(Table26[[#This Row],[Status Medida]]=\"Finalizado\",IF(Table26[[#This Row],[Sim/Não]]=1,1,0),0)","v":0}]
[null,null,null,null,null,null,null,null,null,null,null,"Atrasado",null,null,null,0,0,{"$f":"IF(Table26[[#This Row],[Status Medida]]=\"Finalizado\",IF(Table26[[#This Row],[Sim/Não]]=1,1,0),0)","v":0}]
[null,null,null,null,null,null,null,null,null,null,null,"Atrasado",null,null,null,0,0,{"$f":"IF(Table26[[#This Row],[Status Medida]]=\"Finalizado\",IF(Table26[[#This Row],[Sim/Não]]=1,1,0),0)","v":0}]
[null,null,null,null,null,null,null,null,null,null,null,"Atrasado",null,null,null,0,0,{"$f":"IF(Table26[[#This Row],[Status Medida]]=\"Finalizado\",IF(Table26[[#This Row],[Sim/Não]]=1,1,0),0)","v":0}]
[null,null,null,null,null,null,null,null,null,null,null,"Atrasado",null,null,null,0,0,{"$f":"IF(Table26[[#This Row],[Status Medida]]=\"Finalizado\",IF(Table26[[#This Row],[Sim/Não]]=1,1,0),0)","v":0}]
[null,null,null,null,null,null,null,null,null,null,null,"Atrasado",null,null,null,0,0,{"$f":"IF(Table26[[#This Row],[Status Medida]]=\"Finalizado\",IF(Table26[[#This Row],[Sim/Não]]=1,1,0),0)","v":0}]
[null,null,null,null,null,null,null,null,null,null,null,"Atrasado",null,null,null,0,0,{"$f":"IF(Table26[[#This Row],[Status Medida]]=\"Finalizado\",IF(Table26[[#This Row],[Sim/Não]]=1,1,0),0)","v":0}]
[null,null,null,null,null,null,null,null,null,null,null,"Atrasado",null,null,null,0,0,{"$f":"IF(Table26[[#This Row],[Status Medida]]=\"Finalizado\",IF(Table26[[#This Row],[Sim/Não]]=1,1,0),0)","v":0}]
[null,null,null,null,null,null,null,null,null,null,null,"Atrasado",null,null,null,0,0,{"$f":"IF(Table26[[#This Row],[Status Medida]]=\"Finalizado\",IF(Table26[[#This Row],[Sim/Não]]=1,1,0),0)","v":0}]
[null,null,null,null,null,null,null,null,null,null,null,"Atrasado",null,null,null,0,0,{"$f":"IF(Table26[[#This Row],[Status Medida]]=\"Finalizado\",IF(Table26[[#This Row],[Sim/Não]]=1,1,0),0)","v":0}]
[null,null,null,null,null,null,null,null,null,null,null,"Atrasado",null,null,null,0,0,{"$f":"IF(Table26[[#This Row],[Status Medida]]=\"Finalizado\",IF(Table26[[#This Row],[Sim/Não]]=1,1,0),0)","v":0}]
[null,null,null,null,null,null,null,null,null,null,null,"Atrasado",null,null,null,0,0,{"$f":"IF(Table26[[#This Row],[Status Medida]]=\"Finalizado\",IF(Table26[[#This Row],[Sim/Não]]=1,1,0),0)","v":0}]
[null,null,null,null,null,null,null,null,null,null,null,"Atrasado",null,null,null,0,0,{"$f":"IF(Table26[[#This Row],[Status Medida]]=\"Finalizado\",IF(Table26[[#This Row],[Sim/Não]]=1,1,0),0)","v":0}]
[null,null,null,null,null,null,null,null,null,null,null,"Atrasado",null,null,null,0,0,{"$f":"IF(Table26[[#This Row],[Status Medida]]=\"Finalizado\",IF(Table26[[#This Row],[Sim/Não]]=1,1,0),0)","v":0}]
[null,null,null,null,null,null,null,null,null,null,null,"Atrasado",null,null,null,0,0,{"$f":"IF(Table26[[#This Row],[Status Medida]]=\"Finalizado\",IF(Table26[[#This Row],[Sim/Não]]=1,1,0),0)","v":0}]
[null,null,null,null,null,null,null,null,null,null,null,"Atrasado",null,null,null,0,0,{"$f":"IF(Table26[[#This Row],[Status Medida]]=\"Finalizado\",IF(Table26[[#This Row],[Sim/Não]]=1,1,0),0)","v":0}]
[null,null,null,null,null,null,null,null,null,null,null,"Atrasado",null,null,null,0,0,{"$f":"IF(Table26[[#This Row],[Status Medida]]=\"Finalizado\",IF(Table26[[#This Row],[Sim/Não]]=1,1,0),0)","v":0}]
[null,null,null,null,null,null,null,null,null,null,null,"Atrasado",null,null,null,0,0,{"$f":"IF(Table26[[#This Row],[Status Medida]]=\"Finalizado\",IF(Table26[[#This Row],[Sim/Não]]=1,1,0),0)","v":0}]
[null,null,null,null,null,null,null,null,null,null,null,"Atrasado",null,null,null,0,0,{"$f":"IF(Table26[[#This Row],[Status Medida]]=\"Finalizado\",IF(Table26[[#This Row],[Sim/Não]]=1,1,0),0)","v":0}]
[null,null,null,null,null,null,null,null,null,null,null,"Atrasado",null,null,null,0,0,{"$f":"IF(Table26[[#This Row],[Status Medida]]=\"Finalizado\",IF(Table26[[#This Row],[Sim/Não]]=1,1,0),0)","v":0}]
[null,null,null,null,null,null,null,null,null,null,null,"Atrasado",null,null,null,0,0,{"$f":"IF(Table26[[#This Row],[Status Medida]]=\"Finalizado\",IF(Table26[[#This Row],[Sim/Não]]=1,1,0),0)","v":0}]
[null,null,null,null,null,null,null,null,null,null,null,"Atrasado",null,null,null,0,0,{"$f":"IF(Table26[[#This Row],[Status Medida]]=\"Finalizado\",IF(Table26[[#This Row],[Sim/Não]]=1,1,0),0)","v":0}]
[null,null,null,null,null,null,null,null,null,null,null,"Atrasado",null,null,null,0,0,{"$f":"IF(Table26[[#This Row],[Status Medida]]=\"Finalizado\",IF(Table26[[#This Row],[Sim/Não]]=1,1,0),0)","v":0}]
[null,null,null,null,null,null,null,null,null,null,null,"Atrasado",null,null,null,0,0,{"$f":"IF(Table26[[#This Row],[Status Medida]]=\"Finalizado\",IF(Table26[[#This Row],[Sim/Não]]=1,1,0),0)","v":0}]
[null,null,null,null,null,null,null,null,null,null,null,"Atrasado",null,null,null,0,0,{"$f":"IF(Table26[[#This Row],[Status Medida]]=\"Finalizado\",IF(Table26[[#This Row],[Sim/Não]]=1,1,0),0)","v":0}]
[null,null,null,null,null,null,null,null,null,null,null,"Atrasado",null,null,null,0,0,{"$f":"IF(Table26[[#This Row],[Status Medida]]=\"Finalizado\",IF(Table26[[#This Row],[Sim/Não]]=1,1,0),0)","v":0}]
[null,null,null,null,null,null,null,null,null,null,null,"Atrasado",null,null,null,0,0,{"$f":"IF(Table26[[#This Row],[Status Medida]]=\"Finalizado\",IF(Table26[[#This Row],[Sim/Não]]=1,1,0),0)","v":0}]
[null,null,null,null,null,null,null,null,null,null,null,{"$f":"IF(J1222>K1222,\"Datas inválidas\",IF(M1222=\"Finalizado\",\"Concluído\",IF(J1222>TODAY(),\"Não iniciado\",_xlfn.IFS(J1222=TODAY(),\"Em andamento\",TODAY()>K1222,\"Atrasado\",AND(TODAY()>J1222,TODAY()<=K1222),\"Em andamento\"))))","v":"Atrasado"},null,null,null,{"$f":"IF(O1222=\"Sim\",1,0)","v":0},{"$f":"IF(N1222=E1222,0,1)","v":0},{"$f":"IF(Table26[[#This Row],[Status Medida]]=\"Finalizado\",IF(Table26[[#This Row],[Sim/Não]]=1,1,0),0)","v":0}]
[null,null,null,null,null,null,null,null,null,null,null,"Atrasado",null,null,null,0,0,{"$f":"IF(Table26[[#This Row],[Status Medida]]=\"Finalizado\",IF(Table26[[#This Row],[Sim/Não]]=1,1,0),0)","v":0}]
[null,null,null,null,null,null,null,null,null,null,null,"Atrasado",null,null,null,0,0,{"$f":"IF(Table26[[#This Row],[Status Medida]]=\"Finalizado\",IF(Table26[[#This Row],[Sim/Não]]=1,1,0),0)","v":0}]
[null,null,null,null,null,null,null,null,null,null,null,"Atrasado",null,null,null,0,0,{"$f":"IF(Table26[[#This Row],[Status Medida]]=\"Finalizado\",IF(Table26[[#This Row],[Sim/Não]]=1,1,0),0)","v":0}]
[null,null,null,null,null,null,null,null,null,null,null,"Atrasado",null,null,null,0,0,{"$f":"IF(Table26[[#This Row],[Status Medida]]=\"Finalizado\",IF(Table26[[#This Row],[Sim/Não]]=1,1,0),0)","v":0}]
[null,null,null,null,null,null,null,null,null,null,null,"Atrasado",null,null,null,0,0,{"$f":"IF(Table26[[#This Row],[Status Medida]]=\"Finalizado\",IF(Table26[[#This Row],[Sim/Não]]=1,1,0),0)","v":0}]
[null,null,null,null,null,null,null,null,null,null,null,"Atrasado",null,null,null,0,0,{"$f":"IF(Table26[[#This Row],[Status Medida]]=\"Finalizado\",IF(Table26[[#This Row],[Sim/Não]]=1,1,0),0)","v":0}]
[null,null,null,null,null,null,null,null,null,null,null,"Atrasado",null,null,null,0,0,{"$f":"IF(Table26[[#This Row],[Status Medida]]=\"Finalizado\",IF(Table26[[#This Row],[Sim/Não]]=1,1,0),0)","v":0}]
[null,null,null,null,null,null,null,null,null,null,null,"Atrasado",null,null,null,0,0,{"$f":"IF(Table26[[#This Row],[Status Medida]]=\"Finalizado\",IF(Table26[[#This Row],[Sim/Não]]=1,1,0),0)","v":0}]
[null,null,null,null,null,null,null,null,null,null,null,"Atrasado",null,null,null,0,0,{"$f":"IF(Table26[[#This Row],[Status Medida]]=\"Finalizado\",IF(Table26[[#This Row],[Sim/Não]]=1,1,0),0)","v":0}]
[null,null,null,null,null,null,null,null,null,null,null,"Atrasado",null,null,null,0,0,{"$f":"IF(Table26[[#This Row],[Status Medida]]=\"Finalizado\",IF(Table26[[#This Row],[Sim/Não]]=1,1,0),0)","v":0}]
[null,null,null,null,null,null,null,null,null,null,null,"Atrasado",null,null,null,0,0,{"$f":"IF(Table26[[#This Row],[Status Medida]]=\"Finalizado\",IF(Table26[[#This Row],[Sim/Não]]=1,1,0),0)","v":0}]
[null,null,null,null,null,null,null,null,null,null,null,"Atrasado",null,null,null,0,0,{"$f":"IF(Table26[[#This Row],[Status Medida]]=\"Finalizado\",IF(Table26[[#This Row],[Sim/Não]]=1,1,0),0)","v":0}]
[null,null,null,null,null,null,null,null,null,null,null,"Atrasado",null,null,null,0,0,{"$f":"IF(Table26[[#This Row],[Status Medida]]=\"Finalizado\",IF(Table26[[#This Row],[Sim/Não]]=1,1,0),0)","v":0}]
[null,null,null,null,null,null,null,null,null,null,null,"Atrasado",null,null,null,0,0,{"$f":"IF(Table26[[#This Row],[Status Medida]]=\"Finalizado\",IF(Table26[[#This Row],[Sim/Não]]=1,1,0),0)","v":0}]
[null,null,null,null,null,null,null,null,null,null,null,"Atrasado",null,null,null,0,0,{"$f":"IF(Table26[[#This Row],[Status Medida]]=\"Finalizado\",IF(Table26[[#This Row],[Sim/Não]]=1,1,0),0)","v":0}]
[null,null,null,null,null,null,null,null,null,null,null,"Atrasado",null,null,null,0,0,{"$f":"IF(Table26[[#This Row],[Status Medida]]=\"Finalizado\",IF(Table26[[#This Row],[Sim/Não]]=1,1,0),0)","v":0}]
[null,null,null,null,null,null,null,null,null,null,null,"Atrasado",null,null,null,0,0,{"$f":"IF(Table26[[#This Row],[Status Medida]]=\"Finalizado\",IF(Table26[[#This Row],[Sim/Não]]=1,1,0),0)","v":0}]
[null,null,null,null,null,null,null,null,null,null,null,"Atrasado",null,null,null,0,0,{"$f":"IF(Table26[[#This Row],[Status Medida]]=\"Finalizado\",IF(Table26[[#This Row],[Sim/Não]]=1,1,0),0)","v":0}]
[null,null,null,null,null,null,null,null,null,null,null,"Atrasado",null,null,null,0,0,{"$f":"IF(Table26[[#This Row],[Status Medida]]=\"Finalizado\",IF(Table26[[#This Row],[Sim/Não]]=1,1,0),0)","v":0}]
[null,null,null,null,null,null,null,null,null,null,null,"Atrasado",null,null,null,0,0,{"$f":"IF(Table26[[#This Row],[Status Medida]]=\"Finalizado\",IF(Table26[[#This Row],[Sim/Não]]=1,1,0),0)","v":0}]
[null,null,null,null,null,null,null,null,null,null,null,"Atrasado",null,null,null,0,0,{"$f":"IF(Table26[[#This Row],[Status Medida]]=\"Finalizado\",IF(Table26[[#This Row],[Sim/Não]]=1,1,0),0)","v":0}]
[null,null,null,null,null,null,null,null,null,null,null,"Atrasado",null,null,null,0,0,{"$f":"IF(Table26[[#This Row],[Status Medida]]=\"Finalizado\",IF(Table26[[#This Row],[Sim/Não]]=1,1,0),0)","v":0}]
[null,null,null,null,null,null,null,null,null,null,null,"Atrasado",null,null,null,0,0,{"$f":"IF(Table26[[#This Row],[Status Medida]]=\"Finalizado\",IF(Table26[[#This Row],[Sim/Não]]=1,1,0),0)","v":0}]
[null,null,null,null,null,null,null,null,null,null,null,"Atrasado",null,null,null,0,0,{"$f":"IF(Table26[[#This Row],[Status Medida]]=\"Finalizado\",IF(Table26[[#This Row],[Sim/Não]]=1,1,0),0)","v":0}]
[null,null,null,null,null,null,null,null,null,null,null,"Atrasado",null,null,null,0,0,{"$f":"IF(Table26[[#This Row],[Status Medida]]=\"Finalizado\",IF(Table26[[#This Row],[Sim/Não]]=1,1,0),0)","v":0}]
[null,null,null,null,null,null,null,null,null,null,null,"Atrasado",null,null,null,0,0,{"$f":"IF(Table26[[#This Row],[Status Medida]]=\"Finalizado\",IF(Table26[[#This Row],[Sim/Não]]=1,1,0),0)","v":0}]
[null,null,null,null,null,null,null,null,null,null,null,"Atrasado",null,null,null,0,0,{"$f":"IF(Table26[[#This Row],[Status Medida]]=\"Finalizado\",IF(Table26[[#This Row],[Sim/Não]]=1,1,0),0)","v":0}]
[null,null,null,null,null,null,null,null,null,null,null,"Atrasado",null,null,null,0,0,{"$f":"IF(Table26[[#This Row],[Status Medida]]=\"Finalizado\",IF(Table26[[#This Row],[Sim/Não]]=1,1,0),0)","v":0}]
[null,null,null,null,null,null,null,null,null,null,null,"Atrasado",null,null,null,0,0,{"$f":"IF(Table26[[#This Row],[Status Medida]]=\"Finalizado\",IF(Table26[[#This Row],[Sim/Não]]=1,1,0),0)","v":0}]
[null,null,null,null,null,null,null,null,null,null,null,"Atrasado",null,null,null,0,0,{"$f":"IF(Table26[[#This Row],[Status Medida]]=\"Finalizado\",IF(Table26[[#This Row],[Sim/Não]]=1,1,0),0)","v":0}]
[null,null,null,null,null,null,null,null,null,null,null,"Atrasado",null,null,null,0,0,{"$f":"IF(Table26[[#This Row],[Status Medida]]=\"Finalizado\",IF(Table26[[#This Row],[Sim/Não]]=1,1,0),0)","v":0}]
[null,null,null,null,null,null,null,null,null,null,null,"Atrasado",null,null,null,0,0,{"$f":"IF(Table26[[#This Row],[Status Medida]]=\"Finalizado\",IF(Table26[[#This Row],[Sim/Não]]=1,1,0),0)","v":0}]
[null,null,null,null,null,null,null,null,null,null,null,"Atrasado",null,null,null,0,0,{"$f":"IF(Table26[[#This Row],[Status Medida]]=\"Finalizado\",IF(Table26[[#This Row],[Sim/Não]]=1,1,0),0)","v":0}]
[null,null,null,null,null,null,null,null,null,null,null,"Atrasado",null,null,null,0,0,{"$f":"IF(Table26[[#This Row],[Status Medida]]=\"Finalizado\",IF(Table26[[#This Row],[Sim/Não]]=1,1,0),0)","v":0}]
[null,null,null,null,null,null,null,null,null,null,null,"Atrasado",null,null,null,0,0,{"$f":"IF(Table26[[#This Row],[Status Medida]]=\"Finalizado\",IF(Table26[[#This Row],[Sim/Não]]=1,1,0),0)","v":0}]
[null,null,null,null,null,null,null,null,null,null,null,"Atrasado",null,null,null,0,0,{"$f":"IF(Table26[[#This Row],[Status Medida]]=\"Finalizado\",IF(Table26[[#This Row],[Sim/Não]]=1,1,0),0)","v":0}]
[null,null,null,null,null,null,null,null,null,null,null,"Atrasado",null,null,null,0,0,{"$f":"IF(Table26[[#This Row],[Status Medida]]=\"Finalizado\",IF(Table26[[#This Row],[Sim/Não]]=1,1,0),0)","v":0}]
[null,null,null,null,null,null,null,null,null,null,null,"Atrasado",null,null,null,0,0,{"$f":"IF(Table26[[#This Row],[Status Medida]]=\"Finalizado\",IF(Table26[[#This Row],[Sim/Não]]=1,1,0),0)","v":0}]
[null,null,null,null,null,null,null,null,null,null,null,"Atrasado",null,null,null,0,0,{"$f":"IF(Table26[[#This Row],[Status Medida]]=\"Finalizado\",IF(Table26[[#This Row],[Sim/Não]]=1,1,0),0)","v":0}]
[null,null,null,null,null,null,null,null,null,null,null,"Atrasado",null,null,null,0,0,{"$f":"IF(Table26[[#This Row],[Status Medida]]=\"Finalizado\",IF(Table26[[#This Row],[Sim/Não]]=1,1,0),0)","v":0}]
[null,null,null,null,null,null,null,null,null,null,null,"Atrasado",null,null,null,0,0,{"$f":"IF(Table26[[#This Row],[Status Medida]]=\"Finalizado\",IF(Table26[[#This Row],[Sim/Não]]=1,1,0),0)","v":0}]
[null,null,null,null,null,null,null,null,null,null,null,"Atrasado",null,null,null,0,0,{"$f":"IF(Table26[[#This Row],[Status Medida]]=\"Finalizado\",IF(Table26[[#This Row],[Sim/Não]]=1,1,0),0)","v":0}]
[null,null,null,null,null,null,null,null,null,null,null,"Atrasado",null,null,null,0,0,{"$f":"IF(Table26[[#This Row],[Status Medida]]=\"Finalizado\",IF(Table26[[#This Row],[Sim/Não]]=1,1,0),0)","v":0}]
[null,null,null,null,null,null,null,null,null,null,null,"Atrasado",null,null,null,0,0,{"$f":"IF(Table26[[#This Row],[Status Medida]]=\"Finalizado\",IF(Table26[[#This Row],[Sim/Não]]=1,1,0),0)","v":0}]
[null,null,null,null,null,null,null,null,null,null,null,"Atrasado",null,null,null,0,0,{"$f":"IF(Table26[[#This Row],[Status Medida]]=\"Finalizado\",IF(Table26[[#This Row],[Sim/Não]]=1,1,0),0)","v":0}]
[null,null,null,null,null,null,null,null,null,null,null,"Atrasado",null,null,null,0,0,{"$f":"IF(Table26[[#This Row],[Status Medida]]=\"Finalizado\",IF(Table26[[#This Row],[Sim/Não]]=1,1,0),0)","v":0}]
[null,null,null,null,null,null,null,null,null,null,null,"Atrasado",null,null,null,0,0,{"$f":"IF(Table26[[#This Row],[Status Medida]]=\"Finalizado\",IF(Table26[[#This Row],[Sim/Não]]=1,1,0),0)","v":0}]
[null,null,null,null,null,null,null,null,null,null,null,"Atrasado",null,null,null,0,0,{"$f":"IF(Table26[[#This Row],[Status Medida]]=\"Finalizado\",IF(Table26[[#This Row],[Sim/Não]]=1,1,0),0)","v":0}]
[null,null,null,null,null,null,null,null,null,null,null,"Atrasado",null,null,null,0,0,{"$f":"IF(Table26[[#This Row],[Status Medida]]=\"Finalizado\",IF(Table26[[#This Row],[Sim/Não]]=1,1,0),0)","v":0}]
[null,null,null,null,null,null,null,null,null,null,null,"Atrasado",null,null,null,0,0,{"$f":"IF(Table26[[#This Row],[Status Medida]]=\"Finalizado\",IF(Table26[[#This Row],[Sim/Não]]=1,1,0),0)","v":0}]
[null,null,null,null,null,null,null,null,null,null,null,"Atrasado",null,null,null,0,0,{"$f":"IF(Table26[[#This Row],[Status Medida]]=\"Finalizado\",IF(Table26[[#This Row],[Sim/Não]]=1,1,0),0)","v":0}]
[null,null,null,null,null,null,null,null,null,null,null,"Atrasado",null,null,null,0,0,{"$f":"IF(Table26[[#This Row],[Status Medida]]=\"Finalizado\",IF(Table26[[#This Row],[Sim/Não]]=1,1,0),0)","v":0}]
[null,null,null,null,null,null,null,null,null,null,null,"Atrasado",null,null,null,0,0,{"$f":"IF(Table26[[#This Row],[Status Medida]]=\"Finalizado\",IF(Table26[[#This Row],[Sim/Não]]=1,1,0),0)","v":0}]
[null,null,null,null,null,null,null,null,null,null,null,"Atrasado",null,null,null,0,0,{"$f":"IF(Table26[[#This Row],[Status Medida]]=\"Finalizado\",IF(Table26[[#This Row],[Sim/Não]]=1,1,0),0)","v":0}]
[null,null,null,null,null,null,null,null,null,null,null,"Atrasado",null,null,null,0,0,{"$f":"IF(Table26[[#This Row],[Status Medida]]=\"Finalizado\",IF(Table26[[#This Row],[Sim/Não]]=1,1,0),0)","v":0}]
[null,null,null,null,null,null,null,null,null,null,null,"Atrasado",null,null,null,0,0,{"$f":"IF(Table26[[#This Row],[Status Medida]]=\"Finalizado\",IF(Table26[[#This Row],[Sim/Não]]=1,1,0),0)","v":0}]
[null,null,null,null,null,null,null,null,null,null,null,"Atrasado",null,null,null,0,0,{"$f":"IF(Table26[[#This Row],[Status Medida]]=\"Finalizado\",IF(Table26[[#This Row],[Sim/Não]]=1,1,0),0)","v":0}]
[null,null,null,null,null,null,null,null,null,null,null,"Atrasado",null,null,null,0,0,{"$f":"IF(Table26[[#This Row],[Status Medida]]=\"Finalizado\",IF(Table26[[#This Row],[Sim/Não]]=1,1,0),0)","v":0}]
[null,null,null,null,null,null,null,null,null,null,null,"Atrasado",null,null,null,0,0,{"$f":"IF(Table26[[#This Row],[Status Medida]]=\"Finalizado\",IF(Table26[[#This Row],[Sim/Não]]=1,1,0),0)","v":0}]
[null,null,null,null,null,null,null,null,null,null,null,"Atrasado",null,null,null,0,0,{"$f":"IF(Table26[[#This Row],[Status Medida]]=\"Finalizado\",IF(Table26[[#This Row],[Sim/Não]]=1,1,0),0)","v":0}]
[null,null,null,null,null,null,null,null,null,null,null,"Atrasado",null,null,null,0,0,{"$f":"IF(Table26[[#This Row],[Status Medida]]=\"Finalizado\",IF(Table26[[#This Row],[Sim/Não]]=1,1,0),0)","v":0}]
[null,null,null,null,null,null,null,null,null,null,null,"Atrasado",null,null,null,0,0,{"$f":"IF(Table26[[#This Row],[Status Medida]]=\"Finalizado\",IF(Table26[[#This Row],[Sim/Não]]=1,1,0),0)","v":0}]
[null,null,null,null,null,null,null,null,null,null,null,"Atrasado",null,null,null,0,0,{"$f":"IF(Table26[[#This Row],[Status Medida]]=\"Finalizado\",IF(Table26[[#This Row],[Sim/Não]]=1,1,0),0)","v":0}]
[null,null,null,null,null,null,null,null,null,null,null,{"$f":"IF(J1286>K1286,\"Datas inválidas\",IF(M1286=\"Finalizado\",\"Concluído\",IF(J1286>TODAY(),\"Não iniciado\",_xlfn.IFS(J1286=TODAY(),\"Em andamento\",TODAY()>K1286,\"Atrasado\",AND(TODAY()>J1286,TODAY()<=K1286),\"Em andamento\"))))","v":"Atrasado"},null,null,null,{"$f":"IF(O1286=\"Sim\",1,0)","v":0},{"$f":"IF(N1286=E1286,0,1)","v":0},{"$f":"IF(Table26[[#This Row],[Status Medida]]=\"Finalizado\",IF(Table26[[#This Row],[Sim/Não]]=1,1,0),0)","v":0}]
[null,null,null,null,null,null,null,null,null,null,null,"Atrasado",null,null,null,0,0,{"$f":"IF(Table26[[#This Row],[Status Medida]]=\"Finalizado\",IF(Table26[[#This Row],[Sim/Não]]=1,1,0),0)","v":0}]
[null,null,null,null,null,null,null,null,null,null,null,"Atrasado",null,null,null,0,0,{"$f":"IF(Table26[[#This Row],[Status Medida]]=\"Finalizado\",IF(Table26[[#This Row],[Sim/Não]]=1,1,0),0)","v":0}]
[null,null,null,null,null,null,null,null,null,null,null,"Atrasado",null,null,null,0,0,{"$f":"IF(Table26[[#This Row],[Status Medida]]=\"Finalizado\",IF(Table26[[#This Row],[Sim/Não]]=1,1,0),0)","v":0}]
[null,null,null,null,null,null,null,null,null,null,null,"Atrasado",null,null,null,0,0,{"$f":"IF(Table26[[#This Row],[Status Medida]]=\"Finalizado\",IF(Table26[[#This Row],[Sim/Não]]=1,1,0),0)","v":0}]
[null,null,null,null,null,null,null,null,null,null,null,"Atrasado",null,null,null,0,0,{"$f":"IF(Table26[[#This Row],[Status Medida]]=\"Finalizado\",IF(Table26[[#This Row],[Sim/Não]]=1,1,0),0)","v":0}]
[null,null,null,null,null,null,null,null,null,null,null,"Atrasado",null,null,null,0,0,{"$f":"IF(Table26[[#This Row],[Status Medida]]=\"Finalizado\",IF(Table26[[#This Row],[Sim/Não]]=1,1,0),0)","v":0}]
[null,null,null,null,null,null,null,null,null,null,null,"Atrasado",null,null,null,0,0,{"$f":"IF(Table26[[#This Row],[Status Medida]]=\"Finalizado\",IF(Table26[[#This Row],[Sim/Não]]=1,1,0),0)","v":0}]
[null,null,null,null,null,null,null,null,null,null,null,"Atrasado",null,null,null,0,0,{"$f":"IF(Table26[[#This Row],[Status Medida]]=\"Finalizado\",IF(Table26[[#This Row],[Sim/Não]]=1,1,0),0)","v":0}]
[null,null,null,null,null,null,null,null,null,null,null,"Atrasado",null,null,null,0,0,{"$f":"IF(Table26[[#This Row],[Status Medida]]=\"Finalizado\",IF(Table26[[#This Row],[Sim/Não]]=1,1,0),0)","v":0}]
[null,null,null,null,null,null,null,null,null,null,null,"Atrasado",null,null,null,0,0,{"$f":"IF(Table26[[#This Row],[Status Medida]]=\"Finalizado\",IF(Table26[[#This Row],[Sim/Não]]=1,1,0),0)","v":0}]
[null,null,null,null,null,null,null,null,null,null,null,"Atrasado",null,null,null,0,0,{"$f":"IF(Table26[[#This Row],[Status Medida]]=\"Finalizado\",IF(Table26[[#This Row],[Sim/Não]]=1,1,0),0)","v":0}]
[null,null,null,null,null,null,null,null,null,null,null,"Atrasado",null,null,null,0,0,{"$f":"IF(Table26[[#This Row],[Status Medida]]=\"Finalizado\",IF(Table26[[#This Row],[Sim/Não]]=1,1,0),0)","v":0}]
[null,null,null,null,null,null,null,null,null,null,null,"Atrasado",null,null,null,0,0,{"$f":"IF(Table26[[#This Row],[Status Medida]]=\"Finalizado\",IF(Table26[[#This Row],[Sim/Não]]=1,1,0),0)","v":0}]
[null,null,null,null,null,null,null,null,null,null,null,"Atrasado",null,null,null,0,0,{"$f":"IF(Table26[[#This Row],[Status Medida]]=\"Finalizado\",IF(Table26[[#This Row],[Sim/Não]]=1,1,0),0)","v":0}]
[null,null,null,null,null,null,null,null,null,null,null,"Atrasado",null,null,null,0,0,{"$f":"IF(Table26[[#This Row],[Status Medida]]=\"Finalizado\",IF(Table26[[#This Row],[Sim/Não]]=1,1,0),0)","v":0}]
[null,null,null,null,null,null,null,null,null,null,null,"Atrasado",null,null,null,0,0,{"$f":"IF(Table26[[#This Row],[Status Medida]]=\"Finalizado\",IF(Table26[[#This Row],[Sim/Não]]=1,1,0),0)","v":0}]
[null,null,null,null,null,null,null,null,null,null,null,"Atrasado",null,null,null,0,0,{"$f":"IF(Table26[[#This Row],[Status Medida]]=\"Finalizado\",IF(Table26[[#This Row],[Sim/Não]]=1,1,0),0)","v":0}]
[null,null,null,null,null,null,null,null,null,null,null,"Atrasado",null,null,null,0,0,{"$f":"IF(Table26[[#This Row],[Status Medida]]=\"Finalizado\",IF(Table26[[#This Row],[Sim/Não]]=1,1,0),0)","v":0}]
[null,null,null,null,null,null,null,null,null,null,null,"Atrasado",null,null,null,0,0,{"$f":"IF(Table26[[#This Row],[Status Medida]]=\"Finalizado\",IF(Table26[[#This Row],[Sim/Não]]=1,1,0),0)","v":0}]
[null,null,null,null,null,null,null,null,null,null,null,"Atrasado",null,null,null,0,0,{"$f":"IF(Table26[[#This Row],[Status Medida]]=\"Finalizado\",IF(Table26[[#This Row],[Sim/Não]]=1,1,0),0)","v":0}]
[null,null,null,null,null,null,null,null,null,null,null,"Atrasado",null,null,null,0,0,{"$f":"IF(Table26[[#This Row],[Status Medida]]=\"Finalizado\",IF(Table26[[#This Row],[Sim/Não]]=1,1,0),0)","v":0}]
[null,null,null,null,null,null,null,null,null,null,null,"Atrasado",null,null,null,0,0,{"$f":"IF(Table26[[#This Row],[Status Medida]]=\"Finalizado\",IF(Table26[[#This Row],[Sim/Não]]=1,1,0),0)","v":0}]
[null,null,null,null,null,null,null,null,null,null,null,"Atrasado",null,null,null,0,0,{"$f":"IF(Table26[[#This Row],[Status Medida]]=\"Finalizado\",IF(Table26[[#This Row],[Sim/Não]]=1,1,0),0)","v":0}]
[null,null,null,null,null,null,null,null,null,null,null,"Atrasado",null,null,null,0,0,{"$f":"IF(Table26[[#This Row],[Status Medida]]=\"Finalizado\",IF(Table26[[#This Row],[Sim/Não]]=1,1,0),0)","v":0}]
[null,null,null,null,null,null,null,null,null,null,null,"Atrasado",null,null,null,0,0,{"$f":"IF(Table26[[#This Row],[Status Medida]]=\"Finalizado\",IF(Table26[[#This Row],[Sim/Não]]=1,1,0),0)","v":0}]
[null,null,null,null,null,null,null,null,null,null,null,"Atrasado",null,null,null,0,0,{"$f":"IF(Table26[[#This Row],[Status Medida]]=\"Finalizado\",IF(Table26[[#This Row],[Sim/Não]]=1,1,0),0)","v":0}]
[null,null,null,null,null,null,null,null,null,null,null,"Atrasado",null,null,null,0,0,{"$f":"IF(Table26[[#This Row],[Status Medida]]=\"Finalizado\",IF(Table26[[#This Row],[Sim/Não]]=1,1,0),0)","v":0}]
[null,null,null,null,null,null,null,null,null,null,null,"Atrasado",null,null,null,0,0,{"$f":"IF(Table26[[#This Row],[Status Medida]]=\"Finalizado\",IF(Table26[[#This Row],[Sim/Não]]=1,1,0),0)","v":0}]
[null,null,null,null,null,null,null,null,null,null,null,"Atrasado",null,null,null,0,0,{"$f":"IF(Table26[[#This Row],[Status Medida]]=\"Finalizado\",IF(Table26[[#This Row],[Sim/Não]]=1,1,0),0)","v":0}]
[null,null,null,null,null,null,null,null,null,null,null,"Atrasado",null,null,null,0,0,{"$f":"IF(Table26[[#This Row],[Status Medida]]=\"Finalizado\",IF(Table26[[#This Row],[Sim/Não]]=1,1,0),0)","v":0}]
[null,null,null,null,null,null,null,null,null,null,null,"Atrasado",null,null,null,0,0,{"$f":"IF(Table26[[#This Row],[Status Medida]]=\"Finalizado\",IF(Table26[[#This Row],[Sim/Não]]=1,1,0),0)","v":0}]
[null,null,null,null,null,null,null,null,null,null,null,"Atrasado",null,null,null,0,0,{"$f":"IF(Table26[[#This Row],[Status Medida]]=\"Finalizado\",IF(Table26[[#This Row],[Sim/Não]]=1,1,0),0)","v":0}]
[null,null,null,null,null,null,null,null,null,null,null,"Atrasado",null,null,null,0,0,{"$f":"IF(Table26[[#This Row],[Status Medida]]=\"Finalizado\",IF(Table26[[#This Row],[Sim/Não]]=1,1,0),0)","v":0}]
[null,null,null,null,null,null,null,null,null,null,null,"Atrasado",null,null,null,0,0,{"$f":"IF(Table26[[#This Row],[Status Medida]]=\"Finalizado\",IF(Table26[[#This Row],[Sim/Não]]=1,1,0),0)","v":0}]
[null,null,null,null,null,null,null,null,null,null,null,"Atrasado",null,null,null,0,0,{"$f":"IF(Table26[[#This Row],[Status Medida]]=\"Finalizado\",IF(Table26[[#This Row],[Sim/Não]]=1,1,0),0)","v":0}]
[null,null,null,null,null,null,null,null,null,null,null,"Atrasado",null,null,null,0,0,{"$f":"IF(Table26[[#This Row],[Status Medida]]=\"Finalizado\",IF(Table26[[#This Row],[Sim/Não]]=1,1,0),0)","v":0}]
[null,null,null,null,null,null,null,null,null,null,null,"Atrasado",null,null,null,0,0,{"$f":"IF(Table26[[#This Row],[Status Medida]]=\"Finalizado\",IF(Table26[[#This Row],[Sim/Não]]=1,1,0),0)","v":0}]
[null,null,null,null,null,null,null,null,null,null,null,"Atrasado",null,null,null,0,0,{"$f":"IF(Table26[[#This Row],[Status Medida]]=\"Finalizado\",IF(Table26[[#This Row],[Sim/Não]]=1,1,0),0)","v":0}]
[null,null,null,null,null,null,null,null,null,null,null,"Atrasado",null,null,null,0,0,{"$f":"IF(Table26[[#This Row],[Status Medida]]=\"Finalizado\",IF(Table26[[#This Row],[Sim/Não]]=1,1,0),0)","v":0}]
[null,null,null,null,null,null,null,null,null,null,null,"Atrasado",null,null,null,0,0,{"$f":"IF(Table26[[#This Row],[Status Medida]]=\"Finalizado\",IF(Table26[[#This Row],[Sim/Não]]=1,1,0),0)","v":0}]
[null,null,null,null,null,null,null,null,null,null,null,"Atrasado",null,null,null,0,0,{"$f":"IF(Table26[[#This Row],[Status Medida]]=\"Finalizado\",IF(Table26[[#This Row],[Sim/Não]]=1,1,0),0)","v":0}]
[null,null,null,null,null,null,null,null,null,null,null,"Atrasado",null,null,null,0,0,{"$f":"IF(Table26[[#This Row],[Status Medida]]=\"Finalizado\",IF(Table26[[#This Row],[Sim/Não]]=1,1,0),0)","v":0}]
[null,null,null,null,null,null,null,null,null,null,null,"Atrasado",null,null,null,0,0,{"$f":"IF(Table26[[#This Row],[Status Medida]]=\"Finalizado\",IF(Table26[[#This Row],[Sim/Não]]=1,1,0),0)","v":0}]
[null,null,null,null,null,null,null,null,null,null,null,"Atrasado",null,null,null,0,0,{"$f":"IF(Table26[[#This Row],[Status Medida]]=\"Finalizado\",IF(Table26[[#This Row],[Sim/Não]]=1,1,0),0)","v":0}]
[null,null,null,null,null,null,null,null,null,null,null,"Atrasado",null,null,null,0,0,{"$f":"IF(Table26[[#This Row],[Status Medida]]=\"Finalizado\",IF(Table26[[#This Row],[Sim/Não]]=1,1,0),0)","v":0}]
[null,null,null,null,null,null,null,null,null,null,null,"Atrasado",null,null,null,0,0,{"$f":"IF(Table26[[#This Row],[Status Medida]]=\"Finalizado\",IF(Table26[[#This Row],[Sim/Não]]=1,1,0),0)","v":0}]
[null,null,null,null,null,null,null,null,null,null,null,"Atrasado",null,null,null,0,0,{"$f":"IF(Table26[[#This Row],[Status Medida]]=\"Finalizado\",IF(Table26[[#This Row],[Sim/Não]]=1,1,0),0)","v":0}]
[null,null,null,null,null,null,null,null,null,null,null,"Atrasado",null,null,null,0,0,{"$f":"IF(Table26[[#This Row],[Status Medida]]=\"Finalizado\",IF(Table26[[#This Row],[Sim/Não]]=1,1,0),0)","v":0}]
[null,null,null,null,null,null,null,null,null,null,null,"Atrasado",null,null,null,0,0,{"$f":"IF(Table26[[#This Row],[Status Medida]]=\"Finalizado\",IF(Table26[[#This Row],[Sim/Não]]=1,1,0),0)","v":0}]
[null,null,null,null,null,null,null,null,null,null,null,"Atrasado",null,null,null,0,0,{"$f":"IF(Table26[[#This Row],[Status Medida]]=\"Finalizado\",IF(Table26[[#This Row],[Sim/Não]]=1,1,0),0)","v":0}]
[null,null,null,null,null,null,null,null,null,null,null,"Atrasado",null,null,null,0,0,{"$f":"IF(Table26[[#This Row],[Status Medida]]=\"Finalizado\",IF(Table26[[#This Row],[Sim/Não]]=1,1,0),0)","v":0}]
[null,null,null,null,null,null,null,null,null,null,null,"Atrasado",null,null,null,0,0,{"$f":"IF(Table26[[#This Row],[Status Medida]]=\"Finalizado\",IF(Table26[[#This Row],[Sim/Não]]=1,1,0),0)","v":0}]
[null,null,null,null,null,null,null,null,null,null,null,"Atrasado",null,null,null,0,0,{"$f":"IF(Table26[[#This Row],[Status Medida]]=\"Finalizado\",IF(Table26[[#This Row],[Sim/Não]]=1,1,0),0)","v":0}]
[null,null,null,null,null,null,null,null,null,null,null,"Atrasado",null,null,null,0,0,{"$f":"IF(Table26[[#This Row],[Status Medida]]=\"Finalizado\",IF(Table26[[#This Row],[Sim/Não]]=1,1,0),0)","v":0}]
[null,null,null,null,null,null,null,null,null,null,null,"Atrasado",null,null,null,0,0,{"$f":"IF(Table26[[#This Row],[Status Medida]]=\"Finalizado\",IF(Table26[[#This Row],[Sim/Não]]=1,1,0),0)","v":0}]
[null,null,null,null,null,null,null,null,null,null,null,"Atrasado",null,null,null,0,0,{"$f":"IF(Table26[[#This Row],[Status Medida]]=\"Finalizado\",IF(Table26[[#This Row],[Sim/Não]]=1,1,0),0)","v":0}]
[null,null,null,null,null,null,null,null,null,null,null,"Atrasado",null,null,null,0,0,{"$f":"IF(Table26[[#This Row],[Status Medida]]=\"Finalizado\",IF(Table26[[#This Row],[Sim/Não]]=1,1,0),0)","v":0}]
[null,null,null,null,null,null,null,null,null,null,null,"Atrasado",null,null,null,0,0,{"$f":"IF(Table26[[#This Row],[Status Medida]]=\"Finalizado\",IF(Table26[[#This Row],[Sim/Não]]=1,1,0),0)","v":0}]
[null,null,null,null,null,null,null,null,null,null,null,"Atrasado",null,null,null,0,0,{"$f":"IF(Table26[[#This Row],[Status Medida]]=\"Finalizado\",IF(Table26[[#This Row],[Sim/Não]]=1,1,0),0)","v":0}]
[null,null,null,null,null,null,null,null,null,null,null,"Atrasado",null,null,null,0,0,{"$f":"IF(Table26[[#This Row],[Status Medida]]=\"Finalizado\",IF(Table26[[#This Row],[Sim/Não]]=1,1,0),0)","v":0}]
[null,null,null,null,null,null,null,null,null,null,null,"Atrasado",null,null,null,0,0,{"$f":"IF(Table26[[#This Row],[Status Medida]]=\"Finalizado\",IF(Table26[[#This Row],[Sim/Não]]=1,1,0),0)","v":0}]
[null,null,null,null,null,null,null,null,null,null,null,"Atrasado",null,null,null,0,0,{"$f":"IF(Table26[[#This Row],[Status Medida]]=\"Finalizado\",IF(Table26[[#This Row],[Sim/Não]]=1,1,0),0)","v":0}]
[null,null,null,null,null,null,null,null,null,null,null,"Atrasado",null,null,null,0,0,{"$f":"IF(Table26[[#This Row],[Status Medida]]=\"Finalizado\",IF(Table26[[#This Row],[Sim/Não]]=1,1,0),0)","v":0}]
[null,null,null,null,null,null,null,null,null,null,null,{"$f":"IF(J1350>K1350,\"Datas inválidas\",IF(M1350=\"Finalizado\",\"Concluído\",IF(J1350>TODAY(),\"Não iniciado\",_xlfn.IFS(J1350=TODAY(),\"Em andamento\",TODAY()>K1350,\"Atrasado\",AND(TODAY()>J1350,TODAY()<=K1350),\"Em andamento\"))))","v":"Atrasado"},null,null,null,{"$f":"IF(O1350=\"Sim\",1,0)","v":0},{"$f":"IF(N1350=E1350,0,1)","v":0},{"$f":"IF(Table26[[#This Row],[Status Medida]]=\"Finalizado\",IF(Table26[[#This Row],[Sim/Não]]=1,1,0),0)","v":0}]
[null,null,null,null,null,null,null,null,null,null,null,"Atrasado",null,null,null,0,0,{"$f":"IF(Table26[[#This Row],[Status Medida]]=\"Finalizado\",IF(Table26[[#This Row],[Sim/Não]]=1,1,0),0)","v":0}]
[null,null,null,null,null,null,null,null,null,null,null,"Atrasado",null,null,null,0,0,{"$f":"IF(Table26[[#This Row],[Status Medida]]=\"Finalizado\",IF(Table26[[#This Row],[Sim/Não]]=1,1,0),0)","v":0}]
[null,null,null,null,null,null,null,null,null,null,null,"Atrasado",null,null,null,0,0,{"$f":"IF(Table26[[#This Row],[Status Medida]]=\"Finalizado\",IF(Table26[[#This Row],[Sim/Não]]=1,1,0),0)","v":0}]
[null,null,null,null,null,null,null,null,null,null,null,"Atrasado",null,null,null,0,0,{"$f":"IF(Table26[[#This Row],[Status Medida]]=\"Finalizado\",IF(Table26[[#This Row],[Sim/Não]]=1,1,0),0)","v":0}]
[null,null,null,null,null,null,null,null,null,null,null,"Atrasado",null,null,null,0,0,{"$f":"IF(Table26[[#This Row],[Status Medida]]=\"Finalizado\",IF(Table26[[#This Row],[Sim/Não]]=1,1,0),0)","v":0}]
[null,null,null,null,null,null,null,null,null,null,null,"Atrasado",null,null,null,0,0,{"$f":"IF(Table26[[#This Row],[Status Medida]]=\"Finalizado\",IF(Table26[[#This Row],[Sim/Não]]=1,1,0),0)","v":0}]
[null,null,null,null,null,null,null,null,null,null,null,"Atrasado",null,null,null,0,0,{"$f":"IF(Table26[[#This Row],[Status Medida]]=\"Finalizado\",IF(Table26[[#This Row],[Sim/Não]]=1,1,0),0)","v":0}]
[null,null,null,null,null,null,null,null,null,null,null,"Atrasado",null,null,null,0,0,{"$f":"IF(Table26[[#This Row],[Status Medida]]=\"Finalizado\",IF(Table26[[#This Row],[Sim/Não]]=1,1,0),0)","v":0}]
[null,null,null,null,null,null,null,null,null,null,null,"Atrasado",null,null,null,0,0,{"$f":"IF(Table26[[#This Row],[Status Medida]]=\"Finalizado\",IF(Table26[[#This Row],[Sim/Não]]=1,1,0),0)","v":0}]
[null,null,null,null,null,null,null,null,null,null,null,"Atrasado",null,null,null,0,0,{"$f":"IF(Table26[[#This Row],[Status Medida]]=\"Finalizado\",IF(Table26[[#This Row],[Sim/Não]]=1,1,0),0)","v":0}]
[null,null,null,null,null,null,null,null,null,null,null,"Atrasado",null,null,null,0,0,{"$f":"IF(Table26[[#This Row],[Status Medida]]=\"Finalizado\",IF(Table26[[#This Row],[Sim/Não]]=1,1,0),0)","v":0}]
[null,null,null,null,null,null,null,null,null,null,null,"Atrasado",null,null,null,0,0,{"$f":"IF(Table26[[#This Row],[Status Medida]]=\"Finalizado\",IF(Table26[[#This Row],[Sim/Não]]=1,1,0),0)","v":0}]
[null,null,null,null,null,null,null,null,null,null,null,"Atrasado",null,null,null,0,0,{"$f":"IF(Table26[[#This Row],[Status Medida]]=\"Finalizado\",IF(Table26[[#This Row],[Sim/Não]]=1,1,0),0)","v":0}]
[null,null,null,null,null,null,null,null,null,null,null,"Atrasado",null,null,null,0,0,{"$f":"IF(Table26[[#This Row],[Status Medida]]=\"Finalizado\",IF(Table26[[#This Row],[Sim/Não]]=1,1,0),0)","v":0}]
[null,null,null,null,null,null,null,null,null,null,null,"Atrasado",null,null,null,0,0,{"$f":"IF(Table26[[#This Row],[Status Medida]]=\"Finalizado\",IF(Table26[[#This Row],[Sim/Não]]=1,1,0),0)","v":0}]
[null,null,null,null,null,null,null,null,null,null,null,"Atrasado",null,null,null,0,0,{"$f":"IF(Table26[[#This Row],[Status Medida]]=\"Finalizado\",IF(Table26[[#This Row],[Sim/Não]]=1,1,0),0)","v":0}]
[null,null,null,null,null,null,null,null,null,null,null,"Atrasado",null,null,null,0,0,{"$f":"IF(Table26[[#This Row],[Status Medida]]=\"Finalizado\",IF(Table26[[#This Row],[Sim/Não]]=1,1,0),0)","v":0}]
[null,null,null,null,null,null,null,null,null,null,null,"Atrasado",null,null,null,0,0,{"$f":"IF(Table26[[#This Row],[Status Medida]]=\"Finalizado\",IF(Table26[[#This Row],[Sim/Não]]=1,1,0),0)","v":0}]
[null,null,null,null,null,null,null,null,null,null,null,"Atrasado",null,null,null,0,0,{"$f":"IF(Table26[[#This Row],[Status Medida]]=\"Finalizado\",IF(Table26[[#This Row],[Sim/Não]]=1,1,0),0)","v":0}]
[null,null,null,null,null,null,null,null,null,null,null,"Atrasado",null,null,null,0,0,{"$f":"IF(Table26[[#This Row],[Status Medida]]=\"Finalizado\",IF(Table26[[#This Row],[Sim/Não]]=1,1,0),0)","v":0}]
[null,null,null,null,null,null,null,null,null,null,null,"Atrasado",null,null,null,0,0,{"$f":"IF(Table26[[#This Row],[Status Medida]]=\"Finalizado\",IF(Table26[[#This Row],[Sim/Não]]=1,1,0),0)","v":0}]
[null,null,null,null,null,null,null,null,null,null,null,"Atrasado",null,null,null,0,0,{"$f":"IF(Table26[[#This Row],[Status Medida]]=\"Finalizado\",IF(Table26[[#This Row],[Sim/Não]]=1,1,0),0)","v":0}]
[null,null,null,null,null,null,null,null,null,null,null,"Atrasado",null,null,null,0,0,{"$f":"IF(Table26[[#This Row],[Status Medida]]=\"Finalizado\",IF(Table26[[#This Row],[Sim/Não]]=1,1,0),0)","v":0}]
[null,null,null,null,null,null,null,null,null,null,null,"Atrasado",null,null,null,0,0,{"$f":"IF(Table26[[#This Row],[Status Medida]]=\"Finalizado\",IF(Table26[[#This Row],[Sim/Não]]=1,1,0),0)","v":0}]
[null,null,null,null,null,null,null,null,null,null,null,"Atrasado",null,null,null,0,0,{"$f":"IF(Table26[[#This Row],[Status Medida]]=\"Finalizado\",IF(Table26[[#This Row],[Sim/Não]]=1,1,0),0)","v":0}]
[null,null,null,null,null,null,null,null,null,null,null,"Atrasado",null,null,null,0,0,{"$f":"IF(Table26[[#This Row],[Status Medida]]=\"Finalizado\",IF(Table26[[#This Row],[Sim/Não]]=1,1,0),0)","v":0}]
[null,null,null,null,null,null,null,null,null,null,null,"Atrasado",null,null,null,0,0,{"$f":"IF(Table26[[#This Row],[Status Medida]]=\"Finalizado\",IF(Table26[[#This Row],[Sim/Não]]=1,1,0),0)","v":0}]
[null,null,null,null,null,null,null,null,null,null,null,"Atrasado",null,null,null,0,0,{"$f":"IF(Table26[[#This Row],[Status Medida]]=\"Finalizado\",IF(Table26[[#This Row],[Sim/Não]]=1,1,0),0)","v":0}]
[null,null,null,null,null,null,null,null,null,null,null,"Atrasado",null,null,null,0,0,{"$f":"IF(Table26[[#This Row],[Status Medida]]=\"Finalizado\",IF(Table26[[#This Row],[Sim/Não]]=1,1,0),0)","v":0}]
[null,null,null,null,null,null,null,null,null,null,null,"Atrasado",null,null,null,0,0,{"$f":"IF(Table26[[#This Row],[Status Medida]]=\"Finalizado\",IF(Table26[[#This Row],[Sim/Não]]=1,1,0),0)","v":0}]
[null,null,null,null,null,null,null,null,null,null,null,"Atrasado",null,null,null,0,0,{"$f":"IF(Table26[[#This Row],[Status Medida]]=\"Finalizado\",IF(Table26[[#This Row],[Sim/Não]]=1,1,0),0)","v":0}]
[null,null,null,null,null,null,null,null,null,null,null,"Atrasado",null,null,null,0,0,{"$f":"IF(Table26[[#This Row],[Status Medida]]=\"Finalizado\",IF(Table26[[#This Row],[Sim/Não]]=1,1,0),0)","v":0}]
[null,null,null,null,null,null,null,null,null,null,null,"Atrasado",null,null,null,0,0,{"$f":"IF(Table26[[#This Row],[Status Medida]]=\"Finalizado\",IF(Table26[[#This Row],[Sim/Não]]=1,1,0),0)","v":0}]
[null,null,null,null,null,null,null,null,null,null,null,"Atrasado",null,null,null,0,0,{"$f":"IF(Table26[[#This Row],[Status Medida]]=\"Finalizado\",IF(Table26[[#This Row],[Sim/Não]]=1,1,0),0)","v":0}]
[null,null,null,null,null,null,null,null,null,null,null,"Atrasado",null,null,null,0,0,{"$f":"IF(Table26[[#This Row],[Status Medida]]=\"Finalizado\",IF(Table26[[#This Row],[Sim/Não]]=1,1,0),0)","v":0}]
[null,null,null,null,null,null,null,null,null,null,null,"Atrasado",null,null,null,0,0,{"$f":"IF(Table26[[#This Row],[Status Medida]]=\"Finalizado\",IF(Table26[[#This Row],[Sim/Não]]=1,1,0),0)","v":0}]
[null,null,null,null,null,null,null,null,null,null,null,"Atrasado",null,null,null,0,0,{"$f":"IF(Table26[[#This Row],[Status Medida]]=\"Finalizado\",IF(Table26[[#This Row],[Sim/Não]]=1,1,0),0)","v":0}]
[null,null,null,null,null,null,null,null,null,null,null,"Atrasado",null,null,null,0,0,{"$f":"IF(Table26[[#This Row],[Status Medida]]=\"Finalizado\",IF(Table26[[#This Row],[Sim/Não]]=1,1,0),0)","v":0}]
[null,null,null,null,null,null,null,null,null,null,null,"Atrasado",null,null,null,0,0,{"$f":"IF(Table26[[#This Row],[Status Medida]]=\"Finalizado\",IF(Table26[[#This Row],[Sim/Não]]=1,1,0),0)","v":0}]
[null,null,null,null,null,null,null,null,null,null,null,"Atrasado",null,null,null,0,0,{"$f":"IF(Table26[[#This Row],[Status Medida]]=\"Finalizado\",IF(Table26[[#This Row],[Sim/Não]]=1,1,0),0)","v":0}]
[null,null,null,null,null,null,null,null,null,null,null,"Atrasado",null,null,null,0,0,{"$f":"IF(Table26[[#This Row],[Status Medida]]=\"Finalizado\",IF(Table26[[#This Row],[Sim/Não]]=1,1,0),0)","v":0}]
[null,null,null,null,null,null,null,null,null,null,null,"Atrasado",null,null,null,0,0,{"$f":"IF(Table26[[#This Row],[Status Medida]]=\"Finalizado\",IF(Table26[[#This Row],[Sim/Não]]=1,1,0),0)","v":0}]
[null,null,null,null,null,null,null,null,null,null,null,"Atrasado",null,null,null,0,0,{"$f":"IF(Table26[[#This Row],[Status Medida]]=\"Finalizado\",IF(Table26[[#This Row],[Sim/Não]]=1,1,0),0)","v":0}]
[null,null,null,null,null,null,null,null,null,null,null,"Atrasado",null,null,null,0,0,{"$f":"IF(Table26[[#This Row],[Status Medida]]=\"Finalizado\",IF(Table26[[#This Row],[Sim/Não]]=1,1,0),0)","v":0}]
[null,null,null,null,null,null,null,null,null,null,null,"Atrasado",null,null,null,0,0,{"$f":"IF(Table26[[#This Row],[Status Medida]]=\"Finalizado\",IF(Table26[[#This Row],[Sim/Não]]=1,1,0),0)","v":0}]
[null,null,null,null,null,null,null,null,null,null,null,"Atrasado",null,null,null,0,0,{"$f":"IF(Table26[[#This Row],[Status Medida]]=\"Finalizado\",IF(Table26[[#This Row],[Sim/Não]]=1,1,0),0)","v":0}]
[null,null,null,null,null,null,null,null,null,null,null,"Atrasado",null,null,null,0,0,{"$f":"IF(Table26[[#This Row],[Status Medida]]=\"Finalizado\",IF(Table26[[#This Row],[Sim/Não]]=1,1,0),0)","v":0}]
[null,null,null,null,null,null,null,null,null,null,null,"Atrasado",null,null,null,0,0,{"$f":"IF(Table26[[#This Row],[Status Medida]]=\"Finalizado\",IF(Table26[[#This Row],[Sim/Não]]=1,1,0),0)","v":0}]
[null,null,null,null,null,null,null,null,null,null,null,"Atrasado",null,null,null,0,0,{"$f":"IF(Table26[[#This Row],[Status Medida]]=\"Finalizado\",IF(Table26[[#This Row],[Sim/Não]]=1,1,0),0)","v":0}]
[null,null,null,null,null,null,null,null,null,null,null,"Atrasado",null,null,null,0,0,{"$f":"IF(Table26[[#This Row],[Status Medida]]=\"Finalizado\",IF(Table26[[#This Row],[Sim/Não]]=1,1,0),0)","v":0}]
[null,null,null,null,null,null,null,null,null,null,null,"Atrasado",null,null,null,0,0,{"$f":"IF(Table26[[#This Row],[Status Medida]]=\"Finalizado\",IF(Table26[[#This Row],[Sim/Não]]=1,1,0),0)","v":0}]
[null,null,null,null,null,null,null,null,null,null,null,"Atrasado",null,null,null,0,0,{"$f":"IF(Table26[[#This Row],[Status Medida]]=\"Finalizado\",IF(Table26[[#This Row],[Sim/Não]]=1,1,0),0)","v":0}]
[null,null,null,null,null,null,null,null,null,null,null,"Atrasado",null,null,null,0,0,{"$f":"IF(Table26[[#This Row],[Status Medida]]=\"Finalizado\",IF(Table26[[#This Row],[Sim/Não]]=1,1,0),0)","v":0}]
[null,null,null,null,null,null,null,null,null,null,null,"Atrasado",null,null,null,0,0,{"$f":"IF(Table26[[#This Row],[Status Medida]]=\"Finalizado\",IF(Table26[[#This Row],[Sim/Não]]=1,1,0),0)","v":0}]
[null,null,null,null,null,null,null,null,null,null,null,"Atrasado",null,null,null,0,0,{"$f":"IF(Table26[[#This Row],[Status Medida]]=\"Finalizado\",IF(Table26[[#This Row],[Sim/Não]]=1,1,0),0)","v":0}]
[null,null,null,null,null,null,null,null,null,null,null,"Atrasado",null,null,null,0,0,{"$f":"IF(Table26[[#This Row],[Status Medida]]=\"Finalizado\",IF(Table26[[#This Row],[Sim/Não]]=1,1,0),0)","v":0}]
[null,null,null,null,null,null,null,null,null,null,null,"Atrasado",null,null,null,0,0,{"$f":"IF(Table26[[#This Row],[Status Medida]]=\"Finalizado\",IF(Table26[[#This Row],[Sim/Não]]=1,1,0),0)","v":0}]
[null,null,null,null,null,null,null,null,null,null,null,"Atrasado",null,null,null,0,0,{"$f":"IF(Table26[[#This Row],[Status Medida]]=\"Finalizado\",IF(Table26[[#This Row],[Sim/Não]]=1,1,0),0)","v":0}]
[null,null,null,null,null,null,null,null,null,null,null,"Atrasado",null,null,null,0,0,{"$f":"IF(Table26[[#This Row],[Status Medida]]=\"Finalizado\",IF(Table26[[#This Row],[Sim/Não]]=1,1,0),0)","v":0}]
[null,null,null,null,null,null,null,null,null,null,null,"Atrasado",null,null,null,0,0,{"$f":"IF(Table26[[#This Row],[Status Medida]]=\"Finalizado\",IF(Table26[[#This Row],[Sim/Não]]=1,1,0),0)","v":0}]
[null,null,null,null,null,null,null,null,null,null,null,"Atrasado",null,null,null,0,0,{"$f":"IF(Table26[[#This Row],[Status Medida]]=\"Finalizado\",IF(Table26[[#This Row],[Sim/Não]]=1,1,0),0)","v":0}]
[null,null,null,null,null,null,null,null,null,null,null,"Atrasado",null,null,null,0,0,{"$f":"IF(Table26[[#This Row],[Status Medida]]=\"Finalizado\",IF(Table26[[#This Row],[Sim/Não]]=1,1,0),0)","v":0}]
[null,null,null,null,null,null,null,null,null,null,null,"Atrasado",null,null,null,0,0,{"$f":"IF(Table26[[#This Row],[Status Medida]]=\"Finalizado\",IF(Table26[[#This Row],[Sim/Não]]=1,1,0),0)","v":0}]
[null,null,null,null,null,null,null,null,null,null,null,{"$f":"IF(J1414>K1414,\"Datas inválidas\",IF(M1414=\"Finalizado\",\"Concluído\",IF(J1414>TODAY(),\"Não iniciado\",_xlfn.IFS(J1414=TODAY(),\"Em andamento\",TODAY()>K1414,\"Atrasado\",AND(TODAY()>J1414,TODAY()<=K1414),\"Em andamento\"))))","v":"Atrasado"},null,null,null,{"$f":"IF(O1414=\"Sim\",1,0)","v":0},{"$f":"IF(N1414=E1414,0,1)","v":0},{"$f":"IF(Table26[[#This Row],[Status Medida]]=\"Finalizado\",IF(Table26[[#This Row],[Sim/Não]]=1,1,0),0)","v":0}]
[null,null,null,null,null,null,null,null,null,null,null,"Atrasado",null,null,null,0,0,{"$f":"IF(Table26[[#This Row],[Status Medida]]=\"Finalizado\",IF(Table26[[#This Row],[Sim/Não]]=1,1,0),0)","v":0}]
[null,null,null,null,null,null,null,null,null,null,null,"Atrasado",null,null,null,0,0,{"$f":"IF(Table26[[#This Row],[Status Medida]]=\"Finalizado\",IF(Table26[[#This Row],[Sim/Não]]=1,1,0),0)","v":0}]
[null,null,null,null,null,null,null,null,null,null,null,"Atrasado",null,null,null,0,0,{"$f":"IF(Table26[[#This Row],[Status Medida]]=\"Finalizado\",IF(Table26[[#This Row],[Sim/Não]]=1,1,0),0)","v":0}]
[null,null,null,null,null,null,null,null,null,null,null,"Atrasado",null,null,null,0,0,{"$f":"IF(Table26[[#This Row],[Status Medida]]=\"Finalizado\",IF(Table26[[#This Row],[Sim/Não]]=1,1,0),0)","v":0}]
[null,null,null,null,null,null,null,null,null,null,null,"Atrasado",null,null,null,0,0,{"$f":"IF(Table26[[#This Row],[Status Medida]]=\"Finalizado\",IF(Table26[[#This Row],[Sim/Não]]=1,1,0),0)","v":0}]
[null,null,null,null,null,null,null,null,null,null,null,"Atrasado",null,null,null,0,0,{"$f":"IF(Table26[[#This Row],[Status Medida]]=\"Finalizado\",IF(Table26[[#This Row],[Sim/Não]]=1,1,0),0)","v":0}]
[null,null,null,null,null,null,null,null,null,null,null,"Atrasado",null,null,null,0,0,{"$f":"IF(Table26[[#This Row],[Status Medida]]=\"Finalizado\",IF(Table26[[#This Row],[Sim/Não]]=1,1,0),0)","v":0}]
[null,null,null,null,null,null,null,null,null,null,null,"Atrasado",null,null,null,0,0,{"$f":"IF(Table26[[#This Row],[Status Medida]]=\"Finalizado\",IF(Table26[[#This Row],[Sim/Não]]=1,1,0),0)","v":0}]
[null,null,null,null,null,null,null,null,null,null,null,"Atrasado",null,null,null,0,0,{"$f":"IF(Table26[[#This Row],[Status Medida]]=\"Finalizado\",IF(Table26[[#This Row],[Sim/Não]]=1,1,0),0)","v":0}]
[null,null,null,null,null,null,null,null,null,null,null,"Atrasado",null,null,null,0,0,{"$f":"IF(Table26[[#This Row],[Status Medida]]=\"Finalizado\",IF(Table26[[#This Row],[Sim/Não]]=1,1,0),0)","v":0}]
[null,null,null,null,null,null,null,null,null,null,null,"Atrasado",null,null,null,0,0,{"$f":"IF(Table26[[#This Row],[Status Medida]]=\"Finalizado\",IF(Table26[[#This Row],[Sim/Não]]=1,1,0),0)","v":0}]
[null,null,null,null,null,null,null,null,null,null,null,"Atrasado",null,null,null,0,0,{"$f":"IF(Table26[[#This Row],[Status Medida]]=\"Finalizado\",IF(Table26[[#This Row],[Sim/Não]]=1,1,0),0)","v":0}]
[null,null,null,null,null,null,null,null,null,null,null,"Atrasado",null,null,null,0,0,{"$f":"IF(Table26[[#This Row],[Status Medida]]=\"Finalizado\",IF(Table26[[#This Row],[Sim/Não]]=1,1,0),0)","v":0}]
[null,null,null,null,null,null,null,null,null,null,null,"Atrasado",null,null,null,0,0,{"$f":"IF(Table26[[#This Row],[Status Medida]]=\"Finalizado\",IF(Table26[[#This Row],[Sim/Não]]=1,1,0),0)","v":0}]
[null,null,null,null,null,null,null,null,null,null,null,"Atrasado",null,null,null,0,0,{"$f":"IF(Table26[[#This Row],[Status Medida]]=\"Finalizado\",IF(Table26[[#This Row],[Sim/Não]]=1,1,0),0)","v":0}]
[null,null,null,null,null,null,null,null,null,null,null,"Atrasado",null,null,null,0,0,{"$f":"IF(Table26[[#This Row],[Status Medida]]=\"Finalizado\",IF(Table26[[#This Row],[Sim/Não]]=1,1,0),0)","v":0}]
[null,null,null,null,null,null,null,null,null,null,null,"Atrasado",null,null,null,0,0,{"$f":"IF(Table26[[#This Row],[Status Medida]]=\"Finalizado\",IF(Table26[[#This Row],[Sim/Não]]=1,1,0),0)","v":0}]
[null,null,null,null,null,null,null,null,null,null,null,"Atrasado",null,null,null,0,0,{"$f":"IF(Table26[[#This Row],[Status Medida]]=\"Finalizado\",IF(Table26[[#This Row],[Sim/Não]]=1,1,0),0)","v":0}]
[null,null,null,null,null,null,null,null,null,null,null,"Atrasado",null,null,null,0,0,{"$f":"IF(Table26[[#This Row],[Status Medida]]=\"Finalizado\",IF(Table26[[#This Row],[Sim/Não]]=1,1,0),0)","v":0}]
[null,null,null,null,null,null,null,null,null,null,null,"Atrasado",null,null,null,0,0,{"$f":"IF(Table26[[#This Row],[Status Medida]]=\"Finalizado\",IF(Table26[[#This Row],[Sim/Não]]=1,1,0),0)","v":0}]
[null,null,null,null,null,null,null,null,null,null,null,"Atrasado",null,null,null,0,0,{"$f":"IF(Table26[[#This Row],[Status Medida]]=\"Finalizado\",IF(Table26[[#This Row],[Sim/Não]]=1,1,0),0)","v":0}]
[null,null,null,null,null,null,null,null,null,null,null,"Atrasado",null,null,null,0,0,{"$f":"IF(Table26[[#This Row],[Status Medida]]=\"Finalizado\",IF(Table26[[#This Row],[Sim/Não]]=1,1,0),0)","v":0}]
[null,null,null,null,null,null,null,null,null,null,null,"Atrasado",null,null,null,0,0,{"$f":"IF(Table26[[#This Row],[Status Medida]]=\"Finalizado\",IF(Table26[[#This Row],[Sim/Não]]=1,1,0),0)","v":0}]
[null,null,null,null,null,null,null,null,null,null,null,"Atrasado",null,null,null,0,0,{"$f":"IF(Table26[[#This Row],[Status Medida]]=\"Finalizado\",IF(Table26[[#This Row],[Sim/Não]]=1,1,0),0)","v":0}]
[null,null,null,null,null,null,null,null,null,null,null,"Atrasado",null,null,null,0,0,{"$f":"IF(Table26[[#This Row],[Status Medida]]=\"Finalizado\",IF(Table26[[#This Row],[Sim/Não]]=1,1,0),0)","v":0}]
[null,null,null,null,null,null,null,null,null,null,null,"Atrasado",null,null,null,0,0,{"$f":"IF(Table26[[#This Row],[Status Medida]]=\"Finalizado\",IF(Table26[[#This Row],[Sim/Não]]=1,1,0),0)","v":0}]
[null,null,null,null,null,null,null,null,null,null,null,"Atrasado",null,null,null,0,0,{"$f":"IF(Table26[[#This Row],[Status Medida]]=\"Finalizado\",IF(Table26[[#This Row],[Sim/Não]]=1,1,0),0)","v":0}]
[null,null,null,null,null,null,null,null,null,null,null,"Atrasado",null,null,null,0,0,{"$f":"IF(Table26[[#This Row],[Status Medida]]=\"Finalizado\",IF(Table26[[#This Row],[Sim/Não]]=1,1,0),0)","v":0}]
[null,null,null,null,null,null,null,null,null,null,null,"Atrasado",null,null,null,0,0,{"$f":"IF(Table26[[#This Row],[Status Medida]]=\"Finalizado\",IF(Table26[[#This Row],[Sim/Não]]=1,1,0),0)","v":0}]
[null,null,null,null,null,null,null,null,null,null,null,"Atrasado",null,null,null,0,0,{"$f":"IF(Table26[[#This Row],[Status Medida]]=\"Finalizado\",IF(Table26[[#This Row],[Sim/Não]]=1,1,0),0)","v":0}]
[null,null,null,null,null,null,null,null,null,null,null,"Atrasado",null,null,null,0,0,{"$f":"IF(Table26[[#This Row],[Status Medida]]=\"Finalizado\",IF(Table26[[#This Row],[Sim/Não]]=1,1,0),0)","v":0}]
[null,null,null,null,null,null,null,null,null,null,null,"Atrasado",null,null,null,0,0,{"$f":"IF(Table26[[#This Row],[Status Medida]]=\"Finalizado\",IF(Table26[[#This Row],[Sim/Não]]=1,1,0),0)","v":0}]
[null,null,null,null,null,null,null,null,null,null,null,"Atrasado",null,null,null,0,0,{"$f":"IF(Table26[[#This Row],[Status Medida]]=\"Finalizado\",IF(Table26[[#This Row],[Sim/Não]]=1,1,0),0)","v":0}]
[null,null,null,null,null,null,null,null,null,null,null,"Atrasado",null,null,null,0,0,{"$f":"IF(Table26[[#This Row],[Status Medida]]=\"Finalizado\",IF(Table26[[#This Row],[Sim/Não]]=1,1,0),0)","v":0}]
[null,null,null,null,null,null,null,null,null,null,null,"Atrasado",null,null,null,0,0,{"$f":"IF(Table26[[#This Row],[Status Medida]]=\"Finalizado\",IF(Table26[[#This Row],[Sim/Não]]=1,1,0),0)","v":0}]
[null,null,null,null,null,null,null,null,null,null,null,"Atrasado",null,null,null,0,0,{"$f":"IF(Table26[[#This Row],[Status Medida]]=\"Finalizado\",IF(Table26[[#This Row],[Sim/Não]]=1,1,0),0)","v":0}]
[null,null,null,null,null,null,null,null,null,null,null,"Atrasado",null,null,null,0,0,{"$f":"IF(Table26[[#This Row],[Status Medida]]=\"Finalizado\",IF(Table26[[#This Row],[Sim/Não]]=1,1,0),0)","v":0}]
[null,null,null,null,null,null,null,null,null,null,null,"Atrasado",null,null,null,0,0,{"$f":"IF(Table26[[#This Row],[Status Medida]]=\"Finalizado\",IF(Table26[[#This Row],[Sim/Não]]=1,1,0),0)","v":0}]
[null,null,null,null,null,null,null,null,null,null,null,"Atrasado",null,null,null,0,0,{"$f":"IF(Table26[[#This Row],[Status Medida]]=\"Finalizado\",IF(Table26[[#This Row],[Sim/Não]]=1,1,0),0)","v":0}]
[null,null,null,null,null,null,null,null,null,null,null,"Atrasado",null,null,null,0,0,{"$f":"IF(Table26[[#This Row],[Status Medida]]=\"Finalizado\",IF(Table26[[#This Row],[Sim/Não]]=1,1,0),0)","v":0}]
[null,null,null,null,null,null,null,null,null,null,null,"Atrasado",null,null,null,0,0,{"$f":"IF(Table26[[#This Row],[Status Medida]]=\"Finalizado\",IF(Table26[[#This Row],[Sim/Não]]=1,1,0),0)","v":0}]
[null,null,null,null,null,null,null,null,null,null,null,"Atrasado",null,null,null,0,0,{"$f":"IF(Table26[[#This Row],[Status Medida]]=\"Finalizado\",IF(Table26[[#This Row],[Sim/Não]]=1,1,0),0)","v":0}]
[null,null,null,null,null,null,null,null,null,null,null,"Atrasado",null,null,null,0,0,{"$f":"IF(Table26[[#This Row],[Status Medida]]=\"Finalizado\",IF(Table26[[#This Row],[Sim/Não]]=1,1,0),0)","v":0}]
[null,null,null,null,null,null,null,null,null,null,null,"Atrasado",null,null,null,0,0,{"$f":"IF(Table26[[#This Row],[Status Medida]]=\"Finalizado\",IF(Table26[[#This Row],[Sim/Não]]=1,1,0),0)","v":0}]
[null,null,null,null,null,null,null,null,null,null,null,"Atrasado",null,null,null,0,0,{"$f":"IF(Table26[[#This Row],[Status Medida]]=\"Finalizado\",IF(Table26[[#This Row],[Sim/Não]]=1,1,0),0)","v":0}]
[null,null,null,null,null,null,null,null,null,null,null,"Atrasado",null,null,null,0,0,{"$f":"IF(Table26[[#This Row],[Status Medida]]=\"Finalizado\",IF(Table26[[#This Row],[Sim/Não]]=1,1,0),0)","v":0}]
[null,null,null,null,null,null,null,null,null,null,null,"Atrasado",null,null,null,0,0,{"$f":"IF(Table26[[#This Row],[Status Medida]]=\"Finalizado\",IF(Table26[[#This Row],[Sim/Não]]=1,1,0),0)","v":0}]
[null,null,null,null,null,null,null,null,null,null,null,"Atrasado",null,null,null,0,0,{"$f":"IF(Table26[[#This Row],[Status Medida]]=\"Finalizado\",IF(Table26[[#This Row],[Sim/Não]]=1,1,0),0)","v":0}]
[null,null,null,null,null,null,null,null,null,null,null,"Atrasado",null,null,null,0,0,{"$f":"IF(Table26[[#This Row],[Status Medida]]=\"Finalizado\",IF(Table26[[#This Row],[Sim/Não]]=1,1,0),0)","v":0}]
[null,null,null,null,null,null,null,null,null,null,null,"Atrasado",null,null,null,0,0,{"$f":"IF(Table26[[#This Row],[Status Medida]]=\"Finalizado\",IF(Table26[[#This Row],[Sim/Não]]=1,1,0),0)","v":0}]
[null,null,null,null,null,null,null,null,null,null,null,"Atrasado",null,null,null,0,0,{"$f":"IF(Table26[[#This Row],[Status Medida]]=\"Finalizado\",IF(Table26[[#This Row],[Sim/Não]]=1,1,0),0)","v":0}]
[null,null,null,null,null,null,null,null,null,null,null,"Atrasado",null,null,null,0,0,{"$f":"IF(Table26[[#This Row],[Status Medida]]=\"Finalizado\",IF(Table26[[#This Row],[Sim/Não]]=1,1,0),0)","v":0}]
[null,null,null,null,null,null,null,null,null,null,null,"Atrasado",null,null,null,0,0,{"$f":"IF(Table26[[#This Row],[Status Medida]]=\"Finalizado\",IF(Table26[[#This Row],[Sim/Não]]=1,1,0),0)","v":0}]
[null,null,null,null,null,null,null,null,null,null,null,"Atrasado",null,null,null,0,0,{"$f":"IF(Table26[[#This Row],[Status Medida]]=\"Finalizado\",IF(Table26[[#This Row],[Sim/Não]]=1,1,0),0)","v":0}]
[null,null,null,null,null,null,null,null,null,null,null,"Atrasado",null,null,null,0,0,{"$f":"IF(Table26[[#This Row],[Status Medida]]=\"Finalizado\",IF(Table26[[#This Row],[Sim/Não]]=1,1,0),0)","v":0}]
[null,null,null,null,null,null,null,null,null,null,null,"Atrasado",null,null,null,0,0,{"$f":"IF(Table26[[#This Row],[Status Medida]]=\"Finalizado\",IF(Table26[[#This Row],[Sim/Não]]=1,1,0),0)","v":0}]
[null,null,null,null,null,null,null,null,null,null,null,"Atrasado",null,null,null,0,0,{"$f":"IF(Table26[[#This Row],[Status Medida]]=\"Finalizado\",IF(Table26[[#This Row],[Sim/Não]]=1,1,0),0)","v":0}]
[null,null,null,null,null,null,null,null,null,null,null,"Atrasado",null,null,null,0,0,{"$f":"IF(Table26[[#This Row],[Status Medida]]=\"Finalizado\",IF(Table26[[#This Row],[Sim/Não]]=1,1,0),0)","v":0}]
[null,null,null,null,null,null,null,null,null,null,null,"Atrasado",null,null,null,0,0,{"$f":"IF(Table26[[#This Row],[Status Medida]]=\"Finalizado\",IF(Table26[[#This Row],[Sim/Não]]=1,1,0),0)","v":0}]
[null,null,null,null,null,null,null,null,null,null,null,"Atrasado",null,null,null,0,0,{"$f":"IF(Table26[[#This Row],[Status Medida]]=\"Finalizado\",IF(Table26[[#This Row],[Sim/Não]]=1,1,0),0)","v":0}]
[null,null,null,null,null,null,null,null,null,null,null,"Atrasado",null,null,null,0,0,{"$f":"IF(Table26[[#This Row],[Status Medida]]=\"Finalizado\",IF(Table26[[#This Row],[Sim/Não]]=1,1,0),0)","v":0}]
[null,null,null,null,null,null,null,null,null,null,null,"Atrasado",null,null,null,0,0,{"$f":"IF(Table26[[#This Row],[Status Medida]]=\"Finalizado\",IF(Table26[[#This Row],[Sim/Não]]=1,1,0),0)","v":0}]
[null,null,null,null,null,null,null,null,null,null,null,"Atrasado",null,null,null,0,0,{"$f":"IF(Table26[[#This Row],[Status Medida]]=\"Finalizado\",IF(Table26[[#This Row],[Sim/Não]]=1,1,0),0)","v":0}]
[null,null,null,null,null,null,null,null,null,null,null,{"$f":"IF(J1478>K1478,\"Datas inválidas\",IF(M1478=\"Finalizado\",\"Concluído\",IF(J1478>TODAY(),\"Não iniciado\",_xlfn.IFS(J1478=TODAY(),\"Em andamento\",TODAY()>K1478,\"Atrasado\",AND(TODAY()>J1478,TODAY()<=K1478),\"Em andamento\"))))","v":"Atrasado"},null,null,null,{"$f":"IF(O1478=\"Sim\",1,0)","v":0},{"$f":"IF(N1478=E1478,0,1)","v":0},{"$f":"IF(Table26[[#This Row],[Status Medida]]=\"Finalizado\",IF(Table26[[#This Row],[Sim/Não]]=1,1,0),0)","v":0}]
[null,null,null,null,null,null,null,null,null,null,null,"Atrasado",null,null,null,0,0,{"$f":"IF(Table26[[#This Row],[Status Medida]]=\"Finalizado\",IF(Table26[[#This Row],[Sim/Não]]=1,1,0),0)","v":0}]
[null,null,null,null,null,null,null,null,null,null,null,"Atrasado",null,null,null,0,0,{"$f":"IF(Table26[[#This Row],[Status Medida]]=\"Finalizado\",IF(Table26[[#This Row],[Sim/Não]]=1,1,0),0)","v":0}]
[null,null,null,null,null,null,null,null,null,null,null,"Atrasado",null,null,null,0,0,{"$f":"IF(Table26[[#This Row],[Status Medida]]=\"Finalizado\",IF(Table26[[#This Row],[Sim/Não]]=1,1,0),0)","v":0}]
[null,null,null,null,null,null,null,null,null,null,null,"Atrasado",null,null,null,0,0,{"$f":"IF(Table26[[#This Row],[Status Medida]]=\"Finalizado\",IF(Table26[[#This Row],[Sim/Não]]=1,1,0),0)","v":0}]
[null,null,null,null,null,null,null,null,null,null,null,"Atrasado",null,null,null,0,0,{"$f":"IF(Table26[[#This Row],[Status Medida]]=\"Finalizado\",IF(Table26[[#This Row],[Sim/Não]]=1,1,0),0)","v":0}]
[null,null,null,null,null,null,null,null,null,null,null,"Atrasado",null,null,null,0,0,{"$f":"IF(Table26[[#This Row],[Status Medida]]=\"Finalizado\",IF(Table26[[#This Row],[Sim/Não]]=1,1,0),0)","v":0}]
[null,null,null,null,null,null,null,null,null,null,null,"Atrasado",null,null,null,0,0,{"$f":"IF(Table26[[#This Row],[Status Medida]]=\"Finalizado\",IF(Table26[[#This Row],[Sim/Não]]=1,1,0),0)","v":0}]
[null,null,null,null,null,null,null,null,null,null,null,"Atrasado",null,null,null,0,0,{"$f":"IF(Table26[[#This Row],[Status Medida]]=\"Finalizado\",IF(Table26[[#This Row],[Sim/Não]]=1,1,0),0)","v":0}]
[null,null,null,null,null,null,null,null,null,null,null,"Atrasado",null,null,null,0,0,{"$f":"IF(Table26[[#This Row],[Status Medida]]=\"Finalizado\",IF(Table26[[#This Row],[Sim/Não]]=1,1,0),0)","v":0}]
[null,null,null,null,null,null,null,null,null,null,null,"Atrasado",null,null,null,0,0,{"$f":"IF(Table26[[#This Row],[Status Medida]]=\"Finalizado\",IF(Table26[[#This Row],[Sim/Não]]=1,1,0),0)","v":0}]
[null,null,null,null,null,null,null,null,null,null,null,"Atrasado",null,null,null,0,0,{"$f":"IF(Table26[[#This Row],[Status Medida]]=\"Finalizado\",IF(Table26[[#This Row],[Sim/Não]]=1,1,0),0)","v":0}]
[null,null,null,null,null,null,null,null,null,null,null,"Atrasado",null,null,null,0,0,{"$f":"IF(Table26[[#This Row],[Status Medida]]=\"Finalizado\",IF(Table26[[#This Row],[Sim/Não]]=1,1,0),0)","v":0}]
[null,null,null,null,null,null,null,null,null,null,null,"Atrasado",null,null,null,0,0,{"$f":"IF(Table26[[#This Row],[Status Medida]]=\"Finalizado\",IF(Table26[[#This Row],[Sim/Não]]=1,1,0),0)","v":0}]
[null,null,null,null,null,null,null,null,null,null,null,"Atrasado",null,null,null,0,0,{"$f":"IF(Table26[[#This Row],[Status Medida]]=\"Finalizado\",IF(Table26[[#This Row],[Sim/Não]]=1,1,0),0)","v":0}]
[null,null,null,null,null,null,null,null,null,null,null,"Atrasado",null,null,null,0,0,{"$f":"IF(Table26[[#This Row],[Status Medida]]=\"Finalizado\",IF(Table26[[#This Row],[Sim/Não]]=1,1,0),0)","v":0}]
[null,null,null,null,null,null,null,null,null,null,null,"Atrasado",null,null,null,0,0,{"$f":"IF(Table26[[#This Row],[Status Medida]]=\"Finalizado\",IF(Table26[[#This Row],[Sim/Não]]=1,1,0),0)","v":0}]
[null,null,null,null,null,null,null,null,null,null,null,"Atrasado",null,null,null,0,0,{"$f":"IF(Table26[[#This Row],[Status Medida]]=\"Finalizado\",IF(Table26[[#This Row],[Sim/Não]]=1,1,0),0)","v":0}]
[null,null,null,null,null,null,null,null,null,null,null,"Atrasado",null,null,null,0,0,{"$f":"IF(Table26[[#This Row],[Status Medida]]=\"Finalizado\",IF(Table26[[#This Row],[Sim/Não]]=1,1,0),0)","v":0}]
[null,null,null,null,null,null,null,null,null,null,null,"Atrasado",null,null,null,0,0,{"$f":"IF(Table26[[#This Row],[Status Medida]]=\"Finalizado\",IF(Table26[[#This Row],[Sim/Não]]=1,1,0),0)","v":0}]
[null,null,null,null,null,null,null,null,null,null,null,"Atrasado",null,null,null,0,0,{"$f":"IF(Table26[[#This Row],[Status Medida]]=\"Finalizado\",IF(Table26[[#This Row],[Sim/Não]]=1,1,0),0)","v":0}]
[null,null,null,null,null,null,null,null,null,null,null,"Atrasado",null,null,null,0,0,{"$f":"IF(Table26[[#This Row],[Status Medida]]=\"Finalizado\",IF(Table26[[#This Row],[Sim/Não]]=1,1,0),0)","v":0}]
[null,null,null,null,null,null,null,null,null,null,null,"Atrasado",null,null,null,0,0,{"$f":"IF(Table26[[#This Row],[Status Medida]]=\"Finalizado\",IF(Table26[[#This Row],[Sim/Não]]=1,1,0),0)","v":0}]
[null,null,null,null,null,null,null,null,null,null,null,"Atrasado",null,null,null,0,0,{"$f":"IF(Table26[[#This Row],[Status Medida]]=\"Finalizado\",IF(Table26[[#This Row],[Sim/Não]]=1,1,0),0)","v":0}]
[null,null,null,null,null,null,null,null,null,null,null,"Atrasado",null,null,null,0,0,{"$f":"IF(Table26[[#This Row],[Status Medida]]=\"Finalizado\",IF(Table26[[#This Row],[Sim/Não]]=1,1,0),0)","v":0}]
[null,null,null,null,null,null,null,null,null,null,null,"Atrasado",null,null,null,0,0,{"$f":"IF(Table26[[#This Row],[Status Medida]]=\"Finalizado\",IF(Table26[[#This Row],[Sim/Não]]=1,1,0),0)","v":0}]
[null,null,null,null,null,null,null,null,null,null,null,"Atrasado",null,null,null,0,0,{"$f":"IF(Table26[[#This Row],[Status Medida]]=\"Finalizado\",IF(Table26[[#This Row],[Sim/Não]]=1,1,0),0)","v":0}]
[null,null,null,null,null,null,null,null,null,null,null,"Atrasado",null,null,null,0,0,{"$f":"IF(Table26[[#This Row],[Status Medida]]=\"Finalizado\",IF(Table26[[#This Row],[Sim/Não]]=1,1,0),0)","v":0}]
[null,null,null,null,null,null,null,null,null,null,null,"Atrasado",null,null,null,0,0,{"$f":"IF(Table26[[#This Row],[Status Medida]]=\"Finalizado\",IF(Table26[[#This Row],[Sim/Não]]=1,1,0),0)","v":0}]
[null,null,null,null,null,null,null,null,null,null,null,"Atrasado",null,null,null,0,0,{"$f":"IF(Table26[[#This Row],[Status Medida]]=\"Finalizado\",IF(Table26[[#This Row],[Sim/Não]]=1,1,0),0)","v":0}]
[null,null,null,null,null,null,null,null,null,null,null,"Atrasado",null,null,null,0,0,{"$f":"IF(Table26[[#This Row],[Status Medida]]=\"Finalizado\",IF(Table26[[#This Row],[Sim/Não]]=1,1,0),0)","v":0}]
[null,null,null,null,null,null,null,null,null,null,null,"Atrasado",null,null,null,0,0,{"$f":"IF(Table26[[#This Row],[Status Medida]]=\"Finalizado\",IF(Table26[[#This Row],[Sim/Não]]=1,1,0),0)","v":0}]
[null,null,null,null,null,null,null,null,null,null,null,"Atrasado",null,null,null,0,0,{"$f":"IF(Table26[[#This Row],[Status Medida]]=\"Finalizado\",IF(Table26[[#This Row],[Sim/Não]]=1,1,0),0)","v":0}]
[null,null,null,null,null,null,null,null,null,null,null,"Atrasado",null,null,null,0,0,{"$f":"IF(Table26[[#This Row],[Status Medida]]=\"Finalizado\",IF(Table26[[#This Row],[Sim/Não]]=1,1,0),0)","v":0}]
[null,null,null,null,null,null,null,null,null,null,null,"Atrasado",null,null,null,0,0,{"$f":"IF(Table26[[#This Row],[Status Medida]]=\"Finalizado\",IF(Table26[[#This Row],[Sim/Não]]=1,1,0),0)","v":0}]
[null,null,null,null,null,null,null,null,null,null,null,"Atrasado",null,null,null,0,0,{"$f":"IF(Table26[[#This Row],[Status Medida]]=\"Finalizado\",IF(Table26[[#This Row],[Sim/Não]]=1,1,0),0)","v":0}]
[null,null,null,null,null,null,null,null,null,null,null,"Atrasado",null,null,null,0,0,{"$f":"IF(Table26[[#This Row],[Status Medida]]=\"Finalizado\",IF(Table26[[#This Row],[Sim/Não]]=1,1,0),0)","v":0}]
[null,null,null,null,null,null,null,null,null,null,null,"Atrasado",null,null,null,0,0,{"$f":"IF(Table26[[#This Row],[Status Medida]]=\"Finalizado\",IF(Table26[[#This Row],[Sim/Não]]=1,1,0),0)","v":0}]
[null,null,null,null,null,null,null,null,null,null,null,"Atrasado",null,null,null,0,0,{"$f":"IF(Table26[[#This Row],[Status Medida]]=\"Finalizado\",IF(Table26[[#This Row],[Sim/Não]]=1,1,0),0)","v":0}]
[null,null,null,null,null,null,null,null,null,null,null,"Atrasado",null,null,null,0,0,{"$f":"IF(Table26[[#This Row],[Status Medida]]=\"Finalizado\",IF(Table26[[#This Row],[Sim/Não]]=1,1,0),0)","v":0}]
[null,null,null,null,null,null,null,null,null,null,null,"Atrasado",null,null,null,0,0,{"$f":"IF(Table26[[#This Row],[Status Medida]]=\"Finalizado\",IF(Table26[[#This Row],[Sim/Não]]=1,1,0),0)","v":0}]
[null,null,null,null,null,null,null,null,null,null,null,"Atrasado",null,null,null,0,0,{"$f":"IF(Table26[[#This Row],[Status Medida]]=\"Finalizado\",IF(Table26[[#This Row],[Sim/Não]]=1,1,0),0)","v":0}]
[null,null,null,null,null,null,null,null,null,null,null,"Atrasado",null,null,null,0,0,{"$f":"IF(Table26[[#This Row],[Status Medida]]=\"Finalizado\",IF(Table26[[#This Row],[Sim/Não]]=1,1,0),0)","v":0}]
[null,null,null,null,null,null,null,null,null,null,null,"Atrasado",null,null,null,0,0,{"$f":"IF(Table26[[#This Row],[Status Medida]]=\"Finalizado\",IF(Table26[[#This Row],[Sim/Não]]=1,1,0),0)","v":0}]
[null,null,null,null,null,null,null,null,null,null,null,"Atrasado",null,null,null,0,0,{"$f":"IF(Table26[[#This Row],[Status Medida]]=\"Finalizado\",IF(Table26[[#This Row],[Sim/Não]]=1,1,0),0)","v":0}]
[null,null,null,null,null,null,null,null,null,null,null,"Atrasado",null,null,null,0,0,{"$f":"IF(Table26[[#This Row],[Status Medida]]=\"Finalizado\",IF(Table26[[#This Row],[Sim/Não]]=1,1,0),0)","v":0}]
[null,null,null,null,null,null,null,null,null,null,null,"Atrasado",null,null,null,0,0,{"$f":"IF(Table26[[#This Row],[Status Medida]]=\"Finalizado\",IF(Table26[[#This Row],[Sim/Não]]=1,1,0),0)","v":0}]
[null,null,null,null,null,null,null,null,null,null,null,"Atrasado",null,null,null,0,0,{"$f":"IF(Table26[[#This Row],[Status Medida]]=\"Finalizado\",IF(Table26[[#This Row],[Sim/Não]]=1,1,0),0)","v":0}]
[null,null,null,null,null,null,null,null,null,null,null,"Atrasado",null,null,null,0,0,{"$f":"IF(Table26[[#This Row],[Status Medida]]=\"Finalizado\",IF(Table26[[#This Row],[Sim/Não]]=1,1,0),0)","v":0}]
[null,null,null,null,null,null,null,null,null,null,null,"Atrasado",null,null,null,0,0,{"$f":"IF(Table26[[#This Row],[Status Medida]]=\"Finalizado\",IF(Table26[[#This Row],[Sim/Não]]=1,1,0),0)","v":0}]
[null,null,null,null,null,null,null,null,null,null,null,"Atrasado",null,null,null,0,0,{"$f":"IF(Table26[[#This Row],[Status Medida]]=\"Finalizado\",IF(Table26[[#This Row],[Sim/Não]]=1,1,0),0)","v":0}]
[null,null,null,null,null,null,null,null,null,null,null,"Atrasado",null,null,null,0,0,{"$f":"IF(Table26[[#This Row],[Status Medida]]=\"Finalizado\",IF(Table26[[#This Row],[Sim/Não]]=1,1,0),0)","v":0}]
[null,null,null,null,null,null,null,null,null,null,null,"Atrasado",null,null,null,0,0,{"$f":"IF(Table26[[#This Row],[Status Medida]]=\"Finalizado\",IF(Table26[[#This Row],[Sim/Não]]=1,1,0),0)","v":0}]
[null,null,null,null,null,null,null,null,null,null,null,"Atrasado",null,null,null,0,0,{"$f":"IF(Table26[[#This Row],[Status Medida]]=\"Finalizado\",IF(Table26[[#This Row],[Sim/Não]]=1,1,0),0)","v":0}]
[null,null,null,null,null,null,null,null,null,null,null,"Atrasado",null,null,null,0,0,{"$f":"IF(Table26[[#This Row],[Status Medida]]=\"Finalizado\",IF(Table26[[#This Row],[Sim/Não]]=1,1,0),0)","v":0}]
[null,null,null,null,null,null,null,null,null,null,null,"Atrasado",null,null,null,0,0,{"$f":"IF(Table26[[#This Row],[Status Medida]]=\"Finalizado\",IF(Table26[[#This Row],[Sim/Não]]=1,1,0),0)","v":0}]
[null,null,null,null,null,null,null,null,null,null,null,"Atrasado",null,null,null,0,0,{"$f":"IF(Table26[[#This Row],[Status Medida]]=\"Finalizado\",IF(Table26[[#This Row],[Sim/Não]]=1,1,0),0)","v":0}]
[null,null,null,null,null,null,null,null,null,null,null,"Atrasado",null,null,null,0,0,{"$f":"IF(Table26[[#This Row],[Status Medida]]=\"Finalizado\",IF(Table26[[#This Row],[Sim/Não]]=1,1,0),0)","v":0}]
[null,null,null,null,null,null,null,null,null,null,null,"Atrasado",null,null,null,0,0,{"$f":"IF(Table26[[#This Row],[Status Medida]]=\"Finalizado\",IF(Table26[[#This Row],[Sim/Não]]=1,1,0),0)","v":0}]
[null,null,null,null,null,null,null,null,null,null,null,"Atrasado",null,null,null,0,0,{"$f":"IF(Table26[[#This Row],[Status Medida]]=\"Finalizado\",IF(Table26[[#This Row],[Sim/Não]]=1,1,0),0)","v":0}]
[null,null,null,null,null,null,null,null,null,null,null,"Atrasado",null,null,null,0,0,{"$f":"IF(Table26[[#This Row],[Status Medida]]=\"Finalizado\",IF(Table26[[#This Row],[Sim/Não]]=1,1,0),0)","v":0}]
[null,null,null,null,null,null,null,null,null,null,null,"Atrasado",null,null,null,0,0,{"$f":"IF(Table26[[#This Row],[Status Medida]]=\"Finalizado\",IF(Table26[[#This Row],[Sim/Não]]=1,1,0),0)","v":0}]
[null,null,null,null,null,null,null,null,null,null,null,"Atrasado",null,null,null,0,0,{"$f":"IF(Table26[[#This Row],[Status Medida]]=\"Finalizado\",IF(Table26[[#This Row],[Sim/Não]]=1,1,0),0)","v":0}]
[null,null,null,null,null,null,null,null,null,null,null,"Atrasado",null,null,null,0,0,{"$f":"IF(Table26[[#This Row],[Status Medida]]=\"Finalizado\",IF(Table26[[#This Row],[Sim/Não]]=1,1,0),0)","v":0}]
[null,null,null,null,null,null,null,null,null,null,null,{"$f":"IF(J1542>K1542,\"Datas inválidas\",IF(M1542=\"Finalizado\",\"Concluído\",IF(J1542>TODAY(),\"Não iniciado\",_xlfn.IFS(J1542=TODAY(),\"Em andamento\",TODAY()>K1542,\"Atrasado\",AND(TODAY()>J1542,TODAY()<=K1542),\"Em andamento\"))))","v":"Atrasado"},null,null,null,{"$f":"IF(O1542=\"Sim\",1,0)","v":0},{"$f":"IF(N1542=E1542,0,1)","v":0},{"$f":"IF(Table26[[#This Row],[Status Medida]]=\"Finalizado\",IF(Table26[[#This Row],[Sim/Não]]=1,1,0),0)","v":0}]
[null,null,null,null,null,null,null,null,null,null,null,"Atrasado",null,null,null,0,0,{"$f":"IF(Table26[[#This Row],[Status Medida]]=\"Finalizado\",IF(Table26[[#This Row],[Sim/Não]]=1,1,0),0)","v":0}]
[null,null,null,null,null,null,null,null,null,null,null,"Atrasado",null,null,null,0,0,{"$f":"IF(Table26[[#This Row],[Status Medida]]=\"Finalizado\",IF(Table26[[#This Row],[Sim/Não]]=1,1,0),0)","v":0}]
[null,null,null,null,null,null,null,null,null,null,null,"Atrasado",null,null,null,0,0,{"$f":"IF(Table26[[#This Row],[Status Medida]]=\"Finalizado\",IF(Table26[[#This Row],[Sim/Não]]=1,1,0),0)","v":0}]
[null,null,null,null,null,null,null,null,null,null,null,"Atrasado",null,null,null,0,0,{"$f":"IF(Table26[[#This Row],[Status Medida]]=\"Finalizado\",IF(Table26[[#This Row],[Sim/Não]]=1,1,0),0)","v":0}]
[null,null,null,null,null,null,null,null,null,null,null,"Atrasado",null,null,null,0,0,{"$f":"IF(Table26[[#This Row],[Status Medida]]=\"Finalizado\",IF(Table26[[#This Row],[Sim/Não]]=1,1,0),0)","v":0}]
[null,null,null,null,null,null,null,null,null,null,null,"Atrasado",null,null,null,0,0,{"$f":"IF(Table26[[#This Row],[Status Medida]]=\"Finalizado\",IF(Table26[[#This Row],[Sim/Não]]=1,1,0),0)","v":0}]
[null,null,null,null,null,null,null,null,null,null,null,"Atrasado",null,null,null,0,0,{"$f":"IF(Table26[[#This Row],[Status Medida]]=\"Finalizado\",IF(Table26[[#This Row],[Sim/Não]]=1,1,0),0)","v":0}]
[null,null,null,null,null,null,null,null,null,null,null,"Atrasado",null,null,null,0,0,{"$f":"IF(Table26[[#This Row],[Status Medida]]=\"Finalizado\",IF(Table26[[#This Row],[Sim/Não]]=1,1,0),0)","v":0}]
[null,null,null,null,null,null,null,null,null,null,null,"Atrasado",null,null,null,0,0,{"$f":"IF(Table26[[#This Row],[Status Medida]]=\"Finalizado\",IF(Table26[[#This Row],[Sim/Não]]=1,1,0),0)","v":0}]
[null,null,null,null,null,null,null,null,null,null,null,"Atrasado",null,null,null,0,0,{"$f":"IF(Table26[[#This Row],[Status Medida]]=\"Finalizado\",IF(Table26[[#This Row],[Sim/Não]]=1,1,0),0)","v":0}]
[null,null,null,null,null,null,null,null,null,null,null,"Atrasado",null,null,null,0,0,{"$f":"IF(Table26[[#This Row],[Status Medida]]=\"Finalizado\",IF(Table26[[#This Row],[Sim/Não]]=1,1,0),0)","v":0}]
[null,null,null,null,null,null,null,null,null,null,null,"Atrasado",null,null,null,0,0,{"$f":"IF(Table26[[#This Row],[Status Medida]]=\"Finalizado\",IF(Table26[[#This Row],[Sim/Não]]=1,1,0),0)","v":0}]
[null,null,null,null,null,null,null,null,null,null,null,"Atrasado",null,null,null,0,0,{"$f":"IF(Table26[[#This Row],[Status Medida]]=\"Finalizado\",IF(Table26[[#This Row],[Sim/Não]]=1,1,0),0)","v":0}]
[null,null,null,null,null,null,null,null,null,null,null,"Atrasado",null,null,null,0,0,{"$f":"IF(Table26[[#This Row],[Status Medida]]=\"Finalizado\",IF(Table26[[#This Row],[Sim/Não]]=1,1,0),0)","v":0}]
[null,null,null,null,null,null,null,null,null,null,null,"Atrasado",null,null,null,0,0,{"$f":"IF(Table26[[#This Row],[Status Medida]]=\"Finalizado\",IF(Table26[[#This Row],[Sim/Não]]=1,1,0),0)","v":0}]
[null,null,null,null,null,null,null,null,null,null,null,"Atrasado",null,null,null,0,0,{"$f":"IF(Table26[[#This Row],[Status Medida]]=\"Finalizado\",IF(Table26[[#This Row],[Sim/Não]]=1,1,0),0)","v":0}]
[null,null,null,null,null,null,null,null,null,null,null,"Atrasado",null,null,null,0,0,{"$f":"IF(Table26[[#This Row],[Status Medida]]=\"Finalizado\",IF(Table26[[#This Row],[Sim/Não]]=1,1,0),0)","v":0}]
[null,null,null,null,null,null,null,null,null,null,null,"Atrasado",null,null,null,0,0,{"$f":"IF(Table26[[#This Row],[Status Medida]]=\"Finalizado\",IF(Table26[[#This Row],[Sim/Não]]=1,1,0),0)","v":0}]
[null,null,null,null,null,null,null,null,null,null,null,"Atrasado",null,null,null,0,0,{"$f":"IF(Table26[[#This Row],[Status Medida]]=\"Finalizado\",IF(Table26[[#This Row],[Sim/Não]]=1,1,0),0)","v":0}]
[null,null,null,null,null,null,null,null,null,null,null,"Atrasado",null,null,null,0,0,{"$f":"IF(Table26[[#This Row],[Status Medida]]=\"Finalizado\",IF(Table26[[#This Row],[Sim/Não]]=1,1,0),0)","v":0}]
[null,null,null,null,null,null,null,null,null,null,null,"Atrasado",null,null,null,0,0,{"$f":"IF(Table26[[#This Row],[Status Medida]]=\"Finalizado\",IF(Table26[[#This Row],[Sim/Não]]=1,1,0),0)","v":0}]
[null,null,null,null,null,null,null,null,null,null,null,"Atrasado",null,null,null,0,0,{"$f":"IF(Table26[[#This Row],[Status Medida]]=\"Finalizado\",IF(Table26[[#This Row],[Sim/Não]]=1,1,0),0)","v":0}]
[null,null,null,null,null,null,null,null,null,null,null,"Atrasado",null,null,null,0,0,{"$f":"IF(Table26[[#This Row],[Status Medida]]=\"Finalizado\",IF(Table26[[#This Row],[Sim/Não]]=1,1,0),0)","v":0}]
[null,null,null,null,null,null,null,null,null,null,null,"Atrasado",null,null,null,0,0,{"$f":"IF(Table26[[#This Row],[Status Medida]]=\"Finalizado\",IF(Table26[[#This Row],[Sim/Não]]=1,1,0),0)","v":0}]
[null,null,null,null,null,null,null,null,null,null,null,"Atrasado",null,null,null,0,0,{"$f":"IF(Table26[[#This Row],[Status Medida]]=\"Finalizado\",IF(Table26[[#This Row],[Sim/Não]]=1,1,0),0)","v":0}]
[null,null,null,null,null,null,null,null,null,null,null,"Atrasado",null,null,null,0,0,{"$f":"IF(Table26[[#This Row],[Status Medida]]=\"Finalizado\",IF(Table26[[#This Row],[Sim/Não]]=1,1,0),0)","v":0}]
[null,null,null,null,null,null,null,null,null,null,null,"Atrasado",null,null,null,0,0,{"$f":"IF(Table26[[#This Row],[Status Medida]]=\"Finalizado\",IF(Table26[[#This Row],[Sim/Não]]=1,1,0),0)","v":0}]
[null,null,null,null,null,null,null,null,null,null,null,"Atrasado",null,null,null,0,0,{"$f":"IF(Table26[[#This Row],[Status Medida]]=\"Finalizado\",IF(Table26[[#This Row],[Sim/Não]]=1,1,0),0)","v":0}]
[null,null,null,null,null,null,null,null,null,null,null,"Atrasado",null,null,null,0,0,{"$f":"IF(Table26[[#This Row],[Status Medida]]=\"Finalizado\",IF(Table26[[#This Row],[Sim/Não]]=1,1,0),0)","v":0}]
[null,null,null,null,null,null,null,null,null,null,null,"Atrasado",null,null,null,0,0,{"$f":"IF(Table26[[#This Row],[Status Medida]]=\"Finalizado\",IF(Table26[[#This Row],[Sim/Não]]=1,1,0),0)","v":0}]
[null,null,null,null,null,null,null,null,null,null,null,"Atrasado",null,null,null,0,0,{"$f":"IF(Table26[[#This Row],[Status Medida]]=\"Finalizado\",IF(Table26[[#This Row],[Sim/Não]]=1,1,0),0)","v":0}]
[null,null,null,null,null,null,null,null,null,null,null,"Atrasado",null,null,null,0,0,{"$f":"IF(Table26[[#This Row],[Status Medida]]=\"Finalizado\",IF(Table26[[#This Row],[Sim/Não]]=1,1,0),0)","v":0}]
[null,null,null,null,null,null,null,null,null,null,null,"Atrasado",null,null,null,0,0,{"$f":"IF(Table26[[#This Row],[Status Medida]]=\"Finalizado\",IF(Table26[[#This Row],[Sim/Não]]=1,1,0),0)","v":0}]
[null,null,null,null,null,null,null,null,null,null,null,"Atrasado",null,null,null,0,0,{"$f":"IF(Table26[[#This Row],[Status Medida]]=\"Finalizado\",IF(Table26[[#This Row],[Sim/Não]]=1,1,0),0)","v":0}]
[null,null,null,null,null,null,null,null,null,null,null,"Atrasado",null,null,null,0,0,{"$f":"IF(Table26[[#This Row],[Status Medida]]=\"Finalizado\",IF(Table26[[#This Row],[Sim/Não]]=1,1,0),0)","v":0}]
[null,null,null,null,null,null,null,null,null,null,null,"Atrasado",null,null,null,0,0,{"$f":"IF(Table26[[#This Row],[Status Medida]]=\"Finalizado\",IF(Table26[[#This Row],[Sim/Não]]=1,1,0),0)","v":0}]
[null,null,null,null,null,null,null,null,null,null,null,"Atrasado",null,null,null,0,0,{"$f":"IF(Table26[[#This Row],[Status Medida]]=\"Finalizado\",IF(Table26[[#This Row],[Sim/Não]]=1,1,0),0)","v":0}]
[null,null,null,null,null,null,null,null,null,null,null,"Atrasado",null,null,null,0,0,{"$f":"IF(Table26[[#This Row],[Status Medida]]=\"Finalizado\",IF(Table26[[#This Row],[Sim/Não]]=1,1,0),0)","v":0}]
[null,null,null,null,null,null,null,null,null,null,null,"Atrasado",null,null,null,0,0,{"$f":"IF(Table26[[#This Row],[Status Medida]]=\"Finalizado\",IF(Table26[[#This Row],[Sim/Não]]=1,1,0),0)","v":0}]
[null,null,null,null,null,null,null,null,null,null,null,"Atrasado",null,null,null,0,0,{"$f":"IF(Table26[[#This Row],[Status Medida]]=\"Finalizado\",IF(Table26[[#This Row],[Sim/Não]]=1,1,0),0)","v":0}]
[null,null,null,null,null,null,null,null,null,null,null,"Atrasado",null,null,null,0,0,{"$f":"IF(Table26[[#This Row],[Status Medida]]=\"Finalizado\",IF(Table26[[#This Row],[Sim/Não]]=1,1,0),0)","v":0}]
[null,null,null,null,null,null,null,null,null,null,null,"Atrasado",null,null,null,0,0,{"$f":"IF(Table26[[#This Row],[Status Medida]]=\"Finalizado\",IF(Table26[[#This Row],[Sim/Não]]=1,1,0),0)","v":0}]
[null,null,null,null,null,null,null,null,null,null,null,"Atrasado",null,null,null,0,0,{"$f":"IF(Table26[[#This Row],[Status Medida]]=\"Finalizado\",IF(Table26[[#This Row],[Sim/Não]]=1,1,0),0)","v":0}]
[null,null,null,null,null,null,null,null,null,null,null,"Atrasado",null,null,null,0,0,{"$f":"IF(Table26[[#This Row],[Status Medida]]=\"Finalizado\",IF(Table26[[#This Row],[Sim/Não]]=1,1,0),0)","v":0}]
[null,null,null,null,null,null,null,null,null,null,null,"Atrasado",null,null,null,0,0,{"$f":"IF(Table26[[#This Row],[Status Medida]]=\"Finalizado\",IF(Table26[[#This Row],[Sim/Não]]=1,1,0),0)","v":0}]
[null,null,null,null,null,null,null,null,null,null,null,"Atrasado",null,null,null,0,0,{"$f":"IF(Table26[[#This Row],[Status Medida]]=\"Finalizado\",IF(Table26[[#This Row],[Sim/Não]]=1,1,0),0)","v":0}]
[null,null,null,null,null,null,null,null,null,null,null,"Atrasado",null,null,null,0,0,{"$f":"IF(Table26[[#This Row],[Status Medida]]=\"Finalizado\",IF(Table26[[#This Row],[Sim/Não]]=1,1,0),0)","v":0}]
[null,null,null,null,null,null,null,null,null,null,null,"Atrasado",null,null,null,0,0,{"$f":"IF(Table26[[#This Row],[Status Medida]]=\"Finalizado\",IF(Table26[[#This Row],[Sim/Não]]=1,1,0),0)","v":0}]
[null,null,null,null,null,null,null,null,null,null,null,"Atrasado",null,null,null,0,0,{"$f":"IF(Table26[[#This Row],[Status Medida]]=\"Finalizado\",IF(Table26[[#This Row],[Sim/Não]]=1,1,0),0)","v":0}]
[null,null,null,null,null,null,null,null,null,null,null,"Atrasado",null,null,null,0,0,{"$f":"IF(Table26[[#This Row],[Status Medida]]=\"Finalizado\",IF(Table26[[#This Row],[Sim/Não]]=1,1,0),0)","v":0}]
[null,null,null,null,null,null,null,null,null,null,null,"Atrasado",null,null,null,0,0,{"$f":"IF(Table26[[#This Row],[Status Medida]]=\"Finalizado\",IF(Table26[[#This Row],[Sim/Não]]=1,1,0),0)","v":0}]
[null,null,null,null,null,null,null,null,null,null,null,"Atrasado",null,null,null,0,0,{"$f":"IF(Table26[[#This Row],[Status Medida]]=\"Finalizado\",IF(Table26[[#This Row],[Sim/Não]]=1,1,0),0)","v":0}]
[null,null,null,null,null,null,null,null,null,null,null,"Atrasado",null,null,null,0,0,{"$f":"IF(Table26[[#This Row],[Status Medida]]=\"Finalizado\",IF(Table26[[#This Row],[Sim/Não]]=1,1,0),0)","v":0}]
[null,null,null,null,null,null,null,null,null,null,null,"Atrasado",null,null,null,0,0,{"$f":"IF(Table26[[#This Row],[Status Medida]]=\"Finalizado\",IF(Table26[[#This Row],[Sim/Não]]=1,1,0),0)","v":0}]
[null,null,null,null,null,null,null,null,null,null,null,"Atrasado",null,null,null,0,0,{"$f":"IF(Table26[[#This Row],[Status Medida]]=\"Finalizado\",IF(Table26[[#This Row],[Sim/Não]]=1,1,0),0)","v":0}]
[null,null,null,null,null,null,null,null,null,null,null,"Atrasado",null,null,null,0,0,{"$f":"IF(Table26[[#This Row],[Status Medida]]=\"Finalizado\",IF(Table26[[#This Row],[Sim/Não]]=1,1,0),0)","v":0}]
[null,null,null,null,null,null,null,null,null,null,null,"Atrasado",null,null,null,0,0,{"$f":"IF(Table26[[#This Row],[Status Medida]]=\"Finalizado\",IF(Table26[[#This Row],[Sim/Não]]=1,1,0),0)","v":0}]
[null,null,null,null,null,null,null,null,null,null,null,"Atrasado",null,null,null,0,0,{"$f":"IF(Table26[[#This Row],[Status Medida]]=\"Finalizado\",IF(Table26[[#This Row],[Sim/Não]]=1,1,0),0)","v":0}]
[null,null,null,null,null,null,null,null,null,null,null,"Atrasado",null,null,null,0,0,{"$f":"IF(Table26[[#This Row],[Status Medida]]=\"Finalizado\",IF(Table26[[#This Row],[Sim/Não]]=1,1,0),0)","v":0}]
[null,null,null,null,null,null,null,null,null,null,null,"Atrasado",null,null,null,0,0,{"$f":"IF(Table26[[#This Row],[Status Medida]]=\"Finalizado\",IF(Table26[[#This Row],[Sim/Não]]=1,1,0),0)","v":0}]
[null,null,null,null,null,null,null,null,null,null,null,"Atrasado",null,null,null,0,0,{"$f":"IF(Table26[[#This Row],[Status Medida]]=\"Finalizado\",IF(Table26[[#This Row],[Sim/Não]]=1,1,0),0)","v":0}]
[null,null,null,null,null,null,null,null,null,null,null,"Atrasado",null,null,null,0,0,{"$f":"IF(Table26[[#This Row],[Status Medida]]=\"Finalizado\",IF(Table26[[#This Row],[Sim/Não]]=1,1,0),0)","v":0}]
[null,null,null,null,null,null,null,null,null,null,null,"Atrasado",null,null,null,0,0,{"$f":"IF(Table26[[#This Row],[Status Medida]]=\"Finalizado\",IF(Table26[[#This Row],[Sim/Não]]=1,1,0),0)","v":0}]
[null,null,null,null,null,null,null,null,null,null,null,{"$f":"IF(J1606>K1606,\"Datas inválidas\",IF(M1606=\"Finalizado\",\"Concluído\",IF(J1606>TODAY(),\"Não iniciado\",_xlfn.IFS(J1606=TODAY(),\"Em andamento\",TODAY()>K1606,\"Atrasado\",AND(TODAY()>J1606,TODAY()<=K1606),\"Em andamento\"))))","v":"Atrasado"},null,null,null,{"$f":"IF(O1606=\"Sim\",1,0)","v":0},{"$f":"IF(N1606=E1606,0,1)","v":0},{"$f":"IF(Table26[[#This Row],[Status Medida]]=\"Finalizado\",IF(Table26[[#This Row],[Sim/Não]]=1,1,0),0)","v":0}]
[null,null,null,null,null,null,null,null,null,null,null,"Atrasado",null,null,null,0,0,{"$f":"IF(Table26[[#This Row],[Status Medida]]=\"Finalizado\",IF(Table26[[#This Row],[Sim/Não]]=1,1,0),0)","v":0}]
[null,null,null,null,null,null,null,null,null,null,null,"Atrasado",null,null,null,0,0,{"$f":"IF(Table26[[#This Row],[Status Medida]]=\"Finalizado\",IF(Table26[[#This Row],[Sim/Não]]=1,1,0),0)","v":0}]
[null,null,null,null,null,null,null,null,null,null,null,"Atrasado",null,null,null,0,0,{"$f":"IF(Table26[[#This Row],[Status Medida]]=\"Finalizado\",IF(Table26[[#This Row],[Sim/Não]]=1,1,0),0)","v":0}]
[null,null,null,null,null,null,null,null,null,null,null,"Atrasado",null,null,null,0,0,{"$f":"IF(Table26[[#This Row],[Status Medida]]=\"Finalizado\",IF(Table26[[#This Row],[Sim/Não]]=1,1,0),0)","v":0}]
[null,null,null,null,null,null,null,null,null,null,null,"Atrasado",null,null,null,0,0,{"$f":"IF(Table26[[#This Row],[Status Medida]]=\"Finalizado\",IF(Table26[[#This Row],[Sim/Não]]=1,1,0),0)","v":0}]
[null,null,null,null,null,null,null,null,null,null,null,"Atrasado",null,null,null,0,0,{"$f":"IF(Table26[[#This Row],[Status Medida]]=\"Finalizado\",IF(Table26[[#This Row],[Sim/Não]]=1,1,0),0)","v":0}]
[null,null,null,null,null,null,null,null,null,null,null,"Atrasado",null,null,null,0,0,{"$f":"IF(Table26[[#This Row],[Status Medida]]=\"Finalizado\",IF(Table26[[#This Row],[Sim/Não]]=1,1,0),0)","v":0}]
[null,null,null,null,null,null,null,null,null,null,null,"Atrasado",null,null,null,0,0,{"$f":"IF(Table26[[#This Row],[Status Medida]]=\"Finalizado\",IF(Table26[[#This Row],[Sim/Não]]=1,1,0),0)","v":0}]
[null,null,null,null,null,null,null,null,null,null,null,"Atrasado",null,null,null,0,0,{"$f":"IF(Table26[[#This Row],[Status Medida]]=\"Finalizado\",IF(Table26[[#This Row],[Sim/Não]]=1,1,0),0)","v":0}]
[null,null,null,null,null,null,null,null,null,null,null,"Atrasado",null,null,null,0,0,{"$f":"IF(Table26[[#This Row],[Status Medida]]=\"Finalizado\",IF(Table26[[#This Row],[Sim/Não]]=1,1,0),0)","v":0}]
[null,null,null,null,null,null,null,null,null,null,null,"Atrasado",null,null,null,0,0,{"$f":"IF(Table26[[#This Row],[Status Medida]]=\"Finalizado\",IF(Table26[[#This Row],[Sim/Não]]=1,1,0),0)","v":0}]
[null,null,null,null,null,null,null,null,null,null,null,"Atrasado",null,null,null,0,0,{"$f":"IF(Table26[[#This Row],[Status Medida]]=\"Finalizado\",IF(Table26[[#This Row],[Sim/Não]]=1,1,0),0)","v":0}]
[null,null,null,null,null,null,null,null,null,null,null,"Atrasado",null,null,null,0,0,{"$f":"IF(Table26[[#This Row],[Status Medida]]=\"Finalizado\",IF(Table26[[#This Row],[Sim/Não]]=1,1,0),0)","v":0}]
[null,null,null,null,null,null,null,null,null,null,null,"Atrasado",null,null,null,0,0,{"$f":"IF(Table26[[#This Row],[Status Medida]]=\"Finalizado\",IF(Table26[[#This Row],[Sim/Não]]=1,1,0),0)","v":0}]
[null,null,null,null,null,null,null,null,null,null,null,"Atrasado",null,null,null,0,0,{"$f":"IF(Table26[[#This Row],[Status Medida]]=\"Finalizado\",IF(Table26[[#This Row],[Sim/Não]]=1,1,0),0)","v":0}]
[null,null,null,null,null,null,null,null,null,null,null,"Atrasado",null,null,null,0,0,{"$f":"IF(Table26[[#This Row],[Status Medida]]=\"Finalizado\",IF(Table26[[#This Row],[Sim/Não]]=1,1,0),0)","v":0}]
[null,null,null,null,null,null,null,null,null,null,null,"Atrasado",null,null,null,0,0,{"$f":"IF(Table26[[#This Row],[Status Medida]]=\"Finalizado\",IF(Table26[[#This Row],[Sim/Não]]=1,1,0),0)","v":0}]
[null,null,null,null,null,null,null,null,null,null,null,"Atrasado",null,null,null,0,0,{"$f":"IF(Table26[[#This Row],[Status Medida]]=\"Finalizado\",IF(Table26[[#This Row],[Sim/Não]]=1,1,0),0)","v":0}]
[null,null,null,null,null,null,null,null,null,null,null,"Atrasado",null,null,null,0,0,{"$f":"IF(Table26[[#This Row],[Status Medida]]=\"Finalizado\",IF(Table26[[#This Row],[Sim/Não]]=1,1,0),0)","v":0}]
[null,null,null,null,null,null,null,null,null,null,null,"Atrasado",null,null,null,0,0,{"$f":"IF(Table26[[#This Row],[Status Medida]]=\"Finalizado\",IF(Table26[[#This Row],[Sim/Não]]=1,1,0),0)","v":0}]
[null,null,null,null,null,null,null,null,null,null,null,"Atrasado",null,null,null,0,0,{"$f":"IF(Table26[[#This Row],[Status Medida]]=\"Finalizado\",IF(Table26[[#This Row],[Sim/Não]]=1,1,0),0)","v":0}]
[null,null,null,null,null,null,null,null,null,null,null,"Atrasado",null,null,null,0,0,{"$f":"IF(Table26[[#This Row],[Status Medida]]=\"Finalizado\",IF(Table26[[#This Row],[Sim/Não]]=1,1,0),0)","v":0}]
[null,null,null,null,null,null,null,null,null,null,null,"Atrasado",null,null,null,0,0,{"$f":"IF(Table26[[#This Row],[Status Medida]]=\"Finalizado\",IF(Table26[[#This Row],[Sim/Não]]=1,1,0),0)","v":0}]
[null,null,null,null,null,null,null,null,null,null,null,"Atrasado",null,null,null,0,0,{"$f":"IF(Table26[[#This Row],[Status Medida]]=\"Finalizado\",IF(Table26[[#This Row],[Sim/Não]]=1,1,0),0)","v":0}]
[null,null,null,null,null,null,null,null,null,null,null,"Atrasado",null,null,null,0,0,{"$f":"IF(Table26[[#This Row],[Status Medida]]=\"Finalizado\",IF(Table26[[#This Row],[Sim/Não]]=1,1,0),0)","v":0}]
[null,null,null,null,null,null,null,null,null,null,null,"Atrasado",null,null,null,0,0,{"$f":"IF(Table26[[#This Row],[Status Medida]]=\"Finalizado\",IF(Table26[[#This Row],[Sim/Não]]=1,1,0),0)","v":0}]
[null,null,null,null,null,null,null,null,null,null,null,"Atrasado",null,null,null,0,0,{"$f":"IF(Table26[[#This Row],[Status Medida]]=\"Finalizado\",IF(Table26[[#This Row],[Sim/Não]]=1,1,0),0)","v":0}]
[null,null,null,null,null,null,null,null,null,null,null,"Atrasado",null,null,null,0,0,{"$f":"IF(Table26[[#This Row],[Status Medida]]=\"Finalizado\",IF(Table26[[#This Row],[Sim/Não]]=1,1,0),0)","v":0}]
[null,null,null,null,null,null,null,null,null,null,null,"Atrasado",null,null,null,0,0,{"$f":"IF(Table26[[#This Row],[Status Medida]]=\"Finalizado\",IF(Table26[[#This Row],[Sim/Não]]=1,1,0),0)","v":0}]
[null,null,null,null,null,null,null,null,null,null,null,"Atrasado",null,null,null,0,0,{"$f":"IF(Table26[[#This Row],[Status Medida]]=\"Finalizado\",IF(Table26[[#This Row],[Sim/Não]]=1,1,0),0)","v":0}]
[null,null,null,null,null,null,null,null,null,null,null,"Atrasado",null,null,null,0,0,{"$f":"IF(Table26[[#This Row],[Status Medida]]=\"Finalizado\",IF(Table26[[#This Row],[Sim/Não]]=1,1,0),0)","v":0}]
[null,null,null,null,null,null,null,null,null,null,null,"Atrasado",null,null,null,0,0,{"$f":"IF(Table26[[#This Row],[Status Medida]]=\"Finalizado\",IF(Table26[[#This Row],[Sim/Não]]=1,1,0),0)","v":0}]
[null,null,null,null,null,null,null,null,null,null,null,"Atrasado",null,null,null,0,0,{"$f":"IF(Table26[[#This Row],[Status Medida]]=\"Finalizado\",IF(Table26[[#This Row],[Sim/Não]]=1,1,0),0)","v":0}]
[null,null,null,null,null,null,null,null,null,null,null,"Atrasado",null,null,null,0,0,{"$f":"IF(Table26[[#This Row],[Status Medida]]=\"Finalizado\",IF(Table26[[#This Row],[Sim/Não]]=1,1,0),0)","v":0}]
[null,null,null,null,null,null,null,null,null,null,null,"Atrasado",null,null,null,0,0,{"$f":"IF(Table26[[#This Row],[Status Medida]]=\"Finalizado\",IF(Table26[[#This Row],[Sim/Não]]=1,1,0),0)","v":0}]
[null,null,null,null,null,null,null,null,null,null,null,"Atrasado",null,null,null,0,0,{"$f":"IF(Table26[[#This Row],[Status Medida]]=\"Finalizado\",IF(Table26[[#This Row],[Sim/Não]]=1,1,0),0)","v":0}]
[null,null,null,null,null,null,null,null,null,null,null,"Atrasado",null,null,null,0,0,{"$f":"IF(Table26[[#This Row],[Status Medida]]=\"Finalizado\",IF(Table26[[#This Row],[Sim/Não]]=1,1,0),0)","v":0}]
[null,null,null,null,null,null,null,null,null,null,null,"Atrasado",null,null,null,0,0,{"$f":"IF(Table26[[#This Row],[Status Medida]]=\"Finalizado\",IF(Table26[[#This Row],[Sim/Não]]=1,1,0),0)","v":0}]
[null,null,null,null,null,null,null,null,null,null,null,"Atrasado",null,null,null,0,0,{"$f":"IF(Table26[[#This Row],[Status Medida]]=\"Finalizado\",IF(Table26[[#This Row],[Sim/Não]]=1,1,0),0)","v":0}]
[null,null,null,null,null,null,null,null,null,null,null,"Atrasado",null,null,null,0,0,{"$f":"IF(Table26[[#This Row],[Status Medida]]=\"Finalizado\",IF(Table26[[#This Row],[Sim/Não]]=1,1,0),0)","v":0}]
[null,null,null,null,null,null,null,null,null,null,null,"Atrasado",null,null,null,0,0,{"$f":"IF(Table26[[#This Row],[Status Medida]]=\"Finalizado\",IF(Table26[[#This Row],[Sim/Não]]=1,1,0),0)","v":0}]
[null,null,null,null,null,null,null,null,null,null,null,"Atrasado",null,null,null,0,0,{"$f":"IF(Table26[[#This Row],[Status Medida]]=\"Finalizado\",IF(Table26[[#This Row],[Sim/Não]]=1,1,0),0)","v":0}]
[null,null,null,null,null,null,null,null,null,null,null,"Atrasado",null,null,null,0,0,{"$f":"IF(Table26[[#This Row],[Status Medida]]=\"Finalizado\",IF(Table26[[#This Row],[Sim/Não]]=1,1,0),0)","v":0}]
[null,null,null,null,null,null,null,null,null,null,null,"Atrasado",null,null,null,0,0,{"$f":"IF(Table26[[#This Row],[Status Medida]]=\"Finalizado\",IF(Table26[[#This Row],[Sim/Não]]=1,1,0),0)","v":0}]
[null,null,null,null,null,null,null,null,null,null,null,"Atrasado",null,null,null,0,0,{"$f":"IF(Table26[[#This Row],[Status Medida]]=\"Finalizado\",IF(Table26[[#This Row],[Sim/Não]]=1,1,0),0)","v":0}]
[null,null,null,null,null,null,null,null,null,null,null,"Atrasado",null,null,null,0,0,{"$f":"IF(Table26[[#This Row],[Status Medida]]=\"Finalizado\",IF(Table26[[#This Row],[Sim/Não]]=1,1,0),0)","v":0}]
[null,null,null,null,null,null,null,null,null,null,null,"Atrasado",null,null,null,0,0,{"$f":"IF(Table26[[#This Row],[Status Medida]]=\"Finalizado\",IF(Table26[[#This Row],[Sim/Não]]=1,1,0),0)","v":0}]
[null,null,null,null,null,null,null,null,null,null,null,"Atrasado",null,null,null,0,0,{"$f":"IF(Table26[[#This Row],[Status Medida]]=\"Finalizado\",IF(Table26[[#This Row],[Sim/Não]]=1,1,0),0)","v":0}]
[null,null,null,null,null,null,null,null,null,null,null,"Atrasado",null,null,null,0,0,{"$f":"IF(Table26[[#This Row],[Status Medida]]=\"Finalizado\",IF(Table26[[#This Row],[Sim/Não]]=1,1,0),0)","v":0}]
[null,null,null,null,null,null,null,null,null,null,null,"Atrasado",null,null,null,0,0,{"$f":"IF(Table26[[#This Row],[Status Medida]]=\"Finalizado\",IF(Table26[[#This Row],[Sim/Não]]=1,1,0),0)","v":0}]
[null,null,null,null,null,null,null,null,null,null,null,"Atrasado",null,null,null,0,0,{"$f":"IF(Table26[[#This Row],[Status Medida]]=\"Finalizado\",IF(Table26[[#This Row],[Sim/Não]]=1,1,0),0)","v":0}]
[null,null,null,null,null,null,null,null,null,null,null,"Atrasado",null,null,null,0,0,{"$f":"IF(Table26[[#This Row],[Status Medida]]=\"Finalizado\",IF(Table26[[#This Row],[Sim/Não]]=1,1,0),0)","v":0}]
[null,null,null,null,null,null,null,null,null,null,null,"Atrasado",null,null,null,0,0,{"$f":"IF(Table26[[#This Row],[Status Medida]]=\"Finalizado\",IF(Table26[[#This Row],[Sim/Não]]=1,1,0),0)","v":0}]
[null,null,null,null,null,null,null,null,null,null,null,"Atrasado",null,null,null,0,0,{"$f":"IF(Table26[[#This Row],[Status Medida]]=\"Finalizado\",IF(Table26[[#This Row],[Sim/Não]]=1,1,0),0)","v":0}]
[null,null,null,null,null,null,null,null,null,null,null,"Atrasado",null,null,null,0,0,{"$f":"IF(Table26[[#This Row],[Status Medida]]=\"Finalizado\",IF(Table26[[#This Row],[Sim/Não]]=1,1,0),0)","v":0}]
[null,null,null,null,null,null,null,null,null,null,null,"Atrasado",null,null,null,0,0,{"$f":"IF(Table26[[#This Row],[Status Medida]]=\"Finalizado\",IF(Table26[[#This Row],[Sim/Não]]=1,1,0),0)","v":0}]
[null,null,null,null,null,null,null,null,null,null,null,"Atrasado",null,null,null,0,0,{"$f":"IF(Table26[[#This Row],[Status Medida]]=\"Finalizado\",IF(Table26[[#This Row],[Sim/Não]]=1,1,0),0)","v":0}]
[null,null,null,null,null,null,null,null,null,null,null,"Atrasado",null,null,null,0,0,{"$f":"IF(Table26[[#This Row],[Status Medida]]=\"Finalizado\",IF(Table26[[#This Row],[Sim/Não]]=1,1,0),0)","v":0}]
[null,null,null,null,null,null,null,null,null,null,null,"Atrasado",null,null,null,0,0,{"$f":"IF(Table26[[#This Row],[Status Medida]]=\"Finalizado\",IF(Table26[[#This Row],[Sim/Não]]=1,1,0),0)","v":0}]
[null,null,null,null,null,null,null,null,null,null,null,"Atrasado",null,null,null,0,0,{"$f":"IF(Table26[[#This Row],[Status Medida]]=\"Finalizado\",IF(Table26[[#This Row],[Sim/Não]]=1,1,0),0)","v":0}]
[null,null,null,null,null,null,null,null,null,null,null,"Atrasado",null,null,null,0,0,{"$f":"IF(Table26[[#This Row],[Status Medida]]=\"Finalizado\",IF(Table26[[#This Row],[Sim/Não]]=1,1,0),0)","v":0}]
[null,null,null,null,null,null,null,null,null,null,null,"Atrasado",null,null,null,0,0,{"$f":"IF(Table26[[#This Row],[Status Medida]]=\"Finalizado\",IF(Table26[[#This Row],[Sim/Não]]=1,1,0),0)","v":0}]
[null,null,null,null,null,null,null,null,null,null,null,"Atrasado",null,null,null,0,0,{"$f":"IF(Table26[[#This Row],[Status Medida]]=\"Finalizado\",IF(Table26[[#This Row],[Sim/Não]]=1,1,0),0)","v":0}]
[null,null,null,null,null,null,null,null,null,null,null,{"$f":"IF(J1670>K1670,\"Datas inválidas\",IF(M1670=\"Finalizado\",\"Concluído\",IF(J1670>TODAY(),\"Não iniciado\",_xlfn.IFS(J1670=TODAY(),\"Em andamento\",TODAY()>K1670,\"Atrasado\",AND(TODAY()>J1670,TODAY()<=K1670),\"Em andamento\"))))","v":"Atrasado"},null,null,null,{"$f":"IF(O1670=\"Sim\",1,0)","v":0},{"$f":"IF(N1670=E1670,0,1)","v":0},{"$f":"IF(Table26[[#This Row],[Status Medida]]=\"Finalizado\",IF(Table26[[#This Row],[Sim/Não]]=1,1,0),0)","v":0}]
[null,null,null,null,null,null,null,null,null,null,null,"Atrasado",null,null,null,0,0,{"$f":"IF(Table26[[#This Row],[Status Medida]]=\"Finalizado\",IF(Table26[[#This Row],[Sim/Não]]=1,1,0),0)","v":0}]
[null,null,null,null,null,null,null,null,null,null,null,"Atrasado",null,null,null,0,0,{"$f":"IF(Table26[[#This Row],[Status Medida]]=\"Finalizado\",IF(Table26[[#This Row],[Sim/Não]]=1,1,0),0)","v":0}]
[null,null,null,null,null,null,null,null,null,null,null,"Atrasado",null,null,null,0,0,{"$f":"IF(Table26[[#This Row],[Status Medida]]=\"Finalizado\",IF(Table26[[#This Row],[Sim/Não]]=1,1,0),0)","v":0}]
[null,null,null,null,null,null,null,null,null,null,null,"Atrasado",null,null,null,0,0,{"$f":"IF(Table26[[#This Row],[Status Medida]]=\"Finalizado\",IF(Table26[[#This Row],[Sim/Não]]=1,1,0),0)","v":0}]
[null,null,null,null,null,null,null,null,null,null,null,"Atrasado",null,null,null,0,0,{"$f":"IF(Table26[[#This Row],[Status Medida]]=\"Finalizado\",IF(Table26[[#This Row],[Sim/Não]]=1,1,0),0)","v":0}]
[null,null,null,null,null,null,null,null,null,null,null,"Atrasado",null,null,null,0,0,{"$f":"IF(Table26[[#This Row],[Status Medida]]=\"Finalizado\",IF(Table26[[#This Row],[Sim/Não]]=1,1,0),0)","v":0}]
[null,null,null,null,null,null,null,null,null,null,null,"Atrasado",null,null,null,0,0,{"$f":"IF(Table26[[#This Row],[Status Medida]]=\"Finalizado\",IF(Table26[[#This Row],[Sim/Não]]=1,1,0),0)","v":0}]
[null,null,null,null,null,null,null,null,null,null,null,"Atrasado",null,null,null,0,0,{"$f":"IF(Table26[[#This Row],[Status Medida]]=\"Finalizado\",IF(Table26[[#This Row],[Sim/Não]]=1,1,0),0)","v":0}]
[null,null,null,null,null,null,null,null,null,null,null,"Atrasado",null,null,null,0,0,{"$f":"IF(Table26[[#This Row],[Status Medida]]=\"Finalizado\",IF(Table26[[#This Row],[Sim/Não]]=1,1,0),0)","v":0}]
[null,null,null,null,null,null,null,null,null,null,null,"Atrasado",null,null,null,0,0,{"$f":"IF(Table26[[#This Row],[Status Medida]]=\"Finalizado\",IF(Table26[[#This Row],[Sim/Não]]=1,1,0),0)","v":0}]
[null,null,null,null,null,null,null,null,null,null,null,"Atrasado",null,null,null,0,0,{"$f":"IF(Table26[[#This Row],[Status Medida]]=\"Finalizado\",IF(Table26[[#This Row],[Sim/Não]]=1,1,0),0)","v":0}]
[null,null,null,null,null,null,null,null,null,null,null,"Atrasado",null,null,null,0,0,{"$f":"IF(Table26[[#This Row],[Status Medida]]=\"Finalizado\",IF(Table26[[#This Row],[Sim/Não]]=1,1,0),0)","v":0}]
[null,null,null,null,null,null,null,null,null,null,null,"Atrasado",null,null,null,0,0,{"$f":"IF(Table26[[#This Row],[Status Medida]]=\"Finalizado\",IF(Table26[[#This Row],[Sim/Não]]=1,1,0),0)","v":0}]
[null,null,null,null,null,null,null,null,null,null,null,"Atrasado",null,null,null,0,0,{"$f":"IF(Table26[[#This Row],[Status Medida]]=\"Finalizado\",IF(Table26[[#This Row],[Sim/Não]]=1,1,0),0)","v":0}]
[null,null,null,null,null,null,null,null,null,null,null,"Atrasado",null,null,null,0,0,{"$f":"IF(Table26[[#This Row],[Status Medida]]=\"Finalizado\",IF(Table26[[#This Row],[Sim/Não]]=1,1,0),0)","v":0}]
[null,null,null,null,null,null,null,null,null,null,null,"Atrasado",null,null,null,0,0,{"$f":"IF(Table26[[#This Row],[Status Medida]]=\"Finalizado\",IF(Table26[[#This Row],[Sim/Não]]=1,1,0),0)","v":0}]
[null,null,null,null,null,null,null,null,null,null,null,"Atrasado",null,null,null,0,0,{"$f":"IF(Table26[[#This Row],[Status Medida]]=\"Finalizado\",IF(Table26[[#This Row],[Sim/Não]]=1,1,0),0)","v":0}]
[null,null,null,null,null,null,null,null,null,null,null,"Atrasado",null,null,null,0,0,{"$f":"IF(Table26[[#This Row],[Status Medida]]=\"Finalizado\",IF(Table26[[#This Row],[Sim/Não]]=1,1,0),0)","v":0}]
[null,null,null,null,null,null,null,null,null,null,null,"Atrasado",null,null,null,0,0,{"$f":"IF(Table26[[#This Row],[Status Medida]]=\"Finalizado\",IF(Table26[[#This Row],[Sim/Não]]=1,1,0),0)","v":0}]
[null,null,null,null,null,null,null,null,null,null,null,"Atrasado",null,null,null,0,0,{"$f":"IF(Table26[[#This Row],[Status Medida]]=\"Finalizado\",IF(Table26[[#This Row],[Sim/Não]]=1,1,0),0)","v":0}]
[null,null,null,null,null,null,null,null,null,null,null,"Atrasado",null,null,null,0,0,{"$f":"IF(Table26[[#This Row],[Status Medida]]=\"Finalizado\",IF(Table26[[#This Row],[Sim/Não]]=1,1,0),0)","v":0}]
[null,null,null,null,null,null,null,null,null,null,null,"Atrasado",null,null,null,0,0,{"$f":"IF(Table26[[#This Row],[Status Medida]]=\"Finalizado\",IF(Table26[[#This Row],[Sim/Não]]=1,1,0),0)","v":0}]
[null,null,null,null,null,null,null,null,null,null,null,"Atrasado",null,null,null,0,0,{"$f":"IF(Table26[[#This Row],[Status Medida]]=\"Finalizado\",IF(Table26[[#This Row],[Sim/Não]]=1,1,0),0)","v":0}]
[null,null,null,null,null,null,null,null,null,null,null,"Atrasado",null,null,null,0,0,{"$f":"IF(Table26[[#This Row],[Status Medida]]=\"Finalizado\",IF(Table26[[#This Row],[Sim/Não]]=1,1,0),0)","v":0}]
[null,null,null,null,null,null,null,null,null,null,null,"Atrasado",null,null,null,0,0,{"$f":"IF(Table26[[#This Row],[Status Medida]]=\"Finalizado\",IF(Table26[[#This Row],[Sim/Não]]=1,1,0),0)","v":0}]
[null,null,null,null,null,null,null,null,null,null,null,"Atrasado",null,null,null,0,0,{"$f":"IF(Table26[[#This Row],[Status Medida]]=\"Finalizado\",IF(Table26[[#This Row],[Sim/Não]]=1,1,0),0)","v":0}]
[null,null,null,null,null,null,null,null,null,null,null,"Atrasado",null,null,null,0,0,{"$f":"IF(Table26[[#This Row],[Status Medida]]=\"Finalizado\",IF(Table26[[#This Row],[Sim/Não]]=1,1,0),0)","v":0}]
[null,null,null,null,null,null,null,null,null,null,null,"Atrasado",null,null,null,0,0,{"$f":"IF(Table26[[#This Row],[Status Medida]]=\"Finalizado\",IF(Table26[[#This Row],[Sim/Não]]=1,1,0),0)","v":0}]
[null,null,null,null,null,null,null,null,null,null,null,"Atrasado",null,null,null,0,0,{"$f":"IF(Table26[[#This Row],[Status Medida]]=\"Finalizado\",IF(Table26[[#This Row],[Sim/Não]]=1,1,0),0)","v":0}]
[null,null,null,null,null,null,null,null,null,null,null,"Atrasado",null,null,null,0,0,{"$f":"IF(Table26[[#This Row],[Status Medida]]=\"Finalizado\",IF(Table26[[#This Row],[Sim/Não]]=1,1,0),0)","v":0}]
[null,null,null,null,null,null,null,null,null,null,null,"Atrasado",null,null,null,0,0,{"$f":"IF(Table26[[#This Row],[Status Medida]]=\"Finalizado\",IF(Table26[[#This Row],[Sim/Não]]=1,1,0),0)","v":0}]
[null,null,null,null,null,null,null,null,null,null,null,"Atrasado",null,null,null,0,0,{"$f":"IF(Table26[[#This Row],[Status Medida]]=\"Finalizado\",IF(Table26[[#This Row],[Sim/Não]]=1,1,0),0)","v":0}]
[null,null,null,null,null,null,null,null,null,null,null,"Atrasado",null,null,null,0,0,{"$f":"IF(Table26[[#This Row],[Status Medida]]=\"Finalizado\",IF(Table26[[#This Row],[Sim/Não]]=1,1,0),0)","v":0}]
[null,null,null,null,null,null,null,null,null,null,null,"Atrasado",null,null,null,0,0,{"$f":"IF(Table26[[#This Row],[Status Medida]]=\"Finalizado\",IF(Table26[[#This Row],[Sim/Não]]=1,1,0),0)","v":0}]
[null,null,null,null,null,null,null,null,null,null,null,"Atrasado",null,null,null,0,0,{"$f":"IF(Table26[[#This Row],[Status Medida]]=\"Finalizado\",IF(Table26[[#This Row],[Sim/Não]]=1,1,0),0)","v":0}]
[null,null,null,null,null,null,null,null,null,null,null,"Atrasado",null,null,null,0,0,{"$f":"IF(Table26[[#This Row],[Status Medida]]=\"Finalizado\",IF(Table26[[#This Row],[Sim/Não]]=1,1,0),0)","v":0}]
[null,null,null,null,null,null,null,null,null,null,null,"Atrasado",null,null,null,0,0,{"$f":"IF(Table26[[#This Row],[Status Medida]]=\"Finalizado\",IF(Table26[[#This Row],[Sim/Não]]=1,1,0),0)","v":0}]
[null,null,null,null,null,null,null,null,null,null,null,"Atrasado",null,null,null,0,0,{"$f":"IF(Table26[[#This Row],[Status Medida]]=\"Finalizado\",IF(Table26[[#This Row],[Sim/Não]]=1,1,0),0)","v":0}]
[null,null,null,null,null,null,null,null,null,null,null,"Atrasado",null,null,null,0,0,{"$f":"IF(Table26[[#This Row],[Status Medida]]=\"Finalizado\",IF(Table26[[#This Row],[Sim/Não]]=1,1,0),0)","v":0}]
[null,null,null,null,null,null,null,null,null,null,null,"Atrasado",null,null,null,0,0,{"$f":"IF(Table26[[#This Row],[Status Medida]]=\"Finalizado\",IF(Table26[[#This Row],[Sim/Não]]=1,1,0),0)","v":0}]
[null,null,null,null,null,null,null,null,null,null,null,"Atrasado",null,null,null,0,0,{"$f":"IF(Table26[[#This Row],[Status Medida]]=\"Finalizado\",IF(Table26[[#This Row],[Sim/Não]]=1,1,0),0)","v":0}]
[null,null,null,null,null,null,null,null,null,null,null,"Atrasado",null,null,null,0,0,{"$f":"IF(Table26[[#This Row],[Status Medida]]=\"Finalizado\",IF(Table26[[#This Row],[Sim/Não]]=1,1,0),0)","v":0}]
[null,null,null,null,null,null,null,null,null,null,null,"Atrasado",null,null,null,0,0,{"$f":"IF(Table26[[#This Row],[Status Medida]]=\"Finalizado\",IF(Table26[[#This Row],[Sim/Não]]=1,1,0),0)","v":0}]
[null,null,null,null,null,null,null,null,null,null,null,"Atrasado",null,null,null,0,0,{"$f":"IF(Table26[[#This Row],[Status Medida]]=\"Finalizado\",IF(Table26[[#This Row],[Sim/Não]]=1,1,0),0)","v":0}]
[null,null,null,null,null,null,null,null,null,null,null,"Atrasado",null,null,null,0,0,{"$f":"IF(Table26[[#This Row],[Status Medida]]=\"Finalizado\",IF(Table26[[#This Row],[Sim/Não]]=1,1,0),0)","v":0}]
[null,null,null,null,null,null,null,null,null,null,null,"Atrasado",null,null,null,0,0,{"$f":"IF(Table26[[#This Row],[Status Medida]]=\"Finalizado\",IF(Table26[[#This Row],[Sim/Não]]=1,1,0),0)","v":0}]
[null,null,null,null,null,null,null,null,null,null,null,"Atrasado",null,null,null,0,0,{"$f":"IF(Table26[[#This Row],[Status Medida]]=\"Finalizado\",IF(Table26[[#This Row],[Sim/Não]]=1,1,0),0)","v":0}]
[null,null,null,null,null,null,null,null,null,null,null,"Atrasado",null,null,null,0,0,{"$f":"IF(Table26[[#This Row],[Status Medida]]=\"Finalizado\",IF(Table26[[#This Row],[Sim/Não]]=1,1,0),0)","v":0}]
[null,null,null,null,null,null,null,null,null,null,null,"Atrasado",null,null,null,0,0,{"$f":"IF(Table26[[#This Row],[Status Medida]]=\"Finalizado\",IF(Table26[[#This Row],[Sim/Não]]=1,1,0),0)","v":0}]
[null,null,null,null,null,null,null,null,null,null,null,"Atrasado",null,null,null,0,0,{"$f":"IF(Table26[[#This Row],[Status Medida]]=\"Finalizado\",IF(Table26[[#This Row],[Sim/Não]]=1,1,0),0)","v":0}]
[null,null,null,null,null,null,null,null,null,null,null,"Atrasado",null,null,null,0,0,{"$f":"IF(Table26[[#This Row],[Status Medida]]=\"Finalizado\",IF(Table26[[#This Row],[Sim/Não]]=1,1,0),0)","v":0}]
[null,null,null,null,null,null,null,null,null,null,null,"Atrasado",null,null,null,0,0,{"$f":"IF(Table26[[#This Row],[Status Medida]]=\"Finalizado\",IF(Table26[[#This Row],[Sim/Não]]=1,1,0),0)","v":0}]
[null,null,null,null,null,null,null,null,null,null,null,"Atrasado",null,null,null,0,0,{"$f":"IF(Table26[[#This Row],[Status Medida]]=\"Finalizado\",IF(Table26[[#This Row],[Sim/Não]]=1,1,0),0)","v":0}]
[null,null,null,null,null,null,null,null,null,null,null,"Atrasado",null,null,null,0,0,{"$f":"IF(Table26[[#This Row],[Status Medida]]=\"Finalizado\",IF(Table26[[#This Row],[Sim/Não]]=1,1,0),0)","v":0}]
[null,null,null,null,null,null,null,null,null,null,null,"Atrasado",null,null,null,0,0,{"$f":"IF(Table26[[#This Row],[Status Medida]]=\"Finalizado\",IF(Table26[[#This Row],[Sim/Não]]=1,1,0),0)","v":0}]
[null,null,null,null,null,null,null,null,null,null,null,"Atrasado",null,null,null,0,0,{"$f":"IF(Table26[[#This Row],[Status Medida]]=\"Finalizado\",IF(Table26[[#This Row],[Sim/Não]]=1,1,0),0)","v":0}]
[null,null,null,null,null,null,null,null,null,null,null,"Atrasado",null,null,null,0,0,{"$f":"IF(Table26[[#This Row],[Status Medida]]=\"Finalizado\",IF(Table26[[#This Row],[Sim/Não]]=1,1,0),0)","v":0}]
[null,null,null,null,null,null,null,null,null,null,null,"Atrasado",null,null,null,0,0,{"$f":"IF(Table26[[#This Row],[Status Medida]]=\"Finalizado\",IF(Table26[[#This Row],[Sim/Não]]=1,1,0),0)","v":0}]
[null,null,null,null,null,null,null,null,null,null,null,"Atrasado",null,null,null,0,0,{"$f":"IF(Table26[[#This Row],[Status Medida]]=\"Finalizado\",IF(Table26[[#This Row],[Sim/Não]]=1,1,0),0)","v":0}]
[null,null,null,null,null,null,null,null,null,null,null,"Atrasado",null,null,null,0,0,{"$f":"IF(Table26[[#This Row],[Status Medida]]=\"Finalizado\",IF(Table26[[#This Row],[Sim/Não]]=1,1,0),0)","v":0}]
[null,null,null,null,null,null,null,null,null,null,null,"Atrasado",null,null,null,0,0,{"$f":"IF(Table26[[#This Row],[Status Medida]]=\"Finalizado\",IF(Table26[[#This Row],[Sim/Não]]=1,1,0),0)","v":0}]
[null,null,null,null,null,null,null,null,null,null,null,"Atrasado",null,null,null,0,0,{"$f":"IF(Table26[[#This Row],[Status Medida]]=\"Finalizado\",IF(Table26[[#This Row],[Sim/Não]]=1,1,0),0)","v":0}]
[null,null,null,null,null,null,null,null,null,null,null,"Atrasado",null,null,null,0,0,{"$f":"IF(Table26[[#This Row],[Status Medida]]=\"Finalizado\",IF(Table26[[#This Row],[Sim/Não]]=1,1,0),0)","v":0}]
[null,null,null,null,null,null,null,null,null,null,null,{"$f":"IF(J1734>K1734,\"Datas inválidas\",IF(M1734=\"Finalizado\",\"Concluído\",IF(J1734>TODAY(),\"Não iniciado\",_xlfn.IFS(J1734=TODAY(),\"Em andamento\",TODAY()>K1734,\"Atrasado\",AND(TODAY()>J1734,TODAY()<=K1734),\"Em andamento\"))))","v":"Atrasado"},null,null,null,{"$f":"IF(O1734=\"Sim\",1,0)","v":0},{"$f":"IF(N1734=E1734,0,1)","v":0},{"$f":"IF(Table26[[#This Row],[Status Medida]]=\"Finalizado\",IF(Table26[[#This Row],[Sim/Não]]=1,1,0),0)","v":0}]
[null,null,null,null,null,null,null,null,null,null,null,"Atrasado",null,null,null,0,0,{"$f":"IF(Table26[[#This Row],[Status Medida]]=\"Finalizado\",IF(Table26[[#This Row],[Sim/Não]]=1,1,0),0)","v":0}]
[null,null,null,null,null,null,null,null,null,null,null,"Atrasado",null,null,null,0,0,{"$f":"IF(Table26[[#This Row],[Status Medida]]=\"Finalizado\",IF(Table26[[#This Row],[Sim/Não]]=1,1,0),0)","v":0}]
[null,null,null,null,null,null,null,null,null,null,null,"Atrasado",null,null,null,0,0,{"$f":"IF(Table26[[#This Row],[Status Medida]]=\"Finalizado\",IF(Table26[[#This Row],[Sim/Não]]=1,1,0),0)","v":0}]
[null,null,null,null,null,null,null,null,null,null,null,"Atrasado",null,null,null,0,0,{"$f":"IF(Table26[[#This Row],[Status Medida]]=\"Finalizado\",IF(Table26[[#This Row],[Sim/Não]]=1,1,0),0)","v":0}]
[null,null,null,null,null,null,null,null,null,null,null,"Atrasado",null,null,null,0,0,{"$f":"IF(Table26[[#This Row],[Status Medida]]=\"Finalizado\",IF(Table26[[#This Row],[Sim/Não]]=1,1,0),0)","v":0}]
[null,null,null,null,null,null,null,null,null,null,null,"Atrasado",null,null,null,0,0,{"$f":"IF(Table26[[#This Row],[Status Medida]]=\"Finalizado\",IF(Table26[[#This Row],[Sim/Não]]=1,1,0),0)","v":0}]
[null,null,null,null,null,null,null,null,null,null,null,"Atrasado",null,null,null,0,0,{"$f":"IF(Table26[[#This Row],[Status Medida]]=\"Finalizado\",IF(Table26[[#This Row],[Sim/Não]]=1,1,0),0)","v":0}]
[null,null,null,null,null,null,null,null,null,null,null,"Atrasado",null,null,null,0,0,{"$f":"IF(Table26[[#This Row],[Status Medida]]=\"Finalizado\",IF(Table26[[#This Row],[Sim/Não]]=1,1,0),0)","v":0}]
[null,null,null,null,null,null,null,null,null,null,null,"Atrasado",null,null,null,0,0,{"$f":"IF(Table26[[#This Row],[Status Medida]]=\"Finalizado\",IF(Table26[[#This Row],[Sim/Não]]=1,1,0),0)","v":0}]
[null,null,null,null,null,null,null,null,null,null,null,"Atrasado",null,null,null,0,0,{"$f":"IF(Table26[[#This Row],[Status Medida]]=\"Finalizado\",IF(Table26[[#This Row],[Sim/Não]]=1,1,0),0)","v":0}]
[null,null,null,null,null,null,null,null,null,null,null,"Atrasado",null,null,null,0,0,{"$f":"IF(Table26[[#This Row],[Status Medida]]=\"Finalizado\",IF(Table26[[#This Row],[Sim/Não]]=1,1,0),0)","v":0}]
[null,null,null,null,null,null,null,null,null,null,null,"Atrasado",null,null,null,0,0,{"$f":"IF(Table26[[#This Row],[Status Medida]]=\"Finalizado\",IF(Table26[[#This Row],[Sim/Não]]=1,1,0),0)","v":0}]
[null,null,null,null,null,null,null,null,null,null,null,"Atrasado",null,null,null,0,0,{"$f":"IF(Table26[[#This Row],[Status Medida]]=\"Finalizado\",IF(Table26[[#This Row],[Sim/Não]]=1,1,0),0)","v":0}]
[null,null,null,null,null,null,null,null,null,null,null,"Atrasado",null,null,null,0,0,{"$f":"IF(Table26[[#This Row],[Status Medida]]=\"Finalizado\",IF(Table26[[#This Row],[Sim/Não]]=1,1,0),0)","v":0}]
[null,null,null,null,null,null,null,null,null,null,null,"Atrasado",null,null,null,0,0,{"$f":"IF(Table26[[#This Row],[Status Medida]]=\"Finalizado\",IF(Table26[[#This Row],[Sim/Não]]=1,1,0),0)","v":0}]
[null,null,null,null,null,null,null,null,null,null,null,"Atrasado",null,null,null,0,0,{"$f":"IF(Table26[[#This Row],[Status Medida]]=\"Finalizado\",IF(Table26[[#This Row],[Sim/Não]]=1,1,0),0)","v":0}]
[null,null,null,null,null,null,null,null,null,null,null,"Atrasado",null,null,null,0,0,{"$f":"IF(Table26[[#This Row],[Status Medida]]=\"Finalizado\",IF(Table26[[#This Row],[Sim/Não]]=1,1,0),0)","v":0}]
[null,null,null,null,null,null,null,null,null,null,null,"Atrasado",null,null,null,0,0,{"$f":"IF(Table26[[#This Row],[Status Medida]]=\"Finalizado\",IF(Table26[[#This Row],[Sim/Não]]=1,1,0),0)","v":0}]
[null,null,null,null,null,null,null,null,null,null,null,"Atrasado",null,null,null,0,0,{"$f":"IF(Table26[[#This Row],[Status Medida]]=\"Finalizado\",IF(Table26[[#This Row],[Sim/Não]]=1,1,0),0)","v":0}]
[null,null,null,null,null,null,null,null,null,null,null,"Atrasado",null,null,null,0,0,{"$f":"IF(Table26[[#This Row],[Status Medida]]=\"Finalizado\",IF(Table26[[#This Row],[Sim/Não]]=1,1,0),0)","v":0}]
[null,null,null,null,null,null,null,null,null,null,null,"Atrasado",null,null,null,0,0,{"$f":"IF(Table26[[#This Row],[Status Medida]]=\"Finalizado\",IF(Table26[[#This Row],[Sim/Não]]=1,1,0),0)","v":0}]
[null,null,null,null,null,null,null,null,null,null,null,"Atrasado",null,null,null,0,0,{"$f":"IF(Table26[[#This Row],[Status Medida]]=\"Finalizado\",IF(Table26[[#This Row],[Sim/Não]]=1,1,0),0)","v":0}]
[null,null,null,null,null,null,null,null,null,null,null,"Atrasado",null,null,null,0,0,{"$f":"IF(Table26[[#This Row],[Status Medida]]=\"Finalizado\",IF(Table26[[#This Row],[Sim/Não]]=1,1,0),0)","v":0}]
[null,null,null,null,null,null,null,null,null,null,null,"Atrasado",null,null,null,0,0,{"$f":"IF(Table26[[#This Row],[Status Medida]]=\"Finalizado\",IF(Table26[[#This Row],[Sim/Não]]=1,1,0),0)","v":0}]
[null,null,null,null,null,null,null,null,null,null,null,"Atrasado",null,null,null,0,0,{"$f":"IF(Table26[[#This Row],[Status Medida]]=\"Finalizado\",IF(Table26[[#This Row],[Sim/Não]]=1,1,0),0)","v":0}]
[null,null,null,null,null,null,null,null,null,null,null,"Atrasado",null,null,null,0,0,{"$f":"IF(Table26[[#This Row],[Status Medida]]=\"Finalizado\",IF(Table26[[#This Row],[Sim/Não]]=1,1,0),0)","v":0}]
[null,null,null,null,null,null,null,null,null,null,null,"Atrasado",null,null,null,0,0,{"$f":"IF(Table26[[#This Row],[Status Medida]]=\"Finalizado\",IF(Table26[[#This Row],[Sim/Não]]=1,1,0),0)","v":0}]
[null,null,null,null,null,null,null,null,null,null,null,"Atrasado",null,null,null,0,0,{"$f":"IF(Table26[[#This Row],[Status Medida]]=\"Finalizado\",IF(Table26[[#This Row],[Sim/Não]]=1,1,0),0)","v":0}]
[null,null,null,null,null,null,null,null,null,null,null,"Atrasado",null,null,null,0,0,{"$f":"IF(Table26[[#This Row],[Status Medida]]=\"Finalizado\",IF(Table26[[#This Row],[Sim/Não]]=1,1,0),0)","v":0}]
[null,null,null,null,null,null,null,null,null,null,null,"Atrasado",null,null,null,0,0,{"$f":"IF(Table26[[#This Row],[Status Medida]]=\"Finalizado\",IF(Table26[[#This Row],[Sim/Não]]=1,1,0),0)","v":0}]
[null,null,null,null,null,null,null,null,null,null,null,"Atrasado",null,null,null,0,0,{"$f":"IF(Table26[[#This Row],[Status Medida]]=\"Finalizado\",IF(Table26[[#This Row],[Sim/Não]]=1,1,0),0)","v":0}]
[null,null,null,null,null,null,null,null,null,null,null,"Atrasado",null,null,null,0,0,{"$f":"IF(Table26[[#This Row],[Status Medida]]=\"Finalizado\",IF(Table26[[#This Row],[Sim/Não]]=1,1,0),0)","v":0}]
[null,null,null,null,null,null,null,null,null,null,null,"Atrasado",null,null,null,0,0,{"$f":"IF(Table26[[#This Row],[Status Medida]]=\"Finalizado\",IF(Table26[[#This Row],[Sim/Não]]=1,1,0),0)","v":0}]
[null,null,null,null,null,null,null,null,null,null,null,"Atrasado",null,null,null,0,0,{"$f":"IF(Table26[[#This Row],[Status Medida]]=\"Finalizado\",IF(Table26[[#This Row],[Sim/Não]]=1,1,0),0)","v":0}]
[null,null,null,null,null,null,null,null,null,null,null,"Atrasado",null,null,null,0,0,{"$f":"IF(Table26[[#This Row],[Status Medida]]=\"Finalizado\",IF(Table26[[#This Row],[Sim/Não]]=1,1,0),0)","v":0}]
[null,null,null,null,null,null,null,null,null,null,null,"Atrasado",null,null,null,0,0,{"$f":"IF(Table26[[#This Row],[Status Medida]]=\"Finalizado\",IF(Table26[[#This Row],[Sim/Não]]=1,1,0),0)","v":0}]
[null,null,null,null,null,null,null,null,null,null,null,"Atrasado",null,null,null,0,0,{"$f":"IF(Table26[[#This Row],[Status Medida]]=\"Finalizado\",IF(Table26[[#This Row],[Sim/Não]]=1,1,0),0)","v":0}]
[null,null,null,null,null,null,null,null,null,null,null,"Atrasado",null,null,null,0,0,{"$f":"IF(Table26[[#This Row],[Status Medida]]=\"Finalizado\",IF(Table26[[#This Row],[Sim/Não]]=1,1,0),0)","v":0}]
[null,null,null,null,null,null,null,null,null,null,null,"Atrasado",null,null,null,0,0,{"$f":"IF(Table26[[#This Row],[Status Medida]]=\"Finalizado\",IF(Table26[[#This Row],[Sim/Não]]=1,1,0),0)","v":0}]
[null,null,null,null,null,null,null,null,null,null,null,"Atrasado",null,null,null,0,0,{"$f":"IF(Table26[[#This Row],[Status Medida]]=\"Finalizado\",IF(Table26[[#This Row],[Sim/Não]]=1,1,0),0)","v":0}]
[null,null,null,null,null,null,null,null,null,null,null,"Atrasado",null,null,null,0,0,{"$f":"IF(Table26[[#This Row],[Status Medida]]=\"Finalizado\",IF(Table26[[#This Row],[Sim/Não]]=1,1,0),0)","v":0}]
[null,null,null,null,null,null,null,null,null,null,null,"Atrasado",null,null,null,0,0,{"$f":"IF(Table26[[#This Row],[Status Medida]]=\"Finalizado\",IF(Table26[[#This Row],[Sim/Não]]=1,1,0),0)","v":0}]
[null,null,null,null,null,null,null,null,null,null,null,"Atrasado",null,null,null,0,0,{"$f":"IF(Table26[[#This Row],[Status Medida]]=\"Finalizado\",IF(Table26[[#This Row],[Sim/Não]]=1,1,0),0)","v":0}]
[null,null,null,null,null,null,null,null,null,null,null,"Atrasado",null,null,null,0,0,{"$f":"IF(Table26[[#This Row],[Status Medida]]=\"Finalizado\",IF(Table26[[#This Row],[Sim/Não]]=1,1,0),0)","v":0}]
[null,null,null,null,null,null,null,null,null,null,null,"Atrasado",null,null,null,0,0,{"$f":"IF(Table26[[#This Row],[Status Medida]]=\"Finalizado\",IF(Table26[[#This Row],[Sim/Não]]=1,1,0),0)","v":0}]
[null,null,null,null,null,null,null,null,null,null,null,"Atrasado",null,null,null,0,0,{"$f":"IF(Table26[[#This Row],[Status Medida]]=\"Finalizado\",IF(Table26[[#This Row],[Sim/Não]]=1,1,0),0)","v":0}]
[null,null,null,null,null,null,null,null,null,null,null,"Atrasado",null,null,null,0,0,{"$f":"IF(Table26[[#This Row],[Status Medida]]=\"Finalizado\",IF(Table26[[#This Row],[Sim/Não]]=1,1,0),0)","v":0}]
[null,null,null,null,null,null,null,null,null,null,null,"Atrasado",null,null,null,0,0,{"$f":"IF(Table26[[#This Row],[Status Medida]]=\"Finalizado\",IF(Table26[[#This Row],[Sim/Não]]=1,1,0),0)","v":0}]
[null,null,null,null,null,null,null,null,null,null,null,"Atrasado",null,null,null,0,0,{"$f":"IF(Table26[[#This Row],[Status Medida]]=\"Finalizado\",IF(Table26[[#This Row],[Sim/Não]]=1,1,0),0)","v":0}]
[null,null,null,null,null,null,null,null,null,null,null,"Atrasado",null,null,null,0,0,{"$f":"IF(Table26[[#This Row],[Status Medida]]=\"Finalizado\",IF(Table26[[#This Row],[Sim/Não]]=1,1,0),0)","v":0}]
[null,null,null,null,null,null,null,null,null,null,null,"Atrasado",null,null,null,0,0,{"$f":"IF(Table26[[#This Row],[Status Medida]]=\"Finalizado\",IF(Table26[[#This Row],[Sim/Não]]=1,1,0),0)","v":0}]
[null,null,null,null,null,null,null,null,null,null,null,"Atrasado",null,null,null,0,0,{"$f":"IF(Table26[[#This Row],[Status Medida]]=\"Finalizado\",IF(Table26[[#This Row],[Sim/Não]]=1,1,0),0)","v":0}]
[null,null,null,null,null,null,null,null,null,null,null,"Atrasado",null,null,null,0,0,{"$f":"IF(Table26[[#This Row],[Status Medida]]=\"Finalizado\",IF(Table26[[#This Row],[Sim/Não]]=1,1,0),0)","v":0}]
[null,null,null,null,null,null,null,null,null,null,null,"Atrasado",null,null,null,0,0,{"$f":"IF(Table26[[#This Row],[Status Medida]]=\"Finalizado\",IF(Table26[[#This Row],[Sim/Não]]=1,1,0),0)","v":0}]
[null,null,null,null,null,null,null,null,null,null,null,"Atrasado",null,null,null,0,0,{"$f":"IF(Table26[[#This Row],[Status Medida]]=\"Finalizado\",IF(Table26[[#This Row],[Sim/Não]]=1,1,0),0)","v":0}]
[null,null,null,null,null,null,null,null,null,null,null,"Atrasado",null,null,null,0,0,{"$f":"IF(Table26[[#This Row],[Status Medida]]=\"Finalizado\",IF(Table26[[#This Row],[Sim/Não]]=1,1,0),0)","v":0}]
[null,null,null,null,null,null,null,null,null,null,null,"Atrasado",null,null,null,0,0,{"$f":"IF(Table26[[#This Row],[Status Medida]]=\"Finalizado\",IF(Table26[[#This Row],[Sim/Não]]=1,1,0),0)","v":0}]
[null,null,null,null,null,null,null,null,null,null,null,"Atrasado",null,null,null,0,0,{"$f":"IF(Table26[[#This Row],[Status Medida]]=\"Finalizado\",IF(Table26[[#This Row],[Sim/Não]]=1,1,0),0)","v":0}]
[null,null,null,null,null,null,null,null,null,null,null,"Atrasado",null,null,null,0,0,{"$f":"IF(Table26[[#This Row],[Status Medida]]=\"Finalizado\",IF(Table26[[#This Row],[Sim/Não]]=1,1,0),0)","v":0}]
[null,null,null,null,null,null,null,null,null,null,null,"Atrasado",null,null,null,0,0,{"$f":"IF(Table26[[#This Row],[Status Medida]]=\"Finalizado\",IF(Table26[[#This Row],[Sim/Não]]=1,1,0),0)","v":0}]
[null,null,null,null,null,null,null,null,null,null,null,"Atrasado",null,null,null,0,0,{"$f":"IF(Table26[[#This Row],[Status Medida]]=\"Finalizado\",IF(Table26[[#This Row],[Sim/Não]]=1,1,0),0)","v":0}]
[null,null,null,null,null,null,null,null,null,null,null,"Atrasado",null,null,null,0,0,{"$f":"IF(Table26[[#This Row],[Status Medida]]=\"Finalizado\",IF(Table26[[#This Row],[Sim/Não]]=1,1,0),0)","v":0}]
[null,null,null,null,null,null,null,null,null,null,null,"Atrasado",null,null,null,0,0,{"$f":"IF(Table26[[#This Row],[Status Medida]]=\"Finalizado\",IF(Table26[[#This Row],[Sim/Não]]=1,1,0),0)","v":0}]
[null,null,null,null,null,null,null,null,null,null,null,{"$f":"IF(J1798>K1798,\"Datas inválidas\",IF(M1798=\"Finalizado\",\"Concluído\",IF(J1798>TODAY(),\"Não iniciado\",_xlfn.IFS(J1798=TODAY(),\"Em andamento\",TODAY()>K1798,\"Atrasado\",AND(TODAY()>J1798,TODAY()<=K1798),\"Em andamento\"))))","v":"Atrasado"},null,null,null,{"$f":"IF(O1798=\"Sim\",1,0)","v":0},{"$f":"IF(N1798=E1798,0,1)","v":0},{"$f":"IF(Table26[[#This Row],[Status Medida]]=\"Finalizado\",IF(Table26[[#This Row],[Sim/Não]]=1,1,0),0)","v":0}]
[null,null,null,null,null,null,null,null,null,null,null,"Atrasado",null,null,null,0,0,{"$f":"IF(Table26[[#This Row],[Status Medida]]=\"Finalizado\",IF(Table26[[#This Row],[Sim/Não]]=1,1,0),0)","v":0}]
[null,null,null,null,null,null,null,null,null,null,null,"Atrasado",null,null,null,0,0,{"$f":"IF(Table26[[#This Row],[Status Medida]]=\"Finalizado\",IF(Table26[[#This Row],[Sim/Não]]=1,1,0),0)","v":0}]
[null,null,null,null,null,null,null,null,null,null,null,"Atrasado",null,null,null,0,0,{"$f":"IF(Table26[[#This Row],[Status Medida]]=\"Finalizado\",IF(Table26[[#This Row],[Sim/Não]]=1,1,0),0)","v":0}]
[null,null,null,null,null,null,null,null,null,null,null,"Atrasado",null,null,null,0,0,{"$f":"IF(Table26[[#This Row],[Status Medida]]=\"Finalizado\",IF(Table26[[#This Row],[Sim/Não]]=1,1,0),0)","v":0}]
[null,null,null,null,null,null,null,null,null,null,null,"Atrasado",null,null,null,0,0,{"$f":"IF(Table26[[#This Row],[Status Medida]]=\"Finalizado\",IF(Table26[[#This Row],[Sim/Não]]=1,1,0),0)","v":0}]
[null,null,null,null,null,null,null,null,null,null,null,"Atrasado",null,null,null,0,0,{"$f":"IF(Table26[[#This Row],[Status Medida]]=\"Finalizado\",IF(Table26[[#This Row],[Sim/Não]]=1,1,0),0)","v":0}]
[null,null,null,null,null,null,null,null,null,null,null,"Atrasado",null,null,null,0,0,{"$f":"IF(Table26[[#This Row],[Status Medida]]=\"Finalizado\",IF(Table26[[#This Row],[Sim/Não]]=1,1,0),0)","v":0}]
[null,null,null,null,null,null,null,null,null,null,null,"Atrasado",null,null,null,0,0,{"$f":"IF(Table26[[#This Row],[Status Medida]]=\"Finalizado\",IF(Table26[[#This Row],[Sim/Não]]=1,1,0),0)","v":0}]
[null,null,null,null,null,null,null,null,null,null,null,"Atrasado",null,null,null,0,0,{"$f":"IF(Table26[[#This Row],[Status Medida]]=\"Finalizado\",IF(Table26[[#This Row],[Sim/Não]]=1,1,0),0)","v":0}]
[null,null,null,null,null,null,null,null,null,null,null,"Atrasado",null,null,null,0,0,{"$f":"IF(Table26[[#This Row],[Status Medida]]=\"Finalizado\",IF(Table26[[#This Row],[Sim/Não]]=1,1,0),0)","v":0}]
[null,null,null,null,null,null,null,null,null,null,null,"Atrasado",null,null,null,0,0,{"$f":"IF(Table26[[#This Row],[Status Medida]]=\"Finalizado\",IF(Table26[[#This Row],[Sim/Não]]=1,1,0),0)","v":0}]
[null,null,null,null,null,null,null,null,null,null,null,"Atrasado",null,null,null,0,0,{"$f":"IF(Table26[[#This Row],[Status Medida]]=\"Finalizado\",IF(Table26[[#This Row],[Sim/Não]]=1,1,0),0)","v":0}]
[null,null,null,null,null,null,null,null,null,null,null,"Atrasado",null,null,null,0,0,{"$f":"IF(Table26[[#This Row],[Status Medida]]=\"Finalizado\",IF(Table26[[#This Row],[Sim/Não]]=1,1,0),0)","v":0}]
[null,null,null,null,null,null,null,null,null,null,null,"Atrasado",null,null,null,0,0,{"$f":"IF(Table26[[#This Row],[Status Medida]]=\"Finalizado\",IF(Table26[[#This Row],[Sim/Não]]=1,1,0),0)","v":0}]
[null,null,null,null,null,null,null,null,null,null,null,"Atrasado",null,null,null,0,0,{"$f":"IF(Table26[[#This Row],[Status Medida]]=\"Finalizado\",IF(Table26[[#This Row],[Sim/Não]]=1,1,0),0)","v":0}]
[null,null,null,null,null,null,null,null,null,null,null,"Atrasado",null,null,null,0,0,{"$f":"IF(Table26[[#This Row],[Status Medida]]=\"Finalizado\",IF(Table26[[#This Row],[Sim/Não]]=1,1,0),0)","v":0}]
[null,null,null,null,null,null,null,null,null,null,null,"Atrasado",null,null,null,0,0,{"$f":"IF(Table26[[#This Row],[Status Medida]]=\"Finalizado\",IF(Table26[[#This Row],[Sim/Não]]=1,1,0),0)","v":0}]
[null,null,null,null,null,null,null,null,null,null,null,"Atrasado",null,null,null,0,0,{"$f":"IF(Table26[[#This Row],[Status Medida]]=\"Finalizado\",IF(Table26[[#This Row],[Sim/Não]]=1,1,0),0)","v":0}]
[null,null,null,null,null,null,null,null,null,null,null,"Atrasado",null,null,null,0,0,{"$f":"IF(Table26[[#This Row],[Status Medida]]=\"Finalizado\",IF(Table26[[#This Row],[Sim/Não]]=1,1,0),0)","v":0}]
[null,null,null,null,null,null,null,null,null,null,null,"Atrasado",null,null,null,0,0,{"$f":"IF(Table26[[#This Row],[Status Medida]]=\"Finalizado\",IF(Table26[[#This Row],[Sim/Não]]=1,1,0),0)","v":0}]
[null,null,null,null,null,null,null,null,null,null,null,"Atrasado",null,null,null,0,0,{"$f":"IF(Table26[[#This Row],[Status Medida]]=\"Finalizado\",IF(Table26[[#This Row],[Sim/Não]]=1,1,0),0)","v":0}]
[null,null,null,null,null,null,null,null,null,null,null,"Atrasado",null,null,null,0,0,{"$f":"IF(Table26[[#This Row],[Status Medida]]=\"Finalizado\",IF(Table26[[#This Row],[Sim/Não]]=1,1,0),0)","v":0}]
[null,null,null,null,null,null,null,null,null,null,null,"Atrasado",null,null,null,0,0,{"$f":"IF(Table26[[#This Row],[Status Medida]]=\"Finalizado\",IF(Table26[[#This Row],[Sim/Não]]=1,1,0),0)","v":0}]
[null,null,null,null,null,null,null,null,null,null,null,"Atrasado",null,null,null,0,0,{"$f":"IF(Table26[[#This Row],[Status Medida]]=\"Finalizado\",IF(Table26[[#This Row],[Sim/Não]]=1,1,0),0)","v":0}]
[null,null,null,null,null,null,null,null,null,null,null,"Atrasado",null,null,null,0,0,{"$f":"IF(Table26[[#This Row],[Status Medida]]=\"Finalizado\",IF(Table26[[#This Row],[Sim/Não]]=1,1,0),0)","v":0}]
[null,null,null,null,null,null,null,null,null,null,null,"Atrasado",null,null,null,0,0,{"$f":"IF(Table26[[#This Row],[Status Medida]]=\"Finalizado\",IF(Table26[[#This Row],[Sim/Não]]=1,1,0),0)","v":0}]
[null,null,null,null,null,null,null,null,null,null,null,"Atrasado",null,null,null,0,0,{"$f":"IF(Table26[[#This Row],[Status Medida]]=\"Finalizado\",IF(Table26[[#This Row],[Sim/Não]]=1,1,0),0)","v":0}]
[null,null,null,null,null,null,null,null,null,null,null,"Atrasado",null,null,null,0,0,{"$f":"IF(Table26[[#This Row],[Status Medida]]=\"Finalizado\",IF(Table26[[#This Row],[Sim/Não]]=1,1,0),0)","v":0}]
[null,null,null,null,null,null,null,null,null,null,null,"Atrasado",null,null,null,0,0,{"$f":"IF(Table26[[#This Row],[Status Medida]]=\"Finalizado\",IF(Table26[[#This Row],[Sim/Não]]=1,1,0),0)","v":0}]
[null,null,null,null,null,null,null,null,null,null,null,"Atrasado",null,null,null,0,0,{"$f":"IF(Table26[[#This Row],[Status Medida]]=\"Finalizado\",IF(Table26[[#This Row],[Sim/Não]]=1,1,0),0)","v":0}]
[null,null,null,null,null,null,null,null,null,null,null,"Atrasado",null,null,null,0,0,{"$f":"IF(Table26[[#This Row],[Status Medida]]=\"Finalizado\",IF(Table26[[#This Row],[Sim/Não]]=1,1,0),0)","v":0}]
[null,null,null,null,null,null,null,null,null,null,null,"Atrasado",null,null,null,0,0,{"$f":"IF(Table26[[#This Row],[Status Medida]]=\"Finalizado\",IF(Table26[[#This Row],[Sim/Não]]=1,1,0),0)","v":0}]
[null,null,null,null,null,null,null,null,null,null,null,"Atrasado",null,null,null,0,0,{"$f":"IF(Table26[[#This Row],[Status Medida]]=\"Finalizado\",IF(Table26[[#This Row],[Sim/Não]]=1,1,0),0)","v":0}]
[null,null,null,null,null,null,null,null,null,null,null,"Atrasado",null,null,null,0,0,{"$f":"IF(Table26[[#This Row],[Status Medida]]=\"Finalizado\",IF(Table26[[#This Row],[Sim/Não]]=1,1,0),0)","v":0}]
[null,null,null,null,null,null,null,null,null,null,null,"Atrasado",null,null,null,0,0,{"$f":"IF(Table26[[#This Row],[Status Medida]]=\"Finalizado\",IF(Table26[[#This Row],[Sim/Não]]=1,1,0),0)","v":0}]
[null,null,null,null,null,null,null,null,null,null,null,"Atrasado",null,null,null,0,0,{"$f":"IF(Table26[[#This Row],[Status Medida]]=\"Finalizado\",IF(Table26[[#This Row],[Sim/Não]]=1,1,0),0)","v":0}]
[null,null,null,null,null,null,null,null,null,null,null,"Atrasado",null,null,null,0,0,{"$f":"IF(Table26[[#This Row],[Status Medida]]=\"Finalizado\",IF(Table26[[#This Row],[Sim/Não]]=1,1,0),0)","v":0}]
[null,null,null,null,null,null,null,null,null,null,null,"Atrasado",null,null,null,0,0,{"$f":"IF(Table26[[#This Row],[Status Medida]]=\"Finalizado\",IF(Table26[[#This Row],[Sim/Não]]=1,1,0),0)","v":0}]
[null,null,null,null,null,null,null,null,null,null,null,"Atrasado",null,null,null,0,0,{"$f":"IF(Table26[[#This Row],[Status Medida]]=\"Finalizado\",IF(Table26[[#This Row],[Sim/Não]]=1,1,0),0)","v":0}]
[null,null,null,null,null,null,null,null,null,null,null,"Atrasado",null,null,null,0,0,{"$f":"IF(Table26[[#This Row],[Status Medida]]=\"Finalizado\",IF(Table26[[#This Row],[Sim/Não]]=1,1,0),0)","v":0}]
[null,null,null,null,null,null,null,null,null,null,null,"Atrasado",null,null,null,0,0,{"$f":"IF(Table26[[#This Row],[Status Medida]]=\"Finalizado\",IF(Table26[[#This Row],[Sim/Não]]=1,1,0),0)","v":0}]
[null,null,null,null,null,null,null,null,null,null,null,"Atrasado",null,null,null,0,0,{"$f":"IF(Table26[[#This Row],[Status Medida]]=\"Finalizado\",IF(Table26[[#This Row],[Sim/Não]]=1,1,0),0)","v":0}]
[null,null,null,null,null,null,null,null,null,null,null,"Atrasado",null,null,null,0,0,{"$f":"IF(Table26[[#This Row],[Status Medida]]=\"Finalizado\",IF(Table26[[#This Row],[Sim/Não]]=1,1,0),0)","v":0}]
[null,null,null,null,null,null,null,null,null,null,null,"Atrasado",null,null,null,0,0,{"$f":"IF(Table26[[#This Row],[Status Medida]]=\"Finalizado\",IF(Table26[[#This Row],[Sim/Não]]=1,1,0),0)","v":0}]
[null,null,null,null,null,null,null,null,null,null,null,"Atrasado",null,null,null,0,0,{"$f":"IF(Table26[[#This Row],[Status Medida]]=\"Finalizado\",IF(Table26[[#This Row],[Sim/Não]]=1,1,0),0)","v":0}]
[null,null,null,null,null,null,null,null,null,null,null,"Atrasado",null,null,null,0,0,{"$f":"IF(Table26[[#This Row],[Status Medida]]=\"Finalizado\",IF(Table26[[#This Row],[Sim/Não]]=1,1,0),0)","v":0}]
[null,null,null,null,null,null,null,null,null,null,null,"Atrasado",null,null,null,0,0,{"$f":"IF(Table26[[#This Row],[Status Medida]]=\"Finalizado\",IF(Table26[[#This Row],[Sim/Não]]=1,1,0),0)","v":0}]
[null,null,null,null,null,null,null,null,null,null,null,"Atrasado",null,null,null,0,0,{"$f":"IF(Table26[[#This Row],[Status Medida]]=\"Finalizado\",IF(Table26[[#This Row],[Sim/Não]]=1,1,0),0)","v":0}]
[null,null,null,null,null,null,null,null,null,null,null,"Atrasado",null,null,null,0,0,{"$f":"IF(Table26[[#This Row],[Status Medida]]=\"Finalizado\",IF(Table26[[#This Row],[Sim/Não]]=1,1,0),0)","v":0}]
[null,null,null,null,null,null,null,null,null,null,null,"Atrasado",null,null,null,0,0,{"$f":"IF(Table26[[#This Row],[Status Medida]]=\"Finalizado\",IF(Table26[[#This Row],[Sim/Não]]=1,1,0),0)","v":0}]
[null,null,null,null,null,null,null,null,null,null,null,"Atrasado",null,null,null,0,0,{"$f":"IF(Table26[[#This Row],[Status Medida]]=\"Finalizado\",IF(Table26[[#This Row],[Sim/Não]]=1,1,0),0)","v":0}]
[null,null,null,null,null,null,null,null,null,null,null,"Atrasado",null,null,null,0,0,{"$f":"IF(Table26[[#This Row],[Status Medida]]=\"Finalizado\",IF(Table26[[#This Row],[Sim/Não]]=1,1,0),0)","v":0}]
[null,null,null,null,null,null,null,null,null,null,null,"Atrasado",null,null,null,0,0,{"$f":"IF(Table26[[#This Row],[Status Medida]]=\"Finalizado\",IF(Table26[[#This Row],[Sim/Não]]=1,1,0),0)","v":0}]
[null,null,null,null,null,null,null,null,null,null,null,"Atrasado",null,null,null,0,0,{"$f":"IF(Table26[[#This Row],[Status Medida]]=\"Finalizado\",IF(Table26[[#This Row],[Sim/Não]]=1,1,0),0)","v":0}]
[null,null,null,null,null,null,null,null,null,null,null,"Atrasado",null,null,null,0,0,{"$f":"IF(Table26[[#This Row],[Status Medida]]=\"Finalizado\",IF(Table26[[#This Row],[Sim/Não]]=1,1,0),0)","v":0}]
[null,null,null,null,null,null,null,null,null,null,null,"Atrasado",null,null,null,0,0,{"$f":"IF(Table26[[#This Row],[Status Medida]]=\"Finalizado\",IF(Table26[[#This Row],[Sim/Não]]=1,1,0),0)","v":0}]
[null,null,null,null,null,null,null,null,null,null,null,"Atrasado",null,null,null,0,0,{"$f":"IF(Table26[[#This Row],[Status Medida]]=\"Finalizado\",IF(Table26[[#This Row],[Sim/Não]]=1,1,0),0)","v":0}]
[null,null,null,null,null,null,null,null,null,null,null,"Atrasado",null,null,null,0,0,{"$f":"IF(Table26[[#This Row],[Status Medida]]=\"Finalizado\",IF(Table26[[#This Row],[Sim/Não]]=1,1,0),0)","v":0}]
[null,null,null,null,null,null,null,null,null,null,null,"Atrasado",null,null,null,0,0,{"$f":"IF(Table26[[#This Row],[Status Medida]]=\"Finalizado\",IF(Table26[[#This Row],[Sim/Não]]=1,1,0),0)","v":0}]
[null,null,null,null,null,null,null,null,null,null,null,"Atrasado",null,null,null,0,0,{"$f":"IF(Table26[[#This Row],[Status Medida]]=\"Finalizado\",IF(Table26[[#This Row],[Sim/Não]]=1,1,0),0)","v":0}]
[null,null,null,null,null,null,null,null,null,null,null,"Atrasado",null,null,null,0,0,{"$f":"IF(Table26[[#This Row],[Status Medida]]=\"Finalizado\",IF(Table26[[#This Row],[Sim/Não]]=1,1,0),0)","v":0}]
[null,null,null,null,null,null,null,null,null,null,null,"Atrasado",null,null,null,0,0,{"$f":"IF(Table26[[#This Row],[Status Medida]]=\"Finalizado\",IF(Table26[[#This Row],[Sim/Não]]=1,1,0),0)","v":0}]
[null,null,null,null,null,null,null,null,null,null,null,"Atrasado",null,null,null,0,0,{"$f":"IF(Table26[[#This Row],[Status Medida]]=\"Finalizado\",IF(Table26[[#This Row],[Sim/Não]]=1,1,0),0)","v":0}]
[null,null,null,null,null,null,null,null,null,null,null,{"$f":"IF(J1862>K1862,\"Datas inválidas\",IF(M1862=\"Finalizado\",\"Concluído\",IF(J1862>TODAY(),\"Não iniciado\",_xlfn.IFS(J1862=TODAY(),\"Em andamento\",TODAY()>K1862,\"Atrasado\",AND(TODAY()>J1862,TODAY()<=K1862),\"Em andamento\"))))","v":"Atrasado"},null,null,null,{"$f":"IF(O1862=\"Sim\",1,0)","v":0},{"$f":"IF(N1862=E1862,0,1)","v":0},{"$f":"IF(Table26[[#This Row],[Status Medida]]=\"Finalizado\",IF(Table26[[#This Row],[Sim/Não]]=1,1,0),0)","v":0}]
[null,null,null,null,null,null,null,null,null,null,null,"Atrasado",null,null,null,0,0,{"$f":"IF(Table26[[#This Row],[Status Medida]]=\"Finalizado\",IF(Table26[[#This Row],[Sim/Não]]=1,1,0),0)","v":0}]
[null,null,null,null,null,null,null,null,null,null,null,"Atrasado",null,null,null,0,0,{"$f":"IF(Table26[[#This Row],[Status Medida]]=\"Finalizado\",IF(Table26[[#This Row],[Sim/Não]]=1,1,0),0)","v":0}]
[null,null,null,null,null,null,null,null,null,null,null,"Atrasado",null,null,null,0,0,{"$f":"IF(Table26[[#This Row],[Status Medida]]=\"Finalizado\",IF(Table26[[#This Row],[Sim/Não]]=1,1,0),0)","v":0}]
[null,null,null,null,null,null,null,null,null,null,null,"Atrasado",null,null,null,0,0,{"$f":"IF(Table26[[#This Row],[Status Medida]]=\"Finalizado\",IF(Table26[[#This Row],[Sim/Não]]=1,1,0),0)","v":0}]
[null,null,null,null,null,null,null,null,null,null,null,"Atrasado",null,null,null,0,0,{"$f":"IF(Table26[[#This Row],[Status Medida]]=\"Finalizado\",IF(Table26[[#This Row],[Sim/Não]]=1,1,0),0)","v":0}]
[null,null,null,null,null,null,null,null,null,null,null,"Atrasado",null,null,null,0,0,{"$f":"IF(Table26[[#This Row],[Status Medida]]=\"Finalizado\",IF(Table26[[#This Row],[Sim/Não]]=1,1,0),0)","v":0}]
[null,null,null,null,null,null,null,null,null,null,null,"Atrasado",null,null,null,0,0,{"$f":"IF(Table26[[#This Row],[Status Medida]]=\"Finalizado\",IF(Table26[[#This Row],[Sim/Não]]=1,1,0),0)","v":0}]
[null,null,null,null,null,null,null,null,null,null,null,"Atrasado",null,null,null,0,0,{"$f":"IF(Table26[[#This Row],[Status Medida]]=\"Finalizado\",IF(Table26[[#This Row],[Sim/Não]]=1,1,0),0)","v":0}]
[null,null,null,null,null,null,null,null,null,null,null,"Atrasado",null,null,null,0,0,{"$f":"IF(Table26[[#This Row],[Status Medida]]=\"Finalizado\",IF(Table26[[#This Row],[Sim/Não]]=1,1,0),0)","v":0}]
[null,null,null,null,null,null,null,null,null,null,null,"Atrasado",null,null,null,0,0,{"$f":"IF(Table26[[#This Row],[Status Medida]]=\"Finalizado\",IF(Table26[[#This Row],[Sim/Não]]=1,1,0),0)","v":0}]
[null,null,null,null,null,null,null,null,null,null,null,"Atrasado",null,null,null,0,0,{"$f":"IF(Table26[[#This Row],[Status Medida]]=\"Finalizado\",IF(Table26[[#This Row],[Sim/Não]]=1,1,0),0)","v":0}]
[null,null,null,null,null,null,null,null,null,null,null,"Atrasado",null,null,null,0,0,{"$f":"IF(Table26[[#This Row],[Status Medida]]=\"Finalizado\",IF(Table26[[#This Row],[Sim/Não]]=1,1,0),0)","v":0}]
[null,null,null,null,null,null,null,null,null,null,null,"Atrasado",null,null,null,0,0,{"$f":"IF(Table26[[#This Row],[Status Medida]]=\"Finalizado\",IF(Table26[[#This Row],[Sim/Não]]=1,1,0),0)","v":0}]
[null,null,null,null,null,null,null,null,null,null,null,"Atrasado",null,null,null,0,0,{"$f":"IF(Table26[[#This Row],[Status Medida]]=\"Finalizado\",IF(Table26[[#This Row],[Sim/Não]]=1,1,0),0)","v":0}]
[null,null,null,null,null,null,null,null,null,null,null,"Atrasado",null,null,null,0,0,{"$f":"IF(Table26[[#This Row],[Status Medida]]=\"Finalizado\",IF(Table26[[#This Row],[Sim/Não]]=1,1,0),0)","v":0}]
[null,null,null,null,null,null,null,null,null,null,null,"Atrasado",null,null,null,0,0,{"$f":"IF(Table26[[#This Row],[Status Medida]]=\"Finalizado\",IF(Table26[[#This Row],[Sim/Não]]=1,1,0),0)","v":0}]
[null,null,null,null,null,null,null,null,null,null,null,"Atrasado",null,null,null,0,0,{"$f":"IF(Table26[[#This Row],[Status Medida]]=\"Finalizado\",IF(Table26[[#This Row],[Sim/Não]]=1,1,0),0)","v":0}]
[null,null,null,null,null,null,null,null,null,null,null,"Atrasado",null,null,null,0,0,{"$f":"IF(Table26[[#This Row],[Status Medida]]=\"Finalizado\",IF(Table26[[#This Row],[Sim/Não]]=1,1,0),0)","v":0}]
[null,null,null,null,null,null,null,null,null,null,null,"Atrasado",null,null,null,0,0,{"$f":"IF(Table26[[#This Row],[Status Medida]]=\"Finalizado\",IF(Table26[[#This Row],[Sim/Não]]=1,1,0),0)","v":0}]
[null,null,null,null,null,null,null,null,null,null,null,"Atrasado",null,null,null,0,0,{"$f":"IF(Table26[[#This Row],[Status Medida]]=\"Finalizado\",IF(Table26[[#This Row],[Sim/Não]]=1,1,0),0)","v":0}]
[null,null,null,null,null,null,null,null,null,null,null,"Atrasado",null,null,null,0,0,{"$f":"IF(Table26[[#This Row],[Status Medida]]=\"Finalizado\",IF(Table26[[#This Row],[Sim/Não]]=1,1,0),0)","v":0}]
[null,null,null,null,null,null,null,null,null,null,null,{"$f":"IF(J1884>K1884,\"Datas inválidas\",IF(M1884=\"Finalizado\",\"Concluído\",IF(J1884>TODAY(),\"Não iniciado\",_xlfn.IFS(J1884=TODAY(),\"Em andamento\",TODAY()>K1884,\"Atrasado\",AND(TODAY()>J1884,TODAY()<=K1884),\"Em andamento\"))))","v":"Atrasado"},null,null,null,{"$f":"IF(O1884=\"Sim\",1,0)","v":0},{"$f":"IF(N1884=E1884,0,1)","v":0},{"$f":"IF(Table26[[#This Row],[Status Medida]]=\"Finalizado\",IF(Table26[[#This Row],[Sim/Não]]=1,1,0),0)","v":0}]
[null,null,null,null,null,null,null,null,null,null,null,"Atrasado",null,null,null,0,0,{"$f":"IF(Table26[[#This Row],[Status Medida]]=\"Finalizado\",IF(Table26[[#This Row],[Sim/Não]]=1,1,0),0)","v":0}]
[null,null,null,null,null,null,null,null,null,null,null,"Atrasado",null,null,null,0,0,{"$f":"IF(Table26[[#This Row],[Status Medida]]=\"Finalizado\",IF(Table26[[#This Row],[Sim/Não]]=1,1,0),0)","v":0}]
[null,null,null,null,null,null,null,null,null,null,null,"Atrasado",null,null,null,0,0,{"$f":"IF(Table26[[#This Row],[Status Medida]]=\"Finalizado\",IF(Table26[[#This Row],[Sim/Não]]=1,1,0),0)","v":0}]
[null,null,null,null,null,null,null,null,null,null,null,"Atrasado",null,null,null,0,0,{"$f":"IF(Table26[[#This Row],[Status Medida]]=\"Finalizado\",IF(Table26[[#This Row],[Sim/Não]]=1,1,0),0)","v":0}]
[null,null,null,null,null,null,null,null,null,null,null,"Atrasado",null,null,null,0,0,{"$f":"IF(Table26[[#This Row],[Status Medida]]=\"Finalizado\",IF(Table26[[#This Row],[Sim/Não]]=1,1,0),0)","v":0}]
[null,null,null,null,null,null,null,null,null,null,null,"Atrasado",null,null,null,0,0,{"$f":"IF(Table26[[#This Row],[Status Medida]]=\"Finalizado\",IF(Table26[[#This Row],[Sim/Não]]=1,1,0),0)","v":0}]
[null,null,null,null,null,null,null,null,null,null,null,"Atrasado",null,null,null,0,0,{"$f":"IF(Table26[[#This Row],[Status Medida]]=\"Finalizado\",IF(Table26[[#This Row],[Sim/Não]]=1,1,0),0)","v":0}]
[null,null,null,null,null,null,null,null,null,null,null,"Atrasado",null,null,null,0,0,{"$f":"IF(Table26[[#This Row],[Status Medida]]=\"Finalizado\",IF(Table26[[#This Row],[Sim/Não]]=1,1,0),0)","v":0}]
[null,null,null,null,null,null,null,null,null,null,null,"Atrasado",null,null,null,0,0,{"$f":"IF(Table26[[#This Row],[Status Medida]]=\"Finalizado\",IF(Table26[[#This Row],[Sim/Não]]=1,1,0),0)","v":0}]
[null,null,null,null,null,null,null,null,null,null,null,"Atrasado",null,null,null,0,0,{"$f":"IF(Table26[[#This Row],[Status Medida]]=\"Finalizado\",IF(Table26[[#This Row],[Sim/Não]]=1,1,0),0)","v":0}]
[null,null,null,null,null,null,null,null,null,null,null,"Atrasado",null,null,null,0,0,{"$f":"IF(Table26[[#This Row],[Status Medida]]=\"Finalizado\",IF(Table26[[#This Row],[Sim/Não]]=1,1,0),0)","v":0}]
[null,null,null,null,null,null,null,null,null,null,null,"Atrasado",null,null,null,0,0,{"$f":"IF(Table26[[#This Row],[Status Medida]]=\"Finalizado\",IF(Table26[[#This Row],[Sim/Não]]=1,1,0),0)","v":0}]
[null,null,null,null,null,null,null,null,null,null,null,"Atrasado",null,null,null,0,0,{"$f":"IF(Table26[[#This Row],[Status Medida]]=\"Finalizado\",IF(Table26[[#This Row],[Sim/Não]]=1,1,0),0)","v":0}]
[null,null,null,null,null,null,null,null,null,null,null,"Atrasado",null,null,null,0,0,{"$f":"IF(Table26[[#This Row],[Status Medida]]=\"Finalizado\",IF(Table26[[#This Row],[Sim/Não]]=1,1,0),0)","v":0}]
[null,null,null,null,null,null,null,null,null,null,null,"Atrasado",null,null,null,0,0,{"$f":"IF(Table26[[#This Row],[Status Medida]]=\"Finalizado\",IF(Table26[[#This Row],[Sim/Não]]=1,1,0),0)","v":0}]
[null,null,null,null,null,null,null,null,null,null,null,"Atrasado",null,null,null,0,0,{"$f":"IF(Table26[[#This Row],[Status Medida]]=\"Finalizado\",IF(Table26[[#This Row],[Sim/Não]]=1,1,0),0)","v":0}]
[null,null,null,null,null,null,null,null,null,null,null,"Atrasado",null,null,null,0,0,{"$f":"IF(Table26[[#This Row],[Status Medida]]=\"Finalizado\",IF(Table26[[#This Row],[Sim/Não]]=1,1,0),0)","v":0}]
[null,null,null,null,null,null,null,null,null,null,null,"Atrasado",null,null,null,0,0,{"$f":"IF(Table26[[#This Row],[Status Medida]]=\"Finalizado\",IF(Table26[[#This Row],[Sim/Não]]=1,1,0),0)","v":0}]
[null,null,null,null,null,null,null,null,null,null,null,"Atrasado",null,null,null,0,0,{"$f":"IF(Table26[[#This Row],[Status Medida]]=\"Finalizado\",IF(Table26[[#This Row],[Sim/Não]]=1,1,0),0)","v":0}]
[null,null,null,null,null,null,null,null,null,null,null,"Atrasado",null,null,null,0,0,{"$f":"IF(Table26[[#This Row],[Status Medida]]=\"Finalizado\",IF(Table26[[#This Row],[Sim/Não]]=1,1,0),0)","v":0}]
[null,null,null,null,null,null,null,null,null,null,null,"Atrasado",null,null,null,0,0,{"$f":"IF(Table26[[#This Row],[Status Medida]]=\"Finalizado\",IF(Table26[[#This Row],[Sim/Não]]=1,1,0),0)","v":0}]
[null,null,null,null,null,null,null,null,null,null,null,"Atrasado",null,null,null,0,0,{"$f":"IF(Table26[[#This Row],[Status Medida]]=\"Finalizado\",IF(Table26[[#This Row],[Sim/Não]]=1,1,0),0)","v":0}]
[null,null,null,null,null,null,null,null,null,null,null,"Atrasado",null,null,null,0,0,{"$f":"IF(Table26[[#This Row],[Status Medida]]=\"Finalizado\",IF(Table26[[#This Row],[Sim/Não]]=1,1,0),0)","v":0}]
[null,null,null,null,null,null,null,null,null,null,null,"Atrasado",null,null,null,0,0,{"$f":"IF(Table26[[#This Row],[Status Medida]]=\"Finalizado\",IF(Table26[[#This Row],[Sim/Não]]=1,1,0),0)","v":0}]
[null,null,null,null,null,null,null,null,null,null,null,"Atrasado",null,null,null,0,0,{"$f":"IF(Table26[[#This Row],[Status Medida]]=\"Finalizado\",IF(Table26[[#This Row],[Sim/Não]]=1,1,0),0)","v":0}]
[null,null,null,null,null,null,null,null,null,null,null,"Atrasado",null,null,null,0,0,{"$f":"IF(Table26[[#This Row],[Status Medida]]=\"Finalizado\",IF(Table26[[#This Row],[Sim/Não]]=1,1,0),0)","v":0}]
[null,null,null,null,null,null,null,null,null,null,null,"Atrasado",null,null,null,0,0,{"$f":"IF(Table26[[#This Row],[Status Medida]]=\"Finalizado\",IF(Table26[[#This Row],[Sim/Não]]=1,1,0),0)","v":0}]
[null,null,null,null,null,null,null,null,null,null,null,"Atrasado",null,null,null,0,0,{"$f":"IF(Table26[[#This Row],[Status Medida]]=\"Finalizado\",IF(Table26[[#This Row],[Sim/Não]]=1,1,0),0)","v":0}]
[null,null,null,null,null,null,null,null,null,null,null,"Atrasado",null,null,null,0,0,{"$f":"IF(Table26[[#This Row],[Status Medida]]=\"Finalizado\",IF(Table26[[#This Row],[Sim/Não]]=1,1,0),0)","v":0}]
[null,null,null,null,null,null,null,null,null,null,null,"Atrasado",null,null,null,0,0,{"$f":"IF(Table26[[#This Row],[Status Medida]]=\"Finalizado\",IF(Table26[[#This Row],[Sim/Não]]=1,1,0),0)","v":0}]
[null,null,null,null,null,null,null,null,null,null,null,"Atrasado",null,null,null,0,0,{"$f":"IF(Table26[[#This Row],[Status Medida]]=\"Finalizado\",IF(Table26[[#This Row],[Sim/Não]]=1,1,0),0)","v":0}]
[null,null,null,null,null,null,null,null,null,null,null,"Atrasado",null,null,null,0,0,{"$f":"IF(Table26[[#This Row],[Status Medida]]=\"Finalizado\",IF(Table26[[#This Row],[Sim/Não]]=1,1,0),0)","v":0}]
[null,null,null,null,null,null,null,null,null,null,null,"Atrasado",null,null,null,0,0,{"$f":"IF(Table26[[#This Row],[Status Medida]]=\"Finalizado\",IF(Table26[[#This Row],[Sim/Não]]=1,1,0),0)","v":0}]
[null,null,null,null,null,null,null,null,null,null,null,"Atrasado",null,null,null,0,0,{"$f":"IF(Table26[[#This Row],[Status Medida]]=\"Finalizado\",IF(Table26[[#This Row],[Sim/Não]]=1,1,0),0)","v":0}]
[null,null,null,null,null,null,null,null,null,null,null,"Atrasado",null,null,null,0,0,{"$f":"IF(Table26[[#This Row],[Status Medida]]=\"Finalizado\",IF(Table26[[#This Row],[Sim/Não]]=1,1,0),0)","v":0}]
[null,null,null,null,null,null,null,null,null,null,null,"Atrasado",null,null,null,0,0,{"$f":"IF(Table26[[#This Row],[Status Medida]]=\"Finalizado\",IF(Table26[[#This Row],[Sim/Não]]=1,1,0),0)","v":0}]
[null,null,null,null,null,null,null,null,null,null,null,"Atrasado",null,null,null,0,0,{"$f":"IF(Table26[[#This Row],[Status Medida]]=\"Finalizado\",IF(Table26[[#This Row],[Sim/Não]]=1,1,0),0)","v":0}]
[null,null,null,null,null,null,null,null,null,null,null,"Atrasado",null,null,null,0,0,{"$f":"IF(Table26[[#This Row],[Status Medida]]=\"Finalizado\",IF(Table26[[#This Row],[Sim/Não]]=1,1,0),0)","v":0}]
[null,null,null,null,null,null,null,null,null,null,null,"Atrasado",null,null,null,0,0,{"$f":"IF(Table26[[#This Row],[Status Medida]]=\"Finalizado\",IF(Table26[[#This Row],[Sim/Não]]=1,1,0),0)","v":0}]
[null,null,null,null,null,null,null,null,null,null,null,"Atrasado",null,null,null,0,0,{"$f":"IF(Table26[[#This Row],[Status Medida]]=\"Finalizado\",IF(Table26[[#This Row],[Sim/Não]]=1,1,0),0)","v":0}]
[null,null,null,null,null,null,null,null,null,null,null,"Atrasado",null,null,null,0,0,{"$f":"IF(Table26[[#This Row],[Status Medida]]=\"Finalizado\",IF(Table26[[#This Row],[Sim/Não]]=1,1,0),0)","v":0}]
[null,null,null,null,null,null,null,null,null,null,null,"Atrasado",null,null,null,0,0,{"$f":"IF(Table26[[#This Row],[Status Medida]]=\"Finalizado\",IF(Table26[[#This Row],[Sim/Não]]=1,1,0),0)","v":0}]
[null,null,null,null,null,null,null,null,null,null,null,"Atrasado",null,null,null,0,0,{"$f":"IF(Table26[[#This Row],[Status Medida]]=\"Finalizado\",IF(Table26[[#This Row],[Sim/Não]]=1,1,0),0)","v":0}]
[null,null,null,null,null,null,null,null,null,null,null,"Atrasado",null,null,null,0,0,{"$f":"IF(Table26[[#This Row],[Status Medida]]=\"Finalizado\",IF(Table26[[#This Row],[Sim/Não]]=1,1,0),0)","v":0}]
[null,null,null,null,null,null,null,null,null,null,null,"Atrasado",null,null,null,0,0,{"$f":"IF(Table26[[#This Row],[Status Medida]]=\"Finalizado\",IF(Table26[[#This Row],[Sim/Não]]=1,1,0),0)","v":0}]
[null,null,null,null,null,null,null,null,null,null,null,"Atrasado",null,null,null,0,0,{"$f":"IF(Table26[[#This Row],[Status Medida]]=\"Finalizado\",IF(Table26[[#This Row],[Sim/Não]]=1,1,0),0)","v":0}]
[null,null,null,null,null,null,null,null,null,null,null,"Atrasado",null,null,null,0,0,{"$f":"IF(Table26[[#This Row],[Status Medida]]=\"Finalizado\",IF(Table26[[#This Row],[Sim/Não]]=1,1,0),0)","v":0}]
[null,null,null,null,null,null,null,null,null,null,null,"Atrasado",null,null,null,0,0,{"$f":"IF(Table26[[#This Row],[Status Medida]]=\"Finalizado\",IF(Table26[[#This Row],[Sim/Não]]=1,1,0),0)","v":0}]
[null,null,null,null,null,null,null,null,null,null,null,"Atrasado",null,null,null,0,0,{"$f":"IF(Table26[[#This Row],[Status Medida]]=\"Finalizado\",IF(Table26[[#This Row],[Sim/Não]]=1,1,0),0)","v":0}]
[null,null,null,null,null,null,null,null,null,null,null,"Atrasado",null,null,null,0,0,{"$f":"IF(Table26[[#This Row],[Status Medida]]=\"Finalizado\",IF(Table26[[#This Row],[Sim/Não]]=1,1,0),0)","v":0}]
[null,null,null,null,null,null,null,null,null,null,null,"Atrasado",null,null,null,0,0,{"$f":"IF(Table26[[#This Row],[Status Medida]]=\"Finalizado\",IF(Table26[[#This Row],[Sim/Não]]=1,1,0),0)","v":0}]
[null,null,null,null,null,null,null,null,null,null,null,"Atrasado",null,null,null,0,0,{"$f":"IF(Table26[[#This Row],[Status Medida]]=\"Finalizado\",IF(Table26[[#This Row],[Sim/Não]]=1,1,0),0)","v":0}]
[null,null,null,null,null,null,null,null,null,null,null,"Atrasado",null,null,null,0,0,{"$f":"IF(Table26[[#This Row],[Status Medida]]=\"Finalizado\",IF(Table26[[#This Row],[Sim/Não]]=1,1,0),0)","v":0}]
[null,null,null,null,null,null,null,null,null,null,null,"Atrasado",null,null,null,0,0,{"$f":"IF(Table26[[#This Row],[Status Medida]]=\"Finalizado\",IF(Table26[[#This Row],[Sim/Não]]=1,1,0),0)","v":0}]
[null,null,null,null,null,null,null,null,null,null,null,"Atrasado",null,null,null,0,0,{"$f":"IF(Table26[[#This Row],[Status Medida]]=\"Finalizado\",IF(Table26[[#This Row],[Sim/Não]]=1,1,0),0)","v":0}]
[null,null,null,null,null,null,null,null,null,null,null,"Atrasado",null,null,null,0,0,{"$f":"IF(Table26[[#This Row],[Status Medida]]=\"Finalizado\",IF(Table26[[#This Row],[Sim/Não]]=1,1,0),0)","v":0}]
[null,null,null,null,null,null,null,null,null,null,null,"Atrasado",null,null,null,0,0,{"$f":"IF(Table26[[#This Row],[Status Medida]]=\"Finalizado\",IF(Table26[[#This Row],[Sim/Não]]=1,1,0),0)","v":0}]
[null,null,null,null,null,null,null,null,null,null,null,"Atrasado",null,null,null,0,0,{"$f":"IF(Table26[[#This Row],[Status Medida]]=\"Finalizado\",IF(Table26[[#This Row],[Sim/Não]]=1,1,0),0)","v":0}]
[null,null,null,null,null,null,null,null,null,null,null,"Atrasado",null,null,null,0,0,{"$f":"IF(Table26[[#This Row],[Status Medida]]=\"Finalizado\",IF(Table26[[#This Row],[Sim/Não]]=1,1,0),0)","v":0}]
[null,null,null,null,null,null,null,null,null,null,null,{"$f":"IF(J1944>K1944,\"Datas inválidas\",IF(M1944=\"Finalizado\",\"Concluído\",IF(J1944>TODAY(),\"Não iniciado\",_xlfn.IFS(J1944=TODAY(),\"Em andamento\",TODAY()>K1944,\"Atrasado\",AND(TODAY()>J1944,TODAY()<=K1944),\"Em andamento\"))))","v":"Atrasado"},null,null,null,{"$f":"IF(O1944=\"Sim\",1,0)","v":0},{"$f":"IF(N1944=E1944,0,1)","v":0},{"$f":"IF(Table26[[#This Row],[Status Medida]]=\"Finalizado\",IF(Table26[[#This Row],[Sim/Não]]=1,1,0),0)","v":0}]
[null,null,null,null,null,null,null,null,null,null,null,"Atrasado",null,null,null,0,0,{"$f":"IF(Table26[[#This Row],[Status Medida]]=\"Finalizado\",IF(Table26[[#This Row],[Sim/Não]]=1,1,0),0)","v":0}]
[null,null,null,null,null,null,null,null,null,null,null,"Atrasado",null,null,null,0,0,{"$f":"IF(Table26[[#This Row],[Status Medida]]=\"Finalizado\",IF(Table26[[#This Row],[Sim/Não]]=1,1,0),0)","v":0}]
[null,null,null,null,null,null,null,null,null,null,null,"Atrasado",null,null,null,0,0,{"$f":"IF(Table26[[#This Row],[Status Medida]]=\"Finalizado\",IF(Table26[[#This Row],[Sim/Não]]=1,1,0),0)","v":0}]
[null,null,null,null,null,null,null,null,null,null,null,"Atrasado",null,null,null,0,0,{"$f":"IF(Table26[[#This Row],[Status Medida]]=\"Finalizado\",IF(Table26[[#This Row],[Sim/Não]]=1,1,0),0)","v":0}]
[null,null,null,null,null,null,null,null,null,null,null,"Atrasado",null,null,null,0,0,{"$f":"IF(Table26[[#This Row],[Status Medida]]=\"Finalizado\",IF(Table26[[#This Row],[Sim/Não]]=1,1,0),0)","v":0}]
[null,null,null,null,null,null,null,null,null,null,null,"Atrasado",null,null,null,0,0,{"$f":"IF(Table26[[#This Row],[Status Medida]]=\"Finalizado\",IF(Table26[[#This Row],[Sim/Não]]=1,1,0),0)","v":0}]
[null,null,null,null,null,null,null,null,null,null,null,"Atrasado",null,null,null,0,0,{"$f":"IF(Table26[[#This Row],[Status Medida]]=\"Finalizado\",IF(Table26[[#This Row],[Sim/Não]]=1,1,0),0)","v":0}]
[null,null,null,null,null,null,null,null,null,null,null,"Atrasado",null,null,null,0,0,{"$f":"IF(Table26[[#This Row],[Status Medida]]=\"Finalizado\",IF(Table26[[#This Row],[Sim/Não]]=1,1,0),0)","v":0}]
[null,null,null,null,null,null,null,null,null,null,null,"Atrasado",null,null,null,0,0,{"$f":"IF(Table26[[#This Row],[Status Medida]]=\"Finalizado\",IF(Table26[[#This Row],[Sim/Não]]=1,1,0),0)","v":0}]
[null,null,null,null,null,null,null,null,null,null,null,"Atrasado",null,null,null,0,0,{"$f":"IF(Table26[[#This Row],[Status Medida]]=\"Finalizado\",IF(Table26[[#This Row],[Sim/Não]]=1,1,0),0)","v":0}]
[null,null,null,null,null,null,null,null,null,null,null,"Atrasado",null,null,null,0,0,{"$f":"IF(Table26[[#This Row],[Status Medida]]=\"Finalizado\",IF(Table26[[#This Row],[Sim/Não]]=1,1,0),0)","v":0}]
[null,null,null,null,null,null,null,null,null,null,null,"Atrasado",null,null,null,0,0,{"$f":"IF(Table26[[#This Row],[Status Medida]]=\"Finalizado\",IF(Table26[[#This Row],[Sim/Não]]=1,1,0),0)","v":0}]
[null,null,null,null,null,null,null,null,null,null,null,"Atrasado",null,null,null,0,0,{"$f":"IF(Table26[[#This Row],[Status Medida]]=\"Finalizado\",IF(Table26[[#This Row],[Sim/Não]]=1,1,0),0)","v":0}]
[null,null,null,null,null,null,null,null,null,null,null,"Atrasado",null,null,null,0,0,{"$f":"IF(Table26[[#This Row],[Status Medida]]=\"Finalizado\",IF(Table26[[#This Row],[Sim/Não]]=1,1,0),0)","v":0}]
[null,null,null,null,null,null,null,null,null,null,null,"Atrasado",null,null,null,0,0,{"$f":"IF(Table26[[#This Row],[Status Medida]]=\"Finalizado\",IF(Table26[[#This Row],[Sim/Não]]=1,1,0),0)","v":0}]
[null,null,null,null,null,null,null,null,null,null,null,"Atrasado",null,null,null,0,0,{"$f":"IF(Table26[[#This Row],[Status Medida]]=\"Finalizado\",IF(Table26[[#This Row],[Sim/Não]]=1,1,0),0)","v":0}]
[null,null,null,null,null,null,null,null,null,null,null,"Atrasado",null,null,null,0,0,{"$f":"IF(Table26[[#This Row],[Status Medida]]=\"Finalizado\",IF(Table26[[#This Row],[Sim/Não]]=1,1,0),0)","v":0}]
[null,null,null,null,null,null,null,null,null,null,null,"Atrasado",null,null,null,0,0,{"$f":"IF(Table26[[#This Row],[Status Medida]]=\"Finalizado\",IF(Table26[[#This Row],[Sim/Não]]=1,1,0),0)","v":0}]
[null,null,null,null,null,null,null,null,null,null,null,"Atrasado",null,null,null,0,0,{"$f":"IF(Table26[[#This Row],[Status Medida]]=\"Finalizado\",IF(Table26[[#This Row],[Sim/Não]]=1,1,0),0)","v":0}]
[null,null,null,null,null,null,null,null,null,null,null,"Atrasado",null,null,null,0,0,{"$f":"IF(Table26[[#This Row],[Status Medida]]=\"Finalizado\",IF(Table26[[#This Row],[Sim/Não]]=1,1,0),0)","v":0}]
[null,null,null,null,null,null,null,null,null,null,null,"Atrasado",null,null,null,0,0,{"$f":"IF(Table26[[#This Row],[Status Medida]]=\"Finalizado\",IF(Table26[[#This Row],[Sim/Não]]=1,1,0),0)","v":0}]
[null,null,null,null,null,null,null,null,null,null,null,"Atrasado",null,null,null,0,0,{"$f":"IF(Table26[[#This Row],[Status Medida]]=\"Finalizado\",IF(Table26[[#This Row],[Sim/Não]]=1,1,0),0)","v":0}]
[null,null,null,null,null,null,null,null,null,null,null,"Atrasado",null,null,null,0,0,{"$f":"IF(Table26[[#This Row],[Status Medida]]=\"Finalizado\",IF(Table26[[#This Row],[Sim/Não]]=1,1,0),0)","v":0}]
[null,null,null,null,null,null,null,null,null,null,null,"Atrasado",null,null,null,0,0,{"$f":"IF(Table26[[#This Row],[Status Medida]]=\"Finalizado\",IF(Table26[[#This Row],[Sim/Não]]=1,1,0),0)","v":0}]
[null,null,null,null,null,null,null,null,null,null,null,"Atrasado",null,null,null,0,0,{"$f":"IF(Table26[[#This Row],[Status Medida]]=\"Finalizado\",IF(Table26[[#This Row],[Sim/Não]]=1,1,0),0)","v":0}]
[null,null,null,null,null,null,null,null,null,null,null,"Atrasado",null,null,null,0,0,{"$f":"IF(Table26[[#This Row],[Status Medida]]=\"Finalizado\",IF(Table26[[#This Row],[Sim/Não]]=1,1,0),0)","v":0}]
[null,null,null,null,null,null,null,null,null,null,null,"Atrasado",null,null,null,0,0,{"$f":"IF(Table26[[#This Row],[Status Medida]]=\"Finalizado\",IF(Table26[[#This Row],[Sim/Não]]=1,1,0),0)","v":0}]
[null,null,null,null,null,null,null,null,null,null,null,"Atrasado",null,null,null,0,0,{"$f":"IF(Table26[[#This Row],[Status Medida]]=\"Finalizado\",IF(Table26[[#This Row],[Sim/Não]]=1,1,0),0)","v":0}]
[null,null,null,null,null,null,null,null,null,null,null,"Atrasado",null,null,null,0,0,{"$f":"IF(Table26[[#This Row],[Status Medida]]=\"Finalizado\",IF(Table26[[#This Row],[Sim/Não]]=1,1,0),0)","v":0}]
[null,null,null,null,null,null,null,null,null,null,null,"Atrasado",null,null,null,0,0,{"$f":"IF(Table26[[#This Row],[Status Medida]]=\"Finalizado\",IF(Table26[[#This Row],[Sim/Não]]=1,1,0),0)","v":0}]
[null,null,null,null,null,null,null,null,null,null,null,"Atrasado",null,null,null,0,0,{"$f":"IF(Table26[[#This Row],[Status Medida]]=\"Finalizado\",IF(Table26[[#This Row],[Sim/Não]]=1,1,0),0)","v":0}]
[null,null,null,null,null,null,null,null,null,null,null,"Atrasado",null,null,null,0,0,{"$f":"IF(Table26[[#This Row],[Status Medida]]=\"Finalizado\",IF(Table26[[#This Row],[Sim/Não]]=1,1,0),0)","v":0}]
[null,null,null,null,null,null,null,null,null,null,null,"Atrasado",null,null,null,0,0,{"$f":"IF(Table26[[#This Row],[Status Medida]]=\"Finalizado\",IF(Table26[[#This Row],[Sim/Não]]=1,1,0),0)","v":0}]
[null,null,null,null,null,null,null,null,null,null,null,"Atrasado",null,null,null,0,0,{"$f":"IF(Table26[[#This Row],[Status Medida]]=\"Finalizado\",IF(Table26[[#This Row],[Sim/Não]]=1,1,0),0)","v":0}]
[null,null,null,null,null,null,null,null,null,null,null,"Atrasado",null,null,null,0,0,{"$f":"IF(Table26[[#This Row],[Status Medida]]=\"Finalizado\",IF(Table26[[#This Row],[Sim/Não]]=1,1,0),0)","v":0}]
[null,null,null,null,null,null,null,null,null,null,null,"Atrasado",null,null,null,0,0,{"$f":"IF(Table26[[#This Row],[Status Medida]]=\"Finalizado\",IF(Table26[[#This Row],[Sim/Não]]=1,1,0),0)","v":0}]
[null,null,null,null,null,null,null,null,null,null,null,"Atrasado",null,null,null,0,0,{"$f":"IF(Table26[[#This Row],[Status Medida]]=\"Finalizado\",IF(Table26[[#This Row],[Sim/Não]]=1,1,0),0)","v":0}]
[null,null,null,null,null,null,null,null,null,null,null,"Atrasado",null,null,null,0,0,{"$f":"IF(Table26[[#This Row],[Status Medida]]=\"Finalizado\",IF(Table26[[#This Row],[Sim/Não]]=1,1,0),0)","v":0}]
[null,null,null,null,null,null,null,null,null,null,null,"Atrasado",null,null,null,0,0,{"$f":"IF(Table26[[#This Row],[Status Medida]]=\"Finalizado\",IF(Table26[[#This Row],[Sim/Não]]=1,1,0),0)","v":0}]
[null,null,null,null,null,null,null,null,null,null,null,"Atrasado",null,null,null,0,0,{"$f":"IF(Table26[[#This Row],[Status Medida]]=\"Finalizado\",IF(Table26[[#This Row],[Sim/Não]]=1,1,0),0)","v":0}]
[null,null,null,null,null,null,null,null,null,null,null,"Atrasado",null,null,null,0,0,{"$f":"IF(Table26[[#This Row],[Status Medida]]=\"Finalizado\",IF(Table26[[#This Row],[Sim/Não]]=1,1,0),0)","v":0}]
[null,null,null,null,null,null,null,null,null,null,null,"Atrasado",null,null,null,0,0,{"$f":"IF(Table26[[#This Row],[Status Medida]]=\"Finalizado\",IF(Table26[[#This Row],[Sim/Não]]=1,1,0),0)","v":0}]
[null,null,null,null,null,null,null,null,null,null,null,"Atrasado",null,null,null,0,0,{"$f":"IF(Table26[[#This Row],[Status Medida]]=\"Finalizado\",IF(Table26[[#This Row],[Sim/Não]]=1,1,0),0)","v":0}]
[null,null,null,null,null,null,null,null,null,null,null,"Atrasado",null,null,null,0,0,{"$f":"IF(Table26[[#This Row],[Status Medida]]=\"Finalizado\",IF(Table26[[#This Row],[Sim/Não]]=1,1,0),0)","v":0}]
[null,null,null,null,null,null,null,null,null,null,null,"Atrasado",null,null,null,0,0,{"$f":"IF(Table26[[#This Row],[Status Medida]]=\"Finalizado\",IF(Table26[[#This Row],[Sim/Não]]=1,1,0),0)","v":0}]
[null,null,null,null,null,null,null,null,null,null,null,"Atrasado",null,null,null,0,0,{"$f":"IF(Table26[[#This Row],[Status Medida]]=\"Finalizado\",IF(Table26[[#This Row],[Sim/Não]]=1,1,0),0)","v":0}]
[null,null,null,null,null,null,null,null,null,null,null,"Atrasado",null,null,null,0,0,{"$f":"IF(Table26[[#This Row],[Status Medida]]=\"Finalizado\",IF(Table26[[#This Row],[Sim/Não]]=1,1,0),0)","v":0}]
[null,null,null,null,null,null,null,null,null,null,null,"Atrasado",null,null,null,0,0,{"$f":"IF(Table26[[#This Row],[Status Medida]]=\"Finalizado\",IF(Table26[[#This Row],[Sim/Não]]=1,1,0),0)","v":0}]
[null,null,null,null,null,null,null,null,null,null,null,"Atrasado",null,null,null,0,0,{"$f":"IF(Table26[[#This Row],[Status Medida]]=\"Finalizado\",IF(Table26[[#This Row],[Sim/Não]]=1,1,0),0)","v":0}]
[null,null,null,null,null,null,null,null,null,null,null,"Atrasado",null,null,null,0,0,{"$f":"IF(Table26[[#This Row],[Status Medida]]=\"Finalizado\",IF(Table26[[#This Row],[Sim/Não]]=1,1,0),0)","v":0}]
[null,null,null,null,null,null,null,null,null,null,null,"Atrasado",null,null,null,0,0,{"$f":"IF(Table26[[#This Row],[Status Medida]]=\"Finalizado\",IF(Table26[[#This Row],[Sim/Não]]=1,1,0),0)","v":0}]
[null,null,null,null,null,null,null,null,null,null,null,"Atrasado",null,null,null,0,0,{"$f":"IF(Table26[[#This Row],[Status Medida]]=\"Finalizado\",IF(Table26[[#This Row],[Sim/Não]]=1,1,0),0)","v":0}]
[null,null,null,null,null,null,null,null,null,null,null,"Atrasado",null,null,null,0,0,{"$f":"IF(Table26[[#This Row],[Status Medida]]=\"Finalizado\",IF(Table26[[#This Row],[Sim/Não]]=1,1,0),0)","v":0}]
[null,null,null,null,null,null,null,null,null,null,null,"Atrasado",null,null,null,0,0,{"$f":"IF(Table26[[#This Row],[Status Medida]]=\"Finalizado\",IF(Table26[[#This Row],[Sim/Não]]=1,1,0),0)","v":0}]
[null,null,null,null,null,null,null,null,null,null,null,"Atrasado",null,null,null,0,0,{"$f":"IF(Table26[[#This Row],[Status Medida]]=\"Finalizado\",IF(Table26[[#This Row],[Sim/Não]]=1,1,0),0)","v":0}]
[null,null,null,null,null,null,null,null,null,null,null,"Atrasado",null,null,null,0,0,{"$f":"IF(Table26[[#This Row],[Status Medida]]=\"Finalizado\",IF(Table26[[#This Row],[Sim/Não]]=1,1,0),0)","v":0}]
[null,null,null,null,null,null,null,null,null,null,null,"Atrasado",null,null,null,0,0,{"$f":"IF(Table26[[#This Row],[Status Medida]]=\"Finalizado\",IF(Table26[[#This Row],[Sim/Não]]=1,1,0),0)","v":0}]
[null,null,null,null,null,null,null,null,null,null,null,"Atrasado",null,null,null,0,0,{"$f":"IF(Table26[[#This Row],[Status Medida]]=\"Finalizado\",IF(Table26[[#This Row],[Sim/Não]]=1,1,0),0)","v":0}]
[null,null,null,null,null,null,null,null,null,null,null,"Atrasado",null,null,null,0,0,{"$f":"IF(Table26[[#This Row],[Status Medida]]=\"Finalizado\",IF(Table26[[#This Row],[Sim/Não]]=1,1,0),0)","v":0}]
[null,null,null,null,null,null,null,null,null,null,null,"Atrasado",null,null,null,0,0,{"$f":"IF(Table26[[#This Row],[Status Medida]]=\"Finalizado\",IF(Table26[[#This Row],[Sim/Não]]=1,1,0),0)","v":0}]
[null,null,null,null,null,null,null,null,null,null,null,"Atrasado",null,null,null,0,0,{"$f":"IF(Table26[[#This Row],[Status Medida]]=\"Finalizado\",IF(Table26[[#This Row],[Sim/Não]]=1,1,0),0)","v":0}]
[null,null,null,null,null,null,null,null,null,null,null,"Atrasado",null,null,null,0,0,{"$f":"IF(Table26[[#This Row],[Status Medida]]=\"Finalizado\",IF(Table26[[#This Row],[Sim/Não]]=1,1,0),0)","v":0}]
[null,null,null,null,null,null,null,null,null,null,null,"Atrasado",null,null,null,0,0,{"$f":"IF(Table26[[#This Row],[Status Medida]]=\"Finalizado\",IF(Table26[[#This Row],[Sim/Não]]=1,1,0),0)","v":0}]
[null,null,null,null,null,null,null,null,null,null,null,"Atrasado",null,null,null,0,0,{"$f":"IF(Table26[[#This Row],[Status Medida]]=\"Finalizado\",IF(Table26[[#This Row],[Sim/Não]]=1,1,0),0)","v":0}]
[null,null,null,null,null,null,null,null,null,null,null,"Atrasado",null,null,null,0,0,{"$f":"IF(Table26[[#This Row],[Status Medida]]=\"Finalizado\",IF(Table26[[#This Row],[Sim/Não]]=1,1,0),0)","v":0}]
[null,null,null,null,null,null,null,null,null,null,null,"Atrasado",null,null,null,0,0,{"$f":"IF(Table26[[#This Row],[Status Medida]]=\"Finalizado\",IF(Table26[[#This Row],[Sim/Não]]=1,1,0),0)","v":0}]
[null,null,null,null,null,null,null,null,null,null,null,"Atrasado",null,null,null,0,0,{"$f":"IF(Table26[[#This Row],[Status Medida]]=\"Finalizado\",IF(Table26[[#This Row],[Sim/Não]]=1,1,0),0)","v":0}]
[null,null,null,null,null,null,null,null,null,null,null,"Atrasado",null,null,null,0,0,{"$f":"IF(Table26[[#This Row],[Status Medida]]=\"Finalizado\",IF(Table26[[#This Row],[Sim/Não]]=1,1,0),0)","v":0}]
[null,null,null,null,null,null,null,null,null,null,null,"Atrasado",null,null,null,0,0,{"$f":"IF(Table26[[#This Row],[Status Medida]]=\"Finalizado\",IF(Table26[[#This Row],[Sim/Não]]=1,1,0),0)","v":0}]
[null,null,null,null,null,null,null,null,null,null,null,"Atrasado",null,null,null,0,0,{"$f":"IF(Table26[[#This Row],[Status Medida]]=\"Finalizado\",IF(Table26[[#This Row],[Sim/Não]]=1,1,0),0)","v":0}]
[null,null,null,null,null,null,null,null,null,null,null,"Atrasado",null,null,null,0,0,{"$f":"IF(Table26[[#This Row],[Status Medida]]=\"Finalizado\",IF(Table26[[#This Row],[Sim/Não]]=1,1,0),0)","v":0}]
[null,null,null,null,null,null,null,null,null,null,null,"Atrasado",null,null,null,0,0,{"$f":"IF(Table26[[#This Row],[Status Medida]]=\"Finalizado\",IF(Table26[[#This Row],[Sim/Não]]=1,1,0),0)","v":0}]
[null,null,null,null,null,null,null,null,null,null,null,"Atrasado",null,null,null,0,0,{"$f":"IF(Table26[[#This Row],[Status Medida]]=\"Finalizado\",IF(Table26[[#This Row],[Sim/Não]]=1,1,0),0)","v":0}]
[null,null,null,null,null,null,null,null,null,null,null,"Atrasado",null,null,null,0,0,{"$f":"IF(Table26[[#This Row],[Status Medida]]=\"Finalizado\",IF(Table26[[#This Row],[Sim/Não]]=1,1,0),0)","v":0}]
[null,null,null,null,null,null,null,null,null,null,null,"Atrasado",null,null,null,0,0,{"$f":"IF(Table26[[#This Row],[Status Medida]]=\"Finalizado\",IF(Table26[[#This Row],[Sim/Não]]=1,1,0),0)","v":0}]
[null,null,null,null,null,null,null,null,null,null,null,"Atrasado",null,null,null,0,0,{"$f":"IF(Table26[[#This Row],[Status Medida]]=\"Finalizado\",IF(Table26[[#This Row],[Sim/Não]]=1,1,0),0)","v":0}]
[null,null,null,null,null,null,null,null,null,null,null,"Atrasado",null,null,null,0,0,{"$f":"IF(Table26[[#This Row],[Status Medida]]=\"Finalizado\",IF(Table26[[#This Row],[Sim/Não]]=1,1,0),0)","v":0}]
[null,null,null,null,null,null,null,null,null,null,null,"Atrasado",null,null,null,0,0,{"$f":"IF(Table26[[#This Row],[Status Medida]]=\"Finalizado\",IF(Table26[[#This Row],[Sim/Não]]=1,1,0),0)","v":0}]
[null,null,null,null,null,null,null,null,null,null,null,"Atrasado",null,null,null,0,0,{"$f":"IF(Table26[[#This Row],[Status Medida]]=\"Finalizado\",IF(Table26[[#This Row],[Sim/Não]]=1,1,0),0)","v":0}]
[null,null,null,null,null,null,null,null,null,null,null,"Atrasado",null,null,null,0,0,{"$f":"IF(Table26[[#This Row],[Status Medida]]=\"Finalizado\",IF(Table26[[#This Row],[Sim/Não]]=1,1,0),0)","v":0}]
[null,null,null,null,null,null,null,null,null,null,null,"Atrasado",null,null,null,0,0,{"$f":"IF(Table26[[#This Row],[Status Medida]]=\"Finalizado\",IF(Table26[[#This Row],[Sim/Não]]=1,1,0),0)","v":0}]
[null,null,null,null,null,null,null,null,null,null,null,"Atrasado",null,null,null,0,0,{"$f":"IF(Table26[[#This Row],[Status Medida]]=\"Finalizado\",IF(Table26[[#This Row],[Sim/Não]]=1,1,0),0)","v":0}]
[null,null,null,null,null,null,null,null,null,null,null,"Atrasado",null,null,null,0,0,{"$f":"IF(Table26[[#This Row],[Status Medida]]=\"Finalizado\",IF(Table26[[#This Row],[Sim/Não]]=1,1,0),0)","v":0}]
[null,null,null,null,null,null,null,null,null,null,null,"Atrasado",null,null,null,0,0,{"$f":"IF(Table26[[#This Row],[Status Medida]]=\"Finalizado\",IF(Table26[[#This Row],[Sim/Não]]=1,1,0),0)","v":0}]
[null,null,null,null,null,null,null,null,null,null,null,"Atrasado",null,null,null,0,0,{"$f":"IF(Table26[[#This Row],[Status Medida]]=\"Finalizado\",IF(Table26[[#This Row],[Sim/Não]]=1,1,0),0)","v":0}]
[null,null,null,null,null,null,null,null,null,null,null,"Atrasado",null,null,null,0,0,{"$f":"IF(Table26[[#This Row],[Status Medida]]=\"Finalizado\",IF(Table26[[#This Row],[Sim/Não]]=1,1,0),0)","v":0}]
[null,null,null,null,null,null,null,null,null,null,null,{"$f":"IF(J2136>K2136,\"Datas inválidas\",IF(M2136=\"Finalizado\",\"Concluído\",IF(J2136>TODAY(),\"Não iniciado\",_xlfn.IFS(J2136=TODAY(),\"Em andamento\",TODAY()>K2136,\"Atrasado\",AND(TODAY()>J2136,TODAY()<=K2136),\"Em andamento\"))))","v":"Atrasado"},null,null,null,{"$f":"IF(O2136=\"Sim\",1,0)","v":0},{"$f":"IF(N2136=E2136,0,1)","v":0},{"$f":"IF(Table26[[#This Row],[Status Medida]]=\"Finalizado\",IF(Table26[[#This Row],[Sim/Não]]=1,1,0),0)","v":0}]
[null,null,null,null,null,null,null,null,null,null,null,"Atrasado",null,null,null,0,0,{"$f":"IF(Table26[[#This Row],[Status Medida]]=\"Finalizado\",IF(Table26[[#This Row],[Sim/Não]]=1,1,0),0)","v":0}]
[null,null,null,null,null,null,null,null,null,null,null,"Atrasado",null,null,null,0,0,{"$f":"IF(Table26[[#This Row],[Status Medida]]=\"Finalizado\",IF(Table26[[#This Row],[Sim/Não]]=1,1,0),0)","v":0}]
[null,null,null,null,null,null,null,null,null,null,null,"Atrasado",null,null,null,0,0,{"$f":"IF(Table26[[#This Row],[Status Medida]]=\"Finalizado\",IF(Table26[[#This Row],[Sim/Não]]=1,1,0),0)","v":0}]
[null,null,null,null,null,null,null,null,null,null,null,"Atrasado",null,null,null,0,0,{"$f":"IF(Table26[[#This Row],[Status Medida]]=\"Finalizado\",IF(Table26[[#This Row],[Sim/Não]]=1,1,0),0)","v":0}]
[null,null,null,null,null,null,null,null,null,null,null,"Atrasado",null,null,null,0,0,{"$f":"IF(Table26[[#This Row],[Status Medida]]=\"Finalizado\",IF(Table26[[#This Row],[Sim/Não]]=1,1,0),0)","v":0}]
[null,null,null,null,null,null,null,null,null,null,null,"Atrasado",null,null,null,0,0,{"$f":"IF(Table26[[#This Row],[Status Medida]]=\"Finalizado\",IF(Table26[[#This Row],[Sim/Não]]=1,1,0),0)","v":0}]
[null,null,null,null,null,null,null,null,null,null,null,"Atrasado",null,null,null,0,0,{"$f":"IF(Table26[[#This Row],[Status Medida]]=\"Finalizado\",IF(Table26[[#This Row],[Sim/Não]]=1,1,0),0)","v":0}]
[null,null,null,null,null,null,null,null,null,null,null,"Atrasado",null,null,null,0,0,{"$f":"IF(Table26[[#This Row],[Status Medida]]=\"Finalizado\",IF(Table26[[#This Row],[Sim/Não]]=1,1,0),0)","v":0}]
[null,null,null,null,null,null,null,null,null,null,null,"Atrasado",null,null,null,0,0,{"$f":"IF(Table26[[#This Row],[Status Medida]]=\"Finalizado\",IF(Table26[[#This Row],[Sim/Não]]=1,1,0),0)","v":0}]
[null,null,null,null,null,null,null,null,null,null,null,"Atrasado",null,null,null,0,0,{"$f":"IF(Table26[[#This Row],[Status Medida]]=\"Finalizado\",IF(Table26[[#This Row],[Sim/Não]]=1,1,0),0)","v":0}]
[null,null,null,null,null,null,null,null,null,null,null,"Atrasado",null,null,null,0,0,{"$f":"IF(Table26[[#This Row],[Status Medida]]=\"Finalizado\",IF(Table26[[#This Row],[Sim/Não]]=1,1,0),0)","v":0}]
[null,null,null,null,null,null,null,null,null,null,null,"Atrasado",null,null,null,0,0,{"$f":"IF(Table26[[#This Row],[Status Medida]]=\"Finalizado\",IF(Table26[[#This Row],[Sim/Não]]=1,1,0),0)","v":0}]
[null,null,null,null,null,null,null,null,null,null,null,"Atrasado",null,null,null,0,0,{"$f":"IF(Table26[[#This Row],[Status Medida]]=\"Finalizado\",IF(Table26[[#This Row],[Sim/Não]]=1,1,0),0)","v":0}]
[null,null,null,null,null,null,null,null,null,null,null,"Atrasado",null,null,null,0,0,{"$f":"IF(Table26[[#This Row],[Status Medida]]=\"Finalizado\",IF(Table26[[#This Row],[Sim/Não]]=1,1,0),0)","v":0}]
[null,null,null,null,null,null,null,null,null,null,null,"Atrasado",null,null,null,0,0,{"$f":"IF(Table26[[#This Row],[Status Medida]]=\"Finalizado\",IF(Table26[[#This Row],[Sim/Não]]=1,1,0),0)","v":0}]
[null,null,null,null,null,null,null,null,null,null,null,"Atrasado",null,null,null,0,0,{"$f":"IF(Table26[[#This Row],[Status Medida]]=\"Finalizado\",IF(Table26[[#This Row],[Sim/Não]]=1,1,0),0)","v":0}]
[null,null,null,null,null,null,null,null,null,null,null,"Atrasado",null,null,null,0,0,{"$f":"IF(Table26[[#This Row],[Status Medida]]=\"Finalizado\",IF(Table26[[#This Row],[Sim/Não]]=1,1,0),0)","v":0}]
[null,null,null,null,null,null,null,null,null,null,null,"Atrasado",null,null,null,0,0,{"$f":"IF(Table26[[#This Row],[Status Medida]]=\"Finalizado\",IF(Table26[[#This Row],[Sim/Não]]=1,1,0),0)","v":0}]
[null,null,null,null,null,null,null,null,null,null,null,"Atrasado",null,null,null,0,0,{"$f":"IF(Table26[[#This Row],[Status Medida]]=\"Finalizado\",IF(Table26[[#This Row],[Sim/Não]]=1,1,0),0)","v":0}]
[null,null,null,null,null,null,null,null,null,null,null,"Atrasado",null,null,null,0,0,{"$f":"IF(Table26[[#This Row],[Status Medida]]=\"Finalizado\",IF(Table26[[#This Row],[Sim/Não]]=1,1,0),0)","v":0}]
[null,null,null,null,null,null,null,null,null,null,null,"Atrasado",null,null,null,0,0,{"$f":"IF(Table26[[#This Row],[Status Medida]]=\"Finalizado\",IF(Table26[[#This Row],[Sim/Não]]=1,1,0),0)","v":0}]
[null,null,null,null,null,null,null,null,null,null,null,"Atrasado",null,null,null,0,0,{"$f":"IF(Table26[[#This Row],[Status Medida]]=\"Finalizado\",IF(Table26[[#This Row],[Sim/Não]]=1,1,0),0)","v":0}]
[null,null,null,null,null,null,null,null,null,null,null,"Atrasado",null,null,null,0,0,{"$f":"IF(Table26[[#This Row],[Status Medida]]=\"Finalizado\",IF(Table26[[#This Row],[Sim/Não]]=1,1,0),0)","v":0}]
[null,null,null,null,null,null,null,null,null,null,null,"Atrasado",null,null,null,0,0,{"$f":"IF(Table26[[#This Row],[Status Medida]]=\"Finalizado\",IF(Table26[[#This Row],[Sim/Não]]=1,1,0),0)","v":0}]
[null,null,null,null,null,null,null,null,null,null,null,"Atrasado",null,null,null,0,0,{"$f":"IF(Table26[[#This Row],[Status Medida]]=\"Finalizado\",IF(Table26[[#This Row],[Sim/Não]]=1,1,0),0)","v":0}]
[null,null,null,null,null,null,null,null,null,null,null,"Atrasado",null,null,null,0,0,{"$f":"IF(Table26[[#This Row],[Status Medida]]=\"Finalizado\",IF(Table26[[#This Row],[Sim/Não]]=1,1,0),0)","v":0}]
[null,null,null,null,null,null,null,null,null,null,null,"Atrasado",null,null,null,0,0,{"$f":"IF(Table26[[#This Row],[Status Medida]]=\"Finalizado\",IF(Table26[[#This Row],[Sim/Não]]=1,1,0),0)","v":0}]
[null,null,null,null,null,null,null,null,null,null,null,"Atrasado",null,null,null,0,0,{"$f":"IF(Table26[[#This Row],[Status Medida]]=\"Finalizado\",IF(Table26[[#This Row],[Sim/Não]]=1,1,0),0)","v":0}]
[null,null,null,null,null,null,null,null,null,null,null,"Atrasado",null,null,null,0,0,{"$f":"IF(Table26[[#This Row],[Status Medida]]=\"Finalizado\",IF(Table26[[#This Row],[Sim/Não]]=1,1,0),0)","v":0}]
[null,null,null,null,null,null,null,null,null,null,null,"Atrasado",null,null,null,0,0,{"$f":"IF(Table26[[#This Row],[Status Medida]]=\"Finalizado\",IF(Table26[[#This Row],[Sim/Não]]=1,1,0),0)","v":0}]
[null,null,null,null,null,null,null,null,null,null,null,"Atrasado",null,null,null,0,0,{"$f":"IF(Table26[[#This Row],[Status Medida]]=\"Finalizado\",IF(Table26[[#This Row],[Sim/Não]]=1,1,0),0)","v":0}]
[null,null,null,null,null,null,null,null,null,null,null,"Atrasado",null,null,null,0,0,{"$f":"IF(Table26[[#This Row],[Status Medida]]=\"Finalizado\",IF(Table26[[#This Row],[Sim/Não]]=1,1,0),0)","v":0}]
[null,null,null,null,null,null,null,null,null,null,null,"Atrasado",null,null,null,0,0,{"$f":"IF(Table26[[#This Row],[Status Medida]]=\"Finalizado\",IF(Table26[[#This Row],[Sim/Não]]=1,1,0),0)","v":0}]
[null,null,null,null,null,null,null,null,null,null,null,"Atrasado",null,null,null,0,0,{"$f":"IF(Table26[[#This Row],[Status Medida]]=\"Finalizado\",IF(Table26[[#This Row],[Sim/Não]]=1,1,0),0)","v":0}]
[null,null,null,null,null,null,null,null,null,null,null,"Atrasado",null,null,null,0,0,{"$f":"IF(Table26[[#This Row],[Status Medida]]=\"Finalizado\",IF(Table26[[#This Row],[Sim/Não]]=1,1,0),0)","v":0}]
[null,null,null,null,null,null,null,null,null,null,null,"Atrasado",null,null,null,0,0,{"$f":"IF(Table26[[#This Row],[Status Medida]]=\"Finalizado\",IF(Table26[[#This Row],[Sim/Não]]=1,1,0),0)","v":0}]
[null,null,null,null,null,null,null,null,null,null,null,"Atrasado",null,null,null,0,0,{"$f":"IF(Table26[[#This Row],[Status Medida]]=\"Finalizado\",IF(Table26[[#This Row],[Sim/Não]]=1,1,0),0)","v":0}]
[null,null,null,null,null,null,null,null,null,null,null,"Atrasado",null,null,null,0,0,{"$f":"IF(Table26[[#This Row],[Status Medida]]=\"Finalizado\",IF(Table26[[#This Row],[Sim/Não]]=1,1,0),0)","v":0}]
[null,null,null,null,null,null,null,null,null,null,null,"Atrasado",null,null,null,0,0,{"$f":"IF(Table26[[#This Row],[Status Medida]]=\"Finalizado\",IF(Table26[[#This Row],[Sim/Não]]=1,1,0),0)","v":0}]
[null,null,null,null,null,null,null,null,null,null,null,"Atrasado",null,null,null,0,0,{"$f":"IF(Table26[[#This Row],[Status Medida]]=\"Finalizado\",IF(Table26[[#This Row],[Sim/Não]]=1,1,0),0)","v":0}]
[null,null,null,null,null,null,null,null,null,null,null,"Atrasado",null,null,null,0,0,{"$f":"IF(Table26[[#This Row],[Status Medida]]=\"Finalizado\",IF(Table26[[#This Row],[Sim/Não]]=1,1,0),0)","v":0}]
[null,null,null,null,null,null,null,null,null,null,null,"Atrasado",null,null,null,0,0,{"$f":"IF(Table26[[#This Row],[Status Medida]]=\"Finalizado\",IF(Table26[[#This Row],[Sim/Não]]=1,1,0),0)","v":0}]
[null,null,null,null,null,null,null,null,null,null,null,"Atrasado",null,null,null,0,0,{"$f":"IF(Table26[[#This Row],[Status Medida]]=\"Finalizado\",IF(Table26[[#This Row],[Sim/Não]]=1,1,0),0)","v":0}]
[null,null,null,null,null,null,null,null,null,null,null,"Atrasado",null,null,null,0,0,{"$f":"IF(Table26[[#This Row],[Status Medida]]=\"Finalizado\",IF(Table26[[#This Row],[Sim/Não]]=1,1,0),0)","v":0}]
[null,null,null,null,null,null,null,null,null,null,null,"Atrasado",null,null,null,0,0,{"$f":"IF(Table26[[#This Row],[Status Medida]]=\"Finalizado\",IF(Table26[[#This Row],[Sim/Não]]=1,1,0),0)","v":0}]
[null,null,null,null,null,null,null,null,null,null,null,"Atrasado",null,null,null,0,0,{"$f":"IF(Table26[[#This Row],[Status Medida]]=\"Finalizado\",IF(Table26[[#This Row],[Sim/Não]]=1,1,0),0)","v":0}]
[null,null,null,null,null,null,null,null,null,null,null,"Atrasado",null,null,null,0,0,{"$f":"IF(Table26[[#This Row],[Status Medida]]=\"Finalizado\",IF(Table26[[#This Row],[Sim/Não]]=1,1,0),0)","v":0}]
[null,null,null,null,null,null,null,null,null,null,null,"Atrasado",null,null,null,0,0,{"$f":"IF(Table26[[#This Row],[Status Medida]]=\"Finalizado\",IF(Table26[[#This Row],[Sim/Não]]=1,1,0),0)","v":0}]
[null,null,null,null,null,null,null,null,null,null,null,"Atrasado",null,null,null,0,0,{"$f":"IF(Table26[[#This Row],[Status Medida]]=\"Finalizado\",IF(Table26[[#This Row],[Sim/Não]]=1,1,0),0)","v":0}]
[null,null,null,null,null,null,null,null,null,null,null,"Atrasado",null,null,null,0,0,{"$f":"IF(Table26[[#This Row],[Status Medida]]=\"Finalizado\",IF(Table26[[#This Row],[Sim/Não]]=1,1,0),0)","v":0}]
[null,null,null,null,null,null,null,null,null,null,null,"Atrasado",null,null,null,0,0,{"$f":"IF(Table26[[#This Row],[Status Medida]]=\"Finalizado\",IF(Table26[[#This Row],[Sim/Não]]=1,1,0),0)","v":0}]
[null,null,null,null,null,null,null,null,null,null,null,"Atrasado",null,null,null,0,0,{"$f":"IF(Table26[[#This Row],[Status Medida]]=\"Finalizado\",IF(Table26[[#This Row],[Sim/Não]]=1,1,0),0)","v":0}]
[null,null,null,null,null,null,null,null,null,null,null,"Atrasado",null,null,null,0,0,{"$f":"IF(Table26[[#This Row],[Status Medida]]=\"Finalizado\",IF(Table26[[#This Row],[Sim/Não]]=1,1,0),0)","v":0}]
[null,null,null,null,null,null,null,null,null,null,null,"Atrasado",null,null,null,0,0,{"$f":"IF(Table26[[#This Row],[Status Medida]]=\"Finalizado\",IF(Table26[[#This Row],[Sim/Não]]=1,1,0),0)","v":0}]
[null,null,null,null,null,null,null,null,null,null,null,"Atrasado",null,null,null,0,0,{"$f":"IF(Table26[[#This Row],[Status Medida]]=\"Finalizado\",IF(Table26[[#This Row],[Sim/Não]]=1,1,0),0)","v":0}]
[null,null,null,null,null,null,null,null,null,null,null,"Atrasado",null,null,null,0,0,{"$f":"IF(Table26[[#This Row],[Status Medida]]=\"Finalizado\",IF(Table26[[#This Row],[Sim/Não]]=1,1,0),0)","v":0}]
[null,null,null,null,null,null,null,null,null,null,null,"Atrasado",null,null,null,0,0,{"$f":"IF(Table26[[#This Row],[Status Medida]]=\"Finalizado\",IF(Table26[[#This Row],[Sim/Não]]=1,1,0),0)","v":0}]
[null,null,null,null,null,null,null,null,null,null,null,"Atrasado",null,null,null,0,0,{"$f":"IF(Table26[[#This Row],[Status Medida]]=\"Finalizado\",IF(Table26[[#This Row],[Sim/Não]]=1,1,0),0)","v":0}]
[null,null,null,null,null,null,null,null,null,null,null,"Atrasado",null,null,null,0,0,{"$f":"IF(Table26[[#This Row],[Status Medida]]=\"Finalizado\",IF(Table26[[#This Row],[Sim/Não]]=1,1,0),0)","v":0}]
[null,null,null,null,null,null,null,null,null,null,null,"Atrasado",null,null,null,0,0,{"$f":"IF(Table26[[#This Row],[Status Medida]]=\"Finalizado\",IF(Table26[[#This Row],[Sim/Não]]=1,1,0),0)","v":0}]
[null,null,null,null,null,null,null,null,null,null,null,"Atrasado",null,null,null,0,0,{"$f":"IF(Table26[[#This Row],[Status Medida]]=\"Finalizado\",IF(Table26[[#This Row],[Sim/Não]]=1,1,0),0)","v":0}]
[null,null,null,null,null,null,null,null,null,null,null,"Atrasado",null,null,null,0,0,{"$f":"IF(Table26[[#This Row],[Status Medida]]=\"Finalizado\",IF(Table26[[#This Row],[Sim/Não]]=1,1,0),0)","v":0}]
[null,null,null,null,null,null,null,null,null,null,null,"Atrasado",null,null,null,0,0,{"$f":"IF(Table26[[#This Row],[Status Medida]]=\"Finalizado\",IF(Table26[[#This Row],[Sim/Não]]=1,1,0),0)","v":0}]
[null,null,null,null,null,null,null,null,null,null,null,"Atrasado",null,null,null,0,0,{"$f":"IF(Table26[[#This Row],[Status Medida]]=\"Finalizado\",IF(Table26[[#This Row],[Sim/Não]]=1,1,0),0)","v":0}]
[null,null,null,null,null,null,null,null,null,null,null,"Atrasado",null,null,null,0,0,{"$f":"IF(Table26[[#This Row],[Status Medida]]=\"Finalizado\",IF(Table26[[#This Row],[Sim/Não]]=1,1,0),0)","v":0}]
[null,null,null,null,null,null,null,null,null,null,null,"Atrasado",null,null,null,0,0,{"$f":"IF(Table26[[#This Row],[Status Medida]]=\"Finalizado\",IF(Table26[[#This Row],[Sim/Não]]=1,1,0),0)","v":0}]
[null,null,null,null,null,null,null,null,null,null,null,"Atrasado",null,null,null,0,0,{"$f":"IF(Table26[[#This Row],[Status Medida]]=\"Finalizado\",IF(Table26[[#This Row],[Sim/Não]]=1,1,0),0)","v":0}]
[null,null,null,null,null,null,null,null,null,null,null,"Atrasado",null,null,null,0,0,{"$f":"IF(Table26[[#This Row],[Status Medida]]=\"Finalizado\",IF(Table26[[#This Row],[Sim/Não]]=1,1,0),0)","v":0}]
[null,null,null,null,null,null,null,null,null,null,null,"Atrasado",null,null,null,0,0,{"$f":"IF(Table26[[#This Row],[Status Medida]]=\"Finalizado\",IF(Table26[[#This Row],[Sim/Não]]=1,1,0),0)","v":0}]
[null,null,null,null,null,null,null,null,null,null,null,"Atrasado",null,null,null,0,0,{"$f":"IF(Table26[[#This Row],[Status Medida]]=\"Finalizado\",IF(Table26[[#This Row],[Sim/Não]]=1,1,0),0)","v":0}]
[null,null,null,null,null,null,null,null,null,null,null,"Atrasado",null,null,null,0,0,{"$f":"IF(Table26[[#This Row],[Status Medida]]=\"Finalizado\",IF(Table26[[#This Row],[Sim/Não]]=1,1,0),0)","v":0}]
[null,null,null,null,null,null,null,null,null,null,null,"Atrasado",null,null,null,0,0,{"$f":"IF(Table26[[#This Row],[Status Medida]]=\"Finalizado\",IF(Table26[[#This Row],[Sim/Não]]=1,1,0),0)","v":0}]
[null,null,null,null,null,null,null,null,null,null,null,"Atrasado",null,null,null,0,0,{"$f":"IF(Table26[[#This Row],[Status Medida]]=\"Finalizado\",IF(Table26[[#This Row],[Sim/Não]]=1,1,0),0)","v":0}]
[null,null,null,null,null,null,null,null,null,null,null,"Atrasado",null,null,null,0,0,{"$f":"IF(Table26[[#This Row],[Status Medida]]=\"Finalizado\",IF(Table26[[#This Row],[Sim/Não]]=1,1,0),0)","v":0}]
[null,null,null,null,null,null,null,null,null,null,null,"Atrasado",null,null,null,0,0,{"$f":"IF(Table26[[#This Row],[Status Medida]]=\"Finalizado\",IF(Table26[[#This Row],[Sim/Não]]=1,1,0),0)","v":0}]
[null,null,null,null,null,null,null,null,null,null,null,"Atrasado",null,null,null,0,0,{"$f":"IF(Table26[[#This Row],[Status Medida]]=\"Finalizado\",IF(Table26[[#This Row],[Sim/Não]]=1,1,0),0)","v":0}]
[null,null,null,null,null,null,null,null,null,null,null,{"$f":"IF(J2478>K2478,\"Datas inválidas\",IF(M2478=\"Finalizado\",\"Concluído\",IF(J2478>TODAY(),\"Não iniciado\",_xlfn.IFS(J2478=TODAY(),\"Em andamento\",TODAY()>K2478,\"Atrasado\",AND(TODAY()>J2478,TODAY()<=K2478),\"Em andamento\"))))","v":"Atrasado"},null,null,null,{"$f":"IF(O2478=\"Sim\",1,0)","v":0},{"$f":"IF(N2478=E2478,0,1)","v":0},{"$f":"IF(Table26[[#This Row],[Status Medida]]=\"Finalizado\",IF(Table26[[#This Row],[Sim/Não]]=1,1,0),0)","v":0}]
[null,null,null,null,null,null,null,null,null,null,null,"Atrasado",null,null,null,0,0,{"$f":"IF(Table26[[#This Row],[Status Medida]]=\"Finalizado\",IF(Table26[[#This Row],[Sim/Não]]=1,1,0),0)","v":0}]
[null,null,null,null,null,null,null,null,null,null,null,"Atrasado",null,null,null,0,0,{"$f":"IF(Table26[[#This Row],[Status Medida]]=\"Finalizado\",IF(Table26[[#This Row],[Sim/Não]]=1,1,0),0)","v":0}]
[null,null,null,null,null,null,null,null,null,null,null,"Atrasado",null,null,null,0,0,{"$f":"IF(Table26[[#This Row],[Status Medida]]=\"Finalizado\",IF(Table26[[#This Row],[Sim/Não]]=1,1,0),0)","v":0}]
[null,null,null,null,null,null,null,null,null,null,null,"Atrasado",null,null,null,0,0,{"$f":"IF(Table26[[#This Row],[Status Medida]]=\"Finalizado\",IF(Table26[[#This Row],[Sim/Não]]=1,1,0),0)","v":0}]
[null,null,null,null,null,null,null,null,null,null,null,"Atrasado",null,null,null,0,0,{"$f":"IF(Table26[[#This Row],[Status Medida]]=\"Finalizado\",IF(Table26[[#This Row],[Sim/Não]]=1,1,0),0)","v":0}]
[null,null,null,null,null,null,null,null,null,null,null,"Atrasado",null,null,null,0,0,{"$f":"IF(Table26[[#This Row],[Status Medida]]=\"Finalizado\",IF(Table26[[#This Row],[Sim/Não]]=1,1,0),0)","v":0}]
[null,null,null,null,null,null,null,null,null,null,null,"Atrasado",null,null,null,0,0,{"$f":"IF(Table26[[#This Row],[Status Medida]]=\"Finalizado\",IF(Table26[[#This Row],[Sim/Não]]=1,1,0),0)","v":0}]
[null,null,null,null,null,null,null,null,null,null,null,"Atrasado",null,null,null,0,0,{"$f":"IF(Table26[[#This Row],[Status Medida]]=\"Finalizado\",IF(Table26[[#This Row],[Sim/Não]]=1,1,0),0)","v":0}]
[null,null,null,null,null,null,null,null,null,null,null,"Atrasado",null,null,null,0,0,{"$f":"IF(Table26[[#This Row],[Status Medida]]=\"Finalizado\",IF(Table26[[#This Row],[Sim/Não]]=1,1,0),0)","v":0}]
[null,null,null,null,null,null,null,null,null,null,null,"Atrasado",null,null,null,0,0,{"$f":"IF(Table26[[#This Row],[Status Medida]]=\"Finalizado\",IF(Table26[[#This Row],[Sim/Não]]=1,1,0),0)","v":0}]
[null,null,null,null,null,null,null,null,null,null,null,"Atrasado",null,null,null,0,0,{"$f":"IF(Table26[[#This Row],[Status Medida]]=\"Finalizado\",IF(Table26[[#This Row],[Sim/Não]]=1,1,0),0)","v":0}]
[null,null,null,null,null,null,null,null,null,null,null,"Atrasado",null,null,null,0,0,{"$f":"IF(Table26[[#This Row],[Status Medida]]=\"Finalizado\",IF(Table26[[#This Row],[Sim/Não]]=1,1,0),0)","v":0}]
[null,null,null,null,null,null,null,null,null,null,null,"Atrasado",null,null,null,0,0,{"$f":"IF(Table26[[#This Row],[Status Medida]]=\"Finalizado\",IF(Table26[[#This Row],[Sim/Não]]=1,1,0),0)","v":0}]
[null,null,null,null,null,null,null,null,null,null,null,{"$f":"IF(J2542>K2542,\"Datas inválidas\",IF(M2542=\"Finalizado\",\"Concluído\",IF(J2542>TODAY(),\"Não iniciado\",_xlfn.IFS(J2542=TODAY(),\"Em andamento\",TODAY()>K2542,\"Atrasado\",AND(TODAY()>J2542,TODAY()<=K2542),\"Em andamento\"))))","v":"Atrasado"},null,null,null,{"$f":"IF(O2542=\"Sim\",1,0)","v":0},{"$f":"IF(N2542=E2542,0,1)","v":0},{"$f":"IF(Table26[[#This Row],[Status Medida]]=\"Finalizado\",IF(Table26[[#This Row],[Sim/Não]]=1,1,0),0)","v":0}]
[null,null,null,null,null,null,null,null,null,null,null,"Atrasado",null,null,null,0,0,{"$f":"IF(Table26[[#This Row],[Status Medida]]=\"Finalizado\",IF(Table26[[#This Row],[Sim/Não]]=1,1,0),0)","v":0}]
[null,null,null,null,null,null,null,null,null,null,null,"Atrasado",null,null,null,0,0,{"$f":"IF(Table26[[#This Row],[Status Medida]]=\"Finalizado\",IF(Table26[[#This Row],[Sim/Não]]=1,1,0),0)","v":0}]
[null,null,null,null,null,null,null,null,null,null,null,"Atrasado",null,null,null,0,0,{"$f":"IF(Table26[[#This Row],[Status Medida]]=\"Finalizado\",IF(Table26[[#This Row],[Sim/Não]]=1,1,0),0)","v":0}]
[null,null,null,null,null,null,null,null,null,null,null,"Atrasado",null,null,null,0,0,{"$f":"IF(Table26[[#This Row],[Status Medida]]=\"Finalizado\",IF(Table26[[#This Row],[Sim/Não]]=1,1,0),0)","v":0}]
[null,null,null,null,null,null,null,null,null,null,null,"Atrasado",null,null,null,0,0,{"$f":"IF(Table26[[#This Row],[Status Medida]]=\"Finalizado\",IF(Table26[[#This Row],[Sim/Não]]=1,1,0),0)","v":0}]
[null,null,null,null,null,null,null,null,null,null,null,"Atrasado",null,null,null,0,0,{"$f":"IF(Table26[[#This Row],[Status Medida]]=\"Finalizado\",IF(Table26[[#This Row],[Sim/Não]]=1,1,0),0)","v":0}]
[null,null,null,null,null,null,null,null,null,null,null,"Atrasado",null,null,null,0,0,{"$f":"IF(Table26[[#This Row],[Status Medida]]=\"Finalizado\",IF(Table26[[#This Row],[Sim/Não]]=1,1,0),0)","v":0}]
[null,null,null,null,null,null,null,null,null,null,null,"Atrasado",null,null,null,0,0,{"$f":"IF(Table26[[#This Row],[Status Medida]]=\"Finalizado\",IF(Table26[[#This Row],[Sim/Não]]=1,1,0),0)","v":0}]
[null,null,null,null,null,null,null,null,null,null,null,"Atrasado",null,null,null,0,0,{"$f":"IF(Table26[[#This Row],[Status Medida]]=\"Finalizado\",IF(Table26[[#This Row],[Sim/Não]]=1,1,0),0)","v":0}]
[null,null,null,null,null,null,null,null,null,null,null,"Atrasado",null,null,null,0,0,{"$f":"IF(Table26[[#This Row],[Status Medida]]=\"Finalizado\",IF(Table26[[#This Row],[Sim/Não]]=1,1,0),0)","v":0}]
[null,null,null,null,null,null,null,null,null,null,null,"Atrasado",null,null,null,0,0,{"$f":"IF(Table26[[#This Row],[Status Medida]]=\"Finalizado\",IF(Table26[[#This Row],[Sim/Não]]=1,1,0),0)","v":0}]
[null,null,null,null,null,null,null,null,null,null,null,"Atrasado",null,null,null,0,0,{"$f":"IF(Table26[[#This Row],[Status Medida]]=\"Finalizado\",IF(Table26[[#This Row],[Sim/Não]]=1,1,0),0)","v":0}]
[null,null,null,null,null,null,null,null,null,null,null,"Atrasado",null,null,null,0,0,{"$f":"IF(Table26[[#This Row],[Status Medida]]=\"Finalizado\",IF(Table26[[#This Row],[Sim/Não]]=1,1,0),0)","v":0}]
[null,null,null,null,null,null,null,null,null,null,null,"Atrasado",null,null,null,0,0,{"$f":"IF(Table26[[#This Row],[Status Medida]]=\"Finalizado\",IF(Table26[[#This Row],[Sim/Não]]=1,1,0),0)","v":0}]
[null,null,null,null,null,null,null,null,null,null,null,"Atrasado",null,null,null,0,0,{"$f":"IF(Table26[[#This Row],[Status Medida]]=\"Finalizado\",IF(Table26[[#This Row],[Sim/Não]]=1,1,0),0)","v":0}]
[null,null,null,null,null,null,null,null,null,null,null,"Atrasado",null,null,null,0,0,{"$f":"IF(Table26[[#This Row],[Status Medida]]=\"Finalizado\",IF(Table26[[#This Row],[Sim/Não]]=1,1,0),0)","v":0}]
[null,null,null,null,null,null,null,null,null,null,null,"Atrasado",null,null,null,0,0,{"$f":"IF(Table26[[#This Row],[Status Medida]]=\"Finalizado\",IF(Table26[[#This Row],[Sim/Não]]=1,1,0),0)","v":0}]
[null,null,null,null,null,null,null,null,null,null,null,"Atrasado",null,null,null,0,0,{"$f":"IF(Table26[[#This Row],[Status Medida]]=\"Finalizado\",IF(Table26[[#This Row],[Sim/Não]]=1,1,0),0)","v":0}]
[null,null,null,null,null,null,null,null,null,null,null,"Atrasado",null,null,null,0,0,{"$f":"IF(Table26[[#This Row],[Status Medida]]=\"Finalizado\",IF(Table26[[#This Row],[Sim/Não]]=1,1,0),0)","v":0}]
[null,null,null,null,null,null,null,null,null,null,null,"Atrasado",null,null,null,0,0,{"$f":"IF(Table26[[#This Row],[Status Medida]]=\"Finalizado\",IF(Table26[[#This Row],[Sim/Não]]=1,1,0),0)","v":0}]
[null,null,null,null,null,null,null,null,null,null,null,"Atrasado",null,null,null,0,0,{"$f":"IF(Table26[[#This Row],[Status Medida]]=\"Finalizado\",IF(Table26[[#This Row],[Sim/Não]]=1,1,0),0)","v":0}]
[null,null,null,null,null,null,null,null,null,null,null,"Atrasado",null,null,null,0,0,{"$f":"IF(Table26[[#This Row],[Status Medida]]=\"Finalizado\",IF(Table26[[#This Row],[Sim/Não]]=1,1,0),0)","v":0}]
[null,null,null,null,null,null,null,null,null,null,null,"Atrasado",null,null,null,0,0,{"$f":"IF(Table26[[#This Row],[Status Medida]]=\"Finalizado\",IF(Table26[[#This Row],[Sim/Não]]=1,1,0),0)","v":0}]
[null,null,null,null,null,null,null,null,null,null,null,"Atrasado",null,null,null,0,0,{"$f":"IF(Table26[[#This Row],[Status Medida]]=\"Finalizado\",IF(Table26[[#This Row],[Sim/Não]]=1,1,0),0)","v":0}]
[null,null,null,null,null,null,null,null,null,null,null,"Atrasado",null,null,null,0,0,{"$f":"IF(Table26[[#This Row],[Status Medida]]=\"Finalizado\",IF(Table26[[#This Row],[Sim/Não]]=1,1,0),0)","v":0}]
[null,null,null,null,null,null,null,null,null,null,null,"Atrasado",null,null,null,0,0,{"$f":"IF(Table26[[#This Row],[Status Medida]]=\"Finalizado\",IF(Table26[[#This Row],[Sim/Não]]=1,1,0),0)","v":0}]
[null,null,null,null,null,null,null,null,null,null,null,"Atrasado",null,null,null,0,0,{"$f":"IF(Table26[[#This Row],[Status Medida]]=\"Finalizado\",IF(Table26[[#This Row],[Sim/Não]]=1,1,0),0)","v":0}]
[null,null,null,null,null,null,null,null,null,null,null,"Atrasado",null,null,null,0,0,{"$f":"IF(Table26[[#This Row],[Status Medida]]=\"Finalizado\",IF(Table26[[#This Row],[Sim/Não]]=1,1,0),0)","v":0}]
[null,null,null,null,null,null,null,null,null,null,null,"Atrasado",null,null,null,0,0,{"$f":"IF(Table26[[#This Row],[Status Medida]]=\"Finalizado\",IF(Table26[[#This Row],[Sim/Não]]=1,1,0),0)","v":0}]
[null,null,null,null,null,null,null,null,null,null,null,"Atrasado",null,null,null,0,0,{"$f":"IF(Table26[[#This Row],[Status Medida]]=\"Finalizado\",IF(Table26[[#This Row],[Sim/Não]]=1,1,0),0)","v":0}]
[null,null,null,null,null,null,null,null,null,null,null,"Atrasado",null,null,null,0,0,{"$f":"IF(Table26[[#This Row],[Status Medida]]=\"Finalizado\",IF(Table26[[#This Row],[Sim/Não]]=1,1,0),0)","v":0}]
[null,null,null,null,null,null,null,null,null,null,null,"Atrasado",null,null,null,0,0,{"$f":"IF(Table26[[#This Row],[Status Medida]]=\"Finalizado\",IF(Table26[[#This Row],[Sim/Não]]=1,1,0),0)","v":0}]
[null,null,null,null,null,null,null,null,null,null,null,"Atrasado",null,null,null,0,0,{"$f":"IF(Table26[[#This Row],[Status Medida]]=\"Finalizado\",IF(Table26[[#This Row],[Sim/Não]]=1,1,0),0)","v":0}]
[null,null,null,null,null,null,null,null,null,null,null,"Atrasado",null,null,null,0,0,{"$f":"IF(Table26[[#This Row],[Status Medida]]=\"Finalizado\",IF(Table26[[#This Row],[Sim/Não]]=1,1,0),0)","v":0}]
[null,null,null,null,null,null,null,null,null,null,null,"Atrasado",null,null,null,0,0,{"$f":"IF(Table26[[#This Row],[Status Medida]]=\"Finalizado\",IF(Table26[[#This Row],[Sim/Não]]=1,1,0),0)","v":0}]
[null,null,null,null,null,null,null,null,null,null,null,"Atrasado",null,null,null,0,0,{"$f":"IF(Table26[[#This Row],[Status Medida]]=\"Finalizado\",IF(Table26[[#This Row],[Sim/Não]]=1,1,0),0)","v":0}]
[null,null,null,null,null,null,null,null,null,null,null,"Atrasado",null,null,null,0,0,{"$f":"IF(Table26[[#This Row],[Status Medida]]=\"Finalizado\",IF(Table26[[#This Row],[Sim/Não]]=1,1,0),0)","v":0}]
[null,null,null,null,null,null,null,null,null,null,null,"Atrasado",null,null,null,0,0,{"$f":"IF(Table26[[#This Row],[Status Medida]]=\"Finalizado\",IF(Table26[[#This Row],[Sim/Não]]=1,1,0),0)","v":0}]
[null,null,null,null,null,null,null,null,null,null,null,"Atrasado",null,null,null,0,0,{"$f":"IF(Table26[[#This Row],[Status Medida]]=\"Finalizado\",IF(Table26[[#This Row],[Sim/Não]]=1,1,0),0)","v":0}]
[null,null,null,null,null,null,null,null,null,null,null,"Atrasado",null,null,null,0,0,{"$f":"IF(Table26[[#This Row],[Status Medida]]=\"Finalizado\",IF(Table26[[#This Row],[Sim/Não]]=1,1,0),0)","v":0}]
[null,null,null,null,null,null,null,null,null,null,null,"Atrasado",null,null,null,0,0,{"$f":"IF(Table26[[#This Row],[Status Medida]]=\"Finalizado\",IF(Table26[[#This Row],[Sim/Não]]=1,1,0),0)","v":0}]
[null,null,null,null,null,null,null,null,null,null,null,"Atrasado",null,null,null,0,0,{"$f":"IF(Table26[[#This Row],[Status Medida]]=\"Finalizado\",IF(Table26[[#This Row],[Sim/Não]]=1,1,0),0)","v":0}]
[null,null,null,null,null,null,null,null,null,null,null,"Atrasado",null,null,null,0,0,{"$f":"IF(Table26[[#This Row],[Status Medida]]=\"Finalizado\",IF(Table26[[#This Row],[Sim/Não]]=1,1,0),0)","v":0}]
[null,null,null,null,null,null,null,null,null,null,null,"Atrasado",null,null,null,0,0,{"$f":"IF(Table26[[#This Row],[Status Medida]]=\"Finalizado\",IF(Table26[[#This Row],[Sim/Não]]=1,1,0),0)","v":0}]
[null,null,null,null,null,null,null,null,null,null,null,"Atrasado",null,null,null,0,0,{"$f":"IF(Table26[[#This Row],[Status Medida]]=\"Finalizado\",IF(Table26[[#This Row],[Sim/Não]]=1,1,0),0)","v":0}]
[null,null,null,null,null,null,null,null,null,null,null,"Atrasado",null,null,null,0,0,{"$f":"IF(Table26[[#This Row],[Status Medida]]=\"Finalizado\",IF(Table26[[#This Row],[Sim/Não]]=1,1,0),0)","v":0}]
[null,null,null,null,null,null,null,null,null,null,null,"Atrasado",null,null,null,0,0,{"$f":"IF(Table26[[#This Row],[Status Medida]]=\"Finalizado\",IF(Table26[[#This Row],[Sim/Não]]=1,1,0),0)","v":0}]
[null,null,null,null,null,null,null,null,null,null,null,"Atrasado",null,null,null,0,0,{"$f":"IF(Table26[[#This Row],[Status Medida]]=\"Finalizado\",IF(Table26[[#This Row],[Sim/Não]]=1,1,0),0)","v":0}]
[null,null,null,null,null,null,null,null,null,null,null,"Atrasado",null,null,null,0,0,{"$f":"IF(Table26[[#This Row],[Status Medida]]=\"Finalizado\",IF(Table26[[#This Row],[Sim/Não]]=1,1,0),0)","v":0}]
[null,null,null,null,null,null,null,null,null,null,null,"Atrasado",null,null,null,0,0,{"$f":"IF(Table26[[#This Row],[Status Medida]]=\"Finalizado\",IF(Table26[[#This Row],[Sim/Não]]=1,1,0),0)","v":0}]
[null,null,null,null,null,null,null,null,null,null,null,"Atrasado",null,null,null,0,0,{"$f":"IF(Table26[[#This Row],[Status Medida]]=\"Finalizado\",IF(Table26[[#This Row],[Sim/Não]]=1,1,0),0)","v":0}]
[null,null,null,null,null,null,null,null,null,null,null,"Atrasado",null,null,null,0,0,{"$f":"IF(Table26[[#This Row],[Status Medida]]=\"Finalizado\",IF(Table26[[#This Row],[Sim/Não]]=1,1,0),0)","v":0}]
[null,null,null,null,null,null,null,null,null,null,null,"Atrasado",null,null,null,0,0,{"$f":"IF(Table26[[#This Row],[Status Medida]]=\"Finalizado\",IF(Table26[[#This Row],[Sim/Não]]=1,1,0),0)","v":0}]
[null,null,null,null,null,null,null,null,null,null,null,"Atrasado",null,null,null,0,0,{"$f":"IF(Table26[[#This Row],[Status Medida]]=\"Finalizado\",IF(Table26[[#This Row],[Sim/Não]]=1,1,0),0)","v":0}]
[null,null,null,null,null,null,null,null,null,null,null,"Atrasado",null,null,null,0,0,{"$f":"IF(Table26[[#This Row],[Status Medida]]=\"Finalizado\",IF(Table26[[#This Row],[Sim/Não]]=1,1,0),0)","v":0}]
[null,null,null,null,null,null,null,null,null,null,null,"Atrasado",null,null,null,0,0,{"$f":"IF(Table26[[#This Row],[Status Medida]]=\"Finalizado\",IF(Table26[[#This Row],[Sim/Não]]=1,1,0),0)","v":0}]
[null,null,null,null,null,null,null,null,null,null,null,"Atrasado",null,null,null,0,0,{"$f":"IF(Table26[[#This Row],[Status Medida]]=\"Finalizado\",IF(Table26[[#This Row],[Sim/Não]]=1,1,0),0)","v":0}]
[null,null,null,null,null,null,null,null,null,null,null,"Atrasado",null,null,null,0,0,{"$f":"IF(Table26[[#This Row],[Status Medida]]=\"Finalizado\",IF(Table26[[#This Row],[Sim/Não]]=1,1,0),0)","v":0}]
[null,null,null,null,null,null,null,null,null,null,null,"Atrasado",null,null,null,0,0,{"$f":"IF(Table26[[#This Row],[Status Medida]]=\"Finalizado\",IF(Table26[[#This Row],[Sim/Não]]=1,1,0),0)","v":0}]
[null,null,null,null,null,null,null,null,null,null,null,"Atrasado",null,null,null,0,0,{"$f":"IF(Table26[[#This Row],[Status Medida]]=\"Finalizado\",IF(Table26[[#This Row],[Sim/Não]]=1,1,0),0)","v":0}]
[null,null,null,null,null,null,null,null,null,null,null,"Atrasado",null,null,null,0,0,{"$f":"IF(Table26[[#This Row],[Status Medida]]=\"Finalizado\",IF(Table26[[#This Row],[Sim/Não]]=1,1,0),0)","v":0}]
[null,null,null,null,null,null,null,null,null,null,null,"Atrasado",null,null,null,0,0,{"$f":"IF(Table26[[#This Row],[Status Medida]]=\"Finalizado\",IF(Table26[[#This Row],[Sim/Não]]=1,1,0),0)","v":0}]
[null,null,null,null,null,null,null,null,null,null,null,"Atrasado",null,null,null,0,0,{"$f":"IF(Table26[[#This Row],[Status Medida]]=\"Finalizado\",IF(Table26[[#This Row],[Sim/Não]]=1,1,0),0)","v":0}]
[null,null,null,null,null,null,null,null,null,null,null,"Atrasado",null,null,null,0,0,{"$f":"IF(Table26[[#This Row],[Status Medida]]=\"Finalizado\",IF(Table26[[#This Row],[Sim/Não]]=1,1,0),0)","v":0}]
[null,null,null,null,null,null,null,null,null,null,null,"Atrasado",null,null,null,0,0,{"$f":"IF(Table26[[#This Row],[Status Medida]]=\"Finalizado\",IF(Table26[[#This Row],[Sim/Não]]=1,1,0),0)","v":0}]
[null,null,null,null,null,null,null,null,null,null,null,"Atrasado",null,null,null,0,0,{"$f":"IF(Table26[[#This Row],[Status Medida]]=\"Finalizado\",IF(Table26[[#This Row],[Sim/Não]]=1,1,0),0)","v":0}]
[null,null,null,null,null,null,null,null,null,null,null,"Atrasado",null,null,null,0,0,{"$f":"IF(Table26[[#This Row],[Status Medida]]=\"Finalizado\",IF(Table26[[#This Row],[Sim/Não]]=1,1,0),0)","v":0}]
[null,null,null,null,null,null,null,null,null,null,null,"Atrasado",null,null,null,0,0,{"$f":"IF(Table26[[#This Row],[Status Medida]]=\"Finalizado\",IF(Table26[[#This Row],[Sim/Não]]=1,1,0),0)","v":0}]
[null,null,null,null,null,null,null,null,null,null,null,"Atrasado",null,null,null,0,0,{"$f":"IF(Table26[[#This Row],[Status Medida]]=\"Finalizado\",IF(Table26[[#This Row],[Sim/Não]]=1,1,0),0)","v":0}]
[null,null,null,null,null,null,null,null,null,null,null,"Atrasado",null,null,null,0,0,{"$f":"IF(Table26[[#This Row],[Status Medida]]=\"Finalizado\",IF(Table26[[#This Row],[Sim/Não]]=1,1,0),0)","v":0}]
[null,null,null,null,null,null,null,null,null,null,null,"Atrasado",null,null,null,0,0,{"$f":"IF(Table26[[#This Row],[Status Medida]]=\"Finalizado\",IF(Table26[[#This Row],[Sim/Não]]=1,1,0),0)","v":0}]
[null,null,null,null,null,null,null,null,null,null,null,"Atrasado",null,null,null,0,0,{"$f":"IF(Table26[[#This Row],[Status Medida]]=\"Finalizado\",IF(Table26[[#This Row],[Sim/Não]]=1,1,0),0)","v":0}]
[null,null,null,null,null,null,null,null,null,null,null,"Atrasado",null,null,null,0,0,{"$f":"IF(Table26[[#This Row],[Status Medida]]=\"Finalizado\",IF(Table26[[#This Row],[Sim/Não]]=1,1,0),0)","v":0}]
[null,null,null,null,null,null,null,null,null,null,null,"Atrasado",null,null,null,0,0,{"$f":"IF(Table26[[#This Row],[Status Medida]]=\"Finalizado\",IF(Table26[[#This Row],[Sim/Não]]=1,1,0),0)","v":0}]
[null,null,null,null,null,null,null,null,null,null,null,"Atrasado",null,null,null,0,0,{"$f":"IF(Table26[[#This Row],[Status Medida]]=\"Finalizado\",IF(Table26[[#This Row],[Sim/Não]]=1,1,0),0)","v":0}]
[null,null,null,null,null,null,null,null,null,null,null,"Atrasado",null,null,null,0,0,{"$f":"IF(Table26[[#This Row],[Status Medida]]=\"Finalizado\",IF(Table26[[#This Row],[Sim/Não]]=1,1,0),0)","v":0}]
[null,null,null,null,null,null,null,null,null,null,null,"Atrasado",null,null,null,0,0,{"$f":"IF(Table26[[#This Row],[Status Medida]]=\"Finalizado\",IF(Table26[[#This Row],[Sim/Não]]=1,1,0),0)","v":0}]
[null,null,null,null,null,null,null,null,null,null,null,"Atrasado",null,null,null,0,0,{"$f":"IF(Table26[[#This Row],[Status Medida]]=\"Finalizado\",IF(Table26[[#This Row],[Sim/Não]]=1,1,0),0)","v":0}]
[null,null,null,null,null,null,null,null,null,null,null,"Atrasado",null,null,null,0,0,{"$f":"IF(Table26[[#This Row],[Status Medida]]=\"Finalizado\",IF(Table26[[#This Row],[Sim/Não]]=1,1,0),0)","v":0}]
[null,null,null,null,null,null,null,null,null,null,null,"Atrasado",null,null,null,0,0,{"$f":"IF(Table26[[#This Row],[Status Medida]]=\"Finalizado\",IF(Table26[[#This Row],[Sim/Não]]=1,1,0),0)","v":0}]
[null,null,null,null,null,null,null,null,null,null,null,"Atrasado",null,null,null,0,0,{"$f":"IF(Table26[[#This Row],[Status Medida]]=\"Finalizado\",IF(Table26[[#This Row],[Sim/Não]]=1,1,0),0)","v":0}]
[null,null,null,null,null,null,null,null,null,null,null,"Atrasado",null,null,null,0,0,{"$f":"IF(Table26[[#This Row],[Status Medida]]=\"Finalizado\",IF(Table26[[#This Row],[Sim/Não]]=1,1,0),0)","v":0}]
[null,null,null,null,null,null,null,null,null,null,null,"Atrasado",null,null,null,0,0,{"$f":"IF(Table26[[#This Row],[Status Medida]]=\"Finalizado\",IF(Table26[[#This Row],[Sim/Não]]=1,1,0),0)","v":0}]
[null,null,null,null,null,null,null,null,null,null,null,"Atrasado",null,null,null,0,0,{"$f":"IF(Table26[[#This Row],[Status Medida]]=\"Finalizado\",IF(Table26[[#This Row],[Sim/Não]]=1,1,0),0)","v":0}]
[null,null,null,null,null,null,null,null,null,null,null,"Atrasado",null,null,null,0,0,{"$f":"IF(Table26[[#This Row],[Status Medida]]=\"Finalizado\",IF(Table26[[#This Row],[Sim/Não]]=1,1,0),0)","v":0}]
[null,null,null,null,null,null,null,null,null,null,null,"Atrasado",null,null,null,0,0,{"$f":"IF(Table26[[#This Row],[Status Medida]]=\"Finalizado\",IF(Table26[[#This Row],[Sim/Não]]=1,1,0),0)","v":0}]
[null,null,null,null,null,null,null,null,null,null,null,"Atrasado",null,null,null,0,0,{"$f":"IF(Table26[[#This Row],[Status Medida]]=\"Finalizado\",IF(Table26[[#This Row],[Sim/Não]]=1,1,0),0)","v":0}]
[null,null,null,null,null,null,null,null,null,null,null,"Atrasado",null,null,null,0,0,{"$f":"IF(Table26[[#This Row],[Status Medida]]=\"Finalizado\",IF(Table26[[#This Row],[Sim/Não]]=1,1,0),0)","v":0}]
[null,null,null,null,null,null,null,null,null,null,null,"Atrasado",null,null,null,0,0,{"$f":"IF(Table26[[#This Row],[Status Medida]]=\"Finalizado\",IF(Table26[[#This Row],[Sim/Não]]=1,1,0),0)","v":0}]
[null,null,null,null,null,null,null,null,null,null,null,"Atrasado",null,null,null,0,0,{"$f":"IF(Table26[[#This Row],[Status Medida]]=\"Finalizado\",IF(Table26[[#This Row],[Sim/Não]]=1,1,0),0)","v":0}]
[null,null,null,null,null,null,null,null,null,null,null,"Atrasado",null,null,null,0,0,{"$f":"IF(Table26[[#This Row],[Status Medida]]=\"Finalizado\",IF(Table26[[#This Row],[Sim/Não]]=1,1,0),0)","v":0}]
[null,null,null,null,null,null,null,null,null,null,null,"Atrasado",null,null,null,0,0,{"$f":"IF(Table26[[#This Row],[Status Medida]]=\"Finalizado\",IF(Table26[[#This Row],[Sim/Não]]=1,1,0),0)","v":0}]
[null,null,null,null,null,null,null,null,null,null,null,"Atrasado",null,null,null,0,0,{"$f":"IF(Table26[[#This Row],[Status Medida]]=\"Finalizado\",IF(Table26[[#This Row],[Sim/Não]]=1,1,0),0)","v":0}]
[null,null,null,null,null,null,null,null,null,null,null,"Atrasado",null,null,null,0,0,{"$f":"IF(Table26[[#This Row],[Status Medida]]=\"Finalizado\",IF(Table26[[#This Row],[Sim/Não]]=1,1,0),0)","v":0}]
[null,null,null,null,null,null,null,null,null,null,null,"Atrasado",null,null,null,0,0,{"$f":"IF(Table26[[#This Row],[Status Medida]]=\"Finalizado\",IF(Table26[[#This Row],[Sim/Não]]=1,1,0),0)","v":0}]
[null,null,null,null,null,null,null,null,null,null,null,"Atrasado",null,null,null,0,0,{"$f":"IF(Table26[[#This Row],[Status Medida]]=\"Finalizado\",IF(Table26[[#This Row],[Sim/Não]]=1,1,0),0)","v":0}]
[null,null,null,null,null,null,null,null,null,null,null,"Atrasado",null,null,null,0,0,{"$f":"IF(Table26[[#This Row],[Status Medida]]=\"Finalizado\",IF(Table26[[#This Row],[Sim/Não]]=1,1,0),0)","v":0}]
[null,null,null,null,null,null,null,null,null,null,null,"Atrasado",null,null,null,0,0,{"$f":"IF(Table26[[#This Row],[Status Medida]]=\"Finalizado\",IF(Table26[[#This Row],[Sim/Não]]=1,1,0),0)","v":0}]
[null,null,null,null,null,null,null,null,null,null,null,"Atrasado",null,null,null,0,0,{"$f":"IF(Table26[[#This Row],[Status Medida]]=\"Finalizado\",IF(Table26[[#This Row],[Sim/Não]]=1,1,0),0)","v":0}]
[null,null,null,null,null,null,null,null,null,null,null,"Atrasado",null,null,null,0,0,{"$f":"IF(Table26[[#This Row],[Status Medida]]=\"Finalizado\",IF(Table26[[#This Row],[Sim/Não]]=1,1,0),0)","v":0}]
[null,null,null,null,null,null,null,null,null,null,null,{"$f":"IF(J2990>K2990,\"Datas inválidas\",IF(M2990=\"Finalizado\",\"Concluído\",IF(J2990>TODAY(),\"Não iniciado\",_xlfn.IFS(J2990=TODAY(),\"Em andamento\",TODAY()>K2990,\"Atrasado\",AND(TODAY()>J2990,TODAY()<=K2990),\"Em andamento\"))))","v":"Atrasado"},null,null,null,{"$f":"IF(O2990=\"Sim\",1,0)","v":0},{"$f":"IF(N2990=E2990,0,1)","v":0},{"$f":"IF(Table26[[#This Row],[Status Medida]]=\"Finalizado\",IF(Table26[[#This Row],[Sim/Não]]=1,1,0),0)","v":0}]
[null,null,null,null,null,null,null,null,null,null,null,"Atrasado",null,null,null,0,0,{"$f":"IF(Table26[[#This Row],[Status Medida]]=\"Finalizado\",IF(Table26[[#This Row],[Sim/Não]]=1,1,0),0)","v":0}]
[null,null,null,null,null,null,null,null,null,null,null,"Atrasado",null,null,null,0,0,{"$f":"IF(Table26[[#This Row],[Status Medida]]=\"Finalizado\",IF(Table26[[#This Row],[Sim/Não]]=1,1,0),0)","v":0}]
[null,null,null,null,null,null,null,null,null,null,null,"Atrasado",null,null,null,0,0,{"$f":"IF(Table26[[#This Row],[Status Medida]]=\"Finalizado\",IF(Table26[[#This Row],[Sim/Não]]=1,1,0),0)","v":0}]
[null,null,null,null,null,null,null,null,null,null,null,"Atrasado",null,null,null,0,0,{"$f":"IF(Table26[[#This Row],[Status Medida]]=\"Finalizado\",IF(Table26[[#This Row],[Sim/Não]]=1,1,0),0)","v":0}]
[null,null,null,null,null,null,null,null,null,null,null,"Atrasado",null,null,null,0,0,{"$f":"IF(Table26[[#This Row],[Status Medida]]=\"Finalizado\",IF(Table26[[#This Row],[Sim/Não]]=1,1,0),0)","v":0}]
[null,null,null,null,null,null,null,null,null,null,null,"Atrasado",null,null,null,0,0,{"$f":"IF(Table26[[#This Row],[Status Medida]]=\"Finalizado\",IF(Table26[[#This Row],[Sim/Não]]=1,1,0),0)","v":0}]
[null,null,null,null,null,null,null,null,null,null,null,"Atrasado",null,null,null,0,0,{"$f":"IF(Table26[[#This Row],[Status Medida]]=\"Finalizado\",IF(Table26[[#This Row],[Sim/Não]]=1,1,0),0)","v":0}]
[null,null,null,null,null,null,null,null,null,null,null,"Atrasado",null,null,null,0,0,{"$f":"IF(Table26[[#This Row],[Status Medida]]=\"Finalizado\",IF(Table26[[#This Row],[Sim/Não]]=1,1,0),0)","v":0}]
[null,null,null,null,null,null,null,null,null,null,null,"Atrasado",null,null,null,0,0,{"$f":"IF(Table26[[#This Row],[Status Medida]]=\"Finalizado\",IF(Table26[[#This Row],[Sim/Não]]=1,1,0),0)","v":0}]
[null,null,null,null,null,null,null,null,null,null,null,"Atrasado",null,null,null,0,0,{"$f":"IF(Table26[[#This Row],[Status Medida]]=\"Finalizado\",IF(Table26[[#This Row],[Sim/Não]]=1,1,0),0)","v":0}]
[null,null,null,null,null,null,null,null,null,null,null,"Atrasado",null,null,null,0,0,{"$f":"IF(Table26[[#This Row],[Status Medida]]=\"Finalizado\",IF(Table26[[#This Row],[Sim/Não]]=1,1,0),0)","v":0}]
[null,null,null,null,null,null,null,null,null,null,null,"Atrasado",null,null,null,0,0,{"$f":"IF(Table26[[#This Row],[Status Medida]]=\"Finalizado\",IF(Table26[[#This Row],[Sim/Não]]=1,1,0),0)","v":0}]
[null,null,null,null,null,null,null,null,null,null,null,"Atrasado",null,null,null,0,0,{"$f":"IF(Table26[[#This Row],[Status Medida]]=\"Finalizado\",IF(Table26[[#This Row],[Sim/Não]]=1,1,0),0)","v":0}]
[null,null,null,null,null,null,null,null,null,null,null,{"$f":"IF(J3054>K3054,\"Datas inválidas\",IF(M3054=\"Finalizado\",\"Concluído\",IF(J3054>TODAY(),\"Não iniciado\",_xlfn.IFS(J3054=TODAY(),\"Em andamento\",TODAY()>K3054,\"Atrasado\",AND(TODAY()>J3054,TODAY()<=K3054),\"Em andamento\"))))","v":"Atrasado"},null,null,null,{"$f":"IF(O3054=\"Sim\",1,0)","v":0},{"$f":"IF(N3054=E3054,0,1)","v":0},{"$f":"IF(Table26[[#This Row],[Status Medida]]=\"Finalizado\",IF(Table26[[#This Row],[Sim/Não]]=1,1,0),0)","v":0}]
[null,null,null,null,null,null,null,null,null,null,null,"Atrasado",null,null,null,0,0,{"$f":"IF(Table26[[#This Row],[Status Medida]]=\"Finalizado\",IF(Table26[[#This Row],[Sim/Não]]=1,1,0),0)","v":0}]
[null,null,null,null,null,null,null,null,null,null,null,"Atrasado",null,null,null,0,0,{"$f":"IF(Table26[[#This Row],[Status Medida]]=\"Finalizado\",IF(Table26[[#This Row],[Sim/Não]]=1,1,0),0)","v":0}]
[null,null,null,null,null,null,null,null,null,null,null,"Atrasado",null,null,null,0,0,{"$f":"IF(Table26[[#This Row],[Status Medida]]=\"Finalizado\",IF(Table26[[#This Row],[Sim/Não]]=1,1,0),0)","v":0}]
[null,null,null,null,null,null,null,null,null,null,null,"Atrasado",null,null,null,0,0,{"$f":"IF(Table26[[#This Row],[Status Medida]]=\"Finalizado\",IF(Table26[[#This Row],[Sim/Não]]=1,1,0),0)","v":0}]
[null,null,null,null,null,null,null,null,null,null,null,"Atrasado",null,null,null,0,0,{"$f":"IF(Table26[[#This Row],[Status Medida]]=\"Finalizado\",IF(Table26[[#This Row],[Sim/Não]]=1,1,0),0)","v":0}]
[null,null,null,null,null,null,null,null,null,null,null,"Atrasado",null,null,null,0,0,{"$f":"IF(Table26[[#This Row],[Status Medida]]=\"Finalizado\",IF(Table26[[#This Row],[Sim/Não]]=1,1,0),0)","v":0}]
[null,null,null,null,null,null,null,null,null,null,null,"Atrasado",null,null,null,0,0,{"$f":"IF(Table26[[#This Row],[Status Medida]]=\"Finalizado\",IF(Table26[[#This Row],[Sim/Não]]=1,1,0),0)","v":0}]
[null,null,null,null,null,null,null,null,null,null,null,"Atrasado",null,null,null,0,0,{"$f":"IF(Table26[[#This Row],[Status Medida]]=\"Finalizado\",IF(Table26[[#This Row],[Sim/Não]]=1,1,0),0)","v":0}]
[null,null,null,null,null,null,null,null,null,null,null,"Atrasado",null,null,null,0,0,{"$f":"IF(Table26[[#This Row],[Status Medida]]=\"Finalizado\",IF(Table26[[#This Row],[Sim/Não]]=1,1,0),0)","v":0}]
[null,null,null,null,null,null,null,null,null,null,null,"Atrasado",null,null,null,0,0,{"$f":"IF(Table26[[#This Row],[Status Medida]]=\"Finalizado\",IF(Table26[[#This Row],[Sim/Não]]=1,1,0),0)","v":0}]
[null,null,null,null,null,null,null,null,null,null,null,"Atrasado",null,null,null,0,0,{"$f":"IF(Table26[[#This Row],[Status Medida]]=\"Finalizado\",IF(Table26[[#This Row],[Sim/Não]]=1,1,0),0)","v":0}]
[null,null,null,null,null,null,null,null,null,null,null,"Atrasado",null,null,null,0,0,{"$f":"IF(Table26[[#This Row],[Status Medida]]=\"Finalizado\",IF(Table26[[#This Row],[Sim/Não]]=1,1,0),0)","v":0}]
[null,null,null,null,null,null,null,null,null,null,null,"Atrasado",null,null,null,0,0,{"$f":"IF(Table26[[#This Row],[Status Medida]]=\"Finalizado\",IF(Table26[[#This Row],[Sim/Não]]=1,1,0),0)","v":0}]
[null,null,null,null,null,null,null,null,null,null,null,"Atrasado",null,null,null,0,0,{"$f":"IF(Table26[[#This Row],[Status Medida]]=\"Finalizado\",IF(Table26[[#This Row],[Sim/Não]]=1,1,0),0)","v":0}]
[null,null,null,null,null,null,null,null,null,null,null,"Atrasado",null,null,null,0,0,{"$f":"IF(Table26[[#This Row],[Status Medida]]=\"Finalizado\",IF(Table26[[#This Row],[Sim/Não]]=1,1,0),0)","v":0}]
[null,null,null,null,null,null,null,null,null,null,null,"Atrasado",null,null,null,0,0,{"$f":"IF(Table26[[#This Row],[Status Medida]]=\"Finalizado\",IF(Table26[[#This Row],[Sim/Não]]=1,1,0),0)","v":0}]
[null,null,null,null,null,null,null,null,null,null,null,"Atrasado",null,null,null,0,0,{"$f":"IF(Table26[[#This Row],[Status Medida]]=\"Finalizado\",IF(Table26[[#This Row],[Sim/Não]]=1,1,0),0)","v":0}]
[null,null,null,null,null,null,null,null,null,null,null,"Atrasado",null,null,null,0,0,{"$f":"IF(Table26[[#This Row],[Status Medida]]=\"Finalizado\",IF(Table26[[#This Row],[Sim/Não]]=1,1,0),0)","v":0}]
[null,null,null,null,null,null,null,null,null,null,null,"Atrasado",null,null,null,0,0,{"$f":"IF(Table26[[#This Row],[Status Medida]]=\"Finalizado\",IF(Table26[[#This Row],[Sim/Não]]=1,1,0),0)","v":0}]
[null,null,null,null,null,null,null,null,null,null,null,"Atrasado",null,null,null,0,0,{"$f":"IF(Table26[[#This Row],[Status Medida]]=\"Finalizado\",IF(Table26[[#This Row],[Sim/Não]]=1,1,0),0)","v":0}]
[null,null,null,null,null,null,null,null,null,null,null,"Atrasado",null,null,null,0,0,{"$f":"IF(Table26[[#This Row],[Status Medida]]=\"Finalizado\",IF(Table26[[#This Row],[Sim/Não]]=1,1,0),0)","v":0}]
[null,null,null,null,null,null,null,null,null,null,null,"Atrasado",null,null,null,0,0,{"$f":"IF(Table26[[#This Row],[Status Medida]]=\"Finalizado\",IF(Table26[[#This Row],[Sim/Não]]=1,1,0),0)","v":0}]
[null,null,null,null,null,null,null,null,null,null,null,"Atrasado",null,null,null,0,0,{"$f":"IF(Table26[[#This Row],[Status Medida]]=\"Finalizado\",IF(Table26[[#This Row],[Sim/Não]]=1,1,0),0)","v":0}]
[null,null,null,null,null,null,null,null,null,null,null,"Atrasado",null,null,null,0,0,{"$f":"IF(Table26[[#This Row],[Status Medida]]=\"Finalizado\",IF(Table26[[#This Row],[Sim/Não]]=1,1,0),0)","v":0}]
[null,null,null,null,null,null,null,null,null,null,null,"Atrasado",null,null,null,0,0,{"$f":"IF(Table26[[#This Row],[Status Medida]]=\"Finalizado\",IF(Table26[[#This Row],[Sim/Não]]=1,1,0),0)","v":0}]
[null,null,null,null,null,null,null,null,null,null,null,"Atrasado",null,null,null,0,0,{"$f":"IF(Table26[[#This Row],[Status Medida]]=\"Finalizado\",IF(Table26[[#This Row],[Sim/Não]]=1,1,0),0)","v":0}]
[null,null,null,null,null,null,null,null,null,null,null,"Atrasado",null,null,null,0,0,{"$f":"IF(Table26[[#This Row],[Status Medida]]=\"Finalizado\",IF(Table26[[#This Row],[Sim/Não]]=1,1,0),0)","v":0}]
[null,null,null,null,null,null,null,null,null,null,null,"Atrasado",null,null,null,0,0,{"$f":"IF(Table26[[#This Row],[Status Medida]]=\"Finalizado\",IF(Table26[[#This Row],[Sim/Não]]=1,1,0),0)","v":0}]
[null,null,null,null,null,null,null,null,null,null,null,"Atrasado",null,null,null,0,0,{"$f":"IF(Table26[[#This Row],[Status Medida]]=\"Finalizado\",IF(Table26[[#This Row],[Sim/Não]]=1,1,0),0)","v":0}]
[null,null,null,null,null,null,null,null,null,null,null,"Atrasado",null,null,null,0,0,{"$f":"IF(Table26[[#This Row],[Status Medida]]=\"Finalizado\",IF(Table26[[#This Row],[Sim/Não]]=1,1,0),0)","v":0}]
[null,null,null,null,null,null,null,null,null,null,null,"Atrasado",null,null,null,0,0,{"$f":"IF(Table26[[#This Row],[Status Medida]]=\"Finalizado\",IF(Table26[[#This Row],[Sim/Não]]=1,1,0),0)","v":0}]
[null,null,null,null,null,null,null,null,null,null,null,"Atrasado",null,null,null,0,0,{"$f":"IF(Table26[[#This Row],[Status Medida]]=\"Finalizado\",IF(Table26[[#This Row],[Sim/Não]]=1,1,0),0)","v":0}]
[null,null,null,null,null,null,null,null,null,null,null,"Atrasado",null,null,null,0,0,{"$f":"IF(Table26[[#This Row],[Status Medida]]=\"Finalizado\",IF(Table26[[#This Row],[Sim/Não]]=1,1,0),0)","v":0}]
[null,null,null,null,null,null,null,null,null,null,null,"Atrasado",null,null,null,0,0,{"$f":"IF(Table26[[#This Row],[Status Medida]]=\"Finalizado\",IF(Table26[[#This Row],[Sim/Não]]=1,1,0),0)","v":0}]
[null,null,null,null,null,null,null,null,null,null,null,"Atrasado",null,null,null,0,0,{"$f":"IF(Table26[[#This Row],[Status Medida]]=\"Finalizado\",IF(Table26[[#This Row],[Sim/Não]]=1,1,0),0)","v":0}]
[null,null,null,null,null,null,null,null,null,null,null,"Atrasado",null,null,null,0,0,{"$f":"IF(Table26[[#This Row],[Status Medida]]=\"Finalizado\",IF(Table26[[#This Row],[Sim/Não]]=1,1,0),0)","v":0}]
[null,null,null,null,null,null,null,null,null,null,null,"Atrasado",null,null,null,0,0,{"$f":"IF(Table26[[#This Row],[Status Medida]]=\"Finalizado\",IF(Table26[[#This Row],[Sim/Não]]=1,1,0),0)","v":0}]
[null,null,null,null,null,null,null,null,null,null,null,"Atrasado",null,null,null,0,0,{"$f":"IF(Table26[[#This Row],[Status Medida]]=\"Finalizado\",IF(Table26[[#This Row],[Sim/Não]]=1,1,0),0)","v":0}]
[null,null,null,null,null,null,null,null,null,null,null,"Atrasado",null,null,null,0,0,{"$f":"IF(Table26[[#This Row],[Status Medida]]=\"Finalizado\",IF(Table26[[#This Row],[Sim/Não]]=1,1,0),0)","v":0}]
[null,null,null,null,null,null,null,null,null,null,null,"Atrasado",null,null,null,0,0,{"$f":"IF(Table26[[#This Row],[Status Medida]]=\"Finalizado\",IF(Table26[[#This Row],[Sim/Não]]=1,1,0),0)","v":0}]
[null,null,null,null,null,null,null,null,null,null,null,"Atrasado",null,null,null,0,0,{"$f":"IF(Table26[[#This Row],[Status Medida]]=\"Finalizado\",IF(Table26[[#This Row],[Sim/Não]]=1,1,0),0)","v":0}]
[null,null,null,null,null,null,null,null,null,null,null,"Atrasado",null,null,null,0,0,{"$f":"IF(Table26[[#This Row],[Status Medida]]=\"Finalizado\",IF(Table26[[#This Row],[Sim/Não]]=1,1,0),0)","v":0}]
[null,null,null,null,null,null,null,null,null,null,null,"Atrasado",null,null,null,0,0,{"$f":"IF(Table26[[#This Row],[Status Medida]]=\"Finalizado\",IF(Table26[[#This Row],[Sim/Não]]=1,1,0),0)","v":0}]
[null,null,null,null,null,null,null,null,null,null,null,"Atrasado",null,null,null,0,0,{"$f":"IF(Table26[[#This Row],[Status Medida]]=\"Finalizado\",IF(Table26[[#This Row],[Sim/Não]]=1,1,0),0)","v":0}]
[null,null,null,null,null,null,null,null,null,null,null,"Atrasado",null,null,null,0,0,{"$f":"IF(Table26[[#This Row],[Status Medida]]=\"Finalizado\",IF(Table26[[#This Row],[Sim/Não]]=1,1,0),0)","v":0}]
[null,null,null,null,null,null,null,null,null,null,null,"Atrasado",null,null,null,0,0,{"$f":"IF(Table26[[#This Row],[Status Medida]]=\"Finalizado\",IF(Table26[[#This Row],[Sim/Não]]=1,1,0),0)","v":0}]
[null,null,null,null,null,null,null,null,null,null,null,"Atrasado",null,null,null,0,0,{"$f":"IF(Table26[[#This Row],[Status Medida]]=\"Finalizado\",IF(Table26[[#This Row],[Sim/Não]]=1,1,0),0)","v":0}]
[null,null,null,null,null,null,null,null,null,null,null,"Atrasado",null,null,null,0,0,{"$f":"IF(Table26[[#This Row],[Status Medida]]=\"Finalizado\",IF(Table26[[#This Row],[Sim/Não]]=1,1,0),0)","v":0}]
[null,null,null,null,null,null,null,null,null,null,null,"Atrasado",null,null,null,0,0,{"$f":"IF(Table26[[#This Row],[Status Medida]]=\"Finalizado\",IF(Table26[[#This Row],[Sim/Não]]=1,1,0),0)","v":0}]
[null,null,null,null,null,null,null,null,null,null,null,"Atrasado",null,null,null,0,0,{"$f":"IF(Table26[[#This Row],[Status Medida]]=\"Finalizado\",IF(Table26[[#This Row],[Sim/Não]]=1,1,0),0)","v":0}]
[null,null,null,null,null,null,null,null,null,null,null,"Atrasado",null,null,null,0,0,{"$f":"IF(Table26[[#This Row],[Status Medida]]=\"Finalizado\",IF(Table26[[#This Row],[Sim/Não]]=1,1,0),0)","v":0}]
[null,null,null,null,null,null,null,null,null,null,null,"Atrasado",null,null,null,0,0,{"$f":"IF(Table26[[#This Row],[Status Medida]]=\"Finalizado\",IF(Table26[[#This Row],[Sim/Não]]=1,1,0),0)","v":0}]
[null,null,null,null,null,null,null,null,null,null,null,"Atrasado",null,null,null,0,0,{"$f":"IF(Table26[[#This Row],[Status Medida]]=\"Finalizado\",IF(Table26[[#This Row],[Sim/Não]]=1,1,0),0)","v":0}]
[null,null,null,null,null,null,null,null,null,null,null,"Atrasado",null,null,null,0,0,{"$f":"IF(Table26[[#This Row],[Status Medida]]=\"Finalizado\",IF(Table26[[#This Row],[Sim/Não]]=1,1,0),0)","v":0}]
[null,null,null,null,null,null,null,null,null,null,null,"Atrasado",null,null,null,0,0,{"$f":"IF(Table26[[#This Row],[Status Medida]]=\"Finalizado\",IF(Table26[[#This Row],[Sim/Não]]=1,1,0),0)","v":0}]
[null,null,null,null,null,null,null,null,null,null,null,"Atrasado",null,null,null,0,0,{"$f":"IF(Table26[[#This Row],[Status Medida]]=\"Finalizado\",IF(Table26[[#This Row],[Sim/Não]]=1,1,0),0)","v":0}]
[null,null,null,null,null,null,null,null,null,null,null,"Atrasado",null,null,null,0,0,{"$f":"IF(Table26[[#This Row],[Status Medida]]=\"Finalizado\",IF(Table26[[#This Row],[Sim/Não]]=1,1,0),0)","v":0}]
[null,null,null,null,null,null,null,null,null,null,null,"Atrasado",null,null,null,0,0,{"$f":"IF(Table26[[#This Row],[Status Medida]]=\"Finalizado\",IF(Table26[[#This Row],[Sim/Não]]=1,1,0),0)","v":0}]
[null,null,null,null,null,null,null,null,null,null,null,"Atrasado",null,null,null,0,0,{"$f":"IF(Table26[[#This Row],[Status Medida]]=\"Finalizado\",IF(Table26[[#This Row],[Sim/Não]]=1,1,0),0)","v":0}]
[null,null,null,null,null,null,null,null,null,null,null,"Atrasado",null,null,null,0,0,{"$f":"IF(Table26[[#This Row],[Status Medida]]=\"Finalizado\",IF(Table26[[#This Row],[Sim/Não]]=1,1,0),0)","v":0}]
[null,null,null,null,null,null,null,null,null,null,null,"Atrasado",null,null,null,0,0,{"$f":"IF(Table26[[#This Row],[Status Medida]]=\"Finalizado\",IF(Table26[[#This Row],[Sim/Não]]=1,1,0),0)","v":0}]
[null,null,null,null,null,null,null,null,null,null,null,"Atrasado",null,null,null,0,0,{"$f":"IF(Table26[[#This Row],[Status Medida]]=\"Finalizado\",IF(Table26[[#This Row],[Sim/Não]]=1,1,0),0)","v":0}]
[null,null,null,null,null,null,null,null,null,null,null,"Atrasado",null,null,null,0,0,{"$f":"IF(Table26[[#This Row],[Status Medida]]=\"Finalizado\",IF(Table26[[#This Row],[Sim/Não]]=1,1,0),0)","v":0}]
[null,null,null,null,null,null,null,null,null,null,null,"Atrasado",null,null,null,0,0,{"$f":"IF(Table26[[#This Row],[Status Medida]]=\"Finalizado\",IF(Table26[[#This Row],[Sim/Não]]=1,1,0),0)","v":0}]
[null,null,null,null,null,null,null,null,null,null,null,"Atrasado",null,null,null,0,0,{"$f":"IF(Table26[[#This Row],[Status Medida]]=\"Finalizado\",IF(Table26[[#This Row],[Sim/Não]]=1,1,0),0)","v":0}]
[null,null,null,null,null,null,null,null,null,null,null,"Atrasado",null,null,null,0,0,{"$f":"IF(Table26[[#This Row],[Status Medida]]=\"Finalizado\",IF(Table26[[#This Row],[Sim/Não]]=1,1,0),0)","v":0}]
[null,null,null,null,null,null,null,null,null,null,null,"Atrasado",null,null,null,0,0,{"$f":"IF(Table26[[#This Row],[Status Medida]]=\"Finalizado\",IF(Table26[[#This Row],[Sim/Não]]=1,1,0),0)","v":0}]
[null,null,null,null,null,null,null,null,null,null,null,"Atrasado",null,null,null,0,0,{"$f":"IF(Table26[[#This Row],[Status Medida]]=\"Finalizado\",IF(Table26[[#This Row],[Sim/Não]]=1,1,0),0)","v":0}]
[null,null,null,null,null,null,null,null,null,null,null,"Atrasado",null,null,null,0,0,{"$f":"IF(Table26[[#This Row],[Status Medida]]=\"Finalizado\",IF(Table26[[#This Row],[Sim/Não]]=1,1,0),0)","v":0}]
[null,null,null,null,null,null,null,null,null,null,null,"Atrasado",null,null,null,0,0,{"$f":"IF(Table26[[#This Row],[Status Medida]]=\"Finalizado\",IF(Table26[[#This Row],[Sim/Não]]=1,1,0),0)","v":0}]
[null,null,null,null,null,null,null,null,null,null,null,"Atrasado",null,null,null,0,0,{"$f":"IF(Table26[[#This Row],[Status Medida]]=\"Finalizado\",IF(Table26[[#This Row],[Sim/Não]]=1,1,0),0)","v":0}]
[null,null,null,null,null,null,null,null,null,null,null,"Atrasado",null,null,null,0,0,{"$f":"IF(Table26[[#This Row],[Status Medida]]=\"Finalizado\",IF(Table26[[#This Row],[Sim/Não]]=1,1,0),0)","v":0}]
[null,null,null,null,null,null,null,null,null,null,null,"Atrasado",null,null,null,0,0,{"$f":"IF(Table26[[#This Row],[Status Medida]]=\"Finalizado\",IF(Table26[[#This Row],[Sim/Não]]=1,1,0),0)","v":0}]
[null,null,null,null,null,null,null,null,null,null,null,"Atrasado",null,null,null,0,0,{"$f":"IF(Table26[[#This Row],[Status Medida]]=\"Finalizado\",IF(Table26[[#This Row],[Sim/Não]]=1,1,0),0)","v":0}]
[null,null,null,null,null,null,null,null,null,null,null,"Atrasado",null,null,null,0,0,{"$f":"IF(Table26[[#This Row],[Status Medida]]=\"Finalizado\",IF(Table26[[#This Row],[Sim/Não]]=1,1,0),0)","v":0}]
[null,null,null,null,null,null,null,null,null,null,null,"Atrasado",null,null,null,0,0,{"$f":"IF(Table26[[#This Row],[Status Medida]]=\"Finalizado\",IF(Table26[[#This Row],[Sim/Não]]=1,1,0),0)","v":0}]
[null,null,null,null,null,null,null,null,null,null,null,"Atrasado",null,null,null,0,0,{"$f":"IF(Table26[[#This Row],[Status Medida]]=\"Finalizado\",IF(Table26[[#This Row],[Sim/Não]]=1,1,0),0)","v":0}]
[null,null,null,null,null,null,null,null,null,null,null,"Atrasado",null,null,null,0,0,{"$f":"IF(Table26[[#This Row],[Status Medida]]=\"Finalizado\",IF(Table26[[#This Row],[Sim/Não]]=1,1,0),0)","v":0}]
[null,null,null,null,null,null,null,null,null,null,null,"Atrasado",null,null,null,0,0,{"$f":"IF(Table26[[#This Row],[Status Medida]]=\"Finalizado\",IF(Table26[[#This Row],[Sim/Não]]=1,1,0),0)","v":0}]
[null,null,null,null,null,null,null,null,null,null,null,"Atrasado",null,null,null,0,0,{"$f":"IF(Table26[[#This Row],[Status Medida]]=\"Finalizado\",IF(Table26[[#This Row],[Sim/Não]]=1,1,0),0)","v":0}]
[null,null,null,null,null,null,null,null,null,null,null,"Atrasado",null,null,null,0,0,{"$f":"IF(Table26[[#This Row],[Status Medida]]=\"Finalizado\",IF(Table26[[#This Row],[Sim/Não]]=1,1,0),0)","v":0}]
[null,null,null,null,null,null,null,null,null,null,null,"Atrasado",null,null,null,0,0,{"$f":"IF(Table26[[#This Row],[Status Medida]]=\"Finalizado\",IF(Table26[[#This Row],[Sim/Não]]=1,1,0),0)","v":0}]
[null,null,null,null,null,null,null,null,null,null,null,"Atrasado",null,null,null,0,0,{"$f":"IF(Table26[[#This Row],[Status Medida]]=\"Finalizado\",IF(Table26[[#This Row],[Sim/Não]]=1,1,0),0)","v":0}]
[null,null,null,null,null,null,null,null,null,null,null,"Atrasado",null,null,null,0,0,{"$f":"IF(Table26[[#This Row],[Status Medida]]=\"Finalizado\",IF(Table26[[#This Row],[Sim/Não]]=1,1,0),0)","v":0}]
[null,null,null,null,null,null,null,null,null,null,null,"Atrasado",null,null,null,0,0,{"$f":"IF(Table26[[#This Row],[Status Medida]]=\"Finalizado\",IF(Table26[[#This Row],[Sim/Não]]=1,1,0),0)","v":0}]
[null,null,null,null,null,null,null,null,null,null,null,"Atrasado",null,null,null,0,0,{"$f":"IF(Table26[[#This Row],[Status Medida]]=\"Finalizado\",IF(Table26[[#This Row],[Sim/Não]]=1,1,0),0)","v":0}]
[null,null,null,null,null,null,null,null,null,null,null,"Atrasado",null,null,null,0,0,{"$f":"IF(Table26[[#This Row],[Status Medida]]=\"Finalizado\",IF(Table26[[#This Row],[Sim/Não]]=1,1,0),0)","v":0}]
[null,null,null,null,null,null,null,null,null,null,null,"Atrasado",null,null,null,0,0,{"$f":"IF(Table26[[#This Row],[Status Medida]]=\"Finalizado\",IF(Table26[[#This Row],[Sim/Não]]=1,1,0),0)","v":0}]
[null,null,null,null,null,null,null,null,null,null,null,"Atrasado",null,null,null,0,0,{"$f":"IF(Table26[[#This Row],[Status Medida]]=\"Finalizado\",IF(Table26[[#This Row],[Sim/Não]]=1,1,0),0)","v":0}]
[null,null,null,null,null,null,null,null,null,null,null,"Atrasado",null,null,null,0,0,{"$f":"IF(Table26[[#This Row],[Status Medida]]=\"Finalizado\",IF(Table26[[#This Row],[Sim/Não]]=1,1,0),0)","v":0}]
[null,null,null,null,null,null,null,null,null,null,null,"Atrasado",null,null,null,0,0,{"$f":"IF(Table26[[#This Row],[Status Medida]]=\"Finalizado\",IF(Table26[[#This Row],[Sim/Não]]=1,1,0),0)","v":0}]
[null,null,null,null,null,null,null,null,null,null,null,"Atrasado",null,null,null,0,0,{"$f":"IF(Table26[[#This Row],[Status Medida]]=\"Finalizado\",IF(Table26[[#This Row],[Sim/Não]]=1,1,0),0)","v":0}]
[null,null,null,null,null,null,null,null,null,null,null,"Atrasado",null,null,null,0,0,{"$f":"IF(Table26[[#This Row],[Status Medida]]=\"Finalizado\",IF(Table26[[#This Row],[Sim/Não]]=1,1,0),0)","v":0}]
[null,null,null,null,null,null,null,null,null,null,null,"Atrasado",null,null,null,0,0,{"$f":"IF(Table26[[#This Row],[Status Medida]]=\"Finalizado\",IF(Table26[[#This Row],[Sim/Não]]=1,1,0),0)","v":0}]
[null,null,null,null,null,null,null,null,null,null,null,"Atrasado",null,null,null,0,0,{"$f":"IF(Table26[[#This Row],[Status Medida]]=\"Finalizado\",IF(Table26[[#This Row],[Sim/Não]]=1,1,0),0)","v":0}]
[null,null,null,null,null,null,null,null,null,null,null,"Atrasado",null,null,null,0,0,{"$f":"IF(Table26[[#This Row],[Status Medida]]=\"Finalizado\",IF(Table26[[#This Row],[Sim/Não]]=1,1,0),0)","v":0}]
[null,null,null,null,null,null,null,null,null,null,null,"Atrasado",null,null,null,0,0,{"$f":"IF(Table26[[#This Row],[Status Medida]]=\"Finalizado\",IF(Table26[[#This Row],[Sim/Não]]=1,1,0),0)","v":0}]
[null,null,null,null,null,null,null,null,null,null,null,"Atrasado",null,null,null,0,0,{"$f":"IF(Table26[[#This Row],[Status Medida]]=\"Finalizado\",IF(Table26[[#This Row],[Sim/Não]]=1,1,0),0)","v":0}]
[null,null,null,null,null,null,null,null,null,null,null,"Atrasado",null,null,null,0,0,{"$f":"IF(Table26[[#This Row],[Status Medida]]=\"Finalizado\",IF(Table26[[#This Row],[Sim/Não]]=1,1,0),0)","v":0}]
[null,null,null,null,null,null,null,null,null,null,null,"Atrasado",null,null,null,0,0,{"$f":"IF(Table26[[#This Row],[Status Medida]]=\"Finalizado\",IF(Table26[[#This Row],[Sim/Não]]=1,1,0),0)","v":0}]
[null,null,null,null,null,null,null,null,null,null,null,"Atrasado",null,null,null,0,0,{"$f":"IF(Table26[[#This Row],[Status Medida]]=\"Finalizado\",IF(Table26[[#This Row],[Sim/Não]]=1,1,0),0)","v":0}]
[null,null,null,null,null,null,null,null,null,null,null,"Atrasado",null,null,null,0,0,{"$f":"IF(Table26[[#This Row],[Status Medida]]=\"Finalizado\",IF(Table26[[#This Row],[Sim/Não]]=1,1,0),0)","v":0}]
[null,null,null,null,null,null,null,null,null,null,null,"Atrasado",null,null,null,0,0,{"$f":"IF(Table26[[#This Row],[Status Medida]]=\"Finalizado\",IF(Table26[[#This Row],[Sim/Não]]=1,1,0),0)","v":0}]
[null,null,null,null,null,null,null,null,null,null,null,"Atrasado",null,null,null,0,0,{"$f":"IF(Table26[[#This Row],[Status Medida]]=\"Finalizado\",IF(Table26[[#This Row],[Sim/Não]]=1,1,0),0)","v":0}]
[null,null,null,null,null,null,null,null,null,null,null,"Atrasado",null,null,null,0,0,{"$f":"IF(Table26[[#This Row],[Status Medida]]=\"Finalizado\",IF(Table26[[#This Row],[Sim/Não]]=1,1,0),0)","v":0}]
[null,null,null,null,null,null,null,null,null,null,null,"Atrasado",null,null,null,0,0,{"$f":"IF(Table26[[#This Row],[Status Medida]]=\"Finalizado\",IF(Table26[[#This Row],[Sim/Não]]=1,1,0),0)","v":0}]
[null,null,null,null,null,null,null,null,null,null,null,"Atrasado",null,null,null,0,0,{"$f":"IF(Table26[[#This Row],[Status Medida]]=\"Finalizado\",IF(Table26[[#This Row],[Sim/Não]]=1,1,0),0)","v":0}]
[null,null,null,null,null,null,null,null,null,null,null,"Atrasado",null,null,null,0,0,{"$f":"IF(Table26[[#This Row],[Status Medida]]=\"Finalizado\",IF(Table26[[#This Row],[Sim/Não]]=1,1,0),0)","v":0}]
[null,null,null,null,null,null,null,null,null,null,null,"Atrasado",null,null,null,0,0,{"$f":"IF(Table26[[#This Row],[Status Medida]]=\"Finalizado\",IF(Table26[[#This Row],[Sim/Não]]=1,1,0),0)","v":0}]
[null,null,null,null,null,null,null,null,null,null,null,"Atrasado",null,null,null,0,0,{"$f":"IF(Table26[[#This Row],[Status Medida]]=\"Finalizado\",IF(Table26[[#This Row],[Sim/Não]]=1,1,0),0)","v":0}]
[null,null,null,null,null,null,null,null,null,null,null,"Atrasado",null,null,null,0,0,{"$f":"IF(Table26[[#This Row],[Status Medida]]=\"Finalizado\",IF(Table26[[#This Row],[Sim/Não]]=1,1,0),0)","v":0}]
[null,null,null,null,null,null,null,null,null,null,null,"Atrasado",null,null,null,0,0,{"$f":"IF(Table26[[#This Row],[Status Medida]]=\"Finalizado\",IF(Table26[[#This Row],[Sim/Não]]=1,1,0),0)","v":0}]
[null,null,null,null,null,null,null,null,null,null,null,"Atrasado",null,null,null,0,0,{"$f":"IF(Table26[[#This Row],[Status Medida]]=\"Finalizado\",IF(Table26[[#This Row],[Sim/Não]]=1,1,0),0)","v":0}]
[null,null,null,null,null,null,null,null,null,null,null,"Atrasado",null,null,null,0,0,{"$f":"IF(Table26[[#This Row],[Status Medida]]=\"Finalizado\",IF(Table26[[#This Row],[Sim/Não]]=1,1,0),0)","v":0}]
[null,null,null,null,null,null,null,null,null,null,null,{"$f":"IF(J3566>K3566,\"Datas inválidas\",IF(M3566=\"Finalizado\",\"Concluído\",IF(J3566>TODAY(),\"Não iniciado\",_xlfn.IFS(J3566=TODAY(),\"Em andamento\",TODAY()>K3566,\"Atrasado\",AND(TODAY()>J3566,TODAY()<=K3566),\"Em andamento\"))))","v":"Atrasado"},null,null,null,{"$f":"IF(O3566=\"Sim\",1,0)","v":0},{"$f":"IF(N3566=E3566,0,1)","v":0},{"$f":"IF(Table26[[#This Row],[Status Medida]]=\"Finalizado\",IF(Table26[[#This Row],[Sim/Não]]=1,1,0),0)","v":0}]
[null,null,null,null,null,null,null,null,null,null,null,"Atrasado",null,null,null,0,0,{"$f":"IF(Table26[[#This Row],[Status Medida]]=\"Finalizado\",IF(Table26[[#This Row],[Sim/Não]]=1,1,0),0)","v":0}]
[null,null,null,null,null,null,null,null,null,null,null,"Atrasado",null,null,null,0,0,{"$f":"IF(Table26[[#This Row],[Status Medida]]=\"Finalizado\",IF(Table26[[#This Row],[Sim/Não]]=1,1,0),0)","v":0}]
[null,null,null,null,null,null,null,null,null,null,null,"Atrasado",null,null,null,0,0,{"$f":"IF(Table26[[#This Row],[Status Medida]]=\"Finalizado\",IF(Table26[[#This Row],[Sim/Não]]=1,1,0),0)","v":0}]
[null,null,null,null,null,null,null,null,null,null,null,"Atrasado",null,null,null,0,0,{"$f":"IF(Table26[[#This Row],[Status Medida]]=\"Finalizado\",IF(Table26[[#This Row],[Sim/Não]]=1,1,0),0)","v":0}]
[null,null,null,null,null,null,null,null,null,null,null,"Atrasado",null,null,null,0,0,{"$f":"IF(Table26[[#This Row],[Status Medida]]=\"Finalizado\",IF(Table26[[#This Row],[Sim/Não]]=1,1,0),0)","v":0}]
[null,null,null,null,null,null,null,null,null,null,null,"Atrasado",null,null,null,0,0,{"$f":"IF(Table26[[#This Row],[Status Medida]]=\"Finalizado\",IF(Table26[[#This Row],[Sim/Não]]=1,1,0),0)","v":0}]
[null,null,null,null,null,null,null,null,null,null,null,"Atrasado",null,null,null,0,0,{"$f":"IF(Table26[[#This Row],[Status Medida]]=\"Finalizado\",IF(Table26[[#This Row],[Sim/Não]]=1,1,0),0)","v":0}]
[null,null,null,null,null,null,null,null,null,null,null,"Atrasado",null,null,null,0,0,{"$f":"IF(Table26[[#This Row],[Status Medida]]=\"Finalizado\",IF(Table26[[#This Row],[Sim/Não]]=1,1,0),0)","v":0}]
[null,null,null,null,null,null,null,null,null,null,null,"Atrasado",null,null,null,0,0,{"$f":"IF(Table26[[#This Row],[Status Medida]]=\"Finalizado\",IF(Table26[[#This Row],[Sim/Não]]=1,1,0),0)","v":0}]
[null,null,null,null,null,null,null,null,null,null,null,"Atrasado",null,null,null,0,0,{"$f":"IF(Table26[[#This Row],[Status Medida]]=\"Finalizado\",IF(Table26[[#This Row],[Sim/Não]]=1,1,0),0)","v":0}]
[null,null,null,null,null,null,null,null,null,null,null,"Atrasado",null,null,null,0,0,{"$f":"IF(Table26[[#This Row],[Status Medida]]=\"Finalizado\",IF(Table26[[#This Row],[Sim/Não]]=1,1,0),0)","v":0}]
[null,null,null,null,null,null,null,null,null,null,null,"Atrasado",null,null,null,0,0,{"$f":"IF(Table26[[#This Row],[Status Medida]]=\"Finalizado\",IF(Table26[[#This Row],[Sim/Não]]=1,1,0),0)","v":0}]
[null,null,null,null,null,null,null,null,null,null,null,"Atrasado",null,null,null,0,0,{"$f":"IF(Table26[[#This Row],[Status Medida]]=\"Finalizado\",IF(Table26[[#This Row],[Sim/Não]]=1,1,0),0)","v":0}]
[null,null,null,null,null,null,null,null,null,null,null,{"$f":"IF(J3630>K3630,\"Datas inválidas\",IF(M3630=\"Finalizado\",\"Concluído\",IF(J3630>TODAY(),\"Não iniciado\",_xlfn.IFS(J3630=TODAY(),\"Em andamento\",TODAY()>K3630,\"Atrasado\",AND(TODAY()>J3630,TODAY()<=K3630),\"Em andamento\"))))","v":"Atrasado"},null,null,null,{"$f":"IF(O3630=\"Sim\",1,0)","v":0},{"$f":"IF(N3630=E3630,0,1)","v":0},{"$f":"IF(Table26[[#This Row],[Status Medida]]=\"Finalizado\",IF(Table26[[#This Row],[Sim/Não]]=1,1,0),0)","v":0}]
[null,null,null,null,null,null,null,null,null,null,null,"Atrasado",null,null,null,0,0,{"$f":"IF(Table26[[#This Row],[Status Medida]]=\"Finalizado\",IF(Table26[[#This Row],[Sim/Não]]=1,1,0),0)","v":0}]
[null,null,null,null,null,null,null,null,null,null,null,"Atrasado",null,null,null,0,0,{"$f":"IF(Table26[[#This Row],[Status Medida]]=\"Finalizado\",IF(Table26[[#This Row],[Sim/Não]]=1,1,0),0)","v":0}]
[null,null,null,null,null,null,null,null,null,null,null,"Atrasado",null,null,null,0,0,{"$f":"IF(Table26[[#This Row],[Status Medida]]=\"Finalizado\",IF(Table26[[#This Row],[Sim/Não]]=1,1,0),0)","v":0}]
[null,null,null,null,null,null,null,null,null,null,null,"Atrasado",null,null,null,0,0,{"$f":"IF(Table26[[#This Row],[Status Medida]]=\"Finalizado\",IF(Table26[[#This Row],[Sim/Não]]=1,1,0),0)","v":0}]
[null,null,null,null,null,null,null,null,null,null,null,"Atrasado",null,null,null,0,0,{"$f":"IF(Table26[[#This Row],[Status Medida]]=\"Finalizado\",IF(Table26[[#This Row],[Sim/Não]]=1,1,0),0)","v":0}]
[null,null,null,null,null,null,null,null,null,null,null,"Atrasado",null,null,null,0,0,{"$f":"IF(Table26[[#This Row],[Status Medida]]=\"Finalizado\",IF(Table26[[#This Row],[Sim/Não]]=1,1,0),0)","v":0}]
[null,null,null,null,null,null,null,null,null,null,null,"Atrasado",null,null,null,0,0,{"$f":"IF(Table26[[#This Row],[Status Medida]]=\"Finalizado\",IF(Table26[[#This Row],[Sim/Não]]=1,1,0),0)","v":0}]
[null,null,null,null,null,null,null,null,null,null,null,"Atrasado",null,null,null,0,0,{"$f":"IF(Table26[[#This Row],[Status Medida]]=\"Finalizado\",IF(Table26[[#This Row],[Sim/Não]]=1,1,0),0)","v":0}]
[null,null,null,null,null,null,null,null,null,null,null,"Atrasado",null,null,null,0,0,{"$f":"IF(Table26[[#This Row],[Status Medida]]=\"Finalizado\",IF(Table26[[#This Row],[Sim/Não]]=1,1,0),0)","v":0}]
[null,null,null,null,null,null,null,null,null,null,null,"Atrasado",null,null,null,0,0,{"$f":"IF(Table26[[#This Row],[Status Medida]]=\"Finalizado\",IF(Table26[[#This Row],[Sim/Não]]=1,1,0),0)","v":0}]
[null,null,null,null,null,null,null,null,null,null,null,"Atrasado",null,null,null,0,0,{"$f":"IF(Table26[[#This Row],[Status Medida]]=\"Finalizado\",IF(Table26[[#This Row],[Sim/Não]]=1,1,0),0)","v":0}]
[null,null,null,null,null,null,null,null,null,null,null,"Atrasado",null,null,null,0,0,{"$f":"IF(Table26[[#This Row],[Status Medida]]=\"Finalizado\",IF(Table26[[#This Row],[Sim/Não]]=1,1,0),0)","v":0}]
[null,null,null,null,null,null,null,null,null,null,null,"Atrasado",null,null,null,0,0,{"$f":"IF(Table26[[#This Row],[Status Medida]]=\"Finalizado\",IF(Table26[[#This Row],[Sim/Não]]=1,1,0),0)","v":0}]
[null,null,null,null,null,null,null,null,null,null,null,"Atrasado",null,null,null,0,0,{"$f":"IF(Table26[[#This Row],[Status Medida]]=\"Finalizado\",IF(Table26[[#This Row],[Sim/Não]]=1,1,0),0)","v":0}]
[null,null,null,null,null,null,null,null,null,null,null,"Atrasado",null,null,null,0,0,{"$f":"IF(Table26[[#This Row],[Status Medida]]=\"Finalizado\",IF(Table26[[#This Row],[Sim/Não]]=1,1,0),0)","v":0}]
[null,null,null,null,null,null,null,null,null,null,null,"Atrasado",null,null,null,0,0,{"$f":"IF(Table26[[#This Row],[Status Medida]]=\"Finalizado\",IF(Table26[[#This Row],[Sim/Não]]=1,1,0),0)","v":0}]
[null,null,null,null,null,null,null,null,null,null,null,"Atrasado",null,null,null,0,0,{"$f":"IF(Table26[[#This Row],[Status Medida]]=\"Finalizado\",IF(Table26[[#This Row],[Sim/Não]]=1,1,0),0)","v":0}]
[null,null,null,null,null,null,null,null,null,null,null,"Atrasado",null,null,null,0,0,{"$f":"IF(Table26[[#This Row],[Status Medida]]=\"Finalizado\",IF(Table26[[#This Row],[Sim/Não]]=1,1,0),0)","v":0}]
[null,null,null,null,null,null,null,null,null,null,null,"Atrasado",null,null,null,0,0,{"$f":"IF(Table26[[#This Row],[Status Medida]]=\"Finalizado\",IF(Table26[[#This Row],[Sim/Não]]=1,1,0),0)","v":0}]
[null,null,null,null,null,null,null,null,null,null,null,"Atrasado",null,null,null,0,0,{"$f":"IF(Table26[[#This Row],[Status Medida]]=\"Finalizado\",IF(Table26[[#This Row],[Sim/Não]]=1,1,0),0)","v":0}]
[null,null,null,null,null,null,null,null,null,null,null,"Atrasado",null,null,null,0,0,{"$f":"IF(Table26[[#This Row],[Status Medida]]=\"Finalizado\",IF(Table26[[#This Row],[Sim/Não]]=1,1,0),0)","v":0}]
[null,null,null,null,null,null,null,null,null,null,null,"Atrasado",null,null,null,0,0,{"$f":"IF(Table26[[#This Row],[Status Medida]]=\"Finalizado\",IF(Table26[[#This Row],[Sim/Não]]=1,1,0),0)","v":0}]
[null,null,null,null,null,null,null,null,null,null,null,"Atrasado",null,null,null,0,0,{"$f":"IF(Table26[[#This Row],[Status Medida]]=\"Finalizado\",IF(Table26[[#This Row],[Sim/Não]]=1,1,0),0)","v":0}]
[null,null,null,null,null,null,null,null,null,null,null,"Atrasado",null,null,null,0,0,{"$f":"IF(Table26[[#This Row],[Status Medida]]=\"Finalizado\",IF(Table26[[#This Row],[Sim/Não]]=1,1,0),0)","v":0}]
[null,null,null,null,null,null,null,null,null,null,null,"Atrasado",null,null,null,0,0,{"$f":"IF(Table26[[#This Row],[Status Medida]]=\"Finalizado\",IF(Table26[[#This Row],[Sim/Não]]=1,1,0),0)","v":0}]
[null,null,null,null,null,null,null,null,null,null,null,"Atrasado",null,null,null,0,0,{"$f":"IF(Table26[[#This Row],[Status Medida]]=\"Finalizado\",IF(Table26[[#This Row],[Sim/Não]]=1,1,0),0)","v":0}]
[null,null,null,null,null,null,null,null,null,null,null,"Atrasado",null,null,null,0,0,{"$f":"IF(Table26[[#This Row],[Status Medida]]=\"Finalizado\",IF(Table26[[#This Row],[Sim/Não]]=1,1,0),0)","v":0}]
[null,null,null,null,null,null,null,null,null,null,null,"Atrasado",null,null,null,0,0,{"$f":"IF(Table26[[#This Row],[Status Medida]]=\"Finalizado\",IF(Table26[[#This Row],[Sim/Não]]=1,1,0),0)","v":0}]
[null,null,null,null,null,null,null,null,null,null,null,{"$f":"IF(J3758>K3758,\"Datas inválidas\",IF(M3758=\"Finalizado\",\"Concluído\",IF(J3758>TODAY(),\"Não iniciado\",_xlfn.IFS(J3758=TODAY(),\"Em andamento\",TODAY()>K3758,\"Atrasado\",AND(TODAY()>J3758,TODAY()<=K3758),\"Em andamento\"))))","v":"Atrasado"},null,null,null,{"$f":"IF(O3758=\"Sim\",1,0)","v":0},{"$f":"IF(N3758=E3758,0,1)","v":0},{"$f":"IF(Table26[[#This Row],[Status Medida]]=\"Finalizado\",IF(Table26[[#This Row],[Sim/Não]]=1,1,0),0)","v":0}]
[null,null,null,null,null,null,null,null,null,null,null,"Atrasado",null,null,null,0,0,{"$f":"IF(Table26[[#This Row],[Status Medida]]=\"Finalizado\",IF(Table26[[#This Row],[Sim/Não]]=1,1,0),0)","v":0}]
[null,null,null,null,null,null,null,null,null,null,null,"Atrasado",null,null,null,0,0,{"$f":"IF(Table26[[#This Row],[Status Medida]]=\"Finalizado\",IF(Table26[[#This Row],[Sim/Não]]=1,1,0),0)","v":0}]
[null,null,null,null,null,null,null,null,null,null,null,"Atrasado",null,null,null,0,0,{"$f":"IF(Table26[[#This Row],[Status Medida]]=\"Finalizado\",IF(Table26[[#This Row],[Sim/Não]]=1,1,0),0)","v":0}]
[null,null,null,null,null,null,null,null,null,null,null,"Atrasado",null,null,null,0,0,{"$f":"IF(Table26[[#This Row],[Status Medida]]=\"Finalizado\",IF(Table26[[#This Row],[Sim/Não]]=1,1,0),0)","v":0}]
[null,null,null,null,null,null,null,null,null,null,null,"Atrasado",null,null,null,0,0,{"$f":"IF(Table26[[#This Row],[Status Medida]]=\"Finalizado\",IF(Table26[[#This Row],[Sim/Não]]=1,1,0),0)","v":0}]
[null,null,null,null,null,null,null,null,null,null,null,"Atrasado",null,null,null,0,0,{"$f":"IF(Table26[[#This Row],[Status Medida]]=\"Finalizado\",IF(Table26[[#This Row],[Sim/Não]]=1,1,0),0)","v":0}]
[null,null,null,null,null,null,null,null,null,null,null,"Atrasado",null,null,null,0,0,{"$f":"IF(Table26[[#This Row],[Status Medida]]=\"Finalizado\",IF(Table26[[#This Row],[Sim/Não]]=1,1,0),0)","v":0}]
[null,null,null,null,null,null,null,null,null,null,null,"Atrasado",null,null,null,0,0,{"$f":"IF(Table26[[#This Row],[Status Medida]]=\"Finalizado\",IF(Table26[[#This Row],[Sim/Não]]=1,1,0),0)","v":0}]
[null,null,null,null,null,null,null,null,null,null,null,"Atrasado",null,null,null,0,0,{"$f":"IF(Table26[[#This Row],[Status Medida]]=\"Finalizado\",IF(Table26[[#This Row],[Sim/Não]]=1,1,0),0)","v":0}]
[null,null,null,null,null,null,null,null,null,null,null,"Atrasado",null,null,null,0,0,{"$f":"IF(Table26[[#This Row],[Status Medida]]=\"Finalizado\",IF(Table26[[#This Row],[Sim/Não]]=1,1,0),0)","v":0}]
[null,null,null,null,null,null,null,null,null,null,null,"Atrasado",null,null,null,0,0,{"$f":"IF(Table26[[#This Row],[Status Medida]]=\"Finalizado\",IF(Table26[[#This Row],[Sim/Não]]=1,1,0),0)","v":0}]
[null,null,null,null,null,null,null,null,null,null,null,"Atrasado",null,null,null,0,0,{"$f":"IF(Table26[[#This Row],[Status Medida]]=\"Finalizado\",IF(Table26[[#This Row],[Sim/Não]]=1,1,0),0)","v":0}]
[null,null,null,null,null,null,null,null,null,null,null,"Atrasado",null,null,null,0,0,{"$f":"IF(Table26[[#This Row],[Status Medida]]=\"Finalizado\",IF(Table26[[#This Row],[Sim/Não]]=1,1,0),0)","v":0}]
[null,null,null,null,null,null,null,null,null,null,null,"Atrasado",null,null,null,0,0,{"$f":"IF(Table26[[#This Row],[Status Medida]]=\"Finalizado\",IF(Table26[[#This Row],[Sim/Não]]=1,1,0),0)","v":0}]
[null,null,null,null,null,null,null,null,null,null,null,"Atrasado",null,null,null,0,0,{"$f":"IF(Table26[[#This Row],[Status Medida]]=\"Finalizado\",IF(Table26[[#This Row],[Sim/Não]]=1,1,0),0)","v":0}]
[null,null,null,null,null,null,null,null,null,null,null,"Atrasado",null,null,null,0,0,{"$f":"IF(Table26[[#This Row],[Status Medida]]=\"Finalizado\",IF(Table26[[#This Row],[Sim/Não]]=1,1,0),0)","v":0}]
[null,null,null,null,null,null,null,null,null,null,null,"Atrasado",null,null,null,0,0,{"$f":"IF(Table26[[#This Row],[Status Medida]]=\"Finalizado\",IF(Table26[[#This Row],[Sim/Não]]=1,1,0),0)","v":0}]
[null,null,null,null,null,null,null,null,null,null,null,"Atrasado",null,null,null,0,0,{"$f":"IF(Table26[[#This Row],[Status Medida]]=\"Finalizado\",IF(Table26[[#This Row],[Sim/Não]]=1,1,0),0)","v":0}]
[null,null,null,null,null,null,null,null,null,null,null,"Atrasado",null,null,null,0,0,{"$f":"IF(Table26[[#This Row],[Status Medida]]=\"Finalizado\",IF(Table26[[#This Row],[Sim/Não]]=1,1,0),0)","v":0}]
[null,null,null,null,null,null,null,null,null,null,null,"Atrasado",null,null,null,0,0,{"$f":"IF(Table26[[#This Row],[Status Medida]]=\"Finalizado\",IF(Table26[[#This Row],[Sim/Não]]=1,1,0),0)","v":0}]
[null,null,null,null,null,null,null,null,null,null,null,"Atrasado",null,null,null,0,0,{"$f":"IF(Table26[[#This Row],[Status Medida]]=\"Finalizado\",IF(Table26[[#This Row],[Sim/Não]]=1,1,0),0)","v":0}]
[null,null,null,null,null,null,null,null,null,null,null,"Atrasado",null,null,null,0,0,{"$f":"IF(Table26[[#This Row],[Status Medida]]=\"Finalizado\",IF(Table26[[#This Row],[Sim/Não]]=1,1,0),0)","v":0}]
[null,null,null,null,null,null,null,null,null,null,null,"Atrasado",null,null,null,0,0,{"$f":"IF(Table26[[#This Row],[Status Medida]]=\"Finalizado\",IF(Table26[[#This Row],[Sim/Não]]=1,1,0),0)","v":0}]
[null,null,null,null,null,null,null,null,null,null,null,"Atrasado",null,null,null,0,0,{"$f":"IF(Table26[[#This Row],[Status Medida]]=\"Finalizado\",IF(Table26[[#This Row],[Sim/Não]]=1,1,0),0)","v":0}]
[null,null,null,null,null,null,null,null,null,null,null,"Atrasado",null,null,null,0,0,{"$f":"IF(Table26[[#This Row],[Status Medida]]=\"Finalizado\",IF(Table26[[#This Row],[Sim/Não]]=1,1,0),0)","v":0}]
[null,null,null,null,null,null,null,null,null,null,null,"Atrasado",null,null,null,0,0,{"$f":"IF(Table26[[#This Row],[Status Medida]]=\"Finalizado\",IF(Table26[[#This Row],[Sim/Não]]=1,1,0),0)","v":0}]
[null,null,null,null,null,null,null,null,null,null,null,"Atrasado",null,null,null,0,0,{"$f":"IF(Table26[[#This Row],[Status Medida]]=\"Finalizado\",IF(Table26[[#This Row],[Sim/Não]]=1,1,0),0)","v":0}]
[null,null,null,null,null,null,null,null,null,null,null,"Atrasado",null,null,null,0,0,{"$f":"IF(Table26[[#This Row],[Status Medida]]=\"Finalizado\",IF(Table26[[#This Row],[Sim/Não]]=1,1,0),0)","v":0}]
[null,null,null,null,null,null,null,null,null,null,null,"Atrasado",null,null,null,0,0,{"$f":"IF(Table26[[#This Row],[Status Medida]]=\"Finalizado\",IF(Table26[[#This Row],[Sim/Não]]=1,1,0),0)","v":0}]
[null,null,null,null,null,null,null,null,null,null,null,"Atrasado",null,null,null,0,0,{"$f":"IF(Table26[[#This Row],[Status Medida]]=\"Finalizado\",IF(Table26[[#This Row],[Sim/Não]]=1,1,0),0)","v":0}]
[null,null,null,null,null,null,null,null,null,null,null,"Atrasado",null,null,null,0,0,{"$f":"IF(Table26[[#This Row],[Status Medida]]=\"Finalizado\",IF(Table26[[#This Row],[Sim/Não]]=1,1,0),0)","v":0}]
[null,null,null,null,null,null,null,null,null,null,null,"Atrasado",null,null,null,0,0,{"$f":"IF(Table26[[#This Row],[Status Medida]]=\"Finalizado\",IF(Table26[[#This Row],[Sim/Não]]=1,1,0),0)","v":0}]
[null,null,null,null,null,null,null,null,null,null,null,"Atrasado",null,null,null,0,0,{"$f":"IF(Table26[[#This Row],[Status Medida]]=\"Finalizado\",IF(Table26[[#This Row],[Sim/Não]]=1,1,0),0)","v":0}]
[null,null,null,null,null,null,null,null,null,null,null,"Atrasado",null,null,null,0,0,{"$f":"IF(Table26[[#This Row],[Status Medida]]=\"Finalizado\",IF(Table26[[#This Row],[Sim/Não]]=1,1,0),0)","v":0}]
[null,null,null,null,null,null,null,null,null,null,null,"Atrasado",null,null,null,0,0,{"$f":"IF(Table26[[#This Row],[Status Medida]]=\"Finalizado\",IF(Table26[[#This Row],[Sim/Não]]=1,1,0),0)","v":0}]
[null,null,null,null,null,null,null,null,null,null,null,"Atrasado",null,null,null,0,0,{"$f":"IF(Table26[[#This Row],[Status Medida]]=\"Finalizado\",IF(Table26[[#This Row],[Sim/Não]]=1,1,0),0)","v":0}]
[null,null,null,null,null,null,null,null,null,null,null,"Atrasado",null,null,null,0,0,{"$f":"IF(Table26[[#This Row],[Status Medida]]=\"Finalizado\",IF(Table26[[#This Row],[Sim/Não]]=1,1,0),0)","v":0}]
[null,null,null,null,null,null,null,null,null,null,null,"Atrasado",null,null,null,0,0,{"$f":"IF(Table26[[#This Row],[Status Medida]]=\"Finalizado\",IF(Table26[[#This Row],[Sim/Não]]=1,1,0),0)","v":0}]
[null,null,null,null,null,null,null,null,null,null,null,"Atrasado",null,null,null,0,0,{"$f":"IF(Table26[[#This Row],[Status Medida]]=\"Finalizado\",IF(Table26[[#This Row],[Sim/Não]]=1,1,0),0)","v":0}]
[null,null,null,null,null,null,null,null,null,null,null,"Atrasado",null,null,null,0,0,{"$f":"IF(Table26[[#This Row],[Status Medida]]=\"Finalizado\",IF(Table26[[#This Row],[Sim/Não]]=1,1,0),0)","v":0}]
[null,null,null,null,null,null,null,null,null,null,null,"Atrasado",null,null,null,0,0,{"$f":"IF(Table26[[#This Row],[Status Medida]]=\"Finalizado\",IF(Table26[[#This Row],[Sim/Não]]=1,1,0),0)","v":0}]
[null,null,null,null,null,null,null,null,null,null,null,"Atrasado",null,null,null,0,0,{"$f":"IF(Table26[[#This Row],[Status Medida]]=\"Finalizado\",IF(Table26[[#This Row],[Sim/Não]]=1,1,0),0)","v":0}]
[null,null,null,null,null,null,null,null,null,null,null,"Atrasado",null,null,null,0,0,{"$f":"IF(Table26[[#This Row],[Status Medida]]=\"Finalizado\",IF(Table26[[#This Row],[Sim/Não]]=1,1,0),0)","v":0}]
[null,null,null,null,null,null,null,null,null,null,null,"Atrasado",null,null,null,0,0,{"$f":"IF(Table26[[#This Row],[Status Medida]]=\"Finalizado\",IF(Table26[[#This Row],[Sim/Não]]=1,1,0),0)","v":0}]
[null,null,null,null,null,null,null,null,null,null,null,{"$f":"IF(J3958>K3958,\"Datas inválidas\",IF(M3958=\"Finalizado\",\"Concluído\",IF(J3958>TODAY(),\"Não iniciado\",_xlfn.IFS(J3958=TODAY(),\"Em andamento\",TODAY()>K3958,\"Atrasado\",AND(TODAY()>J3958,TODAY()<=K3958),\"Em andamento\"))))","v":"Atrasado"},null,null,null,{"$f":"IF(O3958=\"Sim\",1,0)","v":0},{"$f":"IF(N3958=E3958,0,1)","v":0},{"$f":"IF(Table26[[#This Row],[Status Medida]]=\"Finalizado\",IF(Table26[[#This Row],[Sim/Não]]=1,1,0),0)","v":0}]
[null,null,null,null,null,null,null,null,null,null,null,"Atrasado",null,null,null,0,0,{"$f":"IF(Table26[[#This Row],[Status Medida]]=\"Finalizado\",IF(Table26[[#This Row],[Sim/Não]]=1,1,0),0)","v":0}]
[null,null,null,null,null,null,null,null,null,null,null,"Atrasado",null,null,null,0,0,{"$f":"IF(Table26[[#This Row],[Status Medida]]=\"Finalizado\",IF(Table26[[#This Row],[Sim/Não]]=1,1,0),0)","v":0}]
[null,null,null,null,null,null,null,null,null,null,null,"Atrasado",null,null,null,0,0,{"$f":"IF(Table26[[#This Row],[Status Medida]]=\"Finalizado\",IF(Table26[[#This Row],[Sim/Não]]=1,1,0),0)","v":0}]
[null,null,null,null,null,null,null,null,null,null,null,"Atrasado",null,null,null,0,0,{"$f":"IF(Table26[[#This Row],[Status Medida]]=\"Finalizado\",IF(Table26[[#This Row],[Sim/Não]]=1,1,0),0)","v":0}]
[null,null,null,null,null,null,null,null,null,null,null,"Atrasado",null,null,null,0,0,{"$f":"IF(Table26[[#This Row],[Status Medida]]=\"Finalizado\",IF(Table26[[#This Row],[Sim/Não]]=1,1,0),0)","v":0}]
[null,null,null,null,null,null,null,null,null,null,null,"Atrasado",null,null,null,0,0,{"$f":"IF(Table26[[#This Row],[Status Medida]]=\"Finalizado\",IF(Table26[[#This Row],[Sim/Não]]=1,1,0),0)","v":0}]
[null,null,null,null,null,null,null,null,null,null,null,"Atrasado",null,null,null,0,0,{"$f":"IF(Table26[[#This Row],[Status Medida]]=\"Finalizado\",IF(Table26[[#This Row],[Sim/Não]]=1,1,0),0)","v":0}]
[null,null,null,null,null,null,null,null,null,null,null,"Atrasado",null,null,null,0,0,{"$f":"IF(Table26[[#This Row],[Status Medida]]=\"Finalizado\",IF(Table26[[#This Row],[Sim/Não]]=1,1,0),0)","v":0}]
[null,null,null,null,null,null,null,null,null,null,null,"Atrasado",null,null,null,0,0,{"$f":"IF(Table26[[#This Row],[Status Medida]]=\"Finalizado\",IF(Table26[[#This Row],[Sim/Não]]=1,1,0),0)","v":0}]
[null,null,null,null,null,null,null,null,null,null,null,"Atrasado",null,null,null,0,0,{"$f":"IF(Table26[[#This Row],[Status Medida]]=\"Finalizado\",IF(Table26[[#This Row],[Sim/Não]]=1,1,0),0)","v":0}]
[null,null,null,null,null,null,null,null,null,null,null,"Atrasado",null,null,null,0,0,{"$f":"IF(Table26[[#This Row],[Status Medida]]=\"Finalizado\",IF(Table26[[#This Row],[Sim/Não]]=1,1,0),0)","v":0}]
[null,null,null,null,null,null,null,null,null,null,null,"Atrasado",null,null,null,0,0,{"$f":"IF(Table26[[#This Row],[Status Medida]]=\"Finalizado\",IF(Table26[[#This Row],[Sim/Não]]=1,1,0),0)","v":0}]
[null,null,null,null,null,null,null,null,null,null,null,"Atrasado",null,null,null,0,0,{"$f":"IF(Table26[[#This Row],[Status Medida]]=\"Finalizado\",IF(Table26[[#This Row],[Sim/Não]]=1,1,0),0)","v":0}]
[null,null,null,null,null,null,null,null,null,null,null,"Atrasado",null,null,null,0,0,{"$f":"IF(Table26[[#This Row],[Status Medida]]=\"Finalizado\",IF(Table26[[#This Row],[Sim/Não]]=1,1,0),0)","v":0}]
[null,null,null,null,null,null,null,null,null,null,null,"Atrasado",null,null,null,0,0,{"$f":"IF(Table26[[#This Row],[Status Medida]]=\"Finalizado\",IF(Table26[[#This Row],[Sim/Não]]=1,1,0),0)","v":0}]
[null,null,null,null,null,null,null,null,null,null,null,"Atrasado",null,null,null,0,0,{"$f":"IF(Table26[[#This Row],[Status Medida]]=\"Finalizado\",IF(Table26[[#This Row],[Sim/Não]]=1,1,0),0)","v":0}]
[null,null,null,null,null,null,null,null,null,null,null,"Atrasado",null,null,null,0,0,{"$f":"IF(Table26[[#This Row],[Status Medida]]=\"Finalizado\",IF(Table26[[#This Row],[Sim/Não]]=1,1,0),0)","v":0}]
[null,null,null,null,null,null,null,null,null,null,null,"Atrasado",null,null,null,0,0,{"$f":"IF(Table26[[#This Row],[Status Medida]]=\"Finalizado\",IF(Table26[[#This Row],[Sim/Não]]=1,1,0),0)","v":0}]
[null,null,null,null,null,null,null,null,null,null,null,"Atrasado",null,null,null,0,0,{"$f":"IF(Table26[[#This Row],[Status Medida]]=\"Finalizado\",IF(Table26[[#This Row],[Sim/Não]]=1,1,0),0)","v":0}]
[null,null,null,null,null,null,null,null,null,null,null,"Atrasado",null,null,null,0,0,{"$f":"IF(Table26[[#This Row],[Status Medida]]=\"Finalizado\",IF(Table26[[#This Row],[Sim/Não]]=1,1,0),0)","v":0}]
[null,null,null,null,null,null,null,null,null,null,null,"Atrasado",null,null,null,0,0,{"$f":"IF(Table26[[#This Row],[Status Medida]]=\"Finalizado\",IF(Table26[[#This Row],[Sim/Não]]=1,1,0),0)","v":0}]
[null,null,null,null,null,null,null,null,null,null,null,"Atrasado",null,null,null,0,0,{"$f":"IF(Table26[[#This Row],[Status Medida]]=\"Finalizado\",IF(Table26[[#This Row],[Sim/Não]]=1,1,0),0)","v":0}]
[null,null,null,null,null,null,null,null,null,null,null,"Atrasado",null,null,null,0,0,{"$f":"IF(Table26[[#This Row],[Status Medida]]=\"Finalizado\",IF(Table26[[#This Row],[Sim/Não]]=1,1,0),0)","v":0}]
[null,null,null,null,null,null,null,null,null,null,null,"Atrasado",null,null,null,0,0,{"$f":"IF(Table26[[#This Row],[Status Medida]]=\"Finalizado\",IF(Table26[[#This Row],[Sim/Não]]=1,1,0),0)","v":0}]
[null,null,null,null,null,null,null,null,null,null,null,"Atrasado",null,null,null,0,0,{"$f":"IF(Table26[[#This Row],[Status Medida]]=\"Finalizado\",IF(Table26[[#This Row],[Sim/Não]]=1,1,0),0)","v":0}]
[null,null,null,null,null,null,null,null,null,null,null,"Atrasado",null,null,null,0,0,{"$f":"IF(Table26[[#This Row],[Status Medida]]=\"Finalizado\",IF(Table26[[#This Row],[Sim/Não]]=1,1,0),0)","v":0}]
[null,null,null,null,null,null,null,null,null,null,null,"Atrasado",null,null,null,0,0,{"$f":"IF(Table26[[#This Row],[Status Medida]]=\"Finalizado\",IF(Table26[[#This Row],[Sim/Não]]=1,1,0),0)","v":0}]
[null,null,null,null,null,null,null,null,null,null,null,"Atrasado",null,null,null,0,0,{"$f":"IF(Table26[[#This Row],[Status Medida]]=\"Finalizado\",IF(Table26[[#This Row],[Sim/Não]]=1,1,0),0)","v":0}]
[null,null,null,null,null,null,null,null,null,null,null,"Atrasado",null,null,null,0,0,{"$f":"IF(Table26[[#This Row],[Status Medida]]=\"Finalizado\",IF(Table26[[#This Row],[Sim/Não]]=1,1,0),0)","v":0}]
[null,null,null,null,null,null,null,null,null,null,null,"Atrasado",null,null,null,0,0,{"$f":"IF(Table26[[#This Row],[Status Medida]]=\"Finalizado\",IF(Table26[[#This Row],[Sim/Não]]=1,1,0),0)","v":0}]
[null,null,null,null,null,null,null,null,null,null,null,"Atrasado",null,null,null,0,0,{"$f":"IF(Table26[[#This Row],[Status Medida]]=\"Finalizado\",IF(Table26[[#This Row],[Sim/Não]]=1,1,0),0)","v":0}]
[null,null,null,null,null,null,null,null,null,null,null,"Atrasado",null,null,null,0,0,{"$f":"IF(Table26[[#This Row],[Status Medida]]=\"Finalizado\",IF(Table26[[#This Row],[Sim/Não]]=1,1,0),0)","v":0}]
[null,null,null,null,null,null,null,null,null,null,null,"Atrasado",null,null,null,0,0,{"$f":"IF(Table26[[#This Row],[Status Medida]]=\"Finalizado\",IF(Table26[[#This Row],[Sim/Não]]=1,1,0),0)","v":0}]
[null,null,null,null,null,null,null,null,null,null,null,"Atrasado",null,null,null,0,0,{"$f":"IF(Table26[[#This Row],[Status Medida]]=\"Finalizado\",IF(Table26[[#This Row],[Sim/Não]]=1,1,0),0)","v":0}]
[null,null,null,null,null,null,null,null,null,null,null,"Atrasado",null,null,null,0,0,{"$f":"IF(Table26[[#This Row],[Status Medida]]=\"Finalizado\",IF(Table26[[#This Row],[Sim/Não]]=1,1,0),0)","v":0}]
[null,null,null,null,null,null,null,null,null,null,null,"Atrasado",null,null,null,0,0,{"$f":"IF(Table26[[#This Row],[Status Medida]]=\"Finalizado\",IF(Table26[[#This Row],[Sim/Não]]=1,1,0),0)","v":0}]
[null,null,null,null,null,null,null,null,null,null,null,"Atrasado",null,null,null,0,0,{"$f":"IF(Table26[[#This Row],[Status Medida]]=\"Finalizado\",IF(Table26[[#This Row],[Sim/Não]]=1,1,0),0)","v":0}]
[null,null,null,null,null,null,null,null,null,null,null,"Atrasado",null,null,null,0,0,{"$f":"IF(Table26[[#This Row],[Status Medida]]=\"Finalizado\",IF(Table26[[#This Row],[Sim/Não]]=1,1,0),0)","v":0}]
[null,null,null,null,null,null,null,null,null,null,null,"Atrasado",null,null,null,0,0,{"$f":"IF(Table26[[#This Row],[Status Medida]]=\"Finalizado\",IF(Table26[[#This Row],[Sim/Não]]=1,1,0),0)","v":0}]
[null,null,null,null,null,null,null,null,null,null,null,"Atrasado",null,null,null,0,0,{"$f":"IF(Table26[[#This Row],[Status Medida]]=\"Finalizado\",IF(Table26[[#This Row],[Sim/Não]]=1,1,0),0)","v":0}]
[null,null,null,null,null,null,null,null,null,null,null,"Atrasado",null,null,null,0,0,{"$f":"IF(Table26[[#This Row],[Status Medida]]=\"Finalizado\",IF(Table26[[#This Row],[Sim/Não]]=1,1,0),0)","v":0}]
[null,null,null,null,null,null,null,null,null,null,null,"Atrasado",null,null,null,0,0,{"$f":"IF(Table26[[#This Row],[Status Medida]]=\"Finalizado\",IF(Table26[[#This Row],[Sim/Não]]=1,1,0),0)","v":0}]
[null,null,null,null,null,null,null,null,null,null,null,"Atrasado",null,null,null,0,0,{"$f":"IF(Table26[[#This Row],[Status Medida]]=\"Finalizado\",IF(Table26[[#This Row],[Sim/Não]]=1,1,0),0)","v":0}]
[null,null,null,null,null,null,null,null,null,null,null,"Atrasado",null,null,null,0,0,{"$f":"IF(Table26[[#This Row],[Status Medida]]=\"Finalizado\",IF(Table26[[#This Row],[Sim/Não]]=1,1,0),0)","v":0}]
[null,null,null,null,null,null,null,null,null,null,null,"Atrasado",null,null,null,0,0,{"$f":"IF(Table26[[#This Row],[Status Medida]]=\"Finalizado\",IF(Table26[[#This Row],[Sim/Não]]=1,1,0),0)","v":0}]
[null,null,null,null,null,null,null,null,null,null,null,"Atrasado",null,null,null,0,0,{"$f":"IF(Table26[[#This Row],[Status Medida]]=\"Finalizado\",IF(Table26[[#This Row],[Sim/Não]]=1,1,0),0)","v":0}]
[null,null,null,null,null,null,null,null,null,null,null,"Atrasado",null,null,null,0,0,{"$f":"IF(Table26[[#This Row],[Status Medida]]=\"Finalizado\",IF(Table26[[#This Row],[Sim/Não]]=1,1,0),0)","v":0}]
[null,null,null,null,null,null,null,null,null,null,null,"Atrasado",null,null,null,0,0,{"$f":"IF(Table26[[#This Row],[Status Medida]]=\"Finalizado\",IF(Table26[[#This Row],[Sim/Não]]=1,1,0),0)","v":0}]
[null,null,null,null,null,null,null,null,null,null,null,"Atrasado",null,null,null,0,0,{"$f":"IF(Table26[[#This Row],[Status Medida]]=\"Finalizado\",IF(Table26[[#This Row],[Sim/Não]]=1,1,0),0)","v":0}]
[null,null,null,null,null,null,null,null,null,null,null,"Atrasado",null,null,null,0,0,{"$f":"IF(Table26[[#This Row],[Status Medida]]=\"Finalizado\",IF(Table26[[#This Row],[Sim/Não]]=1,1,0),0)","v":0}]
[null,null,null,null,null,null,null,null,null,null,null,"Atrasado",null,null,null,0,0,{"$f":"IF(Table26[[#This Row],[Status Medida]]=\"Finalizado\",IF(Table26[[#This Row],[Sim/Não]]=1,1,0),0)","v":0}]
[null,null,null,null,null,null,null,null,null,null,null,"Atrasado",null,null,null,0,0,{"$f":"IF(Table26[[#This Row],[Status Medida]]=\"Finalizado\",IF(Table26[[#This Row],[Sim/Não]]=1,1,0),0)","v":0}]
[null,null,null,null,null,null,null,null,null,null,null,"Atrasado",null,null,null,0,0,{"$f":"IF(Table26[[#This Row],[Status Medida]]=\"Finalizado\",IF(Table26[[#This Row],[Sim/Não]]=1,1,0),0)","v":0}]
[null,null,null,null,null,null,null,null,null,null,null,"Atrasado",null,null,null,0,0,{"$f":"IF(Table26[[#This Row],[Status Medida]]=\"Finalizado\",IF(Table26[[#This Row],[Sim/Não]]=1,1,0),0)","v":0}]
[null,null,null,null,null,null,null,null,null,null,null,"Atrasado",null,null,null,0,0,{"$f":"IF(Table26[[#This Row],[Status Medida]]=\"Finalizado\",IF(Table26[[#This Row],[Sim/Não]]=1,1,0),0)","v":0}]
[null,null,null,null,null,null,null,null,null,null,null,"Atrasado",null,null,null,0,0,{"$f":"IF(Table26[[#This Row],[Status Medida]]=\"Finalizado\",IF(Table26[[#This Row],[Sim/Não]]=1,1,0),0)","v":0}]
[null,null,null,null,null,null,null,null,null,null,null,"Atrasado",null,null,null,0,0,{"$f":"IF(Table26[[#This Row],[Status Medida]]=\"Finalizado\",IF(Table26[[#This Row],[Sim/Não]]=1,1,0),0)","v":0}]
[null,null,null,null,null,null,null,null,null,null,null,"Atrasado",null,null,null,0,0,{"$f":"IF(Table26[[#This Row],[Status Medida]]=\"Finalizado\",IF(Table26[[#This Row],[Sim/Não]]=1,1,0),0)","v":0}]
[null,null,null,null,null,null,null,null,null,null,null,"Atrasado",null,null,null,0,0,{"$f":"IF(Table26[[#This Row],[Status Medida]]=\"Finalizado\",IF(Table26[[#This Row],[Sim/Não]]=1,1,0),0)","v":0}]
[null,null,null,null,null,null,null,null,null,null,null,"Atrasado",null,null,null,0,0,{"$f":"IF(Table26[[#This Row],[Status Medida]]=\"Finalizado\",IF(Table26[[#This Row],[Sim/Não]]=1,1,0),0)","v":0}]
[null,null,null,null,null,null,null,null,null,null,null,"Atrasado",null,null,null,0,0,{"$f":"IF(Table26[[#This Row],[Status Medida]]=\"Finalizado\",IF(Table26[[#This Row],[Sim/Não]]=1,1,0),0)","v":0}]
[null,null,null,null,null,null,null,null,null,null,null,"Atrasado",null,null,null,0,0,{"$f":"IF(Table26[[#This Row],[Status Medida]]=\"Finalizado\",IF(Table26[[#This Row],[Sim/Não]]=1,1,0),0)","v":0}]
[null,null,null,null,null,null,null,null,null,null,null,"Atrasado",null,null,null,0,0,{"$f":"IF(Table26[[#This Row],[Status Medida]]=\"Finalizado\",IF(Table26[[#This Row],[Sim/Não]]=1,1,0),0)","v":0}]
[null,null,null,null,null,null,null,null,null,null,null,"Atrasado",null,null,null,0,0,{"$f":"IF(Table26[[#This Row],[Status Medida]]=\"Finalizado\",IF(Table26[[#This Row],[Sim/Não]]=1,1,0),0)","v":0}]
[null,null,null,null,null,null,null,null,null,null,null,"Atrasado",null,null,null,0,0,{"$f":"IF(Table26[[#This Row],[Status Medida]]=\"Finalizado\",IF(Table26[[#This Row],[Sim/Não]]=1,1,0),0)","v":0}]
[null,null,null,null,null,null,null,null,null,null,null,"Atrasado",null,null,null,0,0,{"$f":"IF(Table26[[#This Row],[Status Medida]]=\"Finalizado\",IF(Table26[[#This Row],[Sim/Não]]=1,1,0),0)","v":0}]
[null,null,null,null,null,null,null,null,null,null,null,"Atrasado",null,null,null,0,0,{"$f":"IF(Table26[[#This Row],[Status Medida]]=\"Finalizado\",IF(Table26[[#This Row],[Sim/Não]]=1,1,0),0)","v":0}]
[null,null,null,null,null,null,null,null,null,null,null,"Atrasado",null,null,null,0,0,{"$f":"IF(Table26[[#This Row],[Status Medida]]=\"Finalizado\",IF(Table26[[#This Row],[Sim/Não]]=1,1,0),0)","v":0}]
[null,null,null,null,null,null,null,null,null,null,null,"Atrasado",null,null,null,0,0,{"$f":"IF(Table26[[#This Row],[Status Medida]]=\"Finalizado\",IF(Table26[[#This Row],[Sim/Não]]=1,1,0),0)","v":0}]
[null,null,null,null,null,null,null,null,null,null,null,"Atrasado",null,null,null,0,0,{"$f":"IF(Table26[[#This Row],[Status Medida]]=\"Finalizado\",IF(Table26[[#This Row],[Sim/Não]]=1,1,0),0)","v":0}]
[null,null,null,null,null,null,null,null,null,null,null,"Atrasado",null,null,null,0,0,{"$f":"IF(Table26[[#This Row],[Status Medida]]=\"Finalizado\",IF(Table26[[#This Row],[Sim/Não]]=1,1,0),0)","v":0}]
[null,null,null,null,null,null,null,null,null,null,null,"Atrasado",null,null,null,0,0,{"$f":"IF(Table26[[#This Row],[Status Medida]]=\"Finalizado\",IF(Table26[[#This Row],[Sim/Não]]=1,1,0),0)","v":0}]
[null,null,null,null,null,null,null,null,null,null,null,"Atrasado",null,null,null,0,0,{"$f":"IF(Table26[[#This Row],[Status Medida]]=\"Finalizado\",IF(Table26[[#This Row],[Sim/Não]]=1,1,0),0)","v":0}]
[null,null,null,null,null,null,null,null,null,null,null,"Atrasado",null,null,null,0,0,{"$f":"IF(Table26[[#This Row],[Status Medida]]=\"Finalizado\",IF(Table26[[#This Row],[Sim/Não]]=1,1,0),0)","v":0}]
[null,null,null,null,null,null,null,null,null,null,null,"Atrasado",null,null,null,0,0,{"$f":"IF(Table26[[#This Row],[Status Medida]]=\"Finalizado\",IF(Table26[[#This Row],[Sim/Não]]=1,1,0),0)","v":0}]
[null,null,null,null,null,null,null,null,null,null,null,"Atrasado",null,null,null,0,0,{"$f":"IF(Table26[[#This Row],[Status Medida]]=\"Finalizado\",IF(Table26[[#This Row],[Sim/Não]]=1,1,0),0)","v":0}]
[null,null,null,null,null,null,null,null,null,null,null,"Atrasado",null,null,null,0,0,{"$f":"IF(Table26[[#This Row],[Status Medida]]=\"Finalizado\",IF(Table26[[#This Row],[Sim/Não]]=1,1,0),0)","v":0}]
[null,null,null,null,null,null,null,null,null,null,null,"Atrasado",null,null,null,0,0,{"$f":"IF(Table26[[#This Row],[Status Medida]]=\"Finalizado\",IF(Table26[[#This Row],[Sim/Não]]=1,1,0),0)","v":0}]
[null,null,null,null,null,null,null,null,null,null,null,"Atrasado",null,null,null,0,0,{"$f":"IF(Table26[[#This Row],[Status Medida]]=\"Finalizado\",IF(Table26[[#This Row],[Sim/Não]]=1,1,0),0)","v":0}]
[null,null,null,null,null,null,null,null,null,null,null,"Atrasado",null,null,null,0,0,{"$f":"IF(Table26[[#This Row],[Status Medida]]=\"Finalizado\",IF(Table26[[#This Row],[Sim/Não]]=1,1,0),0)","v":0}]
[null,null,null,null,null,null,null,null,null,null,null,{"$f":"IF(J4323>K4323,\"Datas inválidas\",IF(M4323=\"Finalizado\",\"Concluído\",IF(J4323>TODAY(),\"Não iniciado\",_xlfn.IFS(J4323=TODAY(),\"Em andamento\",TODAY()>K4323,\"Atrasado\",AND(TODAY()>J4323,TODAY()<=K4323),\"Em andamento\"))))","v":"Atrasado"},null,null,null,{"$f":"IF(O4323=\"Sim\",1,0)","v":0},{"$f":"IF(N4323=E4323,0,1)","v":0},{"$f":"IF(Table26[[#This Row],[Status Medida]]=\"Finalizado\",IF(Table26[[#This Row],[Sim/Não]]=1,1,0),0)","v":0}]
[null,null,null,null,null,null,null,null,null,null,null,"Atrasado",null,null,null,0,0,{"$f":"IF(Table26[[#This Row],[Status Medida]]=\"Finalizado\",IF(Table26[[#This Row],[Sim/Não]]=1,1,0),0)","v":0}]
[null,null,null,null,null,null,null,null,null,null,null,"Atrasado",null,null,null,0,0,{"$f":"IF(Table26[[#This Row],[Status Medida]]=\"Finalizado\",IF(Table26[[#This Row],[Sim/Não]]=1,1,0),0)","v":0}]
[null,null,null,null,null,null,null,null,null,null,null,"Atrasado",null,null,null,0,0,{"$f":"IF(Table26[[#This Row],[Status Medida]]=\"Finalizado\",IF(Table26[[#This Row],[Sim/Não]]=1,1,0),0)","v":0}]
[null,null,null,null,null,null,null,null,null,null,null,"Atrasado",null,null,null,0,0,{"$f":"IF(Table26[[#This Row],[Status Medida]]=\"Finalizado\",IF(Table26[[#This Row],[Sim/Não]]=1,1,0),0)","v":0}]
[null,null,null,null,null,null,null,null,null,null,null,"Atrasado",null,null,null,0,0,{"$f":"IF(Table26[[#This Row],[Status Medida]]=\"Finalizado\",IF(Table26[[#This Row],[Sim/Não]]=1,1,0),0)","v":0}]
[null,null,null,null,null,null,null,null,null,null,null,"Atrasado",null,null,null,0,0,{"$f":"IF(Table26[[#This Row],[Status Medida]]=\"Finalizado\",IF(Table26[[#This Row],[Sim/Não]]=1,1,0),0)","v":0}]
[null,null,null,null,null,null,null,null,null,null,null,"Atrasado",null,null,null,0,0,{"$f":"IF(Table26[[#This Row],[Status Medida]]=\"Finalizado\",IF(Table26[[#This Row],[Sim/Não]]=1,1,0),0)","v":0}]
[null,null,null,null,null,null,null,null,null,null,null,"Atrasado",null,null,null,0,0,{"$f":"IF(Table26[[#This Row],[Status Medida]]=\"Finalizado\",IF(Table26[[#This Row],[Sim/Não]]=1,1,0),0)","v":0}]
[null,null,null,null,null,null,null,null,null,null,null,"Atrasado",null,null,null,0,0,{"$f":"IF(Table26[[#This Row],[Status Medida]]=\"Finalizado\",IF(Table26[[#This Row],[Sim/Não]]=1,1,0),0)","v":0}]
[null,null,null,null,null,null,null,null,null,null,null,"Atrasado",null,null,null,0,0,{"$f":"IF(Table26[[#This Row],[Status Medida]]=\"Finalizado\",IF(Table26[[#This Row],[Sim/Não]]=1,1,0),0)","v":0}]
[null,null,null,null,null,null,null,null,null,null,null,"Atrasado",null,null,null,0,0,{"$f":"IF(Table26[[#This Row],[Status Medida]]=\"Finalizado\",IF(Table26[[#This Row],[Sim/Não]]=1,1,0),0)","v":0}]
[null,null,null,null,null,null,null,null,null,null,null,"Atrasado",null,null,null,0,0,{"$f":"IF(Table26[[#This Row],[Status Medida]]=\"Finalizado\",IF(Table26[[#This Row],[Sim/Não]]=1,1,0),0)","v":0}]
[null,null,null,null,null,null,null,null,null,null,null,"Atrasado",null,null,null,0,0,{"$f":"IF(Table26[[#This Row],[Status Medida]]=\"Finalizado\",IF(Table26[[#This Row],[Sim/Não]]=1,1,0),0)","v":0}]
[null,null,null,null,null,null,null,null,null,null,null,"Atrasado",null,null,null,0,0,{"$f":"IF(Table26[[#This Row],[Status Medida]]=\"Finalizado\",IF(Table26[[#This Row],[Sim/Não]]=1,1,0),0)","v":0}]
[null,null,null,null,null,null,null,null,null,null,null,"Atrasado",null,null,null,0,0,{"$f":"IF(Table26[[#This Row],[Status Medida]]=\"Finalizado\",IF(Table26[[#This Row],[Sim/Não]]=1,1,0),0)","v":0}]
[null,null,null,null,null,null,null,null,null,null,null,"Atrasado",null,null,null,0,0,{"$f":"IF(Table26[[#This Row],[Status Medida]]=\"Finalizado\",IF(Table26[[#This Row],[Sim/Não]]=1,1,0),0)","v":0}]
[null,null,null,null,null,null,null,null,null,null,null,"Atrasado",null,null,null,0,0,{"$f":"IF(Table26[[#This Row],[Status Medida]]=\"Finalizado\",IF(Table26[[#This Row],[Sim/Não]]=1,1,0),0)","v":0}]
[null,null,null,null,null,null,null,null,null,null,null,"Atrasado",null,null,null,0,0,{"$f":"IF(Table26[[#This Row],[Status Medida]]=\"Finalizado\",IF(Table26[[#This Row],[Sim/Não]]=1,1,0),0)","v":0}]
[null,null,null,null,null,null,null,null,null,null,null,"Atrasado",null,null,null,0,0,{"$f":"IF(Table26[[#This Row],[Status Medida]]=\"Finalizado\",IF(Table26[[#This Row],[Sim/Não]]=1,1,0),0)","v":0}]
[null,null,null,null,null,null,null,null,null,null,null,"Atrasado",null,null,null,0,0,{"$f":"IF(Table26[[#This Row],[Status Medida]]=\"Finalizado\",IF(Table26[[#This Row],[Sim/Não]]=1,1,0),0)","v":0}]
[null,null,null,null,null,null,null,null,null,null,null,"Atrasado",null,null,null,0,0,{"$f":"IF(Table26[[#This Row],[Status Medida]]=\"Finalizado\",IF(Table26[[#This Row],[Sim/Não]]=1,1,0),0)","v":0}]
[null,null,null,null,null,null,null,null,null,null,null,"Atrasado",null,null,null,0,0,{"$f":"IF(Table26[[#This Row],[Status Medida]]=\"Finalizado\",IF(Table26[[#This Row],[Sim/Não]]=1,1,0),0)","v":0}]
[null,null,null,null,null,null,null,null,null,null,null,"Atrasado",null,null,null,0,0,{"$f":"IF(Table26[[#This Row],[Status Medida]]=\"Finalizado\",IF(Table26[[#This Row],[Sim/Não]]=1,1,0),0)","v":0}]
[null,null,null,null,null,null,null,null,null,null,null,"Atrasado",null,null,null,0,0,{"$f":"IF(Table26[[#This Row],[Status Medida]]=\"Finalizado\",IF(Table26[[#This Row],[Sim/Não]]=1,1,0),0)","v":0}]
[null,null,null,null,null,null,null,null,null,null,null,"Atrasado",null,null,null,0,0,{"$f":"IF(Table26[[#This Row],[Status Medida]]=\"Finalizado\",IF(Table26[[#This Row],[Sim/Não]]=1,1,0),0)","v":0}]
[null,null,null,null,null,null,null,null,null,null,null,"Atrasado",null,null,null,0,0,{"$f":"IF(Table26[[#This Row],[Status Medida]]=\"Finalizado\",IF(Table26[[#This Row],[Sim/Não]]=1,1,0),0)","v":0}]
[null,null,null,null,null,null,null,null,null,null,null,"Atrasado",null,null,null,0,0,{"$f":"IF(Table26[[#This Row],[Status Medida]]=\"Finalizado\",IF(Table26[[#This Row],[Sim/Não]]=1,1,0),0)","v":0}]
[null,null,null,null,null,null,null,null,null,null,null,"Atrasado",null,null,null,0,0,{"$f":"IF(Table26[[#This Row],[Status Medida]]=\"Finalizado\",IF(Table26[[#This Row],[Sim/Não]]=1,1,0),0)","v":0}]
[null,null,null,null,null,null,null,null,null,null,null,"Atrasado",null,null,null,0,0,{"$f":"IF(Table26[[#This Row],[Status Medida]]=\"Finalizado\",IF(Table26[[#This Row],[Sim/Não]]=1,1,0),0)","v":0}]
[null,null,null,null,null,null,null,null,null,null,null,"Atrasado",null,null,null,0,0,{"$f":"IF(Table26[[#This Row],[Status Medida]]=\"Finalizado\",IF(Table26[[#This Row],[Sim/Não]]=1,1,0),0)","v":0}]
[null,null,null,null,null,null,null,null,null,null,null,"Atrasado",null,null,null,0,0,{"$f":"IF(Table26[[#This Row],[Status Medida]]=\"Finalizado\",IF(Table26[[#This Row],[Sim/Não]]=1,1,0),0)","v":0}]
[null,null,null,null,null,null,null,null,null,null,null,"Atrasado",null,null,null,0,0,{"$f":"IF(Table26[[#This Row],[Status Medida]]=\"Finalizado\",IF(Table26[[#This Row],[Sim/Não]]=1,1,0),0)","v":0}]
[null,null,null,null,null,null,null,null,null,null,null,"Atrasado",null,null,null,0,0,{"$f":"IF(Table26[[#This Row],[Status Medida]]=\"Finalizado\",IF(Table26[[#This Row],[Sim/Não]]=1,1,0),0)","v":0}]
[null,null,null,null,null,null,null,null,null,null,null,"Atrasado",null,null,null,0,0,{"$f":"IF(Table26[[#This Row],[Status Medida]]=\"Finalizado\",IF(Table26[[#This Row],[Sim/Não]]=1,1,0),0)","v":0}]
[null,null,null,null,null,null,null,null,null,null,null,"Atrasado",null,null,null,0,0,{"$f":"IF(Table26[[#This Row],[Status Medida]]=\"Finalizado\",IF(Table26[[#This Row],[Sim/Não]]=1,1,0),0)","v":0}]
[null,null,null,null,null,null,null,null,null,null,null,"Atrasado",null,null,null,0,0,{"$f":"IF(Table26[[#This Row],[Status Medida]]=\"Finalizado\",IF(Table26[[#This Row],[Sim/Não]]=1,1,0),0)","v":0}]
[null,null,null,null,null,null,null,null,null,null,null,"Atrasado",null,null,null,0,0,{"$f":"IF(Table26[[#This Row],[Status Medida]]=\"Finalizado\",IF(Table26[[#This Row],[Sim/Não]]=1,1,0),0)","v":0}]
[null,null,null,null,null,null,null,null,null,null,null,"Atrasado",null,null,null,0,0,{"$f":"IF(Table26[[#This Row],[Status Medida]]=\"Finalizado\",IF(Table26[[#This Row],[Sim/Não]]=1,1,0),0)","v":0}]
[null,null,null,null,null,null,null,null,null,null,null,"Atrasado",null,null,null,0,0,{"$f":"IF(Table26[[#This Row],[Status Medida]]=\"Finalizado\",IF(Table26[[#This Row],[Sim/Não]]=1,1,0),0)","v":0}]
[null,null,null,null,null,null,null,null,null,null,null,"Atrasado",null,null,null,0,0,{"$f":"IF(Table26[[#This Row],[Status Medida]]=\"Finalizado\",IF(Table26[[#This Row],[Sim/Não]]=1,1,0),0)","v":0}]
[null,null,null,null,null,null,null,null,null,null,null,"Atrasado",null,null,null,0,0,{"$f":"IF(Table26[[#This Row],[Status Medida]]=\"Finalizado\",IF(Table26[[#This Row],[Sim/Não]]=1,1,0),0)","v":0}]
[null,null,null,null,null,null,null,null,null,null,null,"Atrasado",null,null,null,0,0,{"$f":"IF(Table26[[#This Row],[Status Medida]]=\"Finalizado\",IF(Table26[[#This Row],[Sim/Não]]=1,1,0),0)","v":0}]
[null,null,null,null,null,null,null,null,null,null,null,"Atrasado",null,null,null,0,0,{"$f":"IF(Table26[[#This Row],[Status Medida]]=\"Finalizado\",IF(Table26[[#This Row],[Sim/Não]]=1,1,0),0)","v":0}]
[null,null,null,null,null,null,null,null,null,null,null,"Atrasado",null,null,null,0,0,{"$f":"IF(Table26[[#This Row],[Status Medida]]=\"Finalizado\",IF(Table26[[#This Row],[Sim/Não]]=1,1,0),0)","v":0}]
[null,null,null,null,null,null,null,null,null,null,null,"Atrasado",null,null,null,0,0,{"$f":"IF(Table26[[#This Row],[Status Medida]]=\"Finalizado\",IF(Table26[[#This Row],[Sim/Não]]=1,1,0),0)","v":0}]
[null,null,null,null,null,null,null,null,null,null,null,"Atrasado",null,null,null,0,0,{"$f":"IF(Table26[[#This Row],[Status Medida]]=\"Finalizado\",IF(Table26[[#This Row],[Sim/Não]]=1,1,0),0)","v":0}]
[null,null,null,null,null,null,null,null,null,null,null,"Atrasado",null,null,null,0,0,{"$f":"IF(Table26[[#This Row],[Status Medida]]=\"Finalizado\",IF(Table26[[#This Row],[Sim/Não]]=1,1,0),0)","v":0}]
[null,null,null,null,null,null,null,null,null,null,null,"Atrasado",null,null,null,0,0,{"$f":"IF(Table26[[#This Row],[Status Medida]]=\"Finalizado\",IF(Table26[[#This Row],[Sim/Não]]=1,1,0),0)","v":0}]
[null,null,null,null,null,null,null,null,null,null,null,"Atrasado",null,null,null,0,0,{"$f":"IF(Table26[[#This Row],[Status Medida]]=\"Finalizado\",IF(Table26[[#This Row],[Sim/Não]]=1,1,0),0)","v":0}]
[null,null,null,null,null,null,null,null,null,null,null,"Atrasado",null,null,null,0,0,{"$f":"IF(Table26[[#This Row],[Status Medida]]=\"Finalizado\",IF(Table26[[#This Row],[Sim/Não]]=1,1,0),0)","v":0}]
[null,null,null,null,null,null,null,null,null,null,null,"Atrasado",null,null,null,0,0,{"$f":"IF(Table26[[#This Row],[Status Medida]]=\"Finalizado\",IF(Table26[[#This Row],[Sim/Não]]=1,1,0),0)","v":0}]
[null,null,null,null,null,null,null,null,null,null,null,"Atrasado",null,null,null,0,0,{"$f":"IF(Table26[[#This Row],[Status Medida]]=\"Finalizado\",IF(Table26[[#This Row],[Sim/Não]]=1,1,0),0)","v":0}]
[null,null,null,null,null,null,null,null,null,null,null,"Atrasado",null,null,null,0,0,{"$f":"IF(Table26[[#This Row],[Status Medida]]=\"Finalizado\",IF(Table26[[#This Row],[Sim/Não]]=1,1,0),0)","v":0}]
[null,null,null,null,null,null,null,null,null,null,null,"Atrasado",null,null,null,0,0,{"$f":"IF(Table26[[#This Row],[Status Medida]]=\"Finalizado\",IF(Table26[[#This Row],[Sim/Não]]=1,1,0),0)","v":0}]
[null,null,null,null,null,null,null,null,null,null,null,"Atrasado",null,null,null,0,0,{"$f":"IF(Table26[[#This Row],[Status Medida]]=\"Finalizado\",IF(Table26[[#This Row],[Sim/Não]]=1,1,0),0)","v":0}]
[null,null,null,null,null,null,null,null,null,null,null,"Atrasado",null,null,null,0,0,{"$f":"IF(Table26[[#This Row],[Status Medida]]=\"Finalizado\",IF(Table26[[#This Row],[Sim/Não]]=1,1,0),0)","v":0}]
[null,null,null,null,null,null,null,null,null,null,null,"Atrasado",null,null,null,0,0,{"$f":"IF(Table26[[#This Row],[Status Medida]]=\"Finalizado\",IF(Table26[[#This Row],[Sim/Não]]=1,1,0),0)","v":0}]
[null,null,null,null,null,null,null,null,null,null,null,"Atrasado",null,null,null,0,0,{"$f":"IF(Table26[[#This Row],[Status Medida]]=\"Finalizado\",IF(Table26[[#This Row],[Sim/Não]]=1,1,0),0)","v":0}]
[null,null,null,null,null,null,null,null,null,null,null,"Atrasado",null,null,null,0,0,{"$f":"IF(Table26[[#This Row],[Status Medida]]=\"Finalizado\",IF(Table26[[#This Row],[Sim/Não]]=1,1,0),0)","v":0}]
[null,null,null,null,null,null,null,null,null,null,null,"Atrasado",null,null,null,0,0,{"$f":"IF(Table26[[#This Row],[Status Medida]]=\"Finalizado\",IF(Table26[[#This Row],[Sim/Não]]=1,1,0),0)","v":0}]
[null,null,null,null,null,null,null,null,null,null,null,"Atrasado",null,null,null,0,0,{"$f":"IF(Table26[[#This Row],[Status Medida]]=\"Finalizado\",IF(Table26[[#This Row],[Sim/Não]]=1,1,0),0)","v":0}]
[null,null,null,null,null,null,null,null,null,null,null,"Atrasado",null,null,null,0,0,{"$f":"IF(Table26[[#This Row],[Status Medida]]=\"Finalizado\",IF(Table26[[#This Row],[Sim/Não]]=1,1,0),0)","v":0}]
[null,null,null,null,null,null,null,null,null,null,null,"Atrasado",null,null,null,0,0,{"$f":"IF(Table26[[#This Row],[Status Medida]]=\"Finalizado\",IF(Table26[[#This Row],[Sim/Não]]=1,1,0),0)","v":0}]
[null,null,null,null,null,null,null,null,null,null,null,"Atrasado",null,null,null,0,0,{"$f":"IF(Table26[[#This Row],[Status Medida]]=\"Finalizado\",IF(Table26[[#This Row],[Sim/Não]]=1,1,0),0)","v":0}]
[null,null,null,null,null,null,null,null,null,null,null,"Atrasado",null,null,null,0,0,{"$f":"IF(Table26[[#This Row],[Status Medida]]=\"Finalizado\",IF(Table26[[#This Row],[Sim/Não]]=1,1,0),0)","v":0}]
[null,null,null,null,null,null,null,null,null,null,null,"Atrasado",null,null,null,0,0,{"$f":"IF(Table26[[#This Row],[Status Medida]]=\"Finalizado\",IF(Table26[[#This Row],[Sim/Não]]=1,1,0),0)","v":0}]
[null,null,null,null,null,null,null,null,null,null,null,"Atrasado",null,null,null,0,0,{"$f":"IF(Table26[[#This Row],[Status Medida]]=\"Finalizado\",IF(Table26[[#This Row],[Sim/Não]]=1,1,0),0)","v":0}]
[null,null,null,null,null,null,null,null,null,null,null,"Atrasado",null,null,null,0,0,{"$f":"IF(Table26[[#This Row],[Status Medida]]=\"Finalizado\",IF(Table26[[#This Row],[Sim/Não]]=1,1,0),0)","v":0}]
[null,null,null,null,null,null,null,null,null,null,null,"Atrasado",null,null,null,0,0,{"$f":"IF(Table26[[#This Row],[Status Medida]]=\"Finalizado\",IF(Table26[[#This Row],[Sim/Não]]=1,1,0),0)","v":0}]
[null,null,null,null,null,null,null,null,null,null,null,"Atrasado",null,null,null,0,0,{"$f":"IF(Table26[[#This Row],[Status Medida]]=\"Finalizado\",IF(Table26[[#This Row],[Sim/Não]]=1,1,0),0)","v":0}]
[null,null,null,null,null,null,null,null,null,null,null,"Atrasado",null,null,null,0,0,{"$f":"IF(Table26[[#This Row],[Status Medida]]=\"Finalizado\",IF(Table26[[#This Row],[Sim/Não]]=1,1,0),0)","v":0}]
[null,null,null,null,null,null,null,null,null,null,null,"Atrasado",null,null,null,0,0,{"$f":"IF(Table26[[#This Row],[Status Medida]]=\"Finalizado\",IF(Table26[[#This Row],[Sim/Não]]=1,1,0),0)","v":0}]
[null,null,null,null,null,null,null,null,null,null,null,"Atrasado",null,null,null,0,0,{"$f":"IF(Table26[[#This Row],[Status Medida]]=\"Finalizado\",IF(Table26[[#This Row],[Sim/Não]]=1,1,0),0)","v":0}]
[null,null,null,null,null,null,null,null,null,null,null,"Atrasado",null,null,null,0,0,{"$f":"IF(Table26[[#This Row],[Status Medida]]=\"Finalizado\",IF(Table26[[#This Row],[Sim/Não]]=1,1,0),0)","v":0}]
[null,null,null,null,null,null,null,null,null,null,null,"Atrasado",null,null,null,0,0,{"$f":"IF(Table26[[#This Row],[Status Medida]]=\"Finalizado\",IF(Table26[[#This Row],[Sim/Não]]=1,1,0),0)","v":0}]
[null,null,null,null,null,null,null,null,null,null,null,"Atrasado",null,null,null,0,0,{"$f":"IF(Table26[[#This Row],[Status Medida]]=\"Finalizado\",IF(Table26[[#This Row],[Sim/Não]]=1,1,0),0)","v":0}]
[null,null,null,null,null,null,null,null,null,null,null,"Atrasado",null,null,null,0,0,{"$f":"IF(Table26[[#This Row],[Status Medida]]=\"Finalizado\",IF(Table26[[#This Row],[Sim/Não]]=1,1,0),0)","v":0}]
[null,null,null,null,null,null,null,null,null,null,null,"Atrasado",null,null,null,0,0,{"$f":"IF(Table26[[#This Row],[Status Medida]]=\"Finalizado\",IF(Table26[[#This Row],[Sim/Não]]=1,1,0),0)","v":0}]
[null,null,null,null,null,null,null,null,null,null,null,"Atrasado",null,null,null,0,0,{"$f":"IF(Table26[[#This Row],[Status Medida]]=\"Finalizado\",IF(Table26[[#This Row],[Sim/Não]]=1,1,0),0)","v":0}]
[null,null,null,null,null,null,null,null,null,null,null,"Atrasado",null,null,null,0,0,{"$f":"IF(Table26[[#This Row],[Status Medida]]=\"Finalizado\",IF(Table26[[#This Row],[Sim/Não]]=1,1,0),0)","v":0}]
[null,null,null,null,null,null,null,null,null,null,null,"Atrasado",null,null,null,0,0,{"$f":"IF(Table26[[#This Row],[Status Medida]]=\"Finalizado\",IF(Table26[[#This Row],[Sim/Não]]=1,1,0),0)","v":0}]
[null,null,null,null,null,null,null,null,null,null,null,"Atrasado",null,null,null,0,0,{"$f":"IF(Table26[[#This Row],[Status Medida]]=\"Finalizado\",IF(Table26[[#This Row],[Sim/Não]]=1,1,0),0)","v":0}]
[null,null,null,null,null,null,null,null,null,null,null,"Atrasado",null,null,null,0,0,{"$f":"IF(Table26[[#This Row],[Status Medida]]=\"Finalizado\",IF(Table26[[#This Row],[Sim/Não]]=1,1,0),0)","v":0}]
[null,null,null,null,null,null,null,null,null,null,null,"Atrasado",null,null,null,0,0,{"$f":"IF(Table26[[#This Row],[Status Medida]]=\"Finalizado\",IF(Table26[[#This Row],[Sim/Não]]=1,1,0),0)","v":0}]
[null,null,null,null,null,null,null,null,null,null,null,"Atrasado",null,null,null,0,0,{"$f":"IF(Table26[[#This Row],[Status Medida]]=\"Finalizado\",IF(Table26[[#This Row],[Sim/Não]]=1,1,0),0)","v":0}]
[null,null,null,null,null,null,null,null,null,null,null,"Atrasado",null,null,null,0,0,{"$f":"IF(Table26[[#This Row],[Status Medida]]=\"Finalizado\",IF(Table26[[#This Row],[Sim/Não]]=1,1,0),0)","v":0}]
[null,null,null,null,null,null,null,null,null,null,null,"Atrasado",null,null,null,0,0,{"$f":"IF(Table26[[#This Row],[Status Medida]]=\"Finalizado\",IF(Table26[[#This Row],[Sim/Não]]=1,1,0),0)","v":0}]
[null,null,null,null,null,null,null,null,null,null,null,"Atrasado",null,null,null,0,0,{"$f":"IF(Table26[[#This Row],[Status Medida]]=\"Finalizado\",IF(Table26[[#This Row],[Sim/Não]]=1,1,0),0)","v":0}]
[null,null,null,null,null,null,null,null,null,null,null,"Atrasado",null,null,null,0,0,{"$f":"IF(Table26[[#This Row],[Status Medida]]=\"Finalizado\",IF(Table26[[#This Row],[Sim/Não]]=1,1,0),0)","v":0}]
[null,null,null,null,null,null,null,null,null,null,null,"Atrasado",null,null,null,0,0,{"$f":"IF(Table26[[#This Row],[Status Medida]]=\"Finalizado\",IF(Table26[[#This Row],[Sim/Não]]=1,1,0),0)","v":0}]
[null,null,null,null,null,null,null,null,null,null,null,"Atrasado",null,null,null,0,0,{"$f":"IF(Table26[[#This Row],[Status Medida]]=\"Finalizado\",IF(Table26[[#This Row],[Sim/Não]]=1,1,0),0)","v":0}]
[null,null,null,null,null,null,null,null,null,null,null,"Atrasado",null,null,null,0,0,{"$f":"IF(Table26[[#This Row],[Status Medida]]=\"Finalizado\",IF(Table26[[#This Row],[Sim/Não]]=1,1,0),0)","v":0}]
[null,null,null,null,null,null,null,null,null,null,null,"Atrasado",null,null,null,0,0,{"$f":"IF(Table26[[#This Row],[Status Medida]]=\"Finalizado\",IF(Table26[[#This Row],[Sim/Não]]=1,1,0),0)","v":0}]
[null,null,null,null,null,null,null,null,null,null,null,"Atrasado",null,null,null,0,0,{"$f":"IF(Table26[[#This Row],[Status Medida]]=\"Finalizado\",IF(Table26[[#This Row],[Sim/Não]]=1,1,0),0)","v":0}]
[null,null,null,null,null,null,null,null,null,null,null,"Atrasado",null,null,null,0,0,{"$f":"IF(Table26[[#This Row],[Status Medida]]=\"Finalizado\",IF(Table26[[#This Row],[Sim/Não]]=1,1,0),0)","v":0}]
[null,null,null,null,null,null,null,null,null,null,null,"Atrasado",null,null,null,0,0,{"$f":"IF(Table26[[#This Row],[Status Medida]]=\"Finalizado\",IF(Table26[[#This Row],[Sim/Não]]=1,1,0),0)","v":0}]
[null,null,null,null,null,null,null,null,null,null,null,"Atrasado",null,null,null,0,0,{"$f":"IF(Table26[[#This Row],[Status Medida]]=\"Finalizado\",IF(Table26[[#This Row],[Sim/Não]]=1,1,0),0)","v":0}]
[null,null,null,null,null,null,null,null,null,null,null,"Atrasado",null,null,null,0,0,{"$f":"IF(Table26[[#This Row],[Status Medida]]=\"Finalizado\",IF(Table26[[#This Row],[Sim/Não]]=1,1,0),0)","v":0}]
[null,null,null,null,null,null,null,null,null,null,null,"Atrasado",null,null,null,0,0,{"$f":"IF(Table26[[#This Row],[Status Medida]]=\"Finalizado\",IF(Table26[[#This Row],[Sim/Não]]=1,1,0),0)","v":0}]
[null,null,null,null,null,null,null,null,null,null,null,"Atrasado",null,null,null,0,0,{"$f":"IF(Table26[[#This Row],[Status Medida]]=\"Finalizado\",IF(Table26[[#This Row],[Sim/Não]]=1,1,0),0)","v":0}]
[null,null,null,null,null,null,null,null,null,null,null,"Atrasado",null,null,null,0,0,{"$f":"IF(Table26[[#This Row],[Status Medida]]=\"Finalizado\",IF(Table26[[#This Row],[Sim/Não]]=1,1,0),0)","v":0}]
[null,null,null,null,null,null,null,null,null,null,null,"Atrasado",null,null,null,0,0,{"$f":"IF(Table26[[#This Row],[Status Medida]]=\"Finalizado\",IF(Table26[[#This Row],[Sim/Não]]=1,1,0),0)","v":0}]
[null,null,null,null,null,null,null,null,null,null,null,"Atrasado",null,null,null,0,0,{"$f":"IF(Table26[[#This Row],[Status Medida]]=\"Finalizado\",IF(Table26[[#This Row],[Sim/Não]]=1,1,0),0)","v":0}]
[null,null,null,null,null,null,null,null,null,null,null,"Atrasado",null,null,null,0,0,{"$f":"IF(Table26[[#This Row],[Status Medida]]=\"Finalizado\",IF(Table26[[#This Row],[Sim/Não]]=1,1,0),0)","v":0}]
[null,null,null,null,null,null,null,null,null,null,null,"Atrasado",null,null,null,0,0,{"$f":"IF(Table26[[#This Row],[Status Medida]]=\"Finalizado\",IF(Table26[[#This Row],[Sim/Não]]=1,1,0),0)","v":0}]
[null,null,null,null,null,null,null,null,null,null,null,"Atrasado",null,null,null,0,0,{"$f":"IF(Table26[[#This Row],[Status Medida]]=\"Finalizado\",IF(Table26[[#This Row],[Sim/Não]]=1,1,0),0)","v":0}]
[null,null,null,null,null,null,null,null,null,null,null,"Atrasado",null,null,null,0,0,{"$f":"IF(Table26[[#This Row],[Status Medida]]=\"Finalizado\",IF(Table26[[#This Row],[Sim/Não]]=1,1,0),0)","v":0}]
[null,null,null,null,null,null,null,null,null,null,null,"Atrasado",null,null,null,0,0,{"$f":"IF(Table26[[#This Row],[Status Medida]]=\"Finalizado\",IF(Table26[[#This Row],[Sim/Não]]=1,1,0),0)","v":0}]
[null,null,null,null,null,null,null,null,null,null,null,"Atrasado",null,null,null,0,0,{"$f":"IF(Table26[[#This Row],[Status Medida]]=\"Finalizado\",IF(Table26[[#This Row],[Sim/Não]]=1,1,0),0)","v":0}]
[null,null,null,null,null,null,null,null,null,null,null,"Atrasado",null,null,null,0,0,{"$f":"IF(Table26[[#This Row],[Status Medida]]=\"Finalizado\",IF(Table26[[#This Row],[Sim/Não]]=1,1,0),0)","v":0}]
[null,null,null,null,null,null,null,null,null,null,null,"Atrasado",null,null,null,0,0,{"$f":"IF(Table26[[#This Row],[Status Medida]]=\"Finalizado\",IF(Table26[[#This Row],[Sim/Não]]=1,1,0),0)","v":0}]
[null,null,null,null,null,null,null,null,null,null,null,"Atrasado",null,null,null,0,0,{"$f":"IF(Table26[[#This Row],[Status Medida]]=\"Finalizado\",IF(Table26[[#This Row],[Sim/Não]]=1,1,0),0)","v":0}]
[null,null,null,null,null,null,null,null,null,null,null,"Atrasado",null,null,null,0,0,{"$f":"IF(Table26[[#This Row],[Status Medida]]=\"Finalizado\",IF(Table26[[#This Row],[Sim/Não]]=1,1,0),0)","v":0}]
[null,null,null,null,null,null,null,null,null,null,null,"Atrasado",null,null,null,0,0,{"$f":"IF(Table26[[#This Row],[Status Medida]]=\"Finalizado\",IF(Table26[[#This Row],[Sim/Não]]=1,1,0),0)","v":0}]
[null,null,null,null,null,null,null,null,null,null,null,"Atrasado",null,null,null,0,0,{"$f":"IF(Table26[[#This Row],[Status Medida]]=\"Finalizado\",IF(Table26[[#This Row],[Sim/Não]]=1,1,0),0)","v":0}]
[null,null,null,null,null,null,null,null,null,null,null,"Atrasado",null,null,null,0,0,{"$f":"IF(Table26[[#This Row],[Status Medida]]=\"Finalizado\",IF(Table26[[#This Row],[Sim/Não]]=1,1,0),0)","v":0}]
[null,null,null,null,null,null,null,null,null,null,null,"Atrasado",null,null,null,0,0,{"$f":"IF(Table26[[#This Row],[Status Medida]]=\"Finalizado\",IF(Table26[[#This Row],[Sim/Não]]=1,1,0),0)","v":0}]
[null,null,null,null,null,null,null,null,null,null,null,"Atrasado",null,null,null,0,0,{"$f":"IF(Table26[[#This Row],[Status Medida]]=\"Finalizado\",IF(Table26[[#This Row],[Sim/Não]]=1,1,0),0)","v":0}]
[null,null,null,null,null,null,null,null,null,null,null,"Atrasado",null,null,null,0,0,{"$f":"IF(Table26[[#This Row],[Status Medida]]=\"Finalizado\",IF(Table26[[#This Row],[Sim/Não]]=1,1,0),0)","v":0}]
[null,null,null,null,null,null,null,null,null,null,null,"Atrasado",null,null,null,0,0,{"$f":"IF(Table26[[#This Row],[Status Medida]]=\"Finalizado\",IF(Table26[[#This Row],[Sim/Não]]=1,1,0),0)","v":0}]
[null,null,null,null,null,null,null,null,null,null,null,"Atrasado",null,null,null,0,0,{"$f":"IF(Table26[[#This Row],[Status Medida]]=\"Finalizado\",IF(Table26[[#This Row],[Sim/Não]]=1,1,0),0)","v":0}]
[null,null,null,null,null,null,null,null,null,null,null,"Atrasado",null,null,null,0,0,{"$f":"IF(Table26[[#This Row],[Status Medida]]=\"Finalizado\",IF(Table26[[#This Row],[Sim/Não]]=1,1,0),0)","v":0}]
[null,null,null,null,null,null,null,null,null,null,null,"Atrasado",null,null,null,0,0,{"$f":"IF(Table26[[#This Row],[Status Medida]]=\"Finalizado\",IF(Table26[[#This Row],[Sim/Não]]=1,1,0),0)","v":0}]
[null,null,null,null,null,null,null,null,null,null,null,"Atrasado",null,null,null,0,0,{"$f":"IF(Table26[[#This Row],[Status Medida]]=\"Finalizado\",IF(Table26[[#This Row],[Sim/Não]]=1,1,0),0)","v":0}]
[null,null,null,null,null,null,null,null,null,null,null,"Atrasado",null,null,null,0,0,{"$f":"IF(Table26[[#This Row],[Status Medida]]=\"Finalizado\",IF(Table26[[#This Row],[Sim/Não]]=1,1,0),0)","v":0}]
[null,null,null,null,null,null,null,null,null,null,null,"Atrasado",null,null,null,0,0,{"$f":"IF(Table26[[#This Row],[Status Medida]]=\"Finalizado\",IF(Table26[[#This Row],[Sim/Não]]=1,1,0),0)","v":0}]
[null,null,null,null,null,null,null,null,null,null,null,"Atrasado",null,null,null,0,0,{"$f":"IF(Table26[[#This Row],[Status Medida]]=\"Finalizado\",IF(Table26[[#This Row],[Sim/Não]]=1,1,0),0)","v":0}]
[null,null,null,null,null,null,null,null,null,null,null,"Atrasado",null,null,null,0,0,{"$f":"IF(Table26[[#This Row],[Status Medida]]=\"Finalizado\",IF(Table26[[#This Row],[Sim/Não]]=1,1,0),0)","v":0}]
[null,null,null,null,null,null,null,null,null,null,null,"Atrasado",null,null,null,0,0,{"$f":"IF(Table26[[#This Row],[Status Medida]]=\"Finalizado\",IF(Table26[[#This Row],[Sim/Não]]=1,1,0),0)","v":0}]
[null,null,null,null,null,null,null,null,null,null,null,"Atrasado",null,null,null,0,0,{"$f":"IF(Table26[[#This Row],[Status Medida]]=\"Finalizado\",IF(Table26[[#This Row],[Sim/Não]]=1,1,0),0)","v":0}]
[null,null,null,null,null,null,null,null,null,null,null,"Atrasado",null,null,null,0,0,{"$f":"IF(Table26[[#This Row],[Status Medida]]=\"Finalizado\",IF(Table26[[#This Row],[Sim/Não]]=1,1,0),0)","v":0}]
[null,null,null,null,null,null,null,null,null,null,null,"Atrasado",null,null,null,0,0,{"$f":"IF(Table26[[#This Row],[Status Medida]]=\"Finalizado\",IF(Table26[[#This Row],[Sim/Não]]=1,1,0),0)","v":0}]
[null,null,null,null,null,null,null,null,null,null,null,"Atrasado",null,null,null,0,0,{"$f":"IF(Table26[[#This Row],[Status Medida]]=\"Finalizado\",IF(Table26[[#This Row],[Sim/Não]]=1,1,0),0)","v":0}]
[null,null,null,null,null,null,null,null,null,null,null,"Atrasado",null,null,null,0,0,{"$f":"IF(Table26[[#This Row],[Status Medida]]=\"Finalizado\",IF(Table26[[#This Row],[Sim/Não]]=1,1,0),0)","v":0}]
[null,null,null,null,null,null,null,null,null,null,null,"Atrasado",null,null,null,0,0,{"$f":"IF(Table26[[#This Row],[Status Medida]]=\"Finalizado\",IF(Table26[[#This Row],[Sim/Não]]=1,1,0),0)","v":0}]
[null,null,null,null,null,null,null,null,null,null,null,"Atrasado",null,null,null,0,0,{"$f":"IF(Table26[[#This Row],[Status Medida]]=\"Finalizado\",IF(Table26[[#This Row],[Sim/Não]]=1,1,0),0)","v":0}]
[null,null,null,null,null,null,null,null,null,null,null,"Atrasado",null,null,null,0,0,{"$f":"IF(Table26[[#This Row],[Status Medida]]=\"Finalizado\",IF(Table26[[#This Row],[Sim/Não]]=1,1,0),0)","v":0}]
[null,null,null,null,null,null,null,null,null,null,null,{"$f":"IF(J4938>K4938,\"Datas inválidas\",IF(M4938=\"Finalizado\",\"Concluído\",IF(J4938>TODAY(),\"Não iniciado\",_xlfn.IFS(J4938=TODAY(),\"Em andamento\",TODAY()>K4938,\"Atrasado\",AND(TODAY()>J4938,TODAY()<=K4938),\"Em andamento\"))))","v":"Atrasado"},null,null,null,{"$f":"IF(O4938=\"Sim\",1,0)","v":0},{"$f":"IF(N4938=E4938,0,1)","v":0},{"$f":"IF(Table26[[#This Row],[Status Medida]]=\"Finalizado\",IF(Table26[[#This Row],[Sim/Não]]=1,1,0),0)","v":0}]
[null,null,null,null,null,null,null,null,null,null,null,"Atrasado",null,null,null,0,0,{"$f":"IF(Table26[[#This Row],[Status Medida]]=\"Finalizado\",IF(Table26[[#This Row],[Sim/Não]]=1,1,0),0)","v":0}]
[null,null,null,null,null,null,null,null,null,null,null,"Atrasado",null,null,null,0,0,{"$f":"IF(Table26[[#This Row],[Status Medida]]=\"Finalizado\",IF(Table26[[#This Row],[Sim/Não]]=1,1,0),0)","v":0}]
[null,null,null,null,null,null,null,null,null,null,null,"Atrasado",null,null,null,0,0,{"$f":"IF(Table26[[#This Row],[Status Medida]]=\"Finalizado\",IF(Table26[[#This Row],[Sim/Não]]=1,1,0),0)","v":0}]
[null,null,null,null,null,null,null,null,null,null,null,"Atrasado",null,null,null,0,0,{"$f":"IF(Table26[[#This Row],[Status Medida]]=\"Finalizado\",IF(Table26[[#This Row],[Sim/Não]]=1,1,0),0)","v":0}]
[null,null,null,null,null,null,null,null,null,null,null,"Atrasado",null,null,null,0,0,{"$f":"IF(Table26[[#This Row],[Status Medida]]=\"Finalizado\",IF(Table26[[#This Row],[Sim/Não]]=1,1,0),0)","v":0}]
[null,null,null,null,null,null,null,null,null,null,null,"Atrasado",null,null,null,0,0,{"$f":"IF(Table26[[#This Row],[Status Medida]]=\"Finalizado\",IF(Table26[[#This Row],[Sim/Não]]=1,1,0),0)","v":0}]
[null,null,null,null,null,null,null,null,null,null,null,"Atrasado",null,null,null,0,0,{"$f":"IF(Table26[[#This Row],[Status Medida]]=\"Finalizado\",IF(Table26[[#This Row],[Sim/Não]]=1,1,0),0)","v":0}]
[null,null,null,null,null,null,null,null,null,null,null,"Atrasado",null,null,null,0,0,{"$f":"IF(Table26[[#This Row],[Status Medida]]=\"Finalizado\",IF(Table26[[#This Row],[Sim/Não]]=1,1,0),0)","v":0}]
[null,null,null,null,null,null,null,null,null,null,null,"Atrasado",null,null,null,0,0,{"$f":"IF(Table26[[#This Row],[Status Medida]]=\"Finalizado\",IF(Table26[[#This Row],[Sim/Não]]=1,1,0),0)","v":0}]
[null,null,null,null,null,null,null,null,null,null,null,"Atrasado",null,null,null,0,0,{"$f":"IF(Table26[[#This Row],[Status Medida]]=\"Finalizado\",IF(Table26[[#This Row],[Sim/Não]]=1,1,0),0)","v":0}]
[null,null,null,null,null,null,null,null,null,null,null,"Atrasado",null,null,null,0,0,{"$f":"IF(Table26[[#This Row],[Status Medida]]=\"Finalizado\",IF(Table26[[#This Row],[Sim/Não]]=1,1,0),0)","v":0}]
[null,null,null,null,null,null,null,null,null,null,null,"Atrasado",null,null,null,0,0,{"$f":"IF(Table26[[#This Row],[Status Medida]]=\"Finalizado\",IF(Table26[[#This Row],[Sim/Não]]=1,1,0),0)","v":0}]
[null,null,null,null,null,null,null,null,null,null,null,"Atrasado",null,null,null,0,0,{"$f":"IF(Table26[[#This Row],[Status Medida]]=\"Finalizado\",IF(Table26[[#This Row],[Sim/Não]]=1,1,0),0)","v":0}]
[null,null,null,null,null,null,null,null,null,null,null,"Atrasado",null,null,null,0,0,{"$f":"IF(Table26[[#This Row],[Status Medida]]=\"Finalizado\",IF(Table26[[#This Row],[Sim/Não]]=1,1,0),0)","v":0}]
[null,null,null,null,null,null,null,null,null,null,null,"Atrasado",null,null,null,0,0,{"$f":"IF(Table26[[#This Row],[Status Medida]]=\"Finalizado\",IF(Table26[[#This Row],[Sim/Não]]=1,1,0),0)","v":0}]
[null,null,null,null,null,null,null,null,null,null,null,"Atrasado",null,null,null,0,0,{"$f":"IF(Table26[[#This Row],[Status Medida]]=\"Finalizado\",IF(Table26[[#This Row],[Sim/Não]]=1,1,0),0)","v":0}]
[null,null,null,null,null,null,null,null,null,null,null,"Atrasado",null,null,null,0,0,{"$f":"IF(Table26[[#This Row],[Status Medida]]=\"Finalizado\",IF(Table26[[#This Row],[Sim/Não]]=1,1,0),0)","v":0}]
[null,null,null,null,null,null,null,null,null,null,null,"Atrasado",null,null,null,0,0,{"$f":"IF(Table26[[#This Row],[Status Medida]]=\"Finalizado\",IF(Table26[[#This Row],[Sim/Não]]=1,1,0),0)","v":0}]
[null,null,null,null,null,null,null,null,null,null,null,"Atrasado",null,null,null,0,0,{"$f":"IF(Table26[[#This Row],[Status Medida]]=\"Finalizado\",IF(Table26[[#This Row],[Sim/Não]]=1,1,0),0)","v":0}]
[null,null,null,null,null,null,null,null,null,null,null,"Atrasado",null,null,null,0,0,{"$f":"IF(Table26[[#This Row],[Status Medida]]=\"Finalizado\",IF(Table26[[#This Row],[Sim/Não]]=1,1,0),0)","v":0}]
[null,null,null,null,null,null,null,null,null,null,null,"Atrasado",null,null,null,0,0,{"$f":"IF(Table26[[#This Row],[Status Medida]]=\"Finalizado\",IF(Table26[[#This Row],[Sim/Não]]=1,1,0),0)","v":0}]
[null,null,null,null,null,null,null,null,null,null,null,"Atrasado",null,null,null,0,0,{"$f":"IF(Table26[[#This Row],[Status Medida]]=\"Finalizado\",IF(Table26[[#This Row],[Sim/Não]]=1,1,0),0)","v":0}]
[null,null,null,null,null,null,null,null,null,null,null,"Atrasado",null,null,null,0,0,{"$f":"IF(Table26[[#This Row],[Status Medida]]=\"Finalizado\",IF(Table26[[#This Row],[Sim/Não]]=1,1,0),0)","v":0}]
[null,null,null,null,null,null,null,null,null,null,null,"Atrasado",null,null,null,0,0,{"$f":"IF(Table26[[#This Row],[Status Medida]]=\"Finalizado\",IF(Table26[[#This Row],[Sim/Não]]=1,1,0),0)","v":0}]
[null,null,null,null,null,null,null,null,null,null,null,"Atrasado",null,null,null,0,0,{"$f":"IF(Table26[[#This Row],[Status Medida]]=\"Finalizado\",IF(Table26[[#This Row],[Sim/Não]]=1,1,0),0)","v":0}]
[null,null,null,null,null,null,null,null,null,null,null,"Atrasado",null,null,null,0,0,{"$f":"IF(Table26[[#This Row],[Status Medida]]=\"Finalizado\",IF(Table26[[#This Row],[Sim/Não]]=1,1,0),0)","v":0}]
[null,null,null,null,null,null,null,null,null,null,null,"Atrasado",null,null,null,0,0,{"$f":"IF(Table26[[#This Row],[Status Medida]]=\"Finalizado\",IF(Table26[[#This Row],[Sim/Não]]=1,1,0),0)","v":0}]
[null,null,null,null,null,null,null,null,null,null,null,"Atrasado",null,null,null,0,0,{"$f":"IF(Table26[[#This Row],[Status Medida]]=\"Finalizado\",IF(Table26[[#This Row],[Sim/Não]]=1,1,0),0)","v":0}]
[null,null,null,null,null,null,null,null,null,null,null,"Atrasado",null,null,null,0,0,{"$f":"IF(Table26[[#This Row],[Status Medida]]=\"Finalizado\",IF(Table26[[#This Row],[Sim/Não]]=1,1,0),0)","v":0}]
[null,null,null,null,null,null,null,null,null,null,null,"Atrasado",null,null,null,0,0,{"$f":"IF(Table26[[#This Row],[Status Medida]]=\"Finalizado\",IF(Table26[[#This Row],[Sim/Não]]=1,1,0),0)","v":0}]
[null,null,null,null,null,null,null,null,null,null,null,"Atrasado",null,null,null,0,0,{"$f":"IF(Table26[[#This Row],[Status Medida]]=\"Finalizado\",IF(Table26[[#This Row],[Sim/Não]]=1,1,0),0)","v":0}]
[null,null,null,null,null,null,null,null,null,null,null,"Atrasado",null,null,null,0,0,{"$f":"IF(Table26[[#This Row],[Status Medida]]=\"Finalizado\",IF(Table26[[#This Row],[Sim/Não]]=1,1,0),0)","v":0}]
[null,null,null,null,null,null,null,null,null,null,null,"Atrasado",null,null,null,0,0,{"$f":"IF(Table26[[#This Row],[Status Medida]]=\"Finalizado\",IF(Table26[[#This Row],[Sim/Não]]=1,1,0),0)","v":0}]
[null,null,null,null,null,null,null,null,null,null,null,"Atrasado",null,null,null,0,0,{"$f":"IF(Table26[[#This Row],[Status Medida]]=\"Finalizado\",IF(Table26[[#This Row],[Sim/Não]]=1,1,0),0)","v":0}]
[null,null,null,null,null,null,null,null,null,null,null,"Atrasado",null,null,null,0,0,{"$f":"IF(Table26[[#This Row],[Status Medida]]=\"Finalizado\",IF(Table26[[#This Row],[Sim/Não]]=1,1,0),0)","v":0}]
[null,null,null,null,null,null,null,null,null,null,null,"Atrasado",null,null,null,0,0,{"$f":"IF(Table26[[#This Row],[Status Medida]]=\"Finalizado\",IF(Table26[[#This Row],[Sim/Não]]=1,1,0),0)","v":0}]
[null,null,null,null,null,null,null,null,null,null,null,"Atrasado",null,null,null,0,0,{"$f":"IF(Table26[[#This Row],[Status Medida]]=\"Finalizado\",IF(Table26[[#This Row],[Sim/Não]]=1,1,0),0)","v":0}]
[null,null,null,null,null,null,null,null,null,null,null,"Atrasado",null,null,null,0,0,{"$f":"IF(Table26[[#This Row],[Status Medida]]=\"Finalizado\",IF(Table26[[#This Row],[Sim/Não]]=1,1,0),0)","v":0}]
[null,null,null,null,null,null,null,null,null,null,null,"Atrasado",null,null,null,0,0,{"$f":"IF(Table26[[#This Row],[Status Medida]]=\"Finalizado\",IF(Table26[[#This Row],[Sim/Não]]=1,1,0),0)","v":0}]
[null,null,null,null,null,null,null,null,null,null,null,"Atrasado",null,null,null,0,0,{"$f":"IF(Table26[[#This Row],[Status Medida]]=\"Finalizado\",IF(Table26[[#This Row],[Sim/Não]]=1,1,0),0)","v":0}]
[null,null,null,null,null,null,null,null,null,null,null,"Atrasado",null,null,null,0,0,{"$f":"IF(Table26[[#This Row],[Status Medida]]=\"Finalizado\",IF(Table26[[#This Row],[Sim/Não]]=1,1,0),0)","v":0}]
[null,null,null,null,null,null,null,null,null,null,null,"Atrasado",null,null,null,0,0,{"$f":"IF(Table26[[#This Row],[Status Medida]]=\"Finalizado\",IF(Table26[[#This Row],[Sim/Não]]=1,1,0),0)","v":0}]
[null,null,null,null,null,null,null,null,null,null,null,"Atrasado",null,null,null,0,0,{"$f":"IF(Table26[[#This Row],[Status Medida]]=\"Finalizado\",IF(Table26[[#This Row],[Sim/Não]]=1,1,0),0)","v":0}]
[null,null,null,null,null,null,null,null,null,null,null,"Atrasado",null,null,null,0,0,{"$f":"IF(Table26[[#This Row],[Status Medida]]=\"Finalizado\",IF(Table26[[#This Row],[Sim/Não]]=1,1,0),0)","v":0}]
[null,null,null,null,null,null,null,null,null,null,null,"Atrasado",null,null,null,0,0,{"$f":"IF(Table26[[#This Row],[Status Medida]]=\"Finalizado\",IF(Table26[[#This Row],[Sim/Não]]=1,1,0),0)","v":0}]
[null,null,null,null,null,null,null,null,null,null,null,"Atrasado",null,null,null,0,0,{"$f":"IF(Table26[[#This Row],[Status Medida]]=\"Finalizado\",IF(Table26[[#This Row],[Sim/Não]]=1,1,0),0)","v":0}]
[null,null,null,null,null,null,null,null,null,null,null,"Atrasado",null,null,null,0,0,{"$f":"IF(Table26[[#This Row],[Status Medida]]=\"Finalizado\",IF(Table26[[#This Row],[Sim/Não]]=1,1,0),0)","v":0}]
[null,null,null,null,null,null,null,null,null,null,null,"Atrasado",null,null,null,0,0,{"$f":"IF(Table26[[#This Row],[Status Medida]]=\"Finalizado\",IF(Table26[[#This Row],[Sim/Não]]=1,1,0),0)","v":0}]
[null,null,null,null,null,null,null,null,null,null,null,"Atrasado",null,null,null,0,0,{"$f":"IF(Table26[[#This Row],[Status Medida]]=\"Finalizado\",IF(Table26[[#This Row],[Sim/Não]]=1,1,0),0)","v":0}]
[null,null,null,null,null,null,null,null,null,null,null,"Atrasado",null,null,null,0,0,{"$f":"IF(Table26[[#This Row],[Status Medida]]=\"Finalizado\",IF(Table26[[#This Row],[Sim/Não]]=1,1,0),0)","v":0}]
[null,null,null,null,null,null,null,null,null,null,null,"Atrasado",null,null,null,0,0,{"$f":"IF(Table26[[#This Row],[Status Medida]]=\"Finalizado\",IF(Table26[[#This Row],[Sim/Não]]=1,1,0),0)","v":0}]
[null,null,null,null,null,null,null,null,null,null,null,"Atrasado",null,null,null,0,0,{"$f":"IF(Table26[[#This Row],[Status Medida]]=\"Finalizado\",IF(Table26[[#This Row],[Sim/Não]]=1,1,0),0)","v":0}]
[null,null,null,null,null,null,null,null,null,null,null,"Atrasado",null,null,null,0,0,{"$f":"IF(Table26[[#This Row],[Status Medida]]=\"Finalizado\",IF(Table26[[#This Row],[Sim/Não]]=1,1,0),0)","v":0}]
[null,null,null,null,null,null,null,null,null,null,null,"Atrasado",null,null,null,0,0,{"$f":"IF(Table26[[#This Row],[Status Medida]]=\"Finalizado\",IF(Table26[[#This Row],[Sim/Não]]=1,1,0),0)","v":0}]
[null,null,null,null,null,null,null,null,null,null,null,"Atrasado",null,null,null,0,0,{"$f":"IF(Table26[[#This Row],[Status Medida]]=\"Finalizado\",IF(Table26[[#This Row],[Sim/Não]]=1,1,0),0)","v":0}]
[null,null,null,null,null,null,null,null,null,null,null,"Atrasado",null,null,null,0,0,{"$f":"IF(Table26[[#This Row],[Status Medida]]=\"Finalizado\",IF(Table26[[#This Row],[Sim/Não]]=1,1,0),0)","v":0}]
[null,null,null,null,null,null,null,null,null,null,null,"Atrasado",null,null,null,0,0,{"$f":"IF(Table26[[#This Row],[Status Medida]]=\"Finalizado\",IF(Table26[[#This Row],[Sim/Não]]=1,1,0),0)","v":0}]
[null,null,null,null,null,null,null,null,null,null,null,"Atrasado",null,null,null,0,0,{"$f":"IF(Table26[[#This Row],[Status Medida]]=\"Finalizado\",IF(Table26[[#This Row],[Sim/Não]]=1,1,0),0)","v":0}]
[null,null,null,null,null,null,null,null,null,null,null,"Atrasado",null,null,null,0,0,{"$f":"IF(Table26[[#This Row],[Status Medida]]=\"Finalizado\",IF(Table26[[#This Row],[Sim/Não]]=1,1,0),0)","v":0}]
[null,null,null,null,null,null,null,null,null,null,null,"Atrasado",null,null,null,0,0,{"$f":"IF(Table26[[#This Row],[Status Medida]]=\"Finalizado\",IF(Table26[[#This Row],[Sim/Não]]=1,1,0),0)","v":0}]
[null,null,null,null,null,null,null,null,null,null,null,"Atrasado",null,null,null,0,0,{"$f":"IF(Table26[[#This Row],[Status Medida]]=\"Finalizado\",IF(Table26[[#This Row],[Sim/Não]]=1,1,0),0)","v":0}]
[null,null,null,null,null,null,null,null,null,null,null,"Atrasado",null,null,null,0,0,{"$f":"IF(Table26[[#This Row],[Status Medida]]=\"Finalizado\",IF(Table26[[#This Row],[Sim/Não]]=1,1,0),0)","v":0}]
[null,null,null,null,null,null,null,null,null,null,null,"Atrasado",null,null,null,0,0,{"$f":"IF(Table26[[#This Row],[Status Medida]]=\"Finalizado\",IF(Table26[[#This Row],[Sim/Não]]=1,1,0),0)","v":0}]
[null,null,null,null,null,null,null,null,null,null,null,"Atrasado",null,null,null,0,0,{"$f":"IF(Table26[[#This Row],[Status Medida]]=\"Finalizado\",IF(Table26[[#This Row],[Sim/Não]]=1,1,0),0)","v":0}]
[null,null,null,null,null,null,null,null,null,null,null,"Atrasado",null,null,null,0,0,{"$f":"IF(Table26[[#This Row],[Status Medida]]=\"Finalizado\",IF(Table26[[#This Row],[Sim/Não]]=1,1,0),0)","v":0}]
[null,null,null,null,null,null,null,null,null,null,null,"Atrasado",null,null,null,0,0,{"$f":"IF(Table26[[#This Row],[Status Medida]]=\"Finalizado\",IF(Table26[[#This Row],[Sim/Não]]=1,1,0),0)","v":0}]
[null,null,null,null,null,null,null,null,null,null,null,"Atrasado",null,null,null,0,0,{"$f":"IF(Table26[[#This Row],[Status Medida]]=\"Finalizado\",IF(Table26[[#This Row],[Sim/Não]]=1,1,0),0)","v":0}]
[null,null,null,null,null,null,null,null,null,null,null,"Atrasado",null,null,null,0,0,{"$f":"IF(Table26[[#This Row],[Status Medida]]=\"Finalizado\",IF(Table26[[#This Row],[Sim/Não]]=1,1,0),0)","v":0}]
[null,null,null,null,null,null,null,null,null,null,null,"Atrasado",null,null,null,0,0,{"$f":"IF(Table26[[#This Row],[Status Medida]]=\"Finalizado\",IF(Table26[[#This Row],[Sim/Não]]=1,1,0),0)","v":0}]
[null,null,null,null,null,null,null,null,null,null,null,"Atrasado",null,null,null,0,0,{"$f":"IF(Table26[[#This Row],[Status Medida]]=\"Finalizado\",IF(Table26[[#This Row],[Sim/Não]]=1,1,0),0)","v":0}]
[null,null,null,null,null,null,null,null,null,null,null,"Atrasado",null,null,null,0,0,{"$f":"IF(Table26[[#This Row],[Status Medida]]=\"Finalizado\",IF(Table26[[#This Row],[Sim/Não]]=1,1,0),0)","v":0}]
[null,null,null,null,null,null,null,null,null,null,null,"Atrasado",null,null,null,0,0,{"$f":"IF(Table26[[#This Row],[Status Medida]]=\"Finalizado\",IF(Table26[[#This Row],[Sim/Não]]=1,1,0),0)","v":0}]
[null,null,null,null,null,null,null,null,null,null,null,"Atrasado",null,null,null,0,0,{"$f":"IF(Table26[[#This Row],[Status Medida]]=\"Finalizado\",IF(Table26[[#This Row],[Sim/Não]]=1,1,0),0)","v":0}]
[null,null,null,null,null,null,null,null,null,null,null,"Atrasado",null,null,null,0,0,{"$f":"IF(Table26[[#This Row],[Status Medida]]=\"Finalizado\",IF(Table26[[#This Row],[Sim/Não]]=1,1,0),0)","v":0}]
[null,null,null,null,null,null,null,null,null,null,null,"Atrasado",null,null,null,0,0,{"$f":"IF(Table26[[#This Row],[Status Medida]]=\"Finalizado\",IF(Table26[[#This Row],[Sim/Não]]=1,1,0),0)","v":0}]
[null,null,null,null,null,null,null,null,null,null,null,"Atrasado",null,null,null,0,0,{"$f":"IF(Table26[[#This Row],[Status Medida]]=\"Finalizado\",IF(Table26[[#This Row],[Sim/Não]]=1,1,0),0)","v":0}]
[null,null,null,null,null,null,null,null,null,null,null,"Atrasado",null,null,null,0,0,{"$f":"IF(Table26[[#This Row],[Status Medida]]=\"Finalizado\",IF(Table26[[#This Row],[Sim/Não]]=1,1,0),0)","v":0}]
[null,null,null,null,null,null,null,null,null,null,null,"Atrasado",null,null,null,0,0,{"$f":"IF(Table26[[#This Row],[Status Medida]]=\"Finalizado\",IF(Table26[[#This Row],[Sim/Não]]=1,1,0),0)","v":0}]
[null,null,null,null,null,null,null,null,null,null,null,"Atrasado",null,null,null,0,0,{"$f":"IF(Table26[[#This Row],[Status Medida]]=\"Finalizado\",IF(Table26[[#This Row],[Sim/Não]]=1,1,0),0)","v":0}]
[null,null,null,null,null,null,null,null,null,null,null,"Atrasado",null,null,null,0,0,{"$f":"IF(Table26[[#This Row],[Status Medida]]=\"Finalizado\",IF(Table26[[#This Row],[Sim/Não]]=1,1,0),0)","v":0}]
[null,null,null,null,null,null,null,null,null,null,null,"Atrasado",null,null,null,0,0,{"$f":"IF(Table26[[#This Row],[Status Medida]]=\"Finalizado\",IF(Table26[[#This Row],[Sim/Não]]=1,1,0),0)","v":0}]
[null,null,null,null,null,null,null,null,null,null,null,"Atrasado",null,null,null,0,0,{"$f":"IF(Table26[[#This Row],[Status Medida]]=\"Finalizado\",IF(Table26[[#This Row],[Sim/Não]]=1,1,0),0)","v":0}]
[null,null,null,null,null,null,null,null,null,null,null,"Atrasado",null,null,null,0,0,{"$f":"IF(Table26[[#This Row],[Status Medida]]=\"Finalizado\",IF(Table26[[#This Row],[Sim/Não]]=1,1,0),0)","v":0}]
[null,null,null,null,null,null,null,null,null,null,null,"Atrasado",null,null,null,0,0,{"$f":"IF(Table26[[#This Row],[Status Medida]]=\"Finalizado\",IF(Table26[[#This Row],[Sim/Não]]=1,1,0),0)","v":0}]
[null,null,null,null,null,null,null,null,null,null,null,"Atrasado",null,null,null,0,0,{"$f":"IF(Table26[[#This Row],[Status Medida]]=\"Finalizado\",IF(Table26[[#This Row],[Sim/Não]]=1,1,0),0)","v":0}]
[null,null,null,null,null,null,null,null,null,null,null,"Atrasado",null,null,null,0,0,{"$f":"IF(Table26[[#This Row],[Status Medida]]=\"Finalizado\",IF(Table26[[#This Row],[Sim/Não]]=1,1,0),0)","v":0}]
[null,null,null,null,null,null,null,null,null,null,null,"Atrasado",null,null,null,0,0,{"$f":"IF(Table26[[#This Row],[Status Medida]]=\"Finalizado\",IF(Table26[[#This Row],[Sim/Não]]=1,1,0),0)","v":0}]
[null,null,null,null,null,null,null,null,null,null,null,"Atrasado",null,null,null,0,0,{"$f":"IF(Table26[[#This Row],[Status Medida]]=\"Finalizado\",IF(Table26[[#This Row],[Sim/Não]]=1,1,0),0)","v":0}]
[null,null,null,null,null,null,null,null,null,null,null,"Atrasado",null,null,null,0,0,{"$f":"IF(Table26[[#This Row],[Status Medida]]=\"Finalizado\",IF(Table26[[#This Row],[Sim/Não]]=1,1,0),0)","v":0}]
[null,null,null,null,null,null,null,null,null,null,null,"Atrasado",null,null,null,0,0,{"$f":"IF(Table26[[#This Row],[Status Medida]]=\"Finalizado\",IF(Table26[[#This Row],[Sim/Não]]=1,1,0),0)","v":0}]
[null,null,null,null,null,null,null,null,null,null,null,"Atrasado",null,null,null,0,0,{"$f":"IF(Table26[[#This Row],[Status Medida]]=\"Finalizado\",IF(Table26[[#This Row],[Sim/Não]]=1,1,0),0)","v":0}]
[null,null,null,null,null,null,null,null,null,null,null,"Atrasado",null,null,null,0,0,{"$f":"IF(Table26[[#This Row],[Status Medida]]=\"Finalizado\",IF(Table26[[#This Row],[Sim/Não]]=1,1,0),0)","v":0}]
[null,null,null,null,null,null,null,null,null,null,null,"Atrasado",null,null,null,0,0,{"$f":"IF(Table26[[#This Row],[Status Medida]]=\"Finalizado\",IF(Table26[[#This Row],[Sim/Não]]=1,1,0),0)","v":0}]
[null,null,null,null,null,null,null,null,null,null,null,"Atrasado",null,null,null,0,0,{"$f":"IF(Table26[[#This Row],[Status Medida]]=\"Finalizado\",IF(Table26[[#This Row],[Sim/Não]]=1,1,0),0)","v":0}]
[null,null,null,null,null,null,null,null,null,null,null,"Atrasado",null,null,null,0,0,{"$f":"IF(Table26[[#This Row],[Status Medida]]=\"Finalizado\",IF(Table26[[#This Row],[Sim/Não]]=1,1,0),0)","v":0}]
[null,null,null,null,null,null,null,null,null,null,null,"Atrasado",null,null,null,0,0,{"$f":"IF(Table26[[#This Row],[Status Medida]]=\"Finalizado\",IF(Table26[[#This Row],[Sim/Não]]=1,1,0),0)","v":0}]
[null,null,null,null,null,null,null,null,null,null,null,"Atrasado",null,null,null,0,0,{"$f":"IF(Table26[[#This Row],[Status Medida]]=\"Finalizado\",IF(Table26[[#This Row],[Sim/Não]]=1,1,0),0)","v":0}]
[null,null,null,null,null,null,null,null,null,null,null,"Atrasado",null,null,null,0,0,{"$f":"IF(Table26[[#This Row],[Status Medida]]=\"Finalizado\",IF(Table26[[#This Row],[Sim/Não]]=1,1,0),0)","v":0}]
[null,null,null,null,null,null,null,null,null,null,null,"Atrasado",null,null,null,0,0,{"$f":"IF(Table26[[#This Row],[Status Medida]]=\"Finalizado\",IF(Table26[[#This Row],[Sim/Não]]=1,1,0),0)","v":0}]
[null,null,null,null,null,null,null,null,null,null,null,"Atrasado",null,null,null,0,0,{"$f":"IF(Table26[[#This Row],[Status Medida]]=\"Finalizado\",IF(Table26[[#This Row],[Sim/Não]]=1,1,0),0)","v":0}]
[null,null,null,null,null,null,null,null,null,null,null,"Atrasado",null,null,null,0,0,{"$f":"IF(Table26[[#This Row],[Status Medida]]=\"Finalizado\",IF(Table26[[#This Row],[Sim/Não]]=1,1,0),0)","v":0}]
[null,null,null,null,null,null,null,null,null,null,null,"Atrasado",null,null,null,0,0,{"$f":"IF(Table26[[#This Row],[Status Medida]]=\"Finalizado\",IF(Table26[[#This Row],[Sim/Não]]=1,1,0),0)","v":0}]
[null,null,null,null,null,null,null,null,null,null,null,"Atrasado",null,null,null,0,0,{"$f":"IF(Table26[[#This Row],[Status Medida]]=\"Finalizado\",IF(Table26[[#This Row],[Sim/Não]]=1,1,0),0)","v":0}]
[null,null,null,null,null,null,null,null,null,null,null,"Atrasado",null,null,null,0,0,{"$f":"IF(Table26[[#This Row],[Status Medida]]=\"Finalizado\",IF(Table26[[#This Row],[Sim/Não]]=1,1,0),0)","v":0}]
[null,null,null,null,null,null,null,null,null,null,null,"Atrasado",null,null,null,0,0,{"$f":"IF(Table26[[#This Row],[Status Medida]]=\"Finalizado\",IF(Table26[[#This Row],[Sim/Não]]=1,1,0),0)","v":0}]
[null,null,null,null,null,null,null,null,null,null,null,"Atrasado",null,null,null,0,0,{"$f":"IF(Table26[[#This Row],[Status Medida]]=\"Finalizado\",IF(Table26[[#This Row],[Sim/Não]]=1,1,0),0)","v":0}]
[null,null,null,null,null,null,null,null,null,null,null,"Atrasado",null,null,null,0,0,{"$f":"IF(Table26[[#This Row],[Status Medida]]=\"Finalizado\",IF(Table26[[#This Row],[Sim/Não]]=1,1,0),0)","v":0}]
[null,null,null,null,null,null,null,null,null,null,null,"Atrasado",null,null,null,0,0,{"$f":"IF(Table26[[#This Row],[Status Medida]]=\"Finalizado\",IF(Table26[[#This Row],[Sim/Não]]=1,1,0),0)","v":0}]
[null,null,null,null,null,null,null,null,null,null,null,"Atrasado",null,null,null,0,0,{"$f":"IF(Table26[[#This Row],[Status Medida]]=\"Finalizado\",IF(Table26[[#This Row],[Sim/Não]]=1,1,0),0)","v":0}]
[null,null,null,null,null,null,null,null,null,null,null,"Atrasado",null,null,null,0,0,{"$f":"IF(Table26[[#This Row],[Status Medida]]=\"Finalizado\",IF(Table26[[#This Row],[Sim/Não]]=1,1,0),0)","v":0}]
[null,null,null,null,null,null,null,null,null,null,null,"Atrasado",null,null,null,0,0,{"$f":"IF(Table26[[#This Row],[Status Medida]]=\"Finalizado\",IF(Table26[[#This Row],[Sim/Não]]=1,1,0),0)","v":0}]
[null,null,null,null,null,null,null,null,null,null,null,"Atrasado",null,null,null,0,0,{"$f":"IF(Table26[[#This Row],[Status Medida]]=\"Finalizado\",IF(Table26[[#This Row],[Sim/Não]]=1,1,0),0)","v":0}]
[null,null,null,null,null,null,null,null,null,null,null,"Atrasado",null,null,null,0,0,{"$f":"IF(Table26[[#This Row],[Status Medida]]=\"Finalizado\",IF(Table26[[#This Row],[Sim/Não]]=1,1,0),0)","v":0}]
[null,null,null,null,null,null,null,null,null,null,null,"Atrasado",null,null,null,0,0,{"$f":"IF(Table26[[#This Row],[Status Medida]]=\"Finalizado\",IF(Table26[[#This Row],[Sim/Não]]=1,1,0),0)","v":0}]
[null,null,null,null,null,null,null,null,null,null,null,"Atrasado",null,null,null,0,0,{"$f":"IF(Table26[[#This Row],[Status Medida]]=\"Finalizado\",IF(Table26[[#This Row],[Sim/Não]]=1,1,0),0)","v":0}]
[null,null,null,null,null,null,null,null,null,null,null,"Atrasado",null,null,null,0,0,{"$f":"IF(Table26[[#This Row],[Status Medida]]=\"Finalizado\",IF(Table26[[#This Row],[Sim/Não]]=1,1,0),0)","v":0}]
[null,null,null,null,null,null,null,null,null,null,null,"Atrasado",null,null,null,0,0,{"$f":"IF(Table26[[#This Row],[Status Medida]]=\"Finalizado\",IF(Table26[[#This Row],[Sim/Não]]=1,1,0),0)","v":0}]
[null,null,null,null,null,null,null,null,null,null,null,{"$f":"IF(J5462>K5462,\"Datas inválidas\",IF(M5462=\"Finalizado\",\"Concluído\",IF(J5462>TODAY(),\"Não iniciado\",_xlfn.IFS(J5462=TODAY(),\"Em andamento\",TODAY()>K5462,\"Atrasado\",AND(TODAY()>J5462,TODAY()<=K5462),\"Em andamento\"))))","v":"Atrasado"},null,null,null,{"$f":"IF(O5462=\"Sim\",1,0)","v":0},{"$f":"IF(N5462=E5462,0,1)","v":0},{"$f":"IF(Table26[[#This Row],[Status Medida]]=\"Finalizado\",IF(Table26[[#This Row],[Sim/Não]]=1,1,0),0)","v":0}]
[null,null,null,null,null,null,null,null,null,null,null,"Atrasado",null,null,null,0,0,{"$f":"IF(Table26[[#This Row],[Status Medida]]=\"Finalizado\",IF(Table26[[#This Row],[Sim/Não]]=1,1,0),0)","v":0}]
[null,null,null,null,null,null,null,null,null,null,null,"Atrasado",null,null,null,0,0,{"$f":"IF(Table26[[#This Row],[Status Medida]]=\"Finalizado\",IF(Table26[[#This Row],[Sim/Não]]=1,1,0),0)","v":0}]
[null,null,null,null,null,null,null,null,null,null,null,"Atrasado",null,null,null,0,0,{"$f":"IF(Table26[[#This Row],[Status Medida]]=\"Finalizado\",IF(Table26[[#This Row],[Sim/Não]]=1,1,0),0)","v":0}]
[null,null,null,null,null,null,null,null,null,null,null,"Atrasado",null,null,null,0,0,{"$f":"IF(Table26[[#This Row],[Status Medida]]=\"Finalizado\",IF(Table26[[#This Row],[Sim/Não]]=1,1,0),0)","v":0}]
[null,null,null,null,null,null,null,null,null,null,null,"Atrasado",null,null,null,0,0,{"$f":"IF(Table26[[#This Row],[Status Medida]]=\"Finalizado\",IF(Table26[[#This Row],[Sim/Não]]=1,1,0),0)","v":0}]
[null,null,null,null,null,null,null,null,null,null,null,"Atrasado",null,null,null,0,0,{"$f":"IF(Table26[[#This Row],[Status Medida]]=\"Finalizado\",IF(Table26[[#This Row],[Sim/Não]]=1,1,0),0)","v":0}]
[null,null,null,null,null,null,null,null,null,null,null,"Atrasado",null,null,null,0,0,{"$f":"IF(Table26[[#This Row],[Status Medida]]=\"Finalizado\",IF(Table26[[#This Row],[Sim/Não]]=1,1,0),0)","v":0}]
[null,null,null,null,null,null,null,null,null,null,null,"Atrasado",null,null,null,0,0,{"$f":"IF(Table26[[#This Row],[Status Medida]]=\"Finalizado\",IF(Table26[[#This Row],[Sim/Não]]=1,1,0),0)","v":0}]
[null,null,null,null,null,null,null,null,null,null,null,"Atrasado",null,null,null,0,0,{"$f":"IF(Table26[[#This Row],[Status Medida]]=\"Finalizado\",IF(Table26[[#This Row],[Sim/Não]]=1,1,0),0)","v":0}]
[null,null,null,null,null,null,null,null,null,null,null,"Atrasado",null,null,null,0,0,{"$f":"IF(Table26[[#This Row],[Status Medida]]=\"Finalizado\",IF(Table26[[#This Row],[Sim/Não]]=1,1,0),0)","v":0}]
[null,null,null,null,null,null,null,null,null,null,null,"Atrasado",null,null,null,0,0,{"$f":"IF(Table26[[#This Row],[Status Medida]]=\"Finalizado\",IF(Table26[[#This Row],[Sim/Não]]=1,1,0),0)","v":0}]
[null,null,null,null,null,null,null,null,null,null,null,"Atrasado",null,null,null,0,0,{"$f":"IF(Table26[[#This Row],[Status Medida]]=\"Finalizado\",IF(Table26[[#This Row],[Sim/Não]]=1,1,0),0)","v":0}]
[null,null,null,null,null,null,null,null,null,null,null,"Atrasado",null,null,null,0,0,{"$f":"IF(Table26[[#This Row],[Status Medida]]=\"Finalizado\",IF(Table26[[#This Row],[Sim/Não]]=1,1,0),0)","v":0}]
[null,null,null,null,null,null,null,null,null,null,null,"Atrasado",null,null,null,0,0,{"$f":"IF(Table26[[#This Row],[Status Medida]]=\"Finalizado\",IF(Table26[[#This Row],[Sim/Não]]=1,1,0),0)","v":0}]
[null,null,null,null,null,null,null,null,null,null,null,"Atrasado",null,null,null,0,0,{"$f":"IF(Table26[[#This Row],[Status Medida]]=\"Finalizado\",IF(Table26[[#This Row],[Sim/Não]]=1,1,0),0)","v":0}]
[null,null,null,null,null,null,null,null,null,null,null,"Atrasado",null,null,null,0,0,{"$f":"IF(Table26[[#This Row],[Status Medida]]=\"Finalizado\",IF(Table26[[#This Row],[Sim/Não]]=1,1,0),0)","v":0}]
[null,null,null,null,null,null,null,null,null,null,null,"Atrasado",null,null,null,0,0,{"$f":"IF(Table26[[#This Row],[Status Medida]]=\"Finalizado\",IF(Table26[[#This Row],[Sim/Não]]=1,1,0),0)","v":0}]
[null,null,null,null,null,null,null,null,null,null,null,"Atrasado",null,null,null,0,0,{"$f":"IF(Table26[[#This Row],[Status Medida]]=\"Finalizado\",IF(Table26[[#This Row],[Sim/Não]]=1,1,0),0)","v":0}]
[null,null,null,null,null,null,null,null,null,null,null,"Atrasado",null,null,null,0,0,{"$f":"IF(Table26[[#This Row],[Status Medida]]=\"Finalizado\",IF(Table26[[#This Row],[Sim/Não]]=1,1,0),0)","v":0}]
[null,null,null,null,null,null,null,null,null,null,null,"Atrasado",null,null,null,0,0,{"$f":"IF(Table26[[#This Row],[Status Medida]]=\"Finalizado\",IF(Table26[[#This Row],[Sim/Não]]=1,1,0),0)","v":0}]
[null,null,null,null,null,null,null,null,null,null,null,"Atrasado",null,null,null,0,0,{"$f":"IF(Table26[[#This Row],[Status Medida]]=\"Finalizado\",IF(Table26[[#This Row],[Sim/Não]]=1,1,0),0)","v":0}]
[null,null,null,null,null,null,null,null,null,null,null,"Atrasado",null,null,null,0,0,{"$f":"IF(Table26[[#This Row],[Status Medida]]=\"Finalizado\",IF(Table26[[#This Row],[Sim/Não]]=1,1,0),0)","v":0}]
[null,null,null,null,null,null,null,null,null,null,null,"Atrasado",null,null,null,0,0,{"$f":"IF(Table26[[#This Row],[Status Medida]]=\"Finalizado\",IF(Table26[[#This Row],[Sim/Não]]=1,1,0),0)","v":0}]
[null,null,null,null,null,null,null,null,null,null,null,"Atrasado",null,null,null,0,0,{"$f":"IF(Table26[[#This Row],[Status Medida]]=\"Finalizado\",IF(Table26[[#This Row],[Sim/Não]]=1,1,0),0)","v":0}]
[null,null,null,null,null,null,null,null,null,null,null,"Atrasado",null,null,null,0,0,{"$f":"IF(Table26[[#This Row],[Status Medida]]=\"Finalizado\",IF(Table26[[#This Row],[Sim/Não]]=1,1,0),0)","v":0}]
[null,null,null,null,null,null,null,null,null,null,null,"Atrasado",null,null,null,0,0,{"$f":"IF(Table26[[#This Row],[Status Medida]]=\"Finalizado\",IF(Table26[[#This Row],[Sim/Não]]=1,1,0),0)","v":0}]
[null,null,null,null,null,null,null,null,null,null,null,"Atrasado",null,null,null,0,0,{"$f":"IF(Table26[[#This Row],[Status Medida]]=\"Finalizado\",IF(Table26[[#This Row],[Sim/Não]]=1,1,0),0)","v":0}]
[null,null,null,null,null,null,null,null,null,null,null,"Atrasado",null,null,null,0,0,{"$f":"IF(Table26[[#This Row],[Status Medida]]=\"Finalizado\",IF(Table26[[#This Row],[Sim/Não]]=1,1,0),0)","v":0}]
[null,null,null,null,null,null,null,null,null,null,null,"Atrasado",null,null,null,0,0,{"$f":"IF(Table26[[#This Row],[Status Medida]]=\"Finalizado\",IF(Table26[[#This Row],[Sim/Não]]=1,1,0),0)","v":0}]
[null,null,null,null,null,null,null,null,null,null,null,"Atrasado",null,null,null,0,0,{"$f":"IF(Table26[[#This Row],[Status Medida]]=\"Finalizado\",IF(Table26[[#This Row],[Sim/Não]]=1,1,0),0)","v":0}]
[null,null,null,null,null,null,null,null,null,null,null,"Atrasado",null,null,null,0,0,{"$f":"IF(Table26[[#This Row],[Status Medida]]=\"Finalizado\",IF(Table26[[#This Row],[Sim/Não]]=1,1,0),0)","v":0}]
[null,null,null,null,null,null,null,null,null,null,null,"Atrasado",null,null,null,0,0,{"$f":"IF(Table26[[#This Row],[Status Medida]]=\"Finalizado\",IF(Table26[[#This Row],[Sim/Não]]=1,1,0),0)","v":0}]
[null,null,null,null,null,null,null,null,null,null,null,"Atrasado",null,null,null,0,0,{"$f":"IF(Table26[[#This Row],[Status Medida]]=\"Finalizado\",IF(Table26[[#This Row],[Sim/Não]]=1,1,0),0)","v":0}]
[null,null,null,null,null,null,null,null,null,null,null,"Atrasado",null,null,null,0,0,{"$f":"IF(Table26[[#This Row],[Status Medida]]=\"Finalizado\",IF(Table26[[#This Row],[Sim/Não]]=1,1,0),0)","v":0}]
[null,null,null,null,null,null,null,null,null,null,null,"Atrasado",null,null,null,0,0,{"$f":"IF(Table26[[#This Row],[Status Medida]]=\"Finalizado\",IF(Table26[[#This Row],[Sim/Não]]=1,1,0),0)","v":0}]
[null,null,null,null,null,null,null,null,null,null,null,"Atrasado",null,null,null,0,0,{"$f":"IF(Table26[[#This Row],[Status Medida]]=\"Finalizado\",IF(Table26[[#This Row],[Sim/Não]]=1,1,0),0)","v":0}]
[null,null,null,null,null,null,null,null,null,null,null,"Atrasado",null,null,null,0,0,{"$f":"IF(Table26[[#This Row],[Status Medida]]=\"Finalizado\",IF(Table26[[#This Row],[Sim/Não]]=1,1,0),0)","v":0}]
[null,null,null,null,null,null,null,null,null,null,null,"Atrasado",null,null,null,0,0,{"$f":"IF(Table26[[#This Row],[Status Medida]]=\"Finalizado\",IF(Table26[[#This Row],[Sim/Não]]=1,1,0),0)","v":0}]
[null,null,null,null,null,null,null,null,null,null,null,"Atrasado",null,null,null,0,0,{"$f":"IF(Table26[[#This Row],[Status Medida]]=\"Finalizado\",IF(Table26[[#This Row],[Sim/Não]]=1,1,0),0)","v":0}]
[null,null,null,null,null,null,null,null,null,null,null,"Atrasado",null,null,null,0,0,{"$f":"IF(Table26[[#This Row],[Status Medida]]=\"Finalizado\",IF(Table26[[#This Row],[Sim/Não]]=1,1,0),0)","v":0}]
[null,null,null,null,null,null,null,null,null,null,null,"Atrasado",null,null,null,0,0,{"$f":"IF(Table26[[#This Row],[Status Medida]]=\"Finalizado\",IF(Table26[[#This Row],[Sim/Não]]=1,1,0),0)","v":0}]
[null,null,null,null,null,null,null,null,null,null,null,"Atrasado",null,null,null,0,0,{"$f":"IF(Table26[[#This Row],[Status Medida]]=\"Finalizado\",IF(Table26[[#This Row],[Sim/Não]]=1,1,0),0)","v":0}]
[null,null,null,null,null,null,null,null,null,null,null,"Atrasado",null,null,null,0,0,{"$f":"IF(Table26[[#This Row],[Status Medida]]=\"Finalizado\",IF(Table26[[#This Row],[Sim/Não]]=1,1,0),0)","v":0}]
[null,null,null,null,null,null,null,null,null,null,null,"Atrasado",null,null,null,0,0,{"$f":"IF(Table26[[#This Row],[Status Medida]]=\"Finalizado\",IF(Table26[[#This Row],[Sim/Não]]=1,1,0),0)","v":0}]
[null,null,null,null,null,null,null,null,null,null,null,"Atrasado",null,null,null,0,0,{"$f":"IF(Table26[[#This Row],[Status Medida]]=\"Finalizado\",IF(Table26[[#This Row],[Sim/Não]]=1,1,0),0)","v":0}]
[null,null,null,null,null,null,null,null,null,null,null,"Atrasado",null,null,null,0,0,{"$f":"IF(Table26[[#This Row],[Status Medida]]=\"Finalizado\",IF(Table26[[#This Row],[Sim/Não]]=1,1,0),0)","v":0}]
[null,null,null,null,null,null,null,null,null,null,null,"Atrasado",null,null,null,0,0,{"$f":"IF(Table26[[#This Row],[Status Medida]]=\"Finalizado\",IF(Table26[[#This Row],[Sim/Não]]=1,1,0),0)","v":0}]
[null,null,null,null,null,null,null,null,null,null,null,"Atrasado",null,null,null,0,0,{"$f":"IF(Table26[[#This Row],[Status Medida]]=\"Finalizado\",IF(Table26[[#This Row],[Sim/Não]]=1,1,0),0)","v":0}]
[null,null,null,null,null,null,null,null,null,null,null,"Atrasado",null,null,null,0,0,{"$f":"IF(Table26[[#This Row],[Status Medida]]=\"Finalizado\",IF(Table26[[#This Row],[Sim/Não]]=1,1,0),0)","v":0}]
[null,null,null,null,null,null,null,null,null,null,null,"Atrasado",null,null,null,0,0,{"$f":"IF(Table26[[#This Row],[Status Medida]]=\"Finalizado\",IF(Table26[[#This Row],[Sim/Não]]=1,1,0),0)","v":0}]
[null,null,null,null,null,null,null,null,null,null,null,"Atrasado",null,null,null,0,0,{"$f":"IF(Table26[[#This Row],[Status Medida]]=\"Finalizado\",IF(Table26[[#This Row],[Sim/Não]]=1,1,0),0)","v":0}]
[null,null,null,null,null,null,null,null,null,null,null,"Atrasado",null,null,null,0,0,{"$f":"IF(Table26[[#This Row],[Status Medida]]=\"Finalizado\",IF(Table26[[#This Row],[Sim/Não]]=1,1,0),0)","v":0}]
[null,null,null,null,null,null,null,null,null,null,null,"Atrasado",null,null,null,0,0,{"$f":"IF(Table26[[#This Row],[Status Medida]]=\"Finalizado\",IF(Table26[[#This Row],[Sim/Não]]=1,1,0),0)","v":0}]
[null,null,null,null,null,null,null,null,null,null,null,"Atrasado",null,null,null,0,0,{"$f":"IF(Table26[[#This Row],[Status Medida]]=\"Finalizado\",IF(Table26[[#This Row],[Sim/Não]]=1,1,0),0)","v":0}]
[null,null,null,null,null,null,null,null,null,null,null,"Atrasado",null,null,null,0,0,{"$f":"IF(Table26[[#This Row],[Status Medida]]=\"Finalizado\",IF(Table26[[#This Row],[Sim/Não]]=1,1,0),0)","v":0}]
[null,null,null,null,null,null,null,null,null,null,null,"Atrasado",null,null,null,0,0,{"$f":"IF(Table26[[#This Row],[Status Medida]]=\"Finalizado\",IF(Table26[[#This Row],[Sim/Não]]=1,1,0),0)","v":0}]
[null,null,null,null,null,null,null,null,null,null,null,"Atrasado",null,null,null,0,0,{"$f":"IF(Table26[[#This Row],[Status Medida]]=\"Finalizado\",IF(Table26[[#This Row],[Sim/Não]]=1,1,0),0)","v":0}]
[null,null,null,null,null,null,null,null,null,null,null,"Atrasado",null,null,null,0,0,{"$f":"IF(Table26[[#This Row],[Status Medida]]=\"Finalizado\",IF(Table26[[#This Row],[Sim/Não]]=1,1,0),0)","v":0}]
[null,null,null,null,null,null,null,null,null,null,null,"Atrasado",null,null,null,0,0,{"$f":"IF(Table26[[#This Row],[Status Medida]]=\"Finalizado\",IF(Table26[[#This Row],[Sim/Não]]=1,1,0),0)","v":0}]
[null,null,null,null,null,null,null,null,null,null,null,"Atrasado",null,null,null,0,0,{"$f":"IF(Table26[[#This Row],[Status Medida]]=\"Finalizado\",IF(Table26[[#This Row],[Sim/Não]]=1,1,0),0)","v":0}]
[null,null,null,null,null,null,null,null,null,null,null,"Atrasado",null,null,null,0,0,{"$f":"IF(Table26[[#This Row],[Status Medida]]=\"Finalizado\",IF(Table26[[#This Row],[Sim/Não]]=1,1,0),0)","v":0}]
[null,null,null,null,null,null,null,null,null,null,null,"Atrasado",null,null,null,0,0,{"$f":"IF(Table26[[#This Row],[Status Medida]]=\"Finalizado\",IF(Table26[[#This Row],[Sim/Não]]=1,1,0),0)","v":0}]
[null,null,null,null,null,null,null,null,null,null,null,"Atrasado",null,null,null,0,0,{"$f":"IF(Table26[[#This Row],[Status Medida]]=\"Finalizado\",IF(Table26[[#This Row],[Sim/Não]]=1,1,0),0)","v":0}]
[null,null,null,null,null,null,null,null,null,null,null,"Atrasado",null,null,null,0,0,{"$f":"IF(Table26[[#This Row],[Status Medida]]=\"Finalizado\",IF(Table26[[#This Row],[Sim/Não]]=1,1,0),0)","v":0}]
[null,null,null,null,null,null,null,null,null,null,null,"Atrasado",null,null,null,0,0,{"$f":"IF(Table26[[#This Row],[Status Medida]]=\"Finalizado\",IF(Table26[[#This Row],[Sim/Não]]=1,1,0),0)","v":0}]
[null,null,null,null,null,null,null,null,null,null,null,"Atrasado",null,null,null,0,0,{"$f":"IF(Table26[[#This Row],[Status Medida]]=\"Finalizado\",IF(Table26[[#This Row],[Sim/Não]]=1,1,0),0)","v":0}]
[null,null,null,null,null,null,null,null,null,null,null,"Atrasado",null,null,null,0,0,{"$f":"IF(Table26[[#This Row],[Status Medida]]=\"Finalizado\",IF(Table26[[#This Row],[Sim/Não]]=1,1,0),0)","v":0}]
[null,null,null,null,null,null,null,null,null,null,null,"Atrasado",null,null,null,0,0,{"$f":"IF(Table26[[#This Row],[Status Medida]]=\"Finalizado\",IF(Table26[[#This Row],[Sim/Não]]=1,1,0),0)","v":0}]
[null,null,null,null,null,null,null,null,null,null,null,"Atrasado",null,null,null,0,0,{"$f":"IF(Table26[[#This Row],[Status Medida]]=\"Finalizado\",IF(Table26[[#This Row],[Sim/Não]]=1,1,0),0)","v":0}]
[null,null,null,null,null,null,null,null,null,null,null,"Atrasado",null,null,null,0,0,{"$f":"IF(Table26[[#This Row],[Status Medida]]=\"Finalizado\",IF(Table26[[#This Row],[Sim/Não]]=1,1,0),0)","v":0}]
[null,null,null,null,null,null,null,null,null,null,null,"Atrasado",null,null,null,0,0,{"$f":"IF(Table26[[#This Row],[Status Medida]]=\"Finalizado\",IF(Table26[[#This Row],[Sim/Não]]=1,1,0),0)","v":0}]
[null,null,null,null,null,null,null,null,null,null,null,"Atrasado",null,null,null,0,0,{"$f":"IF(Table26[[#This Row],[Status Medida]]=\"Finalizado\",IF(Table26[[#This Row],[Sim/Não]]=1,1,0),0)","v":0}]
[null,null,null,null,null,null,null,null,null,null,null,"Atrasado",null,null,null,0,0,{"$f":"IF(Table26[[#This Row],[Status Medida]]=\"Finalizado\",IF(Table26[[#This Row],[Sim/Não]]=1,1,0),0)","v":0}]
[null,null,null,null,null,null,null,null,null,null,null,"Atrasado",null,null,null,0,0,{"$f":"IF(Table26[[#This Row],[Status Medida]]=\"Finalizado\",IF(Table26[[#This Row],[Sim/Não]]=1,1,0),0)","v":0}]
[null,null,null,null,null,null,null,null,null,null,null,"Atrasado",null,null,null,0,0,{"$f":"IF(Table26[[#This Row],[Status Medida]]=\"Finalizado\",IF(Table26[[#This Row],[Sim/Não]]=1,1,0),0)","v":0}]
[null,null,null,null,null,null,null,null,null,null,null,"Atrasado",null,null,null,0,0,{"$f":"IF(Table26[[#This Row],[Status Medida]]=\"Finalizado\",IF(Table26[[#This Row],[Sim/Não]]=1,1,0),0)","v":0}]
[null,null,null,null,null,null,null,null,null,null,null,"Atrasado",null,null,null,0,0,{"$f":"IF(Table26[[#This Row],[Status Medida]]=\"Finalizado\",IF(Table26[[#This Row],[Sim/Não]]=1,1,0),0)","v":0}]
[null,null,null,null,null,null,null,null,null,null,null,"Atrasado",null,null,null,0,0,{"$f":"IF(Table26[[#This Row],[Status Medida]]=\"Finalizado\",IF(Table26[[#This Row],[Sim/Não]]=1,1,0),0)","v":0}]
[null,null,null,null,null,null,null,null,null,null,null,"Atrasado",null,null,null,0,0,{"$f":"IF(Table26[[#This Row],[Status Medida]]=\"Finalizado\",IF(Table26[[#This Row],[Sim/Não]]=1,1,0),0)","v":0}]
[null,null,null,null,null,null,null,null,null,null,null,"Atrasado",null,null,null,0,0,{"$f":"IF(Table26[[#This Row],[Status Medida]]=\"Finalizado\",IF(Table26[[#This Row],[Sim/Não]]=1,1,0),0)","v":0}]
[null,null,null,null,null,null,null,null,null,null,null,"Atrasado",null,null,null,0,0,{"$f":"IF(Table26[[#This Row],[Status Medida]]=\"Finalizado\",IF(Table26[[#This Row],[Sim/Não]]=1,1,0),0)","v":0}]
[null,null,null,null,null,null,null,null,null,null,null,"Atrasado",null,null,null,0,0,{"$f":"IF(Table26[[#This Row],[Status Medida]]=\"Finalizado\",IF(Table26[[#This Row],[Sim/Não]]=1,1,0),0)","v":0}]
[null,null,null,null,null,null,null,null,null,null,null,"Atrasado",null,null,null,0,0,{"$f":"IF(Table26[[#This Row],[Status Medida]]=\"Finalizado\",IF(Table26[[#This Row],[Sim/Não]]=1,1,0),0)","v":0}]
[null,null,null,null,null,null,null,null,null,null,null,"Atrasado",null,null,null,0,0,{"$f":"IF(Table26[[#This Row],[Status Medida]]=\"Finalizado\",IF(Table26[[#This Row],[Sim/Não]]=1,1,0),0)","v":0}]
[null,null,null,null,null,null,null,null,null,null,null,"Atrasado",null,null,null,0,0,{"$f":"IF(Table26[[#This Row],[Status Medida]]=\"Finalizado\",IF(Table26[[#This Row],[Sim/Não]]=1,1,0),0)","v":0}]
[null,null,null,null,null,null,null,null,null,null,null,"Atrasado",null,null,null,0,0,{"$f":"IF(Table26[[#This Row],[Status Medida]]=\"Finalizado\",IF(Table26[[#This Row],[Sim/Não]]=1,1,0),0)","v":0}]
[null,null,null,null,null,null,null,null,null,null,null,"Atrasado",null,null,null,0,0,{"$f":"IF(Table26[[#This Row],[Status Medida]]=\"Finalizado\",IF(Table26[[#This Row],[Sim/Não]]=1,1,0),0)","v":0}]
[null,null,null,null,null,null,null,null,null,null,null,"Atrasado",null,null,null,0,0,{"$f":"IF(Table26[[#This Row],[Status Medida]]=\"Finalizado\",IF(Table26[[#This Row],[Sim/Não]]=1,1,0),0)","v":0}]
[null,null,null,null,null,null,null,null,null,null,null,"Atrasado",null,null,null,0,0,{"$f":"IF(Table26[[#This Row],[Status Medida]]=\"Finalizado\",IF(Table26[[#This Row],[Sim/Não]]=1,1,0),0)","v":0}]
[null,null,null,null,null,null,null,null,null,null,null,"Atrasado",null,null,null,0,0,{"$f":"IF(Table26[[#This Row],[Status Medida]]=\"Finalizado\",IF(Table26[[#This Row],[Sim/Não]]=1,1,0),0)","v":0}]
[null,null,null,null,null,null,null,null,null,null,null,"Atrasado",null,null,null,0,0,{"$f":"IF(Table26[[#This Row],[Status Medida]]=\"Finalizado\",IF(Table26[[#This Row],[Sim/Não]]=1,1,0),0)","v":0}]
[null,null,null,null,null,null,null,null,null,null,null,"Atrasado",null,null,null,0,0,{"$f":"IF(Table26[[#This Row],[Status Medida]]=\"Finalizado\",IF(Table26[[#This Row],[Sim/Não]]=1,1,0),0)","v":0}]
[null,null,null,null,null,null,null,null,null,null,null,"Atrasado",null,null,null,0,0,{"$f":"IF(Table26[[#This Row],[Status Medida]]=\"Finalizado\",IF(Table26[[#This Row],[Sim/Não]]=1,1,0),0)","v":0}]
[null,null,null,null,null,null,null,null,null,null,null,"Atrasado",null,null,null,0,0,{"$f":"IF(Table26[[#This Row],[Status Medida]]=\"Finalizado\",IF(Table26[[#This Row],[Sim/Não]]=1,1,0),0)","v":0}]
[null,null,null,null,null,null,null,null,null,null,null,"Atrasado",null,null,null,0,0,{"$f":"IF(Table26[[#This Row],[Status Medida]]=\"Finalizado\",IF(Table26[[#This Row],[Sim/Não]]=1,1,0),0)","v":0}]
[null,null,null,null,null,null,null,null,null,null,null,"Atrasado",null,null,null,0,0,{"$f":"IF(Table26[[#This Row],[Status Medida]]=\"Finalizado\",IF(Table26[[#This Row],[Sim/Não]]=1,1,0),0)","v":0}]
[null,null,null,null,null,null,null,null,null,null,null,"Atrasado",null,null,null,0,0,{"$f":"IF(Table26[[#This Row],[Status Medida]]=\"Finalizado\",IF(Table26[[#This Row],[Sim/Não]]=1,1,0),0)","v":0}]
[null,null,null,null,null,null,null,null,null,null,null,"Atrasado",null,null,null,0,0,{"$f":"IF(Table26[[#This Row],[Status Medida]]=\"Finalizado\",IF(Table26[[#This Row],[Sim/Não]]=1,1,0),0)","v":0}]
[null,null,null,null,null,null,null,null,null,null,null,"Atrasado",null,null,null,0,0,{"$f":"IF(Table26[[#This Row],[Status Medida]]=\"Finalizado\",IF(Table26[[#This Row],[Sim/Não]]=1,1,0),0)","v":0}]
[null,null,null,null,null,null,null,null,null,null,null,"Atrasado",null,null,null,0,0,{"$f":"IF(Table26[[#This Row],[Status Medida]]=\"Finalizado\",IF(Table26[[#This Row],[Sim/Não]]=1,1,0),0)","v":0}]
[null,null,null,null,null,null,null,null,null,null,null,"Atrasado",null,null,null,0,0,{"$f":"IF(Table26[[#This Row],[Status Medida]]=\"Finalizado\",IF(Table26[[#This Row],[Sim/Não]]=1,1,0),0)","v":0}]
[null,null,null,null,null,null,null,null,null,null,null,"Atrasado",null,null,null,0,0,{"$f":"IF(Table26[[#This Row],[Status Medida]]=\"Finalizado\",IF(Table26[[#This Row],[Sim/Não]]=1,1,0),0)","v":0}]
[null,null,null,null,null,null,null,null,null,null,null,"Atrasado",null,null,null,0,0,{"$f":"IF(Table26[[#This Row],[Status Medida]]=\"Finalizado\",IF(Table26[[#This Row],[Sim/Não]]=1,1,0),0)","v":0}]
[null,null,null,null,null,null,null,null,null,null,null,"Atrasado",null,null,null,0,0,{"$f":"IF(Table26[[#This Row],[Status Medida]]=\"Finalizado\",IF(Table26[[#This Row],[Sim/Não]]=1,1,0),0)","v":0}]
[null,null,null,null,null,null,null,null,null,null,null,"Atrasado",null,null,null,0,0,{"$f":"IF(Table26[[#This Row],[Status Medida]]=\"Finalizado\",IF(Table26[[#This Row],[Sim/Não]]=1,1,0),0)","v":0}]
[null,null,null,null,null,null,null,null,null,null,null,"Atrasado",null,null,null,0,0,{"$f":"IF(Table26[[#This Row],[Status Medida]]=\"Finalizado\",IF(Table26[[#This Row],[Sim/Não]]=1,1,0),0)","v":0}]
[null,null,null,null,null,null,null,null,null,null,null,"Atrasado",null,null,null,0,0,{"$f":"IF(Table26[[#This Row],[Status Medida]]=\"Finalizado\",IF(Table26[[#This Row],[Sim/Não]]=1,1,0),0)","v":0}]
[null,null,null,null,null,null,null,null,null,null,null,"Atrasado",null,null,null,0,0,{"$f":"IF(Table26[[#This Row],[Status Medida]]=\"Finalizado\",IF(Table26[[#This Row],[Sim/Não]]=1,1,0),0)","v":0}]
[null,null,null,null,null,null,null,null,null,null,null,"Atrasado",null,null,null,0,0,{"$f":"IF(Table26[[#This Row],[Status Medida]]=\"Finalizado\",IF(Table26[[#This Row],[Sim/Não]]=1,1,0),0)","v":0}]
[null,null,null,null,null,null,null,null,null,null,null,"Atrasado",null,null,null,0,0,{"$f":"IF(Table26[[#This Row],[Status Medida]]=\"Finalizado\",IF(Table26[[#This Row],[Sim/Não]]=1,1,0),0)","v":0}]
[null,null,null,null,null,null,null,null,null,null,null,"Atrasado",null,null,null,0,0,{"$f":"IF(Table26[[#This Row],[Status Medida]]=\"Finalizado\",IF(Table26[[#This Row],[Sim/Não]]=1,1,0),0)","v":0}]
[null,null,null,null,null,null,null,null,null,null,null,"Atrasado",null,null,null,0,0,{"$f":"IF(Table26[[#This Row],[Status Medida]]=\"Finalizado\",IF(Table26[[#This Row],[Sim/Não]]=1,1,0),0)","v":0}]
[null,null,null,null,null,null,null,null,null,null,null,"Atrasado",null,null,null,0,0,{"$f":"IF(Table26[[#This Row],[Status Medida]]=\"Finalizado\",IF(Table26[[#This Row],[Sim/Não]]=1,1,0),0)","v":0}]
[null,null,null,null,null,null,null,null,null,null,null,"Atrasado",null,null,null,0,0,{"$f":"IF(Table26[[#This Row],[Status Medida]]=\"Finalizado\",IF(Table26[[#This Row],[Sim/Não]]=1,1,0),0)","v":0}]
[null,null,null,null,null,null,null,null,null,null,null,{"$f":"IF(J5974>K5974,\"Datas inválidas\",IF(M5974=\"Finalizado\",\"Concluído\",IF(J5974>TODAY(),\"Não iniciado\",_xlfn.IFS(J5974=TODAY(),\"Em andamento\",TODAY()>K5974,\"Atrasado\",AND(TODAY()>J5974,TODAY()<=K5974),\"Em andamento\"))))","v":"Atrasado"},null,null,null,{"$f":"IF(O5974=\"Sim\",1,0)","v":0},{"$f":"IF(N5974=E5974,0,1)","v":0},{"$f":"IF(Table26[[#This Row],[Status Medida]]=\"Finalizado\",IF(Table26[[#This Row],[Sim/Não]]=1,1,0),0)","v":0}]
[null,null,null,null,null,null,null,null,null,null,null,"Atrasado",null,null,null,0,0,{"$f":"IF(Table26[[#This Row],[Status Medida]]=\"Finalizado\",IF(Table26[[#This Row],[Sim/Não]]=1,1,0),0)","v":0}]
[null,null,null,null,null,null,null,null,null,null,null,"Atrasado",null,null,null,0,0,{"$f":"IF(Table26[[#This Row],[Status Medida]]=\"Finalizado\",IF(Table26[[#This Row],[Sim/Não]]=1,1,0),0)","v":0}]
[null,null,null,null,null,null,null,null,null,null,null,"Atrasado",null,null,null,0,0,{"$f":"IF(Table26[[#This Row],[Status Medida]]=\"Finalizado\",IF(Table26[[#This Row],[Sim/Não]]=1,1,0),0)","v":0}]
[null,null,null,null,null,null,null,null,null,null,null,"Atrasado",null,null,null,0,0,{"$f":"IF(Table26[[#This Row],[Status Medida]]=\"Finalizado\",IF(Table26[[#This Row],[Sim/Não]]=1,1,0),0)","v":0}]
[null,null,null,null,null,null,null,null,null,null,null,"Atrasado",null,null,null,0,0,{"$f":"IF(Table26[[#This Row],[Status Medida]]=\"Finalizado\",IF(Table26[[#This Row],[Sim/Não]]=1,1,0),0)","v":0}]
[null,null,null,null,null,null,null,null,null,null,null,"Atrasado",null,null,null,0,0,{"$f":"IF(Table26[[#This Row],[Status Medida]]=\"Finalizado\",IF(Table26[[#This Row],[Sim/Não]]=1,1,0),0)","v":0}]
[null,null,null,null,null,null,null,null,null,null,null,"Atrasado",null,null,null,0,0,{"$f":"IF(Table26[[#This Row],[Status Medida]]=\"Finalizado\",IF(Table26[[#This Row],[Sim/Não]]=1,1,0),0)","v":0}]
[null,null,null,null,null,null,null,null,null,null,null,"Atrasado",null,null,null,0,0,{"$f":"IF(Table26[[#This Row],[Status Medida]]=\"Finalizado\",IF(Table26[[#This Row],[Sim/Não]]=1,1,0),0)","v":0}]
[null,null,null,null,null,null,null,null,null,null,null,"Atrasado",null,null,null,0,0,{"$f":"IF(Table26[[#This Row],[Status Medida]]=\"Finalizado\",IF(Table26[[#This Row],[Sim/Não]]=1,1,0),0)","v":0}]
[null,null,null,null,null,null,null,null,null,null,null,"Atrasado",null,null,null,0,0,{"$f":"IF(Table26[[#This Row],[Status Medida]]=\"Finalizado\",IF(Table26[[#This Row],[Sim/Não]]=1,1,0),0)","v":0}]
[null,null,null,null,null,null,null,null,null,null,null,"Atrasado",null,null,null,0,0,{"$f":"IF(Table26[[#This Row],[Status Medida]]=\"Finalizado\",IF(Table26[[#This Row],[Sim/Não]]=1,1,0),0)","v":0}]
[null,null,null,null,null,null,null,null,null,null,null,"Atrasado",null,null,null,0,0,{"$f":"IF(Table26[[#This Row],[Status Medida]]=\"Finalizado\",IF(Table26[[#This Row],[Sim/Não]]=1,1,0),0)","v":0}]
[null,null,null,null,null,null,null,null,null,null,null,"Atrasado",null,null,null,0,0,{"$f":"IF(Table26[[#This Row],[Status Medida]]=\"Finalizado\",IF(Table26[[#This Row],[Sim/Não]]=1,1,0),0)","v":0}]
[null,null,null,null,null,null,null,null,null,null,null,"Atrasado",null,null,null,0,0,{"$f":"IF(Table26[[#This Row],[Status Medida]]=\"Finalizado\",IF(Table26[[#This Row],[Sim/Não]]=1,1,0),0)","v":0}]
[null,null,null,null,null,null,null,null,null,null,null,"Atrasado",null,null,null,0,0,{"$f":"IF(Table26[[#This Row],[Status Medida]]=\"Finalizado\",IF(Table26[[#This Row],[Sim/Não]]=1,1,0),0)","v":0}]
[null,null,null,null,null,null,null,null,null,null,null,"Atrasado",null,null,null,0,0,{"$f":"IF(Table26[[#This Row],[Status Medida]]=\"Finalizado\",IF(Table26[[#This Row],[Sim/Não]]=1,1,0),0)","v":0}]
[null,null,null,null,null,null,null,null,null,null,null,"Atrasado",null,null,null,0,0,{"$f":"IF(Table26[[#This Row],[Status Medida]]=\"Finalizado\",IF(Table26[[#This Row],[Sim/Não]]=1,1,0),0)","v":0}]
[null,null,null,null,null,null,null,null,null,null,null,"Atrasado",null,null,null,0,0,{"$f":"IF(Table26[[#This Row],[Status Medida]]=\"Finalizado\",IF(Table26[[#This Row],[Sim/Não]]=1,1,0),0)","v":0}]
[null,null,null,null,null,null,null,null,null,null,null,"Atrasado",null,null,null,0,0,{"$f":"IF(Table26[[#This Row],[Status Medida]]=\"Finalizado\",IF(Table26[[#This Row],[Sim/Não]]=1,1,0),0)","v":0}]
[null,null,null,null,null,null,null,null,null,null,null,"Atrasado",null,null,null,0,0,{"$f":"IF(Table26[[#This Row],[Status Medida]]=\"Finalizado\",IF(Table26[[#This Row],[Sim/Não]]=1,1,0),0)","v":0}]
[null,null,null,null,null,null,null,null,null,null,null,"Atrasado",null,null,null,0,0,{"$f":"IF(Table26[[#This Row],[Status Medida]]=\"Finalizado\",IF(Table26[[#This Row],[Sim/Não]]=1,1,0),0)","v":0}]
[null,null,null,null,null,null,null,null,null,null,null,"Atrasado",null,null,null,0,0,{"$f":"IF(Table26[[#This Row],[Status Medida]]=\"Finalizado\",IF(Table26[[#This Row],[Sim/Não]]=1,1,0),0)","v":0}]
[null,null,null,null,null,null,null,null,null,null,null,"Atrasado",null,null,null,0,0,{"$f":"IF(Table26[[#This Row],[Status Medida]]=\"Finalizado\",IF(Table26[[#This Row],[Sim/Não]]=1,1,0),0)","v":0}]
[null,null,null,null,null,null,null,null,null,null,null,"Atrasado",null,null,null,0,0,{"$f":"IF(Table26[[#This Row],[Status Medida]]=\"Finalizado\",IF(Table26[[#This Row],[Sim/Não]]=1,1,0),0)","v":0}]
[null,null,null,null,null,null,null,null,null,null,null,"Atrasado",null,null,null,0,0,{"$f":"IF(Table26[[#This Row],[Status Medida]]=\"Finalizado\",IF(Table26[[#This Row],[Sim/Não]]=1,1,0),0)","v":0}]
[null,null,null,null,null,null,null,null,null,null,null,"Atrasado",null,null,null,0,0,{"$f":"IF(Table26[[#This Row],[Status Medida]]=\"Finalizado\",IF(Table26[[#This Row],[Sim/Não]]=1,1,0),0)","v":0}]
[null,null,null,null,null,null,null,null,null,null,null,"Atrasado",null,null,null,0,0,{"$f":"IF(Table26[[#This Row],[Status Medida]]=\"Finalizado\",IF(Table26[[#This Row],[Sim/Não]]=1,1,0),0)","v":0}]
[null,null,null,null,null,null,null,null,null,null,null,"Atrasado",null,null,null,0,0,{"$f":"IF(Table26[[#This Row],[Status Medida]]=\"Finalizado\",IF(Table26[[#This Row],[Sim/Não]]=1,1,0),0)","v":0}]
[null,null,null,null,null,null,null,null,null,null,null,"Atrasado",null,null,null,0,0,{"$f":"IF(Table26[[#This Row],[Status Medida]]=\"Finalizado\",IF(Table26[[#This Row],[Sim/Não]]=1,1,0),0)","v":0}]
[null,null,null,null,null,null,null,null,null,null,null,"Atrasado",null,null,null,0,0,{"$f":"IF(Table26[[#This Row],[Status Medida]]=\"Finalizado\",IF(Table26[[#This Row],[Sim/Não]]=1,1,0),0)","v":0}]
[null,null,null,null,null,null,null,null,null,null,null,"Atrasado",null,null,null,0,0,{"$f":"IF(Table26[[#This Row],[Status Medida]]=\"Finalizado\",IF(Table26[[#This Row],[Sim/Não]]=1,1,0),0)","v":0}]
[null,null,null,null,null,null,null,null,null,null,null,"Atrasado",null,null,null,0,0,{"$f":"IF(Table26[[#This Row],[Status Medida]]=\"Finalizado\",IF(Table26[[#This Row],[Sim/Não]]=1,1,0),0)","v":0}]
[null,null,null,null,null,null,null,null,null,null,null,"Atrasado",null,null,null,0,0,{"$f":"IF(Table26[[#This Row],[Status Medida]]=\"Finalizado\",IF(Table26[[#This Row],[Sim/Não]]=1,1,0),0)","v":0}]
[null,null,null,null,null,null,null,null,null,null,null,"Atrasado",null,null,null,0,0,{"$f":"IF(Table26[[#This Row],[Status Medida]]=\"Finalizado\",IF(Table26[[#This Row],[Sim/Não]]=1,1,0),0)","v":0}]
[null,null,null,null,null,null,null,null,null,null,null,"Atrasado",null,null,null,0,0,{"$f":"IF(Table26[[#This Row],[Status Medida]]=\"Finalizado\",IF(Table26[[#This Row],[Sim/Não]]=1,1,0),0)","v":0}]
[null,null,null,null,null,null,null,null,null,null,null,"Atrasado",null,null,null,0,0,{"$f":"IF(Table26[[#This Row],[Status Medida]]=\"Finalizado\",IF(Table26[[#This Row],[Sim/Não]]=1,1,0),0)","v":0}]
[null,null,null,null,null,null,null,null,null,null,null,"Atrasado",null,null,null,0,0,{"$f":"IF(Table26[[#This Row],[Status Medida]]=\"Finalizado\",IF(Table26[[#This Row],[Sim/Não]]=1,1,0),0)","v":0}]
[null,null,null,null,null,null,null,null,null,null,null,"Atrasado",null,null,null,0,0,{"$f":"IF(Table26[[#This Row],[Status Medida]]=\"Finalizado\",IF(Table26[[#This Row],[Sim/Não]]=1,1,0),0)","v":0}]
[null,null,null,null,null,null,null,null,null,null,null,"Atrasado",null,null,null,0,0,{"$f":"IF(Table26[[#This Row],[Status Medida]]=\"Finalizado\",IF(Table26[[#This Row],[Sim/Não]]=1,1,0),0)","v":0}]
[null,null,null,null,null,null,null,null,null,null,null,"Atrasado",null,null,null,0,0,{"$f":"IF(Table26[[#This Row],[Status Medida]]=\"Finalizado\",IF(Table26[[#This Row],[Sim/Não]]=1,1,0),0)","v":0}]
[null,null,null,null,null,null,null,null,null,null,null,{"$f":"IF(J6157>K6157,\"Datas inválidas\",IF(M6157=\"Finalizado\",\"Concluído\",IF(J6157>TODAY(),\"Não iniciado\",_xlfn.IFS(J6157=TODAY(),\"Em andamento\",TODAY()>K6157,\"Atrasado\",AND(TODAY()>J6157,TODAY()<=K6157),\"Em andamento\"))))","v":"Atrasado"},null,null,null,{"$f":"IF(O6157=\"Sim\",1,0)","v":0},{"$f":"IF(N6157=E6157,0,1)","v":0},{"$f":"IF(Table26[[#This Row],[Status Medida]]=\"Finalizado\",IF(Table26[[#This Row],[Sim/Não]]=1,1,0),0)","v":0}]
[null,null,null,null,null,null,null,null,null,null,null,"Atrasado",null,null,null,0,0,{"$f":"IF(Table26[[#This Row],[Status Medida]]=\"Finalizado\",IF(Table26[[#This Row],[Sim/Não]]=1,1,0),0)","v":0}]
[null,null,null,null,null,null,null,null,null,null,null,"Atrasado",null,null,null,0,0,{"$f":"IF(Table26[[#This Row],[Status Medida]]=\"Finalizado\",IF(Table26[[#This Row],[Sim/Não]]=1,1,0),0)","v":0}]
[null,null,null,null,null,null,null,null,null,null,null,"Atrasado",null,null,null,0,0,{"$f":"IF(Table26[[#This Row],[Status Medida]]=\"Finalizado\",IF(Table26[[#This Row],[Sim/Não]]=1,1,0),0)","v":0}]
[null,null,null,null,null,null,null,null,null,null,null,"Atrasado",null,null,null,0,0,{"$f":"IF(Table26[[#This Row],[Status Medida]]=\"Finalizado\",IF(Table26[[#This Row],[Sim/Não]]=1,1,0),0)","v":0}]
[null,null,null,null,null,null,null,null,null,null,null,"Atrasado",null,null,null,0,0,{"$f":"IF(Table26[[#This Row],[Status Medida]]=\"Finalizado\",IF(Table26[[#This Row],[Sim/Não]]=1,1,0),0)","v":0}]
[null,null,null,null,null,null,null,null,null,null,null,"Atrasado",null,null,null,0,0,{"$f":"IF(Table26[[#This Row],[Status Medida]]=\"Finalizado\",IF(Table26[[#This Row],[Sim/Não]]=1,1,0),0)","v":0}]
[null,null,null,null,null,null,null,null,null,null,null,"Atrasado",null,null,null,0,0,{"$f":"IF(Table26[[#This Row],[Status Medida]]=\"Finalizado\",IF(Table26[[#This Row],[Sim/Não]]=1,1,0),0)","v":0}]
[null,null,null,null,null,null,null,null,null,null,null,"Atrasado",null,null,null,0,0,{"$f":"IF(Table26[[#This Row],[Status Medida]]=\"Finalizado\",IF(Table26[[#This Row],[Sim/Não]]=1,1,0),0)","v":0}]
[null,null,null,null,null,null,null,null,null,null,null,"Atrasado",null,null,null,0,0,{"$f":"IF(Table26[[#This Row],[Status Medida]]=\"Finalizado\",IF(Table26[[#This Row],[Sim/Não]]=1,1,0),0)","v":0}]
[null,null,null,null,null,null,null,null,null,null,null,"Atrasado",null,null,null,0,0,{"$f":"IF(Table26[[#This Row],[Status Medida]]=\"Finalizado\",IF(Table26[[#This Row],[Sim/Não]]=1,1,0),0)","v":0}]
[null,null,null,null,null,null,null,null,null,null,null,"Atrasado",null,null,null,0,0,{"$f":"IF(Table26[[#This Row],[Status Medida]]=\"Finalizado\",IF(Table26[[#This Row],[Sim/Não]]=1,1,0),0)","v":0}]
[null,null,null,null,null,null,null,null,null,null,null,"Atrasado",null,null,null,0,0,{"$f":"IF(Table26[[#This Row],[Status Medida]]=\"Finalizado\",IF(Table26[[#This Row],[Sim/Não]]=1,1,0),0)","v":0}]
[null,null,null,null,null,null,null,null,null,null,null,"Atrasado",null,null,null,0,0,{"$f":"IF(Table26[[#This Row],[Status Medida]]=\"Finalizado\",IF(Table26[[#This Row],[Sim/Não]]=1,1,0),0)","v":0}]
[null,null,null,null,null,null,null,null,null,null,null,"Atrasado",null,null,null,0,0,{"$f":"IF(Table26[[#This Row],[Status Medida]]=\"Finalizado\",IF(Table26[[#This Row],[Sim/Não]]=1,1,0),0)","v":0}]
[null,null,null,null,null,null,null,null,null,null,null,"Atrasado",null,null,null,0,0,{"$f":"IF(Table26[[#This Row],[Status Medida]]=\"Finalizado\",IF(Table26[[#This Row],[Sim/Não]]=1,1,0),0)","v":0}]
[null,null,null,null,null,null,null,null,null,null,null,"Atrasado",null,null,null,0,0,{"$f":"IF(Table26[[#This Row],[Status Medida]]=\"Finalizado\",IF(Table26[[#This Row],[Sim/Não]]=1,1,0),0)","v":0}]
[null,null,null,null,null,null,null,null,null,null,null,"Atrasado",null,null,null,0,0,{"$f":"IF(Table26[[#This Row],[Status Medida]]=\"Finalizado\",IF(Table26[[#This Row],[Sim/Não]]=1,1,0),0)","v":0}]
[null,null,null,null,null,null,null,null,null,null,null,"Atrasado",null,null,null,0,0,{"$f":"IF(Table26[[#This Row],[Status Medida]]=\"Finalizado\",IF(Table26[[#This Row],[Sim/Não]]=1,1,0),0)","v":0}]
[null,null,null,null,null,null,null,null,null,null,null,"Atrasado",null,null,null,0,0,{"$f":"IF(Table26[[#This Row],[Status Medida]]=\"Finalizado\",IF(Table26[[#This Row],[Sim/Não]]=1,1,0),0)","v":0}]
[null,null,null,null,null,null,null,null,null,null,null,"Atrasado",null,null,null,0,0,{"$f":"IF(Table26[[#This Row],[Status Medida]]=\"Finalizado\",IF(Table26[[#This Row],[Sim/Não]]=1,1,0),0)","v":0}]
[null,null,null,null,null,null,null,null,null,null,null,"Atrasado",null,null,null,0,0,{"$f":"IF(Table26[[#This Row],[Status Medida]]=\"Finalizado\",IF(Table26[[#This Row],[Sim/Não]]=1,1,0),0)","v":0}]
[null,null,null,null,null,null,null,null,null,null,null,"Atrasado",null,null,null,0,0,{"$f":"IF(Table26[[#This Row],[Status Medida]]=\"Finalizado\",IF(Table26[[#This Row],[Sim/Não]]=1,1,0),0)","v":0}]
[null,null,null,null,null,null,null,null,null,null,null,"Atrasado",null,null,null,0,0,{"$f":"IF(Table26[[#This Row],[Status Medida]]=\"Finalizado\",IF(Table26[[#This Row],[Sim/Não]]=1,1,0),0)","v":0}]
[null,null,null,null,null,null,null,null,null,null,null,"Atrasado",null,null,null,0,0,{"$f":"IF(Table26[[#This Row],[Status Medida]]=\"Finalizado\",IF(Table26[[#This Row],[Sim/Não]]=1,1,0),0)","v":0}]
[null,null,null,null,null,null,null,null,null,null,null,"Atrasado",null,null,null,0,0,{"$f":"IF(Table26[[#This Row],[Status Medida]]=\"Finalizado\",IF(Table26[[#This Row],[Sim/Não]]=1,1,0),0)","v":0}]
[null,null,null,null,null,null,null,null,null,null,null,"Atrasado",null,null,null,0,0,{"$f":"IF(Table26[[#This Row],[Status Medida]]=\"Finalizado\",IF(Table26[[#This Row],[Sim/Não]]=1,1,0),0)","v":0}]
[null,null,null,null,null,null,null,null,null,null,null,"Atrasado",null,null,null,0,0,{"$f":"IF(Table26[[#This Row],[Status Medida]]=\"Finalizado\",IF(Table26[[#This Row],[Sim/Não]]=1,1,0),0)","v":0}]
[null,null,null,null,null,null,null,null,null,null,null,"Atrasado",null,null,null,0,0,{"$f":"IF(Table26[[#This Row],[Status Medida]]=\"Finalizado\",IF(Table26[[#This Row],[Sim/Não]]=1,1,0),0)","v":0}]
[null,null,null,null,null,null,null,null,null,null,null,"Atrasado",null,null,null,0,0,{"$f":"IF(Table26[[#This Row],[Status Medida]]=\"Finalizado\",IF(Table26[[#This Row],[Sim/Não]]=1,1,0),0)","v":0}]
[null,null,null,null,null,null,null,null,null,null,null,"Atrasado",null,null,null,0,0,{"$f":"IF(Table26[[#This Row],[Status Medida]]=\"Finalizado\",IF(Table26[[#This Row],[Sim/Não]]=1,1,0),0)","v":0}]
[null,null,null,null,null,null,null,null,null,null,null,"Atrasado",null,null,null,0,0,{"$f":"IF(Table26[[#This Row],[Status Medida]]=\"Finalizado\",IF(Table26[[#This Row],[Sim/Não]]=1,1,0),0)","v":0}]
[null,null,null,null,null,null,null,null,null,null,null,"Atrasado",null,null,null,0,0,{"$f":"IF(Table26[[#This Row],[Status Medida]]=\"Finalizado\",IF(Table26[[#This Row],[Sim/Não]]=1,1,0),0)","v":0}]
[null,null,null,null,null,null,null,null,null,null,null,"Atrasado",null,null,null,0,0,{"$f":"IF(Table26[[#This Row],[Status Medida]]=\"Finalizado\",IF(Table26[[#This Row],[Sim/Não]]=1,1,0),0)","v":0}]
[null,null,null,null,null,null,null,null,null,null,null,"Atrasado",null,null,null,0,0,{"$f":"IF(Table26[[#This Row],[Status Medida]]=\"Finalizado\",IF(Table26[[#This Row],[Sim/Não]]=1,1,0),0)","v":0}]
[null,null,null,null,null,null,null,null,null,null,null,"Atrasado",null,null,null,0,0,{"$f":"IF(Table26[[#This Row],[Status Medida]]=\"Finalizado\",IF(Table26[[#This Row],[Sim/Não]]=1,1,0),0)","v":0}]
[null,null,null,null,null,null,null,null,null,null,null,"Atrasado",null,null,null,0,0,{"$f":"IF(Table26[[#This Row],[Status Medida]]=\"Finalizado\",IF(Table26[[#This Row],[Sim/Não]]=1,1,0),0)","v":0}]
[null,null,null,null,null,null,null,null,null,null,null,"Atrasado",null,null,null,0,0,{"$f":"IF(Table26[[#This Row],[Status Medida]]=\"Finalizado\",IF(Table26[[#This Row],[Sim/Não]]=1,1,0),0)","v":0}]
[null,null,null,null,null,null,null,null,null,null,null,{"$f":"IF(J6329>K6329,\"Datas inválidas\",IF(M6329=\"Finalizado\",\"Concluído\",IF(J6329>TODAY(),\"Não iniciado\",_xlfn.IFS(J6329=TODAY(),\"Em andamento\",TODAY()>K6329,\"Atrasado\",AND(TODAY()>J6329,TODAY()<=K6329),\"Em andamento\"))))","v":"Atrasado"},null,null,null,{"$f":"IF(O6329=\"Sim\",1,0)","v":0},{"$f":"IF(N6329=E6329,0,1)","v":0},{"$f":"IF(Table26[[#This Row],[Status Medida]]=\"Finalizado\",IF(Table26[[#This Row],[Sim/Não]]=1,1,0),0)","v":0}]
[null,null,null,null,null,null,null,null,null,null,null,"Atrasado",null,null,null,0,0,{"$f":"IF(Table26[[#This Row],[Status Medida]]=\"Finalizado\",IF(Table26[[#This Row],[Sim/Não]]=1,1,0),0)","v":0}]
[null,null,null,null,null,null,null,null,null,null,null,"Atrasado",null,null,null,0,0,{"$f":"IF(Table26[[#This Row],[Status Medida]]=\"Finalizado\",IF(Table26[[#This Row],[Sim/Não]]=1,1,0),0)","v":0}]
[null,null,null,null,null,null,null,null,null,null,null,"Atrasado",null,null,null,0,0,{"$f":"IF(Table26[[#This Row],[Status Medida]]=\"Finalizado\",IF(Table26[[#This Row],[Sim/Não]]=1,1,0),0)","v":0}]
[null,null,null,null,null,null,null,null,null,null,null,"Atrasado",null,null,null,0,0,{"$f":"IF(Table26[[#This Row],[Status Medida]]=\"Finalizado\",IF(Table26[[#This Row],[Sim/Não]]=1,1,0),0)","v":0}]
[null,null,null,null,null,null,null,null,null,null,null,"Atrasado",null,null,null,0,0,{"$f":"IF(Table26[[#This Row],[Status Medida]]=\"Finalizado\",IF(Table26[[#This Row],[Sim/Não]]=1,1,0),0)","v":0}]
[null,null,null,null,null,null,null,null,null,null,null,"Atrasado",null,null,null,0,0,{"$f":"IF(Table26[[#This Row],[Status Medida]]=\"Finalizado\",IF(Table26[[#This Row],[Sim/Não]]=1,1,0),0)","v":0}]
[null,null,null,null,null,null,null,null,null,null,null,"Atrasado",null,null,null,0,0,{"$f":"IF(Table26[[#This Row],[Status Medida]]=\"Finalizado\",IF(Table26[[#This Row],[Sim/Não]]=1,1,0),0)","v":0}]
[null,null,null,null,null,null,null,null,null,null,null,"Atrasado",null,null,null,0,0,{"$f":"IF(Table26[[#This Row],[Status Medida]]=\"Finalizado\",IF(Table26[[#This Row],[Sim/Não]]=1,1,0),0)","v":0}]
[null,null,null,null,null,null,null,null,null,null,null,"Atrasado",null,null,null,0,0,{"$f":"IF(Table26[[#This Row],[Status Medida]]=\"Finalizado\",IF(Table26[[#This Row],[Sim/Não]]=1,1,0),0)","v":0}]
[null,null,null,null,null,null,null,null,null,null,null,"Atrasado",null,null,null,0,0,{"$f":"IF(Table26[[#This Row],[Status Medida]]=\"Finalizado\",IF(Table26[[#This Row],[Sim/Não]]=1,1,0),0)","v":0}]
[null,null,null,null,null,null,null,null,null,null,null,"Atrasado",null,null,null,0,0,{"$f":"IF(Table26[[#This Row],[Status Medida]]=\"Finalizado\",IF(Table26[[#This Row],[Sim/Não]]=1,1,0),0)","v":0}]
[null,null,null,null,null,null,null,null,null,null,null,"Atrasado",null,null,null,0,0,{"$f":"IF(Table26[[#This Row],[Status Medida]]=\"Finalizado\",IF(Table26[[#This Row],[Sim/Não]]=1,1,0),0)","v":0}]
[null,null,null,null,null,null,null,null,null,null,null,"Atrasado",null,null,null,0,0,{"$f":"IF(Table26[[#This Row],[Status Medida]]=\"Finalizado\",IF(Table26[[#This Row],[Sim/Não]]=1,1,0),0)","v":0}]
[null,null,null,null,null,null,null,null,null,null,null,"Atrasado",null,null,null,0,0,{"$f":"IF(Table26[[#This Row],[Status Medida]]=\"Finalizado\",IF(Table26[[#This Row],[Sim/Não]]=1,1,0),0)","v":0}]
[null,null,null,null,null,null,null,null,null,null,null,"Atrasado",null,null,null,0,0,{"$f":"IF(Table26[[#This Row],[Status Medida]]=\"Finalizado\",IF(Table26[[#This Row],[Sim/Não]]=1,1,0),0)","v":0}]
[null,null,null,null,null,null,null,null,null,null,null,"Atrasado",null,null,null,0,0,{"$f":"IF(Table26[[#This Row],[Status Medida]]=\"Finalizado\",IF(Table26[[#This Row],[Sim/Não]]=1,1,0),0)","v":0}]
[null,null,null,null,null,null,null,null,null,null,null,"Atrasado",null,null,null,0,0,{"$f":"IF(Table26[[#This Row],[Status Medida]]=\"Finalizado\",IF(Table26[[#This Row],[Sim/Não]]=1,1,0),0)","v":0}]
[null,null,null,null,null,null,null,null,null,null,null,"Atrasado",null,null,null,0,0,{"$f":"IF(Table26[[#This Row],[Status Medida]]=\"Finalizado\",IF(Table26[[#This Row],[Sim/Não]]=1,1,0),0)","v":0}]
[null,null,null,null,null,null,null,null,null,null,null,"Atrasado",null,null,null,0,0,{"$f":"IF(Table26[[#This Row],[Status Medida]]=\"Finalizado\",IF(Table26[[#This Row],[Sim/Não]]=1,1,0),0)","v":0}]
[null,null,null,null,null,null,null,null,null,null,null,"Atrasado",null,null,null,0,0,{"$f":"IF(Table26[[#This Row],[Status Medida]]=\"Finalizado\",IF(Table26[[#This Row],[Sim/Não]]=1,1,0),0)","v":0}]
[null,null,null,null,null,null,null,null,null,null,null,"Atrasado",null,null,null,0,0,{"$f":"IF(Table26[[#This Row],[Status Medida]]=\"Finalizado\",IF(Table26[[#This Row],[Sim/Não]]=1,1,0),0)","v":0}]
[null,null,null,null,null,null,null,null,null,null,null,"Atrasado",null,null,null,0,0,{"$f":"IF(Table26[[#This Row],[Status Medida]]=\"Finalizado\",IF(Table26[[#This Row],[Sim/Não]]=1,1,0),0)","v":0}]
[null,null,null,null,null,null,null,null,null,null,null,"Atrasado",null,null,null,0,0,{"$f":"IF(Table26[[#This Row],[Status Medida]]=\"Finalizado\",IF(Table26[[#This Row],[Sim/Não]]=1,1,0),0)","v":0}]
[null,null,null,null,null,null,null,null,null,null,null,"Atrasado",null,null,null,0,0,{"$f":"IF(Table26[[#This Row],[Status Medida]]=\"Finalizado\",IF(Table26[[#This Row],[Sim/Não]]=1,1,0),0)","v":0}]
[null,null,null,null,null,null,null,null,null,null,null,"Atrasado",null,null,null,0,0,{"$f":"IF(Table26[[#This Row],[Status Medida]]=\"Finalizado\",IF(Table26[[#This Row],[Sim/Não]]=1,1,0),0)","v":0}]
[null,null,null,null,null,null,null,null,null,null,null,"Atrasado",null,null,null,0,0,{"$f":"IF(Table26[[#This Row],[Status Medida]]=\"Finalizado\",IF(Table26[[#This Row],[Sim/Não]]=1,1,0),0)","v":0}]
[null,null,null,null,null,null,null,null,null,null,null,{"$f":"IF(J6447>K6447,\"Datas inválidas\",IF(M6447=\"Finalizado\",\"Concluído\",IF(J6447>TODAY(),\"Não iniciado\",_xlfn.IFS(J6447=TODAY(),\"Em andamento\",TODAY()>K6447,\"Atrasado\",AND(TODAY()>J6447,TODAY()<=K6447),\"Em andamento\"))))","v":"Atrasado"},null,null,null,{"$f":"IF(O6447=\"Sim\",1,0)","v":0},{"$f":"IF(N6447=E6447,0,1)","v":0},{"$f":"IF(Table26[[#This Row],[Status Medida]]=\"Finalizado\",IF(Table26[[#This Row],[Sim/Não]]=1,1,0),0)","v":0}]
[null,null,null,null,null,null,null,null,null,null,null,"Atrasado",null,null,null,0,0,{"$f":"IF(Table26[[#This Row],[Status Medida]]=\"Finalizado\",IF(Table26[[#This Row],[Sim/Não]]=1,1,0),0)","v":0}]
[null,null,null,null,null,null,null,null,null,null,null,"Atrasado",null,null,null,0,0,{"$f":"IF(Table26[[#This Row],[Status Medida]]=\"Finalizado\",IF(Table26[[#This Row],[Sim/Não]]=1,1,0),0)","v":0}]
[null,null,null,null,null,null,null,null,null,null,null,"Atrasado",null,null,null,0,0,{"$f":"IF(Table26[[#This Row],[Status Medida]]=\"Finalizado\",IF(Table26[[#This Row],[Sim/Não]]=1,1,0),0)","v":0}]
[null,null,null,null,null,null,null,null,null,null,null,"Atrasado",null,null,null,0,0,{"$f":"IF(Table26[[#This Row],[Status Medida]]=\"Finalizado\",IF(Table26[[#This Row],[Sim/Não]]=1,1,0),0)","v":0}]
[null,null,null,null,null,null,null,null,null,null,null,"Atrasado",null,null,null,0,0,{"$f":"IF(Table26[[#This Row],[Status Medida]]=\"Finalizado\",IF(Table26[[#This Row],[Sim/Não]]=1,1,0),0)","v":0}]
[null,null,null,null,null,null,null,null,null,null,null,"Atrasado",null,null,null,0,0,{"$f":"IF(Table26[[#This Row],[Status Medida]]=\"Finalizado\",IF(Table26[[#This Row],[Sim/Não]]=1,1,0),0)","v":0}]
[null,null,null,null,null,null,null,null,null,null,null,"Atrasado",null,null,null,0,0,{"$f":"IF(Table26[[#This Row],[Status Medida]]=\"Finalizado\",IF(Table26[[#This Row],[Sim/Não]]=1,1,0),0)","v":0}]
[null,null,null,null,null,null,null,null,null,null,null,"Atrasado",null,null,null,0,0,{"$f":"IF(Table26[[#This Row],[Status Medida]]=\"Finalizado\",IF(Table26[[#This Row],[Sim/Não]]=1,1,0),0)","v":0}]
[null,null,null,null,null,null,null,null,null,null,null,"Atrasado",null,null,null,0,0,{"$f":"IF(Table26[[#This Row],[Status Medida]]=\"Finalizado\",IF(Table26[[#This Row],[Sim/Não]]=1,1,0),0)","v":0}]
[null,null,null,null,null,null,null,null,null,null,null,"Atrasado",null,null,null,0,0,{"$f":"IF(Table26[[#This Row],[Status Medida]]=\"Finalizado\",IF(Table26[[#This Row],[Sim/Não]]=1,1,0),0)","v":0}]
[null,null,null,null,null,null,null,null,null,null,null,"Atrasado",null,null,null,0,0,{"$f":"IF(Table26[[#This Row],[Status Medida]]=\"Finalizado\",IF(Table26[[#This Row],[Sim/Não]]=1,1,0),0)","v":0}]
[null,null,null,null,null,null,null,null,null,null,null,"Atrasado",null,null,null,0,0,{"$f":"IF(Table26[[#This Row],[Status Medida]]=\"Finalizado\",IF(Table26[[#This Row],[Sim/Não]]=1,1,0),0)","v":0}]
[null,null,null,null,null,null,null,null,null,null,null,"Atrasado",null,null,null,0,0,{"$f":"IF(Table26[[#This Row],[Status Medida]]=\"Finalizado\",IF(Table26[[#This Row],[Sim/Não]]=1,1,0),0)","v":0}]
[null,null,null,null,null,null,null,null,null,null,null,"Atrasado",null,null,null,0,0,{"$f":"IF(Table26[[#This Row],[Status Medida]]=\"Finalizado\",IF(Table26[[#This Row],[Sim/Não]]=1,1,0),0)","v":0}]
[null,null,null,null,null,null,null,null,null,null,null,"Atrasado",null,null,null,0,0,{"$f":"IF(Table26[[#This Row],[Status Medida]]=\"Finalizado\",IF(Table26[[#This Row],[Sim/Não]]=1,1,0),0)","v":0}]
[null,null,null,null,null,null,null,null,null,null,null,"Atrasado",null,null,null,0,0,{"$f":"IF(Table26[[#This Row],[Status Medida]]=\"Finalizado\",IF(Table26[[#This Row],[Sim/Não]]=1,1,0),0)","v":0}]
[null,null,null,null,null,null,null,null,null,null,null,"Atrasado",null,null,null,0,0,{"$f":"IF(Table26[[#This Row],[Status Medida]]=\"Finalizado\",IF(Table26[[#This Row],[Sim/Não]]=1,1,0),0)","v":0}]
[null,null,null,null,null,null,null,null,null,null,null,"Atrasado",null,null,null,0,0,{"$f":"IF(Table26[[#This Row],[Status Medida]]=\"Finalizado\",IF(Table26[[#This Row],[Sim/Não]]=1,1,0),0)","v":0}]
[null,null,null,null,null,null,null,null,null,null,null,"Atrasado",null,null,null,0,0,{"$f":"IF(Table26[[#This Row],[Status Medida]]=\"Finalizado\",IF(Table26[[#This Row],[Sim/Não]]=1,1,0),0)","v":0}]
[null,null,null,null,null,null,null,null,null,null,null,"Atrasado",null,null,null,0,0,{"$f":"IF(Table26[[#This Row],[Status Medida]]=\"Finalizado\",IF(Table26[[#This Row],[Sim/Não]]=1,1,0),0)","v":0}]
[null,null,null,null,null,null,null,null,null,null,null,"Atrasado",null,null,null,0,0,{"$f":"IF(Table26[[#This Row],[Status Medida]]=\"Finalizado\",IF(Table26[[#This Row],[Sim/Não]]=1,1,0),0)","v":0}]
[null,null,null,null,null,null,null,null,null,null,null,"Atrasado",null,null,null,0,0,{"$f":"IF(Table26[[#This Row],[Status Medida]]=\"Finalizado\",IF(Table26[[#This Row],[Sim/Não]]=1,1,0),0)","v":0}]
[null,null,null,null,null,null,null,null,null,null,null,"Atrasado",null,null,null,0,0,{"$f":"IF(Table26[[#This Row],[Status Medida]]=\"Finalizado\",IF(Table26[[#This Row],[Sim/Não]]=1,1,0),0)","v":0}]
[null,null,null,null,null,null,null,null,null,null,null,"Atrasado",null,null,null,0,0,{"$f":"IF(Table26[[#This Row],[Status Medida]]=\"Finalizado\",IF(Table26[[#This Row],[Sim/Não]]=1,1,0),0)","v":0}]
[null,null,null,null,null,null,null,null,null,null,null,"Atrasado",null,null,null,0,0,{"$f":"IF(Table26[[#This Row],[Status Medida]]=\"Finalizado\",IF(Table26[[#This Row],[Sim/Não]]=1,1,0),0)","v":0}]
[null,null,null,null,null,null,null,null,null,null,null,"Atrasado",null,null,null,0,0,{"$f":"IF(Table26[[#This Row],[Status Medida]]=\"Finalizado\",IF(Table26[[#This Row],[Sim/Não]]=1,1,0),0)","v":0}]
[null,null,null,null,null,null,null,null,null,null,null,"Atrasado",null,null,null,0,0,{"$f":"IF(Table26[[#This Row],[Status Medida]]=\"Finalizado\",IF(Table26[[#This Row],[Sim/Não]]=1,1,0),0)","v":0}]
[null,null,null,null,null,null,null,null,null,null,null,"Atrasado",null,null,null,0,0,{"$f":"IF(Table26[[#This Row],[Status Medida]]=\"Finalizado\",IF(Table26[[#This Row],[Sim/Não]]=1,1,0),0)","v":0}]
[null,null,null,null,null,null,null,null,null,null,null,"Atrasado",null,null,null,0,0,{"$f":"IF(Table26[[#This Row],[Status Medida]]=\"Finalizado\",IF(Table26[[#This Row],[Sim/Não]]=1,1,0),0)","v":0}]
[null,null,null,null,null,null,null,null,null,null,null,"Atrasado",null,null,null,0,0,{"$f":"IF(Table26[[#This Row],[Status Medida]]=\"Finalizado\",IF(Table26[[#This Row],[Sim/Não]]=1,1,0),0)","v":0}]
[null,null,null,null,null,null,null,null,null,null,null,"Atrasado",null,null,null,0,0,{"$f":"IF(Table26[[#This Row],[Status Medida]]=\"Finalizado\",IF(Table26[[#This Row],[Sim/Não]]=1,1,0),0)","v":0}]
[null,null,null,null,null,null,null,null,null,null,null,"Atrasado",null,null,null,0,0,{"$f":"IF(Table26[[#This Row],[Status Medida]]=\"Finalizado\",IF(Table26[[#This Row],[Sim/Não]]=1,1,0),0)","v":0}]
[null,null,null,null,null,null,null,null,null,null,null,"Atrasado",null,null,null,0,0,{"$f":"IF(Table26[[#This Row],[Status Medida]]=\"Finalizado\",IF(Table26[[#This Row],[Sim/Não]]=1,1,0),0)","v":0}]
[null,null,null,null,null,null,null,null,null,null,null,"Atrasado",null,null,null,0,0,{"$f":"IF(Table26[[#This Row],[Status Medida]]=\"Finalizado\",IF(Table26[[#This Row],[Sim/Não]]=1,1,0),0)","v":0}]
[null,null,null,null,null,null,null,null,null,null,null,"Atrasado",null,null,null,0,0,{"$f":"IF(Table26[[#This Row],[Status Medida]]=\"Finalizado\",IF(Table26[[#This Row],[Sim/Não]]=1,1,0),0)","v":0}]
[null,null,null,null,null,null,null,null,null,null,null,"Atrasado",null,null,null,0,0,{"$f":"IF(Table26[[#This Row],[Status Medida]]=\"Finalizado\",IF(Table26[[#This Row],[Sim/Não]]=1,1,0),0)","v":0}]
[null,null,null,null,null,null,null,null,null,null,null,"Atrasado",null,null,null,0,0,{"$f":"IF(Table26[[#This Row],[Status Medida]]=\"Finalizado\",IF(Table26[[#This Row],[Sim/Não]]=1,1,0),0)","v":0}]
[null,null,null,null,null,null,null,null,null,null,null,"Atrasado",null,null,null,0,0,{"$f":"IF(Table26[[#This Row],[Status Medida]]=\"Finalizado\",IF(Table26[[#This Row],[Sim/Não]]=1,1,0),0)","v":0}]
[null,null,null,null,null,null,null,null,null,null,null,"Atrasado",null,null,null,0,0,{"$f":"IF(Table26[[#This Row],[Status Medida]]=\"Finalizado\",IF(Table26[[#This Row],[Sim/Não]]=1,1,0),0)","v":0}]
[null,null,null,null,null,null,null,null,null,null,null,"Atrasado",null,null,null,0,0,{"$f":"IF(Table26[[#This Row],[Status Medida]]=\"Finalizado\",IF(Table26[[#This Row],[Sim/Não]]=1,1,0),0)","v":0}]
[null,null,null,null,null,null,null,null,null,null,null,"Atrasado",null,null,null,0,0,{"$f":"IF(Table26[[#This Row],[Status Medida]]=\"Finalizado\",IF(Table26[[#This Row],[Sim/Não]]=1,1,0),0)","v":0}]
[null,null,null,null,null,null,null,null,null,null,null,"Atrasado",null,null,null,0,0,{"$f":"IF(Table26[[#This Row],[Status Medida]]=\"Finalizado\",IF(Table26[[#This Row],[Sim/Não]]=1,1,0),0)","v":0}]
[null,null,null,null,null,null,null,null,null,null,null,{"$f":"IF(J6639>K6639,\"Datas inválidas\",IF(M6639=\"Finalizado\",\"Concluído\",IF(J6639>TODAY(),\"Não iniciado\",_xlfn.IFS(J6639=TODAY(),\"Em andamento\",TODAY()>K6639,\"Atrasado\",AND(TODAY()>J6639,TODAY()<=K6639),\"Em andamento\"))))","v":"Atrasado"},null,null,null,{"$f":"IF(O6639=\"Sim\",1,0)","v":0},{"$f":"IF(N6639=E6639,0,1)","v":0},{"$f":"IF(Table26[[#This Row],[Status Medida]]=\"Finalizado\",IF(Table26[[#This Row],[Sim/Não]]=1,1,0),0)","v":0}]
[null,null,null,null,null,null,null,null,null,null,null,"Atrasado",null,null,null,0,0,{"$f":"IF(Table26[[#This Row],[Status Medida]]=\"Finalizado\",IF(Table26[[#This Row],[Sim/Não]]=1,1,0),0)","v":0}]
[null,null,null,null,null,null,null,null,null,null,null,"Atrasado",null,null,null,0,0,{"$f":"IF(Table26[[#This Row],[Status Medida]]=\"Finalizado\",IF(Table26[[#This Row],[Sim/Não]]=1,1,0),0)","v":0}]
[null,null,null,null,null,null,null,null,null,null,null,"Atrasado",null,null,null,0,0,{"$f":"IF(Table26[[#This Row],[Status Medida]]=\"Finalizado\",IF(Table26[[#This Row],[Sim/Não]]=1,1,0),0)","v":0}]
[null,null,null,null,null,null,null,null,null,null,null,"Atrasado",null,null,null,0,0,{"$f":"IF(Table26[[#This Row],[Status Medida]]=\"Finalizado\",IF(Table26[[#This Row],[Sim/Não]]=1,1,0),0)","v":0}]
[null,null,null,null,null,null,null,null,null,null,null,"Atrasado",null,null,null,0,0,{"$f":"IF(Table26[[#This Row],[Status Medida]]=\"Finalizado\",IF(Table26[[#This Row],[Sim/Não]]=1,1,0),0)","v":0}]
[null,null,null,null,null,null,null,null,null,null,null,"Atrasado",null,null,null,0,0,{"$f":"IF(Table26[[#This Row],[Status Medida]]=\"Finalizado\",IF(Table26[[#This Row],[Sim/Não]]=1,1,0),0)","v":0}]
[null,null,null,null,null,null,null,null,null,null,null,"Atrasado",null,null,null,0,0,{"$f":"IF(Table26[[#This Row],[Status Medida]]=\"Finalizado\",IF(Table26[[#This Row],[Sim/Não]]=1,1,0),0)","v":0}]
[null,null,null,null,null,null,null,null,null,null,null,"Atrasado",null,null,null,0,0,{"$f":"IF(Table26[[#This Row],[Status Medida]]=\"Finalizado\",IF(Table26[[#This Row],[Sim/Não]]=1,1,0),0)","v":0}]
[null,null,null,null,null,null,null,null,null,null,null,"Atrasado",null,null,null,0,0,{"$f":"IF(Table26[[#This Row],[Status Medida]]=\"Finalizado\",IF(Table26[[#This Row],[Sim/Não]]=1,1,0),0)","v":0}]
[null,null,null,null,null,null,null,null,null,null,null,"Atrasado",null,null,null,0,0,{"$f":"IF(Table26[[#This Row],[Status Medida]]=\"Finalizado\",IF(Table26[[#This Row],[Sim/Não]]=1,1,0),0)","v":0}]
[null,null,null,null,null,null,null,null,null,null,null,"Atrasado",null,null,null,0,0,{"$f":"IF(Table26[[#This Row],[Status Medida]]=\"Finalizado\",IF(Table26[[#This Row],[Sim/Não]]=1,1,0),0)","v":0}]
[null,null,null,null,null,null,null,null,null,null,null,"Atrasado",null,null,null,0,0,{"$f":"IF(Table26[[#This Row],[Status Medida]]=\"Finalizado\",IF(Table26[[#This Row],[Sim/Não]]=1,1,0),0)","v":0}]
[null,null,null,null,null,null,null,null,null,null,null,"Atrasado",null,null,null,0,0,{"$f":"IF(Table26[[#This Row],[Status Medida]]=\"Finalizado\",IF(Table26[[#This Row],[Sim/Não]]=1,1,0),0)","v":0}]
[null,null,null,null,null,null,null,null,null,null,null,{"$f":"IF(J6703>K6703,\"Datas inválidas\",IF(M6703=\"Finalizado\",\"Concluído\",IF(J6703>TODAY(),\"Não iniciado\",_xlfn.IFS(J6703=TODAY(),\"Em andamento\",TODAY()>K6703,\"Atrasado\",AND(TODAY()>J6703,TODAY()<=K6703),\"Em andamento\"))))","v":"Atrasado"},null,null,null,{"$f":"IF(O6703=\"Sim\",1,0)","v":0},{"$f":"IF(N6703=E6703,0,1)","v":0},{"$f":"IF(Table26[[#This Row],[Status Medida]]=\"Finalizado\",IF(Table26[[#This Row],[Sim/Não]]=1,1,0),0)","v":0}]
[null,null,null,null,null,null,null,null,null,null,null,"Atrasado",null,null,null,0,0,{"$f":"IF(Table26[[#This Row],[Status Medida]]=\"Finalizado\",IF(Table26[[#This Row],[Sim/Não]]=1,1,0),0)","v":0}]
[null,null,null,null,null,null,null,null,null,null,null,"Atrasado",null,null,null,0,0,{"$f":"IF(Table26[[#This Row],[Status Medida]]=\"Finalizado\",IF(Table26[[#This Row],[Sim/Não]]=1,1,0),0)","v":0}]
[null,null,null,null,null,null,null,null,null,null,null,"Atrasado",null,null,null,0,0,{"$f":"IF(Table26[[#This Row],[Status Medida]]=\"Finalizado\",IF(Table26[[#This Row],[Sim/Não]]=1,1,0),0)","v":0}]
[null,null,null,null,null,null,null,null,null,null,null,"Atrasado",null,null,null,0,0,{"$f":"IF(Table26[[#This Row],[Status Medida]]=\"Finalizado\",IF(Table26[[#This Row],[Sim/Não]]=1,1,0),0)","v":0}]
[null,null,null,null,null,null,null,null,null,null,null,"Atrasado",null,null,null,0,0,{"$f":"IF(Table26[[#This Row],[Status Medida]]=\"Finalizado\",IF(Table26[[#This Row],[Sim/Não]]=1,1,0),0)","v":0}]
[null,null,null,null,null,null,null,null,null,null,null,"Atrasado",null,null,null,0,0,{"$f":"IF(Table26[[#This Row],[Status Medida]]=\"Finalizado\",IF(Table26[[#This Row],[Sim/Não]]=1,1,0),0)","v":0}]
[null,null,null,null,null,null,null,null,null,null,null,"Atrasado",null,null,null,0,0,{"$f":"IF(Table26[[#This Row],[Status Medida]]=\"Finalizado\",IF(Table26[[#This Row],[Sim/Não]]=1,1,0),0)","v":0}]
[null,null,null,null,null,null,null,null,null,null,null,"Atrasado",null,null,null,0,0,{"$f":"IF(Table26[[#This Row],[Status Medida]]=\"Finalizado\",IF(Table26[[#This Row],[Sim/Não]]=1,1,0),0)","v":0}]
[null,null,null,null,null,null,null,null,null,null,null,"Atrasado",null,null,null,0,0,{"$f":"IF(Table26[[#This Row],[Status Medida]]=\"Finalizado\",IF(Table26[[#This Row],[Sim/Não]]=1,1,0),0)","v":0}]
[null,null,null,null,null,null,null,null,null,null,null,"Atrasado",null,null,null,0,0,{"$f":"IF(Table26[[#This Row],[Status Medida]]=\"Finalizado\",IF(Table26[[#This Row],[Sim/Não]]=1,1,0),0)","v":0}]
[null,null,null,null,null,null,null,null,null,null,null,"Atrasado",null,null,null,0,0,{"$f":"IF(Table26[[#This Row],[Status Medida]]=\"Finalizado\",IF(Table26[[#This Row],[Sim/Não]]=1,1,0),0)","v":0}]
[null,null,null,null,null,null,null,null,null,null,null,"Atrasado",null,null,null,0,0,{"$f":"IF(Table26[[#This Row],[Status Medida]]=\"Finalizado\",IF(Table26[[#This Row],[Sim/Não]]=1,1,0),0)","v":0}]
[null,null,null,null,null,null,null,null,null,null,null,"Atrasado",null,null,null,0,0,{"$f":"IF(Table26[[#This Row],[Status Medida]]=\"Finalizado\",IF(Table26[[#This Row],[Sim/Não]]=1,1,0),0)","v":0}]
[null,null,null,null,null,null,null,null,null,null,null,"Atrasado",null,null,null,0,0,{"$f":"IF(Table26[[#This Row],[Status Medida]]=\"Finalizado\",IF(Table26[[#This Row],[Sim/Não]]=1,1,0),0)","v":0}]
[null,null,null,null,null,null,null,null,null,null,null,"Atrasado",null,null,null,0,0,{"$f":"IF(Table26[[#This Row],[Status Medida]]=\"Finalizado\",IF(Table26[[#This Row],[Sim/Não]]=1,1,0),0)","v":0}]
[null,null,null,null,null,null,null,null,null,null,null,"Atrasado",null,null,null,0,0,{"$f":"IF(Table26[[#This Row],[Status Medida]]=\"Finalizado\",IF(Table26[[#This Row],[Sim/Não]]=1,1,0),0)","v":0}]
[null,null,null,null,null,null,null,null,null,null,null,"Atrasado",null,null,null,0,0,{"$f":"IF(Table26[[#This Row],[Status Medida]]=\"Finalizado\",IF(Table26[[#This Row],[Sim/Não]]=1,1,0),0)","v":0}]
[null,null,null,null,null,null,null,null,null,null,null,"Atrasado",null,null,null,0,0,{"$f":"IF(Table26[[#This Row],[Status Medida]]=\"Finalizado\",IF(Table26[[#This Row],[Sim/Não]]=1,1,0),0)","v":0}]
[null,null,null,null,null,null,null,null,null,null,null,"Atrasado",null,null,null,0,0,{"$f":"IF(Table26[[#This Row],[Status Medida]]=\"Finalizado\",IF(Table26[[#This Row],[Sim/Não]]=1,1,0),0)","v":0}]
[null,null,null,null,null,null,null,null,null,null,null,"Atrasado",null,null,null,0,0,{"$f":"IF(Table26[[#This Row],[Status Medida]]=\"Finalizado\",IF(Table26[[#This Row],[Sim/Não]]=1,1,0),0)","v":0}]
[null,null,null,null,null,null,null,null,null,null,null,"Atrasado",null,null,null,0,0,{"$f":"IF(Table26[[#This Row],[Status Medida]]=\"Finalizado\",IF(Table26[[#This Row],[Sim/Não]]=1,1,0),0)","v":0}]
[null,null,null,null,null,null,null,null,null,null,null,"Atrasado",null,null,null,0,0,{"$f":"IF(Table26[[#This Row],[Status Medida]]=\"Finalizado\",IF(Table26[[#This Row],[Sim/Não]]=1,1,0),0)","v":0}]
[null,null,null,null,null,null,null,null,null,null,null,"Atrasado",null,null,null,0,0,{"$f":"IF(Table26[[#This Row],[Status Medida]]=\"Finalizado\",IF(Table26[[#This Row],[Sim/Não]]=1,1,0),0)","v":0}]
[null,null,null,null,null,null,null,null,null,null,null,"Atrasado",null,null,null,0,0,{"$f":"IF(Table26[[#This Row],[Status Medida]]=\"Finalizado\",IF(Table26[[#This Row],[Sim/Não]]=1,1,0),0)","v":0}]
[null,null,null,null,null,null,null,null,null,null,null,"Atrasado",null,null,null,0,0,{"$f":"IF(Table26[[#This Row],[Status Medida]]=\"Finalizado\",IF(Table26[[#This Row],[Sim/Não]]=1,1,0),0)","v":0}]
[null,null,null,null,null,null,null,null,null,null,null,"Atrasado",null,null,null,0,0,{"$f":"IF(Table26[[#This Row],[Status Medida]]=\"Finalizado\",IF(Table26[[#This Row],[Sim/Não]]=1,1,0),0)","v":0}]
[null,null,null,null,null,null,null,null,null,null,null,"Atrasado",null,null,null,0,0,{"$f":"IF(Table26[[#This Row],[Status Medida]]=\"Finalizado\",IF(Table26[[#This Row],[Sim/Não]]=1,1,0),0)","v":0}]
[null,null,null,null,null,null,null,null,null,null,null,"Atrasado",null,null,null,0,0,{"$f":"IF(Table26[[#This Row],[Status Medida]]=\"Finalizado\",IF(Table26[[#This Row],[Sim/Não]]=1,1,0),0)","v":0}]
[null,null,null,null,null,null,null,null,null,null,null,"Atrasado",null,null,null,0,0,{"$f":"IF(Table26[[#This Row],[Status Medida]]=\"Finalizado\",IF(Table26[[#This Row],[Sim/Não]]=1,1,0),0)","v":0}]
[null,null,null,null,null,null,null,null,null,null,null,"Atrasado",null,null,null,0,0,{"$f":"IF(Table26[[#This Row],[Status Medida]]=\"Finalizado\",IF(Table26[[#This Row],[Sim/Não]]=1,1,0),0)","v":0}]
[null,null,null,null,null,null,null,null,null,null,null,"Atrasado",null,null,null,0,0,{"$f":"IF(Table26[[#This Row],[Status Medida]]=\"Finalizado\",IF(Table26[[#This Row],[Sim/Não]]=1,1,0),0)","v":0}]
[null,null,null,null,null,null,null,null,null,null,null,"Atrasado",null,null,null,0,0,{"$f":"IF(Table26[[#This Row],[Status Medida]]=\"Finalizado\",IF(Table26[[#This Row],[Sim/Não]]=1,1,0),0)","v":0}]
[null,null,null,null,null,null,null,null,null,null,null,"Atrasado",null,null,null,0,0,{"$f":"IF(Table26[[#This Row],[Status Medida]]=\"Finalizado\",IF(Table26[[#This Row],[Sim/Não]]=1,1,0),0)","v":0}]
[null,null,null,null,null,null,null,null,null,null,null,"Atrasado",null,null,null,0,0,{"$f":"IF(Table26[[#This Row],[Status Medida]]=\"Finalizado\",IF(Table26[[#This Row],[Sim/Não]]=1,1,0),0)","v":0}]
[null,null,null,null,null,null,null,null,null,null,null,"Atrasado",null,null,null,0,0,{"$f":"IF(Table26[[#This Row],[Status Medida]]=\"Finalizado\",IF(Table26[[#This Row],[Sim/Não]]=1,1,0),0)","v":0}]
[null,null,null,null,null,null,null,null,null,null,null,"Atrasado",null,null,null,0,0,{"$f":"IF(Table26[[#This Row],[Status Medida]]=\"Finalizado\",IF(Table26[[#This Row],[Sim/Não]]=1,1,0),0)","v":0}]
[null,null,null,null,null,null,null,null,null,null,null,"Atrasado",null,null,null,0,0,{"$f":"IF(Table26[[#This Row],[Status Medida]]=\"Finalizado\",IF(Table26[[#This Row],[Sim/Não]]=1,1,0),0)","v":0}]
[null,null,null,null,null,null,null,null,null,null,null,"Atrasado",null,null,null,0,0,{"$f":"IF(Table26[[#This Row],[Status Medida]]=\"Finalizado\",IF(Table26[[#This Row],[Sim/Não]]=1,1,0),0)","v":0}]
[null,null,null,null,null,null,null,null,null,null,null,"Atrasado",null,null,null,0,0,{"$f":"IF(Table26[[#This Row],[Status Medida]]=\"Finalizado\",IF(Table26[[#This Row],[Sim/Não]]=1,1,0),0)","v":0}]
[null,null,null,null,null,null,null,null,null,null,null,"Atrasado",null,null,null,0,0,{"$f":"IF(Table26[[#This Row],[Status Medida]]=\"Finalizado\",IF(Table26[[#This Row],[Sim/Não]]=1,1,0),0)","v":0}]
[null,null,null,null,null,null,null,null,null,null,null,"Atrasado",null,null,null,0,0,{"$f":"IF(Table26[[#This Row],[Status Medida]]=\"Finalizado\",IF(Table26[[#This Row],[Sim/Não]]=1,1,0),0)","v":0}]
[null,null,null,null,null,null,null,null,null,null,null,"Atrasado",null,null,null,0,0,{"$f":"IF(Table26[[#This Row],[Status Medida]]=\"Finalizado\",IF(Table26[[#This Row],[Sim/Não]]=1,1,0),0)","v":0}]
[null,null,null,null,null,null,null,null,null,null,null,"Atrasado",null,null,null,0,0,{"$f":"IF(Table26[[#This Row],[Status Medida]]=\"Finalizado\",IF(Table26[[#This Row],[Sim/Não]]=1,1,0),0)","v":0}]
[null,null,null,null,null,null,null,null,null,null,null,"Atrasado",null,null,null,0,0,{"$f":"IF(Table26[[#This Row],[Status Medida]]=\"Finalizado\",IF(Table26[[#This Row],[Sim/Não]]=1,1,0),0)","v":0}]
[null,null,null,null,null,null,null,null,null,null,null,"Atrasado",null,null,null,0,0,{"$f":"IF(Table26[[#This Row],[Status Medida]]=\"Finalizado\",IF(Table26[[#This Row],[Sim/Não]]=1,1,0),0)","v":0}]
[null,null,null,null,null,null,null,null,null,null,null,"Atrasado",null,null,null,0,0,{"$f":"IF(Table26[[#This Row],[Status Medida]]=\"Finalizado\",IF(Table26[[#This Row],[Sim/Não]]=1,1,0),0)","v":0}]
[null,null,null,null,null,null,null,null,null,null,null,"Atrasado",null,null,null,0,0,{"$f":"IF(Table26[[#This Row],[Status Medida]]=\"Finalizado\",IF(Table26[[#This Row],[Sim/Não]]=1,1,0),0)","v":0}]
[null,null,null,null,null,null,null,null,null,null,null,"Atrasado",null,null,null,0,0,{"$f":"IF(Table26[[#This Row],[Status Medida]]=\"Finalizado\",IF(Table26[[#This Row],[Sim/Não]]=1,1,0),0)","v":0}]
[null,null,null,null,null,null,null,null,null,null,null,"Atrasado",null,null,null,0,0,{"$f":"IF(Table26[[#This Row],[Status Medida]]=\"Finalizado\",IF(Table26[[#This Row],[Sim/Não]]=1,1,0),0)","v":0}]
[null,null,null,null,null,null,null,null,null,null,null,"Atrasado",null,null,null,0,0,{"$f":"IF(Table26[[#This Row],[Status Medida]]=\"Finalizado\",IF(Table26[[#This Row],[Sim/Não]]=1,1,0),0)","v":0}]
[null,null,null,null,null,null,null,null,null,null,null,"Atrasado",null,null,null,0,0,{"$f":"IF(Table26[[#This Row],[Status Medida]]=\"Finalizado\",IF(Table26[[#This Row],[Sim/Não]]=1,1,0),0)","v":0}]
[null,null,null,null,null,null,null,null,null,null,null,"Atrasado",null,null,null,0,0,{"$f":"IF(Table26[[#This Row],[Status Medida]]=\"Finalizado\",IF(Table26[[#This Row],[Sim/Não]]=1,1,0),0)","v":0}]
[null,null,null,null,null,null,null,null,null,null,null,"Atrasado",null,null,null,0,0,{"$f":"IF(Table26[[#This Row],[Status Medida]]=\"Finalizado\",IF(Table26[[#This Row],[Sim/Não]]=1,1,0),0)","v":0}]
[null,null,null,null,null,null,null,null,null,null,null,"Atrasado",null,null,null,0,0,{"$f":"IF(Table26[[#This Row],[Status Medida]]=\"Finalizado\",IF(Table26[[#This Row],[Sim/Não]]=1,1,0),0)","v":0}]
[null,null,null,null,null,null,null,null,null,null,null,"Atrasado",null,null,null,0,0,{"$f":"IF(Table26[[#This Row],[Status Medida]]=\"Finalizado\",IF(Table26[[#This Row],[Sim/Não]]=1,1,0),0)","v":0}]
[null,null,null,null,null,null,null,null,null,null,null,"Atrasado",null,null,null,0,0,{"$f":"IF(Table26[[#This Row],[Status Medida]]=\"Finalizado\",IF(Table26[[#This Row],[Sim/Não]]=1,1,0),0)","v":0}]
[null,null,null,null,null,null,null,null,null,null,null,"Atrasado",null,null,null,0,0,{"$f":"IF(Table26[[#This Row],[Status Medida]]=\"Finalizado\",IF(Table26[[#This Row],[Sim/Não]]=1,1,0),0)","v":0}]
[null,null,null,null,null,null,null,null,null,null,null,"Atrasado",null,null,null,0,0,{"$f":"IF(Table26[[#This Row],[Status Medida]]=\"Finalizado\",IF(Table26[[#This Row],[Sim/Não]]=1,1,0),0)","v":0}]
[null,null,null,null,null,null,null,null,null,null,null,"Atrasado",null,null,null,0,0,{"$f":"IF(Table26[[#This Row],[Status Medida]]=\"Finalizado\",IF(Table26[[#This Row],[Sim/Não]]=1,1,0),0)","v":0}]
[null,null,null,null,null,null,null,null,null,null,null,"Atrasado",null,null,null,0,0,{"$f":"IF(Table26[[#This Row],[Status Medida]]=\"Finalizado\",IF(Table26[[#This Row],[Sim/Não]]=1,1,0),0)","v":0}]
[null,null,null,null,null,null,null,null,null,null,null,"Atrasado",null,null,null,0,0,{"$f":"IF(Table26[[#This Row],[Status Medida]]=\"Finalizado\",IF(Table26[[#This Row],[Sim/Não]]=1,1,0),0)","v":0}]
[null,null,null,null,null,null,null,null,null,null,null,"Atrasado",null,null,null,0,0,{"$f":"IF(Table26[[#This Row],[Status Medida]]=\"Finalizado\",IF(Table26[[#This Row],[Sim/Não]]=1,1,0),0)","v":0}]
[null,null,null,null,null,null,null,null,null,null,null,"Atrasado",null,null,null,0,0,{"$f":"IF(Table26[[#This Row],[Status Medida]]=\"Finalizado\",IF(Table26[[#This Row],[Sim/Não]]=1,1,0),0)","v":0}]
[null,null,null,null,null,null,null,null,null,null,null,"Atrasado",null,null,null,0,0,{"$f":"IF(Table26[[#This Row],[Status Medida]]=\"Finalizado\",IF(Table26[[#This Row],[Sim/Não]]=1,1,0),0)","v":0}]
[null,null,null,null,null,null,null,null,null,null,null,"Atrasado",null,null,null,0,0,{"$f":"IF(Table26[[#This Row],[Status Medida]]=\"Finalizado\",IF(Table26[[#This Row],[Sim/Não]]=1,1,0),0)","v":0}]
[null,null,null,null,null,null,null,null,null,null,null,"Atrasado",null,null,null,0,0,{"$f":"IF(Table26[[#This Row],[Status Medida]]=\"Finalizado\",IF(Table26[[#This Row],[Sim/Não]]=1,1,0),0)","v":0}]
[null,null,null,null,null,null,null,null,null,null,null,"Atrasado",null,null,null,0,0,{"$f":"IF(Table26[[#This Row],[Status Medida]]=\"Finalizado\",IF(Table26[[#This Row],[Sim/Não]]=1,1,0),0)","v":0}]
[null,null,null,null,null,null,null,null,null,null,null,"Atrasado",null,null,null,0,0,{"$f":"IF(Table26[[#This Row],[Status Medida]]=\"Finalizado\",IF(Table26[[#This Row],[Sim/Não]]=1,1,0),0)","v":0}]
[null,null,null,null,null,null,null,null,null,null,null,"Atrasado",null,null,null,0,0,{"$f":"IF(Table26[[#This Row],[Status Medida]]=\"Finalizado\",IF(Table26[[#This Row],[Sim/Não]]=1,1,0),0)","v":0}]
[null,null,null,null,null,null,null,null,null,null,null,"Atrasado",null,null,null,0,0,{"$f":"IF(Table26[[#This Row],[Status Medida]]=\"Finalizado\",IF(Table26[[#This Row],[Sim/Não]]=1,1,0),0)","v":0}]
[null,null,null,null,null,null,null,null,null,null,null,"Atrasado",null,null,null,0,0,{"$f":"IF(Table26[[#This Row],[Status Medida]]=\"Finalizado\",IF(Table26[[#This Row],[Sim/Não]]=1,1,0),0)","v":0}]
[null,null,null,null,null,null,null,null,null,null,null,"Atrasado",null,null,null,0,0,{"$f":"IF(Table26[[#This Row],[Status Medida]]=\"Finalizado\",IF(Table26[[#This Row],[Sim/Não]]=1,1,0),0)","v":0}]
[null,null,null,null,null,null,null,null,null,null,null,"Atrasado",null,null,null,0,0,{"$f":"IF(Table26[[#This Row],[Status Medida]]=\"Finalizado\",IF(Table26[[#This Row],[Sim/Não]]=1,1,0),0)","v":0}]
[null,null,null,null,null,null,null,null,null,null,null,"Atrasado",null,null,null,0,0,{"$f":"IF(Table26[[#This Row],[Status Medida]]=\"Finalizado\",IF(Table26[[#This Row],[Sim/Não]]=1,1,0),0)","v":0}]
[null,null,null,null,null,null,null,null,null,null,null,"Atrasado",null,null,null,0,0,{"$f":"IF(Table26[[#This Row],[Status Medida]]=\"Finalizado\",IF(Table26[[#This Row],[Sim/Não]]=1,1,0),0)","v":0}]
[null,null,null,null,null,null,null,null,null,null,null,"Atrasado",null,null,null,0,0,{"$f":"IF(Table26[[#This Row],[Status Medida]]=\"Finalizado\",IF(Table26[[#This Row],[Sim/Não]]=1,1,0),0)","v":0}]
[null,null,null,null,null,null,null,null,null,null,null,"Atrasado",null,null,null,0,0,{"$f":"IF(Table26[[#This Row],[Status Medida]]=\"Finalizado\",IF(Table26[[#This Row],[Sim/Não]]=1,1,0),0)","v":0}]
[null,null,null,null,null,null,null,null,null,null,null,"Atrasado",null,null,null,0,0,{"$f":"IF(Table26[[#This Row],[Status Medida]]=\"Finalizado\",IF(Table26[[#This Row],[Sim/Não]]=1,1,0),0)","v":0}]
[null,null,null,null,null,null,null,null,null,null,null,"Atrasado",null,null,null,0,0,{"$f":"IF(Table26[[#This Row],[Status Medida]]=\"Finalizado\",IF(Table26[[#This Row],[Sim/Não]]=1,1,0),0)","v":0}]
[null,null,null,null,null,null,null,null,null,null,null,"Atrasado",null,null,null,0,0,{"$f":"IF(Table26[[#This Row],[Status Medida]]=\"Finalizado\",IF(Table26[[#This Row],[Sim/Não]]=1,1,0),0)","v":0}]
[null,null,null,null,null,null,null,null,null,null,null,"Atrasado",null,null,null,0,0,{"$f":"IF(Table26[[#This Row],[Status Medida]]=\"Finalizado\",IF(Table26[[#This Row],[Sim/Não]]=1,1,0),0)","v":0}]
[null,null,null,null,null,null,null,null,null,null,null,"Atrasado",null,null,null,0,0,{"$f":"IF(Table26[[#This Row],[Status Medida]]=\"Finalizado\",IF(Table26[[#This Row],[Sim/Não]]=1,1,0),0)","v":0}]
[null,null,null,null,null,null,null,null,null,null,null,"Atrasado",null,null,null,0,0,{"$f":"IF(Table26[[#This Row],[Status Medida]]=\"Finalizado\",IF(Table26[[#This Row],[Sim/Não]]=1,1,0),0)","v":0}]
[null,null,null,null,null,null,null,null,null,null,null,"Atrasado",null,null,null,0,0,{"$f":"IF(Table26[[#This Row],[Status Medida]]=\"Finalizado\",IF(Table26[[#This Row],[Sim/Não]]=1,1,0),0)","v":0}]
[null,null,null,null,null,null,null,null,null,null,null,"Atrasado",null,null,null,0,0,{"$f":"IF(Table26[[#This Row],[Status Medida]]=\"Finalizado\",IF(Table26[[#This Row],[Sim/Não]]=1,1,0),0)","v":0}]
[null,null,null,null,null,null,null,null,null,null,null,"Atrasado",null,null,null,0,0,{"$f":"IF(Table26[[#This Row],[Status Medida]]=\"Finalizado\",IF(Table26[[#This Row],[Sim/Não]]=1,1,0),0)","v":0}]
[null,null,null,null,null,null,null,null,null,null,null,"Atrasado",null,null,null,0,0,{"$f":"IF(Table26[[#This Row],[Status Medida]]=\"Finalizado\",IF(Table26[[#This Row],[Sim/Não]]=1,1,0),0)","v":0}]
[null,null,null,null,null,null,null,null,null,null,null,"Atrasado",null,null,null,0,0,{"$f":"IF(Table26[[#This Row],[Status Medida]]=\"Finalizado\",IF(Table26[[#This Row],[Sim/Não]]=1,1,0),0)","v":0}]
[null,null,null,null,null,null,null,null,null,null,null,"Atrasado",null,null,null,0,0,{"$f":"IF(Table26[[#This Row],[Status Medida]]=\"Finalizado\",IF(Table26[[#This Row],[Sim/Não]]=1,1,0),0)","v":0}]
[null,null,null,null,null,null,null,null,null,null,null,"Atrasado",null,null,null,0,0,{"$f":"IF(Table26[[#This Row],[Status Medida]]=\"Finalizado\",IF(Table26[[#This Row],[Sim/Não]]=1,1,0),0)","v":0}]
[null,null,null,null,null,null,null,null,null,null,null,"Atrasado",null,null,null,0,0,{"$f":"IF(Table26[[#This Row],[Status Medida]]=\"Finalizado\",IF(Table26[[#This Row],[Sim/Não]]=1,1,0),0)","v":0}]
[null,null,null,null,null,null,null,null,null,null,null,"Atrasado",null,null,null,0,0,{"$f":"IF(Table26[[#This Row],[Status Medida]]=\"Finalizado\",IF(Table26[[#This Row],[Sim/Não]]=1,1,0),0)","v":0}]
[null,null,null,null,null,null,null,null,null,null,null,"Atrasado",null,null,null,0,0,{"$f":"IF(Table26[[#This Row],[Status Medida]]=\"Finalizado\",IF(Table26[[#This Row],[Sim/Não]]=1,1,0),0)","v":0}]
[null,null,null,null,null,null,null,null,null,null,null,"Atrasado",null,null,null,0,0,{"$f":"IF(Table26[[#This Row],[Status Medida]]=\"Finalizado\",IF(Table26[[#This Row],[Sim/Não]]=1,1,0),0)","v":0}]
[null,null,null,null,null,null,null,null,null,null,null,"Atrasado",null,null,null,0,0,{"$f":"IF(Table26[[#This Row],[Status Medida]]=\"Finalizado\",IF(Table26[[#This Row],[Sim/Não]]=1,1,0),0)","v":0}]
[null,null,null,null,null,null,null,null,null,null,null,"Atrasado",null,null,null,0,0,{"$f":"IF(Table26[[#This Row],[Status Medida]]=\"Finalizado\",IF(Table26[[#This Row],[Sim/Não]]=1,1,0),0)","v":0}]
[null,null,null,null,null,null,null,null,null,null,null,"Atrasado",null,null,null,0,0,{"$f":"IF(Table26[[#This Row],[Status Medida]]=\"Finalizado\",IF(Table26[[#This Row],[Sim/Não]]=1,1,0),0)","v":0}]
[null,null,null,null,null,null,null,null,null,null,null,"Atrasado",null,null,null,0,0,{"$f":"IF(Table26[[#This Row],[Status Medida]]=\"Finalizado\",IF(Table26[[#This Row],[Sim/Não]]=1,1,0),0)","v":0}]
[null,null,null,null,null,null,null,null,null,null,null,"Atrasado",null,null,null,0,0,{"$f":"IF(Table26[[#This Row],[Status Medida]]=\"Finalizado\",IF(Table26[[#This Row],[Sim/Não]]=1,1,0),0)","v":0}]
[null,null,null,null,null,null,null,null,null,null,null,"Atrasado",null,null,null,0,0,{"$f":"IF(Table26[[#This Row],[Status Medida]]=\"Finalizado\",IF(Table26[[#This Row],[Sim/Não]]=1,1,0),0)","v":0}]
[null,null,null,null,null,null,null,null,null,null,null,{"$f":"IF(J7151>K7151,\"Datas inválidas\",IF(M7151=\"Finalizado\",\"Concluído\",IF(J7151>TODAY(),\"Não iniciado\",_xlfn.IFS(J7151=TODAY(),\"Em andamento\",TODAY()>K7151,\"Atrasado\",AND(TODAY()>J7151,TODAY()<=K7151),\"Em andamento\"))))","v":"Atrasado"},null,null,null,{"$f":"IF(O7151=\"Sim\",1,0)","v":0},{"$f":"IF(N7151=E7151,0,1)","v":0},{"$f":"IF(Table26[[#This Row],[Status Medida]]=\"Finalizado\",IF(Table26[[#This Row],[Sim/Não]]=1,1,0),0)","v":0}]
[null,null,null,null,null,null,null,null,null,null,null,"Atrasado",null,null,null,0,0,{"$f":"IF(Table26[[#This Row],[Status Medida]]=\"Finalizado\",IF(Table26[[#This Row],[Sim/Não]]=1,1,0),0)","v":0}]
[null,null,null,null,null,null,null,null,null,null,null,"Atrasado",null,null,null,0,0,{"$f":"IF(Table26[[#This Row],[Status Medida]]=\"Finalizado\",IF(Table26[[#This Row],[Sim/Não]]=1,1,0),0)","v":0}]
[null,null,null,null,null,null,null,null,null,null,null,"Atrasado",null,null,null,0,0,{"$f":"IF(Table26[[#This Row],[Status Medida]]=\"Finalizado\",IF(Table26[[#This Row],[Sim/Não]]=1,1,0),0)","v":0}]
[null,null,null,null,null,null,null,null,null,null,null,"Atrasado",null,null,null,0,0,{"$f":"IF(Table26[[#This Row],[Status Medida]]=\"Finalizado\",IF(Table26[[#This Row],[Sim/Não]]=1,1,0),0)","v":0}]
[null,null,null,null,null,null,null,null,null,null,null,"Atrasado",null,null,null,0,0,{"$f":"IF(Table26[[#This Row],[Status Medida]]=\"Finalizado\",IF(Table26[[#This Row],[Sim/Não]]=1,1,0),0)","v":0}]
[null,null,null,null,null,null,null,null,null,null,null,"Atrasado",null,null,null,0,0,{"$f":"IF(Table26[[#This Row],[Status Medida]]=\"Finalizado\",IF(Table26[[#This Row],[Sim/Não]]=1,1,0),0)","v":0}]
[null,null,null,null,null,null,null,null,null,null,null,"Atrasado",null,null,null,0,0,{"$f":"IF(Table26[[#This Row],[Status Medida]]=\"Finalizado\",IF(Table26[[#This Row],[Sim/Não]]=1,1,0),0)","v":0}]
[null,null,null,null,null,null,null,null,null,null,null,"Atrasado",null,null,null,0,0,{"$f":"IF(Table26[[#This Row],[Status Medida]]=\"Finalizado\",IF(Table26[[#This Row],[Sim/Não]]=1,1,0),0)","v":0}]
[null,null,null,null,null,null,null,null,null,null,null,"Atrasado",null,null,null,0,0,{"$f":"IF(Table26[[#This Row],[Status Medida]]=\"Finalizado\",IF(Table26[[#This Row],[Sim/Não]]=1,1,0),0)","v":0}]
[null,null,null,null,null,null,null,null,null,null,null,"Atrasado",null,null,null,0,0,{"$f":"IF(Table26[[#This Row],[Status Medida]]=\"Finalizado\",IF(Table26[[#This Row],[Sim/Não]]=1,1,0),0)","v":0}]
[null,null,null,null,null,null,null,null,null,null,null,"Atrasado",null,null,null,0,0,{"$f":"IF(Table26[[#This Row],[Status Medida]]=\"Finalizado\",IF(Table26[[#This Row],[Sim/Não]]=1,1,0),0)","v":0}]
[null,null,null,null,null,null,null,null,null,null,null,"Atrasado",null,null,null,0,0,{"$f":"IF(Table26[[#This Row],[Status Medida]]=\"Finalizado\",IF(Table26[[#This Row],[Sim/Não]]=1,1,0),0)","v":0}]
[null,null,null,null,null,null,null,null,null,null,null,"Atrasado",null,null,null,0,0,{"$f":"IF(Table26[[#This Row],[Status Medida]]=\"Finalizado\",IF(Table26[[#This Row],[Sim/Não]]=1,1,0),0)","v":0}]
[null,null,null,null,null,null,null,null,null,null,null,{"$f":"IF(J7215>K7215,\"Datas inválidas\",IF(M7215=\"Finalizado\",\"Concluído\",IF(J7215>TODAY(),\"Não iniciado\",_xlfn.IFS(J7215=TODAY(),\"Em andamento\",TODAY()>K7215,\"Atrasado\",AND(TODAY()>J7215,TODAY()<=K7215),\"Em andamento\"))))","v":"Atrasado"},null,null,null,{"$f":"IF(O7215=\"Sim\",1,0)","v":0},{"$f":"IF(N7215=E7215,0,1)","v":0},{"$f":"IF(Table26[[#This Row],[Status Medida]]=\"Finalizado\",IF(Table26[[#This Row],[Sim/Não]]=1,1,0),0)","v":0}]
[null,null,null,null,null,null,null,null,null,null,null,"Atrasado",null,null,null,0,0,{"$f":"IF(Table26[[#This Row],[Status Medida]]=\"Finalizado\",IF(Table26[[#This Row],[Sim/Não]]=1,1,0),0)","v":0}]
[null,null,null,null,null,null,null,null,null,null,null,"Atrasado",null,null,null,0,0,{"$f":"IF(Table26[[#This Row],[Status Medida]]=\"Finalizado\",IF(Table26[[#This Row],[Sim/Não]]=1,1,0),0)","v":0}]
[null,null,null,null,null,null,null,null,null,null,null,"Atrasado",null,null,null,0,0,{"$f":"IF(Table26[[#This Row],[Status Medida]]=\"Finalizado\",IF(Table26[[#This Row],[Sim/Não]]=1,1,0),0)","v":0}]
[null,null,null,null,null,null,null,null,null,null,null,"Atrasado",null,null,null,0,0,{"$f":"IF(Table26[[#This Row],[Status Medida]]=\"Finalizado\",IF(Table26[[#This Row],[Sim/Não]]=1,1,0),0)","v":0}]
[null,null,null,null,null,null,null,null,null,null,null,"Atrasado",null,null,null,0,0,{"$f":"IF(Table26[[#This Row],[Status Medida]]=\"Finalizado\",IF(Table26[[#This Row],[Sim/Não]]=1,1,0),0)","v":0}]
[null,null,null,null,null,null,null,null,null,null,null,"Atrasado",null,null,null,0,0,{"$f":"IF(Table26[[#This Row],[Status Medida]]=\"Finalizado\",IF(Table26[[#This Row],[Sim/Não]]=1,1,0),0)","v":0}]
[null,null,null,null,null,null,null,null,null,null,null,"Atrasado",null,null,null,0,0,{"$f":"IF(Table26[[#This Row],[Status Medida]]=\"Finalizado\",IF(Table26[[#This Row],[Sim/Não]]=1,1,0),0)","v":0}]
[null,null,null,null,null,null,null,null,null,null,null,"Atrasado",null,null,null,0,0,{"$f":"IF(Table26[[#This Row],[Status Medida]]=\"Finalizado\",IF(Table26[[#This Row],[Sim/Não]]=1,1,0),0)","v":0}]
[null,null,null,null,null,null,null,null,null,null,null,"Atrasado",null,null,null,0,0,{"$f":"IF(Table26[[#This Row],[Status Medida]]=\"Finalizado\",IF(Table26[[#This Row],[Sim/Não]]=1,1,0),0)","v":0}]
[null,null,null,null,null,null,null,null,null,null,null,"Atrasado",null,null,null,0,0,{"$f":"IF(Table26[[#This Row],[Status Medida]]=\"Finalizado\",IF(Table26[[#This Row],[Sim/Não]]=1,1,0),0)","v":0}]
[null,null,null,null,null,null,null,null,null,null,null,"Atrasado",null,null,null,0,0,{"$f":"IF(Table26[[#This Row],[Status Medida]]=\"Finalizado\",IF(Table26[[#This Row],[Sim/Não]]=1,1,0),0)","v":0}]
[null,null,null,null,null,null,null,null,null,null,null,"Atrasado",null,null,null,0,0,{"$f":"IF(Table26[[#This Row],[Status Medida]]=\"Finalizado\",IF(Table26[[#This Row],[Sim/Não]]=1,1,0),0)","v":0}]
[null,null,null,null,null,null,null,null,null,null,null,"Atrasado",null,null,null,0,0,{"$f":"IF(Table26[[#This Row],[Status Medida]]=\"Finalizado\",IF(Table26[[#This Row],[Sim/Não]]=1,1,0),0)","v":0}]
[null,null,null,null,null,null,null,null,null,null,null,"Atrasado",null,null,null,0,0,{"$f":"IF(Table26[[#This Row],[Status Medida]]=\"Finalizado\",IF(Table26[[#This Row],[Sim/Não]]=1,1,0),0)","v":0}]
[null,null,null,null,null,null,null,null,null,null,null,"Atrasado",null,null,null,0,0,{"$f":"IF(Table26[[#This Row],[Status Medida]]=\"Finalizado\",IF(Table26[[#This Row],[Sim/Não]]=1,1,0),0)","v":0}]
[null,null,null,null,null,null,null,null,null,null,null,"Atrasado",null,null,null,0,0,{"$f":"IF(Table26[[#This Row],[Status Medida]]=\"Finalizado\",IF(Table26[[#This Row],[Sim/Não]]=1,1,0),0)","v":0}]
[null,null,null,null,null,null,null,null,null,null,null,"Atrasado",null,null,null,0,0,{"$f":"IF(Table26[[#This Row],[Status Medida]]=\"Finalizado\",IF(Table26[[#This Row],[Sim/Não]]=1,1,0),0)","v":0}]
[null,null,null,null,null,null,null,null,null,null,null,"Atrasado",null,null,null,0,0,{"$f":"IF(Table26[[#This Row],[Status Medida]]=\"Finalizado\",IF(Table26[[#This Row],[Sim/Não]]=1,1,0),0)","v":0}]
[null,null,null,null,null,null,null,null,null,null,null,"Atrasado",null,null,null,0,0,{"$f":"IF(Table26[[#This Row],[Status Medida]]=\"Finalizado\",IF(Table26[[#This Row],[Sim/Não]]=1,1,0),0)","v":0}]
[null,null,null,null,null,null,null,null,null,null,null,"Atrasado",null,null,null,0,0,{"$f":"IF(Table26[[#This Row],[Status Medida]]=\"Finalizado\",IF(Table26[[#This Row],[Sim/Não]]=1,1,0),0)","v":0}]
[null,null,null,null,null,null,null,null,null,null,null,"Atrasado",null,null,null,0,0,{"$f":"IF(Table26[[#This Row],[Status Medida]]=\"Finalizado\",IF(Table26[[#This Row],[Sim/Não]]=1,1,0),0)","v":0}]
[null,null,null,null,null,null,null,null,null,null,null,"Atrasado",null,null,null,0,0,{"$f":"IF(Table26[[#This Row],[Status Medida]]=\"Finalizado\",IF(Table26[[#This Row],[Sim/Não]]=1,1,0),0)","v":0}]
[null,null,null,null,null,null,null,null,null,null,null,"Atrasado",null,null,null,0,0,{"$f":"IF(Table26[[#This Row],[Status Medida]]=\"Finalizado\",IF(Table26[[#This Row],[Sim/Não]]=1,1,0),0)","v":0}]
[null,null,null,null,null,null,null,null,null,null,null,"Atrasado",null,null,null,0,0,{"$f":"IF(Table26[[#This Row],[Status Medida]]=\"Finalizado\",IF(Table26[[#This Row],[Sim/Não]]=1,1,0),0)","v":0}]
[null,null,null,null,null,null,null,null,null,null,null,"Atrasado",null,null,null,0,0,{"$f":"IF(Table26[[#This Row],[Status Medida]]=\"Finalizado\",IF(Table26[[#This Row],[Sim/Não]]=1,1,0),0)","v":0}]
[null,null,null,null,null,null,null,null,null,null,null,"Atrasado",null,null,null,0,0,{"$f":"IF(Table26[[#This Row],[Status Medida]]=\"Finalizado\",IF(Table26[[#This Row],[Sim/Não]]=1,1,0),0)","v":0}]
[null,null,null,null,null,null,null,null,null,null,null,"Atrasado",null,null,null,0,0,{"$f":"IF(Table26[[#This Row],[Status Medida]]=\"Finalizado\",IF(Table26[[#This Row],[Sim/Não]]=1,1,0),0)","v":0}]
[null,null,null,null,null,null,null,null,null,null,null,"Atrasado",null,null,null,0,0,{"$f":"IF(Table26[[#This Row],[Status Medida]]=\"Finalizado\",IF(Table26[[#This Row],[Sim/Não]]=1,1,0),0)","v":0}]
[null,null,null,null,null,null,null,null,null,null,null,"Atrasado",null,null,null,0,0,{"$f":"IF(Table26[[#This Row],[Status Medida]]=\"Finalizado\",IF(Table26[[#This Row],[Sim/Não]]=1,1,0),0)","v":0}]
[null,null,null,null,null,null,null,null,null,null,null,"Atrasado",null,null,null,0,0,{"$f":"IF(Table26[[#This Row],[Status Medida]]=\"Finalizado\",IF(Table26[[#This Row],[Sim/Não]]=1,1,0),0)","v":0}]
[null,null,null,null,null,null,null,null,null,null,null,"Atrasado",null,null,null,0,0,{"$f":"IF(Table26[[#This Row],[Status Medida]]=\"Finalizado\",IF(Table26[[#This Row],[Sim/Não]]=1,1,0),0)","v":0}]
[null,null,null,null,null,null,null,null,null,null,null,"Atrasado",null,null,null,0,0,{"$f":"IF(Table26[[#This Row],[Status Medida]]=\"Finalizado\",IF(Table26[[#This Row],[Sim/Não]]=1,1,0),0)","v":0}]
[null,null,null,null,null,null,null,null,null,null,null,"Atrasado",null,null,null,0,0,{"$f":"IF(Table26[[#This Row],[Status Medida]]=\"Finalizado\",IF(Table26[[#This Row],[Sim/Não]]=1,1,0),0)","v":0}]
[null,null,null,null,null,null,null,null,null,null,null,"Atrasado",null,null,null,0,0,{"$f":"IF(Table26[[#This Row],[Status Medida]]=\"Finalizado\",IF(Table26[[#This Row],[Sim/Não]]=1,1,0),0)","v":0}]
[null,null,null,null,null,null,null,null,null,null,null,"Atrasado",null,null,null,0,0,{"$f":"IF(Table26[[#This Row],[Status Medida]]=\"Finalizado\",IF(Table26[[#This Row],[Sim/Não]]=1,1,0),0)","v":0}]
[null,null,null,null,null,null,null,null,null,null,null,"Atrasado",null,null,null,0,0,{"$f":"IF(Table26[[#This Row],[Status Medida]]=\"Finalizado\",IF(Table26[[#This Row],[Sim/Não]]=1,1,0),0)","v":0}]
[null,null,null,null,null,null,null,null,null,null,null,"Atrasado",null,null,null,0,0,{"$f":"IF(Table26[[#This Row],[Status Medida]]=\"Finalizado\",IF(Table26[[#This Row],[Sim/Não]]=1,1,0),0)","v":0}]
[null,null,null,null,null,null,null,null,null,null,null,"Atrasado",null,null,null,0,0,{"$f":"IF(Table26[[#This Row],[Status Medida]]=\"Finalizado\",IF(Table26[[#This Row],[Sim/Não]]=1,1,0),0)","v":0}]
[null,null,null,null,null,null,null,null,null,null,null,"Atrasado",null,null,null,0,0,{"$f":"IF(Table26[[#This Row],[Status Medida]]=\"Finalizado\",IF(Table26[[#This Row],[Sim/Não]]=1,1,0),0)","v":0}]
[null,null,null,null,null,null,null,null,null,null,null,"Atrasado",null,null,null,0,0,{"$f":"IF(Table26[[#This Row],[Status Medida]]=\"Finalizado\",IF(Table26[[#This Row],[Sim/Não]]=1,1,0),0)","v":0}]
[null,null,null,null,null,null,null,null,null,null,null,"Atrasado",null,null,null,0,0,{"$f":"IF(Table26[[#This Row],[Status Medida]]=\"Finalizado\",IF(Table26[[#This Row],[Sim/Não]]=1,1,0),0)","v":0}]
[null,null,null,null,null,null,null,null,null,null,null,"Atrasado",null,null,null,0,0,{"$f":"IF(Table26[[#This Row],[Status Medida]]=\"Finalizado\",IF(Table26[[#This Row],[Sim/Não]]=1,1,0),0)","v":0}]
[null,null,null,null,null,null,null,null,null,null,null,"Atrasado",null,null,null,0,0,{"$f":"IF(Table26[[#This Row],[Status Medida]]=\"Finalizado\",IF(Table26[[#This Row],[Sim/Não]]=1,1,0),0)","v":0}]
[null,null,null,null,null,null,null,null,null,null,null,"Atrasado",null,null,null,0,0,{"$f":"IF(Table26[[#This Row],[Status Medida]]=\"Finalizado\",IF(Table26[[#This Row],[Sim/Não]]=1,1,0),0)","v":0}]
[null,null,null,null,null,null,null,null,null,null,null,"Atrasado",null,null,null,0,0,{"$f":"IF(Table26[[#This Row],[Status Medida]]=\"Finalizado\",IF(Table26[[#This Row],[Sim/Não]]=1,1,0),0)","v":0}]
[null,null,null,null,null,null,null,null,null,null,null,"Atrasado",null,null,null,0,0,{"$f":"IF(Table26[[#This Row],[Status Medida]]=\"Finalizado\",IF(Table26[[#This Row],[Sim/Não]]=1,1,0),0)","v":0}]
[null,null,null,null,null,null,null,null,null,null,null,"Atrasado",null,null,null,0,0,{"$f":"IF(Table26[[#This Row],[Status Medida]]=\"Finalizado\",IF(Table26[[#This Row],[Sim/Não]]=1,1,0),0)","v":0}]
[null,null,null,null,null,null,null,null,null,null,null,"Atrasado",null,null,null,0,0,{"$f":"IF(Table26[[#This Row],[Status Medida]]=\"Finalizado\",IF(Table26[[#This Row],[Sim/Não]]=1,1,0),0)","v":0}]
[null,null,null,null,null,null,null,null,null,null,null,"Atrasado",null,null,null,0,0,{"$f":"IF(Table26[[#This Row],[Status Medida]]=\"Finalizado\",IF(Table26[[#This Row],[Sim/Não]]=1,1,0),0)","v":0}]
[null,null,null,null,null,null,null,null,null,null,null,"Atrasado",null,null,null,0,0,{"$f":"IF(Table26[[#This Row],[Status Medida]]=\"Finalizado\",IF(Table26[[#This Row],[Sim/Não]]=1,1,0),0)","v":0}]
[null,null,null,null,null,null,null,null,null,null,null,"Atrasado",null,null,null,0,0,{"$f":"IF(Table26[[#This Row],[Status Medida]]=\"Finalizado\",IF(Table26[[#This Row],[Sim/Não]]=1,1,0),0)","v":0}]
[null,null,null,null,null,null,null,null,null,null,null,"Atrasado",null,null,null,0,0,{"$f":"IF(Table26[[#This Row],[Status Medida]]=\"Finalizado\",IF(Table26[[#This Row],[Sim/Não]]=1,1,0),0)","v":0}]
[null,null,null,null,null,null,null,null,null,null,null,"Atrasado",null,null,null,0,0,{"$f":"IF(Table26[[#This Row],[Status Medida]]=\"Finalizado\",IF(Table26[[#This Row],[Sim/Não]]=1,1,0),0)","v":0}]
[null,null,null,null,null,null,null,null,null,null,null,"Atrasado",null,null,null,0,0,{"$f":"IF(Table26[[#This Row],[Status Medida]]=\"Finalizado\",IF(Table26[[#This Row],[Sim/Não]]=1,1,0),0)","v":0}]
[null,null,null,null,null,null,null,null,null,null,null,"Atrasado",null,null,null,0,0,{"$f":"IF(Table26[[#This Row],[Status Medida]]=\"Finalizado\",IF(Table26[[#This Row],[Sim/Não]]=1,1,0),0)","v":0}]
[null,null,null,null,null,null,null,null,null,null,null,"Atrasado",null,null,null,0,0,{"$f":"IF(Table26[[#This Row],[Status Medida]]=\"Finalizado\",IF(Table26[[#This Row],[Sim/Não]]=1,1,0),0)","v":0}]
[null,null,null,null,null,null,null,null,null,null,null,{"$f":"IF(J7471>K7471,\"Datas inválidas\",IF(M7471=\"Finalizado\",\"Concluído\",IF(J7471>TODAY(),\"Não iniciado\",_xlfn.IFS(J7471=TODAY(),\"Em andamento\",TODAY()>K7471,\"Atrasado\",AND(TODAY()>J7471,TODAY()<=K7471),\"Em andamento\"))))","v":"Atrasado"},null,null,null,{"$f":"IF(O7471=\"Sim\",1,0)","v":0},{"$f":"IF(N7471=E7471,0,1)","v":0},{"$f":"IF(Table26[[#This Row],[Status Medida]]=\"Finalizado\",IF(Table26[[#This Row],[Sim/Não]]=1,1,0),0)","v":0}]
[null,null,null,null,null,null,null,null,null,null,null,"Atrasado",null,null,null,0,0,{"$f":"IF(Table26[[#This Row],[Status Medida]]=\"Finalizado\",IF(Table26[[#This Row],[Sim/Não]]=1,1,0),0)","v":0}]
[null,null,null,null,null,null,null,null,null,null,null,"Atrasado",null,null,null,0,0,{"$f":"IF(Table26[[#This Row],[Status Medida]]=\"Finalizado\",IF(Table26[[#This Row],[Sim/Não]]=1,1,0),0)","v":0}]
[null,null,null,null,null,null,null,null,null,null,null,"Atrasado",null,null,null,0,0,{"$f":"IF(Table26[[#This Row],[Status Medida]]=\"Finalizado\",IF(Table26[[#This Row],[Sim/Não]]=1,1,0),0)","v":0}]
[null,null,null,null,null,null,null,null,null,null,null,"Atrasado",null,null,null,0,0,{"$f":"IF(Table26[[#This Row],[Status Medida]]=\"Finalizado\",IF(Table26[[#This Row],[Sim/Não]]=1,1,0),0)","v":0}]
[null,null,null,null,null,null,null,null,null,null,null,"Atrasado",null,null,null,0,0,{"$f":"IF(Table26[[#This Row],[Status Medida]]=\"Finalizado\",IF(Table26[[#This Row],[Sim/Não]]=1,1,0),0)","v":0}]
[null,null,null,null,null,null,null,null,null,null,null,"Atrasado",null,null,null,0,0,{"$f":"IF(Table26[[#This Row],[Status Medida]]=\"Finalizado\",IF(Table26[[#This Row],[Sim/Não]]=1,1,0),0)","v":0}]
[null,null,null,null,null,null,null,null,null,null,null,"Atrasado",null,null,null,0,0,{"$f":"IF(Table26[[#This Row],[Status Medida]]=\"Finalizado\",IF(Table26[[#This Row],[Sim/Não]]=1,1,0),0)","v":0}]
[null,null,null,null,null,null,null,null,null,null,null,"Atrasado",null,null,null,0,0,{"$f":"IF(Table26[[#This Row],[Status Medida]]=\"Finalizado\",IF(Table26[[#This Row],[Sim/Não]]=1,1,0),0)","v":0}]
[null,null,null,null,null,null,null,null,null,null,null,"Atrasado",null,null,null,0,0,{"$f":"IF(Table26[[#This Row],[Status Medida]]=\"Finalizado\",IF(Table26[[#This Row],[Sim/Não]]=1,1,0),0)","v":0}]
[null,null,null,null,null,null,null,null,null,null,null,"Atrasado",null,null,null,0,0,{"$f":"IF(Table26[[#This Row],[Status Medida]]=\"Finalizado\",IF(Table26[[#This Row],[Sim/Não]]=1,1,0),0)","v":0}]
[null,null,null,null,null,null,null,null,null,null,null,"Atrasado",null,null,null,0,0,{"$f":"IF(Table26[[#This Row],[Status Medida]]=\"Finalizado\",IF(Table26[[#This Row],[Sim/Não]]=1,1,0),0)","v":0}]
[null,null,null,null,null,null,null,null,null,null,null,"Atrasado",null,null,null,0,0,{"$f":"IF(Table26[[#This Row],[Status Medida]]=\"Finalizado\",IF(Table26[[#This Row],[Sim/Não]]=1,1,0),0)","v":0}]
[null,null,null,null,null,null,null,null,null,null,null,"Atrasado",null,null,null,0,0,{"$f":"IF(Table26[[#This Row],[Status Medida]]=\"Finalizado\",IF(Table26[[#This Row],[Sim/Não]]=1,1,0),0)","v":0}]
[null,null,null,null,null,null,null,null,null,null,null,"Atrasado",null,null,null,0,0,{"$f":"IF(Table26[[#This Row],[Status Medida]]=\"Finalizado\",IF(Table26[[#This Row],[Sim/Não]]=1,1,0),0)","v":0}]
[null,null,null,null,null,null,null,null,null,null,null,"Atrasado",null,null,null,0,0,{"$f":"IF(Table26[[#This Row],[Status Medida]]=\"Finalizado\",IF(Table26[[#This Row],[Sim/Não]]=1,1,0),0)","v":0}]
[null,null,null,null,null,null,null,null,null,null,null,"Atrasado",null,null,null,0,0,{"$f":"IF(Table26[[#This Row],[Status Medida]]=\"Finalizado\",IF(Table26[[#This Row],[Sim/Não]]=1,1,0),0)","v":0}]
[null,null,null,null,null,null,null,null,null,null,null,"Atrasado",null,null,null,0,0,{"$f":"IF(Table26[[#This Row],[Status Medida]]=\"Finalizado\",IF(Table26[[#This Row],[Sim/Não]]=1,1,0),0)","v":0}]
[null,null,null,null,null,null,null,null,null,null,null,"Atrasado",null,null,null,0,0,{"$f":"IF(Table26[[#This Row],[Status Medida]]=\"Finalizado\",IF(Table26[[#This Row],[Sim/Não]]=1,1,0),0)","v":0}]
[null,null,null,null,null,null,null,null,null,null,null,"Atrasado",null,null,null,0,0,{"$f":"IF(Table26[[#This Row],[Status Medida]]=\"Finalizado\",IF(Table26[[#This Row],[Sim/Não]]=1,1,0),0)","v":0}]
[null,null,null,null,null,null,null,null,null,null,null,"Atrasado",null,null,null,0,0,{"$f":"IF(Table26[[#This Row],[Status Medida]]=\"Finalizado\",IF(Table26[[#This Row],[Sim/Não]]=1,1,0),0)","v":0}]
[null,null,null,null,null,null,null,null,null,null,null,"Atrasado",null,null,null,0,0,{"$f":"IF(Table26[[#This Row],[Status Medida]]=\"Finalizado\",IF(Table26[[#This Row],[Sim/Não]]=1,1,0),0)","v":0}]
[null,null,null,null,null,null,null,null,null,null,null,"Atrasado",null,null,null,0,0,{"$f":"IF(Table26[[#This Row],[Status Medida]]=\"Finalizado\",IF(Table26[[#This Row],[Sim/Não]]=1,1,0),0)","v":0}]
[null,null,null,null,null,null,null,null,null,null,null,"Atrasado",null,null,null,0,0,{"$f":"IF(Table26[[#This Row],[Status Medida]]=\"Finalizado\",IF(Table26[[#This Row],[Sim/Não]]=1,1,0),0)","v":0}]
[null,null,null,null,null,null,null,null,null,null,null,"Atrasado",null,null,null,0,0,{"$f":"IF(Table26[[#This Row],[Status Medida]]=\"Finalizado\",IF(Table26[[#This Row],[Sim/Não]]=1,1,0),0)","v":0}]
[null,null,null,null,null,null,null,null,null,null,null,"Atrasado",null,null,null,0,0,{"$f":"IF(Table26[[#This Row],[Status Medida]]=\"Finalizado\",IF(Table26[[#This Row],[Sim/Não]]=1,1,0),0)","v":0}]
[null,null,null,null,null,null,null,null,null,null,null,"Atrasado",null,null,null,0,0,{"$f":"IF(Table26[[#This Row],[Status Medida]]=\"Finalizado\",IF(Table26[[#This Row],[Sim/Não]]=1,1,0),0)","v":0}]
[null,null,null,null,null,null,null,null,null,null,null,"Atrasado",null,null,null,0,0,{"$f":"IF(Table26[[#This Row],[Status Medida]]=\"Finalizado\",IF(Table26[[#This Row],[Sim/Não]]=1,1,0),0)","v":0}]
[null,null,null,null,null,null,null,null,null,null,null,"Atrasado",null,null,null,0,0,{"$f":"IF(Table26[[#This Row],[Status Medida]]=\"Finalizado\",IF(Table26[[#This Row],[Sim/Não]]=1,1,0),0)","v":0}]
[null,null,null,null,null,null,null,null,null,null,null,"Atrasado",null,null,null,0,0,{"$f":"IF(Table26[[#This Row],[Status Medida]]=\"Finalizado\",IF(Table26[[#This Row],[Sim/Não]]=1,1,0),0)","v":0}]
[null,null,null,null,null,null,null,null,null,null,null,"Atrasado",null,null,null,0,0,{"$f":"IF(Table26[[#This Row],[Status Medida]]=\"Finalizado\",IF(Table26[[#This Row],[Sim/Não]]=1,1,0),0)","v":0}]
[null,null,null,null,null,null,null,null,null,null,null,"Atrasado",null,null,null,0,0,{"$f":"IF(Table26[[#This Row],[Status Medida]]=\"Finalizado\",IF(Table26[[#This Row],[Sim/Não]]=1,1,0),0)","v":0}]
[null,null,null,null,null,null,null,null,null,null,null,"Atrasado",null,null,null,0,0,{"$f":"IF(Table26[[#This Row],[Status Medida]]=\"Finalizado\",IF(Table26[[#This Row],[Sim/Não]]=1,1,0),0)","v":0}]
[null,null,null,null,null,null,null,null,null,null,null,"Atrasado",null,null,null,0,0,{"$f":"IF(Table26[[#This Row],[Status Medida]]=\"Finalizado\",IF(Table26[[#This Row],[Sim/Não]]=1,1,0),0)","v":0}]
[null,null,null,null,null,null,null,null,null,null,null,"Atrasado",null,null,null,0,0,{"$f":"IF(Table26[[#This Row],[Status Medida]]=\"Finalizado\",IF(Table26[[#This Row],[Sim/Não]]=1,1,0),0)","v":0}]
[null,null,null,null,null,null,null,null,null,null,null,"Atrasado",null,null,null,0,0,{"$f":"IF(Table26[[#This Row],[Status Medida]]=\"Finalizado\",IF(Table26[[#This Row],[Sim/Não]]=1,1,0),0)","v":0}]
[null,null,null,null,null,null,null,null,null,null,null,"Atrasado",null,null,null,0,0,{"$f":"IF(Table26[[#This Row],[Status Medida]]=\"Finalizado\",IF(Table26[[#This Row],[Sim/Não]]=1,1,0),0)","v":0}]
[null,null,null,null,null,null,null,null,null,null,null,"Atrasado",null,null,null,0,0,{"$f":"IF(Table26[[#This Row],[Status Medida]]=\"Finalizado\",IF(Table26[[#This Row],[Sim/Não]]=1,1,0),0)","v":0}]
[null,null,null,null,null,null,null,null,null,null,null,"Atrasado",null,null,null,0,0,{"$f":"IF(Table26[[#This Row],[Status Medida]]=\"Finalizado\",IF(Table26[[#This Row],[Sim/Não]]=1,1,0),0)","v":0}]
[null,null,null,null,null,null,null,null,null,null,null,"Atrasado",null,null,null,0,0,{"$f":"IF(Table26[[#This Row],[Status Medida]]=\"Finalizado\",IF(Table26[[#This Row],[Sim/Não]]=1,1,0),0)","v":0}]
[null,null,null,null,null,null,null,null,null,null,null,"Atrasado",null,null,null,0,0,{"$f":"IF(Table26[[#This Row],[Status Medida]]=\"Finalizado\",IF(Table26[[#This Row],[Sim/Não]]=1,1,0),0)","v":0}]
[null,null,null,null,null,null,null,null,null,null,null,"Atrasado",null,null,null,0,0,{"$f":"IF(Table26[[#This Row],[Status Medida]]=\"Finalizado\",IF(Table26[[#This Row],[Sim/Não]]=1,1,0),0)","v":0}]
[null,null,null,null,null,null,null,null,null,null,null,"Atrasado",null,null,null,0,0,{"$f":"IF(Table26[[#This Row],[Status Medida]]=\"Finalizado\",IF(Table26[[#This Row],[Sim/Não]]=1,1,0),0)","v":0}]
[null,null,null,null,null,null,null,null,null,null,null,"Atrasado",null,null,null,0,0,{"$f":"IF(Table26[[#This Row],[Status Medida]]=\"Finalizado\",IF(Table26[[#This Row],[Sim/Não]]=1,1,0),0)","v":0}]
[null,null,null,null,null,null,null,null,null,null,null,"Atrasado",null,null,null,0,0,{"$f":"IF(Table26[[#This Row],[Status Medida]]=\"Finalizado\",IF(Table26[[#This Row],[Sim/Não]]=1,1,0),0)","v":0}]
[null,null,null,null,null,null,null,null,null,null,null,"Atrasado",null,null,null,0,0,{"$f":"IF(Table26[[#This Row],[Status Medida]]=\"Finalizado\",IF(Table26[[#This Row],[Sim/Não]]=1,1,0),0)","v":0}]
[null,null,null,null,null,null,null,null,null,null,null,"Atrasado",null,null,null,0,0,{"$f":"IF(Table26[[#This Row],[Status Medida]]=\"Finalizado\",IF(Table26[[#This Row],[Sim/Não]]=1,1,0),0)","v":0}]
[null,null,null,null,null,null,null,null,null,null,null,"Atrasado",null,null,null,0,0,{"$f":"IF(Table26[[#This Row],[Status Medida]]=\"Finalizado\",IF(Table26[[#This Row],[Sim/Não]]=1,1,0),0)","v":0}]
[null,null,null,null,null,null,null,null,null,null,null,"Atrasado",null,null,null,0,0,{"$f":"IF(Table26[[#This Row],[Status Medida]]=\"Finalizado\",IF(Table26[[#This Row],[Sim/Não]]=1,1,0),0)","v":0}]
[null,null,null,null,null,null,null,null,null,null,null,"Atrasado",null,null,null,0,0,{"$f":"IF(Table26[[#This Row],[Status Medida]]=\"Finalizado\",IF(Table26[[#This Row],[Sim/Não]]=1,1,0),0)","v":0}]
[null,null,null,null,null,null,null,null,null,null,null,"Atrasado",null,null,null,0,0,{"$f":"IF(Table26[[#This Row],[Status Medida]]=\"Finalizado\",IF(Table26[[#This Row],[Sim/Não]]=1,1,0),0)","v":0}]
[null,null,null,null,null,null,null,null,null,null,null,"Atrasado",null,null,null,0,0,{"$f":"IF(Table26[[#This Row],[Status Medida]]=\"Finalizado\",IF(Table26[[#This Row],[Sim/Não]]=1,1,0),0)","v":0}]
[null,null,null,null,null,null,null,null,null,null,null,"Atrasado",null,null,null,0,0,{"$f":"IF(Table26[[#This Row],[Status Medida]]=\"Finalizado\",IF(Table26[[#This Row],[Sim/Não]]=1,1,0),0)","v":0}]
[null,null,null,null,null,null,null,null,null,null,null,"Atrasado",null,null,null,0,0,{"$f":"IF(Table26[[#This Row],[Status Medida]]=\"Finalizado\",IF(Table26[[#This Row],[Sim/Não]]=1,1,0),0)","v":0}]
[null,null,null,null,null,null,null,null,null,null,null,"Atrasado",null,null,null,0,0,{"$f":"IF(Table26[[#This Row],[Status Medida]]=\"Finalizado\",IF(Table26[[#This Row],[Sim/Não]]=1,1,0),0)","v":0}]
[null,null,null,null,null,null,null,null,null,null,null,"Atrasado",null,null,null,0,0,{"$f":"IF(Table26[[#This Row],[Status Medida]]=\"Finalizado\",IF(Table26[[#This Row],[Sim/Não]]=1,1,0),0)","v":0}]
[null,null,null,null,null,null,null,null,null,null,null,"Atrasado",null,null,null,0,0,{"$f":"IF(Table26[[#This Row],[Status Medida]]=\"Finalizado\",IF(Table26[[#This Row],[Sim/Não]]=1,1,0),0)","v":0}]
[null,null,null,null,null,null,null,null,null,null,null,"Atrasado",null,null,null,0,0,{"$f":"IF(Table26[[#This Row],[Status Medida]]=\"Finalizado\",IF(Table26[[#This Row],[Sim/Não]]=1,1,0),0)","v":0}]
[null,null,null,null,null,null,null,null,null,null,null,{"$f":"IF(J7727>K7727,\"Datas inválidas\",IF(M7727=\"Finalizado\",\"Concluído\",IF(J7727>TODAY(),\"Não iniciado\",_xlfn.IFS(J7727=TODAY(),\"Em andamento\",TODAY()>K7727,\"Atrasado\",AND(TODAY()>J7727,TODAY()<=K7727),\"Em andamento\"))))","v":"Atrasado"},null,null,null,{"$f":"IF(O7727=\"Sim\",1,0)","v":0},{"$f":"IF(N7727=E7727,0,1)","v":0},{"$f":"IF(Table26[[#This Row],[Status Medida]]=\"Finalizado\",IF(Table26[[#This Row],[Sim/Não]]=1,1,0),0)","v":0}]
[null,null,null,null,null,null,null,null,null,null,null,"Atrasado",null,null,null,0,0,{"$f":"IF(Table26[[#This Row],[Status Medida]]=\"Finalizado\",IF(Table26[[#This Row],[Sim/Não]]=1,1,0),0)","v":0}]
[null,null,null,null,null,null,null,null,null,null,null,"Atrasado",null,null,null,0,0,{"$f":"IF(Table26[[#This Row],[Status Medida]]=\"Finalizado\",IF(Table26[[#This Row],[Sim/Não]]=1,1,0),0)","v":0}]
[null,null,null,null,null,null,null,null,null,null,null,"Atrasado",null,null,null,0,0,{"$f":"IF(Table26[[#This Row],[Status Medida]]=\"Finalizado\",IF(Table26[[#This Row],[Sim/Não]]=1,1,0),0)","v":0}]
[null,null,null,null,null,null,null,null,null,null,null,"Atrasado",null,null,null,0,0,{"$f":"IF(Table26[[#This Row],[Status Medida]]=\"Finalizado\",IF(Table26[[#This Row],[Sim/Não]]=1,1,0),0)","v":0}]
[null,null,null,null,null,null,null,null,null,null,null,"Atrasado",null,null,null,0,0,{"$f":"IF(Table26[[#This Row],[Status Medida]]=\"Finalizado\",IF(Table26[[#This Row],[Sim/Não]]=1,1,0),0)","v":0}]
[null,null,null,null,null,null,null,null,null,null,null,"Atrasado",null,null,null,0,0,{"$f":"IF(Table26[[#This Row],[Status Medida]]=\"Finalizado\",IF(Table26[[#This Row],[Sim/Não]]=1,1,0),0)","v":0}]
[null,null,null,null,null,null,null,null,null,null,null,"Atrasado",null,null,null,0,0,{"$f":"IF(Table26[[#This Row],[Status Medida]]=\"Finalizado\",IF(Table26[[#This Row],[Sim/Não]]=1,1,0),0)","v":0}]
[null,null,null,null,null,null,null,null,null,null,null,"Atrasado",null,null,null,0,0,{"$f":"IF(Table26[[#This Row],[Status Medida]]=\"Finalizado\",IF(Table26[[#This Row],[Sim/Não]]=1,1,0),0)","v":0}]
[null,null,null,null,null,null,null,null,null,null,null,"Atrasado",null,null,null,0,0,{"$f":"IF(Table26[[#This Row],[Status Medida]]=\"Finalizado\",IF(Table26[[#This Row],[Sim/Não]]=1,1,0),0)","v":0}]
[null,null,null,null,null,null,null,null,null,null,null,"Atrasado",null,null,null,0,0,{"$f":"IF(Table26[[#This Row],[Status Medida]]=\"Finalizado\",IF(Table26[[#This Row],[Sim/Não]]=1,1,0),0)","v":0}]
[null,null,null,null,null,null,null,null,null,null,null,"Atrasado",null,null,null,0,0,{"$f":"IF(Table26[[#This Row],[Status Medida]]=\"Finalizado\",IF(Table26[[#This Row],[Sim/Não]]=1,1,0),0)","v":0}]
[null,null,null,null,null,null,null,null,null,null,null,"Atrasado",null,null,null,0,0,{"$f":"IF(Table26[[#This Row],[Status Medida]]=\"Finalizado\",IF(Table26[[#This Row],[Sim/Não]]=1,1,0),0)","v":0}]
[null,null,null,null,null,null,null,null,null,null,null,"Atrasado",null,null,null,0,0,{"$f":"IF(Table26[[#This Row],[Status Medida]]=\"Finalizado\",IF(Table26[[#This Row],[Sim/Não]]=1,1,0),0)","v":0}]
[null,null,null,null,null,null,null,null,null,null,null,"Atrasado",null,null,null,0,0,{"$f":"IF(Table26[[#This Row],[Status Medida]]=\"Finalizado\",IF(Table26[[#This Row],[Sim/Não]]=1,1,0),0)","v":0}]
[null,null,null,null,null,null,null,null,null,null,null,"Atrasado",null,null,null,0,0,{"$f":"IF(Table26[[#This Row],[Status Medida]]=\"Finalizado\",IF(Table26[[#This Row],[Sim/Não]]=1,1,0),0)","v":0}]
[null,null,null,null,null,null,null,null,null,null,null,"Atrasado",null,null,null,0,0,{"$f":"IF(Table26[[#This Row],[Status Medida]]=\"Finalizado\",IF(Table26[[#This Row],[Sim/Não]]=1,1,0),0)","v":0}]
[null,null,null,null,null,null,null,null,null,null,null,"Atrasado",null,null,null,0,0,{"$f":"IF(Table26[[#This Row],[Status Medida]]=\"Finalizado\",IF(Table26[[#This Row],[Sim/Não]]=1,1,0),0)","v":0}]
[null,null,null,null,null,null,null,null,null,null,null,"Atrasado",null,null,null,0,0,{"$f":"IF(Table26[[#This Row],[Status Medida]]=\"Finalizado\",IF(Table26[[#This Row],[Sim/Não]]=1,1,0),0)","v":0}]
[null,null,null,null,null,null,null,null,null,null,null,"Atrasado",null,null,null,0,0,{"$f":"IF(Table26[[#This Row],[Status Medida]]=\"Finalizado\",IF(Table26[[#This Row],[Sim/Não]]=1,1,0),0)","v":0}]
[null,null,null,null,null,null,null,null,null,null,null,"Atrasado",null,null,null,0,0,{"$f":"IF(Table26[[#This Row],[Status Medida]]=\"Finalizado\",IF(Table26[[#This Row],[Sim/Não]]=1,1,0),0)","v":0}]
[null,null,null,null,null,null,null,null,null,null,null,"Atrasado",null,null,null,0,0,{"$f":"IF(Table26[[#This Row],[Status Medida]]=\"Finalizado\",IF(Table26[[#This Row],[Sim/Não]]=1,1,0),0)","v":0}]
[null,null,null,null,null,null,null,null,null,null,null,"Atrasado",null,null,null,0,0,{"$f":"IF(Table26[[#This Row],[Status Medida]]=\"Finalizado\",IF(Table26[[#This Row],[Sim/Não]]=1,1,0),0)","v":0}]
[null,null,null,null,null,null,null,null,null,null,null,"Atrasado",null,null,null,0,0,{"$f":"IF(Table26[[#This Row],[Status Medida]]=\"Finalizado\",IF(Table26[[#This Row],[Sim/Não]]=1,1,0),0)","v":0}]
[null,null,null,null,null,null,null,null,null,null,null,"Atrasado",null,null,null,0,0,{"$f":"IF(Table26[[#This Row],[Status Medida]]=\"Finalizado\",IF(Table26[[#This Row],[Sim/Não]]=1,1,0),0)","v":0}]
[null,null,null,null,null,null,null,null,null,null,null,"Atrasado",null,null,null,0,0,{"$f":"IF(Table26[[#This Row],[Status Medida]]=\"Finalizado\",IF(Table26[[#This Row],[Sim/Não]]=1,1,0),0)","v":0}]
[null,null,null,null,null,null,null,null,null,null,null,"Atrasado",null,null,null,0,0,{"$f":"IF(Table26[[#This Row],[Status Medida]]=\"Finalizado\",IF(Table26[[#This Row],[Sim/Não]]=1,1,0),0)","v":0}]
[null,null,null,null,null,null,null,null,null,null,null,"Atrasado",null,null,null,0,0,{"$f":"IF(Table26[[#This Row],[Status Medida]]=\"Finalizado\",IF(Table26[[#This Row],[Sim/Não]]=1,1,0),0)","v":0}]
[null,null,null,null,null,null,null,null,null,null,null,"Atrasado",null,null,null,0,0,{"$f":"IF(Table26[[#This Row],[Status Medida]]=\"Finalizado\",IF(Table26[[#This Row],[Sim/Não]]=1,1,0),0)","v":0}]
[null,null,null,null,null,null,null,null,null,null,null,"Atrasado",null,null,null,0,0,{"$f":"IF(Table26[[#This Row],[Status Medida]]=\"Finalizado\",IF(Table26[[#This Row],[Sim/Não]]=1,1,0),0)","v":0}]
[null,null,null,null,null,null,null,null,null,null,null,"Atrasado",null,null,null,0,0,{"$f":"IF(Table26[[#This Row],[Status Medida]]=\"Finalizado\",IF(Table26[[#This Row],[Sim/Não]]=1,1,0),0)","v":0}]
[null,null,null,null,null,null,null,null,null,null,null,"Atrasado",null,null,null,0,0,{"$f":"IF(Table26[[#This Row],[Status Medida]]=\"Finalizado\",IF(Table26[[#This Row],[Sim/Não]]=1,1,0),0)","v":0}]
[null,null,null,null,null,null,null,null,null,null,null,"Atrasado",null,null,null,0,0,{"$f":"IF(Table26[[#This Row],[Status Medida]]=\"Finalizado\",IF(Table26[[#This Row],[Sim/Não]]=1,1,0),0)","v":0}]
[null,null,null,null,null,null,null,null,null,null,null,"Atrasado",null,null,null,0,0,{"$f":"IF(Table26[[#This Row],[Status Medida]]=\"Finalizado\",IF(Table26[[#This Row],[Sim/Não]]=1,1,0),0)","v":0}]
[null,null,null,null,null,null,null,null,null,null,null,"Atrasado",null,null,null,0,0,{"$f":"IF(Table26[[#This Row],[Status Medida]]=\"Finalizado\",IF(Table26[[#This Row],[Sim/Não]]=1,1,0),0)","v":0}]
[null,null,null,null,null,null,null,null,null,null,null,"Atrasado",null,null,null,0,0,{"$f":"IF(Table26[[#This Row],[Status Medida]]=\"Finalizado\",IF(Table26[[#This Row],[Sim/Não]]=1,1,0),0)","v":0}]
[null,null,null,null,null,null,null,null,null,null,null,"Atrasado",null,null,null,0,0,{"$f":"IF(Table26[[#This Row],[Status Medida]]=\"Finalizado\",IF(Table26[[#This Row],[Sim/Não]]=1,1,0),0)","v":0}]
[null,null,null,null,null,null,null,null,null,null,null,"Atrasado",null,null,null,0,0,{"$f":"IF(Table26[[#This Row],[Status Medida]]=\"Finalizado\",IF(Table26[[#This Row],[Sim/Não]]=1,1,0),0)","v":0}]
[null,null,null,null,null,null,null,null,null,null,null,"Atrasado",null,null,null,0,0,{"$f":"IF(Table26[[#This Row],[Status Medida]]=\"Finalizado\",IF(Table26[[#This Row],[Sim/Não]]=1,1,0),0)","v":0}]
[null,null,null,null,null,null,null,null,null,null,null,"Atrasado",null,null,null,0,0,{"$f":"IF(Table26[[#This Row],[Status Medida]]=\"Finalizado\",IF(Table26[[#This Row],[Sim/Não]]=1,1,0),0)","v":0}]
[null,null,null,null,null,null,null,null,null,null,null,"Atrasado",null,null,null,0,0,{"$f":"IF(Table26[[#This Row],[Status Medida]]=\"Finalizado\",IF(Table26[[#This Row],[Sim/Não]]=1,1,0),0)","v":0}]
[null,null,null,null,null,null,null,null,null,null,null,"Atrasado",null,null,null,0,0,{"$f":"IF(Table26[[#This Row],[Status Medida]]=\"Finalizado\",IF(Table26[[#This Row],[Sim/Não]]=1,1,0),0)","v":0}]
[null,null,null,null,null,null,null,null,null,null,null,"Atrasado",null,null,null,0,0,{"$f":"IF(Table26[[#This Row],[Status Medida]]=\"Finalizado\",IF(Table26[[#This Row],[Sim/Não]]=1,1,0),0)","v":0}]
[null,null,null,null,null,null,null,null,null,null,null,"Atrasado",null,null,null,0,0,{"$f":"IF(Table26[[#This Row],[Status Medida]]=\"Finalizado\",IF(Table26[[#This Row],[Sim/Não]]=1,1,0),0)","v":0}]
[null,null,null,null,null,null,null,null,null,null,null,"Atrasado",null,null,null,0,0,{"$f":"IF(Table26[[#This Row],[Status Medida]]=\"Finalizado\",IF(Table26[[#This Row],[Sim/Não]]=1,1,0),0)","v":0}]
[null,null,null,null,null,null,null,null,null,null,null,"Atrasado",null,null,null,0,0,{"$f":"IF(Table26[[#This Row],[Status Medida]]=\"Finalizado\",IF(Table26[[#This Row],[Sim/Não]]=1,1,0),0)","v":0}]
[null,null,null,null,null,null,null,null,null,null,null,"Atrasado",null,null,null,0,0,{"$f":"IF(Table26[[#This Row],[Status Medida]]=\"Finalizado\",IF(Table26[[#This Row],[Sim/Não]]=1,1,0),0)","v":0}]
[null,null,null,null,null,null,null,null,null,null,null,"Atrasado",null,null,null,0,0,{"$f":"IF(Table26[[#This Row],[Status Medida]]=\"Finalizado\",IF(Table26[[#This Row],[Sim/Não]]=1,1,0),0)","v":0}]
[null,null,null,null,null,null,null,null,null,null,null,"Atrasado",null,null,null,0,0,{"$f":"IF(Table26[[#This Row],[Status Medida]]=\"Finalizado\",IF(Table26[[#This Row],[Sim/Não]]=1,1,0),0)","v":0}]
[null,null,null,null,null,null,null,null,null,null,null,"Atrasado",null,null,null,0,0,{"$f":"IF(Table26[[#This Row],[Status Medida]]=\"Finalizado\",IF(Table26[[#This Row],[Sim/Não]]=1,1,0),0)","v":0}]
[null,null,null,null,null,null,null,null,null,null,null,"Atrasado",null,null,null,0,0,{"$f":"IF(Table26[[#This Row],[Status Medida]]=\"Finalizado\",IF(Table26[[#This Row],[Sim/Não]]=1,1,0),0)","v":0}]
[null,null,null,null,null,null,null,null,null,null,null,"Atrasado",null,null,null,0,0,{"$f":"IF(Table26[[#This Row],[Status Medida]]=\"Finalizado\",IF(Table26[[#This Row],[Sim/Não]]=1,1,0),0)","v":0}]
[null,null,null,null,null,null,null,null,null,null,null,"Atrasado",null,null,null,0,0,{"$f":"IF(Table26[[#This Row],[Status Medida]]=\"Finalizado\",IF(Table26[[#This Row],[Sim/Não]]=1,1,0),0)","v":0}]
[null,null,null,null,null,null,null,null,null,null,null,"Atrasado",null,null,null,0,0,{"$f":"IF(Table26[[#This Row],[Status Medida]]=\"Finalizado\",IF(Table26[[#This Row],[Sim/Não]]=1,1,0),0)","v":0}]
[null,null,null,null,null,null,null,null,null,null,null,"Atrasado",null,null,null,0,0,{"$f":"IF(Table26[[#This Row],[Status Medida]]=\"Finalizado\",IF(Table26[[#This Row],[Sim/Não]]=1,1,0),0)","v":0}]
[null,null,null,null,null,null,null,null,null,null,null,"Atrasado",null,null,null,0,0,{"$f":"IF(Table26[[#This Row],[Status Medida]]=\"Finalizado\",IF(Table26[[#This Row],[Sim/Não]]=1,1,0),0)","v":0}]
[null,null,null,null,null,null,null,null,null,null,null,"Atrasado",null,null,null,0,0,{"$f":"IF(Table26[[#This Row],[Status Medida]]=\"Finalizado\",IF(Table26[[#This Row],[Sim/Não]]=1,1,0),0)","v":0}]
[null,null,null,null,null,null,null,null,null,null,null,"Atrasado",null,null,null,0,0,{"$f":"IF(Table26[[#This Row],[Status Medida]]=\"Finalizado\",IF(Table26[[#This Row],[Sim/Não]]=1,1,0),0)","v":0}]
[null,null,null,null,null,null,null,null,null,null,null,"Atrasado",null,null,null,0,0,{"$f":"IF(Table26[[#This Row],[Status Medida]]=\"Finalizado\",IF(Table26[[#This Row],[Sim/Não]]=1,1,0),0)","v":0}]
[null,null,null,null,null,null,null,null,null,null,null,"Atrasado",null,null,null,0,0,{"$f":"IF(Table26[[#This Row],[Status Medida]]=\"Finalizado\",IF(Table26[[#This Row],[Sim/Não]]=1,1,0),0)","v":0}]
[null,null,null,null,null,null,null,null,null,null,null,"Atrasado",null,null,null,0,0,{"$f":"IF(Table26[[#This Row],[Status Medida]]=\"Finalizado\",IF(Table26[[#This Row],[Sim/Não]]=1,1,0),0)","v":0}]
[null,null,null,null,null,null,null,null,null,null,null,"Atrasado",null,null,null,0,0,{"$f":"IF(Table26[[#This Row],[Status Medida]]=\"Finalizado\",IF(Table26[[#This Row],[Sim/Não]]=1,1,0),0)","v":0}]
[null,null,null,null,null,null,null,null,null,null,null,"Atrasado",null,null,null,0,0,{"$f":"IF(Table26[[#This Row],[Status Medida]]=\"Finalizado\",IF(Table26[[#This Row],[Sim/Não]]=1,1,0),0)","v":0}]
[null,null,null,null,null,null,null,null,null,null,null,"Atrasado",null,null,null,0,0,{"$f":"IF(Table26[[#This Row],[Status Medida]]=\"Finalizado\",IF(Table26[[#This Row],[Sim/Não]]=1,1,0),0)","v":0}]
[null,null,null,null,null,null,null,null,null,null,null,"Atrasado",null,null,null,0,0,{"$f":"IF(Table26[[#This Row],[Status Medida]]=\"Finalizado\",IF(Table26[[#This Row],[Sim/Não]]=1,1,0),0)","v":0}]
[null,null,null,null,null,null,null,null,null,null,null,"Atrasado",null,null,null,0,0,{"$f":"IF(Table26[[#This Row],[Status Medida]]=\"Finalizado\",IF(Table26[[#This Row],[Sim/Não]]=1,1,0),0)","v":0}]
[null,null,null,null,null,null,null,null,null,null,null,"Atrasado",null,null,null,0,0,{"$f":"IF(Table26[[#This Row],[Status Medida]]=\"Finalizado\",IF(Table26[[#This Row],[Sim/Não]]=1,1,0),0)","v":0}]
[null,null,null,null,null,null,null,null,null,null,null,"Atrasado",null,null,null,0,0,{"$f":"IF(Table26[[#This Row],[Status Medida]]=\"Finalizado\",IF(Table26[[#This Row],[Sim/Não]]=1,1,0),0)","v":0}]
[null,null,null,null,null,null,null,null,null,null,null,"Atrasado",null,null,null,0,0,{"$f":"IF(Table26[[#This Row],[Status Medida]]=\"Finalizado\",IF(Table26[[#This Row],[Sim/Não]]=1,1,0),0)","v":0}]
[null,null,null,null,null,null,null,null,null,null,null,"Atrasado",null,null,null,0,0,{"$f":"IF(Table26[[#This Row],[Status Medida]]=\"Finalizado\",IF(Table26[[#This Row],[Sim/Não]]=1,1,0),0)","v":0}]
[null,null,null,null,null,null,null,null,null,null,null,"Atrasado",null,null,null,0,0,{"$f":"IF(Table26[[#This Row],[Status Medida]]=\"Finalizado\",IF(Table26[[#This Row],[Sim/Não]]=1,1,0),0)","v":0}]
[null,null,null,null,null,null,null,null,null,null,null,"Atrasado",null,null,null,0,0,{"$f":"IF(Table26[[#This Row],[Status Medida]]=\"Finalizado\",IF(Table26[[#This Row],[Sim/Não]]=1,1,0),0)","v":0}]
[null,null,null,null,null,null,null,null,null,null,null,"Atrasado",null,null,null,0,0,{"$f":"IF(Table26[[#This Row],[Status Medida]]=\"Finalizado\",IF(Table26[[#This Row],[Sim/Não]]=1,1,0),0)","v":0}]
[null,null,null,null,null,null,null,null,null,null,null,"Atrasado",null,null,null,0,0,{"$f":"IF(Table26[[#This Row],[Status Medida]]=\"Finalizado\",IF(Table26[[#This Row],[Sim/Não]]=1,1,0),0)","v":0}]
[null,null,null,null,null,null,null,null,null,null,null,"Atrasado",null,null,null,0,0,{"$f":"IF(Table26[[#This Row],[Status Medida]]=\"Finalizado\",IF(Table26[[#This Row],[Sim/Não]]=1,1,0),0)","v":0}]
[null,null,null,null,null,null,null,null,null,null,null,"Atrasado",null,null,null,0,0,{"$f":"IF(Table26[[#This Row],[Status Medida]]=\"Finalizado\",IF(Table26[[#This Row],[Sim/Não]]=1,1,0),0)","v":0}]
[null,null,null,null,null,null,null,null,null,null,null,"Atrasado",null,null,null,0,0,{"$f":"IF(Table26[[#This Row],[Status Medida]]=\"Finalizado\",IF(Table26[[#This Row],[Sim/Não]]=1,1,0),0)","v":0}]
[null,null,null,null,null,null,null,null,null,null,null,"Atrasado",null,null,null,0,0,{"$f":"IF(Table26[[#This Row],[Status Medida]]=\"Finalizado\",IF(Table26[[#This Row],[Sim/Não]]=1,1,0),0)","v":0}]
[null,null,null,null,null,null,null,null,null,null,null,"Atrasado",null,null,null,0,0,{"$f":"IF(Table26[[#This Row],[Status Medida]]=\"Finalizado\",IF(Table26[[#This Row],[Sim/Não]]=1,1,0),0)","v":0}]
[null,null,null,null,null,null,null,null,null,null,null,"Atrasado",null,null,null,0,0,{"$f":"IF(Table26[[#This Row],[Status Medida]]=\"Finalizado\",IF(Table26[[#This Row],[Sim/Não]]=1,1,0),0)","v":0}]
[null,null,null,null,null,null,null,null,null,null,null,"Atrasado",null,null,null,0,0,{"$f":"IF(Table26[[#This Row],[Status Medida]]=\"Finalizado\",IF(Table26[[#This Row],[Sim/Não]]=1,1,0),0)","v":0}]
[null,null,null,null,null,null,null,null,null,null,null,"Atrasado",null,null,null,0,0,{"$f":"IF(Table26[[#This Row],[Status Medida]]=\"Finalizado\",IF(Table26[[#This Row],[Sim/Não]]=1,1,0),0)","v":0}]
[null,null,null,null,null,null,null,null,null,null,null,"Atrasado",null,null,null,0,0,{"$f":"IF(Table26[[#This Row],[Status Medida]]=\"Finalizado\",IF(Table26[[#This Row],[Sim/Não]]=1,1,0),0)","v":0}]
[null,null,null,null,null,null,null,null,null,null,null,"Atrasado",null,null,null,0,0,{"$f":"IF(Table26[[#This Row],[Status Medida]]=\"Finalizado\",IF(Table26[[#This Row],[Sim/Não]]=1,1,0),0)","v":0}]
[null,null,null,null,null,null,null,null,null,null,null,"Atrasado",null,null,null,0,0,{"$f":"IF(Table26[[#This Row],[Status Medida]]=\"Finalizado\",IF(Table26[[#This Row],[Sim/Não]]=1,1,0),0)","v":0}]
[null,null,null,null,null,null,null,null,null,null,null,"Atrasado",null,null,null,0,0,{"$f":"IF(Table26[[#This Row],[Status Medida]]=\"Finalizado\",IF(Table26[[#This Row],[Sim/Não]]=1,1,0),0)","v":0}]
[null,null,null,null,null,null,null,null,null,null,null,"Atrasado",null,null,null,0,0,{"$f":"IF(Table26[[#This Row],[Status Medida]]=\"Finalizado\",IF(Table26[[#This Row],[Sim/Não]]=1,1,0),0)","v":0}]
[null,null,null,null,null,null,null,null,null,null,null,"Atrasado",null,null,null,0,0,{"$f":"IF(Table26[[#This Row],[Status Medida]]=\"Finalizado\",IF(Table26[[#This Row],[Sim/Não]]=1,1,0),0)","v":0}]
[null,null,null,null,null,null,null,null,null,null,null,"Atrasado",null,null,null,0,0,{"$f":"IF(Table26[[#This Row],[Status Medida]]=\"Finalizado\",IF(Table26[[#This Row],[Sim/Não]]=1,1,0),0)","v":0}]
[null,null,null,null,null,null,null,null,null,null,null,"Atrasado",null,null,null,0,0,{"$f":"IF(Table26[[#This Row],[Status Medida]]=\"Finalizado\",IF(Table26[[#This Row],[Sim/Não]]=1,1,0),0)","v":0}]
[null,null,null,null,null,null,null,null,null,null,null,"Atrasado",null,null,null,0,0,{"$f":"IF(Table26[[#This Row],[Status Medida]]=\"Finalizado\",IF(Table26[[#This Row],[Sim/Não]]=1,1,0),0)","v":0}]
[null,null,null,null,null,null,null,null,null,null,null,"Atrasado",null,null,null,0,0,{"$f":"IF(Table26[[#This Row],[Status Medida]]=\"Finalizado\",IF(Table26[[#This Row],[Sim/Não]]=1,1,0),0)","v":0}]
[null,null,null,null,null,null,null,null,null,null,null,"Atrasado",null,null,null,0,0,{"$f":"IF(Table26[[#This Row],[Status Medida]]=\"Finalizado\",IF(Table26[[#This Row],[Sim/Não]]=1,1,0),0)","v":0}]
[null,null,null,null,null,null,null,null,null,null,null,"Atrasado",null,null,null,0,0,{"$f":"IF(Table26[[#This Row],[Status Medida]]=\"Finalizado\",IF(Table26[[#This Row],[Sim/Não]]=1,1,0),0)","v":0}]
[null,null,null,null,null,null,null,null,null,null,null,"Atrasado",null,null,null,0,0,{"$f":"IF(Table26[[#This Row],[Status Medida]]=\"Finalizado\",IF(Table26[[#This Row],[Sim/Não]]=1,1,0),0)","v":0}]
[null,null,null,null,null,null,null,null,null,null,null,"Atrasado",null,null,null,0,0,{"$f":"IF(Table26[[#This Row],[Status Medida]]=\"Finalizado\",IF(Table26[[#This Row],[Sim/Não]]=1,1,0),0)","v":0}]
[null,null,null,null,null,null,null,null,null,null,null,"Atrasado",null,null,null,0,0,{"$f":"IF(Table26[[#This Row],[Status Medida]]=\"Finalizado\",IF(Table26[[#This Row],[Sim/Não]]=1,1,0),0)","v":0}]
[null,null,null,null,null,null,null,null,null,null,null,"Atrasado",null,null,null,0,0,{"$f":"IF(Table26[[#This Row],[Status Medida]]=\"Finalizado\",IF(Table26[[#This Row],[Sim/Não]]=1,1,0),0)","v":0}]
[null,null,null,null,null,null,null,null,null,null,null,"Atrasado",null,null,null,0,0,{"$f":"IF(Table26[[#This Row],[Status Medida]]=\"Finalizado\",IF(Table26[[#This Row],[Sim/Não]]=1,1,0),0)","v":0}]
[null,null,null,null,null,null,null,null,null,null,null,"Atrasado",null,null,null,0,0,{"$f":"IF(Table26[[#This Row],[Status Medida]]=\"Finalizado\",IF(Table26[[#This Row],[Sim/Não]]=1,1,0),0)","v":0}]
[null,null,null,null,null,null,null,null,null,null,null,"Atrasado",null,null,null,0,0,{"$f":"IF(Table26[[#This Row],[Status Medida]]=\"Finalizado\",IF(Table26[[#This Row],[Sim/Não]]=1,1,0),0)","v":0}]
[null,null,null,null,null,null,null,null,null,null,null,"Atrasado",null,null,null,0,0,{"$f":"IF(Table26[[#This Row],[Status Medida]]=\"Finalizado\",IF(Table26[[#This Row],[Sim/Não]]=1,1,0),0)","v":0}]
[null,null,null,null,null,null,null,null,null,null,null,"Atrasado",null,null,null,0,0,{"$f":"IF(Table26[[#This Row],[Status Medida]]=\"Finalizado\",IF(Table26[[#This Row],[Sim/Não]]=1,1,0),0)","v":0}]
[null,null,null,null,null,null,null,null,null,null,null,"Atrasado",null,null,null,0,0,{"$f":"IF(Table26[[#This Row],[Status Medida]]=\"Finalizado\",IF(Table26[[#This Row],[Sim/Não]]=1,1,0),0)","v":0}]
[null,null,null,null,null,null,null,null,null,null,null,"Atrasado",null,null,null,0,0,{"$f":"IF(Table26[[#This Row],[Status Medida]]=\"Finalizado\",IF(Table26[[#This Row],[Sim/Não]]=1,1,0),0)","v":0}]
[null,null,null,null,null,null,null,null,null,null,null,"Atrasado",null,null,null,0,0,{"$f":"IF(Table26[[#This Row],[Status Medida]]=\"Finalizado\",IF(Table26[[#This Row],[Sim/Não]]=1,1,0),0)","v":0}]
[null,null,null,null,null,null,null,null,null,null,null,"Atrasado",null,null,null,0,0,{"$f":"IF(Table26[[#This Row],[Status Medida]]=\"Finalizado\",IF(Table26[[#This Row],[Sim/Não]]=1,1,0),0)","v":0}]
[null,null,null,null,null,null,null,null,null,null,null,"Atrasado",null,null,null,0,0,{"$f":"IF(Table26[[#This Row],[Status Medida]]=\"Finalizado\",IF(Table26[[#This Row],[Sim/Não]]=1,1,0),0)","v":0}]
[null,null,null,null,null,null,null,null,null,null,null,"Atrasado",null,null,null,0,0,{"$f":"IF(Table26[[#This Row],[Status Medida]]=\"Finalizado\",IF(Table26[[#This Row],[Sim/Não]]=1,1,0),0)","v":0}]
[null,null,null,null,null,null,null,null,null,null,null,"Atrasado",null,null,null,0,0,{"$f":"IF(Table26[[#This Row],[Status Medida]]=\"Finalizado\",IF(Table26[[#This Row],[Sim/Não]]=1,1,0),0)","v":0}]
[null,null,null,null,null,null,null,null,null,null,null,"Atrasado",null,null,null,0,0,{"$f":"IF(Table26[[#This Row],[Status Medida]]=\"Finalizado\",IF(Table26[[#This Row],[Sim/Não]]=1,1,0),0)","v":0}]
[null,null,null,null,null,null,null,null,null,null,null,"Atrasado",null,null,null,0,0,{"$f":"IF(Table26[[#This Row],[Status Medida]]=\"Finalizado\",IF(Table26[[#This Row],[Sim/Não]]=1,1,0),0)","v":0}]
[null,null,null,null,null,null,null,null,null,null,null,"Atrasado",null,null,null,0,0,{"$f":"IF(Table26[[#This Row],[Status Medida]]=\"Finalizado\",IF(Table26[[#This Row],[Sim/Não]]=1,1,0),0)","v":0}]
[null,null,null,null,null,null,null,null,null,null,null,"Atrasado",null,null,null,0,0,{"$f":"IF(Table26[[#This Row],[Status Medida]]=\"Finalizado\",IF(Table26[[#This Row],[Sim/Não]]=1,1,0),0)","v":0}]
[null,null,null,null,null,null,null,null,null,null,null,"Atrasado",null,null,null,0,0,{"$f":"IF(Table26[[#This Row],[Status Medida]]=\"Finalizado\",IF(Table26[[#This Row],[Sim/Não]]=1,1,0),0)","v":0}]
[null,null,null,null,null,null,null,null,null,null,null,{"$f":"IF(J8239>K8239,\"Datas inválidas\",IF(M8239=\"Finalizado\",\"Concluído\",IF(J8239>TODAY(),\"Não iniciado\",_xlfn.IFS(J8239=TODAY(),\"Em andamento\",TODAY()>K8239,\"Atrasado\",AND(TODAY()>J8239,TODAY()<=K8239),\"Em andamento\"))))","v":"Atrasado"},null,null,null,{"$f":"IF(O8239=\"Sim\",1,0)","v":0},{"$f":"IF(N8239=E8239,0,1)","v":0},{"$f":"IF(Table26[[#This Row],[Status Medida]]=\"Finalizado\",IF(Table26[[#This Row],[Sim/Não]]=1,1,0),0)","v":0}]
[null,null,null,null,null,null,null,null,null,null,null,"Atrasado",null,null,null,0,0,{"$f":"IF(Table26[[#This Row],[Status Medida]]=\"Finalizado\",IF(Table26[[#This Row],[Sim/Não]]=1,1,0),0)","v":0}]
[null,null,null,null,null,null,null,null,null,null,null,"Atrasado",null,null,null,0,0,{"$f":"IF(Table26[[#This Row],[Status Medida]]=\"Finalizado\",IF(Table26[[#This Row],[Sim/Não]]=1,1,0),0)","v":0}]
[null,null,null,null,null,null,null,null,null,null,null,"Atrasado",null,null,null,0,0,{"$f":"IF(Table26[[#This Row],[Status Medida]]=\"Finalizado\",IF(Table26[[#This Row],[Sim/Não]]=1,1,0),0)","v":0}]
[null,null,null,null,null,null,null,null,null,null,null,"Atrasado",null,null,null,0,0,{"$f":"IF(Table26[[#This Row],[Status Medida]]=\"Finalizado\",IF(Table26[[#This Row],[Sim/Não]]=1,1,0),0)","v":0}]
[null,null,null,null,null,null,null,null,null,null,null,"Atrasado",null,null,null,0,0,{"$f":"IF(Table26[[#This Row],[Status Medida]]=\"Finalizado\",IF(Table26[[#This Row],[Sim/Não]]=1,1,0),0)","v":0}]
[null,null,null,null,null,null,null,null,null,null,null,"Atrasado",null,null,null,0,0,{"$f":"IF(Table26[[#This Row],[Status Medida]]=\"Finalizado\",IF(Table26[[#This Row],[Sim/Não]]=1,1,0),0)","v":0}]
[null,null,null,null,null,null,null,null,null,null,null,"Atrasado",null,null,null,0,0,{"$f":"IF(Table26[[#This Row],[Status Medida]]=\"Finalizado\",IF(Table26[[#This Row],[Sim/Não]]=1,1,0),0)","v":0}]
[null,null,null,null,null,null,null,null,null,null,null,"Atrasado",null,null,null,0,0,{"$f":"IF(Table26[[#This Row],[Status Medida]]=\"Finalizado\",IF(Table26[[#This Row],[Sim/Não]]=1,1,0),0)","v":0}]
[null,null,null,null,null,null,null,null,null,null,null,"Atrasado",null,null,null,0,0,{"$f":"IF(Table26[[#This Row],[Status Medida]]=\"Finalizado\",IF(Table26[[#This Row],[Sim/Não]]=1,1,0),0)","v":0}]
[null,null,null,null,null,null,null,null,null,null,null,"Atrasado",null,null,null,0,0,{"$f":"IF(Table26[[#This Row],[Status Medida]]=\"Finalizado\",IF(Table26[[#This Row],[Sim/Não]]=1,1,0),0)","v":0}]
[null,null,null,null,null,null,null,null,null,null,null,"Atrasado",null,null,null,0,0,{"$f":"IF(Table26[[#This Row],[Status Medida]]=\"Finalizado\",IF(Table26[[#This Row],[Sim/Não]]=1,1,0),0)","v":0}]
[null,null,null,null,null,null,null,null,null,null,null,"Atrasado",null,null,null,0,0,{"$f":"IF(Table26[[#This Row],[Status Medida]]=\"Finalizado\",IF(Table26[[#This Row],[Sim/Não]]=1,1,0),0)","v":0}]
[null,null,null,null,null,null,null,null,null,null,null,"Atrasado",null,null,null,0,0,{"$f":"IF(Table26[[#This Row],[Status Medida]]=\"Finalizado\",IF(Table26[[#This Row],[Sim/Não]]=1,1,0),0)","v":0}]
[null,null,null,null,null,null,null,null,null,null,null,"Atrasado",null,null,null,0,0,{"$f":"IF(Table26[[#This Row],[Status Medida]]=\"Finalizado\",IF(Table26[[#This Row],[Sim/Não]]=1,1,0),0)","v":0}]
[null,null,null,null,null,null,null,null,null,null,null,"Atrasado",null,null,null,0,0,{"$f":"IF(Table26[[#This Row],[Status Medida]]=\"Finalizado\",IF(Table26[[#This Row],[Sim/Não]]=1,1,0),0)","v":0}]
[null,null,null,null,null,null,null,null,null,null,null,"Atrasado",null,null,null,0,0,{"$f":"IF(Table26[[#This Row],[Status Medida]]=\"Finalizado\",IF(Table26[[#This Row],[Sim/Não]]=1,1,0),0)","v":0}]
[null,null,null,null,null,null,null,null,null,null,null,"Atrasado",null,null,null,0,0,{"$f":"IF(Table26[[#This Row],[Status Medida]]=\"Finalizado\",IF(Table26[[#This Row],[Sim/Não]]=1,1,0),0)","v":0}]
[null,null,null,null,null,null,null,null,null,null,null,"Atrasado",null,null,null,0,0,{"$f":"IF(Table26[[#This Row],[Status Medida]]=\"Finalizado\",IF(Table26[[#This Row],[Sim/Não]]=1,1,0),0)","v":0}]
[null,null,null,null,null,null,null,null,null,null,null,"Atrasado",null,null,null,0,0,{"$f":"IF(Table26[[#This Row],[Status Medida]]=\"Finalizado\",IF(Table26[[#This Row],[Sim/Não]]=1,1,0),0)","v":0}]
[null,null,null,null,null,null,null,null,null,null,null,"Atrasado",null,null,null,0,0,{"$f":"IF(Table26[[#This Row],[Status Medida]]=\"Finalizado\",IF(Table26[[#This Row],[Sim/Não]]=1,1,0),0)","v":0}]
[null,null,null,null,null,null,null,null,null,null,null,"Atrasado",null,null,null,0,0,{"$f":"IF(Table26[[#This Row],[Status Medida]]=\"Finalizado\",IF(Table26[[#This Row],[Sim/Não]]=1,1,0),0)","v":0}]
[null,null,null,null,null,null,null,null,null,null,null,"Atrasado",null,null,null,0,0,{"$f":"IF(Table26[[#This Row],[Status Medida]]=\"Finalizado\",IF(Table26[[#This Row],[Sim/Não]]=1,1,0),0)","v":0}]
[null,null,null,null,null,null,null,null,null,null,null,"Atrasado",null,null,null,0,0,{"$f":"IF(Table26[[#This Row],[Status Medida]]=\"Finalizado\",IF(Table26[[#This Row],[Sim/Não]]=1,1,0),0)","v":0}]
[null,null,null,null,null,null,null,null,null,null,null,"Atrasado",null,null,null,0,0,{"$f":"IF(Table26[[#This Row],[Status Medida]]=\"Finalizado\",IF(Table26[[#This Row],[Sim/Não]]=1,1,0),0)","v":0}]
[null,null,null,null,null,null,null,null,null,null,null,"Atrasado",null,null,null,0,0,{"$f":"IF(Table26[[#This Row],[Status Medida]]=\"Finalizado\",IF(Table26[[#This Row],[Sim/Não]]=1,1,0),0)","v":0}]
[null,null,null,null,null,null,null,null,null,null,null,"Atrasado",null,null,null,0,0,{"$f":"IF(Table26[[#This Row],[Status Medida]]=\"Finalizado\",IF(Table26[[#This Row],[Sim/Não]]=1,1,0),0)","v":0}]
[null,null,null,null,null,null,null,null,null,null,null,"Atrasado",null,null,null,0,0,{"$f":"IF(Table26[[#This Row],[Status Medida]]=\"Finalizado\",IF(Table26[[#This Row],[Sim/Não]]=1,1,0),0)","v":0}]
[null,null,null,null,null,null,null,null,null,null,null,"Atrasado",null,null,null,0,0,{"$f":"IF(Table26[[#This Row],[Status Medida]]=\"Finalizado\",IF(Table26[[#This Row],[Sim/Não]]=1,1,0),0)","v":0}]
[null,null,null,null,null,null,null,null,null,null,null,"Atrasado",null,null,null,0,0,{"$f":"IF(Table26[[#This Row],[Status Medida]]=\"Finalizado\",IF(Table26[[#This Row],[Sim/Não]]=1,1,0),0)","v":0}]
[null,null,null,null,null,null,null,null,null,null,null,"Atrasado",null,null,null,0,0,{"$f":"IF(Table26[[#This Row],[Status Medida]]=\"Finalizado\",IF(Table26[[#This Row],[Sim/Não]]=1,1,0),0)","v":0}]
[null,null,null,null,null,null,null,null,null,null,null,"Atrasado",null,null,null,0,0,{"$f":"IF(Table26[[#This Row],[Status Medida]]=\"Finalizado\",IF(Table26[[#This Row],[Sim/Não]]=1,1,0),0)","v":0}]
[null,null,null,null,null,null,null,null,null,null,null,"Atrasado",null,null,null,0,0,{"$f":"IF(Table26[[#This Row],[Status Medida]]=\"Finalizado\",IF(Table26[[#This Row],[Sim/Não]]=1,1,0),0)","v":0}]
[null,null,null,null,null,null,null,null,null,null,null,"Atrasado",null,null,null,0,0,{"$f":"IF(Table26[[#This Row],[Status Medida]]=\"Finalizado\",IF(Table26[[#This Row],[Sim/Não]]=1,1,0),0)","v":0}]
[null,null,null,null,null,null,null,null,null,null,null,"Atrasado",null,null,null,0,0,{"$f":"IF(Table26[[#This Row],[Status Medida]]=\"Finalizado\",IF(Table26[[#This Row],[Sim/Não]]=1,1,0),0)","v":0}]
[null,null,null,null,null,null,null,null,null,null,null,"Atrasado",null,null,null,0,0,{"$f":"IF(Table26[[#This Row],[Status Medida]]=\"Finalizado\",IF(Table26[[#This Row],[Sim/Não]]=1,1,0),0)","v":0}]
[null,null,null,null,null,null,null,null,null,null,null,"Atrasado",null,null,null,0,0,{"$f":"IF(Table26[[#This Row],[Status Medida]]=\"Finalizado\",IF(Table26[[#This Row],[Sim/Não]]=1,1,0),0)","v":0}]
[null,null,null,null,null,null,null,null,null,null,null,"Atrasado",null,null,null,0,0,{"$f":"IF(Table26[[#This Row],[Status Medida]]=\"Finalizado\",IF(Table26[[#This Row],[Sim/Não]]=1,1,0),0)","v":0}]
[null,null,null,null,null,null,null,null,null,null,null,"Atrasado",null,null,null,0,0,{"$f":"IF(Table26[[#This Row],[Status Medida]]=\"Finalizado\",IF(Table26[[#This Row],[Sim/Não]]=1,1,0),0)","v":0}]
[null,null,null,null,null,null,null,null,null,null,null,"Atrasado",null,null,null,0,0,{"$f":"IF(Table26[[#This Row],[Status Medida]]=\"Finalizado\",IF(Table26[[#This Row],[Sim/Não]]=1,1,0),0)","v":0}]
[null,null,null,null,null,null,null,null,null,null,null,"Atrasado",null,null,null,0,0,{"$f":"IF(Table26[[#This Row],[Status Medida]]=\"Finalizado\",IF(Table26[[#This Row],[Sim/Não]]=1,1,0),0)","v":0}]
[null,null,null,null,null,null,null,null,null,null,null,"Atrasado",null,null,null,0,0,{"$f":"IF(Table26[[#This Row],[Status Medida]]=\"Finalizado\",IF(Table26[[#This Row],[Sim/Não]]=1,1,0),0)","v":0}]
[null,null,null,null,null,null,null,null,null,null,null,"Atrasado",null,null,null,0,0,{"$f":"IF(Table26[[#This Row],[Status Medida]]=\"Finalizado\",IF(Table26[[#This Row],[Sim/Não]]=1,1,0),0)","v":0}]
[null,null,null,null,null,null,null,null,null,null,null,{"$f":"IF(J8431>K8431,\"Datas inválidas\",IF(M8431=\"Finalizado\",\"Concluído\",IF(J8431>TODAY(),\"Não iniciado\",_xlfn.IFS(J8431=TODAY(),\"Em andamento\",TODAY()>K8431,\"Atrasado\",AND(TODAY()>J8431,TODAY()<=K8431),\"Em andamento\"))))","v":"Atrasado"},null,null,null,{"$f":"IF(O8431=\"Sim\",1,0)","v":0},{"$f":"IF(N8431=E8431,0,1)","v":0},{"$f":"IF(Table26[[#This Row],[Status Medida]]=\"Finalizado\",IF(Table26[[#This Row],[Sim/Não]]=1,1,0),0)","v":0}]
[null,null,null,null,null,null,null,null,null,null,null,"Atrasado",null,null,null,0,0,{"$f":"IF(Table26[[#This Row],[Status Medida]]=\"Finalizado\",IF(Table26[[#This Row],[Sim/Não]]=1,1,0),0)","v":0}]
[null,null,null,null,null,null,null,null,null,null,null,"Atrasado",null,null,null,0,0,{"$f":"IF(Table26[[#This Row],[Status Medida]]=\"Finalizado\",IF(Table26[[#This Row],[Sim/Não]]=1,1,0),0)","v":0}]
[null,null,null,null,null,null,null,null,null,null,null,"Atrasado",null,null,null,0,0,{"$f":"IF(Table26[[#This Row],[Status Medida]]=\"Finalizado\",IF(Table26[[#This Row],[Sim/Não]]=1,1,0),0)","v":0}]
[null,null,null,null,null,null,null,null,null,null,null,"Atrasado",null,null,null,0,0,{"$f":"IF(Table26[[#This Row],[Status Medida]]=\"Finalizado\",IF(Table26[[#This Row],[Sim/Não]]=1,1,0),0)","v":0}]
[null,null,null,null,null,null,null,null,null,null,null,"Atrasado",null,null,null,0,0,{"$f":"IF(Table26[[#This Row],[Status Medida]]=\"Finalizado\",IF(Table26[[#This Row],[Sim/Não]]=1,1,0),0)","v":0}]
[null,null,null,null,null,null,null,null,null,null,null,"Atrasado",null,null,null,0,0,{"$f":"IF(Table26[[#This Row],[Status Medida]]=\"Finalizado\",IF(Table26[[#This Row],[Sim/Não]]=1,1,0),0)","v":0}]
[null,null,null,null,null,null,null,null,null,null,null,"Atrasado",null,null,null,0,0,{"$f":"IF(Table26[[#This Row],[Status Medida]]=\"Finalizado\",IF(Table26[[#This Row],[Sim/Não]]=1,1,0),0)","v":0}]
[null,null,null,null,null,null,null,null,null,null,null,"Atrasado",null,null,null,0,0,{"$f":"IF(Table26[[#This Row],[Status Medida]]=\"Finalizado\",IF(Table26[[#This Row],[Sim/Não]]=1,1,0),0)","v":0}]
[null,null,null,null,null,null,null,null,null,null,null,"Atrasado",null,null,null,0,0,{"$f":"IF(Table26[[#This Row],[Status Medida]]=\"Finalizado\",IF(Table26[[#This Row],[Sim/Não]]=1,1,0),0)","v":0}]
[null,null,null,null,null,null,null,null,null,null,null,"Atrasado",null,null,null,0,0,{"$f":"IF(Table26[[#This Row],[Status Medida]]=\"Finalizado\",IF(Table26[[#This Row],[Sim/Não]]=1,1,0),0)","v":0}]
[null,null,null,null,null,null,null,null,null,null,null,"Atrasado",null,null,null,0,0,{"$f":"IF(Table26[[#This Row],[Status Medida]]=\"Finalizado\",IF(Table26[[#This Row],[Sim/Não]]=1,1,0),0)","v":0}]
[null,null,null,null,null,null,null,null,null,null,null,"Atrasado",null,null,null,0,0,{"$f":"IF(Table26[[#This Row],[Status Medida]]=\"Finalizado\",IF(Table26[[#This Row],[Sim/Não]]=1,1,0),0)","v":0}]
[null,null,null,null,null,null,null,null,null,null,null,"Atrasado",null,null,null,0,0,{"$f":"IF(Table26[[#This Row],[Status Medida]]=\"Finalizado\",IF(Table26[[#This Row],[Sim/Não]]=1,1,0),0)","v":0}]
[null,null,null,null,null,null,null,null,null,null,null,"Atrasado",null,null,null,0,0,{"$f":"IF(Table26[[#This Row],[Status Medida]]=\"Finalizado\",IF(Table26[[#This Row],[Sim/Não]]=1,1,0),0)","v":0}]
[null,null,null,null,null,null,null,null,null,null,null,"Atrasado",null,null,null,0,0,{"$f":"IF(Table26[[#This Row],[Status Medida]]=\"Finalizado\",IF(Table26[[#This Row],[Sim/Não]]=1,1,0),0)","v":0}]
[null,null,null,null,null,null,null,null,null,null,null,"Atrasado",null,null,null,0,0,{"$f":"IF(Table26[[#This Row],[Status Medida]]=\"Finalizado\",IF(Table26[[#This Row],[Sim/Não]]=1,1,0),0)","v":0}]
[null,null,null,null,null,null,null,null,null,null,null,"Atrasado",null,null,null,0,0,{"$f":"IF(Table26[[#This Row],[Status Medida]]=\"Finalizado\",IF(Table26[[#This Row],[Sim/Não]]=1,1,0),0)","v":0}]
[null,null,null,null,null,null,null,null,null,null,null,"Atrasado",null,null,null,0,0,{"$f":"IF(Table26[[#This Row],[Status Medida]]=\"Finalizado\",IF(Table26[[#This Row],[Sim/Não]]=1,1,0),0)","v":0}]
[null,null,null,null,null,null,null,null,null,null,null,"Atrasado",null,null,null,0,0,{"$f":"IF(Table26[[#This Row],[Status Medida]]=\"Finalizado\",IF(Table26[[#This Row],[Sim/Não]]=1,1,0),0)","v":0}]
[null,null,null,null,null,null,null,null,null,null,null,"Atrasado",null,null,null,0,0,{"$f":"IF(Table26[[#This Row],[Status Medida]]=\"Finalizado\",IF(Table26[[#This Row],[Sim/Não]]=1,1,0),0)","v":0}]
[null,null,null,null,null,null,null,null,null,null,null,"Atrasado",null,null,null,0,0,{"$f":"IF(Table26[[#This Row],[Status Medida]]=\"Finalizado\",IF(Table26[[#This Row],[Sim/Não]]=1,1,0),0)","v":0}]
[null,null,null,null,null,null,null,null,null,null,null,"Atrasado",null,null,null,0,0,{"$f":"IF(Table26[[#This Row],[Status Medida]]=\"Finalizado\",IF(Table26[[#This Row],[Sim/Não]]=1,1,0),0)","v":0}]
[null,null,null,null,null,null,null,null,null,null,null,"Atrasado",null,null,null,0,0,{"$f":"IF(Table26[[#This Row],[Status Medida]]=\"Finalizado\",IF(Table26[[#This Row],[Sim/Não]]=1,1,0),0)","v":0}]
[null,null,null,null,null,null,null,null,null,null,null,"Atrasado",null,null,null,0,0,{"$f":"IF(Table26[[#This Row],[Status Medida]]=\"Finalizado\",IF(Table26[[#This Row],[Sim/Não]]=1,1,0),0)","v":0}]
[null,null,null,null,null,null,null,null,null,null,null,"Atrasado",null,null,null,0,0,{"$f":"IF(Table26[[#This Row],[Status Medida]]=\"Finalizado\",IF(Table26[[#This Row],[Sim/Não]]=1,1,0),0)","v":0}]
[null,null,null,null,null,null,null,null,null,null,null,"Atrasado",null,null,null,0,0,{"$f":"IF(Table26[[#This Row],[Status Medida]]=\"Finalizado\",IF(Table26[[#This Row],[Sim/Não]]=1,1,0),0)","v":0}]
[null,null,null,null,null,null,null,null,null,null,null,"Atrasado",null,null,null,0,0,{"$f":"IF(Table26[[#This Row],[Status Medida]]=\"Finalizado\",IF(Table26[[#This Row],[Sim/Não]]=1,1,0),0)","v":0}]
[null,null,null,null,null,null,null,null,null,null,null,"Atrasado",null,null,null,0,0,{"$f":"IF(Table26[[#This Row],[Status Medida]]=\"Finalizado\",IF(Table26[[#This Row],[Sim/Não]]=1,1,0),0)","v":0}]
[null,null,null,null,null,null,null,null,null,null,null,"Atrasado",null,null,null,0,0,{"$f":"IF(Table26[[#This Row],[Status Medida]]=\"Finalizado\",IF(Table26[[#This Row],[Sim/Não]]=1,1,0),0)","v":0}]
[null,null,null,null,null,null,null,null,null,null,null,"Atrasado",null,null,null,0,0,{"$f":"IF(Table26[[#This Row],[Status Medida]]=\"Finalizado\",IF(Table26[[#This Row],[Sim/Não]]=1,1,0),0)","v":0}]
[null,null,null,null,null,null,null,null,null,null,null,"Atrasado",null,null,null,0,0,{"$f":"IF(Table26[[#This Row],[Status Medida]]=\"Finalizado\",IF(Table26[[#This Row],[Sim/Não]]=1,1,0),0)","v":0}]
[null,null,null,null,null,null,null,null,null,null,null,"Atrasado",null,null,null,0,0,{"$f":"IF(Table26[[#This Row],[Status Medida]]=\"Finalizado\",IF(Table26[[#This Row],[Sim/Não]]=1,1,0),0)","v":0}]
[null,null,null,null,null,null,null,null,null,null,null,"Atrasado",null,null,null,0,0,{"$f":"IF(Table26[[#This Row],[Status Medida]]=\"Finalizado\",IF(Table26[[#This Row],[Sim/Não]]=1,1,0),0)","v":0}]
[null,null,null,null,null,null,null,null,null,null,null,"Atrasado",null,null,null,0,0,{"$f":"IF(Table26[[#This Row],[Status Medida]]=\"Finalizado\",IF(Table26[[#This Row],[Sim/Não]]=1,1,0),0)","v":0}]
[null,null,null,null,null,null,null,null,null,null,null,"Atrasado",null,null,null,0,0,{"$f":"IF(Table26[[#This Row],[Status Medida]]=\"Finalizado\",IF(Table26[[#This Row],[Sim/Não]]=1,1,0),0)","v":0}]
[null,null,null,null,null,null,null,null,null,null,null,"Atrasado",null,null,null,0,0,{"$f":"IF(Table26[[#This Row],[Status Medida]]=\"Finalizado\",IF(Table26[[#This Row],[Sim/Não]]=1,1,0),0)","v":0}]
[null,null,null,null,null,null,null,null,null,null,null,"Atrasado",null,null,null,0,0,{"$f":"IF(Table26[[#This Row],[Status Medida]]=\"Finalizado\",IF(Table26[[#This Row],[Sim/Não]]=1,1,0),0)","v":0}]
[null,null,null,null,null,null,null,null,null,null,null,"Atrasado",null,null,null,0,0,{"$f":"IF(Table26[[#This Row],[Status Medida]]=\"Finalizado\",IF(Table26[[#This Row],[Sim/Não]]=1,1,0),0)","v":0}]
[null,null,null,null,null,null,null,null,null,null,null,"Atrasado",null,null,null,0,0,{"$f":"IF(Table26[[#This Row],[Status Medida]]=\"Finalizado\",IF(Table26[[#This Row],[Sim/Não]]=1,1,0),0)","v":0}]
[null,null,null,null,null,null,null,null,null,null,null,"Atrasado",null,null,null,0,0,{"$f":"IF(Table26[[#This Row],[Status Medida]]=\"Finalizado\",IF(Table26[[#This Row],[Sim/Não]]=1,1,0),0)","v":0}]
[null,null,null,null,null,null,null,null,null,null,null,"Atrasado",null,null,null,0,0,{"$f":"IF(Table26[[#This Row],[Status Medida]]=\"Finalizado\",IF(Table26[[#This Row],[Sim/Não]]=1,1,0),0)","v":0}]
[null,null,null,null,null,null,null,null,null,null,null,"Atrasado",null,null,null,0,0,{"$f":"IF(Table26[[#This Row],[Status Medida]]=\"Finalizado\",IF(Table26[[#This Row],[Sim/Não]]=1,1,0),0)","v":0}]
[null,null,null,null,null,null,null,null,null,null,null,"Atrasado",null,null,null,0,0,{"$f":"IF(Table26[[#This Row],[Status Medida]]=\"Finalizado\",IF(Table26[[#This Row],[Sim/Não]]=1,1,0),0)","v":0}]
[null,null,null,null,null,null,null,null,null,null,null,"Atrasado",null,null,null,0,0,{"$f":"IF(Table26[[#This Row],[Status Medida]]=\"Finalizado\",IF(Table26[[#This Row],[Sim/Não]]=1,1,0),0)","v":0}]
[null,null,null,null,null,null,null,null,null,null,null,"Atrasado",null,null,null,0,0,{"$f":"IF(Table26[[#This Row],[Status Medida]]=\"Finalizado\",IF(Table26[[#This Row],[Sim/Não]]=1,1,0),0)","v":0}]
[null,null,null,null,null,null,null,null,null,null,null,"Atrasado",null,null,null,0,0,{"$f":"IF(Table26[[#This Row],[Status Medida]]=\"Finalizado\",IF(Table26[[#This Row],[Sim/Não]]=1,1,0),0)","v":0}]
[null,null,null,null,null,null,null,null,null,null,null,"Atrasado",null,null,null,0,0,{"$f":"IF(Table26[[#This Row],[Status Medida]]=\"Finalizado\",IF(Table26[[#This Row],[Sim/Não]]=1,1,0),0)","v":0}]
[null,null,null,null,null,null,null,null,null,null,null,"Atrasado",null,null,null,0,0,{"$f":"IF(Table26[[#This Row],[Status Medida]]=\"Finalizado\",IF(Table26[[#This Row],[Sim/Não]]=1,1,0),0)","v":0}]
[null,null,null,null,null,null,null,null,null,null,null,"Atrasado",null,null,null,0,0,{"$f":"IF(Table26[[#This Row],[Status Medida]]=\"Finalizado\",IF(Table26[[#This Row],[Sim/Não]]=1,1,0),0)","v":0}]
[null,null,null,null,null,null,null,null,null,null,null,"Atrasado",null,null,null,0,0,{"$f":"IF(Table26[[#This Row],[Status Medida]]=\"Finalizado\",IF(Table26[[#This Row],[Sim/Não]]=1,1,0),0)","v":0}]
[null,null,null,null,null,null,null,null,null,null,null,"Atrasado",null,null,null,0,0,{"$f":"IF(Table26[[#This Row],[Status Medida]]=\"Finalizado\",IF(Table26[[#This Row],[Sim/Não]]=1,1,0),0)","v":0}]
[null,null,null,null,null,null,null,null,null,null,null,"Atrasado",null,null,null,0,0,{"$f":"IF(Table26[[#This Row],[Status Medida]]=\"Finalizado\",IF(Table26[[#This Row],[Sim/Não]]=1,1,0),0)","v":0}]
[null,null,null,null,null,null,null,null,null,null,null,"Atrasado",null,null,null,0,0,{"$f":"IF(Table26[[#This Row],[Status Medida]]=\"Finalizado\",IF(Table26[[#This Row],[Sim/Não]]=1,1,0),0)","v":0}]
[null,null,null,null,null,null,null,null,null,null,null,"Atrasado",null,null,null,0,0,{"$f":"IF(Table26[[#This Row],[Status Medida]]=\"Finalizado\",IF(Table26[[#This Row],[Sim/Não]]=1,1,0),0)","v":0}]
[null,null,null,null,null,null,null,null,null,null,null,"Atrasado",null,null,null,0,0,{"$f":"IF(Table26[[#This Row],[Status Medida]]=\"Finalizado\",IF(Table26[[#This Row],[Sim/Não]]=1,1,0),0)","v":0}]
[null,null,null,null,null,null,null,null,null,null,null,"Atrasado",null,null,null,0,0,{"$f":"IF(Table26[[#This Row],[Status Medida]]=\"Finalizado\",IF(Table26[[#This Row],[Sim/Não]]=1,1,0),0)","v":0}]
[null,null,null,null,null,null,null,null,null,null,null,"Atrasado",null,null,null,0,0,{"$f":"IF(Table26[[#This Row],[Status Medida]]=\"Finalizado\",IF(Table26[[#This Row],[Sim/Não]]=1,1,0),0)","v":0}]
[null,null,null,null,null,null,null,null,null,null,null,"Atrasado",null,null,null,0,0,{"$f":"IF(Table26[[#This Row],[Status Medida]]=\"Finalizado\",IF(Table26[[#This Row],[Sim/Não]]=1,1,0),0)","v":0}]
[null,null,null,null,null,null,null,null,null,null,null,"Atrasado",null,null,null,0,0,{"$f":"IF(Table26[[#This Row],[Status Medida]]=\"Finalizado\",IF(Table26[[#This Row],[Sim/Não]]=1,1,0),0)","v":0}]
[null,null,null,null,null,null,null,null,null,null,null,"Atrasado",null,null,null,0,0,{"$f":"IF(Table26[[#This Row],[Status Medida]]=\"Finalizado\",IF(Table26[[#This Row],[Sim/Não]]=1,1,0),0)","v":0}]
[null,null,null,null,null,null,null,null,null,null,null,"Atrasado",null,null,null,0,0,{"$f":"IF(Table26[[#This Row],[Status Medida]]=\"Finalizado\",IF(Table26[[#This Row],[Sim/Não]]=1,1,0),0)","v":0}]
[null,null,null,null,null,null,null,null,null,null,null,"Atrasado",null,null,null,0,0,{"$f":"IF(Table26[[#This Row],[Status Medida]]=\"Finalizado\",IF(Table26[[#This Row],[Sim/Não]]=1,1,0),0)","v":0}]
[null,null,null,null,null,null,null,null,null,null,null,"Atrasado",null,null,null,0,0,{"$f":"IF(Table26[[#This Row],[Status Medida]]=\"Finalizado\",IF(Table26[[#This Row],[Sim/Não]]=1,1,0),0)","v":0}]
[null,null,null,null,null,null,null,null,null,null,null,"Atrasado",null,null,null,0,0,{"$f":"IF(Table26[[#This Row],[Status Medida]]=\"Finalizado\",IF(Table26[[#This Row],[Sim/Não]]=1,1,0),0)","v":0}]
[null,null,null,null,null,null,null,null,null,null,null,"Atrasado",null,null,null,0,0,{"$f":"IF(Table26[[#This Row],[Status Medida]]=\"Finalizado\",IF(Table26[[#This Row],[Sim/Não]]=1,1,0),0)","v":0}]
[null,null,null,null,null,null,null,null,null,null,null,"Atrasado",null,null,null,0,0,{"$f":"IF(Table26[[#This Row],[Status Medida]]=\"Finalizado\",IF(Table26[[#This Row],[Sim/Não]]=1,1,0),0)","v":0}]
[null,null,null,null,null,null,null,null,null,null,null,"Atrasado",null,null,null,0,0,{"$f":"IF(Table26[[#This Row],[Status Medida]]=\"Finalizado\",IF(Table26[[#This Row],[Sim/Não]]=1,1,0),0)","v":0}]
[null,null,null,null,null,null,null,null,null,null,null,"Atrasado",null,null,null,0,0,{"$f":"IF(Table26[[#This Row],[Status Medida]]=\"Finalizado\",IF(Table26[[#This Row],[Sim/Não]]=1,1,0),0)","v":0}]
[null,null,null,null,null,null,null,null,null,null,null,"Atrasado",null,null,null,0,0,{"$f":"IF(Table26[[#This Row],[Status Medida]]=\"Finalizado\",IF(Table26[[#This Row],[Sim/Não]]=1,1,0),0)","v":0}]
[null,null,null,null,null,null,null,null,null,null,null,"Atrasado",null,null,null,0,0,{"$f":"IF(Table26[[#This Row],[Status Medida]]=\"Finalizado\",IF(Table26[[#This Row],[Sim/Não]]=1,1,0),0)","v":0}]
[null,null,null,null,null,null,null,null,null,null,null,"Atrasado",null,null,null,0,0,{"$f":"IF(Table26[[#This Row],[Status Medida]]=\"Finalizado\",IF(Table26[[#This Row],[Sim/Não]]=1,1,0),0)","v":0}]
[null,null,null,null,null,null,null,null,null,null,null,"Atrasado",null,null,null,0,0,{"$f":"IF(Table26[[#This Row],[Status Medida]]=\"Finalizado\",IF(Table26[[#This Row],[Sim/Não]]=1,1,0),0)","v":0}]
[null,null,null,null,null,null,null,null,null,null,null,"Atrasado",null,null,null,0,0,{"$f":"IF(Table26[[#This Row],[Status Medida]]=\"Finalizado\",IF(Table26[[#This Row],[Sim/Não]]=1,1,0),0)","v":0}]
[null,null,null,null,null,null,null,null,null,null,null,"Atrasado",null,null,null,0,0,{"$f":"IF(Table26[[#This Row],[Status Medida]]=\"Finalizado\",IF(Table26[[#This Row],[Sim/Não]]=1,1,0),0)","v":0}]
[null,null,null,null,null,null,null,null,null,null,null,"Atrasado",null,null,null,0,0,{"$f":"IF(Table26[[#This Row],[Status Medida]]=\"Finalizado\",IF(Table26[[#This Row],[Sim/Não]]=1,1,0),0)","v":0}]
[null,null,null,null,null,null,null,null,null,null,null,"Atrasado",null,null,null,0,0,{"$f":"IF(Table26[[#This Row],[Status Medida]]=\"Finalizado\",IF(Table26[[#This Row],[Sim/Não]]=1,1,0),0)","v":0}]
[null,null,null,null,null,null,null,null,null,null,null,"Atrasado",null,null,null,0,0,{"$f":"IF(Table26[[#This Row],[Status Medida]]=\"Finalizado\",IF(Table26[[#This Row],[Sim/Não]]=1,1,0),0)","v":0}]
[null,null,null,null,null,null,null,null,null,null,null,"Atrasado",null,null,null,0,0,{"$f":"IF(Table26[[#This Row],[Status Medida]]=\"Finalizado\",IF(Table26[[#This Row],[Sim/Não]]=1,1,0),0)","v":0}]
[null,null,null,null,null,null,null,null,null,null,null,"Atrasado",null,null,null,0,0,{"$f":"IF(Table26[[#This Row],[Status Medida]]=\"Finalizado\",IF(Table26[[#This Row],[Sim/Não]]=1,1,0),0)","v":0}]
[null,null,null,null,null,null,null,null,null,null,null,"Atrasado",null,null,null,0,0,{"$f":"IF(Table26[[#This Row],[Status Medida]]=\"Finalizado\",IF(Table26[[#This Row],[Sim/Não]]=1,1,0),0)","v":0}]
[null,null,null,null,null,null,null,null,null,null,null,"Atrasado",null,null,null,0,0,{"$f":"IF(Table26[[#This Row],[Status Medida]]=\"Finalizado\",IF(Table26[[#This Row],[Sim/Não]]=1,1,0),0)","v":0}]
[null,null,null,null,null,null,null,null,null,null,null,"Atrasado",null,null,null,0,0,{"$f":"IF(Table26[[#This Row],[Status Medida]]=\"Finalizado\",IF(Table26[[#This Row],[Sim/Não]]=1,1,0),0)","v":0}]
[null,null,null,null,null,null,null,null,null,null,null,"Atrasado",null,null,null,0,0,{"$f":"IF(Table26[[#This Row],[Status Medida]]=\"Finalizado\",IF(Table26[[#This Row],[Sim/Não]]=1,1,0),0)","v":0}]
[null,null,null,null,null,null,null,null,null,null,null,"Atrasado",null,null,null,0,0,{"$f":"IF(Table26[[#This Row],[Status Medida]]=\"Finalizado\",IF(Table26[[#This Row],[Sim/Não]]=1,1,0),0)","v":0}]
[null,null,null,null,null,null,null,null,null,null,null,"Atrasado",null,null,null,0,0,{"$f":"IF(Table26[[#This Row],[Status Medida]]=\"Finalizado\",IF(Table26[[#This Row],[Sim/Não]]=1,1,0),0)","v":0}]
[null,null,null,null,null,null,null,null,null,null,null,{"$f":"IF(J8815>K8815,\"Datas inválidas\",IF(M8815=\"Finalizado\",\"Concluído\",IF(J8815>TODAY(),\"Não iniciado\",_xlfn.IFS(J8815=TODAY(),\"Em andamento\",TODAY()>K8815,\"Atrasado\",AND(TODAY()>J8815,TODAY()<=K8815),\"Em andamento\"))))","v":"Atrasado"},null,null,null,{"$f":"IF(O8815=\"Sim\",1,0)","v":0},{"$f":"IF(N8815=E8815,0,1)","v":0},{"$f":"IF(Table26[[#This Row],[Status Medida]]=\"Finalizado\",IF(Table26[[#This Row],[Sim/Não]]=1,1,0),0)","v":0}]
[null,null,null,null,null,null,null,null,null,null,null,"Atrasado",null,null,null,0,0,{"$f":"IF(Table26[[#This Row],[Status Medida]]=\"Finalizado\",IF(Table26[[#This Row],[Sim/Não]]=1,1,0),0)","v":0}]
[null,null,null,null,null,null,null,null,null,null,null,"Atrasado",null,null,null,0,0,{"$f":"IF(Table26[[#This Row],[Status Medida]]=\"Finalizado\",IF(Table26[[#This Row],[Sim/Não]]=1,1,0),0)","v":0}]
[null,null,null,null,null,null,null,null,null,null,null,"Atrasado",null,null,null,0,0,{"$f":"IF(Table26[[#This Row],[Status Medida]]=\"Finalizado\",IF(Table26[[#This Row],[Sim/Não]]=1,1,0),0)","v":0}]
[null,null,null,null,null,null,null,null,null,null,null,"Atrasado",null,null,null,0,0,{"$f":"IF(Table26[[#This Row],[Status Medida]]=\"Finalizado\",IF(Table26[[#This Row],[Sim/Não]]=1,1,0),0)","v":0}]
[null,null,null,null,null,null,null,null,null,null,null,"Atrasado",null,null,null,0,0,{"$f":"IF(Table26[[#This Row],[Status Medida]]=\"Finalizado\",IF(Table26[[#This Row],[Sim/Não]]=1,1,0),0)","v":0}]
[null,null,null,null,null,null,null,null,null,null,null,"Atrasado",null,null,null,0,0,{"$f":"IF(Table26[[#This Row],[Status Medida]]=\"Finalizado\",IF(Table26[[#This Row],[Sim/Não]]=1,1,0),0)","v":0}]
[null,null,null,null,null,null,null,null,null,null,null,"Atrasado",null,null,null,0,0,{"$f":"IF(Table26[[#This Row],[Status Medida]]=\"Finalizado\",IF(Table26[[#This Row],[Sim/Não]]=1,1,0),0)","v":0}]
[null,null,null,null,null,null,null,null,null,null,null,"Atrasado",null,null,null,0,0,{"$f":"IF(Table26[[#This Row],[Status Medida]]=\"Finalizado\",IF(Table26[[#This Row],[Sim/Não]]=1,1,0),0)","v":0}]
[null,null,null,null,null,null,null,null,null,null,null,"Atrasado",null,null,null,0,0,{"$f":"IF(Table26[[#This Row],[Status Medida]]=\"Finalizado\",IF(Table26[[#This Row],[Sim/Não]]=1,1,0),0)","v":0}]
[null,null,null,null,null,null,null,null,null,null,null,"Atrasado",null,null,null,0,0,{"$f":"IF(Table26[[#This Row],[Status Medida]]=\"Finalizado\",IF(Table26[[#This Row],[Sim/Não]]=1,1,0),0)","v":0}]
[null,null,null,null,null,null,null,null,null,null,null,"Atrasado",null,null,null,0,0,{"$f":"IF(Table26[[#This Row],[Status Medida]]=\"Finalizado\",IF(Table26[[#This Row],[Sim/Não]]=1,1,0),0)","v":0}]
[null,null,null,null,null,null,null,null,null,null,null,"Atrasado",null,null,null,0,0,{"$f":"IF(Table26[[#This Row],[Status Medida]]=\"Finalizado\",IF(Table26[[#This Row],[Sim/Não]]=1,1,0),0)","v":0}]
[null,null,null,null,null,null,null,null,null,null,null,"Atrasado",null,null,null,0,0,{"$f":"IF(Table26[[#This Row],[Status Medida]]=\"Finalizado\",IF(Table26[[#This Row],[Sim/Não]]=1,1,0),0)","v":0}]
[null,null,null,null,null,null,null,null,null,null,null,"Atrasado",null,null,null,0,0,{"$f":"IF(Table26[[#This Row],[Status Medida]]=\"Finalizado\",IF(Table26[[#This Row],[Sim/Não]]=1,1,0),0)","v":0}]
[null,null,null,null,null,null,null,null,null,null,null,"Atrasado",null,null,null,0,0,{"$f":"IF(Table26[[#This Row],[Status Medida]]=\"Finalizado\",IF(Table26[[#This Row],[Sim/Não]]=1,1,0),0)","v":0}]
[null,null,null,null,null,null,null,null,null,null,null,"Atrasado",null,null,null,0,0,{"$f":"IF(Table26[[#This Row],[Status Medida]]=\"Finalizado\",IF(Table26[[#This Row],[Sim/Não]]=1,1,0),0)","v":0}]
[null,null,null,null,null,null,null,null,null,null,null,"Atrasado",null,null,null,0,0,{"$f":"IF(Table26[[#This Row],[Status Medida]]=\"Finalizado\",IF(Table26[[#This Row],[Sim/Não]]=1,1,0),0)","v":0}]
[null,null,null,null,null,null,null,null,null,null,null,"Atrasado",null,null,null,0,0,{"$f":"IF(Table26[[#This Row],[Status Medida]]=\"Finalizado\",IF(Table26[[#This Row],[Sim/Não]]=1,1,0),0)","v":0}]
[null,null,null,null,null,null,null,null,null,null,null,"Atrasado",null,null,null,0,0,{"$f":"IF(Table26[[#This Row],[Status Medida]]=\"Finalizado\",IF(Table26[[#This Row],[Sim/Não]]=1,1,0),0)","v":0}]
[null,null,null,null,null,null,null,null,null,null,null,"Atrasado",null,null,null,0,0,{"$f":"IF(Table26[[#This Row],[Status Medida]]=\"Finalizado\",IF(Table26[[#This Row],[Sim/Não]]=1,1,0),0)","v":0}]
[null,null,null,null,null,null,null,null,null,null,null,"Atrasado",null,null,null,0,0,{"$f":"IF(Table26[[#This Row],[Status Medida]]=\"Finalizado\",IF(Table26[[#This Row],[Sim/Não]]=1,1,0),0)","v":0}]
[null,null,null,null,null,null,null,null,null,null,null,"Atrasado",null,null,null,0,0,{"$f":"IF(Table26[[#This Row],[Status Medida]]=\"Finalizado\",IF(Table26[[#This Row],[Sim/Não]]=1,1,0),0)","v":0}]
[null,null,null,null,null,null,null,null,null,null,null,"Atrasado",null,null,null,0,0,{"$f":"IF(Table26[[#This Row],[Status Medida]]=\"Finalizado\",IF(Table26[[#This Row],[Sim/Não]]=1,1,0),0)","v":0}]
[null,null,null,null,null,null,null,null,null,null,null,"Atrasado",null,null,null,0,0,{"$f":"IF(Table26[[#This Row],[Status Medida]]=\"Finalizado\",IF(Table26[[#This Row],[Sim/Não]]=1,1,0),0)","v":0}]
[null,null,null,null,null,null,null,null,null,null,null,"Atrasado",null,null,null,0,0,{"$f":"IF(Table26[[#This Row],[Status Medida]]=\"Finalizado\",IF(Table26[[#This Row],[Sim/Não]]=1,1,0),0)","v":0}]
[null,null,null,null,null,null,null,null,null,null,null,"Atrasado",null,null,null,0,0,{"$f":"IF(Table26[[#This Row],[Status Medida]]=\"Finalizado\",IF(Table26[[#This Row],[Sim/Não]]=1,1,0),0)","v":0}]
[null,null,null,null,null,null,null,null,null,null,null,"Atrasado",null,null,null,0,0,{"$f":"IF(Table26[[#This Row],[Status Medida]]=\"Finalizado\",IF(Table26[[#This Row],[Sim/Não]]=1,1,0),0)","v":0}]
[null,null,null,null,null,null,null,null,null,null,null,"Atrasado",null,null,null,0,0,{"$f":"IF(Table26[[#This Row],[Status Medida]]=\"Finalizado\",IF(Table26[[#This Row],[Sim/Não]]=1,1,0),0)","v":0}]
[null,null,null,null,null,null,null,null,null,null,null,"Atrasado",null,null,null,0,0,{"$f":"IF(Table26[[#This Row],[Status Medida]]=\"Finalizado\",IF(Table26[[#This Row],[Sim/Não]]=1,1,0),0)","v":0}]
[null,null,null,null,null,null,null,null,null,null,null,"Atrasado",null,null,null,0,0,{"$f":"IF(Table26[[#This Row],[Status Medida]]=\"Finalizado\",IF(Table26[[#This Row],[Sim/Não]]=1,1,0),0)","v":0}]
[null,null,null,null,null,null,null,null,null,null,null,"Atrasado",null,null,null,0,0,{"$f":"IF(Table26[[#This Row],[Status Medida]]=\"Finalizado\",IF(Table26[[#This Row],[Sim/Não]]=1,1,0),0)","v":0}]
[null,null,null,null,null,null,null,null,null,null,null,"Atrasado",null,null,null,0,0,{"$f":"IF(Table26[[#This Row],[Status Medida]]=\"Finalizado\",IF(Table26[[#This Row],[Sim/Não]]=1,1,0),0)","v":0}]
[null,null,null,null,null,null,null,null,null,null,null,"Atrasado",null,null,null,0,0,{"$f":"IF(Table26[[#This Row],[Status Medida]]=\"Finalizado\",IF(Table26[[#This Row],[Sim/Não]]=1,1,0),0)","v":0}]
[null,null,null,null,null,null,null,null,null,null,null,"Atrasado",null,null,null,0,0,{"$f":"IF(Table26[[#This Row],[Status Medida]]=\"Finalizado\",IF(Table26[[#This Row],[Sim/Não]]=1,1,0),0)","v":0}]
[null,null,null,null,null,null,null,null,null,null,null,"Atrasado",null,null,null,0,0,{"$f":"IF(Table26[[#This Row],[Status Medida]]=\"Finalizado\",IF(Table26[[#This Row],[Sim/Não]]=1,1,0),0)","v":0}]
[null,null,null,null,null,null,null,null,null,null,null,"Atrasado",null,null,null,0,0,{"$f":"IF(Table26[[#This Row],[Status Medida]]=\"Finalizado\",IF(Table26[[#This Row],[Sim/Não]]=1,1,0),0)","v":0}]
[null,null,null,null,null,null,null,null,null,null,null,"Atrasado",null,null,null,0,0,{"$f":"IF(Table26[[#This Row],[Status Medida]]=\"Finalizado\",IF(Table26[[#This Row],[Sim/Não]]=1,1,0),0)","v":0}]
[null,null,null,null,null,null,null,null,null,null,null,"Atrasado",null,null,null,0,0,{"$f":"IF(Table26[[#This Row],[Status Medida]]=\"Finalizado\",IF(Table26[[#This Row],[Sim/Não]]=1,1,0),0)","v":0}]
[null,null,null,null,null,null,null,null,null,null,null,"Atrasado",null,null,null,0,0,{"$f":"IF(Table26[[#This Row],[Status Medida]]=\"Finalizado\",IF(Table26[[#This Row],[Sim/Não]]=1,1,0),0)","v":0}]
[null,null,null,null,null,null,null,null,null,null,null,"Atrasado",null,null,null,0,0,{"$f":"IF(Table26[[#This Row],[Status Medida]]=\"Finalizado\",IF(Table26[[#This Row],[Sim/Não]]=1,1,0),0)","v":0}]
[null,null,null,null,null,null,null,null,null,null,null,"Atrasado",null,null,null,0,0,{"$f":"IF(Table26[[#This Row],[Status Medida]]=\"Finalizado\",IF(Table26[[#This Row],[Sim/Não]]=1,1,0),0)","v":0}]
[null,null,null,null,null,null,null,null,null,null,null,"Atrasado",null,null,null,0,0,{"$f":"IF(Table26[[#This Row],[Status Medida]]=\"Finalizado\",IF(Table26[[#This Row],[Sim/Não]]=1,1,0),0)","v":0}]
[null,null,null,null,null,null,null,null,null,null,null,"Atrasado",null,null,null,0,0,{"$f":"IF(Table26[[#This Row],[Status Medida]]=\"Finalizado\",IF(Table26[[#This Row],[Sim/Não]]=1,1,0),0)","v":0}]
[null,null,null,null,null,null,null,null,null,null,null,{"$f":"IF(J9011>K9011,\"Datas inválidas\",IF(M9011=\"Finalizado\",\"Concluído\",IF(J9011>TODAY(),\"Não iniciado\",_xlfn.IFS(J9011=TODAY(),\"Em andamento\",TODAY()>K9011,\"Atrasado\",AND(TODAY()>J9011,TODAY()<=K9011),\"Em andamento\"))))","v":"Atrasado"},null,null,null,{"$f":"IF(O9011=\"Sim\",1,0)","v":0},{"$f":"IF(N9011=E9011,0,1)","v":0},{"$f":"IF(Table26[[#This Row],[Status Medida]]=\"Finalizado\",IF(Table26[[#This Row],[Sim/Não]]=1,1,0),0)","v":0}]
[null,null,null,null,null,null,null,null,null,null,null,"Atrasado",null,null,null,0,0,{"$f":"IF(Table26[[#This Row],[Status Medida]]=\"Finalizado\",IF(Table26[[#This Row],[Sim/Não]]=1,1,0),0)","v":0}]
[null,null,null,null,null,null,null,null,null,null,null,"Atrasado",null,null,null,0,0,{"$f":"IF(Table26[[#This Row],[Status Medida]]=\"Finalizado\",IF(Table26[[#This Row],[Sim/Não]]=1,1,0),0)","v":0}]
[null,null,null,null,null,null,null,null,null,null,null,"Atrasado",null,null,null,0,0,{"$f":"IF(Table26[[#This Row],[Status Medida]]=\"Finalizado\",IF(Table26[[#This Row],[Sim/Não]]=1,1,0),0)","v":0}]
[null,null,null,null,null,null,null,null,null,null,null,"Atrasado",null,null,null,0,0,{"$f":"IF(Table26[[#This Row],[Status Medida]]=\"Finalizado\",IF(Table26[[#This Row],[Sim/Não]]=1,1,0),0)","v":0}]
[null,null,null,null,null,null,null,null,null,null,null,"Atrasado",null,null,null,0,0,{"$f":"IF(Table26[[#This Row],[Status Medida]]=\"Finalizado\",IF(Table26[[#This Row],[Sim/Não]]=1,1,0),0)","v":0}]
[null,null,null,null,null,null,null,null,null,null,null,"Atrasado",null,null,null,0,0,{"$f":"IF(Table26[[#This Row],[Status Medida]]=\"Finalizado\",IF(Table26[[#This Row],[Sim/Não]]=1,1,0),0)","v":0}]
[null,null,null,null,null,null,null,null,null,null,null,"Atrasado",null,null,null,0,0,{"$f":"IF(Table26[[#This Row],[Status Medida]]=\"Finalizado\",IF(Table26[[#This Row],[Sim/Não]]=1,1,0),0)","v":0}]
[null,null,null,null,null,null,null,null,null,null,null,"Atrasado",null,null,null,0,0,{"$f":"IF(Table26[[#This Row],[Status Medida]]=\"Finalizado\",IF(Table26[[#This Row],[Sim/Não]]=1,1,0),0)","v":0}]
[null,null,null,null,null,null,null,null,null,null,null,"Atrasado",null,null,null,0,0,{"$f":"IF(Table26[[#This Row],[Status Medida]]=\"Finalizado\",IF(Table26[[#This Row],[Sim/Não]]=1,1,0),0)","v":0}]
[null,null,null,null,null,null,null,null,null,null,null,"Atrasado",null,null,null,0,0,{"$f":"IF(Table26[[#This Row],[Status Medida]]=\"Finalizado\",IF(Table26[[#This Row],[Sim/Não]]=1,1,0),0)","v":0}]
[null,null,null,null,null,null,null,null,null,null,null,"Atrasado",null,null,null,0,0,{"$f":"IF(Table26[[#This Row],[Status Medida]]=\"Finalizado\",IF(Table26[[#This Row],[Sim/Não]]=1,1,0),0)","v":0}]
[null,null,null,null,null,null,null,null,null,null,null,"Atrasado",null,null,null,0,0,{"$f":"IF(Table26[[#This Row],[Status Medida]]=\"Finalizado\",IF(Table26[[#This Row],[Sim/Não]]=1,1,0),0)","v":0}]
[null,null,null,null,null,null,null,null,null,null,null,"Atrasado",null,null,null,0,0,{"$f":"IF(Table26[[#This Row],[Status Medida]]=\"Finalizado\",IF(Table26[[#This Row],[Sim/Não]]=1,1,0),0)","v":0}]
[null,null,null,null,null,null,null,null,null,null,null,"Atrasado",null,null,null,0,0,{"$f":"IF(Table26[[#This Row],[Status Medida]]=\"Finalizado\",IF(Table26[[#This Row],[Sim/Não]]=1,1,0),0)","v":0}]
[null,null,null,null,null,null,null,null,null,null,null,"Atrasado",null,null,null,0,0,{"$f":"IF(Table26[[#This Row],[Status Medida]]=\"Finalizado\",IF(Table26[[#This Row],[Sim/Não]]=1,1,0),0)","v":0}]
[null,null,null,null,null,null,null,null,null,null,null,"Atrasado",null,null,null,0,0,{"$f":"IF(Table26[[#This Row],[Status Medida]]=\"Finalizado\",IF(Table26[[#This Row],[Sim/Não]]=1,1,0),0)","v":0}]
[null,null,null,null,null,null,null,null,null,null,null,"Atrasado",null,null,null,0,0,{"$f":"IF(Table26[[#This Row],[Status Medida]]=\"Finalizado\",IF(Table26[[#This Row],[Sim/Não]]=1,1,0),0)","v":0}]
[null,null,null,null,null,null,null,null,null,null,null,"Atrasado",null,null,null,0,0,{"$f":"IF(Table26[[#This Row],[Status Medida]]=\"Finalizado\",IF(Table26[[#This Row],[Sim/Não]]=1,1,0),0)","v":0}]
[null,null,null,null,null,null,null,null,null,null,null,"Atrasado",null,null,null,0,0,{"$f":"IF(Table26[[#This Row],[Status Medida]]=\"Finalizado\",IF(Table26[[#This Row],[Sim/Não]]=1,1,0),0)","v":0}]
[null,null,null,null,null,null,null,null,null,null,null,"Atrasado",null,null,null,0,0,{"$f":"IF(Table26[[#This Row],[Status Medida]]=\"Finalizado\",IF(Table26[[#This Row],[Sim/Não]]=1,1,0),0)","v":0}]
[null,null,null,null,null,null,null,null,null,null,null,"Atrasado",null,null,null,0,0,{"$f":"IF(Table26[[#This Row],[Status Medida]]=\"Finalizado\",IF(Table26[[#This Row],[Sim/Não]]=1,1,0),0)","v":0}]
[null,null,null,null,null,null,null,null,null,null,null,"Atrasado",null,null,null,0,0,{"$f":"IF(Table26[[#This Row],[Status Medida]]=\"Finalizado\",IF(Table26[[#This Row],[Sim/Não]]=1,1,0),0)","v":0}]
[null,null,null,null,null,null,null,null,null,null,null,"Atrasado",null,null,null,0,0,{"$f":"IF(Table26[[#This Row],[Status Medida]]=\"Finalizado\",IF(Table26[[#This Row],[Sim/Não]]=1,1,0),0)","v":0}]
[null,null,null,null,null,null,null,null,null,null,null,"Atrasado",null,null,null,0,0,{"$f":"IF(Table26[[#This Row],[Status Medida]]=\"Finalizado\",IF(Table26[[#This Row],[Sim/Não]]=1,1,0),0)","v":0}]
[null,null,null,null,null,null,null,null,null,null,null,"Atrasado",null,null,null,0,0,{"$f":"IF(Table26[[#This Row],[Status Medida]]=\"Finalizado\",IF(Table26[[#This Row],[Sim/Não]]=1,1,0),0)","v":0}]
[null,null,null,null,null,null,null,null,null,null,null,"Atrasado",null,null,null,0,0,{"$f":"IF(Table26[[#This Row],[Status Medida]]=\"Finalizado\",IF(Table26[[#This Row],[Sim/Não]]=1,1,0),0)","v":0}]
[null,null,null,null,null,null,null,null,null,null,null,"Atrasado",null,null,null,0,0,{"$f":"IF(Table26[[#This Row],[Status Medida]]=\"Finalizado\",IF(Table26[[#This Row],[Sim/Não]]=1,1,0),0)","v":0}]
[null,null,null,null,null,null,null,null,null,null,null,"Atrasado",null,null,null,0,0,{"$f":"IF(Table26[[#This Row],[Status Medida]]=\"Finalizado\",IF(Table26[[#This Row],[Sim/Não]]=1,1,0),0)","v":0}]
[null,null,null,null,null,null,null,null,null,null,null,"Atrasado",null,null,null,0,0,{"$f":"IF(Table26[[#This Row],[Status Medida]]=\"Finalizado\",IF(Table26[[#This Row],[Sim/Não]]=1,1,0),0)","v":0}]
[null,null,null,null,null,null,null,null,null,null,null,"Atrasado",null,null,null,0,0,{"$f":"IF(Table26[[#This Row],[Status Medida]]=\"Finalizado\",IF(Table26[[#This Row],[Sim/Não]]=1,1,0),0)","v":0}]
[null,null,null,null,null,null,null,null,null,null,null,"Atrasado",null,null,null,0,0,{"$f":"IF(Table26[[#This Row],[Status Medida]]=\"Finalizado\",IF(Table26[[#This Row],[Sim/Não]]=1,1,0),0)","v":0}]
[null,null,null,null,null,null,null,null,null,null,null,"Atrasado",null,null,null,0,0,{"$f":"IF(Table26[[#This Row],[Status Medida]]=\"Finalizado\",IF(Table26[[#This Row],[Sim/Não]]=1,1,0),0)","v":0}]
[null,null,null,null,null,null,null,null,null,null,null,"Atrasado",null,null,null,0,0,{"$f":"IF(Table26[[#This Row],[Status Medida]]=\"Finalizado\",IF(Table26[[#This Row],[Sim/Não]]=1,1,0),0)","v":0}]
[null,null,null,null,null,null,null,null,null,null,null,"Atrasado",null,null,null,0,0,{"$f":"IF(Table26[[#This Row],[Status Medida]]=\"Finalizado\",IF(Table26[[#This Row],[Sim/Não]]=1,1,0),0)","v":0}]
[null,null,null,null,null,null,null,null,null,null,null,"Atrasado",null,null,null,0,0,{"$f":"IF(Table26[[#This Row],[Status Medida]]=\"Finalizado\",IF(Table26[[#This Row],[Sim/Não]]=1,1,0),0)","v":0}]
[null,null,null,null,null,null,null,null,null,null,null,"Atrasado",null,null,null,0,0,{"$f":"IF(Table26[[#This Row],[Status Medida]]=\"Finalizado\",IF(Table26[[#This Row],[Sim/Não]]=1,1,0),0)","v":0}]
[null,null,null,null,null,null,null,null,null,null,null,"Atrasado",null,null,null,0,0,{"$f":"IF(Table26[[#This Row],[Status Medida]]=\"Finalizado\",IF(Table26[[#This Row],[Sim/Não]]=1,1,0),0)","v":0}]
[null,null,null,null,null,null,null,null,null,null,null,"Atrasado",null,null,null,0,0,{"$f":"IF(Table26[[#This Row],[Status Medida]]=\"Finalizado\",IF(Table26[[#This Row],[Sim/Não]]=1,1,0),0)","v":0}]
[null,null,null,null,null,null,null,null,null,null,null,"Atrasado",null,null,null,0,0,{"$f":"IF(Table26[[#This Row],[Status Medida]]=\"Finalizado\",IF(Table26[[#This Row],[Sim/Não]]=1,1,0),0)","v":0}]
[null,null,null,null,null,null,null,null,null,null,null,"Atrasado",null,null,null,0,0,{"$f":"IF(Table26[[#This Row],[Status Medida]]=\"Finalizado\",IF(Table26[[#This Row],[Sim/Não]]=1,1,0),0)","v":0}]
[null,null,null,null,null,null,null,null,null,null,null,"Atrasado",null,null,null,0,0,{"$f":"IF(Table26[[#This Row],[Status Medida]]=\"Finalizado\",IF(Table26[[#This Row],[Sim/Não]]=1,1,0),0)","v":0}]
[null,null,null,null,null,null,null,null,null,null,null,"Atrasado",null,null,null,0,0,{"$f":"IF(Table26[[#This Row],[Status Medida]]=\"Finalizado\",IF(Table26[[#This Row],[Sim/Não]]=1,1,0),0)","v":0}]
[null,null,null,null,null,null,null,null,null,null,null,"Atrasado",null,null,null,0,0,{"$f":"IF(Table26[[#This Row],[Status Medida]]=\"Finalizado\",IF(Table26[[#This Row],[Sim/Não]]=1,1,0),0)","v":0}]
[null,null,null,null,null,null,null,null,null,null,null,"Atrasado",null,null,null,0,0,{"$f":"IF(Table26[[#This Row],[Status Medida]]=\"Finalizado\",IF(Table26[[#This Row],[Sim/Não]]=1,1,0),0)","v":0}]
[null,null,null,null,null,null,null,null,null,null,null,"Atrasado",null,null,null,0,0,{"$f":"IF(Table26[[#This Row],[Status Medida]]=\"Finalizado\",IF(Table26[[#This Row],[Sim/Não]]=1,1,0),0)","v":0}]
[null,null,null,null,null,null,null,null,null,null,null,"Atrasado",null,null,null,0,0,{"$f":"IF(Table26[[#This Row],[Status Medida]]=\"Finalizado\",IF(Table26[[#This Row],[Sim/Não]]=1,1,0),0)","v":0}]
[null,null,null,null,null,null,null,null,null,null,null,"Atrasado",null,null,null,0,0,{"$f":"IF(Table26[[#This Row],[Status Medida]]=\"Finalizado\",IF(Table26[[#This Row],[Sim/Não]]=1,1,0),0)","v":0}]
[null,null,null,null,null,null,null,null,null,null,null,"Atrasado",null,null,null,0,0,{"$f":"IF(Table26[[#This Row],[Status Medida]]=\"Finalizado\",IF(Table26[[#This Row],[Sim/Não]]=1,1,0),0)","v":0}]
[null,null,null,null,null,null,null,null,null,null,null,"Atrasado",null,null,null,0,0,{"$f":"IF(Table26[[#This Row],[Status Medida]]=\"Finalizado\",IF(Table26[[#This Row],[Sim/Não]]=1,1,0),0)","v":0}]
[null,null,null,null,null,null,null,null,null,null,null,"Atrasado",null,null,null,0,0,{"$f":"IF(Table26[[#This Row],[Status Medida]]=\"Finalizado\",IF(Table26[[#This Row],[Sim/Não]]=1,1,0),0)","v":0}]
[null,null,null,null,null,null,null,null,null,null,null,"Atrasado",null,null,null,0,0,{"$f":"IF(Table26[[#This Row],[Status Medida]]=\"Finalizado\",IF(Table26[[#This Row],[Sim/Não]]=1,1,0),0)","v":0}]
[null,null,null,null,null,null,null,null,null,null,null,"Atrasado",null,null,null,0,0,{"$f":"IF(Table26[[#This Row],[Status Medida]]=\"Finalizado\",IF(Table26[[#This Row],[Sim/Não]]=1,1,0),0)","v":0}]
[null,null,null,null,null,null,null,null,null,null,null,"Atrasado",null,null,null,0,0,{"$f":"IF(Table26[[#This Row],[Status Medida]]=\"Finalizado\",IF(Table26[[#This Row],[Sim/Não]]=1,1,0),0)","v":0}]
[null,null,null,null,null,null,null,null,null,null,null,"Atrasado",null,null,null,0,0,{"$f":"IF(Table26[[#This Row],[Status Medida]]=\"Finalizado\",IF(Table26[[#This Row],[Sim/Não]]=1,1,0),0)","v":0}]
[null,null,null,null,null,null,null,null,null,null,null,"Atrasado",null,null,null,0,0,{"$f":"IF(Table26[[#This Row],[Status Medida]]=\"Finalizado\",IF(Table26[[#This Row],[Sim/Não]]=1,1,0),0)","v":0}]
[null,null,null,null,null,null,null,null,null,null,null,"Atrasado",null,null,null,0,0,{"$f":"IF(Table26[[#This Row],[Status Medida]]=\"Finalizado\",IF(Table26[[#This Row],[Sim/Não]]=1,1,0),0)","v":0}]
[null,null,null,null,null,null,null,null,null,null,null,"Atrasado",null,null,null,0,0,{"$f":"IF(Table26[[#This Row],[Status Medida]]=\"Finalizado\",IF(Table26[[#This Row],[Sim/Não]]=1,1,0),0)","v":0}]
[null,null,null,null,null,null,null,null,null,null,null,"Atrasado",null,null,null,0,0,{"$f":"IF(Table26[[#This Row],[Status Medida]]=\"Finalizado\",IF(Table26[[#This Row],[Sim/Não]]=1,1,0),0)","v":0}]
[null,null,null,null,null,null,null,null,null,null,null,"Atrasado",null,null,null,0,0,{"$f":"IF(Table26[[#This Row],[Status Medida]]=\"Finalizado\",IF(Table26[[#This Row],[Sim/Não]]=1,1,0),0)","v":0}]
[null,null,null,null,null,null,null,null,null,null,null,"Atrasado",null,null,null,0,0,{"$f":"IF(Table26[[#This Row],[Status Medida]]=\"Finalizado\",IF(Table26[[#This Row],[Sim/Não]]=1,1,0),0)","v":0}]
[null,null,null,null,null,null,null,null,null,null,null,"Atrasado",null,null,null,0,0,{"$f":"IF(Table26[[#This Row],[Status Medida]]=\"Finalizado\",IF(Table26[[#This Row],[Sim/Não]]=1,1,0),0)","v":0}]
[null,null,null,null,null,null,null,null,null,null,null,"Atrasado",null,null,null,0,0,{"$f":"IF(Table26[[#This Row],[Status Medida]]=\"Finalizado\",IF(Table26[[#This Row],[Sim/Não]]=1,1,0),0)","v":0}]
[null,null,null,null,null,null,null,null,null,null,null,"Atrasado",null,null,null,0,0,{"$f":"IF(Table26[[#This Row],[Status Medida]]=\"Finalizado\",IF(Table26[[#This Row],[Sim/Não]]=1,1,0),0)","v":0}]
[null,null,null,null,null,null,null,null,null,null,null,"Atrasado",null,null,null,0,0,{"$f":"IF(Table26[[#This Row],[Status Medida]]=\"Finalizado\",IF(Table26[[#This Row],[Sim/Não]]=1,1,0),0)","v":0}]
[null,null,null,null,null,null,null,null,null,null,null,"Atrasado",null,null,null,0,0,{"$f":"IF(Table26[[#This Row],[Status Medida]]=\"Finalizado\",IF(Table26[[#This Row],[Sim/Não]]=1,1,0),0)","v":0}]
[null,null,null,null,null,null,null,null,null,null,null,"Atrasado",null,null,null,0,0,{"$f":"IF(Table26[[#This Row],[Status Medida]]=\"Finalizado\",IF(Table26[[#This Row],[Sim/Não]]=1,1,0),0)","v":0}]
[null,null,null,null,null,null,null,null,null,null,null,"Atrasado",null,null,null,0,0,{"$f":"IF(Table26[[#This Row],[Status Medida]]=\"Finalizado\",IF(Table26[[#This Row],[Sim/Não]]=1,1,0),0)","v":0}]
[null,null,null,null,null,null,null,null,null,null,null,"Atrasado",null,null,null,0,0,{"$f":"IF(Table26[[#This Row],[Status Medida]]=\"Finalizado\",IF(Table26[[#This Row],[Sim/Não]]=1,1,0),0)","v":0}]
[null,null,null,null,null,null,null,null,null,null,null,"Atrasado",null,null,null,0,0,{"$f":"IF(Table26[[#This Row],[Status Medida]]=\"Finalizado\",IF(Table26[[#This Row],[Sim/Não]]=1,1,0),0)","v":0}]
[null,null,null,null,null,null,null,null,null,null,null,"Atrasado",null,null,null,0,0,{"$f":"IF(Table26[[#This Row],[Status Medida]]=\"Finalizado\",IF(Table26[[#This Row],[Sim/Não]]=1,1,0),0)","v":0}]
[null,null,null,null,null,null,null,null,null,null,null,"Atrasado",null,null,null,0,0,{"$f":"IF(Table26[[#This Row],[Status Medida]]=\"Finalizado\",IF(Table26[[#This Row],[Sim/Não]]=1,1,0),0)","v":0}]
[null,null,null,null,null,null,null,null,null,null,null,"Atrasado",null,null,null,0,0,{"$f":"IF(Table26[[#This Row],[Status Medida]]=\"Finalizado\",IF(Table26[[#This Row],[Sim/Não]]=1,1,0),0)","v":0}]
[null,null,null,null,null,null,null,null,null,null,null,"Atrasado",null,null,null,0,0,{"$f":"IF(Table26[[#This Row],[Status Medida]]=\"Finalizado\",IF(Table26[[#This Row],[Sim/Não]]=1,1,0),0)","v":0}]
[null,null,null,null,null,null,null,null,null,null,null,"Atrasado",null,null,null,0,0,{"$f":"IF(Table26[[#This Row],[Status Medida]]=\"Finalizado\",IF(Table26[[#This Row],[Sim/Não]]=1,1,0),0)","v":0}]
[null,null,null,null,null,null,null,null,null,null,null,"Atrasado",null,null,null,0,0,{"$f":"IF(Table26[[#This Row],[Status Medida]]=\"Finalizado\",IF(Table26[[#This Row],[Sim/Não]]=1,1,0),0)","v":0}]
[null,null,null,null,null,null,null,null,null,null,null,"Atrasado",null,null,null,0,0,{"$f":"IF(Table26[[#This Row],[Status Medida]]=\"Finalizado\",IF(Table26[[#This Row],[Sim/Não]]=1,1,0),0)","v":0}]
[null,null,null,null,null,null,null,null,null,null,null,"Atrasado",null,null,null,0,0,{"$f":"IF(Table26[[#This Row],[Status Medida]]=\"Finalizado\",IF(Table26[[#This Row],[Sim/Não]]=1,1,0),0)","v":0}]
[null,null,null,null,null,null,null,null,null,null,null,"Atrasado",null,null,null,0,0,{"$f":"IF(Table26[[#This Row],[Status Medida]]=\"Finalizado\",IF(Table26[[#This Row],[Sim/Não]]=1,1,0),0)","v":0}]
[null,null,null,null,null,null,null,null,null,null,null,"Atrasado",null,null,null,0,0,{"$f":"IF(Table26[[#This Row],[Status Medida]]=\"Finalizado\",IF(Table26[[#This Row],[Sim/Não]]=1,1,0),0)","v":0}]
[null,null,null,null,null,null,null,null,null,null,null,{"$f":"IF(J9368>K9368,\"Datas inválidas\",IF(M9368=\"Finalizado\",\"Concluído\",IF(J9368>TODAY(),\"Não iniciado\",_xlfn.IFS(J9368=TODAY(),\"Em andamento\",TODAY()>K9368,\"Atrasado\",AND(TODAY()>J9368,TODAY()<=K9368),\"Em andamento\"))))","v":"Atrasado"},null,null,null,{"$f":"IF(O9368=\"Sim\",1,0)","v":0},{"$f":"IF(N9368=E9368,0,1)","v":0},{"$f":"IF(Table26[[#This Row],[Status Medida]]=\"Finalizado\",IF(Table26[[#This Row],[Sim/Não]]=1,1,0),0)","v":0}]
[null,null,null,null,null,null,null,null,null,null,null,"Atrasado",null,null,null,0,0,{"$f":"IF(Table26[[#This Row],[Status Medida]]=\"Finalizado\",IF(Table26[[#This Row],[Sim/Não]]=1,1,0),0)","v":0}]
[null,null,null,null,null,null,null,null,null,null,null,"Atrasado",null,null,null,0,0,{"$f":"IF(Table26[[#This Row],[Status Medida]]=\"Finalizado\",IF(Table26[[#This Row],[Sim/Não]]=1,1,0),0)","v":0}]
[null,null,null,null,null,null,null,null,null,null,null,"Atrasado",null,null,null,0,0,{"$f":"IF(Table26[[#This Row],[Status Medida]]=\"Finalizado\",IF(Table26[[#This Row],[Sim/Não]]=1,1,0),0)","v":0}]
[null,null,null,null,null,null,null,null,null,null,null,"Atrasado",null,null,null,0,0,{"$f":"IF(Table26[[#This Row],[Status Medida]]=\"Finalizado\",IF(Table26[[#This Row],[Sim/Não]]=1,1,0),0)","v":0}]
[null,null,null,null,null,null,null,null,null,null,null,"Atrasado",null,null,null,0,0,{"$f":"IF(Table26[[#This Row],[Status Medida]]=\"Finalizado\",IF(Table26[[#This Row],[Sim/Não]]=1,1,0),0)","v":0}]
[null,null,null,null,null,null,null,null,null,null,null,"Atrasado",null,null,null,0,0,{"$f":"IF(Table26[[#This Row],[Status Medida]]=\"Finalizado\",IF(Table26[[#This Row],[Sim/Não]]=1,1,0),0)","v":0}]
[null,null,null,null,null,null,null,null,null,null,null,"Atrasado",null,null,null,0,0,{"$f":"IF(Table26[[#This Row],[Status Medida]]=\"Finalizado\",IF(Table26[[#This Row],[Sim/Não]]=1,1,0),0)","v":0}]
[null,null,null,null,null,null,null,null,null,null,null,"Atrasado",null,null,null,0,0,{"$f":"IF(Table26[[#This Row],[Status Medida]]=\"Finalizado\",IF(Table26[[#This Row],[Sim/Não]]=1,1,0),0)","v":0}]
[null,null,null,null,null,null,null,null,null,null,null,"Atrasado",null,null,null,0,0,{"$f":"IF(Table26[[#This Row],[Status Medida]]=\"Finalizado\",IF(Table26[[#This Row],[Sim/Não]]=1,1,0),0)","v":0}]
[null,null,null,null,null,null,null,null,null,null,null,"Atrasado",null,null,null,0,0,{"$f":"IF(Table26[[#This Row],[Status Medida]]=\"Finalizado\",IF(Table26[[#This Row],[Sim/Não]]=1,1,0),0)","v":0}]
[null,null,null,null,null,null,null,null,null,null,null,"Atrasado",null,null,null,0,0,{"$f":"IF(Table26[[#This Row],[Status Medida]]=\"Finalizado\",IF(Table26[[#This Row],[Sim/Não]]=1,1,0),0)","v":0}]
[null,null,null,null,null,null,null,null,null,null,null,"Atrasado",null,null,null,0,0,{"$f":"IF(Table26[[#This Row],[Status Medida]]=\"Finalizado\",IF(Table26[[#This Row],[Sim/Não]]=1,1,0),0)","v":0}]
[null,null,null,null,null,null,null,null,null,null,null,"Atrasado",null,null,null,0,0,{"$f":"IF(Table26[[#This Row],[Status Medida]]=\"Finalizado\",IF(Table26[[#This Row],[Sim/Não]]=1,1,0),0)","v":0}]
[null,null,null,null,null,null,null,null,null,null,null,"Atrasado",null,null,null,0,0,{"$f":"IF(Table26[[#This Row],[Status Medida]]=\"Finalizado\",IF(Table26[[#This Row],[Sim/Não]]=1,1,0),0)","v":0}]
[null,null,null,null,null,null,null,null,null,null,null,"Atrasado",null,null,null,0,0,{"$f":"IF(Table26[[#This Row],[Status Medida]]=\"Finalizado\",IF(Table26[[#This Row],[Sim/Não]]=1,1,0),0)","v":0}]
[null,null,null,null,null,null,null,null,null,null,null,"Atrasado",null,null,null,0,0,{"$f":"IF(Table26[[#This Row],[Status Medida]]=\"Finalizado\",IF(Table26[[#This Row],[Sim/Não]]=1,1,0),0)","v":0}]
[null,null,null,null,null,null,null,null,null,null,null,"Atrasado",null,null,null,0,0,{"$f":"IF(Table26[[#This Row],[Status Medida]]=\"Finalizado\",IF(Table26[[#This Row],[Sim/Não]]=1,1,0),0)","v":0}]
[null,null,null,null,null,null,null,null,null,null,null,"Atrasado",null,null,null,0,0,{"$f":"IF(Table26[[#This Row],[Status Medida]]=\"Finalizado\",IF(Table26[[#This Row],[Sim/Não]]=1,1,0),0)","v":0}]
[null,null,null,null,null,null,null,null,null,null,null,"Atrasado",null,null,null,0,0,{"$f":"IF(Table26[[#This Row],[Status Medida]]=\"Finalizado\",IF(Table26[[#This Row],[Sim/Não]]=1,1,0),0)","v":0}]
[null,null,null,null,null,null,null,null,null,null,null,"Atrasado",null,null,null,0,0,{"$f":"IF(Table26[[#This Row],[Status Medida]]=\"Finalizado\",IF(Table26[[#This Row],[Sim/Não]]=1,1,0),0)","v":0}]
[null,null,null,null,null,null,null,null,null,null,null,"Atrasado",null,null,null,0,0,{"$f":"IF(Table26[[#This Row],[Status Medida]]=\"Finalizado\",IF(Table26[[#This Row],[Sim/Não]]=1,1,0),0)","v":0}]
[null,null,null,null,null,null,null,null,null,null,null,"Atrasado",null,null,null,0,0,{"$f":"IF(Table26[[#This Row],[Status Medida]]=\"Finalizado\",IF(Table26[[#This Row],[Sim/Não]]=1,1,0),0)","v":0}]
[null,null,null,null,null,null,null,null,null,null,null,"Atrasado",null,null,null,0,0,{"$f":"IF(Table26[[#This Row],[Status Medida]]=\"Finalizado\",IF(Table26[[#This Row],[Sim/Não]]=1,1,0),0)","v":0}]
[null,null,null,null,null,null,null,null,null,null,null,"Atrasado",null,null,null,0,0,{"$f":"IF(Table26[[#This Row],[Status Medida]]=\"Finalizado\",IF(Table26[[#This Row],[Sim/Não]]=1,1,0),0)","v":0}]
[null,null,null,null,null,null,null,null,null,null,null,"Atrasado",null,null,null,0,0,{"$f":"IF(Table26[[#This Row],[Status Medida]]=\"Finalizado\",IF(Table26[[#This Row],[Sim/Não]]=1,1,0),0)","v":0}]
[null,null,null,null,null,null,null,null,null,null,null,"Atrasado",null,null,null,0,0,{"$f":"IF(Table26[[#This Row],[Status Medida]]=\"Finalizado\",IF(Table26[[#This Row],[Sim/Não]]=1,1,0),0)","v":0}]
[null,null,null,null,null,null,null,null,null,null,null,"Atrasado",null,null,null,0,0,{"$f":"IF(Table26[[#This Row],[Status Medida]]=\"Finalizado\",IF(Table26[[#This Row],[Sim/Não]]=1,1,0),0)","v":0}]
[null,null,null,null,null,null,null,null,null,null,null,"Atrasado",null,null,null,0,0,{"$f":"IF(Table26[[#This Row],[Status Medida]]=\"Finalizado\",IF(Table26[[#This Row],[Sim/Não]]=1,1,0),0)","v":0}]
[null,null,null,null,null,null,null,null,null,null,null,"Atrasado",null,null,null,0,0,{"$f":"IF(Table26[[#This Row],[Status Medida]]=\"Finalizado\",IF(Table26[[#This Row],[Sim/Não]]=1,1,0),0)","v":0}]
[null,null,null,null,null,null,null,null,null,null,null,"Atrasado",null,null,null,0,0,{"$f":"IF(Table26[[#This Row],[Status Medida]]=\"Finalizado\",IF(Table26[[#This Row],[Sim/Não]]=1,1,0),0)","v":0}]
[null,null,null,null,null,null,null,null,null,null,null,"Atrasado",null,null,null,0,0,{"$f":"IF(Table26[[#This Row],[Status Medida]]=\"Finalizado\",IF(Table26[[#This Row],[Sim/Não]]=1,1,0),0)","v":0}]
[null,null,null,null,null,null,null,null,null,null,null,"Atrasado",null,null,null,0,0,{"$f":"IF(Table26[[#This Row],[Status Medida]]=\"Finalizado\",IF(Table26[[#This Row],[Sim/Não]]=1,1,0),0)","v":0}]
[null,null,null,null,null,null,null,null,null,null,null,"Atrasado",null,null,null,0,0,{"$f":"IF(Table26[[#This Row],[Status Medida]]=\"Finalizado\",IF(Table26[[#This Row],[Sim/Não]]=1,1,0),0)","v":0}]
[null,null,null,null,null,null,null,null,null,null,null,"Atrasado",null,null,null,0,0,{"$f":"IF(Table26[[#This Row],[Status Medida]]=\"Finalizado\",IF(Table26[[#This Row],[Sim/Não]]=1,1,0),0)","v":0}]
[null,null,null,null,null,null,null,null,null,null,null,"Atrasado",null,null,null,0,0,{"$f":"IF(Table26[[#This Row],[Status Medida]]=\"Finalizado\",IF(Table26[[#This Row],[Sim/Não]]=1,1,0),0)","v":0}]
[null,null,null,null,null,null,null,null,null,null,null,"Atrasado",null,null,null,0,0,{"$f":"IF(Table26[[#This Row],[Status Medida]]=\"Finalizado\",IF(Table26[[#This Row],[Sim/Não]]=1,1,0),0)","v":0}]
[null,null,null,null,null,null,null,null,null,null,null,"Atrasado",null,null,null,0,0,{"$f":"IF(Table26[[#This Row],[Status Medida]]=\"Finalizado\",IF(Table26[[#This Row],[Sim/Não]]=1,1,0),0)","v":0}]
[null,null,null,null,null,null,null,null,null,null,null,"Atrasado",null,null,null,0,0,{"$f":"IF(Table26[[#This Row],[Status Medida]]=\"Finalizado\",IF(Table26[[#This Row],[Sim/Não]]=1,1,0),0)","v":0}]
[null,null,null,null,null,null,null,null,null,null,null,"Atrasado",null,null,null,0,0,{"$f":"IF(Table26[[#This Row],[Status Medida]]=\"Finalizado\",IF(Table26[[#This Row],[Sim/Não]]=1,1,0),0)","v":0}]
[null,null,null,null,null,null,null,null,null,null,null,"Atrasado",null,null,null,0,0,{"$f":"IF(Table26[[#This Row],[Status Medida]]=\"Finalizado\",IF(Table26[[#This Row],[Sim/Não]]=1,1,0),0)","v":0}]
[null,null,null,null,null,null,null,null,null,null,null,"Atrasado",null,null,null,0,0,{"$f":"IF(Table26[[#This Row],[Status Medida]]=\"Finalizado\",IF(Table26[[#This Row],[Sim/Não]]=1,1,0),0)","v":0}]
[null,null,null,null,null,null,null,null,null,null,null,"Atrasado",null,null,null,0,0,{"$f":"IF(Table26[[#This Row],[Status Medida]]=\"Finalizado\",IF(Table26[[#This Row],[Sim/Não]]=1,1,0),0)","v":0}]
[null,null,null,null,null,null,null,null,null,null,null,"Atrasado",null,null,null,0,0,{"$f":"IF(Table26[[#This Row],[Status Medida]]=\"Finalizado\",IF(Table26[[#This Row],[Sim/Não]]=1,1,0),0)","v":0}]
[null,null,null,null,null,null,null,null,null,null,null,"Atrasado",null,null,null,0,0,{"$f":"IF(Table26[[#This Row],[Status Medida]]=\"Finalizado\",IF(Table26[[#This Row],[Sim/Não]]=1,1,0),0)","v":0}]
[null,null,null,null,null,null,null,null,null,null,null,"Atrasado",null,null,null,0,0,{"$f":"IF(Table26[[#This Row],[Status Medida]]=\"Finalizado\",IF(Table26[[#This Row],[Sim/Não]]=1,1,0),0)","v":0}]
[null,null,null,null,null,null,null,null,null,null,null,"Atrasado",null,null,null,0,0,{"$f":"IF(Table26[[#This Row],[Status Medida]]=\"Finalizado\",IF(Table26[[#This Row],[Sim/Não]]=1,1,0),0)","v":0}]
[null,null,null,null,null,null,null,null,null,null,null,"Atrasado",null,null,null,0,0,{"$f":"IF(Table26[[#This Row],[Status Medida]]=\"Finalizado\",IF(Table26[[#This Row],[Sim/Não]]=1,1,0),0)","v":0}]
[null,null,null,null,null,null,null,null,null,null,null,"Atrasado",null,null,null,0,0,{"$f":"IF(Table26[[#This Row],[Status Medida]]=\"Finalizado\",IF(Table26[[#This Row],[Sim/Não]]=1,1,0),0)","v":0}]
[null,null,null,null,null,null,null,null,null,null,null,"Atrasado",null,null,null,0,0,{"$f":"IF(Table26[[#This Row],[Status Medida]]=\"Finalizado\",IF(Table26[[#This Row],[Sim/Não]]=1,1,0),0)","v":0}]
[null,null,null,null,null,null,null,null,null,null,null,"Atrasado",null,null,null,0,0,{"$f":"IF(Table26[[#This Row],[Status Medida]]=\"Finalizado\",IF(Table26[[#This Row],[Sim/Não]]=1,1,0),0)","v":0}]
[null,null,null,null,null,null,null,null,null,null,null,"Atrasado",null,null,null,0,0,{"$f":"IF(Table26[[#This Row],[Status Medida]]=\"Finalizado\",IF(Table26[[#This Row],[Sim/Não]]=1,1,0),0)","v":0}]
[null,null,null,null,null,null,null,null,null,null,null,"Atrasado",null,null,null,0,0,{"$f":"IF(Table26[[#This Row],[Status Medida]]=\"Finalizado\",IF(Table26[[#This Row],[Sim/Não]]=1,1,0),0)","v":0}]
[null,null,null,null,null,null,null,null,null,null,null,"Atrasado",null,null,null,0,0,{"$f":"IF(Table26[[#This Row],[Status Medida]]=\"Finalizado\",IF(Table26[[#This Row],[Sim/Não]]=1,1,0),0)","v":0}]
[null,null,null,null,null,null,null,null,null,null,null,"Atrasado",null,null,null,0,0,{"$f":"IF(Table26[[#This Row],[Status Medida]]=\"Finalizado\",IF(Table26[[#This Row],[Sim/Não]]=1,1,0),0)","v":0}]
[null,null,null,null,null,null,null,null,null,null,null,"Atrasado",null,null,null,0,0,{"$f":"IF(Table26[[#This Row],[Status Medida]]=\"Finalizado\",IF(Table26[[#This Row],[Sim/Não]]=1,1,0),0)","v":0}]
[null,null,null,null,null,null,null,null,null,null,null,"Atrasado",null,null,null,0,0,{"$f":"IF(Table26[[#This Row],[Status Medida]]=\"Finalizado\",IF(Table26[[#This Row],[Sim/Não]]=1,1,0),0)","v":0}]
[null,null,null,null,null,null,null,null,null,null,null,"Atrasado",null,null,null,0,0,{"$f":"IF(Table26[[#This Row],[Status Medida]]=\"Finalizado\",IF(Table26[[#This Row],[Sim/Não]]=1,1,0),0)","v":0}]
[null,null,null,null,null,null,null,null,null,null,null,"Atrasado",null,null,null,0,0,{"$f":"IF(Table26[[#This Row],[Status Medida]]=\"Finalizado\",IF(Table26[[#This Row],[Sim/Não]]=1,1,0),0)","v":0}]
[null,null,null,null,null,null,null,null,null,null,null,"Atrasado",null,null,null,0,0,{"$f":"IF(Table26[[#This Row],[Status Medida]]=\"Finalizado\",IF(Table26[[#This Row],[Sim/Não]]=1,1,0),0)","v":0}]
[null,null,null,null,null,null,null,null,null,null,null,"Atrasado",null,null,null,0,0,{"$f":"IF(Table26[[#This Row],[Status Medida]]=\"Finalizado\",IF(Table26[[#This Row],[Sim/Não]]=1,1,0),0)","v":0}]
[null,null,null,null,null,null,null,null,null,null,null,"Atrasado",null,null,null,0,0,{"$f":"IF(Table26[[#This Row],[Status Medida]]=\"Finalizado\",IF(Table26[[#This Row],[Sim/Não]]=1,1,0),0)","v":0}]
[null,null,null,null,null,null,null,null,null,null,null,"Atrasado",null,null,null,0,0,{"$f":"IF(Table26[[#This Row],[Status Medida]]=\"Finalizado\",IF(Table26[[#This Row],[Sim/Não]]=1,1,0),0)","v":0}]
[null,null,null,null,null,null,null,null,null,null,null,"Atrasado",null,null,null,0,0,{"$f":"IF(Table26[[#This Row],[Status Medida]]=\"Finalizado\",IF(Table26[[#This Row],[Sim/Não]]=1,1,0),0)","v":0}]
[null,null,null,null,null,null,null,null,null,null,null,"Atrasado",null,null,null,0,0,{"$f":"IF(Table26[[#This Row],[Status Medida]]=\"Finalizado\",IF(Table26[[#This Row],[Sim/Não]]=1,1,0),0)","v":0}]
[null,null,null,null,null,null,null,null,null,null,null,"Atrasado",null,null,null,0,0,{"$f":"IF(Table26[[#This Row],[Status Medida]]=\"Finalizado\",IF(Table26[[#This Row],[Sim/Não]]=1,1,0),0)","v":0}]
[null,null,null,null,null,null,null,null,null,null,null,"Atrasado",null,null,null,0,0,{"$f":"IF(Table26[[#This Row],[Status Medida]]=\"Finalizado\",IF(Table26[[#This Row],[Sim/Não]]=1,1,0),0)","v":0}]
[null,null,null,null,null,null,null,null,null,null,null,"Atrasado",null,null,null,0,0,{"$f":"IF(Table26[[#This Row],[Status Medida]]=\"Finalizado\",IF(Table26[[#This Row],[Sim/Não]]=1,1,0),0)","v":0}]
[null,null,null,null,null,null,null,null,null,null,null,"Atrasado",null,null,null,0,0,{"$f":"IF(Table26[[#This Row],[Status Medida]]=\"Finalizado\",IF(Table26[[#This Row],[Sim/Não]]=1,1,0),0)","v":0}]
[null,null,null,null,null,null,null,null,null,null,null,"Atrasado",null,null,null,0,0,{"$f":"IF(Table26[[#This Row],[Status Medida]]=\"Finalizado\",IF(Table26[[#This Row],[Sim/Não]]=1,1,0),0)","v":0}]
[null,null,null,null,null,null,null,null,null,null,null,"Atrasado",null,null,null,0,0,{"$f":"IF(Table26[[#This Row],[Status Medida]]=\"Finalizado\",IF(Table26[[#This Row],[Sim/Não]]=1,1,0),0)","v":0}]
[null,null,null,null,null,null,null,null,null,null,null,"Atrasado",null,null,null,0,0,{"$f":"IF(Table26[[#This Row],[Status Medida]]=\"Finalizado\",IF(Table26[[#This Row],[Sim/Não]]=1,1,0),0)","v":0}]
[null,null,null,null,null,null,null,null,null,null,null,"Atrasado",null,null,null,0,0,{"$f":"IF(Table26[[#This Row],[Status Medida]]=\"Finalizado\",IF(Table26[[#This Row],[Sim/Não]]=1,1,0),0)","v":0}]
[null,null,null,null,null,null,null,null,null,null,null,"Atrasado",null,null,null,0,0,{"$f":"IF(Table26[[#This Row],[Status Medida]]=\"Finalizado\",IF(Table26[[#This Row],[Sim/Não]]=1,1,0),0)","v":0}]
[null,null,null,null,null,null,null,null,null,null,null,"Atrasado",null,null,null,0,0,{"$f":"IF(Table26[[#This Row],[Status Medida]]=\"Finalizado\",IF(Table26[[#This Row],[Sim/Não]]=1,1,0),0)","v":0}]
[null,null,null,null,null,null,null,null,null,null,null,"Atrasado",null,null,null,0,0,{"$f":"IF(Table26[[#This Row],[Status Medida]]=\"Finalizado\",IF(Table26[[#This Row],[Sim/Não]]=1,1,0),0)","v":0}]
[null,null,null,null,null,null,null,null,null,null,null,"Atrasado",null,null,null,0,0,{"$f":"IF(Table26[[#This Row],[Status Medida]]=\"Finalizado\",IF(Table26[[#This Row],[Sim/Não]]=1,1,0),0)","v":0}]
[null,null,null,null,null,null,null,null,null,null,null,"Atrasado",null,null,null,0,0,{"$f":"IF(Table26[[#This Row],[Status Medida]]=\"Finalizado\",IF(Table26[[#This Row],[Sim/Não]]=1,1,0),0)","v":0}]
[null,null,null,null,null,null,null,null,null,null,null,"Atrasado",null,null,null,0,0,{"$f":"IF(Table26[[#This Row],[Status Medida]]=\"Finalizado\",IF(Table26[[#This Row],[Sim/Não]]=1,1,0),0)","v":0}]
[null,null,null,null,null,null,null,null,null,null,null,"Atrasado",null,null,null,0,0,{"$f":"IF(Table26[[#This Row],[Status Medida]]=\"Finalizado\",IF(Table26[[#This Row],[Sim/Não]]=1,1,0),0)","v":0}]
[null,null,null,null,null,null,null,null,null,null,null,"Atrasado",null,null,null,0,{"$f":"IF(N9725=E9725,0,1)","v":0},{"$f":"IF(Table26[[#This Row],[Status Medida]]=\"Finalizado\",IF(Table26[[#This Row],[Sim/Não]]=1,1,0),0)","v":0}]
[null,null,null,null,null,null,null,null,null,null,null,"Atrasado",null,null,null,0,0,{"$f":"IF(Table26[[#This Row],[Status Medida]]=\"Finalizado\",IF(Table26[[#This Row],[Sim/Não]]=1,1,0),0)","v":0}]
[null,null,null,null,null,null,null,null,null,null,null,"Atrasado",null,null,null,0,0,{"$f":"IF(Table26[[#This Row],[Status Medida]]=\"Finalizado\",IF(Table26[[#This Row],[Sim/Não]]=1,1,0),0)","v":0}]
[null,null,null,null,null,null,null,null,null,null,null,"Atrasado",null,null,null,0,0,{"$f":"IF(Table26[[#This Row],[Status Medida]]=\"Finalizado\",IF(Table26[[#This Row],[Sim/Não]]=1,1,0),0)","v":0}]
[null,null,null,null,null,null,null,null,null,null,null,"Atrasado",null,null,null,0,0,{"$f":"IF(Table26[[#This Row],[Status Medida]]=\"Finalizado\",IF(Table26[[#This Row],[Sim/Não]]=1,1,0),0)","v":0}]
[null,null,null,null,null,null,null,null,null,null,null,"Atrasado",null,null,null,0,0,{"$f":"IF(Table26[[#This Row],[Status Medida]]=\"Finalizado\",IF(Table26[[#This Row],[Sim/Não]]=1,1,0),0)","v":0}]
[null,null,null,null,null,null,null,null,null,null,null,"Atrasado",null,null,null,0,0,{"$f":"IF(Table26[[#This Row],[Status Medida]]=\"Finalizado\",IF(Table26[[#This Row],[Sim/Não]]=1,1,0),0)","v":0}]
[null,null,null,null,null,null,null,null,null,null,null,"Atrasado",null,null,null,0,0,{"$f":"IF(Table26[[#This Row],[Status Medida]]=\"Finalizado\",IF(Table26[[#This Row],[Sim/Não]]=1,1,0),0)","v":0}]
[null,null,null,null,null,null,null,null,null,null,null,"Atrasado",null,null,null,0,0,{"$f":"IF(Table26[[#This Row],[Status Medida]]=\"Finalizado\",IF(Table26[[#This Row],[Sim/Não]]=1,1,0),0)","v":0}]
[null,null,null,null,null,null,null,null,null,null,null,"Atrasado",null,null,null,0,0,{"$f":"IF(Table26[[#This Row],[Status Medida]]=\"Finalizado\",IF(Table26[[#This Row],[Sim/Não]]=1,1,0),0)","v":0}]
[null,null,null,null,null,null,null,null,null,null,null,"Atrasado",null,null,null,0,0,{"$f":"IF(Table26[[#This Row],[Status Medida]]=\"Finalizado\",IF(Table26[[#This Row],[Sim/Não]]=1,1,0),0)","v":0}]
[null,null,null,null,null,null,null,null,null,null,null,"Atrasado",null,null,null,0,0,{"$f":"IF(Table26[[#This Row],[Status Medida]]=\"Finalizado\",IF(Table26[[#This Row],[Sim/Não]]=1,1,0),0)","v":0}]
[null,null,null,null,null,null,null,null,null,null,null,"Atrasado",null,null,null,0,0,{"$f":"IF(Table26[[#This Row],[Status Medida]]=\"Finalizado\",IF(Table26[[#This Row],[Sim/Não]]=1,1,0),0)","v":0}]
[null,null,null,null,null,null,null,null,null,null,null,"Atrasado",null,null,null,0,0,{"$f":"IF(Table26[[#This Row],[Status Medida]]=\"Finalizado\",IF(Table26[[#This Row],[Sim/Não]]=1,1,0),0)","v":0}]
[null,null,null,null,null,null,null,null,null,null,null,"Atrasado",null,null,null,0,{"$f":"IF(N9789=E9789,0,1)","v":0},{"$f":"IF(Table26[[#This Row],[Status Medida]]=\"Finalizado\",IF(Table26[[#This Row],[Sim/Não]]=1,1,0),0)","v":0}]
[null,null,null,null,null,null,null,null,null,null,null,"Atrasado",null,null,null,0,0,{"$f":"IF(Table26[[#This Row],[Status Medida]]=\"Finalizado\",IF(Table26[[#This Row],[Sim/Não]]=1,1,0),0)","v":0}]
[null,null,null,null,null,null,null,null,null,null,null,"Atrasado",null,null,null,0,0,{"$f":"IF(Table26[[#This Row],[Status Medida]]=\"Finalizado\",IF(Table26[[#This Row],[Sim/Não]]=1,1,0),0)","v":0}]
[null,null,null,null,null,null,null,null,null,null,null,"Atrasado",null,null,null,0,0,{"$f":"IF(Table26[[#This Row],[Status Medida]]=\"Finalizado\",IF(Table26[[#This Row],[Sim/Não]]=1,1,0),0)","v":0}]
[null,null,null,null,null,null,null,null,null,null,null,"Atrasado",null,null,null,0,0,{"$f":"IF(Table26[[#This Row],[Status Medida]]=\"Finalizado\",IF(Table26[[#This Row],[Sim/Não]]=1,1,0),0)","v":0}]
[null,null,null,null,null,null,null,null,null,null,null,"Atrasado",null,null,null,0,0,{"$f":"IF(Table26[[#This Row],[Status Medida]]=\"Finalizado\",IF(Table26[[#This Row],[Sim/Não]]=1,1,0),0)","v":0}]
[null,null,null,null,null,null,null,null,null,null,null,"Atrasado",null,null,null,0,0,{"$f":"IF(Table26[[#This Row],[Status Medida]]=\"Finalizado\",IF(Table26[[#This Row],[Sim/Não]]=1,1,0),0)","v":0}]
[null,null,null,null,null,null,null,null,null,null,null,"Atrasado",null,null,null,0,0,{"$f":"IF(Table26[[#This Row],[Status Medida]]=\"Finalizado\",IF(Table26[[#This Row],[Sim/Não]]=1,1,0),0)","v":0}]
[null,null,null,null,null,null,null,null,null,null,null,"Atrasado",null,null,null,0,0,{"$f":"IF(Table26[[#This Row],[Status Medida]]=\"Finalizado\",IF(Table26[[#This Row],[Sim/Não]]=1,1,0),0)","v":0}]
[null,null,null,null,null,null,null,null,null,null,null,"Atrasado",null,null,null,0,0,{"$f":"IF(Table26[[#This Row],[Status Medida]]=\"Finalizado\",IF(Table26[[#This Row],[Sim/Não]]=1,1,0),0)","v":0}]
[null,null,null,null,null,null,null,null,null,null,null,"Atrasado",null,null,null,0,0,{"$f":"IF(Table26[[#This Row],[Status Medida]]=\"Finalizado\",IF(Table26[[#This Row],[Sim/Não]]=1,1,0),0)","v":0}]
[null,null,null,null,null,null,null,null,null,null,null,"Atrasado",null,null,null,0,0,{"$f":"IF(Table26[[#This Row],[Status Medida]]=\"Finalizado\",IF(Table26[[#This Row],[Sim/Não]]=1,1,0),0)","v":0}]
[null,null,null,null,null,null,null,null,null,null,null,"Atrasado",null,null,null,0,0,{"$f":"IF(Table26[[#This Row],[Status Medida]]=\"Finalizado\",IF(Table26[[#This Row],[Sim/Não]]=1,1,0),0)","v":0}]
[null,null,null,null,null,null,null,null,null,null,null,"Atrasado",null,null,null,0,0,{"$f":"IF(Table26[[#This Row],[Status Medida]]=\"Finalizado\",IF(Table26[[#This Row],[Sim/Não]]=1,1,0),0)","v":0}]
[null,null,null,null,null,null,null,null,null,null,null,"Atrasado",null,null,null,0,0,{"$f":"IF(Table26[[#This Row],[Status Medida]]=\"Finalizado\",IF(Table26[[#This Row],[Sim/Não]]=1,1,0),0)","v":0}]
[null,null,null,null,null,null,null,null,null,null,null,"Atrasado",null,null,null,0,0,{"$f":"IF(Table26[[#This Row],[Status Medida]]=\"Finalizado\",IF(Table26[[#This Row],[Sim/Não]]=1,1,0),0)","v":0}]
[null,null,null,null,null,null,null,null,null,null,null,"Atrasado",null,null,null,0,0,{"$f":"IF(Table26[[#This Row],[Status Medida]]=\"Finalizado\",IF(Table26[[#This Row],[Sim/Não]]=1,1,0),0)","v":0}]
[null,null,null,null,null,null,null,null,null,null,null,"Atrasado",null,null,null,0,0,{"$f":"IF(Table26[[#This Row],[Status Medida]]=\"Finalizado\",IF(Table26[[#This Row],[Sim/Não]]=1,1,0),0)","v":0}]
[null,null,null,null,null,null,null,null,null,null,null,"Atrasado",null,null,null,0,0,{"$f":"IF(Table26[[#This Row],[Status Medida]]=\"Finalizado\",IF(Table26[[#This Row],[Sim/Não]]=1,1,0),0)","v":0}]
[null,null,null,null,null,null,null,null,null,null,null,"Atrasado",null,null,null,0,0,{"$f":"IF(Table26[[#This Row],[Status Medida]]=\"Finalizado\",IF(Table26[[#This Row],[Sim/Não]]=1,1,0),0)","v":0}]
[null,null,null,null,null,null,null,null,null,null,null,"Atrasado",null,null,null,0,0,{"$f":"IF(Table26[[#This Row],[Status Medida]]=\"Finalizado\",IF(Table26[[#This Row],[Sim/Não]]=1,1,0),0)","v":0}]
[null,null,null,null,null,null,null,null,null,null,null,{"$f":"IF(J9880>K9880,\"Datas inválidas\",IF(M9880=\"Finalizado\",\"Concluído\",IF(J9880>TODAY(),\"Não iniciado\",_xlfn.IFS(J9880=TODAY(),\"Em andamento\",TODAY()>K9880,\"Atrasado\",AND(TODAY()>J9880,TODAY()<=K9880),\"Em andamento\"))))","v":"Atrasado"},null,null,null,{"$f":"IF(O9880=\"Sim\",1,0)","v":0},0,{"$f":"IF(Table26[[#This Row],[Status Medida]]=\"Finalizado\",IF(Table26[[#This Row],[Sim/Não]]=1,1,0),0)","v":0}]
[null,null,null,null,null,null,null,null,null,null,null,"Atrasado",null,null,null,0,0,{"$f":"IF(Table26[[#This Row],[Status Medida]]=\"Finalizado\",IF(Table26[[#This Row],[Sim/Não]]=1,1,0),0)","v":0}]
[null,null,null,null,null,null,null,null,null,null,null,"Atrasado",null,null,null,0,0,{"$f":"IF(Table26[[#This Row],[Status Medida]]=\"Finalizado\",IF(Table26[[#This Row],[Sim/Não]]=1,1,0),0)","v":0}]
[null,null,null,null,null,null,null,null,null,null,null,"Atrasado",null,null,null,0,0,{"$f":"IF(Table26[[#This Row],[Status Medida]]=\"Finalizado\",IF(Table26[[#This Row],[Sim/Não]]=1,1,0),0)","v":0}]
[null,null,null,null,null,null,null,null,null,null,null,"Atrasado",null,null,null,0,0,{"$f":"IF(Table26[[#This Row],[Status Medida]]=\"Finalizado\",IF(Table26[[#This Row],[Sim/Não]]=1,1,0),0)","v":0}]
[null,null,null,null,null,null,null,null,null,null,null,"Atrasado",null,null,null,0,0,{"$f":"IF(Table26[[#This Row],[Status Medida]]=\"Finalizado\",IF(Table26[[#This Row],[Sim/Não]]=1,1,0),0)","v":0}]
[null,null,null,null,null,null,null,null,null,null,null,"Atrasado",null,null,null,0,0,{"$f":"IF(Table26[[#This Row],[Status Medida]]=\"Finalizado\",IF(Table26[[#This Row],[Sim/Não]]=1,1,0),0)","v":0}]
[null,null,null,null,null,null,null,null,null,null,null,"Atrasado",null,null,null,0,0,{"$f":"IF(Table26[[#This Row],[Status Medida]]=\"Finalizado\",IF(Table26[[#This Row],[Sim/Não]]=1,1,0),0)","v":0}]
[null,null,null,null,null,null,null,null,null,null,null,"Atrasado",null,null,null,0,0,{"$f":"IF(Table26[[#This Row],[Status Medida]]=\"Finalizado\",IF(Table26[[#This Row],[Sim/Não]]=1,1,0),0)","v":0}]
[null,null,null,null,null,null,null,null,null,null,null,"Atrasado",null,null,null,0,0,{"$f":"IF(Table26[[#This Row],[Status Medida]]=\"Finalizado\",IF(Table26[[#This Row],[Sim/Não]]=1,1,0),0)","v":0}]
[null,null,null,null,null,null,null,null,null,null,null,"Atrasado",null,null,null,0,0,{"$f":"IF(Table26[[#This Row],[Status Medida]]=\"Finalizado\",IF(Table26[[#This Row],[Sim/Não]]=1,1,0),0)","v":0}]
[null,null,null,null,null,null,null,null,null,null,null,"Atrasado",null,null,null,0,0,{"$f":"IF(Table26[[#This Row],[Status Medida]]=\"Finalizado\",IF(Table26[[#This Row],[Sim/Não]]=1,1,0),0)","v":0}]
[null,null,null,null,null,null,null,null,null,null,null,"Atrasado",null,null,null,0,0,{"$f":"IF(Table26[[#This Row],[Status Medida]]=\"Finalizado\",IF(Table26[[#This Row],[Sim/Não]]=1,1,0),0)","v":0}]
[null,null,null,null,null,null,null,null,null,null,null,"Atrasado",null,null,null,0,0,{"$f":"IF(Table26[[#This Row],[Status Medida]]=\"Finalizado\",IF(Table26[[#This Row],[Sim/Não]]=1,1,0),0)","v":0}]
[null,null,null,null,null,null,null,null,null,null,null,{"$f":"IF(J9944>K9944,\"Datas inválidas\",IF(M9944=\"Finalizado\",\"Concluído\",IF(J9944>TODAY(),\"Não iniciado\",_xlfn.IFS(J9944=TODAY(),\"Em andamento\",TODAY()>K9944,\"Atrasado\",AND(TODAY()>J9944,TODAY()<=K9944),\"Em andamento\"))))","v":"Atrasado"},null,null,null,{"$f":"IF(O9944=\"Sim\",1,0)","v":0},0,{"$f":"IF(Table26[[#This Row],[Status Medida]]=\"Finalizado\",IF(Table26[[#This Row],[Sim/Não]]=1,1,0),0)","v":0}]
[null,null,null,null,null,null,null,null,null,null,null,"Atrasado",null,null,null,0,0,{"$f":"IF(Table26[[#This Row],[Status Medida]]=\"Finalizado\",IF(Table26[[#This Row],[Sim/Não]]=1,1,0),0)","v":0}]
[null,null,null,null,null,null,null,null,null,null,null,"Atrasado",null,null,null,0,0,{"$f":"IF(Table26[[#This Row],[Status Medida]]=\"Finalizado\",IF(Table26[[#This Row],[Sim/Não]]=1,1,0),0)","v":0}]
[null,null,null,null,null,null,null,null,null,null,null,"Atrasado",null,null,null,0,0,{"$f":"IF(Table26[[#This Row],[Status Medida]]=\"Finalizado\",IF(Table26[[#This Row],[Sim/Não]]=1,1,0),0)","v":0}]
[null,null,null,null,null,null,null,null,null,null,null,"Atrasado",null,null,null,0,0,{"$f":"IF(Table26[[#This Row],[Status Medida]]=\"Finalizado\",IF(Table26[[#This Row],[Sim/Não]]=1,1,0),0)","v":0}]
[null,null,null,null,null,null,null,null,null,null,null,"Atrasado",null,null,null,0,0,{"$f":"IF(Table26[[#This Row],[Status Medida]]=\"Finalizado\",IF(Table26[[#This Row],[Sim/Não]]=1,1,0),0)","v":0}]
[null,null,null,null,null,null,null,null,null,null,null,"Atrasado",null,null,null,0,0,{"$f":"IF(Table26[[#This Row],[Status Medida]]=\"Finalizado\",IF(Table26[[#This Row],[Sim/Não]]=1,1,0),0)","v":0}]
[null,null,null,null,null,null,null,null,null,null,null,"Atrasado",null,null,null,0,0,{"$f":"IF(Table26[[#This Row],[Status Medida]]=\"Finalizado\",IF(Table26[[#This Row],[Sim/Não]]=1,1,0),0)","v":0}]
[null,null,null,null,null,null,null,null,null,null,null,"Atrasado",null,null,null,0,0,{"$f":"IF(Table26[[#This Row],[Status Medida]]=\"Finalizado\",IF(Table26[[#This Row],[Sim/Não]]=1,1,0),0)","v":0}]
[null,null,null,null,null,null,null,null,null,null,null,"Atrasado",null,null,null,0,0,{"$f":"IF(Table26[[#This Row],[Status Medida]]=\"Finalizado\",IF(Table26[[#This Row],[Sim/Não]]=1,1,0),0)","v":0}]
[null,null,null,null,null,null,null,null,null,null,null,"Atrasado",null,null,null,0,0,{"$f":"IF(Table26[[#This Row],[Status Medida]]=\"Finalizado\",IF(Table26[[#This Row],[Sim/Não]]=1,1,0),0)","v":0}]
[null,null,null,null,null,null,null,null,null,null,null,"Atrasado",null,null,null,0,0,{"$f":"IF(Table26[[#This Row],[Status Medida]]=\"Finalizado\",IF(Table26[[#This Row],[Sim/Não]]=1,1,0),0)","v":0}]
[null,null,null,null,null,null,null,null,null,null,null,"Atrasado",null,null,null,0,0,{"$f":"IF(Table26[[#This Row],[Status Medida]]=\"Finalizado\",IF(Table26[[#This Row],[Sim/Não]]=1,1,0),0)","v":0}]
[null,null,null,null,null,null,null,null,null,null,null,"Atrasado",null,null,null,0,0,{"$f":"IF(Table26[[#This Row],[Status Medida]]=\"Finalizado\",IF(Table26[[#This Row],[Sim/Não]]=1,1,0),0)","v":0}]
[null,null,null,null,null,null,null,null,null,null,null,"Atrasado",null,null,null,0,0,{"$f":"IF(Table26[[#This Row],[Status Medida]]=\"Finalizado\",IF(Table26[[#This Row],[Sim/Não]]=1,1,0),0)","v":0}]
[null,null,null,null,null,null,null,null,null,null,null,"Atrasado",null,null,null,0,0,{"$f":"IF(Table26[[#This Row],[Status Medida]]=\"Finalizado\",IF(Table26[[#This Row],[Sim/Não]]=1,1,0),0)","v":0}]
[null,null,null,null,null,null,null,null,null,null,null,"Atrasado",null,null,null,0,0,{"$f":"IF(Table26[[#This Row],[Status Medida]]=\"Finalizado\",IF(Table26[[#This Row],[Sim/Não]]=1,1,0),0)","v":0}]
[null,null,null,null,null,null,null,null,null,null,null,"Atrasado",null,null,null,0,0,{"$f":"IF(Table26[[#This Row],[Status Medida]]=\"Finalizado\",IF(Table26[[#This Row],[Sim/Não]]=1,1,0),0)","v":0}]
[null,null,null,null,null,null,null,null,null,null,null,"Atrasado",null,null,null,0,0,{"$f":"IF(Table26[[#This Row],[Status Medida]]=\"Finalizado\",IF(Table26[[#This Row],[Sim/Não]]=1,1,0),0)","v":0}]
[null,null,null,null,null,null,null,null,null,null,null,"Atrasado",null,null,null,0,0,{"$f":"IF(Table26[[#This Row],[Status Medida]]=\"Finalizado\",IF(Table26[[#This Row],[Sim/Não]]=1,1,0),0)","v":0}]
[null,null,null,null,null,null,null,null,null,null,null,"Atrasado",null,null,null,0,0,{"$f":"IF(Table26[[#This Row],[Status Medida]]=\"Finalizado\",IF(Table26[[#This Row],[Sim/Não]]=1,1,0),0)","v":0}]
[null,null,null,null,null,null,null,null,null,null,null,"Atrasado",null,null,null,0,0,{"$f":"IF(Table26[[#This Row],[Status Medida]]=\"Finalizado\",IF(Table26[[#This Row],[Sim/Não]]=1,1,0),0)","v":0}]
[null,null,null,null,null,null,null,null,null,null,null,"Atrasado",null,null,null,0,0,{"$f":"IF(Table26[[#This Row],[Status Medida]]=\"Finalizado\",IF(Table26[[#This Row],[Sim/Não]]=1,1,0),0)","v":0}]
[null,null,null,null,null,null,null,null,null,null,null,"Atrasado",null,null,null,0,0,{"$f":"IF(Table26[[#This Row],[Status Medida]]=\"Finalizado\",IF(Table26[[#This Row],[Sim/Não]]=1,1,0),0)","v":0}]
[null,null,null,null,null,null,null,null,null,null,null,"Atrasado",null,null,null,0,0,{"$f":"IF(Table26[[#This Row],[Status Medida]]=\"Finalizado\",IF(Table26[[#This Row],[Sim/Não]]=1,1,0),0)","v":0}]
[null,null,null,null,null,null,null,null,null,null,null,"Atrasado",null,null,null,0,0,{"$f":"IF(Table26[[#This Row],[Status Medida]]=\"Finalizado\",IF(Table26[[#This Row],[Sim/Não]]=1,1,0),0)","v":0}]
[null,null,null,null,null,null,null,null,null,null,null,"Atrasado",null,null,null,0,0,{"$f":"IF(Table26[[#This Row],[Status Medida]]=\"Finalizado\",IF(Table26[[#This Row],[Sim/Não]]=1,1,0),0)","v":0}]
[null,null,null,null,null,null,null,null,null,null,null,"Atrasado",null,null,null,0,0,{"$f":"IF(Table26[[#This Row],[Status Medida]]=\"Finalizado\",IF(Table26[[#This Row],[Sim/Não]]=1,1,0),0)","v":0}]
[null,null,null,null,null,null,null,null,null,null,null,"Atrasado",null,null,null,0,0,{"$f":"IF(Table26[[#This Row],[Status Medida]]=\"Finalizado\",IF(Table26[[#This Row],[Sim/Não]]=1,1,0),0)","v":0}]
[null,null,null,null,null,null,null,null,null,null,null,"Atrasado",null,null,null,0,0,{"$f":"IF(Table26[[#This Row],[Status Medida]]=\"Finalizado\",IF(Table26[[#This Row],[Sim/Não]]=1,1,0),0)","v":0}]
[null,null,null,null,null,null,null,null,null,null,null,"Atrasado",null,null,null,0,0,{"$f":"IF(Table26[[#This Row],[Status Medida]]=\"Finalizado\",IF(Table26[[#This Row],[Sim/Não]]=1,1,0),0)","v":0}]
[null,null,null,null,null,null,null,null,null,null,null,"Atrasado",null,null,null,0,0,{"$f":"IF(Table26[[#This Row],[Status Medida]]=\"Finalizado\",IF(Table26[[#This Row],[Sim/Não]]=1,1,0),0)","v":0}]
[null,null,null,null,null,null,null,null,null,null,null,"Atrasado",null,null,null,0,0,{"$f":"IF(Table26[[#This Row],[Status Medida]]=\"Finalizado\",IF(Table26[[#This Row],[Sim/Não]]=1,1,0),0)","v":0}]
[null,null,null,null,null,null,null,null,null,null,null,"Atrasado",null,null,null,0,0,{"$f":"IF(Table26[[#This Row],[Status Medida]]=\"Finalizado\",IF(Table26[[#This Row],[Sim/Não]]=1,1,0),0)","v":0}]
[null,null,null,null,null,null,null,null,null,null,null,"Atrasado",null,null,null,0,0,{"$f":"IF(Table26[[#This Row],[Status Medida]]=\"Finalizado\",IF(Table26[[#This Row],[Sim/Não]]=1,1,0),0)","v":0}]
[null,null,null,null,null,null,null,null,null,null,null,"Atrasado",null,null,null,0,0,{"$f":"IF(Table26[[#This Row],[Status Medida]]=\"Finalizado\",IF(Table26[[#This Row],[Sim/Não]]=1,1,0),0)","v":0}]
[null,null,null,null,null,null,null,null,null,null,null,"Atrasado",null,null,null,0,0,{"$f":"IF(Table26[[#This Row],[Status Medida]]=\"Finalizado\",IF(Table26[[#This Row],[Sim/Não]]=1,1,0),0)","v":0}]
[null,null,null,null,null,null,null,null,null,null,null,"Atrasado",null,null,null,0,0,{"$f":"IF(Table26[[#This Row],[Status Medida]]=\"Finalizado\",IF(Table26[[#This Row],[Sim/Não]]=1,1,0),0)","v":0}]
[null,null,null,null,null,null,null,null,null,null,null,"Atrasado",null,null,null,0,0,{"$f":"IF(Table26[[#This Row],[Status Medida]]=\"Finalizado\",IF(Table26[[#This Row],[Sim/Não]]=1,1,0),0)","v":0}]
[null,null,null,null,null,null,null,null,null,null,null,"Atrasado",null,null,null,0,0,{"$f":"IF(Table26[[#This Row],[Status Medida]]=\"Finalizado\",IF(Table26[[#This Row],[Sim/Não]]=1,1,0),0)","v":0}]
[null,null,null,null,null,null,null,null,null,null,null,"Atrasado",null,null,null,0,0,{"$f":"IF(Table26[[#This Row],[Status Medida]]=\"Finalizado\",IF(Table26[[#This Row],[Sim/Não]]=1,1,0),0)","v":0}]
[null,null,null,null,null,null,null,null,null,null,null,"Atrasado",null,null,null,0,0,{"$f":"IF(Table26[[#This Row],[Status Medida]]=\"Finalizado\",IF(Table26[[#This Row],[Sim/Não]]=1,1,0),0)","v":0}]
[null,null,null,null,null,null,null,null,null,null,null,"Atrasado",null,null,null,0,0,{"$f":"IF(Table26[[#This Row],[Status Medida]]=\"Finalizado\",IF(Table26[[#This Row],[Sim/Não]]=1,1,0),0)","v":0}]
[null,null,null,null,null,null,null,null,null,null,null,"Atrasado",null,null,null,0,0,{"$f":"IF(Table26[[#This Row],[Status Medida]]=\"Finalizado\",IF(Table26[[#This Row],[Sim/Não]]=1,1,0),0)","v":0}]
[null,null,null,null,null,null,null,null,null,null,null,"Atrasado",null,null,null,0,0,{"$f":"IF(Table26[[#This Row],[Status Medida]]=\"Finalizado\",IF(Table26[[#This Row],[Sim/Não]]=1,1,0),0)","v":0}]
[null,null,null,null,null,null,null,null,null,null,null,"Atrasado",null,null,null,0,0,{"$f":"IF(Table26[[#This Row],[Status Medida]]=\"Finalizado\",IF(Table26[[#This Row],[Sim/Não]]=1,1,0),0)","v":0}]
[null,null,null,null,null,null,null,null,null,null,null,"Atrasado",null,null,null,0,0,{"$f":"IF(Table26[[#This Row],[Status Medida]]=\"Finalizado\",IF(Table26[[#This Row],[Sim/Não]]=1,1,0),0)","v":0}]
[null,null,null,null,null,null,null,null,null,null,null,"Atrasado",null,null,null,0,0,{"$f":"IF(Table26[[#This Row],[Status Medida]]=\"Finalizado\",IF(Table26[[#This Row],[Sim/Não]]=1,1,0),0)","v":0}]
[null,null,null,null,null,null,null,null,null,null,null,"Atrasado",null,null,null,0,0,{"$f":"IF(Table26[[#This Row],[Status Medida]]=\"Finalizado\",IF(Table26[[#This Row],[Sim/Não]]=1,1,0),0)","v":0}]
[null,null,null,null,null,null,null,null,null,null,null,"Atrasado",null,null,null,0,0,{"$f":"IF(Table26[[#This Row],[Status Medida]]=\"Finalizado\",IF(Table26[[#This Row],[Sim/Não]]=1,1,0),0)","v":0}]
[null,null,null,null,null,null,null,null,null,null,null,"Atrasado",null,null,null,0,0,{"$f":"IF(Table26[[#This Row],[Status Medida]]=\"Finalizado\",IF(Table26[[#This Row],[Sim/Não]]=1,1,0),0)","v":0}]
[null,null,null,null,null,null,null,null,null,null,null,"Atrasado",null,null,null,0,0,{"$f":"IF(Table26[[#This Row],[Status Medida]]=\"Finalizado\",IF(Table26[[#This Row],[Sim/Não]]=1,1,0),0)","v":0}]
[null,null,null,null,null,null,null,null,null,null,null,"Atrasado",null,null,null,0,0,{"$f":"IF(Table26[[#This Row],[Status Medida]]=\"Finalizado\",IF(Table26[[#This Row],[Sim/Não]]=1,1,0),0)","v":0}]
[null,null,null,null,null,null,null,null,null,null,null,"Atrasado",null,null,null,0,0,{"$f":"IF(Table26[[#This Row],[Status Medida]]=\"Finalizado\",IF(Table26[[#This Row],[Sim/Não]]=1,1,0),0)","v":0}]
[null,null,null,null,null,null,null,null,null,null,null,"Atrasado",null,null,null,0,0,{"$f":"IF(Table26[[#This Row],[Status Medida]]=\"Finalizado\",IF(Table26[[#This Row],[Sim/Não]]=1,1,0),0)","v":0}]
[null,null,null,null,null,null,null,null,null,null,null,"Atrasado",null,null,null,0,0,{"$f":"IF(Table26[[#This Row],[Status Medida]]=\"Finalizado\",IF(Table26[[#This Row],[Sim/Não]]=1,1,0),0)","v":0}]
[null,null,null,null,null,null,null,null,null,null,null,"Atrasado",null,null,null,0,0,{"$f":"IF(Table26[[#This Row],[Status Medida]]=\"Finalizado\",IF(Table26[[#This Row],[Sim/Não]]=1,1,0),0)","v":0}]
[null,null,null,null,null,null,null,null,null,null,null,"Atrasado",null,null,null,0,0,{"$f":"IF(Table26[[#This Row],[Status Medida]]=\"Finalizado\",IF(Table26[[#This Row],[Sim/Não]]=1,1,0),0)","v":0}]
[null,null,null,null,null,null,null,null,null,null,null,"Atrasado",null,null,null,0,0,{"$f":"IF(Table26[[#This Row],[Status Medida]]=\"Finalizado\",IF(Table26[[#This Row],[Sim/Não]]=1,1,0),0)","v":0}]
[null,null,null,null,null,null,null,null,null,null,null,"Atrasado",null,null,null,0,0,{"$f":"IF(Table26[[#This Row],[Status Medida]]=\"Finalizado\",IF(Table26[[#This Row],[Sim/Não]]=1,1,0),0)","v":0}]
[null,null,null,null,null,null,null,null,null,null,null,"Atrasado",null,null,null,0,0,{"$f":"IF(Table26[[#This Row],[Status Medida]]=\"Finalizado\",IF(Table26[[#This Row],[Sim/Não]]=1,1,0),0)","v":0}]
[null,null,null,null,null,null,null,null,null,null,null,"Atrasado",null,null,null,0,0,{"$f":"IF(Table26[[#This Row],[Status Medida]]=\"Finalizado\",IF(Table26[[#This Row],[Sim/Não]]=1,1,0),0)","v":0}]
[null,null,null,null,null,null,null,null,null,null,null,"Atrasado",null,null,null,0,0,{"$f":"IF(Table26[[#This Row],[Status Medida]]=\"Finalizado\",IF(Table26[[#This Row],[Sim/Não]]=1,1,0),0)","v":0}]
[null,null,null,null,null,null,null,null,null,null,null,"Atrasado",null,null,null,0,0,{"$f":"IF(Table26[[#This Row],[Status Medida]]=\"Finalizado\",IF(Table26[[#This Row],[Sim/Não]]=1,1,0),0)","v":0}]
[null,null,null,null,null,null,null,null,null,null,null,"Atrasado",null,null,null,0,0,{"$f":"IF(Table26[[#This Row],[Status Medida]]=\"Finalizado\",IF(Table26[[#This Row],[Sim/Não]]=1,1,0),0)","v":0}]
[null,null,null,null,null,null,null,null,null,null,null,"Atrasado",null,null,null,0,0,{"$f":"IF(Table26[[#This Row],[Status Medida]]=\"Finalizado\",IF(Table26[[#This Row],[Sim/Não]]=1,1,0),0)","v":0}]
[null,null,null,null,null,null,null,null,null,null,null,"Atrasado",null,null,null,0,{"$f":"IF(N10237=E10237,0,1)","v":0},{"$f":"IF(Table26[[#This Row],[Status Medida]]=\"Finalizado\",IF(Table26[[#This Row],[Sim/Não]]=1,1,0),0)","v":0}]
[null,null,null,null,null,null,null,null,null,null,null,"Atrasado",null,null,null,0,0,{"$f":"IF(Table26[[#This Row],[Status Medida]]=\"Finalizado\",IF(Table26[[#This Row],[Sim/Não]]=1,1,0),0)","v":0}]
[null,null,null,null,null,null,null,null,null,null,null,"Atrasado",null,null,null,0,0,{"$f":"IF(Table26[[#This Row],[Status Medida]]=\"Finalizado\",IF(Table26[[#This Row],[Sim/Não]]=1,1,0),0)","v":0}]
[null,null,null,null,null,null,null,null,null,null,null,"Atrasado",null,null,null,0,0,{"$f":"IF(Table26[[#This Row],[Status Medida]]=\"Finalizado\",IF(Table26[[#This Row],[Sim/Não]]=1,1,0),0)","v":0}]
[null,null,null,null,null,null,null,null,null,null,null,"Atrasado",null,null,null,0,0,{"$f":"IF(Table26[[#This Row],[Status Medida]]=\"Finalizado\",IF(Table26[[#This Row],[Sim/Não]]=1,1,0),0)","v":0}]
[null,null,null,null,null,null,null,null,null,null,null,"Atrasado",null,null,null,0,0,{"$f":"IF(Table26[[#This Row],[Status Medida]]=\"Finalizado\",IF(Table26[[#This Row],[Sim/Não]]=1,1,0),0)","v":0}]
[null,null,null,null,null,null,null,null,null,null,null,"Atrasado",null,null,null,0,0,{"$f":"IF(Table26[[#This Row],[Status Medida]]=\"Finalizado\",IF(Table26[[#This Row],[Sim/Não]]=1,1,0),0)","v":0}]
[null,null,null,null,null,null,null,null,null,null,null,"Atrasado",null,null,null,0,0,{"$f":"IF(Table26[[#This Row],[Status Medida]]=\"Finalizado\",IF(Table26[[#This Row],[Sim/Não]]=1,1,0),0)","v":0}]
[null,null,null,null,null,null,null,null,null,null,null,"Atrasado",null,null,null,0,0,{"$f":"IF(Table26[[#This Row],[Status Medida]]=\"Finalizado\",IF(Table26[[#This Row],[Sim/Não]]=1,1,0),0)","v":0}]
[null,null,null,null,null,null,null,null,null,null,null,"Atrasado",null,null,null,0,0,{"$f":"IF(Table26[[#This Row],[Status Medida]]=\"Finalizado\",IF(Table26[[#This Row],[Sim/Não]]=1,1,0),0)","v":0}]
[null,null,null,null,null,null,null,null,null,null,null,"Atrasado",null,null,null,0,0,{"$f":"IF(Table26[[#This Row],[Status Medida]]=\"Finalizado\",IF(Table26[[#This Row],[Sim/Não]]=1,1,0),0)","v":0}]
[null,null,null,null,null,null,null,null,null,null,null,"Atrasado",null,null,null,0,0,{"$f":"IF(Table26[[#This Row],[Status Medida]]=\"Finalizado\",IF(Table26[[#This Row],[Sim/Não]]=1,1,0),0)","v":0}]
[null,null,null,null,null,null,null,null,null,null,null,"Atrasado",null,null,null,0,0,{"$f":"IF(Table26[[#This Row],[Status Medida]]=\"Finalizado\",IF(Table26[[#This Row],[Sim/Não]]=1,1,0),0)","v":0}]
[null,null,null,null,null,null,null,null,null,null,null,"Atrasado",null,null,null,0,0,{"$f":"IF(Table26[[#This Row],[Status Medida]]=\"Finalizado\",IF(Table26[[#This Row],[Sim/Não]]=1,1,0),0)","v":0}]
[null,null,null,null,null,null,null,null,null,null,null,"Atrasado",null,null,null,0,{"$f":"IF(N10301=E10301,0,1)","v":0},{"$f":"IF(Table26[[#This Row],[Status Medida]]=\"Finalizado\",IF(Table26[[#This Row],[Sim/Não]]=1,1,0),0)","v":0}]
[null,null,null,null,null,null,null,null,null,null,null,"Atrasado",null,null,null,0,0,{"$f":"IF(Table26[[#This Row],[Status Medida]]=\"Finalizado\",IF(Table26[[#This Row],[Sim/Não]]=1,1,0),0)","v":0}]
[null,null,null,null,null,null,null,null,null,null,null,"Atrasado",null,null,null,0,0,{"$f":"IF(Table26[[#This Row],[Status Medida]]=\"Finalizado\",IF(Table26[[#This Row],[Sim/Não]]=1,1,0),0)","v":0}]
[null,null,null,null,null,null,null,null,null,null,null,"Atrasado",null,null,null,0,0,{"$f":"IF(Table26[[#This Row],[Status Medida]]=\"Finalizado\",IF(Table26[[#This Row],[Sim/Não]]=1,1,0),0)","v":0}]
[null,null,null,null,null,null,null,null,null,null,null,"Atrasado",null,null,null,0,0,{"$f":"IF(Table26[[#This Row],[Status Medida]]=\"Finalizado\",IF(Table26[[#This Row],[Sim/Não]]=1,1,0),0)","v":0}]
[null,null,null,null,null,null,null,null,null,null,null,"Atrasado",null,null,null,0,0,{"$f":"IF(Table26[[#This Row],[Status Medida]]=\"Finalizado\",IF(Table26[[#This Row],[Sim/Não]]=1,1,0),0)","v":0}]
[null,null,null,null,null,null,null,null,null,null,null,"Atrasado",null,null,null,0,0,{"$f":"IF(Table26[[#This Row],[Status Medida]]=\"Finalizado\",IF(Table26[[#This Row],[Sim/Não]]=1,1,0),0)","v":0}]
[null,null,null,null,null,null,null,null,null,null,null,"Atrasado",null,null,null,0,0,{"$f":"IF(Table26[[#This Row],[Status Medida]]=\"Finalizado\",IF(Table26[[#This Row],[Sim/Não]]=1,1,0),0)","v":0}]
[null,null,null,null,null,null,null,null,null,null,null,"Atrasado",null,null,null,0,0,{"$f":"IF(Table26[[#This Row],[Status Medida]]=\"Finalizado\",IF(Table26[[#This Row],[Sim/Não]]=1,1,0),0)","v":0}]
[null,null,null,null,null,null,null,null,null,null,null,"Atrasado",null,null,null,0,0,{"$f":"IF(Table26[[#This Row],[Status Medida]]=\"Finalizado\",IF(Table26[[#This Row],[Sim/Não]]=1,1,0),0)","v":0}]
[null,null,null,null,null,null,null,null,null,null,null,"Atrasado",null,null,null,0,0,{"$f":"IF(Table26[[#This Row],[Status Medida]]=\"Finalizado\",IF(Table26[[#This Row],[Sim/Não]]=1,1,0),0)","v":0}]
[null,null,null,null,null,null,null,null,null,null,null,"Atrasado",null,null,null,0,0,{"$f":"IF(Table26[[#This Row],[Status Medida]]=\"Finalizado\",IF(Table26[[#This Row],[Sim/Não]]=1,1,0),0)","v":0}]
[null,null,null,null,null,null,null,null,null,null,null,"Atrasado",null,null,null,0,0,{"$f":"IF(Table26[[#This Row],[Status Medida]]=\"Finalizado\",IF(Table26[[#This Row],[Sim/Não]]=1,1,0),0)","v":0}]
[null,null,null,null,null,null,null,null,null,null,null,"Atrasado",null,null,null,0,0,{"$f":"IF(Table26[[#This Row],[Status Medida]]=\"Finalizado\",IF(Table26[[#This Row],[Sim/Não]]=1,1,0),0)","v":0}]
[null,null,null,null,null,null,null,null,null,null,null,"Atrasado",null,null,null,0,0,{"$f":"IF(Table26[[#This Row],[Status Medida]]=\"Finalizado\",IF(Table26[[#This Row],[Sim/Não]]=1,1,0),0)","v":0}]
[null,null,null,null,null,null,null,null,null,null,null,"Atrasado",null,null,null,0,0,{"$f":"IF(Table26[[#This Row],[Status Medida]]=\"Finalizado\",IF(Table26[[#This Row],[Sim/Não]]=1,1,0),0)","v":0}]
[null,null,null,null,null,null,null,null,null,null,null,"Atrasado",null,null,null,0,0,{"$f":"IF(Table26[[#This Row],[Status Medida]]=\"Finalizado\",IF(Table26[[#This Row],[Sim/Não]]=1,1,0),0)","v":0}]
[null,null,null,null,null,null,null,null,null,null,null,"Atrasado",null,null,null,0,0,{"$f":"IF(Table26[[#This Row],[Status Medida]]=\"Finalizado\",IF(Table26[[#This Row],[Sim/Não]]=1,1,0),0)","v":0}]
[null,null,null,null,null,null,null,null,null,null,null,"Atrasado",null,null,null,0,0,{"$f":"IF(Table26[[#This Row],[Status Medida]]=\"Finalizado\",IF(Table26[[#This Row],[Sim/Não]]=1,1,0),0)","v":0}]
[null,null,null,null,null,null,null,null,null,null,null,"Atrasado",null,null,null,0,0,{"$f":"IF(Table26[[#This Row],[Status Medida]]=\"Finalizado\",IF(Table26[[#This Row],[Sim/Não]]=1,1,0),0)","v":0}]
[null,null,null,null,null,null,null,null,null,null,null,"Atrasado",null,null,null,0,0,{"$f":"IF(Table26[[#This Row],[Status Medida]]=\"Finalizado\",IF(Table26[[#This Row],[Sim/Não]]=1,1,0),0)","v":0}]
[null,null,null,null,null,null,null,null,null,null,null,"Atrasado",null,null,null,0,0,{"$f":"IF(Table26[[#This Row],[Status Medida]]=\"Finalizado\",IF(Table26[[#This Row],[Sim/Não]]=1,1,0),0)","v":0}]
[null,null,null,null,null,null,null,null,null,null,null,"Atrasado",null,null,null,0,0,{"$f":"IF(Table26[[#This Row],[Status Medida]]=\"Finalizado\",IF(Table26[[#This Row],[Sim/Não]]=1,1,0),0)","v":0}]
[null,null,null,null,null,null,null,null,null,null,null,"Atrasado",null,null,null,0,0,{"$f":"IF(Table26[[#This Row],[Status Medida]]=\"Finalizado\",IF(Table26[[#This Row],[Sim/Não]]=1,1,0),0)","v":0}]
[null,null,null,null,null,null,null,null,null,null,null,"Atrasado",null,null,null,0,0,{"$f":"IF(Table26[[#This Row],[Status Medida]]=\"Finalizado\",IF(Table26[[#This Row],[Sim/Não]]=1,1,0),0)","v":0}]
[null,null,null,null,null,null,null,null,null,null,null,"Atrasado",null,null,null,0,0,{"$f":"IF(Table26[[#This Row],[Status Medida]]=\"Finalizado\",IF(Table26[[#This Row],[Sim/Não]]=1,1,0),0)","v":0}]
[null,null,null,null,null,null,null,null,null,null,null,"Atrasado",null,null,null,0,0,{"$f":"IF(Table26[[#This Row],[Status Medida]]=\"Finalizado\",IF(Table26[[#This Row],[Sim/Não]]=1,1,0),0)","v":0}]
[null,null,null,null,null,null,null,null,null,null,null,"Atrasado",null,null,null,0,0,{"$f":"IF(Table26[[#This Row],[Status Medida]]=\"Finalizado\",IF(Table26[[#This Row],[Sim/Não]]=1,1,0),0)","v":0}]
[null,null,null,null,null,null,null,null,null,null,null,"Atrasado",null,null,null,0,0,{"$f":"IF(Table26[[#This Row],[Status Medida]]=\"Finalizado\",IF(Table26[[#This Row],[Sim/Não]]=1,1,0),0)","v":0}]
[null,null,null,null,null,null,null,null,null,null,null,"Atrasado",null,null,null,0,0,{"$f":"IF(Table26[[#This Row],[Status Medida]]=\"Finalizado\",IF(Table26[[#This Row],[Sim/Não]]=1,1,0),0)","v":0}]
[null,null,null,null,null,null,null,null,null,null,null,"Atrasado",null,null,null,0,0,{"$f":"IF(Table26[[#This Row],[Status Medida]]=\"Finalizado\",IF(Table26[[#This Row],[Sim/Não]]=1,1,0),0)","v":0}]
[null,null,null,null,null,null,null,null,null,null,null,"Atrasado",null,null,null,0,0,{"$f":"IF(Table26[[#This Row],[Status Medida]]=\"Finalizado\",IF(Table26[[#This Row],[Sim/Não]]=1,1,0),0)","v":0}]
[null,null,null,null,null,null,null,null,null,null,null,"Atrasado",null,null,null,0,0,{"$f":"IF(Table26[[#This Row],[Status Medida]]=\"Finalizado\",IF(Table26[[#This Row],[Sim/Não]]=1,1,0),0)","v":0}]
[null,null,null,null,null,null,null,null,null,null,null,"Atrasado",null,null,null,0,0,{"$f":"IF(Table26[[#This Row],[Status Medida]]=\"Finalizado\",IF(Table26[[#This Row],[Sim/Não]]=1,1,0),0)","v":0}]
[null,null,null,null,null,null,null,null,null,null,null,"Atrasado",null,null,null,0,0,{"$f":"IF(Table26[[#This Row],[Status Medida]]=\"Finalizado\",IF(Table26[[#This Row],[Sim/Não]]=1,1,0),0)","v":0}]
[null,null,null,null,null,null,null,null,null,null,null,{"$f":"IF(J10456>K10456,\"Datas inválidas\",IF(M10456=\"Finalizado\",\"Concluído\",IF(J10456>TODAY(),\"Não iniciado\",_xlfn.IFS(J10456=TODAY(),\"Em andamento\",TODAY()>K10456,\"Atrasado\",AND(TODAY()>J10456,TODAY()<=K10456),\"Em andamento\"))))","v":"Atrasado"},null,null,null,{"$f":"IF(O10456=\"Sim\",1,0)","v":0},0,{"$f":"IF(Table26[[#This Row],[Status Medida]]=\"Finalizado\",IF(Table26[[#This Row],[Sim/Não]]=1,1,0),0)","v":0}]
[null,null,null,null,null,null,null,null,null,null,null,"Atrasado",null,null,null,0,0,{"$f":"IF(Table26[[#This Row],[Status Medida]]=\"Finalizado\",IF(Table26[[#This Row],[Sim/Não]]=1,1,0),0)","v":0}]
[null,null,null,null,null,null,null,null,null,null,null,"Atrasado",null,null,null,0,0,{"$f":"IF(Table26[[#This Row],[Status Medida]]=\"Finalizado\",IF(Table26[[#This Row],[Sim/Não]]=1,1,0),0)","v":0}]
[null,null,null,null,null,null,null,null,null,null,null,"Atrasado",null,null,null,0,0,{"$f":"IF(Table26[[#This Row],[Status Medida]]=\"Finalizado\",IF(Table26[[#This Row],[Sim/Não]]=1,1,0),0)","v":0}]
[null,null,null,null,null,null,null,null,null,null,null,"Atrasado",null,null,null,0,0,{"$f":"IF(Table26[[#This Row],[Status Medida]]=\"Finalizado\",IF(Table26[[#This Row],[Sim/Não]]=1,1,0),0)","v":0}]
[null,null,null,null,null,null,null,null,null,null,null,"Atrasado",null,null,null,0,0,{"$f":"IF(Table26[[#This Row],[Status Medida]]=\"Finalizado\",IF(Table26[[#This Row],[Sim/Não]]=1,1,0),0)","v":0}]
[null,null,null,null,null,null,null,null,null,null,null,"Atrasado",null,null,null,0,0,{"$f":"IF(Table26[[#This Row],[Status Medida]]=\"Finalizado\",IF(Table26[[#This Row],[Sim/Não]]=1,1,0),0)","v":0}]
[null,null,null,null,null,null,null,null,null,null,null,"Atrasado",null,null,null,0,0,{"$f":"IF(Table26[[#This Row],[Status Medida]]=\"Finalizado\",IF(Table26[[#This Row],[Sim/Não]]=1,1,0),0)","v":0}]
[null,null,null,null,null,null,null,null,null,null,null,"Atrasado",null,null,null,0,{"$f":"IF(N10493=E10493,0,1)","v":0},{"$f":"IF(Table26[[#This Row],[Status Medida]]=\"Finalizado\",IF(Table26[[#This Row],[Sim/Não]]=1,1,0),0)","v":0}]
[null,null,null,null,null,null,null,null,null,null,null,"Atrasado",null,null,null,0,0,{"$f":"IF(Table26[[#This Row],[Status Medida]]=\"Finalizado\",IF(Table26[[#This Row],[Sim/Não]]=1,1,0),0)","v":0}]
[null,null,null,null,null,null,null,null,null,null,null,"Atrasado",null,null,null,0,0,{"$f":"IF(Table26[[#This Row],[Status Medida]]=\"Finalizado\",IF(Table26[[#This Row],[Sim/Não]]=1,1,0),0)","v":0}]
[null,null,null,null,null,null,null,null,null,null,null,"Atrasado",null,null,null,0,0,{"$f":"IF(Table26[[#This Row],[Status Medida]]=\"Finalizado\",IF(Table26[[#This Row],[Sim/Não]]=1,1,0),0)","v":0}]
[null,null,null,null,null,null,null,null,null,null,null,"Atrasado",null,null,null,0,0,{"$f":"IF(Table26[[#This Row],[Status Medida]]=\"Finalizado\",IF(Table26[[#This Row],[Sim/Não]]=1,1,0),0)","v":0}]
[null,null,null,null,null,null,null,null,null,null,null,"Atrasado",null,null,null,0,0,{"$f":"IF(Table26[[#This Row],[Status Medida]]=\"Finalizado\",IF(Table26[[#This Row],[Sim/Não]]=1,1,0),0)","v":0}]
[null,null,null,null,null,null,null,null,null,null,null,"Atrasado",null,null,null,0,0,{"$f":"IF(Table26[[#This Row],[Status Medida]]=\"Finalizado\",IF(Table26[[#This Row],[Sim/Não]]=1,1,0),0)","v":0}]
[null,null,null,null,null,null,null,null,null,null,null,"Atrasado",null,null,null,0,0,{"$f":"IF(Table26[[#This Row],[Status Medida]]=\"Finalizado\",IF(Table26[[#This Row],[Sim/Não]]=1,1,0),0)","v":0}]
[null,null,null,null,null,null,null,null,null,null,null,"Atrasado",null,null,null,0,0,{"$f":"IF(Table26[[#This Row],[Status Medida]]=\"Finalizado\",IF(Table26[[#This Row],[Sim/Não]]=1,1,0),0)","v":0}]
[null,null,null,null,null,null,null,null,null,null,null,"Atrasado",null,null,null,0,0,{"$f":"IF(Table26[[#This Row],[Status Medida]]=\"Finalizado\",IF(Table26[[#This Row],[Sim/Não]]=1,1,0),0)","v":0}]
[null,null,null,null,null,null,null,null,null,null,null,"Atrasado",null,null,null,0,0,{"$f":"IF(Table26[[#This Row],[Status Medida]]=\"Finalizado\",IF(Table26[[#This Row],[Sim/Não]]=1,1,0),0)","v":0}]
[null,null,null,null,null,null,null,null,null,null,null,"Atrasado",null,null,null,0,0,{"$f":"IF(Table26[[#This Row],[Status Medida]]=\"Finalizado\",IF(Table26[[#This Row],[Sim/Não]]=1,1,0),0)","v":0}]
[null,null,null,null,null,null,null,null,null,null,null,"Atrasado",null,null,null,0,0,{"$f":"IF(Table26[[#This Row],[Status Medida]]=\"Finalizado\",IF(Table26[[#This Row],[Sim/Não]]=1,1,0),0)","v":0}]
[null,null,null,null,null,null,null,null,null,null,null,"Atrasado",null,null,null,0,0,{"$f":"IF(Table26[[#This Row],[Status Medida]]=\"Finalizado\",IF(Table26[[#This Row],[Sim/Não]]=1,1,0),0)","v":0}]
[null,null,null,null,null,null,null,null,null,null,null,"Atrasado",null,null,null,0,0,{"$f":"IF(Table26[[#This Row],[Status Medida]]=\"Finalizado\",IF(Table26[[#This Row],[Sim/Não]]=1,1,0),0)","v":0}]
[null,null,null,null,null,null,null,null,null,null,null,"Atrasado",null,null,null,0,0,{"$f":"IF(Table26[[#This Row],[Status Medida]]=\"Finalizado\",IF(Table26[[#This Row],[Sim/Não]]=1,1,0),0)","v":0}]
[null,null,null,null,null,null,null,null,null,null,null,"Atrasado",null,null,null,0,0,{"$f":"IF(Table26[[#This Row],[Status Medida]]=\"Finalizado\",IF(Table26[[#This Row],[Sim/Não]]=1,1,0),0)","v":0}]
[null,null,null,null,null,null,null,null,null,null,null,"Atrasado",null,null,null,0,0,{"$f":"IF(Table26[[#This Row],[Status Medida]]=\"Finalizado\",IF(Table26[[#This Row],[Sim/Não]]=1,1,0),0)","v":0}]
[null,null,null,null,null,null,null,null,null,null,null,"Atrasado",null,null,null,0,0,{"$f":"IF(Table26[[#This Row],[Status Medida]]=\"Finalizado\",IF(Table26[[#This Row],[Sim/Não]]=1,1,0),0)","v":0}]
[null,null,null,null,null,null,null,null,null,null,null,"Atrasado",null,null,null,0,0,{"$f":"IF(Table26[[#This Row],[Status Medida]]=\"Finalizado\",IF(Table26[[#This Row],[Sim/Não]]=1,1,0),0)","v":0}]
[null,null,null,null,null,null,null,null,null,null,null,"Atrasado",null,null,null,0,0,{"$f":"IF(Table26[[#This Row],[Status Medida]]=\"Finalizado\",IF(Table26[[#This Row],[Sim/Não]]=1,1,0),0)","v":0}]
[null,null,null,null,null,null,null,null,null,null,null,"Atrasado",null,null,null,0,0,{"$f":"IF(Table26[[#This Row],[Status Medida]]=\"Finalizado\",IF(Table26[[#This Row],[Sim/Não]]=1,1,0),0)","v":0}]
[null,null,null,null,null,null,null,null,null,null,null,"Atrasado",null,null,null,0,0,{"$f":"IF(Table26[[#This Row],[Status Medida]]=\"Finalizado\",IF(Table26[[#This Row],[Sim/Não]]=1,1,0),0)","v":0}]
[null,null,null,null,null,null,null,null,null,null,null,"Atrasado",null,null,null,0,0,{"$f":"IF(Table26[[#This Row],[Status Medida]]=\"Finalizado\",IF(Table26[[#This Row],[Sim/Não]]=1,1,0),0)","v":0}]
[null,null,null,null,null,null,null,null,null,null,null,"Atrasado",null,null,null,0,0,{"$f":"IF(Table26[[#This Row],[Status Medida]]=\"Finalizado\",IF(Table26[[#This Row],[Sim/Não]]=1,1,0),0)","v":0}]
[null,null,null,null,null,null,null,null,null,null,null,"Atrasado",null,null,null,0,0,{"$f":"IF(Table26[[#This Row],[Status Medida]]=\"Finalizado\",IF(Table26[[#This Row],[Sim/Não]]=1,1,0),0)","v":0}]
[null,null,null,null,null,null,null,null,null,null,null,"Atrasado",null,null,null,0,0,{"$f":"IF(Table26[[#This Row],[Status Medida]]=\"Finalizado\",IF(Table26[[#This Row],[Sim/Não]]=1,1,0),0)","v":0}]
[null,null,null,null,null,null,null,null,null,null,null,"Atrasado",null,null,null,0,0,{"$f":"IF(Table26[[#This Row],[Status Medida]]=\"Finalizado\",IF(Table26[[#This Row],[Sim/Não]]=1,1,0),0)","v":0}]
[null,null,null,null,null,null,null,null,null,null,null,"Atrasado",null,null,null,0,0,{"$f":"IF(Table26[[#This Row],[Status Medida]]=\"Finalizado\",IF(Table26[[#This Row],[Sim/Não]]=1,1,0),0)","v":0}]
[null,null,null,null,null,null,null,null,null,null,null,"Atrasado",null,null,null,0,0,{"$f":"IF(Table26[[#This Row],[Status Medida]]=\"Finalizado\",IF(Table26[[#This Row],[Sim/Não]]=1,1,0),0)","v":0}]
[null,null,null,null,null,null,null,null,null,null,null,"Atrasado",null,null,null,0,0,{"$f":"IF(Table26[[#This Row],[Status Medida]]=\"Finalizado\",IF(Table26[[#This Row],[Sim/Não]]=1,1,0),0)","v":0}]
[null,null,null,null,null,null,null,null,null,null,null,"Atrasado",null,null,null,0,0,{"$f":"IF(Table26[[#This Row],[Status Medida]]=\"Finalizado\",IF(Table26[[#This Row],[Sim/Não]]=1,1,0),0)","v":0}]
[null,null,null,null,null,null,null,null,null,null,null,"Atrasado",null,null,null,0,0,{"$f":"IF(Table26[[#This Row],[Status Medida]]=\"Finalizado\",IF(Table26[[#This Row],[Sim/Não]]=1,1,0),0)","v":0}]
[null,null,null,null,null,null,null,null,null,null,null,"Atrasado",null,null,null,0,0,{"$f":"IF(Table26[[#This Row],[Status Medida]]=\"Finalizado\",IF(Table26[[#This Row],[Sim/Não]]=1,1,0),0)","v":0}]
[null,null,null,null,null,null,null,null,null,null,null,"Atrasado",null,null,null,0,0,{"$f":"IF(Table26[[#This Row],[Status Medida]]=\"Finalizado\",IF(Table26[[#This Row],[Sim/Não]]=1,1,0),0)","v":0}]
[null,null,null,null,null,null,null,null,null,null,null,"Atrasado",null,null,null,0,0,{"$f":"IF(Table26[[#This Row],[Status Medida]]=\"Finalizado\",IF(Table26[[#This Row],[Sim/Não]]=1,1,0),0)","v":0}]
[null,null,null,null,null,null,null,null,null,null,null,"Atrasado",null,null,null,0,0,{"$f":"IF(Table26[[#This Row],[Status Medida]]=\"Finalizado\",IF(Table26[[#This Row],[Sim/Não]]=1,1,0),0)","v":0}]
[null,null,null,null,null,null,null,null,null,null,null,"Atrasado",null,null,null,0,0,{"$f":"IF(Table26[[#This Row],[Status Medida]]=\"Finalizado\",IF(Table26[[#This Row],[Sim/Não]]=1,1,0),0)","v":0}]
[null,null,null,null,null,null,null,null,null,null,null,"Atrasado",null,null,null,0,0,{"$f":"IF(Table26[[#This Row],[Status Medida]]=\"Finalizado\",IF(Table26[[#This Row],[Sim/Não]]=1,1,0),0)","v":0}]
[null,null,null,null,null,null,null,null,null,null,null,"Atrasado",null,null,null,0,0,{"$f":"IF(Table26[[#This Row],[Status Medida]]=\"Finalizado\",IF(Table26[[#This Row],[Sim/Não]]=1,1,0),0)","v":0}]
[null,null,null,null,null,null,null,null,null,null,null,"Atrasado",null,null,null,0,0,{"$f":"IF(Table26[[#This Row],[Status Medida]]=\"Finalizado\",IF(Table26[[#This Row],[Sim/Não]]=1,1,0),0)","v":0}]
[null,null,null,null,null,null,null,null,null,null,null,"Atrasado",null,null,null,0,0,{"$f":"IF(Table26[[#This Row],[Status Medida]]=\"Finalizado\",IF(Table26[[#This Row],[Sim/Não]]=1,1,0),0)","v":0}]
[null,null,null,null,null,null,null,null,null,null,null,"Atrasado",null,null,null,0,0,{"$f":"IF(Table26[[#This Row],[Status Medida]]=\"Finalizado\",IF(Table26[[#This Row],[Sim/Não]]=1,1,0),0)","v":0}]
[null,null,null,null,null,null,null,null,null,null,null,"Atrasado",null,null,null,0,0,{"$f":"IF(Table26[[#This Row],[Status Medida]]=\"Finalizado\",IF(Table26[[#This Row],[Sim/Não]]=1,1,0),0)","v":0}]
[null,null,null,null,null,null,null,null,null,null,null,"Atrasado",null,null,null,0,0,{"$f":"IF(Table26[[#This Row],[Status Medida]]=\"Finalizado\",IF(Table26[[#This Row],[Sim/Não]]=1,1,0),0)","v":0}]
[null,null,null,null,null,null,null,null,null,null,null,"Atrasado",null,null,null,0,0,{"$f":"IF(Table26[[#This Row],[Status Medida]]=\"Finalizado\",IF(Table26[[#This Row],[Sim/Não]]=1,1,0),0)","v":0}]
[null,null,null,null,null,null,null,null,null,null,null,"Atrasado",null,null,null,0,0,{"$f":"IF(Table26[[#This Row],[Status Medida]]=\"Finalizado\",IF(Table26[[#This Row],[Sim/Não]]=1,1,0),0)","v":0}]
[null,null,null,null,null,null,null,null,null,null,null,"Atrasado",null,null,null,0,0,{"$f":"IF(Table26[[#This Row],[Status Medida]]=\"Finalizado\",IF(Table26[[#This Row],[Sim/Não]]=1,1,0),0)","v":0}]
[null,null,null,null,null,null,null,null,null,null,null,"Atrasado",null,null,null,0,0,{"$f":"IF(Table26[[#This Row],[Status Medida]]=\"Finalizado\",IF(Table26[[#This Row],[Sim/Não]]=1,1,0),0)","v":0}]
[null,null,null,null,null,null,null,null,null,null,null,"Atrasado",null,null,null,0,0,{"$f":"IF(Table26[[#This Row],[Status Medida]]=\"Finalizado\",IF(Table26[[#This Row],[Sim/Não]]=1,1,0),0)","v":0}]
[null,null,null,null,null,null,null,null,null,null,null,"Atrasado",null,null,null,0,0,{"$f":"IF(Table26[[#This Row],[Status Medida]]=\"Finalizado\",IF(Table26[[#This Row],[Sim/Não]]=1,1,0),0)","v":0}]
[null,null,null,null,null,null,null,null,null,null,null,"Atrasado",null,null,null,0,0,{"$f":"IF(Table26[[#This Row],[Status Medida]]=\"Finalizado\",IF(Table26[[#This Row],[Sim/Não]]=1,1,0),0)","v":0}]
[null,null,null,null,null,null,null,null,null,null,null,"Atrasado",null,null,null,0,0,{"$f":"IF(Table26[[#This Row],[Status Medida]]=\"Finalizado\",IF(Table26[[#This Row],[Sim/Não]]=1,1,0),0)","v":0}]
[null,null,null,null,null,null,null,null,null,null,null,"Atrasado",null,null,null,0,0,{"$f":"IF(Table26[[#This Row],[Status Medida]]=\"Finalizado\",IF(Table26[[#This Row],[Sim/Não]]=1,1,0),0)","v":0}]
[null,null,null,null,null,null,null,null,null,null,null,"Atrasado",null,null,null,0,0,{"$f":"IF(Table26[[#This Row],[Status Medida]]=\"Finalizado\",IF(Table26[[#This Row],[Sim/Não]]=1,1,0),0)","v":0}]
[null,null,null,null,null,null,null,null,null,null,null,"Atrasado",null,null,null,0,0,{"$f":"IF(Table26[[#This Row],[Status Medida]]=\"Finalizado\",IF(Table26[[#This Row],[Sim/Não]]=1,1,0),0)","v":0}]
[null,null,null,null,null,null,null,null,null,null,null,"Atrasado",null,null,null,0,0,{"$f":"IF(Table26[[#This Row],[Status Medida]]=\"Finalizado\",IF(Table26[[#This Row],[Sim/Não]]=1,1,0),0)","v":0}]
[null,null,null,null,null,null,null,null,null,null,null,"Atrasado",null,null,null,0,0,{"$f":"IF(Table26[[#This Row],[Status Medida]]=\"Finalizado\",IF(Table26[[#This Row],[Sim/Não]]=1,1,0),0)","v":0}]
[null,null,null,null,null,null,null,null,null,null,null,"Atrasado",null,null,null,0,{"$f":"IF(N10749=E10749,0,1)","v":0},{"$f":"IF(Table26[[#This Row],[Status Medida]]=\"Finalizado\",IF(Table26[[#This Row],[Sim/Não]]=1,1,0),0)","v":0}]
[null,null,null,null,null,null,null,null,null,null,null,"Atrasado",null,null,null,0,0,{"$f":"IF(Table26[[#This Row],[Status Medida]]=\"Finalizado\",IF(Table26[[#This Row],[Sim/Não]]=1,1,0),0)","v":0}]
[null,null,null,null,null,null,null,null,null,null,null,"Atrasado",null,null,null,0,0,{"$f":"IF(Table26[[#This Row],[Status Medida]]=\"Finalizado\",IF(Table26[[#This Row],[Sim/Não]]=1,1,0),0)","v":0}]
[null,null,null,null,null,null,null,null,null,null,null,"Atrasado",null,null,null,0,0,{"$f":"IF(Table26[[#This Row],[Status Medida]]=\"Finalizado\",IF(Table26[[#This Row],[Sim/Não]]=1,1,0),0)","v":0}]
[null,null,null,null,null,null,null,null,null,null,null,"Atrasado",null,null,null,0,0,{"$f":"IF(Table26[[#This Row],[Status Medida]]=\"Finalizado\",IF(Table26[[#This Row],[Sim/Não]]=1,1,0),0)","v":0}]
[null,null,null,null,null,null,null,null,null,null,null,"Atrasado",null,null,null,0,0,{"$f":"IF(Table26[[#This Row],[Status Medida]]=\"Finalizado\",IF(Table26[[#This Row],[Sim/Não]]=1,1,0),0)","v":0}]
[null,null,null,null,null,null,null,null,null,null,null,"Atrasado",null,null,null,0,0,{"$f":"IF(Table26[[#This Row],[Status Medida]]=\"Finalizado\",IF(Table26[[#This Row],[Sim/Não]]=1,1,0),0)","v":0}]
[null,null,null,null,null,null,null,null,null,null,null,"Atrasado",null,null,null,0,0,{"$f":"IF(Table26[[#This Row],[Status Medida]]=\"Finalizado\",IF(Table26[[#This Row],[Sim/Não]]=1,1,0),0)","v":0}]
[null,null,null,null,null,null,null,null,null,null,null,"Atrasado",null,null,null,0,0,{"$f":"IF(Table26[[#This Row],[Status Medida]]=\"Finalizado\",IF(Table26[[#This Row],[Sim/Não]]=1,1,0),0)","v":0}]
[null,null,null,null,null,null,null,null,null,null,null,"Atrasado",null,null,null,0,0,{"$f":"IF(Table26[[#This Row],[Status Medida]]=\"Finalizado\",IF(Table26[[#This Row],[Sim/Não]]=1,1,0),0)","v":0}]
[null,null,null,null,null,null,null,null,null,null,null,"Atrasado",null,null,null,0,0,{"$f":"IF(Table26[[#This Row],[Status Medida]]=\"Finalizado\",IF(Table26[[#This Row],[Sim/Não]]=1,1,0),0)","v":0}]
[null,null,null,null,null,null,null,null,null,null,null,"Atrasado",null,null,null,0,0,{"$f":"IF(Table26[[#This Row],[Status Medida]]=\"Finalizado\",IF(Table26[[#This Row],[Sim/Não]]=1,1,0),0)","v":0}]
[null,null,null,null,null,null,null,null,null,null,null,"Atrasado",null,null,null,0,0,{"$f":"IF(Table26[[#This Row],[Status Medida]]=\"Finalizado\",IF(Table26[[#This Row],[Sim/Não]]=1,1,0),0)","v":0}]
[null,null,null,null,null,null,null,null,null,null,null,"Atrasado",null,null,null,0,0,{"$f":"IF(Table26[[#This Row],[Status Medida]]=\"Finalizado\",IF(Table26[[#This Row],[Sim/Não]]=1,1,0),0)","v":0}]
[null,null,null,null,null,null,null,null,null,null,null,"Atrasado",null,null,null,0,0,{"$f":"IF(Table26[[#This Row],[Status Medida]]=\"Finalizado\",IF(Table26[[#This Row],[Sim/Não]]=1,1,0),0)","v":0}]
[null,null,null,null,null,null,null,null,null,null,null,"Atrasado",null,null,null,0,0,{"$f":"IF(Table26[[#This Row],[Status Medida]]=\"Finalizado\",IF(Table26[[#This Row],[Sim/Não]]=1,1,0),0)","v":0}]
[null,null,null,null,null,null,null,null,null,null,null,"Atrasado",null,null,null,0,0,{"$f":"IF(Table26[[#This Row],[Status Medida]]=\"Finalizado\",IF(Table26[[#This Row],[Sim/Não]]=1,1,0),0)","v":0}]
[null,null,null,null,null,null,null,null,null,null,null,"Atrasado",null,null,null,0,0,{"$f":"IF(Table26[[#This Row],[Status Medida]]=\"Finalizado\",IF(Table26[[#This Row],[Sim/Não]]=1,1,0),0)","v":0}]
[null,null,null,null,null,null,null,null,null,null,null,"Atrasado",null,null,null,0,0,{"$f":"IF(Table26[[#This Row],[Status Medida]]=\"Finalizado\",IF(Table26[[#This Row],[Sim/Não]]=1,1,0),0)","v":0}]
[null,null,null,null,null,null,null,null,null,null,null,"Atrasado",null,null,null,0,0,{"$f":"IF(Table26[[#This Row],[Status Medida]]=\"Finalizado\",IF(Table26[[#This Row],[Sim/Não]]=1,1,0),0)","v":0}]
[null,null,null,null,null,null,null,null,null,null,null,"Atrasado",null,null,null,0,0,{"$f":"IF(Table26[[#This Row],[Status Medida]]=\"Finalizado\",IF(Table26[[#This Row],[Sim/Não]]=1,1,0),0)","v":0}]
[null,null,null,null,null,null,null,null,null,null,null,"Atrasado",null,null,null,0,0,{"$f":"IF(Table26[[#This Row],[Status Medida]]=\"Finalizado\",IF(Table26[[#This Row],[Sim/Não]]=1,1,0),0)","v":0}]
[null,null,null,null,null,null,null,null,null,null,null,"Atrasado",null,null,null,0,0,{"$f":"IF(Table26[[#This Row],[Status Medida]]=\"Finalizado\",IF(Table26[[#This Row],[Sim/Não]]=1,1,0),0)","v":0}]
[null,null,null,null,null,null,null,null,null,null,null,"Atrasado",null,null,null,0,0,{"$f":"IF(Table26[[#This Row],[Status Medida]]=\"Finalizado\",IF(Table26[[#This Row],[Sim/Não]]=1,1,0),0)","v":0}]
[null,null,null,null,null,null,null,null,null,null,null,"Atrasado",null,null,null,0,0,{"$f":"IF(Table26[[#This Row],[Status Medida]]=\"Finalizado\",IF(Table26[[#This Row],[Sim/Não]]=1,1,0),0)","v":0}]
[null,null,null,null,null,null,null,null,null,null,null,"Atrasado",null,null,null,0,0,{"$f":"IF(Table26[[#This Row],[Status Medida]]=\"Finalizado\",IF(Table26[[#This Row],[Sim/Não]]=1,1,0),0)","v":0}]
[null,null,null,null,null,null,null,null,null,null,null,"Atrasado",null,null,null,0,0,{"$f":"IF(Table26[[#This Row],[Status Medida]]=\"Finalizado\",IF(Table26[[#This Row],[Sim/Não]]=1,1,0),0)","v":0}]
[null,null,null,null,null,null,null,null,null,null,null,"Atrasado",null,null,null,0,0,{"$f":"IF(Table26[[#This Row],[Status Medida]]=\"Finalizado\",IF(Table26[[#This Row],[Sim/Não]]=1,1,0),0)","v":0}]
[null,null,null,null,null,null,null,null,null,null,null,"Atrasado",null,null,null,0,{"$f":"IF(N10877=E10877,0,1)","v":0},{"$f":"IF(Table26[[#This Row],[Status Medida]]=\"Finalizado\",IF(Table26[[#This Row],[Sim/Não]]=1,1,0),0)","v":0}]
[null,null,null,null,null,null,null,null,null,null,null,"Atrasado",null,null,null,0,0,{"$f":"IF(Table26[[#This Row],[Status Medida]]=\"Finalizado\",IF(Table26[[#This Row],[Sim/Não]]=1,1,0),0)","v":0}]
[null,null,null,null,null,null,null,null,null,null,null,"Atrasado",null,null,null,0,0,{"$f":"IF(Table26[[#This Row],[Status Medida]]=\"Finalizado\",IF(Table26[[#This Row],[Sim/Não]]=1,1,0),0)","v":0}]
[null,null,null,null,null,null,null,null,null,null,null,"Atrasado",null,null,null,0,0,{"$f":"IF(Table26[[#This Row],[Status Medida]]=\"Finalizado\",IF(Table26[[#This Row],[Sim/Não]]=1,1,0),0)","v":0}]
[null,null,null,null,null,null,null,null,null,null,null,"Atrasado",null,null,null,0,0,{"$f":"IF(Table26[[#This Row],[Status Medida]]=\"Finalizado\",IF(Table26[[#This Row],[Sim/Não]]=1,1,0),0)","v":0}]
[null,null,null,null,null,null,null,null,null,null,null,"Atrasado",null,null,null,0,0,{"$f":"IF(Table26[[#This Row],[Status Medida]]=\"Finalizado\",IF(Table26[[#This Row],[Sim/Não]]=1,1,0),0)","v":0}]
[null,null,null,null,null,null,null,null,null,null,null,"Atrasado",null,null,null,0,0,{"$f":"IF(Table26[[#This Row],[Status Medida]]=\"Finalizado\",IF(Table26[[#This Row],[Sim/Não]]=1,1,0),0)","v":0}]
[null,null,null,null,null,null,null,null,null,null,null,"Atrasado",null,null,null,0,0,{"$f":"IF(Table26[[#This Row],[Status Medida]]=\"Finalizado\",IF(Table26[[#This Row],[Sim/Não]]=1,1,0),0)","v":0}]
[null,null,null,null,null,null,null,null,null,null,null,"Atrasado",null,null,null,0,0,{"$f":"IF(Table26[[#This Row],[Status Medida]]=\"Finalizado\",IF(Table26[[#This Row],[Sim/Não]]=1,1,0),0)","v":0}]
[null,null,null,null,null,null,null,null,null,null,null,"Atrasado",null,null,null,0,0,{"$f":"IF(Table26[[#This Row],[Status Medida]]=\"Finalizado\",IF(Table26[[#This Row],[Sim/Não]]=1,1,0),0)","v":0}]
[null,null,null,null,null,null,null,null,null,null,null,"Atrasado",null,null,null,0,0,{"$f":"IF(Table26[[#This Row],[Status Medida]]=\"Finalizado\",IF(Table26[[#This Row],[Sim/Não]]=1,1,0),0)","v":0}]
[null,null,null,null,null,null,null,null,null,null,null,"Atrasado",null,null,null,0,0,{"$f":"IF(Table26[[#This Row],[Status Medida]]=\"Finalizado\",IF(Table26[[#This Row],[Sim/Não]]=1,1,0),0)","v":0}]
[null,null,null,null,null,null,null,null,null,null,null,"Atrasado",null,null,null,0,0,{"$f":"IF(Table26[[#This Row],[Status Medida]]=\"Finalizado\",IF(Table26[[#This Row],[Sim/Não]]=1,1,0),0)","v":0}]
[null,null,null,null,null,null,null,null,null,null,null,"Atrasado",null,null,null,0,0,{"$f":"IF(Table26[[#This Row],[Status Medida]]=\"Finalizado\",IF(Table26[[#This Row],[Sim/Não]]=1,1,0),0)","v":0}]
[null,null,null,null,null,null,null,null,null,null,null,"Atrasado",null,null,null,0,0,{"$f":"IF(Table26[[#This Row],[Status Medida]]=\"Finalizado\",IF(Table26[[#This Row],[Sim/Não]]=1,1,0),0)","v":0}]
[null,null,null,null,null,null,null,null,null,null,null,"Atrasado",null,null,null,0,0,{"$f":"IF(Table26[[#This Row],[Status Medida]]=\"Finalizado\",IF(Table26[[#This Row],[Sim/Não]]=1,1,0),0)","v":0}]
[null,null,null,null,null,null,null,null,null,null,null,"Atrasado",null,null,null,0,0,{"$f":"IF(Table26[[#This Row],[Status Medida]]=\"Finalizado\",IF(Table26[[#This Row],[Sim/Não]]=1,1,0),0)","v":0}]
[null,null,null,null,null,null,null,null,null,null,null,"Atrasado",null,null,null,0,0,{"$f":"IF(Table26[[#This Row],[Status Medida]]=\"Finalizado\",IF(Table26[[#This Row],[Sim/Não]]=1,1,0),0)","v":0}]
[null,null,null,null,null,null,null,null,null,null,null,"Atrasado",null,null,null,0,0,{"$f":"IF(Table26[[#This Row],[Status Medida]]=\"Finalizado\",IF(Table26[[#This Row],[Sim/Não]]=1,1,0),0)","v":0}]
[null,null,null,null,null,null,null,null,null,null,null,"Atrasado",null,null,null,0,0,{"$f":"IF(Table26[[#This Row],[Status Medida]]=\"Finalizado\",IF(Table26[[#This Row],[Sim/Não]]=1,1,0),0)","v":0}]
[null,null,null,null,null,null,null,null,null,null,null,"Atrasado",null,null,null,0,0,{"$f":"IF(Table26[[#This Row],[Status Medida]]=\"Finalizado\",IF(Table26[[#This Row],[Sim/Não]]=1,1,0),0)","v":0}]
[null,null,null,null,null,null,null,null,null,null,null,"Atrasado",null,null,null,0,0,{"$f":"IF(Table26[[#This Row],[Status Medida]]=\"Finalizado\",IF(Table26[[#This Row],[Sim/Não]]=1,1,0),0)","v":0}]
[null,null,null,null,null,null,null,null,null,null,null,{"$f":"IF(J10931>K10931,\"Datas inválidas\",IF(M10931=\"Finalizado\",\"Concluído\",IF(J10931>TODAY(),\"Não iniciado\",_xlfn.IFS(J10931=TODAY(),\"Em andamento\",TODAY()>K10931,\"Atrasado\",AND(TODAY()>J10931,TODAY()<=K10931),\"Em andamento\"))))","v":"Atrasado"},null,null,null,{"$f":"IF(O10931=\"Sim\",1,0)","v":0},0,{"$f":"IF(Table26[[#This Row],[Status Medida]]=\"Finalizado\",IF(Table26[[#This Row],[Sim/Não]]=1,1,0),0)","v":0}]
[null,null,null,null,null,null,null,null,null,null,null,"Atrasado",null,null,null,0,0,{"$f":"IF(Table26[[#This Row],[Status Medida]]=\"Finalizado\",IF(Table26[[#This Row],[Sim/Não]]=1,1,0),0)","v":0}]
[null,null,null,null,null,null,null,null,null,null,null,"Atrasado",null,null,null,0,0,{"$f":"IF(Table26[[#This Row],[Status Medida]]=\"Finalizado\",IF(Table26[[#This Row],[Sim/Não]]=1,1,0),0)","v":0}]
[null,null,null,null,null,null,null,null,null,null,null,"Atrasado",null,null,null,0,0,{"$f":"IF(Table26[[#This Row],[Status Medida]]=\"Finalizado\",IF(Table26[[#This Row],[Sim/Não]]=1,1,0),0)","v":0}]
[null,null,null,null,null,null,null,null,null,null,null,"Atrasado",null,null,null,0,0,{"$f":"IF(Table26[[#This Row],[Status Medida]]=\"Finalizado\",IF(Table26[[#This Row],[Sim/Não]]=1,1,0),0)","v":0}]
[null,null,null,null,null,null,null,null,null,null,null,"Atrasado",null,null,null,0,0,{"$f":"IF(Table26[[#This Row],[Status Medida]]=\"Finalizado\",IF(Table26[[#This Row],[Sim/Não]]=1,1,0),0)","v":0}]
[null,null,null,null,null,null,null,null,null,null,null,"Atrasado",null,null,null,0,0,{"$f":"IF(Table26[[#This Row],[Status Medida]]=\"Finalizado\",IF(Table26[[#This Row],[Sim/Não]]=1,1,0),0)","v":0}]
[null,null,null,null,null,null,null,null,null,null,null,"Atrasado",null,null,null,0,0,{"$f":"IF(Table26[[#This Row],[Status Medida]]=\"Finalizado\",IF(Table26[[#This Row],[Sim/Não]]=1,1,0),0)","v":0}]
[null,null,null,null,null,null,null,null,null,null,null,"Atrasado",null,null,null,0,0,{"$f":"IF(Table26[[#This Row],[Status Medida]]=\"Finalizado\",IF(Table26[[#This Row],[Sim/Não]]=1,1,0),0)","v":0}]
[null,null,null,null,null,null,null,null,null,null,null,"Atrasado",null,null,null,0,0,{"$f":"IF(Table26[[#This Row],[Status Medida]]=\"Finalizado\",IF(Table26[[#This Row],[Sim/Não]]=1,1,0),0)","v":0}]
[null,null,null,null,null,null,null,null,null,null,null,"Atrasado",null,null,null,0,{"$f":"IF(N10941=E10941,0,1)","v":0},{"$f":"IF(Table26[[#This Row],[Status Medida]]=\"Finalizado\",IF(Table26[[#This Row],[Sim/Não]]=1,1,0),0)","v":0}]
[null,null,null,null,null,null,null,null,null,null,null,"Atrasado",null,null,null,0,0,{"$f":"IF(Table26[[#This Row],[Status Medida]]=\"Finalizado\",IF(Table26[[#This Row],[Sim/Não]]=1,1,0),0)","v":0}]
[null,null,null,null,null,null,null,null,null,null,null,"Atrasado",null,null,null,0,0,{"$f":"IF(Table26[[#This Row],[Status Medida]]=\"Finalizado\",IF(Table26[[#This Row],[Sim/Não]]=1,1,0),0)","v":0}]
[null,null,null,null,null,null,null,null,null,null,null,"Atrasado",null,null,null,0,0,{"$f":"IF(Table26[[#This Row],[Status Medida]]=\"Finalizado\",IF(Table26[[#This Row],[Sim/Não]]=1,1,0),0)","v":0}]
[null,null,null,null,null,null,null,null,null,null,null,"Atrasado",null,null,null,0,0,{"$f":"IF(Table26[[#This Row],[Status Medida]]=\"Finalizado\",IF(Table26[[#This Row],[Sim/Não]]=1,1,0),0)","v":0}]
[null,null,null,null,null,null,null,null,null,null,null,"Atrasado",null,null,null,0,0,{"$f":"IF(Table26[[#This Row],[Status Medida]]=\"Finalizado\",IF(Table26[[#This Row],[Sim/Não]]=1,1,0),0)","v":0}]
[null,null,null,null,null,null,null,null,null,null,null,"Atrasado",null,null,null,0,0,{"$f":"IF(Table26[[#This Row],[Status Medida]]=\"Finalizado\",IF(Table26[[#This Row],[Sim/Não]]=1,1,0),0)","v":0}]
[null,null,null,null,null,null,null,null,null,null,null,"Atrasado",null,null,null,0,0,{"$f":"IF(Table26[[#This Row],[Status Medida]]=\"Finalizado\",IF(Table26[[#This Row],[Sim/Não]]=1,1,0),0)","v":0}]
[null,null,null,null,null,null,null,null,null,null,null,"Atrasado",null,null,null,0,0,{"$f":"IF(Table26[[#This Row],[Status Medida]]=\"Finalizado\",IF(Table26[[#This Row],[Sim/Não]]=1,1,0),0)","v":0}]
[null,null,null,null,null,null,null,null,null,null,null,"Atrasado",null,null,null,0,0,{"$f":"IF(Table26[[#This Row],[Status Medida]]=\"Finalizado\",IF(Table26[[#This Row],[Sim/Não]]=1,1,0),0)","v":0}]
[null,null,null,null,null,null,null,null,null,null,null,"Atrasado",null,null,null,0,0,{"$f":"IF(Table26[[#This Row],[Status Medida]]=\"Finalizado\",IF(Table26[[#This Row],[Sim/Não]]=1,1,0),0)","v":0}]
[null,null,null,null,null,null,null,null,null,null,null,"Atrasado",null,null,null,0,0,{"$f":"IF(Table26[[#This Row],[Status Medida]]=\"Finalizado\",IF(Table26[[#This Row],[Sim/Não]]=1,1,0),0)","v":0}]
[null,null,null,null,null,null,null,null,null,null,null,"Atrasado",null,null,null,0,0,{"$f":"IF(Table26[[#This Row],[Status Medida]]=\"Finalizado\",IF(Table26[[#This Row],[Sim/Não]]=1,1,0),0)","v":0}]
[null,null,null,null,null,null,null,null,null,null,null,"Atrasado",null,null,null,0,0,{"$f":"IF(Table26[[#This Row],[Status Medida]]=\"Finalizado\",IF(Table26[[#This Row],[Sim/Não]]=1,1,0),0)","v":0}]
[null,null,null,null,null,null,null,null,null,null,null,"Atrasado",null,null,null,0,0,{"$f":"IF(Table26[[#This Row],[Status Medida]]=\"Finalizado\",IF(Table26[[#This Row],[Sim/Não]]=1,1,0),0)","v":0}]
[null,null,null,null,null,null,null,null,null,null,null,"Atrasado",null,null,null,0,0,{"$f":"IF(Table26[[#This Row],[Status Medida]]=\"Finalizado\",IF(Table26[[#This Row],[Sim/Não]]=1,1,0),0)","v":0}]
[null,null,null,null,null,null,null,null,null,null,null,"Atrasado",null,null,null,0,0,{"$f":"IF(Table26[[#This Row],[Status Medida]]=\"Finalizado\",IF(Table26[[#This Row],[Sim/Não]]=1,1,0),0)","v":0}]
[null,null,null,null,null,null,null,null,null,null,null,"Atrasado",null,null,null,0,0,{"$f":"IF(Table26[[#This Row],[Status Medida]]=\"Finalizado\",IF(Table26[[#This Row],[Sim/Não]]=1,1,0),0)","v":0}]
[null,null,null,null,null,null,null,null,null,null,null,"Atrasado",null,null,null,0,0,{"$f":"IF(Table26[[#This Row],[Status Medida]]=\"Finalizado\",IF(Table26[[#This Row],[Sim/Não]]=1,1,0),0)","v":0}]
[null,null,null,null,null,null,null,null,null,null,null,"Atrasado",null,null,null,0,0,{"$f":"IF(Table26[[#This Row],[Status Medida]]=\"Finalizado\",IF(Table26[[#This Row],[Sim/Não]]=1,1,0),0)","v":0}]
[null,null,null,null,null,null,null,null,null,null,null,"Atrasado",null,null,null,0,0,{"$f":"IF(Table26[[#This Row],[Status Medida]]=\"Finalizado\",IF(Table26[[#This Row],[Sim/Não]]=1,1,0),0)","v":0}]
[null,null,null,null,null,null,null,null,null,null,null,"Atrasado",null,null,null,0,0,{"$f":"IF(Table26[[#This Row],[Status Medida]]=\"Finalizado\",IF(Table26[[#This Row],[Sim/Não]]=1,1,0),0)","v":0}]
[null,null,null,null,null,null,null,null,null,null,null,"Atrasado",null,null,null,0,0,{"$f":"IF(Table26[[#This Row],[Status Medida]]=\"Finalizado\",IF(Table26[[#This Row],[Sim/Não]]=1,1,0),0)","v":0}]
[null,null,null,null,null,null,null,null,null,null,null,"Atrasado",null,null,null,0,0,{"$f":"IF(Table26[[#This Row],[Status Medida]]=\"Finalizado\",IF(Table26[[#This Row],[Sim/Não]]=1,1,0),0)","v":0}]
[null,null,null,null,null,null,null,null,null,null,null,"Atrasado",null,null,null,0,0,{"$f":"IF(Table26[[#This Row],[Status Medida]]=\"Finalizado\",IF(Table26[[#This Row],[Sim/Não]]=1,1,0),0)","v":0}]
[null,null,null,null,null,null,null,null,null,null,null,"Atrasado",null,null,null,0,0,{"$f":"IF(Table26[[#This Row],[Status Medida]]=\"Finalizado\",IF(Table26[[#This Row],[Sim/Não]]=1,1,0),0)","v":0}]
[null,null,null,null,null,null,null,null,null,null,null,"Atrasado",null,null,null,0,0,{"$f":"IF(Table26[[#This Row],[Status Medida]]=\"Finalizado\",IF(Table26[[#This Row],[Sim/Não]]=1,1,0),0)","v":0}]
[null,null,null,null,null,null,null,null,null,null,null,"Atrasado",null,null,null,0,0,{"$f":"IF(Table26[[#This Row],[Status Medida]]=\"Finalizado\",IF(Table26[[#This Row],[Sim/Não]]=1,1,0),0)","v":0}]
[null,null,null,null,null,null,null,null,null,null,null,"Atrasado",null,null,null,0,0,{"$f":"IF(Table26[[#This Row],[Status Medida]]=\"Finalizado\",IF(Table26[[#This Row],[Sim/Não]]=1,1,0),0)","v":0}]
[null,null,null,null,null,null,null,null,null,null,null,"Atrasado",null,null,null,0,0,{"$f":"IF(Table26[[#This Row],[Status Medida]]=\"Finalizado\",IF(Table26[[#This Row],[Sim/Não]]=1,1,0),0)","v":0}]
[null,null,null,null,null,null,null,null,null,null,null,"Atrasado",null,null,null,0,0,{"$f":"IF(Table26[[#This Row],[Status Medida]]=\"Finalizado\",IF(Table26[[#This Row],[Sim/Não]]=1,1,0),0)","v":0}]
[null,null,null,null,null,null,null,null,null,null,null,"Atrasado",null,null,null,0,0,{"$f":"IF(Table26[[#This Row],[Status Medida]]=\"Finalizado\",IF(Table26[[#This Row],[Sim/Não]]=1,1,0),0)","v":0}]
[null,null,null,null,null,null,null,null,null,null,null,"Atrasado",null,null,null,0,0,{"$f":"IF(Table26[[#This Row],[Status Medida]]=\"Finalizado\",IF(Table26[[#This Row],[Sim/Não]]=1,1,0),0)","v":0}]
[null,null,null,null,null,null,null,null,null,null,null,"Atrasado",null,null,null,0,0,{"$f":"IF(Table26[[#This Row],[Status Medida]]=\"Finalizado\",IF(Table26[[#This Row],[Sim/Não]]=1,1,0),0)","v":0}]
[null,null,null,null,null,null,null,null,null,null,null,"Atrasado",null,null,null,0,0,{"$f":"IF(Table26[[#This Row],[Status Medida]]=\"Finalizado\",IF(Table26[[#This Row],[Sim/Não]]=1,1,0),0)","v":0}]
[null,null,null,null,null,null,null,null,null,null,null,"Atrasado",null,null,null,0,0,{"$f":"IF(Table26[[#This Row],[Status Medida]]=\"Finalizado\",IF(Table26[[#This Row],[Sim/Não]]=1,1,0),0)","v":0}]
[null,null,null,null,null,null,null,null,null,null,null,"Atrasado",null,null,null,0,0,{"$f":"IF(Table26[[#This Row],[Status Medida]]=\"Finalizado\",IF(Table26[[#This Row],[Sim/Não]]=1,1,0),0)","v":0}]
[null,null,null,null,null,null,null,null,null,null,null,"Atrasado",null,null,null,0,0,{"$f":"IF(Table26[[#This Row],[Status Medida]]=\"Finalizado\",IF(Table26[[#This Row],[Sim/Não]]=1,1,0),0)","v":0}]
[null,null,null,null,null,null,null,null,null,null,null,"Atrasado",null,null,null,0,0,{"$f":"IF(Table26[[#This Row],[Status Medida]]=\"Finalizado\",IF(Table26[[#This Row],[Sim/Não]]=1,1,0),0)","v":0}]
[null,null,null,null,null,null,null,null,null,null,null,"Atrasado",null,null,null,0,0,{"$f":"IF(Table26[[#This Row],[Status Medida]]=\"Finalizado\",IF(Table26[[#This Row],[Sim/Não]]=1,1,0),0)","v":0}]
[null,null,null,null,null,null,null,null,null,null,null,"Atrasado",null,null,null,0,0,{"$f":"IF(Table26[[#This Row],[Status Medida]]=\"Finalizado\",IF(Table26[[#This Row],[Sim/Não]]=1,1,0),0)","v":0}]
[null,null,null,null,null,null,null,null,null,null,null,"Atrasado",null,null,null,0,0,{"$f":"IF(Table26[[#This Row],[Status Medida]]=\"Finalizado\",IF(Table26[[#This Row],[Sim/Não]]=1,1,0),0)","v":0}]
[null,null,null,null,null,null,null,null,null,null,null,"Atrasado",null,null,null,0,0,{"$f":"IF(Table26[[#This Row],[Status Medida]]=\"Finalizado\",IF(Table26[[#This Row],[Sim/Não]]=1,1,0),0)","v":0}]
[null,null,null,null,null,null,null,null,null,null,null,"Atrasado",null,null,null,0,0,{"$f":"IF(Table26[[#This Row],[Status Medida]]=\"Finalizado\",IF(Table26[[#This Row],[Sim/Não]]=1,1,0),0)","v":0}]
[null,null,null,null,null,null,null,null,null,null,null,"Atrasado",null,null,null,0,0,{"$f":"IF(Table26[[#This Row],[Status Medida]]=\"Finalizado\",IF(Table26[[#This Row],[Sim/Não]]=1,1,0),0)","v":0}]
[null,null,null,null,null,null,null,null,null,null,null,"Atrasado",null,null,null,0,0,{"$f":"IF(Table26[[#This Row],[Status Medida]]=\"Finalizado\",IF(Table26[[#This Row],[Sim/Não]]=1,1,0),0)","v":0}]
[null,null,null,null,null,null,null,null,null,null,null,"Atrasado",null,null,null,0,0,{"$f":"IF(Table26[[#This Row],[Status Medida]]=\"Finalizado\",IF(Table26[[#This Row],[Sim/Não]]=1,1,0),0)","v":0}]
[null,null,null,null,null,null,null,null,null,null,null,"Atrasado",null,null,null,0,0,{"$f":"IF(Table26[[#This Row],[Status Medida]]=\"Finalizado\",IF(Table26[[#This Row],[Sim/Não]]=1,1,0),0)","v":0}]
[null,null,null,null,null,null,null,null,null,null,null,"Atrasado",null,null,null,0,0,{"$f":"IF(Table26[[#This Row],[Status Medida]]=\"Finalizado\",IF(Table26[[#This Row],[Sim/Não]]=1,1,0),0)","v":0}]
[null,null,null,null,null,null,null,null,null,null,null,"Atrasado",null,null,null,0,0,{"$f":"IF(Table26[[#This Row],[Status Medida]]=\"Finalizado\",IF(Table26[[#This Row],[Sim/Não]]=1,1,0),0)","v":0}]
[null,null,null,null,null,null,null,null,null,null,null,"Atrasado",null,null,null,0,0,{"$f":"IF(Table26[[#This Row],[Status Medida]]=\"Finalizado\",IF(Table26[[#This Row],[Sim/Não]]=1,1,0),0)","v":0}]
[null,null,null,null,null,null,null,null,null,null,null,{"$f":"IF(J10992>K10992,\"Datas inválidas\",IF(M10992=\"Finalizado\",\"Concluído\",IF(J10992>TODAY(),\"Não iniciado\",_xlfn.IFS(J10992=TODAY(),\"Em andamento\",TODAY()>K10992,\"Atrasado\",AND(TODAY()>J10992,TODAY()<=K10992),\"Em andamento\"))))","v":"Atrasado"},null,null,null,{"$f":"IF(O10992=\"Sim\",1,0)","v":0},0,{"$f":"IF(Table26[[#This Row],[Status Medida]]=\"Finalizado\",IF(Table26[[#This Row],[Sim/Não]]=1,1,0),0)","v":0}]
[null,null,null,null,null,null,null,null,null,null,null,"Atrasado",null,null,null,0,0,{"$f":"IF(Table26[[#This Row],[Status Medida]]=\"Finalizado\",IF(Table26[[#This Row],[Sim/Não]]=1,1,0),0)","v":0}]
[null,null,null,null,null,null,null,null,null,null,null,"Atrasado",null,null,null,0,0,{"$f":"IF(Table26[[#This Row],[Status Medida]]=\"Finalizado\",IF(Table26[[#This Row],[Sim/Não]]=1,1,0),0)","v":0}]
[null,null,null,null,null,null,null,null,null,null,null,"Atrasado",null,null,null,0,0,{"$f":"IF(Table26[[#This Row],[Status Medida]]=\"Finalizado\",IF(Table26[[#This Row],[Sim/Não]]=1,1,0),0)","v":0}]
[null,null,null,null,null,null,null,null,null,null,null,"Atrasado",null,null,null,0,0,{"$f":"IF(Table26[[#This Row],[Status Medida]]=\"Finalizado\",IF(Table26[[#This Row],[Sim/Não]]=1,1,0),0)","v":0}]
[null,null,null,null,null,null,null,null,null,null,null,"Atrasado",null,null,null,0,0,{"$f":"IF(Table26[[#This Row],[Status Medida]]=\"Finalizado\",IF(Table26[[#This Row],[Sim/Não]]=1,1,0),0)","v":0}]
[null,null,null,null,null,null,null,null,null,null,null,"Atrasado",null,null,null,0,0,{"$f":"IF(Table26[[#This Row],[Status Medida]]=\"Finalizado\",IF(Table26[[#This Row],[Sim/Não]]=1,1,0),0)","v":0}]
[null,null,null,null,null,null,null,null,null,null,null,"Atrasado",null,null,null,0,0,{"$f":"IF(Table26[[#This Row],[Status Medida]]=\"Finalizado\",IF(Table26[[#This Row],[Sim/Não]]=1,1,0),0)","v":0}]
[null,null,null,null,null,null,null,null,null,null,null,"Atrasado",null,null,null,0,0,{"$f":"IF(Table26[[#This Row],[Status Medida]]=\"Finalizado\",IF(Table26[[#This Row],[Sim/Não]]=1,1,0),0)","v":0}]
[null,null,null,null,null,null,null,null,null,null,null,"Atrasado",null,null,null,0,0,{"$f":"IF(Table26[[#This Row],[Status Medida]]=\"Finalizado\",IF(Table26[[#This Row],[Sim/Não]]=1,1,0),0)","v":0}]
[null,null,null,null,null,null,null,null,null,null,null,"Atrasado",null,null,null,0,0,{"$f":"IF(Table26[[#This Row],[Status Medida]]=\"Finalizado\",IF(Table26[[#This Row],[Sim/Não]]=1,1,0),0)","v":0}]
[null,null,null,null,null,null,null,null,null,null,null,"Atrasado",null,null,null,0,0,{"$f":"IF(Table26[[#This Row],[Status Medida]]=\"Finalizado\",IF(Table26[[#This Row],[Sim/Não]]=1,1,0),0)","v":0}]
[null,null,null,null,null,null,null,null,null,null,null,"Atrasado",null,null,null,0,0,{"$f":"IF(Table26[[#This Row],[Status Medida]]=\"Finalizado\",IF(Table26[[#This Row],[Sim/Não]]=1,1,0),0)","v":0}]
[null,null,null,null,null,null,null,null,null,null,null,"Atrasado",null,null,null,0,{"$f":"IF(N11005=E11005,0,1)","v":0},{"$f":"IF(Table26[[#This Row],[Status Medida]]=\"Finalizado\",IF(Table26[[#This Row],[Sim/Não]]=1,1,0),0)","v":0}]
[null,null,null,null,null,null,null,null,null,null,null,"Atrasado",null,null,null,0,0,{"$f":"IF(Table26[[#This Row],[Status Medida]]=\"Finalizado\",IF(Table26[[#This Row],[Sim/Não]]=1,1,0),0)","v":0}]
[null,null,null,null,null,null,null,null,null,null,null,"Atrasado",null,null,null,0,0,{"$f":"IF(Table26[[#This Row],[Status Medida]]=\"Finalizado\",IF(Table26[[#This Row],[Sim/Não]]=1,1,0),0)","v":0}]
[null,null,null,null,null,null,null,null,null,null,null,"Atrasado",null,null,null,0,0,{"$f":"IF(Table26[[#This Row],[Status Medida]]=\"Finalizado\",IF(Table26[[#This Row],[Sim/Não]]=1,1,0),0)","v":0}]
[null,null,null,null,null,null,null,null,null,null,null,"Atrasado",null,null,null,0,0,{"$f":"IF(Table26[[#This Row],[Status Medida]]=\"Finalizado\",IF(Table26[[#This Row],[Sim/Não]]=1,1,0),0)","v":0}]
[null,null,null,null,null,null,null,null,null,null,null,"Atrasado",null,null,null,0,0,{"$f":"IF(Table26[[#This Row],[Status Medida]]=\"Finalizado\",IF(Table26[[#This Row],[Sim/Não]]=1,1,0),0)","v":0}]
[null,null,null,null,null,null,null,null,null,null,null,"Atrasado",null,null,null,0,0,{"$f":"IF(Table26[[#This Row],[Status Medida]]=\"Finalizado\",IF(Table26[[#This Row],[Sim/Não]]=1,1,0),0)","v":0}]
[null,null,null,null,null,null,null,null,null,null,null,"Atrasado",null,null,null,0,0,{"$f":"IF(Table26[[#This Row],[Status Medida]]=\"Finalizado\",IF(Table26[[#This Row],[Sim/Não]]=1,1,0),0)","v":0}]
[null,null,null,null,null,null,null,null,null,null,null,"Atrasado",null,null,null,0,0,{"$f":"IF(Table26[[#This Row],[Status Medida]]=\"Finalizado\",IF(Table26[[#This Row],[Sim/Não]]=1,1,0),0)","v":0}]
[null,null,null,null,null,null,null,null,null,null,null,"Atrasado",null,null,null,0,0,{"$f":"IF(Table26[[#This Row],[Status Medida]]=\"Finalizado\",IF(Table26[[#This Row],[Sim/Não]]=1,1,0),0)","v":0}]
[null,null,null,null,null,null,null,null,null,null,null,"Atrasado",null,null,null,0,0,{"$f":"IF(Table26[[#This Row],[Status Medida]]=\"Finalizado\",IF(Table26[[#This Row],[Sim/Não]]=1,1,0),0)","v":0}]
[null,null,null,null,null,null,null,null,null,null,null,"Atrasado",null,null,null,0,0,{"$f":"IF(Table26[[#This Row],[Status Medida]]=\"Finalizado\",IF(Table26[[#This Row],[Sim/Não]]=1,1,0),0)","v":0}]
[null,null,null,null,null,null,null,null,null,null,null,"Atrasado",null,null,null,0,0,{"$f":"IF(Table26[[#This Row],[Status Medida]]=\"Finalizado\",IF(Table26[[#This Row],[Sim/Não]]=1,1,0),0)","v":0}]
[null,null,null,null,null,null,null,null,null,null,null,"Atrasado",null,null,null,0,0,{"$f":"IF(Table26[[#This Row],[Status Medida]]=\"Finalizado\",IF(Table26[[#This Row],[Sim/Não]]=1,1,0),0)","v":0}]
[null,null,null,null,null,null,null,null,null,null,null,"Atrasado",null,null,null,0,0,{"$f":"IF(Table26[[#This Row],[Status Medida]]=\"Finalizado\",IF(Table26[[#This Row],[Sim/Não]]=1,1,0),0)","v":0}]
[null,null,null,null,null,null,null,null,null,null,null,"Atrasado",null,null,null,0,0,{"$f":"IF(Table26[[#This Row],[Status Medida]]=\"Finalizado\",IF(Table26[[#This Row],[Sim/Não]]=1,1,0),0)","v":0}]
[null,null,null,null,null,null,null,null,null,null,null,"Atrasado",null,null,null,0,0,{"$f":"IF(Table26[[#This Row],[Status Medida]]=\"Finalizado\",IF(Table26[[#This Row],[Sim/Não]]=1,1,0),0)","v":0}]
[null,null,null,null,null,null,null,null,null,null,null,"Atrasado",null,null,null,0,0,{"$f":"IF(Table26[[#This Row],[Status Medida]]=\"Finalizado\",IF(Table26[[#This Row],[Sim/Não]]=1,1,0),0)","v":0}]
[null,null,null,null,null,null,null,null,null,null,null,"Atrasado",null,null,null,0,0,{"$f":"IF(Table26[[#This Row],[Status Medida]]=\"Finalizado\",IF(Table26[[#This Row],[Sim/Não]]=1,1,0),0)","v":0}]
[null,null,null,null,null,null,null,null,null,null,null,"Atrasado",null,null,null,0,0,{"$f":"IF(Table26[[#This Row],[Status Medida]]=\"Finalizado\",IF(Table26[[#This Row],[Sim/Não]]=1,1,0),0)","v":0}]
[null,null,null,null,null,null,null,null,null,null,null,"Atrasado",null,null,null,0,0,{"$f":"IF(Table26[[#This Row],[Status Medida]]=\"Finalizado\",IF(Table26[[#This Row],[Sim/Não]]=1,1,0),0)","v":0}]
[null,null,null,null,null,null,null,null,null,null,null,"Atrasado",null,null,null,0,0,{"$f":"IF(Table26[[#This Row],[Status Medida]]=\"Finalizado\",IF(Table26[[#This Row],[Sim/Não]]=1,1,0),0)","v":0}]
[null,null,null,null,null,null,null,null,null,null,null,"Atrasado",null,null,null,0,0,{"$f":"IF(Table26[[#This Row],[Status Medida]]=\"Finalizado\",IF(Table26[[#This Row],[Sim/Não]]=1,1,0),0)","v":0}]
[null,null,null,null,null,null,null,null,null,null,null,"Atrasado",null,null,null,0,0,{"$f":"IF(Table26[[#This Row],[Status Medida]]=\"Finalizado\",IF(Table26[[#This Row],[Sim/Não]]=1,1,0),0)","v":0}]
[null,null,null,null,null,null,null,null,null,null,null,"Atrasado",null,null,null,0,0,{"$f":"IF(Table26[[#This Row],[Status Medida]]=\"Finalizado\",IF(Table26[[#This Row],[Sim/Não]]=1,1,0),0)","v":0}]
[null,null,null,null,null,null,null,null,null,null,null,"Atrasado",null,null,null,0,0,{"$f":"IF(Table26[[#This Row],[Status Medida]]=\"Finalizado\",IF(Table26[[#This Row],[Sim/Não]]=1,1,0),0)","v":0}]
[null,null,null,null,null,null,null,null,null,null,null,"Atrasado",null,null,null,0,0,{"$f":"IF(Table26[[#This Row],[Status Medida]]=\"Finalizado\",IF(Table26[[#This Row],[Sim/Não]]=1,1,0),0)","v":0}]
[null,null,null,null,null,null,null,null,null,null,null,"Atrasado",null,null,null,0,0,{"$f":"IF(Table26[[#This Row],[Status Medida]]=\"Finalizado\",IF(Table26[[#This Row],[Sim/Não]]=1,1,0),0)","v":0}]
[null,null,null,null,null,null,null,null,null,null,null,"Atrasado",null,null,null,0,0,{"$f":"IF(Table26[[#This Row],[Status Medida]]=\"Finalizado\",IF(Table26[[#This Row],[Sim/Não]]=1,1,0),0)","v":0}]
[null,null,null,null,null,null,null,null,null,null,null,"Atrasado",null,null,null,0,0,{"$f":"IF(Table26[[#This Row],[Status Medida]]=\"Finalizado\",IF(Table26[[#This Row],[Sim/Não]]=1,1,0),0)","v":0}]
[null,null,null,null,null,null,null,null,null,null,null,"Atrasado",null,null,null,0,0,{"$f":"IF(Table26[[#This Row],[Status Medida]]=\"Finalizado\",IF(Table26[[#This Row],[Sim/Não]]=1,1,0),0)","v":0}]
[null,null,null,null,null,null,null,null,null,null,null,"Atrasado",null,null,null,0,0,{"$f":"IF(Table26[[#This Row],[Status Medida]]=\"Finalizado\",IF(Table26[[#This Row],[Sim/Não]]=1,1,0),0)","v":0}]
[null,null,null,null,null,null,null,null,null,null,null,"Atrasado",null,null,null,0,0,{"$f":"IF(Table26[[#This Row],[Status Medida]]=\"Finalizado\",IF(Table26[[#This Row],[Sim/Não]]=1,1,0),0)","v":0}]
[null,null,null,null,null,null,null,null,null,null,null,"Atrasado",null,null,null,0,0,{"$f":"IF(Table26[[#This Row],[Status Medida]]=\"Finalizado\",IF(Table26[[#This Row],[Sim/Não]]=1,1,0),0)","v":0}]
[null,null,null,null,null,null,null,null,null,null,null,"Atrasado",null,null,null,0,0,{"$f":"IF(Table26[[#This Row],[Status Medida]]=\"Finalizado\",IF(Table26[[#This Row],[Sim/Não]]=1,1,0),0)","v":0}]
[null,null,null,null,null,null,null,null,null,null,null,"Atrasado",null,null,null,0,0,{"$f":"IF(Table26[[#This Row],[Status Medida]]=\"Finalizado\",IF(Table26[[#This Row],[Sim/Não]]=1,1,0),0)","v":0}]
[null,null,null,null,null,null,null,null,null,null,null,"Atrasado",null,null,null,0,0,{"$f":"IF(Table26[[#This Row],[Status Medida]]=\"Finalizado\",IF(Table26[[#This Row],[Sim/Não]]=1,1,0),0)","v":0}]
[null,null,null,null,null,null,null,null,null,null,null,"Atrasado",null,null,null,0,0,{"$f":"IF(Table26[[#This Row],[Status Medida]]=\"Finalizado\",IF(Table26[[#This Row],[Sim/Não]]=1,1,0),0)","v":0}]
[null,null,null,null,null,null,null,null,null,null,null,"Atrasado",null,null,null,0,0,{"$f":"IF(Table26[[#This Row],[Status Medida]]=\"Finalizado\",IF(Table26[[#This Row],[Sim/Não]]=1,1,0),0)","v":0}]
[null,null,null,null,null,null,null,null,null,null,null,"Atrasado",null,null,null,0,0,{"$f":"IF(Table26[[#This Row],[Status Medida]]=\"Finalizado\",IF(Table26[[#This Row],[Sim/Não]]=1,1,0),0)","v":0}]
[null,null,null,null,null,null,null,null,null,null,null,"Atrasado",null,null,null,0,0,{"$f":"IF(Table26[[#This Row],[Status Medida]]=\"Finalizado\",IF(Table26[[#This Row],[Sim/Não]]=1,1,0),0)","v":0}]
[null,null,null,null,null,null,null,null,null,null,null,"Atrasado",null,null,null,0,0,{"$f":"IF(Table26[[#This Row],[Status Medida]]=\"Finalizado\",IF(Table26[[#This Row],[Sim/Não]]=1,1,0),0)","v":0}]
[null,null,null,null,null,null,null,null,null,null,null,"Atrasado",null,null,null,0,0,{"$f":"IF(Table26[[#This Row],[Status Medida]]=\"Finalizado\",IF(Table26[[#This Row],[Sim/Não]]=1,1,0),0)","v":0}]
[null,null,null,null,null,null,null,null,null,null,null,"Atrasado",null,null,null,0,0,{"$f":"IF(Table26[[#This Row],[Status Medida]]=\"Finalizado\",IF(Table26[[#This Row],[Sim/Não]]=1,1,0),0)","v":0}]
[null,null,null,null,null,null,null,null,null,null,null,"Atrasado",null,null,null,0,0,{"$f":"IF(Table26[[#This Row],[Status Medida]]=\"Finalizado\",IF(Table26[[#This Row],[Sim/Não]]=1,1,0),0)","v":0}]
[null,null,null,null,null,null,null,null,null,null,null,"Atrasado",null,null,null,0,0,{"$f":"IF(Table26[[#This Row],[Status Medida]]=\"Finalizado\",IF(Table26[[#This Row],[Sim/Não]]=1,1,0),0)","v":0}]
[null,null,null,null,null,null,null,null,null,null,null,"Atrasado",null,null,null,0,0,{"$f":"IF(Table26[[#This Row],[Status Medida]]=\"Finalizado\",IF(Table26[[#This Row],[Sim/Não]]=1,1,0),0)","v":0}]
[null,null,null,null,null,null,null,null,null,null,null,"Atrasado",null,null,null,0,0,{"$f":"IF(Table26[[#This Row],[Status Medida]]=\"Finalizado\",IF(Table26[[#This Row],[Sim/Não]]=1,1,0),0)","v":0}]
[null,null,null,null,null,null,null,null,null,null,null,"Atrasado",null,null,null,0,0,{"$f":"IF(Table26[[#This Row],[Status Medida]]=\"Finalizado\",IF(Table26[[#This Row],[Sim/Não]]=1,1,0),0)","v":0}]
[null,null,null,null,null,null,null,null,null,null,null,"Atrasado",null,null,null,0,0,{"$f":"IF(Table26[[#This Row],[Status Medida]]=\"Finalizado\",IF(Table26[[#This Row],[Sim/Não]]=1,1,0),0)","v":0}]
[null,null,null,null,null,null,null,null,null,null,null,"Atrasado",null,null,null,0,0,{"$f":"IF(Table26[[#This Row],[Status Medida]]=\"Finalizado\",IF(Table26[[#This Row],[Sim/Não]]=1,1,0),0)","v":0}]
[null,null,null,null,null,null,null,null,null,null,null,{"$f":"IF(J11056>K11056,\"Datas inválidas\",IF(M11056=\"Finalizado\",\"Concluído\",IF(J11056>TODAY(),\"Não iniciado\",_xlfn.IFS(J11056=TODAY(),\"Em andamento\",TODAY()>K11056,\"Atrasado\",AND(TODAY()>J11056,TODAY()<=K11056),\"Em andamento\"))))","v":"Atrasado"},null,null,null,{"$f":"IF(O11056=\"Sim\",1,0)","v":0},0,{"$f":"IF(Table26[[#This Row],[Status Medida]]=\"Finalizado\",IF(Table26[[#This Row],[Sim/Não]]=1,1,0),0)","v":0}]
[null,null,null,null,null,null,null,null,null,null,null,"Atrasado",null,null,null,0,0,{"$f":"IF(Table26[[#This Row],[Status Medida]]=\"Finalizado\",IF(Table26[[#This Row],[Sim/Não]]=1,1,0),0)","v":0}]
[null,null,null,null,null,null,null,null,null,null,null,"Atrasado",null,null,null,0,0,{"$f":"IF(Table26[[#This Row],[Status Medida]]=\"Finalizado\",IF(Table26[[#This Row],[Sim/Não]]=1,1,0),0)","v":0}]
[null,null,null,null,null,null,null,null,null,null,null,"Atrasado",null,null,null,0,0,{"$f":"IF(Table26[[#This Row],[Status Medida]]=\"Finalizado\",IF(Table26[[#This Row],[Sim/Não]]=1,1,0),0)","v":0}]
[null,null,null,null,null,null,null,null,null,null,null,"Atrasado",null,null,null,0,0,{"$f":"IF(Table26[[#This Row],[Status Medida]]=\"Finalizado\",IF(Table26[[#This Row],[Sim/Não]]=1,1,0),0)","v":0}]
[null,null,null,null,null,null,null,null,null,null,null,"Atrasado",null,null,null,0,0,{"$f":"IF(Table26[[#This Row],[Status Medida]]=\"Finalizado\",IF(Table26[[#This Row],[Sim/Não]]=1,1,0),0)","v":0}]
[null,null,null,null,null,null,null,null,null,null,null,"Atrasado",null,null,null,0,0,{"$f":"IF(Table26[[#This Row],[Status Medida]]=\"Finalizado\",IF(Table26[[#This Row],[Sim/Não]]=1,1,0),0)","v":0}]
[null,null,null,null,null,null,null,null,null,null,null,"Atrasado",null,null,null,0,0,{"$f":"IF(Table26[[#This Row],[Status Medida]]=\"Finalizado\",IF(Table26[[#This Row],[Sim/Não]]=1,1,0),0)","v":0}]
[null,null,null,null,null,null,null,null,null,null,null,"Atrasado",null,null,null,0,0,{"$f":"IF(Table26[[#This Row],[Status Medida]]=\"Finalizado\",IF(Table26[[#This Row],[Sim/Não]]=1,1,0),0)","v":0}]
[null,null,null,null,null,null,null,null,null,null,null,"Atrasado",null,null,null,0,0,{"$f":"IF(Table26[[#This Row],[Status Medida]]=\"Finalizado\",IF(Table26[[#This Row],[Sim/Não]]=1,1,0),0)","v":0}]
[null,null,null,null,null,null,null,null,null,null,null,"Atrasado",null,null,null,0,0,{"$f":"IF(Table26[[#This Row],[Status Medida]]=\"Finalizado\",IF(Table26[[#This Row],[Sim/Não]]=1,1,0),0)","v":0}]
[null,null,null,null,null,null,null,null,null,null,null,"Atrasado",null,null,null,0,0,{"$f":"IF(Table26[[#This Row],[Status Medida]]=\"Finalizado\",IF(Table26[[#This Row],[Sim/Não]]=1,1,0),0)","v":0}]
[null,null,null,null,null,null,null,null,null,null,null,"Atrasado",null,null,null,0,0,{"$f":"IF(Table26[[#This Row],[Status Medida]]=\"Finalizado\",IF(Table26[[#This Row],[Sim/Não]]=1,1,0),0)","v":0}]
[null,null,null,null,null,null,null,null,null,null,null,"Atrasado",null,null,null,0,{"$f":"IF(N11069=E11069,0,1)","v":0},{"$f":"IF(Table26[[#This Row],[Status Medida]]=\"Finalizado\",IF(Table26[[#This Row],[Sim/Não]]=1,1,0),0)","v":0}]
[null,null,null,null,null,null,null,null,null,null,null,"Atrasado",null,null,null,0,0,{"$f":"IF(Table26[[#This Row],[Status Medida]]=\"Finalizado\",IF(Table26[[#This Row],[Sim/Não]]=1,1,0),0)","v":0}]
[null,null,null,null,null,null,null,null,null,null,null,"Atrasado",null,null,null,0,0,{"$f":"IF(Table26[[#This Row],[Status Medida]]=\"Finalizado\",IF(Table26[[#This Row],[Sim/Não]]=1,1,0),0)","v":0}]
[null,null,null,null,null,null,null,null,null,null,null,"Atrasado",null,null,null,0,0,{"$f":"IF(Table26[[#This Row],[Status Medida]]=\"Finalizado\",IF(Table26[[#This Row],[Sim/Não]]=1,1,0),0)","v":0}]
[null,null,null,null,null,null,null,null,null,null,null,"Atrasado",null,null,null,0,0,{"$f":"IF(Table26[[#This Row],[Status Medida]]=\"Finalizado\",IF(Table26[[#This Row],[Sim/Não]]=1,1,0),0)","v":0}]
[null,null,null,null,null,null,null,null,null,null,null,"Atrasado",null,null,null,0,0,{"$f":"IF(Table26[[#This Row],[Status Medida]]=\"Finalizado\",IF(Table26[[#This Row],[Sim/Não]]=1,1,0),0)","v":0}]
[null,null,null,null,null,null,null,null,null,null,null,"Atrasado",null,null,null,0,0,{"$f":"IF(Table26[[#This Row],[Status Medida]]=\"Finalizado\",IF(Table26[[#This Row],[Sim/Não]]=1,1,0),0)","v":0}]
[null,null,null,null,null,null,null,null,null,null,null,"Atrasado",null,null,null,0,0,{"$f":"IF(Table26[[#This Row],[Status Medida]]=\"Finalizado\",IF(Table26[[#This Row],[Sim/Não]]=1,1,0),0)","v":0}]
[null,null,null,null,null,null,null,null,null,null,null,"Atrasado",null,null,null,0,0,{"$f":"IF(Table26[[#This Row],[Status Medida]]=\"Finalizado\",IF(Table26[[#This Row],[Sim/Não]]=1,1,0),0)","v":0}]
[null,null,null,null,null,null,null,null,null,null,null,"Atrasado",null,null,null,0,0,{"$f":"IF(Table26[[#This Row],[Status Medida]]=\"Finalizado\",IF(Table26[[#This Row],[Sim/Não]]=1,1,0),0)","v":0}]
[null,null,null,null,null,null,null,null,null,null,null,"Atrasado",null,null,null,0,0,{"$f":"IF(Table26[[#This Row],[Status Medida]]=\"Finalizado\",IF(Table26[[#This Row],[Sim/Não]]=1,1,0),0)","v":0}]
[null,null,null,null,null,null,null,null,null,null,null,"Atrasado",null,null,null,0,0,{"$f":"IF(Table26[[#This Row],[Status Medida]]=\"Finalizado\",IF(Table26[[#This Row],[Sim/Não]]=1,1,0),0)","v":0}]
[null,null,null,null,null,null,null,null,null,null,null,"Atrasado",null,null,null,0,0,{"$f":"IF(Table26[[#This Row],[Status Medida]]=\"Finalizado\",IF(Table26[[#This Row],[Sim/Não]]=1,1,0),0)","v":0}]
[null,null,null,null,null,null,null,null,null,null,null,"Atrasado",null,null,null,0,0,{"$f":"IF(Table26[[#This Row],[Status Medida]]=\"Finalizado\",IF(Table26[[#This Row],[Sim/Não]]=1,1,0),0)","v":0}]
[null,null,null,null,null,null,null,null,null,null,null,"Atrasado",null,null,null,0,0,{"$f":"IF(Table26[[#This Row],[Status Medida]]=\"Finalizado\",IF(Table26[[#This Row],[Sim/Não]]=1,1,0),0)","v":0}]
[null,null,null,null,null,null,null,null,null,null,null,"Atrasado",null,null,null,0,0,{"$f":"IF(Table26[[#This Row],[Status Medida]]=\"Finalizado\",IF(Table26[[#This Row],[Sim/Não]]=1,1,0),0)","v":0}]
[null,null,null,null,null,null,null,null,null,null,null,"Atrasado",null,null,null,0,0,{"$f":"IF(Table26[[#This Row],[Status Medida]]=\"Finalizado\",IF(Table26[[#This Row],[Sim/Não]]=1,1,0),0)","v":0}]
[null,null,null,null,null,null,null,null,null,null,null,"Atrasado",null,null,null,0,0,{"$f":"IF(Table26[[#This Row],[Status Medida]]=\"Finalizado\",IF(Table26[[#This Row],[Sim/Não]]=1,1,0),0)","v":0}]
[null,null,null,null,null,null,null,null,null,null,null,"Atrasado",null,null,null,0,0,{"$f":"IF(Table26[[#This Row],[Status Medida]]=\"Finalizado\",IF(Table26[[#This Row],[Sim/Não]]=1,1,0),0)","v":0}]
[null,null,null,null,null,null,null,null,null,null,null,"Atrasado",null,null,null,0,0,{"$f":"IF(Table26[[#This Row],[Status Medida]]=\"Finalizado\",IF(Table26[[#This Row],[Sim/Não]]=1,1,0),0)","v":0}]
[null,null,null,null,null,null,null,null,null,null,null,"Atrasado",null,null,null,0,0,{"$f":"IF(Table26[[#This Row],[Status Medida]]=\"Finalizado\",IF(Table26[[#This Row],[Sim/Não]]=1,1,0),0)","v":0}]
[null,null,null,null,null,null,null,null,null,null,null,"Atrasado",null,null,null,0,0,{"$f":"IF(Table26[[#This Row],[Status Medida]]=\"Finalizado\",IF(Table26[[#This Row],[Sim/Não]]=1,1,0),0)","v":0}]
[null,null,null,null,null,null,null,null,null,null,null,"Atrasado",null,null,null,0,0,{"$f":"IF(Table26[[#This Row],[Status Medida]]=\"Finalizado\",IF(Table26[[#This Row],[Sim/Não]]=1,1,0),0)","v":0}]
[null,null,null,null,null,null,null,null,null,null,null,"Atrasado",null,null,null,0,0,{"$f":"IF(Table26[[#This Row],[Status Medida]]=\"Finalizado\",IF(Table26[[#This Row],[Sim/Não]]=1,1,0),0)","v":0}]
[null,null,null,null,null,null,null,null,null,null,null,"Atrasado",null,null,null,0,0,{"$f":"IF(Table26[[#This Row],[Status Medida]]=\"Finalizado\",IF(Table26[[#This Row],[Sim/Não]]=1,1,0),0)","v":0}]
[null,null,null,null,null,null,null,null,null,null,null,"Atrasado",null,null,null,0,0,{"$f":"IF(Table26[[#This Row],[Status Medida]]=\"Finalizado\",IF(Table26[[#This Row],[Sim/Não]]=1,1,0),0)","v":0}]
[null,null,null,null,null,null,null,null,null,null,null,"Atrasado",null,null,null,0,0,{"$f":"IF(Table26[[#This Row],[Status Medida]]=\"Finalizado\",IF(Table26[[#This Row],[Sim/Não]]=1,1,0),0)","v":0}]
[null,null,null,null,null,null,null,null,null,null,null,"Atrasado",null,null,null,0,0,{"$f":"IF(Table26[[#This Row],[Status Medida]]=\"Finalizado\",IF(Table26[[#This Row],[Sim/Não]]=1,1,0),0)","v":0}]
[null,null,null,null,null,null,null,null,null,null,null,"Atrasado",null,null,null,0,0,{"$f":"IF(Table26[[#This Row],[Status Medida]]=\"Finalizado\",IF(Table26[[#This Row],[Sim/Não]]=1,1,0),0)","v":0}]
[null,null,null,null,null,null,null,null,null,null,null,"Atrasado",null,null,null,0,0,{"$f":"IF(Table26[[#This Row],[Status Medida]]=\"Finalizado\",IF(Table26[[#This Row],[Sim/Não]]=1,1,0),0)","v":0}]
[null,null,null,null,null,null,null,null,null,null,null,"Atrasado",null,null,null,0,0,{"$f":"IF(Table26[[#This Row],[Status Medida]]=\"Finalizado\",IF(Table26[[#This Row],[Sim/Não]]=1,1,0),0)","v":0}]
[null,null,null,null,null,null,null,null,null,null,null,"Atrasado",null,null,null,0,0,{"$f":"IF(Table26[[#This Row],[Status Medida]]=\"Finalizado\",IF(Table26[[#This Row],[Sim/Não]]=1,1,0),0)","v":0}]
[null,null,null,null,null,null,null,null,null,null,null,"Atrasado",null,null,null,0,0,{"$f":"IF(Table26[[#This Row],[Status Medida]]=\"Finalizado\",IF(Table26[[#This Row],[Sim/Não]]=1,1,0),0)","v":0}]
[null,null,null,null,null,null,null,null,null,null,null,"Atrasado",null,null,null,0,0,{"$f":"IF(Table26[[#This Row],[Status Medida]]=\"Finalizado\",IF(Table26[[#This Row],[Sim/Não]]=1,1,0),0)","v":0}]
[null,null,null,null,null,null,null,null,null,null,null,"Atrasado",null,null,null,0,0,{"$f":"IF(Table26[[#This Row],[Status Medida]]=\"Finalizado\",IF(Table26[[#This Row],[Sim/Não]]=1,1,0),0)","v":0}]
[null,null,null,null,null,null,null,null,null,null,null,"Atrasado",null,null,null,0,0,{"$f":"IF(Table26[[#This Row],[Status Medida]]=\"Finalizado\",IF(Table26[[#This Row],[Sim/Não]]=1,1,0),0)","v":0}]
[null,null,null,null,null,null,null,null,null,null,null,"Atrasado",null,null,null,0,0,{"$f":"IF(Table26[[#This Row],[Status Medida]]=\"Finalizado\",IF(Table26[[#This Row],[Sim/Não]]=1,1,0),0)","v":0}]
[null,null,null,null,null,null,null,null,null,null,null,"Atrasado",null,null,null,0,0,{"$f":"IF(Table26[[#This Row],[Status Medida]]=\"Finalizado\",IF(Table26[[#This Row],[Sim/Não]]=1,1,0),0)","v":0}]
[null,null,null,null,null,null,null,null,null,null,null,"Atrasado",null,null,null,0,0,{"$f":"IF(Table26[[#This Row],[Status Medida]]=\"Finalizado\",IF(Table26[[#This Row],[Sim/Não]]=1,1,0),0)","v":0}]
[null,null,null,null,null,null,null,null,null,null,null,"Atrasado",null,null,null,0,0,{"$f":"IF(Table26[[#This Row],[Status Medida]]=\"Finalizado\",IF(Table26[[#This Row],[Sim/Não]]=1,1,0),0)","v":0}]
[null,null,null,null,null,null,null,null,null,null,null,"Atrasado",null,null,null,0,0,{"$f":"IF(Table26[[#This Row],[Status Medida]]=\"Finalizado\",IF(Table26[[#This Row],[Sim/Não]]=1,1,0),0)","v":0}]
[null,null,null,null,null,null,null,null,null,null,null,"Atrasado",null,null,null,0,0,{"$f":"IF(Table26[[#This Row],[Status Medida]]=\"Finalizado\",IF(Table26[[#This Row],[Sim/Não]]=1,1,0),0)","v":0}]
[null,null,null,null,null,null,null,null,null,null,null,"Atrasado",null,null,null,0,0,{"$f":"IF(Table26[[#This Row],[Status Medida]]=\"Finalizado\",IF(Table26[[#This Row],[Sim/Não]]=1,1,0),0)","v":0}]
[null,null,null,null,null,null,null,null,null,null,null,"Atrasado",null,null,null,0,0,{"$f":"IF(Table26[[#This Row],[Status Medida]]=\"Finalizado\",IF(Table26[[#This Row],[Sim/Não]]=1,1,0),0)","v":0}]
[null,null,null,null,null,null,null,null,null,null,null,"Atrasado",null,null,null,0,0,{"$f":"IF(Table26[[#This Row],[Status Medida]]=\"Finalizado\",IF(Table26[[#This Row],[Sim/Não]]=1,1,0),0)","v":0}]
[null,null,null,null,null,null,null,null,null,null,null,"Atrasado",null,null,null,0,0,{"$f":"IF(Table26[[#This Row],[Status Medida]]=\"Finalizado\",IF(Table26[[#This Row],[Sim/Não]]=1,1,0),0)","v":0}]
[null,null,null,null,null,null,null,null,null,null,null,"Atrasado",null,null,null,0,0,{"$f":"IF(Table26[[#This Row],[Status Medida]]=\"Finalizado\",IF(Table26[[#This Row],[Sim/Não]]=1,1,0),0)","v":0}]
[null,null,null,null,null,null,null,null,null,null,null,"Atrasado",null,null,null,0,0,{"$f":"IF(Table26[[#This Row],[Status Medida]]=\"Finalizado\",IF(Table26[[#This Row],[Sim/Não]]=1,1,0),0)","v":0}]
[null,null,null,null,null,null,null,null,null,null,null,"Atrasado",null,null,null,0,0,{"$f":"IF(Table26[[#This Row],[Status Medida]]=\"Finalizado\",IF(Table26[[#This Row],[Sim/Não]]=1,1,0),0)","v":0}]
[null,null,null,null,null,null,null,null,null,null,null,"Atrasado",null,null,null,0,0,{"$f":"IF(Table26[[#This Row],[Status Medida]]=\"Finalizado\",IF(Table26[[#This Row],[Sim/Não]]=1,1,0),0)","v":0}]
[null,null,null,null,null,null,null,null,null,null,null,"Atrasado",null,null,null,0,0,{"$f":"IF(Table26[[#This Row],[Status Medida]]=\"Finalizado\",IF(Table26[[#This Row],[Sim/Não]]=1,1,0),0)","v":0}]
[null,null,null,null,null,null,null,null,null,null,null,{"$f":"IF(J11120>K11120,\"Datas inválidas\",IF(M11120=\"Finalizado\",\"Concluído\",IF(J11120>TODAY(),\"Não iniciado\",_xlfn.IFS(J11120=TODAY(),\"Em andamento\",TODAY()>K11120,\"Atrasado\",AND(TODAY()>J11120,TODAY()<=K11120),\"Em andamento\"))))","v":"Atrasado"},null,null,null,{"$f":"IF(O11120=\"Sim\",1,0)","v":0},0,{"$f":"IF(Table26[[#This Row],[Status Medida]]=\"Finalizado\",IF(Table26[[#This Row],[Sim/Não]]=1,1,0),0)","v":0}]
[null,null,null,null,null,null,null,null,null,null,null,"Atrasado",null,null,null,0,0,{"$f":"IF(Table26[[#This Row],[Status Medida]]=\"Finalizado\",IF(Table26[[#This Row],[Sim/Não]]=1,1,0),0)","v":0}]
[null,null,null,null,null,null,null,null,null,null,null,"Atrasado",null,null,null,0,0,{"$f":"IF(Table26[[#This Row],[Status Medida]]=\"Finalizado\",IF(Table26[[#This Row],[Sim/Não]]=1,1,0),0)","v":0}]
[null,null,null,null,null,null,null,null,null,null,null,"Atrasado",null,null,null,0,0,{"$f":"IF(Table26[[#This Row],[Status Medida]]=\"Finalizado\",IF(Table26[[#This Row],[Sim/Não]]=1,1,0),0)","v":0}]
[null,null,null,null,null,null,null,null,null,null,null,"Atrasado",null,null,null,0,0,{"$f":"IF(Table26[[#This Row],[Status Medida]]=\"Finalizado\",IF(Table26[[#This Row],[Sim/Não]]=1,1,0),0)","v":0}]
[null,null,null,null,null,null,null,null,null,null,null,"Atrasado",null,null,null,0,0,{"$f":"IF(Table26[[#This Row],[Status Medida]]=\"Finalizado\",IF(Table26[[#This Row],[Sim/Não]]=1,1,0),0)","v":0}]
[null,null,null,null,null,null,null,null,null,null,null,"Atrasado",null,null,null,0,0,{"$f":"IF(Table26[[#This Row],[Status Medida]]=\"Finalizado\",IF(Table26[[#This Row],[Sim/Não]]=1,1,0),0)","v":0}]
[null,null,null,null,null,null,null,null,null,null,null,"Atrasado",null,null,null,0,0,{"$f":"IF(Table26[[#This Row],[Status Medida]]=\"Finalizado\",IF(Table26[[#This Row],[Sim/Não]]=1,1,0),0)","v":0}]
[null,null,null,null,null,null,null,null,null,null,null,"Atrasado",null,null,null,0,0,{"$f":"IF(Table26[[#This Row],[Status Medida]]=\"Finalizado\",IF(Table26[[#This Row],[Sim/Não]]=1,1,0),0)","v":0}]
[null,null,null,null,null,null,null,null,null,null,null,"Atrasado",null,null,null,0,0,{"$f":"IF(Table26[[#This Row],[Status Medida]]=\"Finalizado\",IF(Table26[[#This Row],[Sim/Não]]=1,1,0),0)","v":0}]
[null,null,null,null,null,null,null,null,null,null,null,"Atrasado",null,null,null,0,0,{"$f":"IF(Table26[[#This Row],[Status Medida]]=\"Finalizado\",IF(Table26[[#This Row],[Sim/Não]]=1,1,0),0)","v":0}]
[null,null,null,null,null,null,null,null,null,null,null,"Atrasado",null,null,null,0,0,{"$f":"IF(Table26[[#This Row],[Status Medida]]=\"Finalizado\",IF(Table26[[#This Row],[Sim/Não]]=1,1,0),0)","v":0}]
[null,null,null,null,null,null,null,null,null,null,null,"Atrasado",null,null,null,0,0,{"$f":"IF(Table26[[#This Row],[Status Medida]]=\"Finalizado\",IF(Table26[[#This Row],[Sim/Não]]=1,1,0),0)","v":0}]
[null,null,null,null,null,null,null,null,null,null,null,"Atrasado",null,null,null,0,{"$f":"IF(N11133=E11133,0,1)","v":0},{"$f":"IF(Table26[[#This Row],[Status Medida]]=\"Finalizado\",IF(Table26[[#This Row],[Sim/Não]]=1,1,0),0)","v":0}]
[null,null,null,null,null,null,null,null,null,null,null,"Atrasado",null,null,null,0,0,{"$f":"IF(Table26[[#This Row],[Status Medida]]=\"Finalizado\",IF(Table26[[#This Row],[Sim/Não]]=1,1,0),0)","v":0}]
[null,null,null,null,null,null,null,null,null,null,null,"Atrasado",null,null,null,0,0,{"$f":"IF(Table26[[#This Row],[Status Medida]]=\"Finalizado\",IF(Table26[[#This Row],[Sim/Não]]=1,1,0),0)","v":0}]
[null,null,null,null,null,null,null,null,null,null,null,"Atrasado",null,null,null,0,0,{"$f":"IF(Table26[[#This Row],[Status Medida]]=\"Finalizado\",IF(Table26[[#This Row],[Sim/Não]]=1,1,0),0)","v":0}]
[null,null,null,null,null,null,null,null,null,null,null,"Atrasado",null,null,null,0,0,{"$f":"IF(Table26[[#This Row],[Status Medida]]=\"Finalizado\",IF(Table26[[#This Row],[Sim/Não]]=1,1,0),0)","v":0}]
[null,null,null,null,null,null,null,null,null,null,null,"Atrasado",null,null,null,0,0,{"$f":"IF(Table26[[#This Row],[Status Medida]]=\"Finalizado\",IF(Table26[[#This Row],[Sim/Não]]=1,1,0),0)","v":0}]
[null,null,null,null,null,null,null,null,null,null,null,"Atrasado",null,null,null,0,0,{"$f":"IF(Table26[[#This Row],[Status Medida]]=\"Finalizado\",IF(Table26[[#This Row],[Sim/Não]]=1,1,0),0)","v":0}]
[null,null,null,null,null,null,null,null,null,null,null,"Atrasado",null,null,null,0,0,{"$f":"IF(Table26[[#This Row],[Status Medida]]=\"Finalizado\",IF(Table26[[#This Row],[Sim/Não]]=1,1,0),0)","v":0}]
[null,null,null,null,null,null,null,null,null,null,null,"Atrasado",null,null,null,0,0,{"$f":"IF(Table26[[#This Row],[Status Medida]]=\"Finalizado\",IF(Table26[[#This Row],[Sim/Não]]=1,1,0),0)","v":0}]
[null,null,null,null,null,null,null,null,null,null,null,"Atrasado",null,null,null,0,0,{"$f":"IF(Table26[[#This Row],[Status Medida]]=\"Finalizado\",IF(Table26[[#This Row],[Sim/Não]]=1,1,0),0)","v":0}]
[null,null,null,null,null,null,null,null,null,null,null,"Atrasado",null,null,null,0,0,{"$f":"IF(Table26[[#This Row],[Status Medida]]=\"Finalizado\",IF(Table26[[#This Row],[Sim/Não]]=1,1,0),0)","v":0}]
[null,null,null,null,null,null,null,null,null,null,null,"Atrasado",null,null,null,0,0,{"$f":"IF(Table26[[#This Row],[Status Medida]]=\"Finalizado\",IF(Table26[[#This Row],[Sim/Não]]=1,1,0),0)","v":0}]
[null,null,null,null,null,null,null,null,null,null,null,"Atrasado",null,null,null,0,0,{"$f":"IF(Table26[[#This Row],[Status Medida]]=\"Finalizado\",IF(Table26[[#This Row],[Sim/Não]]=1,1,0),0)","v":0}]
[null,null,null,null,null,null,null,null,null,null,null,"Atrasado",null,null,null,0,0,{"$f":"IF(Table26[[#This Row],[Status Medida]]=\"Finalizado\",IF(Table26[[#This Row],[Sim/Não]]=1,1,0),0)","v":0}]
[null,null,null,null,null,null,null,null,null,null,null,"Atrasado",null,null,null,0,0,{"$f":"IF(Table26[[#This Row],[Status Medida]]=\"Finalizado\",IF(Table26[[#This Row],[Sim/Não]]=1,1,0),0)","v":0}]
[null,null,null,null,null,null,null,null,null,null,null,"Atrasado",null,null,null,0,0,{"$f":"IF(Table26[[#This Row],[Status Medida]]=\"Finalizado\",IF(Table26[[#This Row],[Sim/Não]]=1,1,0),0)","v":0}]
[null,null,null,null,null,null,null,null,null,null,null,"Atrasado",null,null,null,0,0,{"$f":"IF(Table26[[#This Row],[Status Medida]]=\"Finalizado\",IF(Table26[[#This Row],[Sim/Não]]=1,1,0),0)","v":0}]
[null,null,null,null,null,null,null,null,null,null,null,"Atrasado",null,null,null,0,0,{"$f":"IF(Table26[[#This Row],[Status Medida]]=\"Finalizado\",IF(Table26[[#This Row],[Sim/Não]]=1,1,0),0)","v":0}]
[null,null,null,null,null,null,null,null,null,null,null,"Atrasado",null,null,null,0,0,{"$f":"IF(Table26[[#This Row],[Status Medida]]=\"Finalizado\",IF(Table26[[#This Row],[Sim/Não]]=1,1,0),0)","v":0}]
[null,null,null,null,null,null,null,null,null,null,null,"Atrasado",null,null,null,0,0,{"$f":"IF(Table26[[#This Row],[Status Medida]]=\"Finalizado\",IF(Table26[[#This Row],[Sim/Não]]=1,1,0),0)","v":0}]
[null,null,null,null,null,null,null,null,null,null,null,"Atrasado",null,null,null,0,0,{"$f":"IF(Table26[[#This Row],[Status Medida]]=\"Finalizado\",IF(Table26[[#This Row],[Sim/Não]]=1,1,0),0)","v":0}]
[null,null,null,null,null,null,null,null,null,null,null,"Atrasado",null,null,null,0,0,{"$f":"IF(Table26[[#This Row],[Status Medida]]=\"Finalizado\",IF(Table26[[#This Row],[Sim/Não]]=1,1,0),0)","v":0}]
[null,null,null,null,null,null,null,null,null,null,null,"Atrasado",null,null,null,0,0,{"$f":"IF(Table26[[#This Row],[Status Medida]]=\"Finalizado\",IF(Table26[[#This Row],[Sim/Não]]=1,1,0),0)","v":0}]
[null,null,null,null,null,null,null,null,null,null,null,"Atrasado",null,null,null,0,0,{"$f":"IF(Table26[[#This Row],[Status Medida]]=\"Finalizado\",IF(Table26[[#This Row],[Sim/Não]]=1,1,0),0)","v":0}]
[null,null,null,null,null,null,null,null,null,null,null,"Atrasado",null,null,null,0,0,{"$f":"IF(Table26[[#This Row],[Status Medida]]=\"Finalizado\",IF(Table26[[#This Row],[Sim/Não]]=1,1,0),0)","v":0}]
[null,null,null,null,null,null,null,null,null,null,null,"Atrasado",null,null,null,0,0,{"$f":"IF(Table26[[#This Row],[Status Medida]]=\"Finalizado\",IF(Table26[[#This Row],[Sim/Não]]=1,1,0),0)","v":0}]
[null,null,null,null,null,null,null,null,null,null,null,"Atrasado",null,null,null,0,0,{"$f":"IF(Table26[[#This Row],[Status Medida]]=\"Finalizado\",IF(Table26[[#This Row],[Sim/Não]]=1,1,0),0)","v":0}]
[null,null,null,null,null,null,null,null,null,null,null,"Atrasado",null,null,null,0,0,{"$f":"IF(Table26[[#This Row],[Status Medida]]=\"Finalizado\",IF(Table26[[#This Row],[Sim/Não]]=1,1,0),0)","v":0}]
[null,null,null,null,null,null,null,null,null,null,null,"Atrasado",null,null,null,0,0,{"$f":"IF(Table26[[#This Row],[Status Medida]]=\"Finalizado\",IF(Table26[[#This Row],[Sim/Não]]=1,1,0),0)","v":0}]
[null,null,null,null,null,null,null,null,null,null,null,"Atrasado",null,null,null,0,0,{"$f":"IF(Table26[[#This Row],[Status Medida]]=\"Finalizado\",IF(Table26[[#This Row],[Sim/Não]]=1,1,0),0)","v":0}]
[null,null,null,null,null,null,null,null,null,null,null,"Atrasado",null,null,null,0,0,{"$f":"IF(Table26[[#This Row],[Status Medida]]=\"Finalizado\",IF(Table26[[#This Row],[Sim/Não]]=1,1,0),0)","v":0}]
[null,null,null,null,null,null,null,null,null,null,null,"Atrasado",null,null,null,0,0,{"$f":"IF(Table26[[#This Row],[Status Medida]]=\"Finalizado\",IF(Table26[[#This Row],[Sim/Não]]=1,1,0),0)","v":0}]
[null,null,null,null,null,null,null,null,null,null,null,"Atrasado",null,null,null,0,0,{"$f":"IF(Table26[[#This Row],[Status Medida]]=\"Finalizado\",IF(Table26[[#This Row],[Sim/Não]]=1,1,0),0)","v":0}]
[null,null,null,null,null,null,null,null,null,null,null,"Atrasado",null,null,null,0,0,{"$f":"IF(Table26[[#This Row],[Status Medida]]=\"Finalizado\",IF(Table26[[#This Row],[Sim/Não]]=1,1,0),0)","v":0}]
[null,null,null,null,null,null,null,null,null,null,null,"Atrasado",null,null,null,0,0,{"$f":"IF(Table26[[#This Row],[Status Medida]]=\"Finalizado\",IF(Table26[[#This Row],[Sim/Não]]=1,1,0),0)","v":0}]
[null,null,null,null,null,null,null,null,null,null,null,"Atrasado",null,null,null,0,0,{"$f":"IF(Table26[[#This Row],[Status Medida]]=\"Finalizado\",IF(Table26[[#This Row],[Sim/Não]]=1,1,0),0)","v":0}]
[null,null,null,null,null,null,null,null,null,null,null,"Atrasado",null,null,null,0,0,{"$f":"IF(Table26[[#This Row],[Status Medida]]=\"Finalizado\",IF(Table26[[#This Row],[Sim/Não]]=1,1,0),0)","v":0}]
[null,null,null,null,null,null,null,null,null,null,null,"Atrasado",null,null,null,0,0,{"$f":"IF(Table26[[#This Row],[Status Medida]]=\"Finalizado\",IF(Table26[[#This Row],[Sim/Não]]=1,1,0),0)","v":0}]
[null,null,null,null,null,null,null,null,null,null,null,"Atrasado",null,null,null,0,0,{"$f":"IF(Table26[[#This Row],[Status Medida]]=\"Finalizado\",IF(Table26[[#This Row],[Sim/Não]]=1,1,0),0)","v":0}]
[null,null,null,null,null,null,null,null,null,null,null,"Atrasado",null,null,null,0,0,{"$f":"IF(Table26[[#This Row],[Status Medida]]=\"Finalizado\",IF(Table26[[#This Row],[Sim/Não]]=1,1,0),0)","v":0}]
[null,null,null,null,null,null,null,null,null,null,null,"Atrasado",null,null,null,0,0,{"$f":"IF(Table26[[#This Row],[Status Medida]]=\"Finalizado\",IF(Table26[[#This Row],[Sim/Não]]=1,1,0),0)","v":0}]
[null,null,null,null,null,null,null,null,null,null,null,"Atrasado",null,null,null,0,0,{"$f":"IF(Table26[[#This Row],[Status Medida]]=\"Finalizado\",IF(Table26[[#This Row],[Sim/Não]]=1,1,0),0)","v":0}]
[null,null,null,null,null,null,null,null,null,null,null,"Atrasado",null,null,null,0,0,{"$f":"IF(Table26[[#This Row],[Status Medida]]=\"Finalizado\",IF(Table26[[#This Row],[Sim/Não]]=1,1,0),0)","v":0}]
[null,null,null,null,null,null,null,null,null,null,null,"Atrasado",null,null,null,0,0,{"$f":"IF(Table26[[#This Row],[Status Medida]]=\"Finalizado\",IF(Table26[[#This Row],[Sim/Não]]=1,1,0),0)","v":0}]
[null,null,null,null,null,null,null,null,null,null,null,"Atrasado",null,null,null,0,0,{"$f":"IF(Table26[[#This Row],[Status Medida]]=\"Finalizado\",IF(Table26[[#This Row],[Sim/Não]]=1,1,0),0)","v":0}]
[null,null,null,null,null,null,null,null,null,null,null,"Atrasado",null,null,null,0,0,{"$f":"IF(Table26[[#This Row],[Status Medida]]=\"Finalizado\",IF(Table26[[#This Row],[Sim/Não]]=1,1,0),0)","v":0}]
[null,null,null,null,null,null,null,null,null,null,null,"Atrasado",null,null,null,0,0,{"$f":"IF(Table26[[#This Row],[Status Medida]]=\"Finalizado\",IF(Table26[[#This Row],[Sim/Não]]=1,1,0),0)","v":0}]
[null,null,null,null,null,null,null,null,null,null,null,"Atrasado",null,null,null,0,0,{"$f":"IF(Table26[[#This Row],[Status Medida]]=\"Finalizado\",IF(Table26[[#This Row],[Sim/Não]]=1,1,0),0)","v":0}]
[null,null,null,null,null,null,null,null,null,null,null,"Atrasado",null,null,null,0,0,{"$f":"IF(Table26[[#This Row],[Status Medida]]=\"Finalizado\",IF(Table26[[#This Row],[Sim/Não]]=1,1,0),0)","v":0}]
[null,null,null,null,null,null,null,null,null,null,null,"Atrasado",null,null,null,0,0,{"$f":"IF(Table26[[#This Row],[Status Medida]]=\"Finalizado\",IF(Table26[[#This Row],[Sim/Não]]=1,1,0),0)","v":0}]
[null,null,null,null,null,null,null,null,null,null,null,"Atrasado",null,null,null,0,0,{"$f":"IF(Table26[[#This Row],[Status Medida]]=\"Finalizado\",IF(Table26[[#This Row],[Sim/Não]]=1,1,0),0)","v":0}]
[null,null,null,null,null,null,null,null,null,null,null,{"$f":"IF(J11184>K11184,\"Datas inválidas\",IF(M11184=\"Finalizado\",\"Concluído\",IF(J11184>TODAY(),\"Não iniciado\",_xlfn.IFS(J11184=TODAY(),\"Em andamento\",TODAY()>K11184,\"Atrasado\",AND(TODAY()>J11184,TODAY()<=K11184),\"Em andamento\"))))","v":"Atrasado"},null,null,null,{"$f":"IF(O11184=\"Sim\",1,0)","v":0},0,{"$f":"IF(Table26[[#This Row],[Status Medida]]=\"Finalizado\",IF(Table26[[#This Row],[Sim/Não]]=1,1,0),0)","v":0}]
[null,null,null,null,null,null,null,null,null,null,null,"Atrasado",null,null,null,0,0,{"$f":"IF(Table26[[#This Row],[Status Medida]]=\"Finalizado\",IF(Table26[[#This Row],[Sim/Não]]=1,1,0),0)","v":0}]
[null,null,null,null,null,null,null,null,null,null,null,"Atrasado",null,null,null,0,0,{"$f":"IF(Table26[[#This Row],[Status Medida]]=\"Finalizado\",IF(Table26[[#This Row],[Sim/Não]]=1,1,0),0)","v":0}]
[null,null,null,null,null,null,null,null,null,null,null,"Atrasado",null,null,null,0,0,{"$f":"IF(Table26[[#This Row],[Status Medida]]=\"Finalizado\",IF(Table26[[#This Row],[Sim/Não]]=1,1,0),0)","v":0}]
[null,null,null,null,null,null,null,null,null,null,null,"Atrasado",null,null,null,0,0,{"$f":"IF(Table26[[#This Row],[Status Medida]]=\"Finalizado\",IF(Table26[[#This Row],[Sim/Não]]=1,1,0),0)","v":0}]
[null,null,null,null,null,null,null,null,null,null,null,"Atrasado",null,null,null,0,0,{"$f":"IF(Table26[[#This Row],[Status Medida]]=\"Finalizado\",IF(Table26[[#This Row],[Sim/Não]]=1,1,0),0)","v":0}]
[null,null,null,null,null,null,null,null,null,null,null,"Atrasado",null,null,null,0,0,{"$f":"IF(Table26[[#This Row],[Status Medida]]=\"Finalizado\",IF(Table26[[#This Row],[Sim/Não]]=1,1,0),0)","v":0}]
[null,null,null,null,null,null,null,null,null,null,null,"Atrasado",null,null,null,0,0,{"$f":"IF(Table26[[#This Row],[Status Medida]]=\"Finalizado\",IF(Table26[[#This Row],[Sim/Não]]=1,1,0),0)","v":0}]
[null,null,null,null,null,null,null,null,null,null,null,"Atrasado",null,null,null,0,0,{"$f":"IF(Table26[[#This Row],[Status Medida]]=\"Finalizado\",IF(Table26[[#This Row],[Sim/Não]]=1,1,0),0)","v":0}]
[null,null,null,null,null,null,null,null,null,null,null,"Atrasado",null,null,null,0,0,{"$f":"IF(Table26[[#This Row],[Status Medida]]=\"Finalizado\",IF(Table26[[#This Row],[Sim/Não]]=1,1,0),0)","v":0}]
[null,null,null,null,null,null,null,null,null,null,null,"Atrasado",null,null,null,0,0,{"$f":"IF(Table26[[#This Row],[Status Medida]]=\"Finalizado\",IF(Table26[[#This Row],[Sim/Não]]=1,1,0),0)","v":0}]
[null,null,null,null,null,null,null,null,null,null,null,"Atrasado",null,null,null,0,0,{"$f":"IF(Table26[[#This Row],[Status Medida]]=\"Finalizado\",IF(Table26[[#This Row],[Sim/Não]]=1,1,0),0)","v":0}]
[null,null,null,null,null,null,null,null,null,null,null,"Atrasado",null,null,null,0,0,{"$f":"IF(Table26[[#This Row],[Status Medida]]=\"Finalizado\",IF(Table26[[#This Row],[Sim/Não]]=1,1,0),0)","v":0}]
[null,null,null,null,null,null,null,null,null,null,null,"Atrasado",null,null,null,0,{"$f":"IF(N11197=E11197,0,1)","v":0},{"$f":"IF(Table26[[#This Row],[Status Medida]]=\"Finalizado\",IF(Table26[[#This Row],[Sim/Não]]=1,1,0),0)","v":0}]
[null,null,null,null,null,null,null,null,null,null,null,"Atrasado",null,null,null,0,0,{"$f":"IF(Table26[[#This Row],[Status Medida]]=\"Finalizado\",IF(Table26[[#This Row],[Sim/Não]]=1,1,0),0)","v":0}]
[null,null,null,null,null,null,null,null,null,null,null,"Atrasado",null,null,null,0,0,{"$f":"IF(Table26[[#This Row],[Status Medida]]=\"Finalizado\",IF(Table26[[#This Row],[Sim/Não]]=1,1,0),0)","v":0}]
[null,null,null,null,null,null,null,null,null,null,null,"Atrasado",null,null,null,0,0,{"$f":"IF(Table26[[#This Row],[Status Medida]]=\"Finalizado\",IF(Table26[[#This Row],[Sim/Não]]=1,1,0),0)","v":0}]
[null,null,null,null,null,null,null,null,null,null,null,"Atrasado",null,null,null,0,0,{"$f":"IF(Table26[[#This Row],[Status Medida]]=\"Finalizado\",IF(Table26[[#This Row],[Sim/Não]]=1,1,0),0)","v":0}]
[null,null,null,null,null,null,null,null,null,null,null,"Atrasado",null,null,null,0,0,{"$f":"IF(Table26[[#This Row],[Status Medida]]=\"Finalizado\",IF(Table26[[#This Row],[Sim/Não]]=1,1,0),0)","v":0}]
[null,null,null,null,null,null,null,null,null,null,null,"Atrasado",null,null,null,0,0,{"$f":"IF(Table26[[#This Row],[Status Medida]]=\"Finalizado\",IF(Table26[[#This Row],[Sim/Não]]=1,1,0),0)","v":0}]
[null,null,null,null,null,null,null,null,null,null,null,"Atrasado",null,null,null,0,0,{"$f":"IF(Table26[[#This Row],[Status Medida]]=\"Finalizado\",IF(Table26[[#This Row],[Sim/Não]]=1,1,0),0)","v":0}]
[null,null,null,null,null,null,null,null,null,null,null,"Atrasado",null,null,null,0,0,{"$f":"IF(Table26[[#This Row],[Status Medida]]=\"Finalizado\",IF(Table26[[#This Row],[Sim/Não]]=1,1,0),0)","v":0}]
[null,null,null,null,null,null,null,null,null,null,null,"Atrasado",null,null,null,0,0,{"$f":"IF(Table26[[#This Row],[Status Medida]]=\"Finalizado\",IF(Table26[[#This Row],[Sim/Não]]=1,1,0),0)","v":0}]
[null,null,null,null,null,null,null,null,null,null,null,"Atrasado",null,null,null,0,0,{"$f":"IF(Table26[[#This Row],[Status Medida]]=\"Finalizado\",IF(Table26[[#This Row],[Sim/Não]]=1,1,0),0)","v":0}]
[null,null,null,null,null,null,null,null,null,null,null,"Atrasado",null,null,null,0,0,{"$f":"IF(Table26[[#This Row],[Status Medida]]=\"Finalizado\",IF(Table26[[#This Row],[Sim/Não]]=1,1,0),0)","v":0}]
[null,null,null,null,null,null,null,null,null,null,null,"Atrasado",null,null,null,0,0,{"$f":"IF(Table26[[#This Row],[Status Medida]]=\"Finalizado\",IF(Table26[[#This Row],[Sim/Não]]=1,1,0),0)","v":0}]
[null,null,null,null,null,null,null,null,null,null,null,"Atrasado",null,null,null,0,0,{"$f":"IF(Table26[[#This Row],[Status Medida]]=\"Finalizado\",IF(Table26[[#This Row],[Sim/Não]]=1,1,0),0)","v":0}]
[null,null,null,null,null,null,null,null,null,null,null,"Atrasado",null,null,null,0,0,{"$f":"IF(Table26[[#This Row],[Status Medida]]=\"Finalizado\",IF(Table26[[#This Row],[Sim/Não]]=1,1,0),0)","v":0}]
[null,null,null,null,null,null,null,null,null,null,null,"Atrasado",null,null,null,0,0,{"$f":"IF(Table26[[#This Row],[Status Medida]]=\"Finalizado\",IF(Table26[[#This Row],[Sim/Não]]=1,1,0),0)","v":0}]
[null,null,null,null,null,null,null,null,null,null,null,"Atrasado",null,null,null,0,0,{"$f":"IF(Table26[[#This Row],[Status Medida]]=\"Finalizado\",IF(Table26[[#This Row],[Sim/Não]]=1,1,0),0)","v":0}]
[null,null,null,null,null,null,null,null,null,null,null,"Atrasado",null,null,null,0,0,{"$f":"IF(Table26[[#This Row],[Status Medida]]=\"Finalizado\",IF(Table26[[#This Row],[Sim/Não]]=1,1,0),0)","v":0}]
[null,null,null,null,null,null,null,null,null,null,null,"Atrasado",null,null,null,0,0,{"$f":"IF(Table26[[#This Row],[Status Medida]]=\"Finalizado\",IF(Table26[[#This Row],[Sim/Não]]=1,1,0),0)","v":0}]
[null,null,null,null,null,null,null,null,null,null,null,"Atrasado",null,null,null,0,0,{"$f":"IF(Table26[[#This Row],[Status Medida]]=\"Finalizado\",IF(Table26[[#This Row],[Sim/Não]]=1,1,0),0)","v":0}]
[null,null,null,null,null,null,null,null,null,null,null,"Atrasado",null,null,null,0,0,{"$f":"IF(Table26[[#This Row],[Status Medida]]=\"Finalizado\",IF(Table26[[#This Row],[Sim/Não]]=1,1,0),0)","v":0}]
[null,null,null,null,null,null,null,null,null,null,null,"Atrasado",null,null,null,0,0,{"$f":"IF(Table26[[#This Row],[Status Medida]]=\"Finalizado\",IF(Table26[[#This Row],[Sim/Não]]=1,1,0),0)","v":0}]
[null,null,null,null,null,null,null,null,null,null,null,"Atrasado",null,null,null,0,0,{"$f":"IF(Table26[[#This Row],[Status Medida]]=\"Finalizado\",IF(Table26[[#This Row],[Sim/Não]]=1,1,0),0)","v":0}]
[null,null,null,null,null,null,null,null,null,null,null,"Atrasado",null,null,null,0,0,{"$f":"IF(Table26[[#This Row],[Status Medida]]=\"Finalizado\",IF(Table26[[#This Row],[Sim/Não]]=1,1,0),0)","v":0}]
[null,null,null,null,null,null,null,null,null,null,null,"Atrasado",null,null,null,0,0,{"$f":"IF(Table26[[#This Row],[Status Medida]]=\"Finalizado\",IF(Table26[[#This Row],[Sim/Não]]=1,1,0),0)","v":0}]
[null,null,null,null,null,null,null,null,null,null,null,"Atrasado",null,null,null,0,0,{"$f":"IF(Table26[[#This Row],[Status Medida]]=\"Finalizado\",IF(Table26[[#This Row],[Sim/Não]]=1,1,0),0)","v":0}]
[null,null,null,null,null,null,null,null,null,null,null,"Atrasado",null,null,null,0,0,{"$f":"IF(Table26[[#This Row],[Status Medida]]=\"Finalizado\",IF(Table26[[#This Row],[Sim/Não]]=1,1,0),0)","v":0}]
[null,null,null,null,null,null,null,null,null,null,null,"Atrasado",null,null,null,0,0,{"$f":"IF(Table26[[#This Row],[Status Medida]]=\"Finalizado\",IF(Table26[[#This Row],[Sim/Não]]=1,1,0),0)","v":0}]
[null,null,null,null,null,null,null,null,null,null,null,"Atrasado",null,null,null,0,0,{"$f":"IF(Table26[[#This Row],[Status Medida]]=\"Finalizado\",IF(Table26[[#This Row],[Sim/Não]]=1,1,0),0)","v":0}]
[null,null,null,null,null,null,null,null,null,null,null,"Atrasado",null,null,null,0,0,{"$f":"IF(Table26[[#This Row],[Status Medida]]=\"Finalizado\",IF(Table26[[#This Row],[Sim/Não]]=1,1,0),0)","v":0}]
[null,null,null,null,null,null,null,null,null,null,null,"Atrasado",null,null,null,0,0,{"$f":"IF(Table26[[#This Row],[Status Medida]]=\"Finalizado\",IF(Table26[[#This Row],[Sim/Não]]=1,1,0),0)","v":0}]
[null,null,null,null,null,null,null,null,null,null,null,"Atrasado",null,null,null,0,0,{"$f":"IF(Table26[[#This Row],[Status Medida]]=\"Finalizado\",IF(Table26[[#This Row],[Sim/Não]]=1,1,0),0)","v":0}]
[null,null,null,null,null,null,null,null,null,null,null,"Atrasado",null,null,null,0,0,{"$f":"IF(Table26[[#This Row],[Status Medida]]=\"Finalizado\",IF(Table26[[#This Row],[Sim/Não]]=1,1,0),0)","v":0}]
[null,null,null,null,null,null,null,null,null,null,null,"Atrasado",null,null,null,0,0,{"$f":"IF(Table26[[#This Row],[Status Medida]]=\"Finalizado\",IF(Table26[[#This Row],[Sim/Não]]=1,1,0),0)","v":0}]
[null,null,null,null,null,null,null,null,null,null,null,"Atrasado",null,null,null,0,0,{"$f":"IF(Table26[[#This Row],[Status Medida]]=\"Finalizado\",IF(Table26[[#This Row],[Sim/Não]]=1,1,0),0)","v":0}]
[null,null,null,null,null,null,null,null,null,null,null,"Atrasado",null,null,null,0,0,{"$f":"IF(Table26[[#This Row],[Status Medida]]=\"Finalizado\",IF(Table26[[#This Row],[Sim/Não]]=1,1,0),0)","v":0}]
[null,null,null,null,null,null,null,null,null,null,null,"Atrasado",null,null,null,0,0,{"$f":"IF(Table26[[#This Row],[Status Medida]]=\"Finalizado\",IF(Table26[[#This Row],[Sim/Não]]=1,1,0),0)","v":0}]
[null,null,null,null,null,null,null,null,null,null,null,"Atrasado",null,null,null,0,0,{"$f":"IF(Table26[[#This Row],[Status Medida]]=\"Finalizado\",IF(Table26[[#This Row],[Sim/Não]]=1,1,0),0)","v":0}]
[null,null,null,null,null,null,null,null,null,null,null,"Atrasado",null,null,null,0,0,{"$f":"IF(Table26[[#This Row],[Status Medida]]=\"Finalizado\",IF(Table26[[#This Row],[Sim/Não]]=1,1,0),0)","v":0}]
[null,null,null,null,null,null,null,null,null,null,null,"Atrasado",null,null,null,0,0,{"$f":"IF(Table26[[#This Row],[Status Medida]]=\"Finalizado\",IF(Table26[[#This Row],[Sim/Não]]=1,1,0),0)","v":0}]
[null,null,null,null,null,null,null,null,null,null,null,"Atrasado",null,null,null,0,0,{"$f":"IF(Table26[[#This Row],[Status Medida]]=\"Finalizado\",IF(Table26[[#This Row],[Sim/Não]]=1,1,0),0)","v":0}]
[null,null,null,null,null,null,null,null,null,null,null,"Atrasado",null,null,null,0,0,{"$f":"IF(Table26[[#This Row],[Status Medida]]=\"Finalizado\",IF(Table26[[#This Row],[Sim/Não]]=1,1,0),0)","v":0}]
[null,null,null,null,null,null,null,null,null,null,null,"Atrasado",null,null,null,0,0,{"$f":"IF(Table26[[#This Row],[Status Medida]]=\"Finalizado\",IF(Table26[[#This Row],[Sim/Não]]=1,1,0),0)","v":0}]
[null,null,null,null,null,null,null,null,null,null,null,"Atrasado",null,null,null,0,0,{"$f":"IF(Table26[[#This Row],[Status Medida]]=\"Finalizado\",IF(Table26[[#This Row],[Sim/Não]]=1,1,0),0)","v":0}]
[null,null,null,null,null,null,null,null,null,null,null,"Atrasado",null,null,null,0,0,{"$f":"IF(Table26[[#This Row],[Status Medida]]=\"Finalizado\",IF(Table26[[#This Row],[Sim/Não]]=1,1,0),0)","v":0}]
[null,null,null,null,null,null,null,null,null,null,null,"Atrasado",null,null,null,0,0,{"$f":"IF(Table26[[#This Row],[Status Medida]]=\"Finalizado\",IF(Table26[[#This Row],[Sim/Não]]=1,1,0),0)","v":0}]
[null,null,null,null,null,null,null,null,null,null,null,"Atrasado",null,null,null,0,0,{"$f":"IF(Table26[[#This Row],[Status Medida]]=\"Finalizado\",IF(Table26[[#This Row],[Sim/Não]]=1,1,0),0)","v":0}]
[null,null,null,null,null,null,null,null,null,null,null,"Atrasado",null,null,null,0,0,{"$f":"IF(Table26[[#This Row],[Status Medida]]=\"Finalizado\",IF(Table26[[#This Row],[Sim/Não]]=1,1,0),0)","v":0}]
[null,null,null,null,null,null,null,null,null,null,null,"Atrasado",null,null,null,0,0,{"$f":"IF(Table26[[#This Row],[Status Medida]]=\"Finalizado\",IF(Table26[[#This Row],[Sim/Não]]=1,1,0),0)","v":0}]
[null,null,null,null,null,null,null,null,null,null,null,"Atrasado",null,null,null,0,0,{"$f":"IF(Table26[[#This Row],[Status Medida]]=\"Finalizado\",IF(Table26[[#This Row],[Sim/Não]]=1,1,0),0)","v":0}]
[null,null,null,null,null,null,null,null,null,null,null,"Atrasado",null,null,null,0,0,{"$f":"IF(Table26[[#This Row],[Status Medida]]=\"Finalizado\",IF(Table26[[#This Row],[Sim/Não]]=1,1,0),0)","v":0}]
[null,null,null,null,null,null,null,null,null,null,null,{"$f":"IF(J11248>K11248,\"Datas inválidas\",IF(M11248=\"Finalizado\",\"Concluído\",IF(J11248>TODAY(),\"Não iniciado\",_xlfn.IFS(J11248=TODAY(),\"Em andamento\",TODAY()>K11248,\"Atrasado\",AND(TODAY()>J11248,TODAY()<=K11248),\"Em andamento\"))))","v":"Atrasado"},null,null,null,{"$f":"IF(O11248=\"Sim\",1,0)","v":0},0,{"$f":"IF(Table26[[#This Row],[Status Medida]]=\"Finalizado\",IF(Table26[[#This Row],[Sim/Não]]=1,1,0),0)","v":0}]
[null,null,null,null,null,null,null,null,null,null,null,"Atrasado",null,null,null,0,0,{"$f":"IF(Table26[[#This Row],[Status Medida]]=\"Finalizado\",IF(Table26[[#This Row],[Sim/Não]]=1,1,0),0)","v":0}]
[null,null,null,null,null,null,null,null,null,null,null,"Atrasado",null,null,null,0,0,{"$f":"IF(Table26[[#This Row],[Status Medida]]=\"Finalizado\",IF(Table26[[#This Row],[Sim/Não]]=1,1,0),0)","v":0}]
[null,null,null,null,null,null,null,null,null,null,null,"Atrasado",null,null,null,0,0,{"$f":"IF(Table26[[#This Row],[Status Medida]]=\"Finalizado\",IF(Table26[[#This Row],[Sim/Não]]=1,1,0),0)","v":0}]
[null,null,null,null,null,null,null,null,null,null,null,"Atrasado",null,null,null,0,0,{"$f":"IF(Table26[[#This Row],[Status Medida]]=\"Finalizado\",IF(Table26[[#This Row],[Sim/Não]]=1,1,0),0)","v":0}]
[null,null,null,null,null,null,null,null,null,null,null,"Atrasado",null,null,null,0,0,{"$f":"IF(Table26[[#This Row],[Status Medida]]=\"Finalizado\",IF(Table26[[#This Row],[Sim/Não]]=1,1,0),0)","v":0}]
[null,null,null,null,null,null,null,null,null,null,null,"Atrasado",null,null,null,0,0,{"$f":"IF(Table26[[#This Row],[Status Medida]]=\"Finalizado\",IF(Table26[[#This Row],[Sim/Não]]=1,1,0),0)","v":0}]
[null,null,null,null,null,null,null,null,null,null,null,"Atrasado",null,null,null,0,0,{"$f":"IF(Table26[[#This Row],[Status Medida]]=\"Finalizado\",IF(Table26[[#This Row],[Sim/Não]]=1,1,0),0)","v":0}]
[null,null,null,null,null,null,null,null,null,null,null,"Atrasado",null,null,null,0,0,{"$f":"IF(Table26[[#This Row],[Status Medida]]=\"Finalizado\",IF(Table26[[#This Row],[Sim/Não]]=1,1,0),0)","v":0}]
[null,null,null,null,null,null,null,null,null,null,null,"Atrasado",null,null,null,0,0,{"$f":"IF(Table26[[#This Row],[Status Medida]]=\"Finalizado\",IF(Table26[[#This Row],[Sim/Não]]=1,1,0),0)","v":0}]
[null,null,null,null,null,null,null,null,null,null,null,"Atrasado",null,null,null,0,0,{"$f":"IF(Table26[[#This Row],[Status Medida]]=\"Finalizado\",IF(Table26[[#This Row],[Sim/Não]]=1,1,0),0)","v":0}]
[null,null,null,null,null,null,null,null,null,null,null,"Atrasado",null,null,null,0,0,{"$f":"IF(Table26[[#This Row],[Status Medida]]=\"Finalizado\",IF(Table26[[#This Row],[Sim/Não]]=1,1,0),0)","v":0}]
[null,null,null,null,null,null,null,null,null,null,null,"Atrasado",null,null,null,0,0,{"$f":"IF(Table26[[#This Row],[Status Medida]]=\"Finalizado\",IF(Table26[[#This Row],[Sim/Não]]=1,1,0),0)","v":0}]
[null,null,null,null,null,null,null,null,null,null,null,"Atrasado",null,null,null,0,{"$f":"IF(N11261=E11261,0,1)","v":0},{"$f":"IF(Table26[[#This Row],[Status Medida]]=\"Finalizado\",IF(Table26[[#This Row],[Sim/Não]]=1,1,0),0)","v":0}]
[null,null,null,null,null,null,null,null,null,null,null,"Atrasado",null,null,null,0,0,{"$f":"IF(Table26[[#This Row],[Status Medida]]=\"Finalizado\",IF(Table26[[#This Row],[Sim/Não]]=1,1,0),0)","v":0}]
[null,null,null,null,null,null,null,null,null,null,null,"Atrasado",null,null,null,0,0,{"$f":"IF(Table26[[#This Row],[Status Medida]]=\"Finalizado\",IF(Table26[[#This Row],[Sim/Não]]=1,1,0),0)","v":0}]
[null,null,null,null,null,null,null,null,null,null,null,"Atrasado",null,null,null,0,0,{"$f":"IF(Table26[[#This Row],[Status Medida]]=\"Finalizado\",IF(Table26[[#This Row],[Sim/Não]]=1,1,0),0)","v":0}]
[null,null,null,null,null,null,null,null,null,null,null,"Atrasado",null,null,null,0,0,{"$f":"IF(Table26[[#This Row],[Status Medida]]=\"Finalizado\",IF(Table26[[#This Row],[Sim/Não]]=1,1,0),0)","v":0}]
[null,null,null,null,null,null,null,null,null,null,null,"Atrasado",null,null,null,0,0,{"$f":"IF(Table26[[#This Row],[Status Medida]]=\"Finalizado\",IF(Table26[[#This Row],[Sim/Não]]=1,1,0),0)","v":0}]
[null,null,null,null,null,null,null,null,null,null,null,"Atrasado",null,null,null,0,0,{"$f":"IF(Table26[[#This Row],[Status Medida]]=\"Finalizado\",IF(Table26[[#This Row],[Sim/Não]]=1,1,0),0)","v":0}]
[null,null,null,null,null,null,null,null,null,null,null,"Atrasado",null,null,null,0,0,{"$f":"IF(Table26[[#This Row],[Status Medida]]=\"Finalizado\",IF(Table26[[#This Row],[Sim/Não]]=1,1,0),0)","v":0}]
[null,null,null,null,null,null,null,null,null,null,null,"Atrasado",null,null,null,0,0,{"$f":"IF(Table26[[#This Row],[Status Medida]]=\"Finalizado\",IF(Table26[[#This Row],[Sim/Não]]=1,1,0),0)","v":0}]
[null,null,null,null,null,null,null,null,null,null,null,"Atrasado",null,null,null,0,0,{"$f":"IF(Table26[[#This Row],[Status Medida]]=\"Finalizado\",IF(Table26[[#This Row],[Sim/Não]]=1,1,0),0)","v":0}]
[null,null,null,null,null,null,null,null,null,null,null,"Atrasado",null,null,null,0,0,{"$f":"IF(Table26[[#This Row],[Status Medida]]=\"Finalizado\",IF(Table26[[#This Row],[Sim/Não]]=1,1,0),0)","v":0}]
[null,null,null,null,null,null,null,null,null,null,null,"Atrasado",null,null,null,0,0,{"$f":"IF(Table26[[#This Row],[Status Medida]]=\"Finalizado\",IF(Table26[[#This Row],[Sim/Não]]=1,1,0),0)","v":0}]
[null,null,null,null,null,null,null,null,null,null,null,"Atrasado",null,null,null,0,0,{"$f":"IF(Table26[[#This Row],[Status Medida]]=\"Finalizado\",IF(Table26[[#This Row],[Sim/Não]]=1,1,0),0)","v":0}]
[null,null,null,null,null,null,null,null,null,null,null,"Atrasado",null,null,null,0,0,{"$f":"IF(Table26[[#This Row],[Status Medida]]=\"Finalizado\",IF(Table26[[#This Row],[Sim/Não]]=1,1,0),0)","v":0}]
[null,null,null,null,null,null,null,null,null,null,null,"Atrasado",null,null,null,0,0,{"$f":"IF(Table26[[#This Row],[Status Medida]]=\"Finalizado\",IF(Table26[[#This Row],[Sim/Não]]=1,1,0),0)","v":0}]
[null,null,null,null,null,null,null,null,null,null,null,"Atrasado",null,null,null,0,0,{"$f":"IF(Table26[[#This Row],[Status Medida]]=\"Finalizado\",IF(Table26[[#This Row],[Sim/Não]]=1,1,0),0)","v":0}]
[null,null,null,null,null,null,null,null,null,null,null,"Atrasado",null,null,null,0,0,{"$f":"IF(Table26[[#This Row],[Status Medida]]=\"Finalizado\",IF(Table26[[#This Row],[Sim/Não]]=1,1,0),0)","v":0}]
[null,null,null,null,null,null,null,null,null,null,null,"Atrasado",null,null,null,0,0,{"$f":"IF(Table26[[#This Row],[Status Medida]]=\"Finalizado\",IF(Table26[[#This Row],[Sim/Não]]=1,1,0),0)","v":0}]
[null,null,null,null,null,null,null,null,null,null,null,"Atrasado",null,null,null,0,0,{"$f":"IF(Table26[[#This Row],[Status Medida]]=\"Finalizado\",IF(Table26[[#This Row],[Sim/Não]]=1,1,0),0)","v":0}]
[null,null,null,null,null,null,null,null,null,null,null,"Atrasado",null,null,null,0,0,{"$f":"IF(Table26[[#This Row],[Status Medida]]=\"Finalizado\",IF(Table26[[#This Row],[Sim/Não]]=1,1,0),0)","v":0}]
[null,null,null,null,null,null,null,null,null,null,null,"Atrasado",null,null,null,0,0,{"$f":"IF(Table26[[#This Row],[Status Medida]]=\"Finalizado\",IF(Table26[[#This Row],[Sim/Não]]=1,1,0),0)","v":0}]
[null,null,null,null,null,null,null,null,null,null,null,"Atrasado",null,null,null,0,0,{"$f":"IF(Table26[[#This Row],[Status Medida]]=\"Finalizado\",IF(Table26[[#This Row],[Sim/Não]]=1,1,0),0)","v":0}]
[null,null,null,null,null,null,null,null,null,null,null,"Atrasado",null,null,null,0,0,{"$f":"IF(Table26[[#This Row],[Status Medida]]=\"Finalizado\",IF(Table26[[#This Row],[Sim/Não]]=1,1,0),0)","v":0}]
[null,null,null,null,null,null,null,null,null,null,null,"Atrasado",null,null,null,0,0,{"$f":"IF(Table26[[#This Row],[Status Medida]]=\"Finalizado\",IF(Table26[[#This Row],[Sim/Não]]=1,1,0),0)","v":0}]
[null,null,null,null,null,null,null,null,null,null,null,"Atrasado",null,null,null,0,0,{"$f":"IF(Table26[[#This Row],[Status Medida]]=\"Finalizado\",IF(Table26[[#This Row],[Sim/Não]]=1,1,0),0)","v":0}]
[null,null,null,null,null,null,null,null,null,null,null,"Atrasado",null,null,null,0,0,{"$f":"IF(Table26[[#This Row],[Status Medida]]=\"Finalizado\",IF(Table26[[#This Row],[Sim/Não]]=1,1,0),0)","v":0}]
[null,null,null,null,null,null,null,null,null,null,null,"Atrasado",null,null,null,0,0,{"$f":"IF(Table26[[#This Row],[Status Medida]]=\"Finalizado\",IF(Table26[[#This Row],[Sim/Não]]=1,1,0),0)","v":0}]
[null,null,null,null,null,null,null,null,null,null,null,"Atrasado",null,null,null,0,0,{"$f":"IF(Table26[[#This Row],[Status Medida]]=\"Finalizado\",IF(Table26[[#This Row],[Sim/Não]]=1,1,0),0)","v":0}]
[null,null,null,null,null,null,null,null,null,null,null,"Atrasado",null,null,null,0,0,{"$f":"IF(Table26[[#This Row],[Status Medida]]=\"Finalizado\",IF(Table26[[#This Row],[Sim/Não]]=1,1,0),0)","v":0}]
[null,null,null,null,null,null,null,null,null,null,null,"Atrasado",null,null,null,0,0,{"$f":"IF(Table26[[#This Row],[Status Medida]]=\"Finalizado\",IF(Table26[[#This Row],[Sim/Não]]=1,1,0),0)","v":0}]
[null,null,null,null,null,null,null,null,null,null,null,"Atrasado",null,null,null,0,0,{"$f":"IF(Table26[[#This Row],[Status Medida]]=\"Finalizado\",IF(Table26[[#This Row],[Sim/Não]]=1,1,0),0)","v":0}]
[null,null,null,null,null,null,null,null,null,null,null,{"$f":"IF(J11292>K11292,\"Datas inválidas\",IF(M11292=\"Finalizado\",\"Concluído\",IF(J11292>TODAY(),\"Não iniciado\",_xlfn.IFS(J11292=TODAY(),\"Em andamento\",TODAY()>K11292,\"Atrasado\",AND(TODAY()>J11292,TODAY()<=K11292),\"Em andamento\"))))","v":"Atrasado"},null,null,null,{"$f":"IF(O11292=\"Sim\",1,0)","v":0},0,{"$f":"IF(Table26[[#This Row],[Status Medida]]=\"Finalizado\",IF(Table26[[#This Row],[Sim/Não]]=1,1,0),0)","v":0}]
[null,null,null,null,null,null,null,null,null,null,null,"Atrasado",null,null,null,0,0,{"$f":"IF(Table26[[#This Row],[Status Medida]]=\"Finalizado\",IF(Table26[[#This Row],[Sim/Não]]=1,1,0),0)","v":0}]
[null,null,null,null,null,null,null,null,null,null,null,"Atrasado",null,null,null,0,0,{"$f":"IF(Table26[[#This Row],[Status Medida]]=\"Finalizado\",IF(Table26[[#This Row],[Sim/Não]]=1,1,0),0)","v":0}]
[null,null,null,null,null,null,null,null,null,null,null,"Atrasado",null,null,null,0,0,{"$f":"IF(Table26[[#This Row],[Status Medida]]=\"Finalizado\",IF(Table26[[#This Row],[Sim/Não]]=1,1,0),0)","v":0}]
[null,null,null,null,null,null,null,null,null,null,null,"Atrasado",null,null,null,0,0,{"$f":"IF(Table26[[#This Row],[Status Medida]]=\"Finalizado\",IF(Table26[[#This Row],[Sim/Não]]=1,1,0),0)","v":0}]
[null,null,null,null,null,null,null,null,null,null,null,"Atrasado",null,null,null,0,0,{"$f":"IF(Table26[[#This Row],[Status Medida]]=\"Finalizado\",IF(Table26[[#This Row],[Sim/Não]]=1,1,0),0)","v":0}]
[null,null,null,null,null,null,null,null,null,null,null,"Atrasado",null,null,null,0,0,{"$f":"IF(Table26[[#This Row],[Status Medida]]=\"Finalizado\",IF(Table26[[#This Row],[Sim/Não]]=1,1,0),0)","v":0}]
[null,null,null,null,null,null,null,null,null,null,null,"Atrasado",null,null,null,0,0,{"$f":"IF(Table26[[#This Row],[Status Medida]]=\"Finalizado\",IF(Table26[[#This Row],[Sim/Não]]=1,1,0),0)","v":0}]
[null,null,null,null,null,null,null,null,null,null,null,"Atrasado",null,null,null,0,0,{"$f":"IF(Table26[[#This Row],[Status Medida]]=\"Finalizado\",IF(Table26[[#This Row],[Sim/Não]]=1,1,0),0)","v":0}]
[null,null,null,null,null,null,null,null,null,null,null,"Atrasado",null,null,null,0,0,{"$f":"IF(Table26[[#This Row],[Status Medida]]=\"Finalizado\",IF(Table26[[#This Row],[Sim/Não]]=1,1,0),0)","v":0}]
[null,null,null,null,null,null,null,null,null,null,null,"Atrasado",null,null,null,0,0,{"$f":"IF(Table26[[#This Row],[Status Medida]]=\"Finalizado\",IF(Table26[[#This Row],[Sim/Não]]=1,1,0),0)","v":0}]
[null,null,null,null,null,null,null,null,null,null,null,"Atrasado",null,null,null,0,0,{"$f":"IF(Table26[[#This Row],[Status Medida]]=\"Finalizado\",IF(Table26[[#This Row],[Sim/Não]]=1,1,0),0)","v":0}]
[null,null,null,null,null,null,null,null,null,null,null,"Atrasado",null,null,null,0,0,{"$f":"IF(Table26[[#This Row],[Status Medida]]=\"Finalizado\",IF(Table26[[#This Row],[Sim/Não]]=1,1,0),0)","v":0}]
[null,null,null,null,null,null,null,null,null,null,null,"Atrasado",null,null,null,0,0,{"$f":"IF(Table26[[#This Row],[Status Medida]]=\"Finalizado\",IF(Table26[[#This Row],[Sim/Não]]=1,1,0),0)","v":0}]
[null,null,null,null,null,null,null,null,null,null,null,"Atrasado",null,null,null,0,0,{"$f":"IF(Table26[[#This Row],[Status Medida]]=\"Finalizado\",IF(Table26[[#This Row],[Sim/Não]]=1,1,0),0)","v":0}]
[null,null,null,null,null,null,null,null,null,null,null,"Atrasado",null,null,null,0,0,{"$f":"IF(Table26[[#This Row],[Status Medida]]=\"Finalizado\",IF(Table26[[#This Row],[Sim/Não]]=1,1,0),0)","v":0}]
[null,null,null,null,null,null,null,null,null,null,null,"Atrasado",null,null,null,0,0,{"$f":"IF(Table26[[#This Row],[Status Medida]]=\"Finalizado\",IF(Table26[[#This Row],[Sim/Não]]=1,1,0),0)","v":0}]
[null,null,null,null,null,null,null,null,null,null,null,"Atrasado",null,null,null,0,0,{"$f":"IF(Table26[[#This Row],[Status Medida]]=\"Finalizado\",IF(Table26[[#This Row],[Sim/Não]]=1,1,0),0)","v":0}]
[null,null,null,null,null,null,null,null,null,null,null,"Atrasado",null,null,null,0,0,{"$f":"IF(Table26[[#This Row],[Status Medida]]=\"Finalizado\",IF(Table26[[#This Row],[Sim/Não]]=1,1,0),0)","v":0}]
[null,null,null,null,null,null,null,null,null,null,null,"Atrasado",null,null,null,0,0,{"$f":"IF(Table26[[#This Row],[Status Medida]]=\"Finalizado\",IF(Table26[[#This Row],[Sim/Não]]=1,1,0),0)","v":0}]
[null,null,null,null,null,null,null,null,null,null,null,"Atrasado",null,null,null,0,0,{"$f":"IF(Table26[[#This Row],[Status Medida]]=\"Finalizado\",IF(Table26[[#This Row],[Sim/Não]]=1,1,0),0)","v":0}]
[null,null,null,null,null,null,null,null,null,null,null,"Atrasado",null,null,null,0,0,{"$f":"IF(Table26[[#This Row],[Status Medida]]=\"Finalizado\",IF(Table26[[#This Row],[Sim/Não]]=1,1,0),0)","v":0}]
[null,null,null,null,null,null,null,null,null,null,null,"Atrasado",null,null,null,0,0,{"$f":"IF(Table26[[#This Row],[Status Medida]]=\"Finalizado\",IF(Table26[[#This Row],[Sim/Não]]=1,1,0),0)","v":0}]
[null,null,null,null,null,null,null,null,null,null,null,"Atrasado",null,null,null,0,0,{"$f":"IF(Table26[[#This Row],[Status Medida]]=\"Finalizado\",IF(Table26[[#This Row],[Sim/Não]]=1,1,0),0)","v":0}]
[null,null,null,null,null,null,null,null,null,null,null,"Atrasado",null,null,null,0,0,{"$f":"IF(Table26[[#This Row],[Status Medida]]=\"Finalizado\",IF(Table26[[#This Row],[Sim/Não]]=1,1,0),0)","v":0}]
[null,null,null,null,null,null,null,null,null,null,null,"Atrasado",null,null,null,0,0,{"$f":"IF(Table26[[#This Row],[Status Medida]]=\"Finalizado\",IF(Table26[[#This Row],[Sim/Não]]=1,1,0),0)","v":0}]
[null,null,null,null,null,null,null,null,null,null,null,"Atrasado",null,null,null,0,0,{"$f":"IF(Table26[[#This Row],[Status Medida]]=\"Finalizado\",IF(Table26[[#This Row],[Sim/Não]]=1,1,0),0)","v":0}]
[null,null,null,null,null,null,null,null,null,null,null,"Atrasado",null,null,null,0,0,{"$f":"IF(Table26[[#This Row],[Status Medida]]=\"Finalizado\",IF(Table26[[#This Row],[Sim/Não]]=1,1,0),0)","v":0}]
[null,null,null,null,null,null,null,null,null,null,null,"Atrasado",null,null,null,0,0,{"$f":"IF(Table26[[#This Row],[Status Medida]]=\"Finalizado\",IF(Table26[[#This Row],[Sim/Não]]=1,1,0),0)","v":0}]
[null,null,null,null,null,null,null,null,null,null,null,"Atrasado",null,null,null,0,0,{"$f":"IF(Table26[[#This Row],[Status Medida]]=\"Finalizado\",IF(Table26[[#This Row],[Sim/Não]]=1,1,0),0)","v":0}]
[null,null,null,null,null,null,null,null,null,null,null,"Atrasado",null,null,null,0,0,{"$f":"IF(Table26[[#This Row],[Status Medida]]=\"Finalizado\",IF(Table26[[#This Row],[Sim/Não]]=1,1,0),0)","v":0}]
[null,null,null,null,null,null,null,null,null,null,null,"Atrasado",null,null,null,0,0,{"$f":"IF(Table26[[#This Row],[Status Medida]]=\"Finalizado\",IF(Table26[[#This Row],[Sim/Não]]=1,1,0),0)","v":0}]
[null,null,null,null,null,null,null,null,null,null,null,"Atrasado",null,null,null,0,0,{"$f":"IF(Table26[[#This Row],[Status Medida]]=\"Finalizado\",IF(Table26[[#This Row],[Sim/Não]]=1,1,0),0)","v":0}]
[null,null,null,null,null,null,null,null,null,null,null,"Atrasado",null,null,null,0,{"$f":"IF(N11325=E11325,0,1)","v":0},{"$f":"IF(Table26[[#This Row],[Status Medida]]=\"Finalizado\",IF(Table26[[#This Row],[Sim/Não]]=1,1,0),0)","v":0}]
[null,null,null,null,null,null,null,null,null,null,null,"Atrasado",null,null,null,0,0,{"$f":"IF(Table26[[#This Row],[Status Medida]]=\"Finalizado\",IF(Table26[[#This Row],[Sim/Não]]=1,1,0),0)","v":0}]
[null,null,null,null,null,null,null,null,null,null,null,"Atrasado",null,null,null,0,0,{"$f":"IF(Table26[[#This Row],[Status Medida]]=\"Finalizado\",IF(Table26[[#This Row],[Sim/Não]]=1,1,0),0)","v":0}]
[null,null,null,null,null,null,null,null,null,null,null,"Atrasado",null,null,null,0,0,{"$f":"IF(Table26[[#This Row],[Status Medida]]=\"Finalizado\",IF(Table26[[#This Row],[Sim/Não]]=1,1,0),0)","v":0}]
[null,null,null,null,null,null,null,null,null,null,null,"Atrasado",null,null,null,0,0,{"$f":"IF(Table26[[#This Row],[Status Medida]]=\"Finalizado\",IF(Table26[[#This Row],[Sim/Não]]=1,1,0),0)","v":0}]
[null,null,null,null,null,null,null,null,null,null,null,"Atrasado",null,null,null,0,0,{"$f":"IF(Table26[[#This Row],[Status Medida]]=\"Finalizado\",IF(Table26[[#This Row],[Sim/Não]]=1,1,0),0)","v":0}]
[null,null,null,null,null,null,null,null,null,null,null,"Atrasado",null,null,null,0,0,{"$f":"IF(Table26[[#This Row],[Status Medida]]=\"Finalizado\",IF(Table26[[#This Row],[Sim/Não]]=1,1,0),0)","v":0}]
[null,null,null,null,null,null,null,null,null,null,null,"Atrasado",null,null,null,0,0,{"$f":"IF(Table26[[#This Row],[Status Medida]]=\"Finalizado\",IF(Table26[[#This Row],[Sim/Não]]=1,1,0),0)","v":0}]
[null,null,null,null,null,null,null,null,null,null,null,"Atrasado",null,null,null,0,0,{"$f":"IF(Table26[[#This Row],[Status Medida]]=\"Finalizado\",IF(Table26[[#This Row],[Sim/Não]]=1,1,0),0)","v":0}]
[null,null,null,null,null,null,null,null,null,null,null,"Atrasado",null,null,null,0,0,{"$f":"IF(Table26[[#This Row],[Status Medida]]=\"Finalizado\",IF(Table26[[#This Row],[Sim/Não]]=1,1,0),0)","v":0}]
[null,null,null,null,null,null,null,null,null,null,null,"Atrasado",null,null,null,0,0,{"$f":"IF(Table26[[#This Row],[Status Medida]]=\"Finalizado\",IF(Table26[[#This Row],[Sim/Não]]=1,1,0),0)","v":0}]
[null,null,null,null,null,null,null,null,null,null,null,"Atrasado",null,null,null,0,0,{"$f":"IF(Table26[[#This Row],[Status Medida]]=\"Finalizado\",IF(Table26[[#This Row],[Sim/Não]]=1,1,0),0)","v":0}]
[null,null,null,null,null,null,null,null,null,null,null,"Atrasado",null,null,null,0,0,{"$f":"IF(Table26[[#This Row],[Status Medida]]=\"Finalizado\",IF(Table26[[#This Row],[Sim/Não]]=1,1,0),0)","v":0}]
[null,null,null,null,null,null,null,null,null,null,null,"Atrasado",null,null,null,0,0,{"$f":"IF(Table26[[#This Row],[Status Medida]]=\"Finalizado\",IF(Table26[[#This Row],[Sim/Não]]=1,1,0),0)","v":0}]
[null,null,null,null,null,null,null,null,null,null,null,"Atrasado",null,null,null,0,0,{"$f":"IF(Table26[[#This Row],[Status Medida]]=\"Finalizado\",IF(Table26[[#This Row],[Sim/Não]]=1,1,0),0)","v":0}]
[null,null,null,null,null,null,null,null,null,null,null,"Atrasado",null,null,null,0,0,{"$f":"IF(Table26[[#This Row],[Status Medida]]=\"Finalizado\",IF(Table26[[#This Row],[Sim/Não]]=1,1,0),0)","v":0}]
[null,null,null,null,null,null,null,null,null,null,null,"Atrasado",null,null,null,0,0,{"$f":"IF(Table26[[#This Row],[Status Medida]]=\"Finalizado\",IF(Table26[[#This Row],[Sim/Não]]=1,1,0),0)","v":0}]
[null,null,null,null,null,null,null,null,null,null,null,"Atrasado",null,null,null,0,0,{"$f":"IF(Table26[[#This Row],[Status Medida]]=\"Finalizado\",IF(Table26[[#This Row],[Sim/Não]]=1,1,0),0)","v":0}]
[null,null,null,null,null,null,null,null,null,null,null,"Atrasado",null,null,null,0,0,{"$f":"IF(Table26[[#This Row],[Status Medida]]=\"Finalizado\",IF(Table26[[#This Row],[Sim/Não]]=1,1,0),0)","v":0}]
[null,null,null,null,null,null,null,null,null,null,null,"Atrasado",null,null,null,0,0,{"$f":"IF(Table26[[#This Row],[Status Medida]]=\"Finalizado\",IF(Table26[[#This Row],[Sim/Não]]=1,1,0),0)","v":0}]
[null,null,null,null,null,null,null,null,null,null,null,"Atrasado",null,null,null,0,0,{"$f":"IF(Table26[[#This Row],[Status Medida]]=\"Finalizado\",IF(Table26[[#This Row],[Sim/Não]]=1,1,0),0)","v":0}]
[null,null,null,null,null,null,null,null,null,null,null,"Atrasado",null,null,null,0,0,{"$f":"IF(Table26[[#This Row],[Status Medida]]=\"Finalizado\",IF(Table26[[#This Row],[Sim/Não]]=1,1,0),0)","v":0}]
[null,null,null,null,null,null,null,null,null,null,null,"Atrasado",null,null,null,0,0,{"$f":"IF(Table26[[#This Row],[Status Medida]]=\"Finalizado\",IF(Table26[[#This Row],[Sim/Não]]=1,1,0),0)","v":0}]
[null,null,null,null,null,null,null,null,null,null,null,"Atrasado",null,null,null,0,0,{"$f":"IF(Table26[[#This Row],[Status Medida]]=\"Finalizado\",IF(Table26[[#This Row],[Sim/Não]]=1,1,0),0)","v":0}]
[null,null,null,null,null,null,null,null,null,null,null,"Atrasado",null,null,null,0,0,{"$f":"IF(Table26[[#This Row],[Status Medida]]=\"Finalizado\",IF(Table26[[#This Row],[Sim/Não]]=1,1,0),0)","v":0}]
[null,null,null,null,null,null,null,null,null,null,null,"Atrasado",null,null,null,0,0,{"$f":"IF(Table26[[#This Row],[Status Medida]]=\"Finalizado\",IF(Table26[[#This Row],[Sim/Não]]=1,1,0),0)","v":0}]
[null,null,null,null,null,null,null,null,null,null,null,"Atrasado",null,null,null,0,0,{"$f":"IF(Table26[[#This Row],[Status Medida]]=\"Finalizado\",IF(Table26[[#This Row],[Sim/Não]]=1,1,0),0)","v":0}]
[null,null,null,null,null,null,null,null,null,null,null,"Atrasado",null,null,null,0,0,{"$f":"IF(Table26[[#This Row],[Status Medida]]=\"Finalizado\",IF(Table26[[#This Row],[Sim/Não]]=1,1,0),0)","v":0}]
[null,null,null,null,null,null,null,null,null,null,null,{"$f":"IF(J11353>K11353,\"Datas inválidas\",IF(M11353=\"Finalizado\",\"Concluído\",IF(J11353>TODAY(),\"Não iniciado\",_xlfn.IFS(J11353=TODAY(),\"Em andamento\",TODAY()>K11353,\"Atrasado\",AND(TODAY()>J11353,TODAY()<=K11353),\"Em andamento\"))))","v":"Atrasado"},null,null,null,{"$f":"IF(O11353=\"Sim\",1,0)","v":0},0,{"$f":"IF(Table26[[#This Row],[Status Medida]]=\"Finalizado\",IF(Table26[[#This Row],[Sim/Não]]=1,1,0),0)","v":0}]
[null,null,null,null,null,null,null,null,null,null,null,"Atrasado",null,null,null,0,0,{"$f":"IF(Table26[[#This Row],[Status Medida]]=\"Finalizado\",IF(Table26[[#This Row],[Sim/Não]]=1,1,0),0)","v":0}]
[null,null,null,null,null,null,null,null,null,null,null,"Atrasado",null,null,null,0,0,{"$f":"IF(Table26[[#This Row],[Status Medida]]=\"Finalizado\",IF(Table26[[#This Row],[Sim/Não]]=1,1,0),0)","v":0}]
[null,null,null,null,null,null,null,null,null,null,null,"Atrasado",null,null,null,0,0,{"$f":"IF(Table26[[#This Row],[Status Medida]]=\"Finalizado\",IF(Table26[[#This Row],[Sim/Não]]=1,1,0),0)","v":0}]
[null,null,null,null,null,null,null,null,null,null,null,"Atrasado",null,null,null,0,0,{"$f":"IF(Table26[[#This Row],[Status Medida]]=\"Finalizado\",IF(Table26[[#This Row],[Sim/Não]]=1,1,0),0)","v":0}]
[null,null,null,null,null,null,null,null,null,null,null,"Atrasado",null,null,null,0,0,{"$f":"IF(Table26[[#This Row],[Status Medida]]=\"Finalizado\",IF(Table26[[#This Row],[Sim/Não]]=1,1,0),0)","v":0}]
[null,null,null,null,null,null,null,null,null,null,null,"Atrasado",null,null,null,0,0,{"$f":"IF(Table26[[#This Row],[Status Medida]]=\"Finalizado\",IF(Table26[[#This Row],[Sim/Não]]=1,1,0),0)","v":0}]
[null,null,null,null,null,null,null,null,null,null,null,"Atrasado",null,null,null,0,0,{"$f":"IF(Table26[[#This Row],[Status Medida]]=\"Finalizado\",IF(Table26[[#This Row],[Sim/Não]]=1,1,0),0)","v":0}]
[null,null,null,null,null,null,null,null,null,null,null,"Atrasado",null,null,null,0,0,{"$f":"IF(Table26[[#This Row],[Status Medida]]=\"Finalizado\",IF(Table26[[#This Row],[Sim/Não]]=1,1,0),0)","v":0}]
[null,null,null,null,null,null,null,null,null,null,null,"Atrasado",null,null,null,0,0,{"$f":"IF(Table26[[#This Row],[Status Medida]]=\"Finalizado\",IF(Table26[[#This Row],[Sim/Não]]=1,1,0),0)","v":0}]
[null,null,null,null,null,null,null,null,null,null,null,"Atrasado",null,null,null,0,0,{"$f":"IF(Table26[[#This Row],[Status Medida]]=\"Finalizado\",IF(Table26[[#This Row],[Sim/Não]]=1,1,0),0)","v":0}]
[null,null,null,null,null,null,null,null,null,null,null,"Atrasado",null,null,null,0,0,{"$f":"IF(Table26[[#This Row],[Status Medida]]=\"Finalizado\",IF(Table26[[#This Row],[Sim/Não]]=1,1,0),0)","v":0}]
[null,null,null,null,null,null,null,null,null,null,null,"Atrasado",null,null,null,0,0,{"$f":"IF(Table26[[#This Row],[Status Medida]]=\"Finalizado\",IF(Table26[[#This Row],[Sim/Não]]=1,1,0),0)","v":0}]
[null,null,null,null,null,null,null,null,null,null,null,"Atrasado",null,null,null,0,0,{"$f":"IF(Table26[[#This Row],[Status Medida]]=\"Finalizado\",IF(Table26[[#This Row],[Sim/Não]]=1,1,0),0)","v":0}]
[null,null,null,null,null,null,null,null,null,null,null,"Atrasado",null,null,null,0,0,{"$f":"IF(Table26[[#This Row],[Status Medida]]=\"Finalizado\",IF(Table26[[#This Row],[Sim/Não]]=1,1,0),0)","v":0}]
[null,null,null,null,null,null,null,null,null,null,null,"Atrasado",null,null,null,0,0,{"$f":"IF(Table26[[#This Row],[Status Medida]]=\"Finalizado\",IF(Table26[[#This Row],[Sim/Não]]=1,1,0),0)","v":0}]
[null,null,null,null,null,null,null,null,null,null,null,"Atrasado",null,null,null,0,0,{"$f":"IF(Table26[[#This Row],[Status Medida]]=\"Finalizado\",IF(Table26[[#This Row],[Sim/Não]]=1,1,0),0)","v":0}]
[null,null,null,null,null,null,null,null,null,null,null,"Atrasado",null,null,null,0,0,{"$f":"IF(Table26[[#This Row],[Status Medida]]=\"Finalizado\",IF(Table26[[#This Row],[Sim/Não]]=1,1,0),0)","v":0}]
[null,null,null,null,null,null,null,null,null,null,null,"Atrasado",null,null,null,0,0,{"$f":"IF(Table26[[#This Row],[Status Medida]]=\"Finalizado\",IF(Table26[[#This Row],[Sim/Não]]=1,1,0),0)","v":0}]
[null,null,null,null,null,null,null,null,null,null,null,"Atrasado",null,null,null,0,0,{"$f":"IF(Table26[[#This Row],[Status Medida]]=\"Finalizado\",IF(Table26[[#This Row],[Sim/Não]]=1,1,0),0)","v":0}]
[null,null,null,null,null,null,null,null,null,null,null,"Atrasado",null,null,null,0,0,{"$f":"IF(Table26[[#This Row],[Status Medida]]=\"Finalizado\",IF(Table26[[#This Row],[Sim/Não]]=1,1,0),0)","v":0}]
[null,null,null,null,null,null,null,null,null,null,null,"Atrasado",null,null,null,0,0,{"$f":"IF(Table26[[#This Row],[Status Medida]]=\"Finalizado\",IF(Table26[[#This Row],[Sim/Não]]=1,1,0),0)","v":0}]
[null,null,null,null,null,null,null,null,null,null,null,"Atrasado",null,null,null,0,0,{"$f":"IF(Table26[[#This Row],[Status Medida]]=\"Finalizado\",IF(Table26[[#This Row],[Sim/Não]]=1,1,0),0)","v":0}]
[null,null,null,null,null,null,null,null,null,null,null,"Atrasado",null,null,null,0,0,{"$f":"IF(Table26[[#This Row],[Status Medida]]=\"Finalizado\",IF(Table26[[#This Row],[Sim/Não]]=1,1,0),0)","v":0}]
[null,null,null,null,null,null,null,null,null,null,null,"Atrasado",null,null,null,0,0,{"$f":"IF(Table26[[#This Row],[Status Medida]]=\"Finalizado\",IF(Table26[[#This Row],[Sim/Não]]=1,1,0),0)","v":0}]
[null,null,null,null,null,null,null,null,null,null,null,"Atrasado",null,null,null,0,0,{"$f":"IF(Table26[[#This Row],[Status Medida]]=\"Finalizado\",IF(Table26[[#This Row],[Sim/Não]]=1,1,0),0)","v":0}]
[null,null,null,null,null,null,null,null,null,null,null,"Atrasado",null,null,null,0,0,{"$f":"IF(Table26[[#This Row],[Status Medida]]=\"Finalizado\",IF(Table26[[#This Row],[Sim/Não]]=1,1,0),0)","v":0}]
[null,null,null,null,null,null,null,null,null,null,null,"Atrasado",null,null,null,0,0,{"$f":"IF(Table26[[#This Row],[Status Medida]]=\"Finalizado\",IF(Table26[[#This Row],[Sim/Não]]=1,1,0),0)","v":0}]
[null,null,null,null,null,null,null,null,null,null,null,"Atrasado",null,null,null,0,0,{"$f":"IF(Table26[[#This Row],[Status Medida]]=\"Finalizado\",IF(Table26[[#This Row],[Sim/Não]]=1,1,0),0)","v":0}]
[null,null,null,null,null,null,null,null,null,null,null,"Atrasado",null,null,null,0,0,{"$f":"IF(Table26[[#This Row],[Status Medida]]=\"Finalizado\",IF(Table26[[#This Row],[Sim/Não]]=1,1,0),0)","v":0}]
[null,null,null,null,null,null,null,null,null,null,null,"Atrasado",null,null,null,0,0,{"$f":"IF(Table26[[#This Row],[Status Medida]]=\"Finalizado\",IF(Table26[[#This Row],[Sim/Não]]=1,1,0),0)","v":0}]
[null,null,null,null,null,null,null,null,null,null,null,"Atrasado",null,null,null,0,0,{"$f":"IF(Table26[[#This Row],[Status Medida]]=\"Finalizado\",IF(Table26[[#This Row],[Sim/Não]]=1,1,0),0)","v":0}]
[null,null,null,null,null,null,null,null,null,null,null,"Atrasado",null,null,null,0,0,{"$f":"IF(Table26[[#This Row],[Status Medida]]=\"Finalizado\",IF(Table26[[#This Row],[Sim/Não]]=1,1,0),0)","v":0}]
[null,null,null,null,null,null,null,null,null,null,null,"Atrasado",null,null,null,0,0,{"$f":"IF(Table26[[#This Row],[Status Medida]]=\"Finalizado\",IF(Table26[[#This Row],[Sim/Não]]=1,1,0),0)","v":0}]
[null,null,null,null,null,null,null,null,null,null,null,"Atrasado",null,null,null,0,0,{"$f":"IF(Table26[[#This Row],[Status Medida]]=\"Finalizado\",IF(Table26[[#This Row],[Sim/Não]]=1,1,0),0)","v":0}]
[null,null,null,null,null,null,null,null,null,null,null,"Atrasado",null,null,null,0,0,{"$f":"IF(Table26[[#This Row],[Status Medida]]=\"Finalizado\",IF(Table26[[#This Row],[Sim/Não]]=1,1,0),0)","v":0}]
[null,null,null,null,null,null,null,null,null,null,null,"Atrasado",null,null,null,0,{"$f":"IF(N11389=E11389,0,1)","v":0},{"$f":"IF(Table26[[#This Row],[Status Medida]]=\"Finalizado\",IF(Table26[[#This Row],[Sim/Não]]=1,1,0),0)","v":0}]
[null,null,null,null,null,null,null,null,null,null,null,"Atrasado",null,null,null,0,0,{"$f":"IF(Table26[[#This Row],[Status Medida]]=\"Finalizado\",IF(Table26[[#This Row],[Sim/Não]]=1,1,0),0)","v":0}]
[null,null,null,null,null,null,null,null,null,null,null,"Atrasado",null,null,null,0,0,{"$f":"IF(Table26[[#This Row],[Status Medida]]=\"Finalizado\",IF(Table26[[#This Row],[Sim/Não]]=1,1,0),0)","v":0}]
[null,null,null,null,null,null,null,null,null,null,null,"Atrasado",null,null,null,0,0,{"$f":"IF(Table26[[#This Row],[Status Medida]]=\"Finalizado\",IF(Table26[[#This Row],[Sim/Não]]=1,1,0),0)","v":0}]
[null,null,null,null,null,null,null,null,null,null,null,"Atrasado",null,null,null,0,0,{"$f":"IF(Table26[[#This Row],[Status Medida]]=\"Finalizado\",IF(Table26[[#This Row],[Sim/Não]]=1,1,0),0)","v":0}]
[null,null,null,null,null,null,null,null,null,null,null,"Atrasado",null,null,null,0,0,{"$f":"IF(Table26[[#This Row],[Status Medida]]=\"Finalizado\",IF(Table26[[#This Row],[Sim/Não]]=1,1,0),0)","v":0}]
[null,null,null,null,null,null,null,null,null,null,null,"Atrasado",null,null,null,0,0,{"$f":"IF(Table26[[#This Row],[Status Medida]]=\"Finalizado\",IF(Table26[[#This Row],[Sim/Não]]=1,1,0),0)","v":0}]
[null,null,null,null,null,null,null,null,null,null,null,"Atrasado",null,null,null,0,0,{"$f":"IF(Table26[[#This Row],[Status Medida]]=\"Finalizado\",IF(Table26[[#This Row],[Sim/Não]]=1,1,0),0)","v":0}]
[null,null,null,null,null,null,null,null,null,null,null,"Atrasado",null,null,null,0,0,{"$f":"IF(Table26[[#This Row],[Status Medida]]=\"Finalizado\",IF(Table26[[#This Row],[Sim/Não]]=1,1,0),0)","v":0}]
[null,null,null,null,null,null,null,null,null,null,null,"Atrasado",null,null,null,0,0,{"$f":"IF(Table26[[#This Row],[Status Medida]]=\"Finalizado\",IF(Table26[[#This Row],[Sim/Não]]=1,1,0),0)","v":0}]
[null,null,null,null,null,null,null,null,null,null,null,"Atrasado",null,null,null,0,0,{"$f":"IF(Table26[[#This Row],[Status Medida]]=\"Finalizado\",IF(Table26[[#This Row],[Sim/Não]]=1,1,0),0)","v":0}]
[null,null,null,null,null,null,null,null,null,null,null,"Atrasado",null,null,null,0,0,{"$f":"IF(Table26[[#This Row],[Status Medida]]=\"Finalizado\",IF(Table26[[#This Row],[Sim/Não]]=1,1,0),0)","v":0}]
[null,null,null,null,null,null,null,null,null,null,null,"Atrasado",null,null,null,0,0,{"$f":"IF(Table26[[#This Row],[Status Medida]]=\"Finalizado\",IF(Table26[[#This Row],[Sim/Não]]=1,1,0),0)","v":0}]
[null,null,null,null,null,null,null,null,null,null,null,"Atrasado",null,null,null,0,0,{"$f":"IF(Table26[[#This Row],[Status Medida]]=\"Finalizado\",IF(Table26[[#This Row],[Sim/Não]]=1,1,0),0)","v":0}]
[null,null,null,null,null,null,null,null,null,null,null,"Atrasado",null,null,null,0,0,{"$f":"IF(Table26[[#This Row],[Status Medida]]=\"Finalizado\",IF(Table26[[#This Row],[Sim/Não]]=1,1,0),0)","v":0}]
[null,null,null,null,null,null,null,null,null,null,null,"Atrasado",null,null,null,0,0,{"$f":"IF(Table26[[#This Row],[Status Medida]]=\"Finalizado\",IF(Table26[[#This Row],[Sim/Não]]=1,1,0),0)","v":0}]
[null,null,null,null,null,null,null,null,null,null,null,"Atrasado",null,null,null,0,0,{"$f":"IF(Table26[[#This Row],[Status Medida]]=\"Finalizado\",IF(Table26[[#This Row],[Sim/Não]]=1,1,0),0)","v":0}]
[null,null,null,null,null,null,null,null,null,null,null,"Atrasado",null,null,null,0,0,{"$f":"IF(Table26[[#This Row],[Status Medida]]=\"Finalizado\",IF(Table26[[#This Row],[Sim/Não]]=1,1,0),0)","v":0}]
[null,null,null,null,null,null,null,null,null,null,null,"Atrasado",null,null,null,0,0,{"$f":"IF(Table26[[#This Row],[Status Medida]]=\"Finalizado\",IF(Table26[[#This Row],[Sim/Não]]=1,1,0),0)","v":0}]
[null,null,null,null,null,null,null,null,null,null,null,"Atrasado",null,null,null,0,0,{"$f":"IF(Table26[[#This Row],[Status Medida]]=\"Finalizado\",IF(Table26[[#This Row],[Sim/Não]]=1,1,0),0)","v":0}]
[null,null,null,null,null,null,null,null,null,null,null,"Atrasado",null,null,null,0,0,{"$f":"IF(Table26[[#This Row],[Status Medida]]=\"Finalizado\",IF(Table26[[#This Row],[Sim/Não]]=1,1,0),0)","v":0}]
[null,null,null,null,null,null,null,null,null,null,null,"Atrasado",null,null,null,0,0,{"$f":"IF(Table26[[#This Row],[Status Medida]]=\"Finalizado\",IF(Table26[[#This Row],[Sim/Não]]=1,1,0),0)","v":0}]
[null,null,null,null,null,null,null,null,null,null,null,"Atrasado",null,null,null,0,0,{"$f":"IF(Table26[[#This Row],[Status Medida]]=\"Finalizado\",IF(Table26[[#This Row],[Sim/Não]]=1,1,0),0)","v":0}]
[null,null,null,null,null,null,null,null,null,null,null,"Atrasado",null,null,null,0,0,{"$f":"IF(Table26[[#This Row],[Status Medida]]=\"Finalizado\",IF(Table26[[#This Row],[Sim/Não]]=1,1,0),0)","v":0}]
[null,null,null,null,null,null,null,null,null,null,null,"Atrasado",null,null,null,0,0,{"$f":"IF(Table26[[#This Row],[Status Medida]]=\"Finalizado\",IF(Table26[[#This Row],[Sim/Não]]=1,1,0),0)","v":0}]
[null,null,null,null,null,null,null,null,null,null,null,"Atrasado",null,null,null,0,0,{"$f":"IF(Table26[[#This Row],[Status Medida]]=\"Finalizado\",IF(Table26[[#This Row],[Sim/Não]]=1,1,0),0)","v":0}]
[null,null,null,null,null,null,null,null,null,null,null,"Atrasado",null,null,null,0,0,{"$f":"IF(Table26[[#This Row],[Status Medida]]=\"Finalizado\",IF(Table26[[#This Row],[Sim/Não]]=1,1,0),0)","v":0}]
[null,null,null,null,null,null,null,null,null,null,null,"Atrasado",null,null,null,0,0,{"$f":"IF(Table26[[#This Row],[Status Medida]]=\"Finalizado\",IF(Table26[[#This Row],[Sim/Não]]=1,1,0),0)","v":0}]
[null,null,null,null,null,null,null,null,null,null,null,{"$f":"IF(J11417>K11417,\"Datas inválidas\",IF(M11417=\"Finalizado\",\"Concluído\",IF(J11417>TODAY(),\"Não iniciado\",_xlfn.IFS(J11417=TODAY(),\"Em andamento\",TODAY()>K11417,\"Atrasado\",AND(TODAY()>J11417,TODAY()<=K11417),\"Em andamento\"))))","v":"Atrasado"},null,null,null,{"$f":"IF(O11417=\"Sim\",1,0)","v":0},0,{"$f":"IF(Table26[[#This Row],[Status Medida]]=\"Finalizado\",IF(Table26[[#This Row],[Sim/Não]]=1,1,0),0)","v":0}]
[null,null,null,null,null,null,null,null,null,null,null,"Atrasado",null,null,null,0,0,{"$f":"IF(Table26[[#This Row],[Status Medida]]=\"Finalizado\",IF(Table26[[#This Row],[Sim/Não]]=1,1,0),0)","v":0}]

{"sheet":"TABELAS AUXILIARES","index":16,"n_rows":19,"n_cols":15,"rows_kept":19,"cut":false,"hidden":true,"merged":[[29,7,29,9],[5,4,5,5],[5,7,5,8],[5,10,5,11],[5,13,5,14],[15,4,15,5]]}
[]
[]
[]
[]
[]
[null,null,null,null,"1- Implementação",null,null,"2- Capacidade",null,null,"4- Faixa Nivel de Maturidade",null,null,"5- iSeg / iPriv"]
[null,null,null,null,"Selecione a Resposta","Peso para por na logica",null,"Selecione o Nivel de Capacidade","Indice ",null,"iMC","Nível de Maturidade",null,"iSeg / iPriv","Nível de Maturidade"]
[null,null,null,null,"Adota em maior parte ou totalmente",1,null,0,0,null,"0,00 a 0,29","Inicial",null,"0,00 a 0,29","Inicial"]
[null,null,null,null,"Adota em menor parte",0.75,null,1,20,null,"0,30 a 0,49","Básico",null,"0,30 a 0,49","Básico"]
[null,null,null,null,"Adota parcialmente",0.5,null,2,40,null,"0,50 a 0,69","Intermediário",null,"0,50 a 0,69","Intermediário"]
[null,null,null,null,"Há decisão formal ou plano aprovado para implementar",0.25,null,3,60,null,"0,70 a 0,89","Em Aprimoramento",null,"0,70 a 0,89","Em Aprimoramento"]
[null,null,null,null,"A organização não adota essa medida",0,null,4,80,null,"0,90 a 1,00","Aprimorado",null,"0,90 a 1,00","Aprimorado"]
[null,null,null,null,"Não se aplica","-",null,5,100]
[]
[]
[null,null,null,null,"3- Controle 0"]
[null,null,null,null,"Opção de Resposta","Resultado"]
[null,null,null,null,"Atendido",1]
[null,null,null,null,"Não atendido",0]

{"sheet":"LOGICA_CONTROLE_0","index":17,"n_rows":18,"n_cols":9,"rows_kept":18,"cut":false,"hidden":true,"merged":[[5,2,5,4],[6,3,6,4]]}
[]
[]
[]
[null,"INCC",{"$f":"FORM2.2!E6","v":"Selecione sua Resposta"},"Maturidade Controle",{"$f":"IFERROR((SUMIF(E8:E14,\">=0\")/(COUNTA(E8:E14)-COUNTIF(E8:E14,'TABELAS AUXILIARES'!$F$13))/2)*(1+C4*1/5), \"Por favor preencher o INCC\")","v":"Por favor preencher o INCC"},{"$f":"IFERROR(_xlfn.IFS(E4<0.3,'TABELAS AUXILIARES'!O8,E4 <0.5,'TABELAS AUXILIARES'!O9,E4 < 0.7,'TABELAS AUXILIARES'!O10,E4 < 0.89,'TABELAS AUXILIARES'!O11,E4 <= 1,'TABELAS AUXILIARES'!O12), \"Por favor preencher o INCC\")","v":"Por favor preencher o INCC"}]
[]
[null,null,"Controle 0"]
[null,null,"ID medida","Resposta",null,null,null,"Planos de Ação Prioritários","Planos de Ação Concluídos"]
[null,null,"0.1",{"$f":"FORM2.2!E12","v":"Selecione a Opção"},{"$f":"IF(D8=\"Sim\",1,0)","v":0},null,null,{"$f":"_xlfn.XLOOKUP(C8, FORM3GERAL!$C$7:$C$7,FORM3GERAL!$P$7:$P$11418)","v":{"$error":"#N/A"}},{"$f":"_xlfn.XLOOKUP(C8, FORM3GERAL!$C$7:$C$7,FORM3GERAL!$L$7:$L$11418)","v":{"$error":"#N/A"}}]
[null,"TOTAL DE MEDIDAS ","0.2",{"$f":"FORM2.2!E13","v":"Selecione a Opção"},{"$f":"IF(D9=\"Sim\",1,0)","v":0},null,null,{"$f":"_xlfn.XLOOKUP(C9, FORM3GERAL!$C$7:$C$7,FORM3GERAL!$P$7:$P$11418)","v":{"$error":"#N/A"}},{"$f":"_xlfn.XLOOKUP(C9, FORM3GERAL!$C$7:$C$7,FORM3GERAL!$L$7:$L$11418)","v":{"$error":"#N/A"}}]
[null,{"$f":"COUNTA(C8:C14)","v":7},"0.3",{"$f":"FORM2.2!E14","v":"Selecione a Opção"},0,null,null,{"$f":"_xlfn.XLOOKUP(C10, FORM3GERAL!$C$7:$C$7,FORM3GERAL!$P$7:$P$11418)","v":{"$error":"#N/A"}},{"$f":"_xlfn.XLOOKUP(C10, FORM3GERAL!$C$7:$C$7,FORM3GERAL!$L$7:$L$11418)","v":{"$error":"#N/A"}}]
[null,null,"0.4",{"$f":"FORM2.2!E15","v":"Selecione a Opção"},0,null,null,{"$f":"_xlfn.XLOOKUP(C11, FORM3GERAL!$C$7:$C$7,FORM3GERAL!$P$7:$P$11418)","v":{"$error":"#N/A"}},{"$f":"_xlfn.XLOOKUP(C11, FORM3GERAL!$C$7:$C$7,FORM3GERAL!$L$7:$L$11418)","v":{"$error":"#N/A"}}]
[null,null,"0.5",{"$f":"FORM2.2!E16","v":"Selecione a Opção"},0,null,null,{"$f":"_xlfn.XLOOKUP(C12, FORM3GERAL!$C$7:$C$7,FORM3GERAL!$P$7:$P$11418)","v":{"$error":"#N/A"}},{"$f":"_xlfn.XLOOKUP(C12, FORM3GERAL!$C$7:$C$7,FORM3GERAL!$L$7:$L$11418)","v":{"$error":"#N/A"}}]
[null,null,"0.6",{"$f":"FORM2.2!E17","v":"Selecione a Opção"},0,null,null,{"$f":"_xlfn.XLOOKUP(C13, FORM3GERAL!$C$7:$C$7,FORM3GERAL!$P$7:$P$11418)","v":{"$error":"#N/A"}},{"$f":"_xlfn.XLOOKUP(C13, FORM3GERAL!$C$7:$C$7,FORM3GERAL!$L$7:$L$11418)","v":{"$error":"#N/A"}}]
[null,null,"0.7",{"$f":"FORM2.2!E18","v":"Selecione a Opção"},0,null,null,{"$f":"_xlfn.XLOOKUP(C14, FORM3GERAL!$C$7:$C$7,FORM3GERAL!$P$7:$P$11418)","v":{"$error":"#N/A"}},{"$f":"_xlfn.XLOOKUP(C14, FORM3GERAL!$C$7:$C$7,FORM3GERAL!$L$7:$L$11418)","v":{"$error":"#N/A"}}]
[]
[null,null,null,"QTD SIM",{"$f":"COUNTIF(D8:D14,\"Sim\")","v":0}]
[null,null,null,"QTD NÃO",{"$f":"COUNTIF(D8:D14,\"Não\")","v":0}]
[null,null,null,"TOTAL",{"$f":"SUM(E16:E17)","v":0}]

{"sheet":"LOGICA_ISEG","index":18,"n_rows":159,"n_cols":13,"rows_kept":159,"cut":false,"hidden":true,"merged":[[3,1,3,2],[5,8,5,9]]}
[]
[null,null,null,null,null,"QTD MEDIDAS",{"$f":"COUNTA(D7:D159)","v":153}]
[]
[null,"Importante: LÓGICA do indicador iSeg - segurança da informação",null,null,null,"Número de Respostas Pendentes para Obtenção de Maturidade de SI:",{"$f":"COUNTIF(FORM2.3!$I$12:$I$181,\"Selecione a Resposta\")","v":153}]
[]
[null,"ID Controle","INCC","ID medida","Resposta","Maturidade Controle","Maturidade Segurança da Informação",null,null,null,"Planos de Ação Prioritários","Planos de Ação Concluídos","Planos de Ação Prioritários Concluídos"]
[null,1,{"$f":"FORM2.3!K11","v":"Selecione sua Resposta"},"1.1",{"$f":"IFERROR(_xlfn.XLOOKUP(_xlfn.XLOOKUP(D7,FORM2.3!C12:C181,FORM2.3!I12:I181),'TABELAS AUXILIARES'!$E$8:$E$13,'TABELAS AUXILIARES'!$F$8:$F$13),\"Por favor, preencha o campo\")","v":"Por favor, preencha o campo"},{"$f":"IF(COUNTIF(E7:E11,\"Por favor, preencha o campo\")>0, \"Por favor preencha todas as medidas\",(SUMIF(E7:E11,\">=0\")/(COUNTA(E7:E11)-COUNTIF(E7:E11,'TABELAS AUXILIARES'!$F$13))/2)*(1+C7*1/5))","v":"Por favor preencha todas as medidas"},{"$f":"IFERROR(((LOGICA_CONTROLE_0!E4*4) + SUM(F7:F159))/22, \"Por favor preencha todos os campos\")","v":"Por favor preencha todos os campos"},null,null,null,{"$f":"_xlfn.XLOOKUP(D7, FORM3GERAL!$C$7:$C$11418,FORM3GERAL!$P$7:$P$11418)","v":{"$error":"#N/A"}},{"$f":"_xlfn.XLOOKUP(D7, FORM3GERAL!$C$7:$C$11418,FORM3GERAL!$L$7:$L$11418)","v":{"$error":"#N/A"}},{"$f":"IF(K7=1,IF(L7=\"Concluído\",1,0),0)","v":{"$error":"#N/A"}}]
[null,1,null,"1.2",{"$f":"IFERROR(_xlfn.XLOOKUP(_xlfn.XLOOKUP(D8,FORM2.3!C13:C182,FORM2.3!I13:I182),'TABELAS AUXILIARES'!$E$8:$E$13,'TABELAS AUXILIARES'!$F$8:$F$13),\"Por favor, preencha o campo\")","v":"Por favor, preencha o campo"},null,null,null,null,null,{"$f":"_xlfn.XLOOKUP(D8, FORM3GERAL!$C$7:$C$11418,FORM3GERAL!$P$7:$P$11418)","v":{"$error":"#N/A"}},{"$f":"_xlfn.XLOOKUP(D8, FORM3GERAL!$C$7:$C$11418,FORM3GERAL!$L$7:$L$11418)","v":{"$error":"#N/A"}},{"$f":"IF(K8=1,IF(L8=\"Concluído\",1,0),0)","v":{"$error":"#N/A"}}]
[null,1,null,"1.3",{"$f":"IFERROR(_xlfn.XLOOKUP(_xlfn.XLOOKUP(D9,FORM2.3!C14:C183,FORM2.3!I14:I183),'TABELAS AUXILIARES'!$E$8:$E$13,'TABELAS AUXILIARES'!$F$8:$F$13),\"Por favor, preencha o campo\")","v":"Por favor, preencha o campo"},null,null,null,null,null,{"$f":"_xlfn.XLOOKUP(D9, FORM3GERAL!$C$7:$C$11418,FORM3GERAL!$P$7:$P$11418)","v":{"$error":"#N/A"}},{"$f":"_xlfn.XLOOKUP(D9, FORM3GERAL!$C$7:$C$11418,FORM3GERAL!$L$7:$L$11418)","v":{"$error":"#N/A"}},{"$error":"#N/A"}]
[null,1,null,"1.4",{"$f":"IFERROR(_xlfn.XLOOKUP(_xlfn.XLOOKUP(D10,FORM2.3!C15:C184,FORM2.3!I15:I184),'TABELAS AUXILIARES'!$E$8:$E$13,'TABELAS AUXILIARES'!$F$8:$F$13),\"Por favor, preencha o campo\")","v":"Por favor, preencha o campo"},null,null,null,null,null,{"$f":"_xlfn.XLOOKUP(D10, FORM3GERAL!$C$7:$C$11418,FORM3GERAL!$P$7:$P$11418)","v":{"$error":"#N/A"}},{"$f":"_xlfn.XLOOKUP(D10, FORM3GERAL!$C$7:$C$11418,FORM3GERAL!$L$7:$L$11418)","v":{"$error":"#N/A"}},{"$error":"#N/A"}]
[null,1,null,"1.5",{"$f":"IFERROR(_xlfn.XLOOKUP(_xlfn.XLOOKUP(D11,FORM2.3!C16:C185,FORM2.3!I16:I185),'TABELAS AUXILIARES'!$E$8:$E$13,'TABELAS AUXILIARES'!$F$8:$F$13),\"Por favor, preencha o campo\")","v":"Por favor, preencha o campo"},null,null,null,null,null,{"$f":"_xlfn.XLOOKUP(D11, FORM3GERAL!$C$7:$C$11418,FORM3GERAL!$P$7:$P$11418)","v":{"$error":"#N/A"}},{"$f":"_xlfn.XLOOKUP(D11, FORM3GERAL!$C$7:$C$11418,FORM3GERAL!$L$7:$L$11418)","v":{"$error":"#N/A"}},{"$error":"#N/A"}]
[null,2,{"$f":"FORM2.3!K17","v":"Selecione sua Resposta"},"2.1",{"$f":"IFERROR(_xlfn.XLOOKUP(_xlfn.XLOOKUP(D12,FORM2.3!C17:C186,FORM2.3!I17:I186),'TABELAS AUXILIARES'!$E$8:$E$13,'TABELAS AUXILIARES'!$F$8:$F$13),\"Por favor, preencha o campo\")","v":"Por favor, preencha o campo"},{"$f":"IF(COUNTIF(E12:E18,\"Por favor, preencha o campo\")>0, \"Por favor preencha todas as medidas\",(SUMIF(E12:E18,\">=0\")/(COUNTA(E12:E18)-COUNTIF(E12:E18,'TABELAS AUXILIARES'!$F$13))/2)*(1+C12*1/5))","v":"Por favor preencha todas as medidas"},null,null,null,null,{"$f":"_xlfn.XLOOKUP(D12, FORM3GERAL!$C$7:$C$11418,FORM3GERAL!$P$7:$P$11418)","v":{"$error":"#N/A"}},{"$f":"_xlfn.XLOOKUP(D12, FORM3GERAL!$C$7:$C$11418,FORM3GERAL!$L$7:$L$11418)","v":{"$error":"#N/A"}},{"$error":"#N/A"}]
[null,2,null,"2.2",{"$f":"IFERROR(_xlfn.XLOOKUP(_xlfn.XLOOKUP(D13,FORM2.3!C18:C187,FORM2.3!I18:I187),'TABELAS AUXILIARES'!$E$8:$E$13,'TABELAS AUXILIARES'!$F$8:$F$13),\"Por favor, preencha o campo\")","v":"Por favor, preencha o campo"},null,null,null,null,null,{"$f":"_xlfn.XLOOKUP(D13, FORM3GERAL!$C$7:$C$11418,FORM3GERAL!$P$7:$P$11418)","v":{"$error":"#N/A"}},{"$f":"_xlfn.XLOOKUP(D13, FORM3GERAL!$C$7:$C$11418,FORM3GERAL!$L$7:$L$11418)","v":{"$error":"#N/A"}},{"$error":"#N/A"}]
[null,2,null,"2.3",{"$f":"IFERROR(_xlfn.XLOOKUP(_xlfn.XLOOKUP(D14,FORM2.3!C19:C188,FORM2.3!I19:I188),'TABELAS AUXILIARES'!$E$8:$E$13,'TABELAS AUXILIARES'!$F$8:$F$13),\"Por favor, preencha o campo\")","v":"Por favor, preencha o campo"},null,null,null,null,null,{"$f":"_xlfn.XLOOKUP(D14, FORM3GERAL!$C$7:$C$11418,FORM3GERAL!$P$7:$P$11418)","v":{"$error":"#N/A"}},{"$f":"_xlfn.XLOOKUP(D14, FORM3GERAL!$C$7:$C$11418,FORM3GERAL!$L$7:$L$11418)","v":{"$error":"#N/A"}},{"$error":"#N/A"}]
[null,2,null,"2.4",{"$f":"IFERROR(_xlfn.XLOOKUP(_xlfn.XLOOKUP(D15,FORM2.3!C20:C189,FORM2.3!I20:I189),'TABELAS AUXILIARES'!$E$8:$E$13,'TABELAS AUXILIARES'!$F$8:$F$13),\"Por favor, preencha o campo\")","v":"Por favor, preencha o campo"},null,null,null,null,null,{"$f":"_xlfn.XLOOKUP(D15, FORM3GERAL!$C$7:$C$11418,FORM3GERAL!$P$7:$P$11418)","v":{"$error":"#N/A"}},{"$f":"_xlfn.XLOOKUP(D15, FORM3GERAL!$C$7:$C$11418,FORM3GERAL!$L$7:$L$11418)","v":{"$error":"#N/A"}},{"$error":"#N/A"}]
[null,2,null,"2.5",{"$f":"IFERROR(_xlfn.XLOOKUP(_xlfn.XLOOKUP(D16,FORM2.3!C21:C190,FORM2.3!I21:I190),'TABELAS AUXILIARES'!$E$8:$E$13,'TABELAS AUXILIARES'!$F$8:$F$13),\"Por favor, preencha o campo\")","v":"Por favor, preencha o campo"},null,null,null,null,null,{"$f":"_xlfn.XLOOKUP(D16, FORM3GERAL!$C$7:$C$11418,FORM3GERAL!$P$7:$P$11418)","v":{"$error":"#N/A"}},{"$f":"_xlfn.XLOOKUP(D16, FORM3GERAL!$C$7:$C$11418,FORM3GERAL!$L$7:$L$11418)","v":{"$error":"#N/A"}},{"$error":"#N/A"}]
[null,2,null,"2.6",{"$f":"IFERROR(_xlfn.XLOOKUP(_xlfn.XLOOKUP(D17,FORM2.3!C22:C191,FORM2.3!I22:I191),'TABELAS AUXILIARES'!$E$8:$E$13,'TABELAS AUXILIARES'!$F$8:$F$13),\"Por favor, preencha o campo\")","v":"Por favor, preencha o campo"},null,null,null,null,null,{"$f":"_xlfn.XLOOKUP(D17, FORM3GERAL!$C$7:$C$11418,FORM3GERAL!$P$7:$P$11418)","v":{"$error":"#N/A"}},{"$f":"_xlfn.XLOOKUP(D17, FORM3GERAL!$C$7:$C$11418,FORM3GERAL!$L$7:$L$11418)","v":{"$error":"#N/A"}},{"$error":"#N/A"}]
[null,2,null,"2.7",{"$f":"IFERROR(_xlfn.XLOOKUP(_xlfn.XLOOKUP(D18,FORM2.3!C23:C192,FORM2.3!I23:I192),'TABELAS AUXILIARES'!$E$8:$E$13,'TABELAS AUXILIARES'!$F$8:$F$13),\"Por favor, preencha o campo\")","v":"Por favor, preencha o campo"},null,null,null,null,null,{"$f":"_xlfn.XLOOKUP(D18, FORM3GERAL!$C$7:$C$11418,FORM3GERAL!$P$7:$P$11418)","v":{"$error":"#N/A"}},{"$f":"_xlfn.XLOOKUP(D18, FORM3GERAL!$C$7:$C$11418,FORM3GERAL!$L$7:$L$11418)","v":{"$error":"#N/A"}},{"$error":"#N/A"}]
[null,3,{"$f":"FORM2.3!K25","v":"Selecione sua Resposta"},"3.1",{"$f":"IFERROR(_xlfn.XLOOKUP(_xlfn.XLOOKUP(D19,FORM2.3!C24:C193,FORM2.3!I24:I193),'TABELAS AUXILIARES'!$E$8:$E$13,'TABELAS AUXILIARES'!$F$8:$F$13),\"Por favor, preencha o campo\")","v":"Por favor, preencha o campo"},{"$f":"IF(COUNTIF(E19:E32,\"Por favor, preencha o campo\")>0, \"Por favor preencha todas as medidas\",(SUMIF(E19:E32,\">=0\")/(COUNTA(E19:E32)-COUNTIF(E19:E32,'TABELAS AUXILIARES'!$F$13))/2)*(1+C19*1/5))","v":"Por favor preencha todas as medidas"},null,null,null,null,{"$f":"_xlfn.XLOOKUP(D19, FORM3GERAL!$C$7:$C$11418,FORM3GERAL!$P$7:$P$11418)","v":{"$error":"#N/A"}},{"$f":"_xlfn.XLOOKUP(D19, FORM3GERAL!$C$7:$C$11418,FORM3GERAL!$L$7:$L$11418)","v":{"$error":"#N/A"}},{"$error":"#N/A"}]
[null,3,null,"3.2",{"$f":"IFERROR(_xlfn.XLOOKUP(_xlfn.XLOOKUP(D20,FORM2.3!C25:C194,FORM2.3!I25:I194),'TABELAS AUXILIARES'!$E$8:$E$13,'TABELAS AUXILIARES'!$F$8:$F$13),\"Por favor, preencha o campo\")","v":"Por favor, preencha o campo"},null,null,null,null,null,{"$f":"_xlfn.XLOOKUP(D20, FORM3GERAL!$C$7:$C$11418,FORM3GERAL!$P$7:$P$11418)","v":{"$error":"#N/A"}},{"$f":"_xlfn.XLOOKUP(D20, FORM3GERAL!$C$7:$C$11418,FORM3GERAL!$L$7:$L$11418)","v":{"$error":"#N/A"}},{"$error":"#N/A"}]
[null,3,null,"3.3",{"$f":"IFERROR(_xlfn.XLOOKUP(_xlfn.XLOOKUP(D21,FORM2.3!C26:C195,FORM2.3!I26:I195),'TABELAS AUXILIARES'!$E$8:$E$13,'TABELAS AUXILIARES'!$F$8:$F$13),\"Por favor, preencha o campo\")","v":"Por favor, preencha o campo"},null,null,null,null,null,{"$f":"_xlfn.XLOOKUP(D21, FORM3GERAL!$C$7:$C$11418,FORM3GERAL!$P$7:$P$11418)","v":{"$error":"#N/A"}},{"$f":"_xlfn.XLOOKUP(D21, FORM3GERAL!$C$7:$C$11418,FORM3GERAL!$L$7:$L$11418)","v":{"$error":"#N/A"}},{"$error":"#N/A"}]
[null,3,null,"3.4",{"$f":"IFERROR(_xlfn.XLOOKUP(_xlfn.XLOOKUP(D22,FORM2.3!C27:C196,FORM2.3!I27:I196),'TABELAS AUXILIARES'!$E$8:$E$13,'TABELAS AUXILIARES'!$F$8:$F$13),\"Por favor, preencha o campo\")","v":"Por favor, preencha o campo"},null,null,null,null,null,{"$f":"_xlfn.XLOOKUP(D22, FORM3GERAL!$C$7:$C$11418,FORM3GERAL!$P$7:$P$11418)","v":{"$error":"#N/A"}},{"$f":"_xlfn.XLOOKUP(D22, FORM3GERAL!$C$7:$C$11418,FORM3GERAL!$L$7:$L$11418)","v":{"$error":"#N/A"}},{"$error":"#N/A"}]
[null,3,null,"3.5",{"$f":"IFERROR(_xlfn.XLOOKUP(_xlfn.XLOOKUP(D23,FORM2.3!C28:C197,FORM2.3!I28:I197),'TABELAS AUXILIARES'!$E$8:$E$13,'TABELAS AUXILIARES'!$F$8:$F$13),\"Por favor, preencha o campo\")","v":"Por favor, preencha o campo"},null,null,null,null,null,{"$f":"_xlfn.XLOOKUP(D23, FORM3GERAL!$C$7:$C$11418,FORM3GERAL!$P$7:$P$11418)","v":{"$error":"#N/A"}},{"$f":"_xlfn.XLOOKUP(D23, FORM3GERAL!$C$7:$C$11418,FORM3GERAL!$L$7:$L$11418)","v":{"$error":"#N/A"}},{"$error":"#N/A"}]
[null,3,null,"3.6",{"$f":"IFERROR(_xlfn.XLOOKUP(_xlfn.XLOOKUP(D24,FORM2.3!C29:C198,FORM2.3!I29:I198),'TABELAS AUXILIARES'!$E$8:$E$13,'TABELAS AUXILIARES'!$F$8:$F$13),\"Por favor, preencha o campo\")","v":"Por favor, preencha o campo"},null,null,null,null,null,{"$f":"_xlfn.XLOOKUP(D24, FORM3GERAL!$C$7:$C$11418,FORM3GERAL!$P$7:$P$11418)","v":{"$error":"#N/A"}},{"$f":"_xlfn.XLOOKUP(D24, FORM3GERAL!$C$7:$C$11418,FORM3GERAL!$L$7:$L$11418)","v":{"$error":"#N/A"}},{"$error":"#N/A"}]
[null,3,null,"3.7",{"$f":"IFERROR(_xlfn.XLOOKUP(_xlfn.XLOOKUP(D25,FORM2.3!C30:C199,FORM2.3!I30:I199),'TABELAS AUXILIARES'!$E$8:$E$13,'TABELAS AUXILIARES'!$F$8:$F$13),\"Por favor, preencha o campo\")","v":"Por favor, preencha o campo"},null,null,null,null,null,{"$f":"_xlfn.XLOOKUP(D25, FORM3GERAL!$C$7:$C$11418,FORM3GERAL!$P$7:$P$11418)","v":{"$error":"#N/A"}},{"$f":"_xlfn.XLOOKUP(D25, FORM3GERAL!$C$7:$C$11418,FORM3GERAL!$L$7:$L$11418)","v":{"$error":"#N/A"}},{"$error":"#N/A"}]
[null,3,null,"3.8",{"$f":"IFERROR(_xlfn.XLOOKUP(_xlfn.XLOOKUP(D26,FORM2.3!C31:C200,FORM2.3!I31:I200),'TABELAS AUXILIARES'!$E$8:$E$13,'TABELAS AUXILIARES'!$F$8:$F$13),\"Por favor, preencha o campo\")","v":"Por favor, preencha o campo"},null,null,null,null,null,{"$f":"_xlfn.XLOOKUP(D26, FORM3GERAL!$C$7:$C$11418,FORM3GERAL!$P$7:$P$11418)","v":{"$error":"#N/A"}},{"$f":"_xlfn.XLOOKUP(D26, FORM3GERAL!$C$7:$C$11418,FORM3GERAL!$L$7:$L$11418)","v":{"$error":"#N/A"}},{"$error":"#N/A"}]
[null,3,null,"3.9",{"$f":"IFERROR(_xlfn.XLOOKUP(_xlfn.XLOOKUP(D27,FORM2.3!C32:C201,FORM2.3!I32:I201),'TABELAS AUXILIARES'!$E$8:$E$13,'TABELAS AUXILIARES'!$F$8:$F$13),\"Por favor, preencha o campo\")","v":"Por favor, preencha o campo"},null,null,null,null,null,{"$f":"_xlfn.XLOOKUP(D27, FORM3GERAL!$C$7:$C$11418,FORM3GERAL!$P$7:$P$11418)","v":{"$error":"#N/A"}},{"$f":"_xlfn.XLOOKUP(D27, FORM3GERAL!$C$7:$C$11418,FORM3GERAL!$L$7:$L$11418)","v":{"$error":"#N/A"}},{"$error":"#N/A"}]
[null,3,null,"3.10",{"$f":"IFERROR(_xlfn.XLOOKUP(_xlfn.XLOOKUP(D28,FORM2.3!C33:C202,FORM2.3!I33:I202),'TABELAS AUXILIARES'!$E$8:$E$13,'TABELAS AUXILIARES'!$F$8:$F$13),\"Por favor, preencha o campo\")","v":"Por favor, preencha o campo"},null,null,null,null,null,{"$f":"_xlfn.XLOOKUP(D28, FORM3GERAL!$C$7:$C$11418,FORM3GERAL!$P$7:$P$11418)","v":{"$error":"#N/A"}},{"$f":"_xlfn.XLOOKUP(D28, FORM3GERAL!$C$7:$C$11418,FORM3GERAL!$L$7:$L$11418)","v":{"$error":"#N/A"}},{"$error":"#N/A"}]
[null,3,null,"3.11",{"$f":"IFERROR(_xlfn.XLOOKUP(_xlfn.XLOOKUP(D29,FORM2.3!C34:C203,FORM2.3!I34:I203),'TABELAS AUXILIARES'!$E$8:$E$13,'TABELAS AUXILIARES'!$F$8:$F$13),\"Por favor, preencha o campo\")","v":"Por favor, preencha o campo"},null,null,null,null,null,{"$f":"_xlfn.XLOOKUP(D29, FORM3GERAL!$C$7:$C$11418,FORM3GERAL!$P$7:$P$11418)","v":{"$error":"#N/A"}},{"$f":"_xlfn.XLOOKUP(D29, FORM3GERAL!$C$7:$C$11418,FORM3GERAL!$L$7:$L$11418)","v":{"$error":"#N/A"}},{"$error":"#N/A"}]
[null,3,null,"3.12",{"$f":"IFERROR(_xlfn.XLOOKUP(_xlfn.XLOOKUP(D30,FORM2.3!C35:C204,FORM2.3!I35:I204),'TABELAS AUXILIARES'!$E$8:$E$13,'TABELAS AUXILIARES'!$F$8:$F$13),\"Por favor, preencha o campo\")","v":"Por favor, preencha o campo"},null,null,null,null,null,{"$f":"_xlfn.XLOOKUP(D30, FORM3GERAL!$C$7:$C$11418,FORM3GERAL!$P$7:$P$11418)","v":{"$error":"#N/A"}},{"$f":"_xlfn.XLOOKUP(D30, FORM3GERAL!$C$7:$C$11418,FORM3GERAL!$L$7:$L$11418)","v":{"$error":"#N/A"}},{"$error":"#N/A"}]
[null,3,null,"3.13",{"$f":"IFERROR(_xlfn.XLOOKUP(_xlfn.XLOOKUP(D31,FORM2.3!C36:C205,FORM2.3!I36:I205),'TABELAS AUXILIARES'!$E$8:$E$13,'TABELAS AUXILIARES'!$F$8:$F$13),\"Por favor, preencha o campo\")","v":"Por favor, preencha o campo"},null,null,null,null,null,{"$f":"_xlfn.XLOOKUP(D31, FORM3GERAL!$C$7:$C$11418,FORM3GERAL!$P$7:$P$11418)","v":{"$error":"#N/A"}},{"$f":"_xlfn.XLOOKUP(D31, FORM3GERAL!$C$7:$C$11418,FORM3GERAL!$L$7:$L$11418)","v":{"$error":"#N/A"}},{"$error":"#N/A"}]
[null,3,null,"3.14",{"$f":"IFERROR(_xlfn.XLOOKUP(_xlfn.XLOOKUP(D32,FORM2.3!C37:C206,FORM2.3!I37:I206),'TABELAS AUXILIARES'!$E$8:$E$13,'TABELAS AUXILIARES'!$F$8:$F$13),\"Por favor, preencha o campo\")","v":"Por favor, preencha o campo"},null,null,null,null,null,{"$f":"_xlfn.XLOOKUP(D32, FORM3GERAL!$C$7:$C$11418,FORM3GERAL!$P$7:$P$11418)","v":{"$error":"#N/A"}},{"$f":"_xlfn.XLOOKUP(D32, FORM3GERAL!$C$7:$C$11418,FORM3GERAL!$L$7:$L$11418)","v":{"$error":"#N/A"}},{"$error":"#N/A"}]
[null,4,{"$f":"FORM2.3!K40","v":"Selecione sua Resposta"},"4.1",{"$f":"IFERROR(_xlfn.XLOOKUP(_xlfn.XLOOKUP(D33,FORM2.3!C38:C207,FORM2.3!I38:I207),'TABELAS AUXILIARES'!$E$8:$E$13,'TABELAS AUXILIARES'!$F$8:$F$13),\"Por favor, preencha o campo\")","v":"Por favor, preencha o campo"},{"$f":"IF(COUNTIF(E33:E44,\"Por favor, preencha o campo\")>0, \"Por favor preencha todas as medidas\",(SUMIF(E33:E44,\">=0\")/(COUNTA(E33:E44)-COUNTIF(E33:E44,'TABELAS AUXILIARES'!$F$13))/2)*(1+C33*1/5))","v":"Por favor preencha todas as medidas"},null,null,null,null,{"$f":"_xlfn.XLOOKUP(D33, FORM3GERAL!$C$7:$C$11418,FORM3GERAL!$P$7:$P$11418)","v":{"$error":"#N/A"}},{"$f":"_xlfn.XLOOKUP(D33, FORM3GERAL!$C$7:$C$11418,FORM3GERAL!$L$7:$L$11418)","v":{"$error":"#N/A"}},{"$error":"#N/A"}]
[null,4,null,"4.2",{"$f":"IFERROR(_xlfn.XLOOKUP(_xlfn.XLOOKUP(D34,FORM2.3!C39:C208,FORM2.3!I39:I208),'TABELAS AUXILIARES'!$E$8:$E$13,'TABELAS AUXILIARES'!$F$8:$F$13),\"Por favor, preencha o campo\")","v":"Por favor, preencha o campo"},null,null,null,null,null,{"$f":"_xlfn.XLOOKUP(D34, FORM3GERAL!$C$7:$C$11418,FORM3GERAL!$P$7:$P$11418)","v":{"$error":"#N/A"}},{"$f":"_xlfn.XLOOKUP(D34, FORM3GERAL!$C$7:$C$11418,FORM3GERAL!$L$7:$L$11418)","v":{"$error":"#N/A"}},{"$error":"#N/A"}]
[null,4,null,"4.3",{"$f":"IFERROR(_xlfn.XLOOKUP(_xlfn.XLOOKUP(D35,FORM2.3!C40:C209,FORM2.3!I40:I209),'TABELAS AUXILIARES'!$E$8:$E$13,'TABELAS AUXILIARES'!$F$8:$F$13),\"Por favor, preencha o campo\")","v":"Por favor, preencha o campo"},null,null,null,null,null,{"$f":"_xlfn.XLOOKUP(D35, FORM3GERAL!$C$7:$C$11418,FORM3GERAL!$P$7:$P$11418)","v":{"$error":"#N/A"}},{"$f":"_xlfn.XLOOKUP(D35, FORM3GERAL!$C$7:$C$11418,FORM3GERAL!$L$7:$L$11418)","v":{"$error":"#N/A"}},{"$error":"#N/A"}]
[null,4,null,"4.4",{"$f":"IFERROR(_xlfn.XLOOKUP(_xlfn.XLOOKUP(D36,FORM2.3!C41:C210,FORM2.3!I41:I210),'TABELAS AUXILIARES'!$E$8:$E$13,'TABELAS AUXILIARES'!$F$8:$F$13),\"Por favor, preencha o campo\")","v":"Por favor, preencha o campo"},null,null,null,null,null,{"$f":"_xlfn.XLOOKUP(D36, FORM3GERAL!$C$7:$C$11418,FORM3GERAL!$P$7:$P$11418)","v":{"$error":"#N/A"}},{"$f":"_xlfn.XLOOKUP(D36, FORM3GERAL!$C$7:$C$11418,FORM3GERAL!$L$7:$L$11418)","v":{"$error":"#N/A"}},{"$error":"#N/A"}]
[null,4,null,"4.5",{"$f":"IFERROR(_xlfn.XLOOKUP(_xlfn.XLOOKUP(D37,FORM2.3!C42:C211,FORM2.3!I42:I211),'TABELAS AUXILIARES'!$E$8:$E$13,'TABELAS AUXILIARES'!$F$8:$F$13),\"Por favor, preencha o campo\")","v":"Por favor, preencha o campo"},null,null,null,null,null,{"$f":"_xlfn.XLOOKUP(D37, FORM3GERAL!$C$7:$C$11418,FORM3GERAL!$P$7:$P$11418)","v":{"$error":"#N/A"}},{"$f":"_xlfn.XLOOKUP(D37, FORM3GERAL!$C$7:$C$11418,FORM3GERAL!$L$7:$L$11418)","v":{"$error":"#N/A"}},{"$error":"#N/A"}]
[null,4,null,"4.6",{"$f":"IFERROR(_xlfn.XLOOKUP(_xlfn.XLOOKUP(D38,FORM2.3!C43:C212,FORM2.3!I43:I212),'TABELAS AUXILIARES'!$E$8:$E$13,'TABELAS AUXILIARES'!$F$8:$F$13),\"Por favor, preencha o campo\")","v":"Por favor, preencha o campo"},null,null,null,null,null,{"$f":"_xlfn.XLOOKUP(D38, FORM3GERAL!$C$7:$C$11418,FORM3GERAL!$P$7:$P$11418)","v":{"$error":"#N/A"}},{"$f":"_xlfn.XLOOKUP(D38, FORM3GERAL!$C$7:$C$11418,FORM3GERAL!$L$7:$L$11418)","v":{"$error":"#N/A"}},{"$error":"#N/A"}]
[null,4,null,"4.7",{"$f":"IFERROR(_xlfn.XLOOKUP(_xlfn.XLOOKUP(D39,FORM2.3!C44:C213,FORM2.3!I44:I213),'TABELAS AUXILIARES'!$E$8:$E$13,'TABELAS AUXILIARES'!$F$8:$F$13),\"Por favor, preencha o campo\")","v":"Por favor, preencha o campo"},null,null,null,null,null,{"$f":"_xlfn.XLOOKUP(D39, FORM3GERAL!$C$7:$C$11418,FORM3GERAL!$P$7:$P$11418)","v":{"$error":"#N/A"}},{"$f":"_xlfn.XLOOKUP(D39, FORM3GERAL!$C$7:$C$11418,FORM3GERAL!$L$7:$L$11418)","v":{"$error":"#N/A"}},{"$error":"#N/A"}]
[null,4,null,"4.8",{"$f":"IFERROR(_xlfn.XLOOKUP(_xlfn.XLOOKUP(D40,FORM2.3!C45:C214,FORM2.3!I45:I214),'TABELAS AUXILIARES'!$E$8:$E$13,'TABELAS AUXILIARES'!$F$8:$F$13),\"Por favor, preencha o campo\")","v":"Por favor, preencha o campo"},null,null,null,null,null,{"$f":"_xlfn.XLOOKUP(D40, FORM3GERAL!$C$7:$C$11418,FORM3GERAL!$P$7:$P$11418)","v":{"$error":"#N/A"}},{"$f":"_xlfn.XLOOKUP(D40, FORM3GERAL!$C$7:$C$11418,FORM3GERAL!$L$7:$L$11418)","v":{"$error":"#N/A"}},{"$error":"#N/A"}]
[null,4,null,"4.9",{"$f":"IFERROR(_xlfn.XLOOKUP(_xlfn.XLOOKUP(D41,FORM2.3!C46:C215,FORM2.3!I46:I215),'TABELAS AUXILIARES'!$E$8:$E$13,'TABELAS AUXILIARES'!$F$8:$F$13),\"Por favor, preencha o campo\")","v":"Por favor, preencha o campo"},null,null,null,null,null,{"$f":"_xlfn.XLOOKUP(D41, FORM3GERAL!$C$7:$C$11418,FORM3GERAL!$P$7:$P$11418)","v":{"$error":"#N/A"}},{"$f":"_xlfn.XLOOKUP(D41, FORM3GERAL!$C$7:$C$11418,FORM3GERAL!$L$7:$L$11418)","v":{"$error":"#N/A"}},{"$error":"#N/A"}]
[null,4,null,"4.10",{"$f":"IFERROR(_xlfn.XLOOKUP(_xlfn.XLOOKUP(D42,FORM2.3!C47:C216,FORM2.3!I47:I216),'TABELAS AUXILIARES'!$E$8:$E$13,'TABELAS AUXILIARES'!$F$8:$F$13),\"Por favor, preencha o campo\")","v":"Por favor, preencha o campo"},null,null,null,null,null,{"$f":"_xlfn.XLOOKUP(D42, FORM3GERAL!$C$7:$C$11418,FORM3GERAL!$P$7:$P$11418)","v":{"$error":"#N/A"}},{"$f":"_xlfn.XLOOKUP(D42, FORM3GERAL!$C$7:$C$11418,FORM3GERAL!$L$7:$L$11418)","v":{"$error":"#N/A"}},{"$error":"#N/A"}]
[null,4,null,"4.11",{"$f":"IFERROR(_xlfn.XLOOKUP(_xlfn.XLOOKUP(D43,FORM2.3!C48:C217,FORM2.3!I48:I217),'TABELAS AUXILIARES'!$E$8:$E$13,'TABELAS AUXILIARES'!$F$8:$F$13),\"Por favor, preencha o campo\")","v":"Por favor, preencha o campo"},null,null,null,null,null,{"$f":"_xlfn.XLOOKUP(D43, FORM3GERAL!$C$7:$C$11418,FORM3GERAL!$P$7:$P$11418)","v":{"$error":"#N/A"}},{"$f":"_xlfn.XLOOKUP(D43, FORM3GERAL!$C$7:$C$11418,FORM3GERAL!$L$7:$L$11418)","v":{"$error":"#N/A"}},{"$error":"#N/A"}]
[null,4,null,"4.12",{"$f":"IFERROR(_xlfn.XLOOKUP(_xlfn.XLOOKUP(D44,FORM2.3!C49:C218,FORM2.3!I49:I218),'TABELAS AUXILIARES'!$E$8:$E$13,'TABELAS AUXILIARES'!$F$8:$F$13),\"Por favor, preencha o campo\")","v":"Por favor, preencha o campo"},null,null,null,null,null,{"$f":"_xlfn.XLOOKUP(D44, FORM3GERAL!$C$7:$C$11418,FORM3GERAL!$P$7:$P$11418)","v":{"$error":"#N/A"}},{"$f":"_xlfn.XLOOKUP(D44, FORM3GERAL!$C$7:$C$11418,FORM3GERAL!$L$7:$L$11418)","v":{"$error":"#N/A"}},{"$error":"#N/A"}]
[null,5,{"$f":"FORM2.3!K53","v":"Selecione sua Resposta"},"5.1",{"$f":"IFERROR(_xlfn.XLOOKUP(_xlfn.XLOOKUP(D45,FORM2.3!C50:C219,FORM2.3!I50:I219),'TABELAS AUXILIARES'!$E$8:$E$13,'TABELAS AUXILIARES'!$F$8:$F$13),\"Por favor, preencha o campo\")","v":"Por favor, preencha o campo"},{"$f":"IF(COUNTIF(E45:E50,\"Por favor, preencha o campo\")>0, \"Por favor preencha todas as medidas\",(SUMIF(E45:E50,\">=0\")/(COUNTA(E45:E50)-COUNTIF(E45:E50,'TABELAS AUXILIARES'!$F$13))/2)*(1+C45*1/5))","v":"Por favor preencha todas as medidas"},null,null,null,null,{"$f":"_xlfn.XLOOKUP(D45, FORM3GERAL!$C$7:$C$11418,FORM3GERAL!$P$7:$P$11418)","v":{"$error":"#N/A"}},{"$f":"_xlfn.XLOOKUP(D45, FORM3GERAL!$C$7:$C$11418,FORM3GERAL!$L$7:$L$11418)","v":{"$error":"#N/A"}},{"$error":"#N/A"}]
[null,5,null,"5.2",{"$f":"IFERROR(_xlfn.XLOOKUP(_xlfn.XLOOKUP(D46,FORM2.3!C51:C220,FORM2.3!I51:I220),'TABELAS AUXILIARES'!$E$8:$E$13,'TABELAS AUXILIARES'!$F$8:$F$13),\"Por favor, preencha o campo\")","v":"Por favor, preencha o campo"},null,null,null,null,null,{"$f":"_xlfn.XLOOKUP(D46, FORM3GERAL!$C$7:$C$11418,FORM3GERAL!$P$7:$P$11418)","v":{"$error":"#N/A"}},{"$f":"_xlfn.XLOOKUP(D46, FORM3GERAL!$C$7:$C$11418,FORM3GERAL!$L$7:$L$11418)","v":{"$error":"#N/A"}},{"$error":"#N/A"}]
[null,5,null,"5.3",{"$f":"IFERROR(_xlfn.XLOOKUP(_xlfn.XLOOKUP(D47,FORM2.3!C52:C221,FORM2.3!I52:I221),'TABELAS AUXILIARES'!$E$8:$E$13,'TABELAS AUXILIARES'!$F$8:$F$13),\"Por favor, preencha o campo\")","v":"Por favor, preencha o campo"},null,null,null,null,null,{"$f":"_xlfn.XLOOKUP(D47, FORM3GERAL!$C$7:$C$11418,FORM3GERAL!$P$7:$P$11418)","v":{"$error":"#N/A"}},{"$f":"_xlfn.XLOOKUP(D47, FORM3GERAL!$C$7:$C$11418,FORM3GERAL!$L$7:$L$11418)","v":{"$error":"#N/A"}},{"$error":"#N/A"}]
[null,5,null,"5.4",{"$f":"IFERROR(_xlfn.XLOOKUP(_xlfn.XLOOKUP(D48,FORM2.3!C53:C222,FORM2.3!I53:I222),'TABELAS AUXILIARES'!$E$8:$E$13,'TABELAS AUXILIARES'!$F$8:$F$13),\"Por favor, preencha o campo\")","v":"Por favor, preencha o campo"},null,null,null,null,null,{"$f":"_xlfn.XLOOKUP(D48, FORM3GERAL!$C$7:$C$11418,FORM3GERAL!$P$7:$P$11418)","v":{"$error":"#N/A"}},{"$f":"_xlfn.XLOOKUP(D48, FORM3GERAL!$C$7:$C$11418,FORM3GERAL!$L$7:$L$11418)","v":{"$error":"#N/A"}},{"$error":"#N/A"}]
[null,5,null,"5.5",{"$f":"IFERROR(_xlfn.XLOOKUP(_xlfn.XLOOKUP(D49,FORM2.3!C54:C223,FORM2.3!I54:I223),'TABELAS AUXILIARES'!$E$8:$E$13,'TABELAS AUXILIARES'!$F$8:$F$13),\"Por favor, preencha o campo\")","v":"Por favor, preencha o campo"},null,null,null,null,null,{"$f":"_xlfn.XLOOKUP(D49, FORM3GERAL!$C$7:$C$11418,FORM3GERAL!$P$7:$P$11418)","v":{"$error":"#N/A"}},{"$f":"_xlfn.XLOOKUP(D49, FORM3GERAL!$C$7:$C$11418,FORM3GERAL!$L$7:$L$11418)","v":{"$error":"#N/A"}},{"$error":"#N/A"}]
[null,5,null,"5.6",{"$f":"IFERROR(_xlfn.XLOOKUP(_xlfn.XLOOKUP(D50,FORM2.3!C55:C224,FORM2.3!I55:I224),'TABELAS AUXILIARES'!$E$8:$E$13,'TABELAS AUXILIARES'!$F$8:$F$13),\"Por favor, preencha o campo\")","v":"Por favor, preencha o campo"},null,null,null,null,null,{"$f":"_xlfn.XLOOKUP(D50, FORM3GERAL!$C$7:$C$11418,FORM3GERAL!$P$7:$P$11418)","v":{"$error":"#N/A"}},{"$f":"_xlfn.XLOOKUP(D50, FORM3GERAL!$C$7:$C$11418,FORM3GERAL!$L$7:$L$11418)","v":{"$error":"#N/A"}},{"$error":"#N/A"}]
[null,6,{"$f":"FORM2.3!K60","v":"Selecione sua Resposta"},"6.1",{"$f":"IFERROR(_xlfn.XLOOKUP(_xlfn.XLOOKUP(D51,FORM2.3!C56:C225,FORM2.3!I56:I225),'TABELAS AUXILIARES'!$E$8:$E$13,'TABELAS AUXILIARES'!$F$8:$F$13),\"Por favor, preencha o campo\")","v":"Por favor, preencha o campo"},{"$f":"IF(COUNTIF(E51:E58,\"Por favor, preencha o campo\")>0, \"Por favor preencha todas as medidas\",(SUMIF(E51:E58,\">=0\")/(COUNTA(E51:E58)-COUNTIF(E51:E58,'TABELAS AUXILIARES'!$F$13))/2)*(1+C51*1/5))","v":"Por favor preencha todas as medidas"},null,null,null,null,{"$f":"_xlfn.XLOOKUP(D51, FORM3GERAL!$C$7:$C$11418,FORM3GERAL!$P$7:$P$11418)","v":{"$error":"#N/A"}},{"$f":"_xlfn.XLOOKUP(D51, FORM3GERAL!$C$7:$C$11418,FORM3GERAL!$L$7:$L$11418)","v":{"$error":"#N/A"}},{"$error":"#N/A"}]
[null,6,null,"6.2",{"$f":"IFERROR(_xlfn.XLOOKUP(_xlfn.XLOOKUP(D52,FORM2.3!C57:C226,FORM2.3!I57:I226),'TABELAS AUXILIARES'!$E$8:$E$13,'TABELAS AUXILIARES'!$F$8:$F$13),\"Por favor, preencha o campo\")","v":"Por favor, preencha o campo"},null,null,null,null,null,{"$f":"_xlfn.XLOOKUP(D52, FORM3GERAL!$C$7:$C$11418,FORM3GERAL!$P$7:$P$11418)","v":{"$error":"#N/A"}},{"$f":"_xlfn.XLOOKUP(D52, FORM3GERAL!$C$7:$C$11418,FORM3GERAL!$L$7:$L$11418)","v":{"$error":"#N/A"}},{"$error":"#N/A"}]
[null,6,null,"6.3",{"$f":"IFERROR(_xlfn.XLOOKUP(_xlfn.XLOOKUP(D53,FORM2.3!C58:C227,FORM2.3!I58:I227),'TABELAS AUXILIARES'!$E$8:$E$13,'TABELAS AUXILIARES'!$F$8:$F$13),\"Por favor, preencha o campo\")","v":"Por favor, preencha o campo"},null,null,null,null,null,{"$f":"_xlfn.XLOOKUP(D53, FORM3GERAL!$C$7:$C$11418,FORM3GERAL!$P$7:$P$11418)","v":{"$error":"#N/A"}},{"$f":"_xlfn.XLOOKUP(D53, FORM3GERAL!$C$7:$C$11418,FORM3GERAL!$L$7:$L$11418)","v":{"$error":"#N/A"}},{"$error":"#N/A"}]
[null,6,null,"6.4",{"$f":"IFERROR(_xlfn.XLOOKUP(_xlfn.XLOOKUP(D54,FORM2.3!C59:C228,FORM2.3!I59:I228),'TABELAS AUXILIARES'!$E$8:$E$13,'TABELAS AUXILIARES'!$F$8:$F$13),\"Por favor, preencha o campo\")","v":"Por favor, preencha o campo"},null,null,null,null,null,{"$f":"_xlfn.XLOOKUP(D54, FORM3GERAL!$C$7:$C$11418,FORM3GERAL!$P$7:$P$11418)","v":{"$error":"#N/A"}},{"$f":"_xlfn.XLOOKUP(D54, FORM3GERAL!$C$7:$C$11418,FORM3GERAL!$L$7:$L$11418)","v":{"$error":"#N/A"}},{"$error":"#N/A"}]
[null,6,null,"6.5",{"$f":"IFERROR(_xlfn.XLOOKUP(_xlfn.XLOOKUP(D55,FORM2.3!C60:C229,FORM2.3!I60:I229),'TABELAS AUXILIARES'!$E$8:$E$13,'TABELAS AUXILIARES'!$F$8:$F$13),\"Por favor, preencha o campo\")","v":"Por favor, preencha o campo"},null,null,null,null,null,{"$f":"_xlfn.XLOOKUP(D55, FORM3GERAL!$C$7:$C$11418,FORM3GERAL!$P$7:$P$11418)","v":{"$error":"#N/A"}},{"$f":"_xlfn.XLOOKUP(D55, FORM3GERAL!$C$7:$C$11418,FORM3GERAL!$L$7:$L$11418)","v":{"$error":"#N/A"}},{"$error":"#N/A"}]
[null,6,null,"6.6",{"$f":"IFERROR(_xlfn.XLOOKUP(_xlfn.XLOOKUP(D56,FORM2.3!C61:C230,FORM2.3!I61:I230),'TABELAS AUXILIARES'!$E$8:$E$13,'TABELAS AUXILIARES'!$F$8:$F$13),\"Por favor, preencha o campo\")","v":"Por favor, preencha o campo"},null,null,null,null,null,{"$f":"_xlfn.XLOOKUP(D56, FORM3GERAL!$C$7:$C$11418,FORM3GERAL!$P$7:$P$11418)","v":{"$error":"#N/A"}},{"$f":"_xlfn.XLOOKUP(D56, FORM3GERAL!$C$7:$C$11418,FORM3GERAL!$L$7:$L$11418)","v":{"$error":"#N/A"}},{"$error":"#N/A"}]
[null,6,null,"6.7",{"$f":"IFERROR(_xlfn.XLOOKUP(_xlfn.XLOOKUP(D57,FORM2.3!C62:C231,FORM2.3!I62:I231),'TABELAS AUXILIARES'!$E$8:$E$13,'TABELAS AUXILIARES'!$F$8:$F$13),\"Por favor, preencha o campo\")","v":"Por favor, preencha o campo"},null,null,null,null,null,{"$f":"_xlfn.XLOOKUP(D57, FORM3GERAL!$C$7:$C$11418,FORM3GERAL!$P$7:$P$11418)","v":{"$error":"#N/A"}},{"$f":"_xlfn.XLOOKUP(D57, FORM3GERAL!$C$7:$C$11418,FORM3GERAL!$L$7:$L$11418)","v":{"$error":"#N/A"}},{"$error":"#N/A"}]
[null,6,null,"6.8",{"$f":"IFERROR(_xlfn.XLOOKUP(_xlfn.XLOOKUP(D58,FORM2.3!C63:C232,FORM2.3!I63:I232),'TABELAS AUXILIARES'!$E$8:$E$13,'TABELAS AUXILIARES'!$F$8:$F$13),\"Por favor, preencha o campo\")","v":"Por favor, preencha o campo"},null,null,null,null,null,{"$f":"_xlfn.XLOOKUP(D58, FORM3GERAL!$C$7:$C$11418,FORM3GERAL!$P$7:$P$11418)","v":{"$error":"#N/A"}},{"$f":"_xlfn.XLOOKUP(D58, FORM3GERAL!$C$7:$C$11418,FORM3GERAL!$L$7:$L$11418)","v":{"$error":"#N/A"}},{"$error":"#N/A"}]
[null,7,{"$f":"FORM2.3!K69","v":"Selecione sua Resposta"},"7.1",{"$f":"IFERROR(_xlfn.XLOOKUP(_xlfn.XLOOKUP(D59,FORM2.3!C64:C233,FORM2.3!I64:I233),'TABELAS AUXILIARES'!$E$8:$E$13,'TABELAS AUXILIARES'!$F$8:$F$13),\"Por favor, preencha o campo\")","v":"Por favor, preencha o campo"},{"$f":"IF(COUNTIF(E59:E65,\"Por favor, preencha o campo\")>0, \"Por favor preencha todas as medidas\",(SUMIF(E59:E65,\">=0\")/(COUNTA(E59:E65)-COUNTIF(E59:E65,'TABELAS AUXILIARES'!$F$13))/2)*(1+C59*1/5))","v":"Por favor preencha todas as medidas"},null,null,null,null,{"$f":"_xlfn.XLOOKUP(D59, FORM3GERAL!$C$7:$C$11418,FORM3GERAL!$P$7:$P$11418)","v":{"$error":"#N/A"}},{"$f":"_xlfn.XLOOKUP(D59, FORM3GERAL!$C$7:$C$11418,FORM3GERAL!$L$7:$L$11418)","v":{"$error":"#N/A"}},{"$error":"#N/A"}]
[null,7,null,"7.2",{"$f":"IFERROR(_xlfn.XLOOKUP(_xlfn.XLOOKUP(D60,FORM2.3!C65:C234,FORM2.3!I65:I234),'TABELAS AUXILIARES'!$E$8:$E$13,'TABELAS AUXILIARES'!$F$8:$F$13),\"Por favor, preencha o campo\")","v":"Por favor, preencha o campo"},null,null,null,null,null,{"$f":"_xlfn.XLOOKUP(D60, FORM3GERAL!$C$7:$C$11418,FORM3GERAL!$P$7:$P$11418)","v":{"$error":"#N/A"}},{"$f":"_xlfn.XLOOKUP(D60, FORM3GERAL!$C$7:$C$11418,FORM3GERAL!$L$7:$L$11418)","v":{"$error":"#N/A"}},{"$error":"#N/A"}]
[null,7,null,"7.3",{"$f":"IFERROR(_xlfn.XLOOKUP(_xlfn.XLOOKUP(D61,FORM2.3!C66:C235,FORM2.3!I66:I235),'TABELAS AUXILIARES'!$E$8:$E$13,'TABELAS AUXILIARES'!$F$8:$F$13),\"Por favor, preencha o campo\")","v":"Por favor, preencha o campo"},null,null,null,null,null,{"$f":"_xlfn.XLOOKUP(D61, FORM3GERAL!$C$7:$C$11418,FORM3GERAL!$P$7:$P$11418)","v":{"$error":"#N/A"}},{"$f":"_xlfn.XLOOKUP(D61, FORM3GERAL!$C$7:$C$11418,FORM3GERAL!$L$7:$L$11418)","v":{"$error":"#N/A"}},{"$error":"#N/A"}]
[null,7,null,"7.4",{"$f":"IFERROR(_xlfn.XLOOKUP(_xlfn.XLOOKUP(D62,FORM2.3!C67:C236,FORM2.3!I67:I236),'TABELAS AUXILIARES'!$E$8:$E$13,'TABELAS AUXILIARES'!$F$8:$F$13),\"Por favor, preencha o campo\")","v":"Por favor, preencha o campo"},null,null,null,null,null,{"$f":"_xlfn.XLOOKUP(D62, FORM3GERAL!$C$7:$C$11418,FORM3GERAL!$P$7:$P$11418)","v":{"$error":"#N/A"}},{"$f":"_xlfn.XLOOKUP(D62, FORM3GERAL!$C$7:$C$11418,FORM3GERAL!$L$7:$L$11418)","v":{"$error":"#N/A"}},{"$error":"#N/A"}]
[null,7,null,"7.5",{"$f":"IFERROR(_xlfn.XLOOKUP(_xlfn.XLOOKUP(D63,FORM2.3!C68:C237,FORM2.3!I68:I237),'TABELAS AUXILIARES'!$E$8:$E$13,'TABELAS AUXILIARES'!$F$8:$F$13),\"Por favor, preencha o campo\")","v":"Por favor, preencha o campo"},null,null,null,null,null,{"$f":"_xlfn.XLOOKUP(D63, FORM3GERAL!$C$7:$C$11418,FORM3GERAL!$P$7:$P$11418)","v":{"$error":"#N/A"}},{"$f":"_xlfn.XLOOKUP(D63, FORM3GERAL!$C$7:$C$11418,FORM3GERAL!$L$7:$L$11418)","v":{"$error":"#N/A"}},{"$error":"#N/A"}]
[null,7,null,"7.6",{"$f":"IFERROR(_xlfn.XLOOKUP(_xlfn.XLOOKUP(D64,FORM2.3!C69:C238,FORM2.3!I69:I238),'TABELAS AUXILIARES'!$E$8:$E$13,'TABELAS AUXILIARES'!$F$8:$F$13),\"Por favor, preencha o campo\")","v":"Por favor, preencha o campo"},null,null,null,null,null,{"$f":"_xlfn.XLOOKUP(D64, FORM3GERAL!$C$7:$C$11418,FORM3GERAL!$P$7:$P$11418)","v":{"$error":"#N/A"}},{"$f":"_xlfn.XLOOKUP(D64, FORM3GERAL!$C$7:$C$11418,FORM3GERAL!$L$7:$L$11418)","v":{"$error":"#N/A"}},{"$error":"#N/A"}]
[null,7,null,"7.7",{"$f":"IFERROR(_xlfn.XLOOKUP(_xlfn.XLOOKUP(D65,FORM2.3!C70:C239,FORM2.3!I70:I239),'TABELAS AUXILIARES'!$E$8:$E$13,'TABELAS AUXILIARES'!$F$8:$F$13),\"Por favor, preencha o campo\")","v":"Por favor, preencha o campo"},null,null,null,null,null,{"$f":"_xlfn.XLOOKUP(D65, FORM3GERAL!$C$7:$C$11418,FORM3GERAL!$P$7:$P$11418)","v":{"$error":"#N/A"}},{"$f":"_xlfn.XLOOKUP(D65, FORM3GERAL!$C$7:$C$11418,FORM3GERAL!$L$7:$L$11418)","v":{"$error":"#N/A"}},{"$error":"#N/A"}]
[null,8,{"$f":"FORM2.3!K77","v":"Selecione sua Resposta"},"8.1",{"$f":"IFERROR(_xlfn.XLOOKUP(_xlfn.XLOOKUP(D66,FORM2.3!C71:C240,FORM2.3!I71:I240),'TABELAS AUXILIARES'!$E$8:$E$13,'TABELAS AUXILIARES'!$F$8:$F$13),\"Por favor, preencha o campo\")","v":"Por favor, preencha o campo"},{"$f":"IF(COUNTIF(E66:E77,\"Por favor, preencha o campo\")>0, \"Por favor preencha todas as medidas\",(SUMIF(E66:E77,\">=0\")/(COUNTA(E66:E77)-COUNTIF(E66:E77,'TABELAS AUXILIARES'!$F$13))/2)*(1+C66*1/5))","v":"Por favor preencha todas as medidas"},null,null,null,null,{"$f":"_xlfn.XLOOKUP(D66, FORM3GERAL!$C$7:$C$11418,FORM3GERAL!$P$7:$P$11418)","v":{"$error":"#N/A"}},{"$f":"_xlfn.XLOOKUP(D66, FORM3GERAL!$C$7:$C$11418,FORM3GERAL!$L$7:$L$11418)","v":{"$error":"#N/A"}},{"$error":"#N/A"}]
[null,8,null,"8.2",{"$f":"IFERROR(_xlfn.XLOOKUP(_xlfn.XLOOKUP(D67,FORM2.3!C72:C241,FORM2.3!I72:I241),'TABELAS AUXILIARES'!$E$8:$E$13,'TABELAS AUXILIARES'!$F$8:$F$13),\"Por favor, preencha o campo\")","v":"Por favor, preencha o campo"},null,null,null,null,null,{"$f":"_xlfn.XLOOKUP(D67, FORM3GERAL!$C$7:$C$11418,FORM3GERAL!$P$7:$P$11418)","v":{"$error":"#N/A"}},{"$f":"_xlfn.XLOOKUP(D67, FORM3GERAL!$C$7:$C$11418,FORM3GERAL!$L$7:$L$11418)","v":{"$error":"#N/A"}},{"$error":"#N/A"}]
[null,8,null,"8.3",{"$f":"IFERROR(_xlfn.XLOOKUP(_xlfn.XLOOKUP(D68,FORM2.3!C73:C242,FORM2.3!I73:I242),'TABELAS AUXILIARES'!$E$8:$E$13,'TABELAS AUXILIARES'!$F$8:$F$13),\"Por favor, preencha o campo\")","v":"Por favor, preencha o campo"},null,null,null,null,null,{"$f":"_xlfn.XLOOKUP(D68, FORM3GERAL!$C$7:$C$11418,FORM3GERAL!$P$7:$P$11418)","v":{"$error":"#N/A"}},{"$f":"_xlfn.XLOOKUP(D68, FORM3GERAL!$C$7:$C$11418,FORM3GERAL!$L$7:$L$11418)","v":{"$error":"#N/A"}},{"$error":"#N/A"}]
[null,8,null,"8.4",{"$f":"IFERROR(_xlfn.XLOOKUP(_xlfn.XLOOKUP(D69,FORM2.3!C74:C243,FORM2.3!I74:I243),'TABELAS AUXILIARES'!$E$8:$E$13,'TABELAS AUXILIARES'!$F$8:$F$13),\"Por favor, preencha o campo\")","v":"Por favor, preencha o campo"},null,null,null,null,null,{"$f":"_xlfn.XLOOKUP(D69, FORM3GERAL!$C$7:$C$11418,FORM3GERAL!$P$7:$P$11418)","v":{"$error":"#N/A"}},{"$f":"_xlfn.XLOOKUP(D69, FORM3GERAL!$C$7:$C$11418,FORM3GERAL!$L$7:$L$11418)","v":{"$error":"#N/A"}},{"$error":"#N/A"}]
[null,8,null,"8.5",{"$f":"IFERROR(_xlfn.XLOOKUP(_xlfn.XLOOKUP(D70,FORM2.3!C75:C244,FORM2.3!I75:I244),'TABELAS AUXILIARES'!$E$8:$E$13,'TABELAS AUXILIARES'!$F$8:$F$13),\"Por favor, preencha o campo\")","v":"Por favor, preencha o campo"},null,null,null,null,null,{"$f":"_xlfn.XLOOKUP(D70, FORM3GERAL!$C$7:$C$11418,FORM3GERAL!$P$7:$P$11418)","v":{"$error":"#N/A"}},{"$f":"_xlfn.XLOOKUP(D70, FORM3GERAL!$C$7:$C$11418,FORM3GERAL!$L$7:$L$11418)","v":{"$error":"#N/A"}},{"$error":"#N/A"}]
[null,8,null,"8.6",{"$f":"IFERROR(_xlfn.XLOOKUP(_xlfn.XLOOKUP(D71,FORM2.3!C76:C245,FORM2.3!I76:I245),'TABELAS AUXILIARES'!$E$8:$E$13,'TABELAS AUXILIARES'!$F$8:$F$13),\"Por favor, preencha o campo\")","v":"Por favor, preencha o campo"},null,null,null,null,null,{"$f":"_xlfn.XLOOKUP(D71, FORM3GERAL!$C$7:$C$11418,FORM3GERAL!$P$7:$P$11418)","v":{"$error":"#N/A"}},{"$f":"_xlfn.XLOOKUP(D71, FORM3GERAL!$C$7:$C$11418,FORM3GERAL!$L$7:$L$11418)","v":{"$error":"#N/A"}},{"$error":"#N/A"}]
[null,8,null,"8.7",{"$f":"IFERROR(_xlfn.XLOOKUP(_xlfn.XLOOKUP(D72,FORM2.3!C77:C246,FORM2.3!I77:I246),'TABELAS AUXILIARES'!$E$8:$E$13,'TABELAS AUXILIARES'!$F$8:$F$13),\"Por favor, preencha o campo\")","v":"Por favor, preencha o campo"},null,null,null,null,null,{"$f":"_xlfn.XLOOKUP(D72, FORM3GERAL!$C$7:$C$11418,FORM3GERAL!$P$7:$P$11418)","v":{"$error":"#N/A"}},{"$f":"_xlfn.XLOOKUP(D72, FORM3GERAL!$C$7:$C$11418,FORM3GERAL!$L$7:$L$11418)","v":{"$error":"#N/A"}},{"$f":"IF(K72=1,IF(L72=\"Concluído\",1,0),0)","v":{"$error":"#N/A"}}]
[null,8,null,"8.8",{"$f":"IFERROR(_xlfn.XLOOKUP(_xlfn.XLOOKUP(D73,FORM2.3!C78:C247,FORM2.3!I78:I247),'TABELAS AUXILIARES'!$E$8:$E$13,'TABELAS AUXILIARES'!$F$8:$F$13),\"Por favor, preencha o campo\")","v":"Por favor, preencha o campo"},null,null,null,null,null,{"$f":"_xlfn.XLOOKUP(D73, FORM3GERAL!$C$7:$C$11418,FORM3GERAL!$P$7:$P$11418)","v":{"$error":"#N/A"}},{"$f":"_xlfn.XLOOKUP(D73, FORM3GERAL!$C$7:$C$11418,FORM3GERAL!$L$7:$L$11418)","v":{"$error":"#N/A"}},{"$error":"#N/A"}]
[null,8,null,"8.9",{"$f":"IFERROR(_xlfn.XLOOKUP(_xlfn.XLOOKUP(D74,FORM2.3!C79:C248,FORM2.3!I79:I248),'TABELAS AUXILIARES'!$E$8:$E$13,'TABELAS AUXILIARES'!$F$8:$F$13),\"Por favor, preencha o campo\")","v":"Por favor, preencha o campo"},null,null,null,null,null,{"$f":"_xlfn.XLOOKUP(D74, FORM3GERAL!$C$7:$C$11418,FORM3GERAL!$P$7:$P$11418)","v":{"$error":"#N/A"}},{"$f":"_xlfn.XLOOKUP(D74, FORM3GERAL!$C$7:$C$11418,FORM3GERAL!$L$7:$L$11418)","v":{"$error":"#N/A"}},{"$error":"#N/A"}]
[null,8,null,"8.10",{"$f":"IFERROR(_xlfn.XLOOKUP(_xlfn.XLOOKUP(D75,FORM2.3!C80:C249,FORM2.3!I80:I249),'TABELAS AUXILIARES'!$E$8:$E$13,'TABELAS AUXILIARES'!$F$8:$F$13),\"Por favor, preencha o campo\")","v":"Por favor, preencha o campo"},null,null,null,null,null,{"$f":"_xlfn.XLOOKUP(D75, FORM3GERAL!$C$7:$C$11418,FORM3GERAL!$P$7:$P$11418)","v":{"$error":"#N/A"}},{"$f":"_xlfn.XLOOKUP(D75, FORM3GERAL!$C$7:$C$11418,FORM3GERAL!$L$7:$L$11418)","v":{"$error":"#N/A"}},{"$error":"#N/A"}]
[null,8,null,"8.11",{"$f":"IFERROR(_xlfn.XLOOKUP(_xlfn.XLOOKUP(D76,FORM2.3!C81:C250,FORM2.3!I81:I250),'TABELAS AUXILIARES'!$E$8:$E$13,'TABELAS AUXILIARES'!$F$8:$F$13),\"Por favor, preencha o campo\")","v":"Por favor, preencha o campo"},null,null,null,null,null,{"$f":"_xlfn.XLOOKUP(D76, FORM3GERAL!$C$7:$C$11418,FORM3GERAL!$P$7:$P$11418)","v":{"$error":"#N/A"}},{"$f":"_xlfn.XLOOKUP(D76, FORM3GERAL!$C$7:$C$11418,FORM3GERAL!$L$7:$L$11418)","v":{"$error":"#N/A"}},{"$error":"#N/A"}]
[null,8,null,"8.12",{"$f":"IFERROR(_xlfn.XLOOKUP(_xlfn.XLOOKUP(D77,FORM2.3!C82:C251,FORM2.3!I82:I251),'TABELAS AUXILIARES'!$E$8:$E$13,'TABELAS AUXILIARES'!$F$8:$F$13),\"Por favor, preencha o campo\")","v":"Por favor, preencha o campo"},null,null,null,null,null,{"$f":"_xlfn.XLOOKUP(D77, FORM3GERAL!$C$7:$C$11418,FORM3GERAL!$P$7:$P$11418)","v":{"$error":"#N/A"}},{"$f":"_xlfn.XLOOKUP(D77, FORM3GERAL!$C$7:$C$11418,FORM3GERAL!$L$7:$L$11418)","v":{"$error":"#N/A"}},{"$error":"#N/A"}]
[null,9,{"$f":"FORM2.3!K90","v":"Selecione sua Resposta"},"9.1",{"$f":"IFERROR(_xlfn.XLOOKUP(_xlfn.XLOOKUP(D78,FORM2.3!C83:C252,FORM2.3!I83:I252),'TABELAS AUXILIARES'!$E$8:$E$13,'TABELAS AUXILIARES'!$F$8:$F$13),\"Por favor, preencha o campo\")","v":"Por favor, preencha o campo"},{"$f":"IF(COUNTIF(E78:E84,\"Por favor, preencha o campo\")>0, \"Por favor preencha todas as medidas\",(SUMIF(E78:E84,\">=0\")/(COUNTA(E78:E84)-COUNTIF(E78:E84,'TABELAS AUXILIARES'!$F$13))/2)*(1+C78*1/5))","v":"Por favor preencha todas as medidas"},null,null,null,null,{"$f":"_xlfn.XLOOKUP(D78, FORM3GERAL!$C$7:$C$11418,FORM3GERAL!$P$7:$P$11418)","v":{"$error":"#N/A"}},{"$f":"_xlfn.XLOOKUP(D78, FORM3GERAL!$C$7:$C$11418,FORM3GERAL!$L$7:$L$11418)","v":{"$error":"#N/A"}},{"$error":"#N/A"}]
[null,9,null,"9.2",{"$f":"IFERROR(_xlfn.XLOOKUP(_xlfn.XLOOKUP(D79,FORM2.3!C84:C253,FORM2.3!I84:I253),'TABELAS AUXILIARES'!$E$8:$E$13,'TABELAS AUXILIARES'!$F$8:$F$13),\"Por favor, preencha o campo\")","v":"Por favor, preencha o campo"},null,null,null,null,null,{"$f":"_xlfn.XLOOKUP(D79, FORM3GERAL!$C$7:$C$11418,FORM3GERAL!$P$7:$P$11418)","v":{"$error":"#N/A"}},{"$f":"_xlfn.XLOOKUP(D79, FORM3GERAL!$C$7:$C$11418,FORM3GERAL!$L$7:$L$11418)","v":{"$error":"#N/A"}},{"$error":"#N/A"}]
[null,9,null,"9.3",{"$f":"IFERROR(_xlfn.XLOOKUP(_xlfn.XLOOKUP(D80,FORM2.3!C85:C254,FORM2.3!I85:I254),'TABELAS AUXILIARES'!$E$8:$E$13,'TABELAS AUXILIARES'!$F$8:$F$13),\"Por favor, preencha o campo\")","v":"Por favor, preencha o campo"},null,null,null,null,null,{"$f":"_xlfn.XLOOKUP(D80, FORM3GERAL!$C$7:$C$11418,FORM3GERAL!$P$7:$P$11418)","v":{"$error":"#N/A"}},{"$f":"_xlfn.XLOOKUP(D80, FORM3GERAL!$C$7:$C$11418,FORM3GERAL!$L$7:$L$11418)","v":{"$error":"#N/A"}},{"$error":"#N/A"}]
[null,9,null,"9.4",{"$f":"IFERROR(_xlfn.XLOOKUP(_xlfn.XLOOKUP(D81,FORM2.3!C86:C255,FORM2.3!I86:I255),'TABELAS AUXILIARES'!$E$8:$E$13,'TABELAS AUXILIARES'!$F$8:$F$13),\"Por favor, preencha o campo\")","v":"Por favor, preencha o campo"},null,null,null,null,null,{"$f":"_xlfn.XLOOKUP(D81, FORM3GERAL!$C$7:$C$11418,FORM3GERAL!$P$7:$P$11418)","v":{"$error":"#N/A"}},{"$f":"_xlfn.XLOOKUP(D81, FORM3GERAL!$C$7:$C$11418,FORM3GERAL!$L$7:$L$11418)","v":{"$error":"#N/A"}},{"$error":"#N/A"}]
[null,9,null,"9.5",{"$f":"IFERROR(_xlfn.XLOOKUP(_xlfn.XLOOKUP(D82,FORM2.3!C87:C256,FORM2.3!I87:I256),'TABELAS AUXILIARES'!$E$8:$E$13,'TABELAS AUXILIARES'!$F$8:$F$13),\"Por favor, preencha o campo\")","v":"Por favor, preencha o campo"},null,null,null,null,null,{"$f":"_xlfn.XLOOKUP(D82, FORM3GERAL!$C$7:$C$11418,FORM3GERAL!$P$7:$P$11418)","v":{"$error":"#N/A"}},{"$f":"_xlfn.XLOOKUP(D82, FORM3GERAL!$C$7:$C$11418,FORM3GERAL!$L$7:$L$11418)","v":{"$error":"#N/A"}},{"$error":"#N/A"}]
[null,9,null,"9.6",{"$f":"IFERROR(_xlfn.XLOOKUP(_xlfn.XLOOKUP(D83,FORM2.3!C88:C257,FORM2.3!I88:I257),'TABELAS AUXILIARES'!$E$8:$E$13,'TABELAS AUXILIARES'!$F$8:$F$13),\"Por favor, preencha o campo\")","v":"Por favor, preencha o campo"},null,null,null,null,null,{"$f":"_xlfn.XLOOKUP(D83, FORM3GERAL!$C$7:$C$11418,FORM3GERAL!$P$7:$P$11418)","v":{"$error":"#N/A"}},{"$f":"_xlfn.XLOOKUP(D83, FORM3GERAL!$C$7:$C$11418,FORM3GERAL!$L$7:$L$11418)","v":{"$error":"#N/A"}},{"$error":"#N/A"}]
[null,9,null,"9.7",{"$f":"IFERROR(_xlfn.XLOOKUP(_xlfn.XLOOKUP(D84,FORM2.3!C89:C258,FORM2.3!I89:I258),'TABELAS AUXILIARES'!$E$8:$E$13,'TABELAS AUXILIARES'!$F$8:$F$13),\"Por favor, preencha o campo\")","v":"Por favor, preencha o campo"},null,null,null,null,null,{"$f":"_xlfn.XLOOKUP(D84, FORM3GERAL!$C$7:$C$11418,FORM3GERAL!$P$7:$P$11418)","v":{"$error":"#N/A"}},{"$f":"_xlfn.XLOOKUP(D84, FORM3GERAL!$C$7:$C$11418,FORM3GERAL!$L$7:$L$11418)","v":{"$error":"#N/A"}},{"$error":"#N/A"}]
[null,10,{"$f":"FORM2.3!K98","v":"Selecione sua Resposta"},"10.1",{"$f":"IFERROR(_xlfn.XLOOKUP(_xlfn.XLOOKUP(D85,FORM2.3!C90:C259,FORM2.3!I90:I259),'TABELAS AUXILIARES'!$E$8:$E$13,'TABELAS AUXILIARES'!$F$8:$F$13),\"Por favor, preencha o campo\")","v":"Por favor, preencha o campo"},{"$f":"IF(COUNTIF(E85:E91,\"Por favor, preencha o campo\")>0, \"Por favor preencha todas as medidas\",(SUMIF(E85:E91,\">=0\")/(COUNTA(E85:E91)-COUNTIF(E85:E91,'TABELAS AUXILIARES'!$F$13))/2)*(1+C85*1/5))","v":"Por favor preencha todas as medidas"},null,null,null,null,{"$f":"_xlfn.XLOOKUP(D85, FORM3GERAL!$C$7:$C$11418,FORM3GERAL!$P$7:$P$11418)","v":{"$error":"#N/A"}},{"$f":"_xlfn.XLOOKUP(D85, FORM3GERAL!$C$7:$C$11418,FORM3GERAL!$L$7:$L$11418)","v":{"$error":"#N/A"}},{"$error":"#N/A"}]
[null,10,null,"10.2",{"$f":"IFERROR(_xlfn.XLOOKUP(_xlfn.XLOOKUP(D86,FORM2.3!C91:C260,FORM2.3!I91:I260),'TABELAS AUXILIARES'!$E$8:$E$13,'TABELAS AUXILIARES'!$F$8:$F$13),\"Por favor, preencha o campo\")","v":"Por favor, preencha o campo"},null,null,null,null,null,{"$f":"_xlfn.XLOOKUP(D86, FORM3GERAL!$C$7:$C$11418,FORM3GERAL!$P$7:$P$11418)","v":{"$error":"#N/A"}},{"$f":"_xlfn.XLOOKUP(D86, FORM3GERAL!$C$7:$C$11418,FORM3GERAL!$L$7:$L$11418)","v":{"$error":"#N/A"}},{"$error":"#N/A"}]
[null,10,null,"10.3",{"$f":"IFERROR(_xlfn.XLOOKUP(_xlfn.XLOOKUP(D87,FORM2.3!C92:C261,FORM2.3!I92:I261),'TABELAS AUXILIARES'!$E$8:$E$13,'TABELAS AUXILIARES'!$F$8:$F$13),\"Por favor, preencha o campo\")","v":"Por favor, preencha o campo"},null,null,null,null,null,{"$f":"_xlfn.XLOOKUP(D87, FORM3GERAL!$C$7:$C$11418,FORM3GERAL!$P$7:$P$11418)","v":{"$error":"#N/A"}},{"$f":"_xlfn.XLOOKUP(D87, FORM3GERAL!$C$7:$C$11418,FORM3GERAL!$L$7:$L$11418)","v":{"$error":"#N/A"}},{"$error":"#N/A"}]
[null,10,null,"10.4",{"$f":"IFERROR(_xlfn.XLOOKUP(_xlfn.XLOOKUP(D88,FORM2.3!C93:C262,FORM2.3!I93:I262),'TABELAS AUXILIARES'!$E$8:$E$13,'TABELAS AUXILIARES'!$F$8:$F$13),\"Por favor, preencha o campo\")","v":"Por favor, preencha o campo"},null,null,null,null,null,{"$f":"_xlfn.XLOOKUP(D88, FORM3GERAL!$C$7:$C$11418,FORM3GERAL!$P$7:$P$11418)","v":{"$error":"#N/A"}},{"$f":"_xlfn.XLOOKUP(D88, FORM3GERAL!$C$7:$C$11418,FORM3GERAL!$L$7:$L$11418)","v":{"$error":"#N/A"}},{"$error":"#N/A"}]
[null,10,null,"10.5",{"$f":"IFERROR(_xlfn.XLOOKUP(_xlfn.XLOOKUP(D89,FORM2.3!C94:C263,FORM2.3!I94:I263),'TABELAS AUXILIARES'!$E$8:$E$13,'TABELAS AUXILIARES'!$F$8:$F$13),\"Por favor, preencha o campo\")","v":"Por favor, preencha o campo"},null,null,null,null,null,{"$f":"_xlfn.XLOOKUP(D89, FORM3GERAL!$C$7:$C$11418,FORM3GERAL!$P$7:$P$11418)","v":{"$error":"#N/A"}},{"$f":"_xlfn.XLOOKUP(D89, FORM3GERAL!$C$7:$C$11418,FORM3GERAL!$L$7:$L$11418)","v":{"$error":"#N/A"}},{"$error":"#N/A"}]
[null,10,null,"10.6",{"$f":"IFERROR(_xlfn.XLOOKUP(_xlfn.XLOOKUP(D90,FORM2.3!C95:C264,FORM2.3!I95:I264),'TABELAS AUXILIARES'!$E$8:$E$13,'TABELAS AUXILIARES'!$F$8:$F$13),\"Por favor, preencha o campo\")","v":"Por favor, preencha o campo"},null,null,null,null,null,{"$f":"_xlfn.XLOOKUP(D90, FORM3GERAL!$C$7:$C$11418,FORM3GERAL!$P$7:$P$11418)","v":{"$error":"#N/A"}},{"$f":"_xlfn.XLOOKUP(D90, FORM3GERAL!$C$7:$C$11418,FORM3GERAL!$L$7:$L$11418)","v":{"$error":"#N/A"}},{"$error":"#N/A"}]
[null,10,null,"10.7",{"$f":"IFERROR(_xlfn.XLOOKUP(_xlfn.XLOOKUP(D91,FORM2.3!C96:C265,FORM2.3!I96:I265),'TABELAS AUXILIARES'!$E$8:$E$13,'TABELAS AUXILIARES'!$F$8:$F$13),\"Por favor, preencha o campo\")","v":"Por favor, preencha o campo"},null,null,null,null,null,{"$f":"_xlfn.XLOOKUP(D91, FORM3GERAL!$C$7:$C$11418,FORM3GERAL!$P$7:$P$11418)","v":{"$error":"#N/A"}},{"$f":"_xlfn.XLOOKUP(D91, FORM3GERAL!$C$7:$C$11418,FORM3GERAL!$L$7:$L$11418)","v":{"$error":"#N/A"}},{"$error":"#N/A"}]
[null,11,{"$f":"FORM2.3!K106","v":"Selecione sua Resposta"},"11.1",{"$f":"IFERROR(_xlfn.XLOOKUP(_xlfn.XLOOKUP(D92,FORM2.3!C97:C266,FORM2.3!I97:I266),'TABELAS AUXILIARES'!$E$8:$E$13,'TABELAS AUXILIARES'!$F$8:$F$13),\"Por favor, preencha o campo\")","v":"Por favor, preencha o campo"},{"$f":"IF(COUNTIF(E92:E96,\"Por favor, preencha o campo\")>0, \"Por favor preencha todas as medidas\",(SUMIF(E92:E96,\">=0\")/(COUNTA(E92:E96)-COUNTIF(E92:E96,'TABELAS AUXILIARES'!$F$13))/2)*(1+C92*1/5))","v":"Por favor preencha todas as medidas"},null,null,null,null,{"$f":"_xlfn.XLOOKUP(D92, FORM3GERAL!$C$7:$C$11418,FORM3GERAL!$P$7:$P$11418)","v":{"$error":"#N/A"}},{"$f":"_xlfn.XLOOKUP(D92, FORM3GERAL!$C$7:$C$11418,FORM3GERAL!$L$7:$L$11418)","v":{"$error":"#N/A"}},{"$error":"#N/A"}]
[null,11,null,"11.2",{"$f":"IFERROR(_xlfn.XLOOKUP(_xlfn.XLOOKUP(D93,FORM2.3!C98:C267,FORM2.3!I98:I267),'TABELAS AUXILIARES'!$E$8:$E$13,'TABELAS AUXILIARES'!$F$8:$F$13),\"Por favor, preencha o campo\")","v":"Por favor, preencha o campo"},null,null,null,null,null,{"$f":"_xlfn.XLOOKUP(D93, FORM3GERAL!$C$7:$C$11418,FORM3GERAL!$P$7:$P$11418)","v":{"$error":"#N/A"}},{"$f":"_xlfn.XLOOKUP(D93, FORM3GERAL!$C$7:$C$11418,FORM3GERAL!$L$7:$L$11418)","v":{"$error":"#N/A"}},{"$error":"#N/A"}]
[null,11,null,"11.3",{"$f":"IFERROR(_xlfn.XLOOKUP(_xlfn.XLOOKUP(D94,FORM2.3!C99:C268,FORM2.3!I99:I268),'TABELAS AUXILIARES'!$E$8:$E$13,'TABELAS AUXILIARES'!$F$8:$F$13),\"Por favor, preencha o campo\")","v":"Por favor, preencha o campo"},null,null,null,null,null,{"$f":"_xlfn.XLOOKUP(D94, FORM3GERAL!$C$7:$C$11418,FORM3GERAL!$P$7:$P$11418)","v":{"$error":"#N/A"}},{"$f":"_xlfn.XLOOKUP(D94, FORM3GERAL!$C$7:$C$11418,FORM3GERAL!$L$7:$L$11418)","v":{"$error":"#N/A"}},{"$error":"#N/A"}]
[null,11,null,"11.4",{"$f":"IFERROR(_xlfn.XLOOKUP(_xlfn.XLOOKUP(D95,FORM2.3!C100:C269,FORM2.3!I100:I269),'TABELAS AUXILIARES'!$E$8:$E$13,'TABELAS AUXILIARES'!$F$8:$F$13),\"Por favor, preencha o campo\")","v":"Por favor, preencha o campo"},null,null,null,null,null,{"$f":"_xlfn.XLOOKUP(D95, FORM3GERAL!$C$7:$C$11418,FORM3GERAL!$P$7:$P$11418)","v":{"$error":"#N/A"}},{"$f":"_xlfn.XLOOKUP(D95, FORM3GERAL!$C$7:$C$11418,FORM3GERAL!$L$7:$L$11418)","v":{"$error":"#N/A"}},{"$error":"#N/A"}]
[null,11,null,"11.5",{"$f":"IFERROR(_xlfn.XLOOKUP(_xlfn.XLOOKUP(D96,FORM2.3!C101:C270,FORM2.3!I101:I270),'TABELAS AUXILIARES'!$E$8:$E$13,'TABELAS AUXILIARES'!$F$8:$F$13),\"Por favor, preencha o campo\")","v":"Por favor, preencha o campo"},null,null,null,null,null,{"$f":"_xlfn.XLOOKUP(D96, FORM3GERAL!$C$7:$C$11418,FORM3GERAL!$P$7:$P$11418)","v":{"$error":"#N/A"}},{"$f":"_xlfn.XLOOKUP(D96, FORM3GERAL!$C$7:$C$11418,FORM3GERAL!$L$7:$L$11418)","v":{"$error":"#N/A"}},{"$error":"#N/A"}]
[null,12,{"$f":"FORM2.3!K112","v":"Selecione sua Resposta"},"12.1",{"$f":"IFERROR(_xlfn.XLOOKUP(_xlfn.XLOOKUP(D97,FORM2.3!C102:C271,FORM2.3!I102:I271),'TABELAS AUXILIARES'!$E$8:$E$13,'TABELAS AUXILIARES'!$F$8:$F$13),\"Por favor, preencha o campo\")","v":"Por favor, preencha o campo"},{"$f":"IF(COUNTIF(E97:E104,\"Por favor, preencha o campo\")>0, \"Por favor preencha todas as medidas\",(SUMIF(E97:E104,\">=0\")/(COUNTA(E97:E104)-COUNTIF(E97:E104,'TABELAS AUXILIARES'!$F$13))/2)*(1+C97*1/5))","v":"Por favor preencha todas as medidas"},null,null,null,null,{"$f":"_xlfn.XLOOKUP(D97, FORM3GERAL!$C$7:$C$11418,FORM3GERAL!$P$7:$P$11418)","v":{"$error":"#N/A"}},{"$f":"_xlfn.XLOOKUP(D97, FORM3GERAL!$C$7:$C$11418,FORM3GERAL!$L$7:$L$11418)","v":{"$error":"#N/A"}},{"$error":"#N/A"}]
[null,12,null,"12.2",{"$f":"IFERROR(_xlfn.XLOOKUP(_xlfn.XLOOKUP(D98,FORM2.3!C103:C272,FORM2.3!I103:I272),'TABELAS AUXILIARES'!$E$8:$E$13,'TABELAS AUXILIARES'!$F$8:$F$13),\"Por favor, preencha o campo\")","v":"Por favor, preencha o campo"},null,null,null,null,null,{"$f":"_xlfn.XLOOKUP(D98, FORM3GERAL!$C$7:$C$11418,FORM3GERAL!$P$7:$P$11418)","v":{"$error":"#N/A"}},{"$f":"_xlfn.XLOOKUP(D98, FORM3GERAL!$C$7:$C$11418,FORM3GERAL!$L$7:$L$11418)","v":{"$error":"#N/A"}},{"$error":"#N/A"}]
[null,12,null,"12.3",{"$f":"IFERROR(_xlfn.XLOOKUP(_xlfn.XLOOKUP(D99,FORM2.3!C104:C273,FORM2.3!I104:I273),'TABELAS AUXILIARES'!$E$8:$E$13,'TABELAS AUXILIARES'!$F$8:$F$13),\"Por favor, preencha o campo\")","v":"Por favor, preencha o campo"},null,null,null,null,null,{"$f":"_xlfn.XLOOKUP(D99, FORM3GERAL!$C$7:$C$11418,FORM3GERAL!$P$7:$P$11418)","v":{"$error":"#N/A"}},{"$f":"_xlfn.XLOOKUP(D99, FORM3GERAL!$C$7:$C$11418,FORM3GERAL!$L$7:$L$11418)","v":{"$error":"#N/A"}},{"$error":"#N/A"}]
[null,12,null,"12.4",{"$f":"IFERROR(_xlfn.XLOOKUP(_xlfn.XLOOKUP(D100,FORM2.3!C105:C274,FORM2.3!I105:I274),'TABELAS AUXILIARES'!$E$8:$E$13,'TABELAS AUXILIARES'!$F$8:$F$13),\"Por favor, preencha o campo\")","v":"Por favor, preencha o campo"},null,null,null,null,null,{"$f":"_xlfn.XLOOKUP(D100, FORM3GERAL!$C$7:$C$11418,FORM3GERAL!$P$7:$P$11418)","v":{"$error":"#N/A"}},{"$f":"_xlfn.XLOOKUP(D100, FORM3GERAL!$C$7:$C$11418,FORM3GERAL!$L$7:$L$11418)","v":{"$error":"#N/A"}},{"$error":"#N/A"}]
[null,12,null,"12.5",{"$f":"IFERROR(_xlfn.XLOOKUP(_xlfn.XLOOKUP(D101,FORM2.3!C106:C275,FORM2.3!I106:I275),'TABELAS AUXILIARES'!$E$8:$E$13,'TABELAS AUXILIARES'!$F$8:$F$13),\"Por favor, preencha o campo\")","v":"Por favor, preencha o campo"},null,null,null,null,null,{"$f":"_xlfn.XLOOKUP(D101, FORM3GERAL!$C$7:$C$11418,FORM3GERAL!$P$7:$P$11418)","v":{"$error":"#N/A"}},{"$f":"_xlfn.XLOOKUP(D101, FORM3GERAL!$C$7:$C$11418,FORM3GERAL!$L$7:$L$11418)","v":{"$error":"#N/A"}},{"$error":"#N/A"}]
[null,12,null,"12.6",{"$f":"IFERROR(_xlfn.XLOOKUP(_xlfn.XLOOKUP(D102,FORM2.3!C107:C276,FORM2.3!I107:I276),'TABELAS AUXILIARES'!$E$8:$E$13,'TABELAS AUXILIARES'!$F$8:$F$13),\"Por favor, preencha o campo\")","v":"Por favor, preencha o campo"},null,null,null,null,null,{"$f":"_xlfn.XLOOKUP(D102, FORM3GERAL!$C$7:$C$11418,FORM3GERAL!$P$7:$P$11418)","v":{"$error":"#N/A"}},{"$f":"_xlfn.XLOOKUP(D102, FORM3GERAL!$C$7:$C$11418,FORM3GERAL!$L$7:$L$11418)","v":{"$error":"#N/A"}},{"$error":"#N/A"}]
[null,12,null,"12.7",{"$f":"IFERROR(_xlfn.XLOOKUP(_xlfn.XLOOKUP(D103,FORM2.3!C108:C277,FORM2.3!I108:I277),'TABELAS AUXILIARES'!$E$8:$E$13,'TABELAS AUXILIARES'!$F$8:$F$13),\"Por favor, preencha o campo\")","v":"Por favor, preencha o campo"},null,null,null,null,null,{"$f":"_xlfn.XLOOKUP(D103, FORM3GERAL!$C$7:$C$11418,FORM3GERAL!$P$7:$P$11418)","v":{"$error":"#N/A"}},{"$f":"_xlfn.XLOOKUP(D103, FORM3GERAL!$C$7:$C$11418,FORM3GERAL!$L$7:$L$11418)","v":{"$error":"#N/A"}},{"$error":"#N/A"}]
[null,12,null,"12.8",{"$f":"IFERROR(_xlfn.XLOOKUP(_xlfn.XLOOKUP(D104,FORM2.3!C109:C278,FORM2.3!I109:I278),'TABELAS AUXILIARES'!$E$8:$E$13,'TABELAS AUXILIARES'!$F$8:$F$13),\"Por favor, preencha o campo\")","v":"Por favor, preencha o campo"},null,null,null,null,null,{"$f":"_xlfn.XLOOKUP(D104, FORM3GERAL!$C$7:$C$11418,FORM3GERAL!$P$7:$P$11418)","v":{"$error":"#N/A"}},{"$f":"_xlfn.XLOOKUP(D104, FORM3GERAL!$C$7:$C$11418,FORM3GERAL!$L$7:$L$11418)","v":{"$error":"#N/A"}},{"$error":"#N/A"}]
[null,13,{"$f":"FORM2.3!K121","v":"Selecione sua Resposta"},"13.1",{"$f":"IFERROR(_xlfn.XLOOKUP(_xlfn.XLOOKUP(D105,FORM2.3!C110:C279,FORM2.3!I110:I279),'TABELAS AUXILIARES'!$E$8:$E$13,'TABELAS AUXILIARES'!$F$8:$F$13),\"Por favor, preencha o campo\")","v":"Por favor, preencha o campo"},{"$f":"IF(COUNTIF(E105:E115,\"Por favor, preencha o campo\")>0, \"Por favor preencha todas as medidas\",(SUMIF(E105:E115,\">=0\")/(COUNTA(E105:E115)-COUNTIF(E105:E115,'TABELAS AUXILIARES'!$F$13))/2)*(1+C105*1/5))","v":"Por favor preencha todas as medidas"},null,null,null,null,{"$f":"_xlfn.XLOOKUP(D105, FORM3GERAL!$C$7:$C$11418,FORM3GERAL!$P$7:$P$11418)","v":{"$error":"#N/A"}},{"$f":"_xlfn.XLOOKUP(D105, FORM3GERAL!$C$7:$C$11418,FORM3GERAL!$L$7:$L$11418)","v":{"$error":"#N/A"}},{"$error":"#N/A"}]
[null,13,null,"13.2",{"$f":"IFERROR(_xlfn.XLOOKUP(_xlfn.XLOOKUP(D106,FORM2.3!C111:C280,FORM2.3!I111:I280),'TABELAS AUXILIARES'!$E$8:$E$13,'TABELAS AUXILIARES'!$F$8:$F$13),\"Por favor, preencha o campo\")","v":"Por favor, preencha o campo"},null,null,null,null,null,{"$f":"_xlfn.XLOOKUP(D106, FORM3GERAL!$C$7:$C$11418,FORM3GERAL!$P$7:$P$11418)","v":{"$error":"#N/A"}},{"$f":"_xlfn.XLOOKUP(D106, FORM3GERAL!$C$7:$C$11418,FORM3GERAL!$L$7:$L$11418)","v":{"$error":"#N/A"}},{"$error":"#N/A"}]
[null,13,null,"13.3",{"$f":"IFERROR(_xlfn.XLOOKUP(_xlfn.XLOOKUP(D107,FORM2.3!C112:C281,FORM2.3!I112:I281),'TABELAS AUXILIARES'!$E$8:$E$13,'TABELAS AUXILIARES'!$F$8:$F$13),\"Por favor, preencha o campo\")","v":"Por favor, preencha o campo"},null,null,null,null,null,{"$f":"_xlfn.XLOOKUP(D107, FORM3GERAL!$C$7:$C$11418,FORM3GERAL!$P$7:$P$11418)","v":{"$error":"#N/A"}},{"$f":"_xlfn.XLOOKUP(D107, FORM3GERAL!$C$7:$C$11418,FORM3GERAL!$L$7:$L$11418)","v":{"$error":"#N/A"}},{"$error":"#N/A"}]
[null,13,null,"13.4",{"$f":"IFERROR(_xlfn.XLOOKUP(_xlfn.XLOOKUP(D108,FORM2.3!C113:C282,FORM2.3!I113:I282),'TABELAS AUXILIARES'!$E$8:$E$13,'TABELAS AUXILIARES'!$F$8:$F$13),\"Por favor, preencha o campo\")","v":"Por favor, preencha o campo"},null,null,null,null,null,{"$f":"_xlfn.XLOOKUP(D108, FORM3GERAL!$C$7:$C$11418,FORM3GERAL!$P$7:$P$11418)","v":{"$error":"#N/A"}},{"$f":"_xlfn.XLOOKUP(D108, FORM3GERAL!$C$7:$C$11418,FORM3GERAL!$L$7:$L$11418)","v":{"$error":"#N/A"}},{"$error":"#N/A"}]
[null,13,null,"13.5",{"$f":"IFERROR(_xlfn.XLOOKUP(_xlfn.XLOOKUP(D109,FORM2.3!C114:C283,FORM2.3!I114:I283),'TABELAS AUXILIARES'!$E$8:$E$13,'TABELAS AUXILIARES'!$F$8:$F$13),\"Por favor, preencha o campo\")","v":"Por favor, preencha o campo"},null,null,null,null,null,{"$f":"_xlfn.XLOOKUP(D109, FORM3GERAL!$C$7:$C$11418,FORM3GERAL!$P$7:$P$11418)","v":{"$error":"#N/A"}},{"$f":"_xlfn.XLOOKUP(D109, FORM3GERAL!$C$7:$C$11418,FORM3GERAL!$L$7:$L$11418)","v":{"$error":"#N/A"}},{"$error":"#N/A"}]
[null,13,null,"13.6",{"$f":"IFERROR(_xlfn.XLOOKUP(_xlfn.XLOOKUP(D110,FORM2.3!C115:C284,FORM2.3!I115:I284),'TABELAS AUXILIARES'!$E$8:$E$13,'TABELAS AUXILIARES'!$F$8:$F$13),\"Por favor, preencha o campo\")","v":"Por favor, preencha o campo"},null,null,null,null,null,{"$f":"_xlfn.XLOOKUP(D110, FORM3GERAL!$C$7:$C$11418,FORM3GERAL!$P$7:$P$11418)","v":{"$error":"#N/A"}},{"$f":"_xlfn.XLOOKUP(D110, FORM3GERAL!$C$7:$C$11418,FORM3GERAL!$L$7:$L$11418)","v":{"$error":"#N/A"}},{"$error":"#N/A"}]
[null,13,null,"13.7",{"$f":"IFERROR(_xlfn.XLOOKUP(_xlfn.XLOOKUP(D111,FORM2.3!C116:C285,FORM2.3!I116:I285),'TABELAS AUXILIARES'!$E$8:$E$13,'TABELAS AUXILIARES'!$F$8:$F$13),\"Por favor, preencha o campo\")","v":"Por favor, preencha o campo"},null,null,null,null,null,{"$f":"_xlfn.XLOOKUP(D111, FORM3GERAL!$C$7:$C$11418,FORM3GERAL!$P$7:$P$11418)","v":{"$error":"#N/A"}},{"$f":"_xlfn.XLOOKUP(D111, FORM3GERAL!$C$7:$C$11418,FORM3GERAL!$L$7:$L$11418)","v":{"$error":"#N/A"}},{"$error":"#N/A"}]
[null,13,null,"13.8",{"$f":"IFERROR(_xlfn.XLOOKUP(_xlfn.XLOOKUP(D112,FORM2.3!C117:C286,FORM2.3!I117:I286),'TABELAS AUXILIARES'!$E$8:$E$13,'TABELAS AUXILIARES'!$F$8:$F$13),\"Por favor, preencha o campo\")","v":"Por favor, preencha o campo"},null,null,null,null,null,{"$f":"_xlfn.XLOOKUP(D112, FORM3GERAL!$C$7:$C$11418,FORM3GERAL!$P$7:$P$11418)","v":{"$error":"#N/A"}},{"$f":"_xlfn.XLOOKUP(D112, FORM3GERAL!$C$7:$C$11418,FORM3GERAL!$L$7:$L$11418)","v":{"$error":"#N/A"}},{"$error":"#N/A"}]
[null,13,null,"13.9",{"$f":"IFERROR(_xlfn.XLOOKUP(_xlfn.XLOOKUP(D113,FORM2.3!C118:C287,FORM2.3!I118:I287),'TABELAS AUXILIARES'!$E$8:$E$13,'TABELAS AUXILIARES'!$F$8:$F$13),\"Por favor, preencha o campo\")","v":"Por favor, preencha o campo"},null,null,null,null,null,{"$f":"_xlfn.XLOOKUP(D113, FORM3GERAL!$C$7:$C$11418,FORM3GERAL!$P$7:$P$11418)","v":{"$error":"#N/A"}},{"$f":"_xlfn.XLOOKUP(D113, FORM3GERAL!$C$7:$C$11418,FORM3GERAL!$L$7:$L$11418)","v":{"$error":"#N/A"}},{"$error":"#N/A"}]
[null,13,null,"13.10",{"$f":"IFERROR(_xlfn.XLOOKUP(_xlfn.XLOOKUP(D114,FORM2.3!C119:C288,FORM2.3!I119:I288),'TABELAS AUXILIARES'!$E$8:$E$13,'TABELAS AUXILIARES'!$F$8:$F$13),\"Por favor, preencha o campo\")","v":"Por favor, preencha o campo"},null,null,null,null,null,{"$f":"_xlfn.XLOOKUP(D114, FORM3GERAL!$C$7:$C$11418,FORM3GERAL!$P$7:$P$11418)","v":{"$error":"#N/A"}},{"$f":"_xlfn.XLOOKUP(D114, FORM3GERAL!$C$7:$C$11418,FORM3GERAL!$L$7:$L$11418)","v":{"$error":"#N/A"}},{"$error":"#N/A"}]
[null,13,null,"13.11",{"$f":"IFERROR(_xlfn.XLOOKUP(_xlfn.XLOOKUP(D115,FORM2.3!C120:C289,FORM2.3!I120:I289),'TABELAS AUXILIARES'!$E$8:$E$13,'TABELAS AUXILIARES'!$F$8:$F$13),\"Por favor, preencha o campo\")","v":"Por favor, preencha o campo"},null,null,null,null,null,{"$f":"_xlfn.XLOOKUP(D115, FORM3GERAL!$C$7:$C$11418,FORM3GERAL!$P$7:$P$11418)","v":{"$error":"#N/A"}},{"$f":"_xlfn.XLOOKUP(D115, FORM3GERAL!$C$7:$C$11418,FORM3GERAL!$L$7:$L$11418)","v":{"$error":"#N/A"}},{"$error":"#N/A"}]
[null,14,{"$f":"FORM2.3!K133","v":"Selecione sua Resposta"},"14.1",{"$f":"IFERROR(_xlfn.XLOOKUP(_xlfn.XLOOKUP(D116,FORM2.3!C121:C290,FORM2.3!I121:I290),'TABELAS AUXILIARES'!$E$8:$E$13,'TABELAS AUXILIARES'!$F$8:$F$13),\"Por favor, preencha o campo\")","v":"Por favor, preencha o campo"},{"$f":"IF(COUNTIF(E116:E124,\"Por favor, preencha o campo\")>0, \"Por favor preencha todas as medidas\",(SUMIF(E116:E124,\">=0\")/(COUNTA(E116:E124)-COUNTIF(E116:E124,'TABELAS AUXILIARES'!$F$13))/2)*(1+C116*1/5))","v":"Por favor preencha todas as medidas"},null,null,null,null,{"$f":"_xlfn.XLOOKUP(D116, FORM3GERAL!$C$7:$C$11418,FORM3GERAL!$P$7:$P$11418)","v":{"$error":"#N/A"}},{"$f":"_xlfn.XLOOKUP(D116, FORM3GERAL!$C$7:$C$11418,FORM3GERAL!$L$7:$L$11418)","v":{"$error":"#N/A"}},{"$error":"#N/A"}]
[null,14,null,"14.2",{"$f":"IFERROR(_xlfn.XLOOKUP(_xlfn.XLOOKUP(D117,FORM2.3!C122:C291,FORM2.3!I122:I291),'TABELAS AUXILIARES'!$E$8:$E$13,'TABELAS AUXILIARES'!$F$8:$F$13),\"Por favor, preencha o campo\")","v":"Por favor, preencha o campo"},null,null,null,null,null,{"$f":"_xlfn.XLOOKUP(D117, FORM3GERAL!$C$7:$C$11418,FORM3GERAL!$P$7:$P$11418)","v":{"$error":"#N/A"}},{"$f":"_xlfn.XLOOKUP(D117, FORM3GERAL!$C$7:$C$11418,FORM3GERAL!$L$7:$L$11418)","v":{"$error":"#N/A"}},{"$error":"#N/A"}]
[null,14,null,"14.3",{"$f":"IFERROR(_xlfn.XLOOKUP(_xlfn.XLOOKUP(D118,FORM2.3!C123:C292,FORM2.3!I123:I292),'TABELAS AUXILIARES'!$E$8:$E$13,'TABELAS AUXILIARES'!$F$8:$F$13),\"Por favor, preencha o campo\")","v":"Por favor, preencha o campo"},null,null,null,null,null,{"$f":"_xlfn.XLOOKUP(D118, FORM3GERAL!$C$7:$C$11418,FORM3GERAL!$P$7:$P$11418)","v":{"$error":"#N/A"}},{"$f":"_xlfn.XLOOKUP(D118, FORM3GERAL!$C$7:$C$11418,FORM3GERAL!$L$7:$L$11418)","v":{"$error":"#N/A"}},{"$error":"#N/A"}]
[null,14,null,"14.4",{"$f":"IFERROR(_xlfn.XLOOKUP(_xlfn.XLOOKUP(D119,FORM2.3!C124:C293,FORM2.3!I124:I293),'TABELAS AUXILIARES'!$E$8:$E$13,'TABELAS AUXILIARES'!$F$8:$F$13),\"Por favor, preencha o campo\")","v":"Por favor, preencha o campo"},null,null,null,null,null,{"$f":"_xlfn.XLOOKUP(D119, FORM3GERAL!$C$7:$C$11418,FORM3GERAL!$P$7:$P$11418)","v":{"$error":"#N/A"}},{"$f":"_xlfn.XLOOKUP(D119, FORM3GERAL!$C$7:$C$11418,FORM3GERAL!$L$7:$L$11418)","v":{"$error":"#N/A"}},{"$error":"#N/A"}]
[null,14,null,"14.5",{"$f":"IFERROR(_xlfn.XLOOKUP(_xlfn.XLOOKUP(D120,FORM2.3!C125:C294,FORM2.3!I125:I294),'TABELAS AUXILIARES'!$E$8:$E$13,'TABELAS AUXILIARES'!$F$8:$F$13),\"Por favor, preencha o campo\")","v":"Por favor, preencha o campo"},null,null,null,null,null,{"$f":"_xlfn.XLOOKUP(D120, FORM3GERAL!$C$7:$C$11418,FORM3GERAL!$P$7:$P$11418)","v":{"$error":"#N/A"}},{"$f":"_xlfn.XLOOKUP(D120, FORM3GERAL!$C$7:$C$11418,FORM3GERAL!$L$7:$L$11418)","v":{"$error":"#N/A"}},{"$error":"#N/A"}]
[null,14,null,"14.6",{"$f":"IFERROR(_xlfn.XLOOKUP(_xlfn.XLOOKUP(D121,FORM2.3!C126:C295,FORM2.3!I126:I295),'TABELAS AUXILIARES'!$E$8:$E$13,'TABELAS AUXILIARES'!$F$8:$F$13),\"Por favor, preencha o campo\")","v":"Por favor, preencha o campo"},null,null,null,null,null,{"$f":"_xlfn.XLOOKUP(D121, FORM3GERAL!$C$7:$C$11418,FORM3GERAL!$P$7:$P$11418)","v":{"$error":"#N/A"}},{"$f":"_xlfn.XLOOKUP(D121, FORM3GERAL!$C$7:$C$11418,FORM3GERAL!$L$7:$L$11418)","v":{"$error":"#N/A"}},{"$error":"#N/A"}]
[null,14,null,"14.7",{"$f":"IFERROR(_xlfn.XLOOKUP(_xlfn.XLOOKUP(D122,FORM2.3!C127:C296,FORM2.3!I127:I296),'TABELAS AUXILIARES'!$E$8:$E$13,'TABELAS AUXILIARES'!$F$8:$F$13),\"Por favor, preencha o campo\")","v":"Por favor, preencha o campo"},null,null,null,null,null,{"$f":"_xlfn.XLOOKUP(D122, FORM3GERAL!$C$7:$C$11418,FORM3GERAL!$P$7:$P$11418)","v":{"$error":"#N/A"}},{"$f":"_xlfn.XLOOKUP(D122, FORM3GERAL!$C$7:$C$11418,FORM3GERAL!$L$7:$L$11418)","v":{"$error":"#N/A"}},{"$error":"#N/A"}]
[null,14,null,"14.8",{"$f":"IFERROR(_xlfn.XLOOKUP(_xlfn.XLOOKUP(D123,FORM2.3!C128:C297,FORM2.3!I128:I297),'TABELAS AUXILIARES'!$E$8:$E$13,'TABELAS AUXILIARES'!$F$8:$F$13),\"Por favor, preencha o campo\")","v":"Por favor, preencha o campo"},null,null,null,null,null,{"$f":"_xlfn.XLOOKUP(D123, FORM3GERAL!$C$7:$C$11418,FORM3GERAL!$P$7:$P$11418)","v":{"$error":"#N/A"}},{"$f":"_xlfn.XLOOKUP(D123, FORM3GERAL!$C$7:$C$11418,FORM3GERAL!$L$7:$L$11418)","v":{"$error":"#N/A"}},{"$error":"#N/A"}]
[null,14,null,"14.9",{"$f":"IFERROR(_xlfn.XLOOKUP(_xlfn.XLOOKUP(D124,FORM2.3!C129:C298,FORM2.3!I129:I298),'TABELAS AUXILIARES'!$E$8:$E$13,'TABELAS AUXILIARES'!$F$8:$F$13),\"Por favor, preencha o campo\")","v":"Por favor, preencha o campo"},null,null,null,null,null,{"$f":"_xlfn.XLOOKUP(D124, FORM3GERAL!$C$7:$C$11418,FORM3GERAL!$P$7:$P$11418)","v":{"$error":"#N/A"}},{"$f":"_xlfn.XLOOKUP(D124, FORM3GERAL!$C$7:$C$11418,FORM3GERAL!$L$7:$L$11418)","v":{"$error":"#N/A"}},{"$error":"#N/A"}]
[null,15,{"$f":"FORM2.3!K143","v":"Selecione sua Resposta"},"15.1",{"$f":"IFERROR(_xlfn.XLOOKUP(_xlfn.XLOOKUP(D125,FORM2.3!C130:C299,FORM2.3!I130:I299),'TABELAS AUXILIARES'!$E$8:$E$13,'TABELAS AUXILIARES'!$F$8:$F$13),\"Por favor, preencha o campo\")","v":"Por favor, preencha o campo"},{"$f":"IF(COUNTIF(E125:E131,\"Por favor, preencha o campo\")>0, \"Por favor preencha todas as medidas\",(SUMIF(E125:E131,\">=0\")/(COUNTA(E125:E131)-COUNTIF(E125:E131,'TABELAS AUXILIARES'!$F$13))/2)*(1+C125*1/5))","v":"Por favor preencha todas as medidas"},null,null,null,null,{"$f":"_xlfn.XLOOKUP(D125, FORM3GERAL!$C$7:$C$11418,FORM3GERAL!$P$7:$P$11418)","v":{"$error":"#N/A"}},{"$f":"_xlfn.XLOOKUP(D125, FORM3GERAL!$C$7:$C$11418,FORM3GERAL!$L$7:$L$11418)","v":{"$error":"#N/A"}},{"$error":"#N/A"}]
[null,15,null,"15.2",{"$f":"IFERROR(_xlfn.XLOOKUP(_xlfn.XLOOKUP(D126,FORM2.3!C131:C300,FORM2.3!I131:I300),'TABELAS AUXILIARES'!$E$8:$E$13,'TABELAS AUXILIARES'!$F$8:$F$13),\"Por favor, preencha o campo\")","v":"Por favor, preencha o campo"},null,null,null,null,null,{"$f":"_xlfn.XLOOKUP(D126, FORM3GERAL!$C$7:$C$11418,FORM3GERAL!$P$7:$P$11418)","v":{"$error":"#N/A"}},{"$f":"_xlfn.XLOOKUP(D126, FORM3GERAL!$C$7:$C$11418,FORM3GERAL!$L$7:$L$11418)","v":{"$error":"#N/A"}},{"$error":"#N/A"}]
[null,15,null,"15.3",{"$f":"IFERROR(_xlfn.XLOOKUP(_xlfn.XLOOKUP(D127,FORM2.3!C132:C301,FORM2.3!I132:I301),'TABELAS AUXILIARES'!$E$8:$E$13,'TABELAS AUXILIARES'!$F$8:$F$13),\"Por favor, preencha o campo\")","v":"Por favor, preencha o campo"},null,null,null,null,null,{"$f":"_xlfn.XLOOKUP(D127, FORM3GERAL!$C$7:$C$11418,FORM3GERAL!$P$7:$P$11418)","v":{"$error":"#N/A"}},{"$f":"_xlfn.XLOOKUP(D127, FORM3GERAL!$C$7:$C$11418,FORM3GERAL!$L$7:$L$11418)","v":{"$error":"#N/A"}},{"$error":"#N/A"}]
[null,15,null,"15.4",{"$f":"IFERROR(_xlfn.XLOOKUP(_xlfn.XLOOKUP(D128,FORM2.3!C133:C302,FORM2.3!I133:I302),'TABELAS AUXILIARES'!$E$8:$E$13,'TABELAS AUXILIARES'!$F$8:$F$13),\"Por favor, preencha o campo\")","v":"Por favor, preencha o campo"},null,null,null,null,null,{"$f":"_xlfn.XLOOKUP(D128, FORM3GERAL!$C$7:$C$11418,FORM3GERAL!$P$7:$P$11418)","v":{"$error":"#N/A"}},{"$f":"_xlfn.XLOOKUP(D128, FORM3GERAL!$C$7:$C$11418,FORM3GERAL!$L$7:$L$11418)","v":{"$error":"#N/A"}},{"$error":"#N/A"}]
[null,15,null,"15.5",{"$f":"IFERROR(_xlfn.XLOOKUP(_xlfn.XLOOKUP(D129,FORM2.3!C134:C303,FORM2.3!I134:I303),'TABELAS AUXILIARES'!$E$8:$E$13,'TABELAS AUXILIARES'!$F$8:$F$13),\"Por favor, preencha o campo\")","v":"Por favor, preencha o campo"},null,null,null,null,null,{"$f":"_xlfn.XLOOKUP(D129, FORM3GERAL!$C$7:$C$11418,FORM3GERAL!$P$7:$P$11418)","v":{"$error":"#N/A"}},{"$f":"_xlfn.XLOOKUP(D129, FORM3GERAL!$C$7:$C$11418,FORM3GERAL!$L$7:$L$11418)","v":{"$error":"#N/A"}},{"$error":"#N/A"}]
[null,15,null,"15.6",{"$f":"IFERROR(_xlfn.XLOOKUP(_xlfn.XLOOKUP(D130,FORM2.3!C135:C304,FORM2.3!I135:I304),'TABELAS AUXILIARES'!$E$8:$E$13,'TABELAS AUXILIARES'!$F$8:$F$13),\"Por favor, preencha o campo\")","v":"Por favor, preencha o campo"},null,null,null,null,null,{"$f":"_xlfn.XLOOKUP(D130, FORM3GERAL!$C$7:$C$11418,FORM3GERAL!$P$7:$P$11418)","v":{"$error":"#N/A"}},{"$f":"_xlfn.XLOOKUP(D130, FORM3GERAL!$C$7:$C$11418,FORM3GERAL!$L$7:$L$11418)","v":{"$error":"#N/A"}},{"$error":"#N/A"}]
[null,15,null,"15.7",{"$f":"IFERROR(_xlfn.XLOOKUP(_xlfn.XLOOKUP(D131,FORM2.3!C136:C305,FORM2.3!I136:I305),'TABELAS AUXILIARES'!$E$8:$E$13,'TABELAS AUXILIARES'!$F$8:$F$13),\"Por favor, preencha o campo\")","v":"Por favor, preencha o campo"},null,null,null,null,null,{"$f":"_xlfn.XLOOKUP(D131, FORM3GERAL!$C$7:$C$11418,FORM3GERAL!$P$7:$P$11418)","v":{"$error":"#N/A"}},{"$f":"_xlfn.XLOOKUP(D131, FORM3GERAL!$C$7:$C$11418,FORM3GERAL!$L$7:$L$11418)","v":{"$error":"#N/A"}},{"$error":"#N/A"}]
[null,16,{"$f":"FORM2.3!K151","v":"Selecione sua Resposta"},"16.1",{"$f":"IFERROR(_xlfn.XLOOKUP(_xlfn.XLOOKUP(D132,FORM2.3!C137:C306,FORM2.3!I137:I306),'TABELAS AUXILIARES'!$E$8:$E$13,'TABELAS AUXILIARES'!$F$8:$F$13),\"Por favor, preencha o campo\")","v":"Por favor, preencha o campo"},{"$f":"IF(COUNTIF(E132:E145,\"Por favor, preencha o campo\")>0, \"Por favor preencha todas as medidas\",(SUMIF(E132:E145,\">=0\")/(COUNTA(E132:E145)-COUNTIF(E132:E145,'TABELAS AUXILIARES'!$F$13))/2)*(1+C132*1/5))","v":"Por favor preencha todas as medidas"},null,null,null,null,{"$f":"_xlfn.XLOOKUP(D132, FORM3GERAL!$C$7:$C$11418,FORM3GERAL!$P$7:$P$11418)","v":{"$error":"#N/A"}},{"$f":"_xlfn.XLOOKUP(D132, FORM3GERAL!$C$7:$C$11418,FORM3GERAL!$L$7:$L$11418)","v":{"$error":"#N/A"}},{"$error":"#N/A"}]
[null,16,null,"16.2",{"$f":"IFERROR(_xlfn.XLOOKUP(_xlfn.XLOOKUP(D133,FORM2.3!C138:C307,FORM2.3!I138:I307),'TABELAS AUXILIARES'!$E$8:$E$13,'TABELAS AUXILIARES'!$F$8:$F$13),\"Por favor, preencha o campo\")","v":"Por favor, preencha o campo"},null,null,null,null,null,{"$f":"_xlfn.XLOOKUP(D133, FORM3GERAL!$C$7:$C$11418,FORM3GERAL!$P$7:$P$11418)","v":{"$error":"#N/A"}},{"$f":"_xlfn.XLOOKUP(D133, FORM3GERAL!$C$7:$C$11418,FORM3GERAL!$L$7:$L$11418)","v":{"$error":"#N/A"}},{"$error":"#N/A"}]
[null,16,null,"16.3",{"$f":"IFERROR(_xlfn.XLOOKUP(_xlfn.XLOOKUP(D134,FORM2.3!C139:C308,FORM2.3!I139:I308),'TABELAS AUXILIARES'!$E$8:$E$13,'TABELAS AUXILIARES'!$F$8:$F$13),\"Por favor, preencha o campo\")","v":"Por favor, preencha o campo"},null,null,null,null,null,{"$f":"_xlfn.XLOOKUP(D134, FORM3GERAL!$C$7:$C$11418,FORM3GERAL!$P$7:$P$11418)","v":{"$error":"#N/A"}},{"$f":"_xlfn.XLOOKUP(D134, FORM3GERAL!$C$7:$C$11418,FORM3GERAL!$L$7:$L$11418)","v":{"$error":"#N/A"}},{"$error":"#N/A"}]
[null,16,null,"16.4",{"$f":"IFERROR(_xlfn.XLOOKUP(_xlfn.XLOOKUP(D135,FORM2.3!C140:C309,FORM2.3!I140:I309),'TABELAS AUXILIARES'!$E$8:$E$13,'TABELAS AUXILIARES'!$F$8:$F$13),\"Por favor, preencha o campo\")","v":"Por favor, preencha o campo"},null,null,null,null,null,{"$f":"_xlfn.XLOOKUP(D135, FORM3GERAL!$C$7:$C$11418,FORM3GERAL!$P$7:$P$11418)","v":{"$error":"#N/A"}},{"$f":"_xlfn.XLOOKUP(D135, FORM3GERAL!$C$7:$C$11418,FORM3GERAL!$L$7:$L$11418)","v":{"$error":"#N/A"}},{"$error":"#N/A"}]
[null,16,null,"16.5",{"$f":"IFERROR(_xlfn.XLOOKUP(_xlfn.XLOOKUP(D136,FORM2.3!C141:C310,FORM2.3!I141:I310),'TABELAS AUXILIARES'!$E$8:$E$13,'TABELAS AUXILIARES'!$F$8:$F$13),\"Por favor, preencha o campo\")","v":"Por favor, preencha o campo"},null,null,null,null,null,{"$f":"_xlfn.XLOOKUP(D136, FORM3GERAL!$C$7:$C$11418,FORM3GERAL!$P$7:$P$11418)","v":{"$error":"#N/A"}},{"$f":"_xlfn.XLOOKUP(D136, FORM3GERAL!$C$7:$C$11418,FORM3GERAL!$L$7:$L$11418)","v":{"$error":"#N/A"}},{"$f":"IF(K136=1,IF(L136=\"Concluído\",1,0),0)","v":{"$error":"#N/A"}}]
[null,16,null,"16.6",{"$f":"IFERROR(_xlfn.XLOOKUP(_xlfn.XLOOKUP(D137,FORM2.3!C142:C311,FORM2.3!I142:I311),'TABELAS AUXILIARES'!$E$8:$E$13,'TABELAS AUXILIARES'!$F$8:$F$13),\"Por favor, preencha o campo\")","v":"Por favor, preencha o campo"},null,null,null,null,null,{"$f":"_xlfn.XLOOKUP(D137, FORM3GERAL!$C$7:$C$11418,FORM3GERAL!$P$7:$P$11418)","v":{"$error":"#N/A"}},{"$f":"_xlfn.XLOOKUP(D137, FORM3GERAL!$C$7:$C$11418,FORM3GERAL!$L$7:$L$11418)","v":{"$error":"#N/A"}},{"$error":"#N/A"}]
[null,16,null,"16.7",{"$f":"IFERROR(_xlfn.XLOOKUP(_xlfn.XLOOKUP(D138,FORM2.3!C143:C312,FORM2.3!I143:I312),'TABELAS AUXILIARES'!$E$8:$E$13,'TABELAS AUXILIARES'!$F$8:$F$13),\"Por favor, preencha o campo\")","v":"Por favor, preencha o campo"},null,null,null,null,null,{"$f":"_xlfn.XLOOKUP(D138, FORM3GERAL!$C$7:$C$11418,FORM3GERAL!$P$7:$P$11418)","v":{"$error":"#N/A"}},{"$f":"_xlfn.XLOOKUP(D138, FORM3GERAL!$C$7:$C$11418,FORM3GERAL!$L$7:$L$11418)","v":{"$error":"#N/A"}},{"$error":"#N/A"}]
[null,16,null,"16.8",{"$f":"IFERROR(_xlfn.XLOOKUP(_xlfn.XLOOKUP(D139,FORM2.3!C144:C313,FORM2.3!I144:I313),'TABELAS AUXILIARES'!$E$8:$E$13,'TABELAS AUXILIARES'!$F$8:$F$13),\"Por favor, preencha o campo\")","v":"Por favor, preencha o campo"},null,null,null,null,null,{"$f":"_xlfn.XLOOKUP(D139, FORM3GERAL!$C$7:$C$11418,FORM3GERAL!$P$7:$P$11418)","v":{"$error":"#N/A"}},{"$f":"_xlfn.XLOOKUP(D139, FORM3GERAL!$C$7:$C$11418,FORM3GERAL!$L$7:$L$11418)","v":{"$error":"#N/A"}},{"$error":"#N/A"}]
[null,16,null,"16.9",{"$f":"IFERROR(_xlfn.XLOOKUP(_xlfn.XLOOKUP(D140,FORM2.3!C145:C314,FORM2.3!I145:I314),'TABELAS AUXILIARES'!$E$8:$E$13,'TABELAS AUXILIARES'!$F$8:$F$13),\"Por favor, preencha o campo\")","v":"Por favor, preencha o campo"},null,null,null,null,null,{"$f":"_xlfn.XLOOKUP(D140, FORM3GERAL!$C$7:$C$11418,FORM3GERAL!$P$7:$P$11418)","v":{"$error":"#N/A"}},{"$f":"_xlfn.XLOOKUP(D140, FORM3GERAL!$C$7:$C$11418,FORM3GERAL!$L$7:$L$11418)","v":{"$error":"#N/A"}},{"$error":"#N/A"}]
[null,16,null,"16.10",{"$f":"IFERROR(_xlfn.XLOOKUP(_xlfn.XLOOKUP(D141,FORM2.3!C146:C315,FORM2.3!I146:I315),'TABELAS AUXILIARES'!$E$8:$E$13,'TABELAS AUXILIARES'!$F$8:$F$13),\"Por favor, preencha o campo\")","v":"Por favor, preencha o campo"},null,null,null,null,null,{"$f":"_xlfn.XLOOKUP(D141, FORM3GERAL!$C$7:$C$11418,FORM3GERAL!$P$7:$P$11418)","v":{"$error":"#N/A"}},{"$f":"_xlfn.XLOOKUP(D141, FORM3GERAL!$C$7:$C$11418,FORM3GERAL!$L$7:$L$11418)","v":{"$error":"#N/A"}},{"$error":"#N/A"}]
[null,16,null,"16.11",{"$f":"IFERROR(_xlfn.XLOOKUP(_xlfn.XLOOKUP(D142,FORM2.3!C147:C316,FORM2.3!I147:I316),'TABELAS AUXILIARES'!$E$8:$E$13,'TABELAS AUXILIARES'!$F$8:$F$13),\"Por favor, preencha o campo\")","v":"Por favor, preencha o campo"},null,null,null,null,null,{"$f":"_xlfn.XLOOKUP(D142, FORM3GERAL!$C$7:$C$11418,FORM3GERAL!$P$7:$P$11418)","v":{"$error":"#N/A"}},{"$f":"_xlfn.XLOOKUP(D142, FORM3GERAL!$C$7:$C$11418,FORM3GERAL!$L$7:$L$11418)","v":{"$error":"#N/A"}},{"$error":"#N/A"}]
[null,16,null,"16.12",{"$f":"IFERROR(_xlfn.XLOOKUP(_xlfn.XLOOKUP(D143,FORM2.3!C148:C317,FORM2.3!I148:I317),'TABELAS AUXILIARES'!$E$8:$E$13,'TABELAS AUXILIARES'!$F$8:$F$13),\"Por favor, preencha o campo\")","v":"Por favor, preencha o campo"},null,null,null,null,null,{"$f":"_xlfn.XLOOKUP(D143, FORM3GERAL!$C$7:$C$11418,FORM3GERAL!$P$7:$P$11418)","v":{"$error":"#N/A"}},{"$f":"_xlfn.XLOOKUP(D143, FORM3GERAL!$C$7:$C$11418,FORM3GERAL!$L$7:$L$11418)","v":{"$error":"#N/A"}},{"$error":"#N/A"}]
[null,16,null,"16.13",{"$f":"IFERROR(_xlfn.XLOOKUP(_xlfn.XLOOKUP(D144,FORM2.3!C149:C318,FORM2.3!I149:I318),'TABELAS AUXILIARES'!$E$8:$E$13,'TABELAS AUXILIARES'!$F$8:$F$13),\"Por favor, preencha o campo\")","v":"Por favor, preencha o campo"},null,null,null,null,null,{"$f":"_xlfn.XLOOKUP(D144, FORM3GERAL!$C$7:$C$11418,FORM3GERAL!$P$7:$P$11418)","v":{"$error":"#N/A"}},{"$f":"_xlfn.XLOOKUP(D144, FORM3GERAL!$C$7:$C$11418,FORM3GERAL!$L$7:$L$11418)","v":{"$error":"#N/A"}},{"$error":"#N/A"}]
[null,16,null,"16.14",{"$f":"IFERROR(_xlfn.XLOOKUP(_xlfn.XLOOKUP(D145,FORM2.3!C150:C319,FORM2.3!I150:I319),'TABELAS AUXILIARES'!$E$8:$E$13,'TABELAS AUXILIARES'!$F$8:$F$13),\"Por favor, preencha o campo\")","v":"Por favor, preencha o campo"},null,null,null,null,null,{"$f":"_xlfn.XLOOKUP(D145, FORM3GERAL!$C$7:$C$11418,FORM3GERAL!$P$7:$P$11418)","v":{"$error":"#N/A"}},{"$f":"_xlfn.XLOOKUP(D145, FORM3GERAL!$C$7:$C$11418,FORM3GERAL!$L$7:$L$11418)","v":{"$error":"#N/A"}},{"$error":"#N/A"}]
[null,17,{"$f":"FORM2.3!K166","v":"Selecione sua Resposta"},"17.1",{"$f":"IFERROR(_xlfn.XLOOKUP(_xlfn.XLOOKUP(D146,FORM2.3!C151:C320,FORM2.3!I151:I320),'TABELAS AUXILIARES'!$E$8:$E$13,'TABELAS AUXILIARES'!$F$8:$F$13),\"Por favor, preencha o campo\")","v":"Por favor, preencha o campo"},{"$f":"IF(COUNTIF(E146:E154,\"Por favor, preencha o campo\")>0, \"Por favor preencha todas as medidas\",(SUMIF(E146:E154,\">=0\")/(COUNTA(E146:E154)-COUNTIF(E146:E154,'TABELAS AUXILIARES'!$F$13))/2)*(1+C146*1/5))","v":"Por favor preencha todas as medidas"},null,null,null,null,{"$f":"_xlfn.XLOOKUP(D146, FORM3GERAL!$C$7:$C$11418,FORM3GERAL!$P$7:$P$11418)","v":{"$error":"#N/A"}},{"$f":"_xlfn.XLOOKUP(D146, FORM3GERAL!$C$7:$C$11418,FORM3GERAL!$L$7:$L$11418)","v":{"$error":"#N/A"}},{"$error":"#N/A"}]
[null,17,null,"17.2",{"$f":"IFERROR(_xlfn.XLOOKUP(_xlfn.XLOOKUP(D147,FORM2.3!C152:C321,FORM2.3!I152:I321),'TABELAS AUXILIARES'!$E$8:$E$13,'TABELAS AUXILIARES'!$F$8:$F$13),\"Por favor, preencha o campo\")","v":"Por favor, preencha o campo"},null,null,null,null,null,{"$f":"_xlfn.XLOOKUP(D147, FORM3GERAL!$C$7:$C$11418,FORM3GERAL!$P$7:$P$11418)","v":{"$error":"#N/A"}},{"$f":"_xlfn.XLOOKUP(D147, FORM3GERAL!$C$7:$C$11418,FORM3GERAL!$L$7:$L$11418)","v":{"$error":"#N/A"}},{"$error":"#N/A"}]
[null,17,null,"17.3",{"$f":"IFERROR(_xlfn.XLOOKUP(_xlfn.XLOOKUP(D148,FORM2.3!C153:C322,FORM2.3!I153:I322),'TABELAS AUXILIARES'!$E$8:$E$13,'TABELAS AUXILIARES'!$F$8:$F$13),\"Por favor, preencha o campo\")","v":"Por favor, preencha o campo"},null,null,null,null,null,{"$f":"_xlfn.XLOOKUP(D148, FORM3GERAL!$C$7:$C$11418,FORM3GERAL!$P$7:$P$11418)","v":{"$error":"#N/A"}},{"$f":"_xlfn.XLOOKUP(D148, FORM3GERAL!$C$7:$C$11418,FORM3GERAL!$L$7:$L$11418)","v":{"$error":"#N/A"}},{"$error":"#N/A"}]
[null,17,null,"17.4",{"$f":"IFERROR(_xlfn.XLOOKUP(_xlfn.XLOOKUP(D149,FORM2.3!C154:C323,FORM2.3!I154:I323),'TABELAS AUXILIARES'!$E$8:$E$13,'TABELAS AUXILIARES'!$F$8:$F$13),\"Por favor, preencha o campo\")","v":"Por favor, preencha o campo"},null,null,null,null,null,{"$f":"_xlfn.XLOOKUP(D149, FORM3GERAL!$C$7:$C$11418,FORM3GERAL!$P$7:$P$11418)","v":{"$error":"#N/A"}},{"$f":"_xlfn.XLOOKUP(D149, FORM3GERAL!$C$7:$C$11418,FORM3GERAL!$L$7:$L$11418)","v":{"$error":"#N/A"}},{"$error":"#N/A"}]
[null,17,null,"17.5",{"$f":"IFERROR(_xlfn.XLOOKUP(_xlfn.XLOOKUP(D150,FORM2.3!C155:C324,FORM2.3!I155:I324),'TABELAS AUXILIARES'!$E$8:$E$13,'TABELAS AUXILIARES'!$F$8:$F$13),\"Por favor, preencha o campo\")","v":"Por favor, preencha o campo"},null,null,null,null,null,{"$f":"_xlfn.XLOOKUP(D150, FORM3GERAL!$C$7:$C$11418,FORM3GERAL!$P$7:$P$11418)","v":{"$error":"#N/A"}},{"$f":"_xlfn.XLOOKUP(D150, FORM3GERAL!$C$7:$C$11418,FORM3GERAL!$L$7:$L$11418)","v":{"$error":"#N/A"}},{"$error":"#N/A"}]
[null,17,null,"17.6",{"$f":"IFERROR(_xlfn.XLOOKUP(_xlfn.XLOOKUP(D151,FORM2.3!C156:C325,FORM2.3!I156:I325),'TABELAS AUXILIARES'!$E$8:$E$13,'TABELAS AUXILIARES'!$F$8:$F$13),\"Por favor, preencha o campo\")","v":"Por favor, preencha o campo"},null,null,null,null,null,{"$f":"_xlfn.XLOOKUP(D151, FORM3GERAL!$C$7:$C$11418,FORM3GERAL!$P$7:$P$11418)","v":{"$error":"#N/A"}},{"$f":"_xlfn.XLOOKUP(D151, FORM3GERAL!$C$7:$C$11418,FORM3GERAL!$L$7:$L$11418)","v":{"$error":"#N/A"}},{"$error":"#N/A"}]
[null,17,null,"17.7",{"$f":"IFERROR(_xlfn.XLOOKUP(_xlfn.XLOOKUP(D152,FORM2.3!C157:C326,FORM2.3!I157:I326),'TABELAS AUXILIARES'!$E$8:$E$13,'TABELAS AUXILIARES'!$F$8:$F$13),\"Por favor, preencha o campo\")","v":"Por favor, preencha o campo"},null,null,null,null,null,{"$f":"_xlfn.XLOOKUP(D152, FORM3GERAL!$C$7:$C$11418,FORM3GERAL!$P$7:$P$11418)","v":{"$error":"#N/A"}},{"$f":"_xlfn.XLOOKUP(D152, FORM3GERAL!$C$7:$C$11418,FORM3GERAL!$L$7:$L$11418)","v":{"$error":"#N/A"}},{"$error":"#N/A"}]
[null,17,null,"17.8",{"$f":"IFERROR(_xlfn.XLOOKUP(_xlfn.XLOOKUP(D153,FORM2.3!C158:C327,FORM2.3!I158:I327),'TABELAS AUXILIARES'!$E$8:$E$13,'TABELAS AUXILIARES'!$F$8:$F$13),\"Por favor, preencha o campo\")","v":"Por favor, preencha o campo"},null,null,null,null,null,{"$f":"_xlfn.XLOOKUP(D153, FORM3GERAL!$C$7:$C$11418,FORM3GERAL!$P$7:$P$11418)","v":{"$error":"#N/A"}},{"$f":"_xlfn.XLOOKUP(D153, FORM3GERAL!$C$7:$C$11418,FORM3GERAL!$L$7:$L$11418)","v":{"$error":"#N/A"}},{"$error":"#N/A"}]
[null,17,null,"17.9",{"$f":"IFERROR(_xlfn.XLOOKUP(_xlfn.XLOOKUP(D154,FORM2.3!C159:C328,FORM2.3!I159:I328),'TABELAS AUXILIARES'!$E$8:$E$13,'TABELAS AUXILIARES'!$F$8:$F$13),\"Por favor, preencha o campo\")","v":"Por favor, preencha o campo"},null,null,null,null,null,{"$f":"_xlfn.XLOOKUP(D154, FORM3GERAL!$C$7:$C$11418,FORM3GERAL!$P$7:$P$11418)","v":{"$error":"#N/A"}},{"$f":"_xlfn.XLOOKUP(D154, FORM3GERAL!$C$7:$C$11418,FORM3GERAL!$L$7:$L$11418)","v":{"$error":"#N/A"}},{"$error":"#N/A"}]
[null,18,{"$f":"FORM2.3!K176","v":"Selecione sua Resposta"},"18.1",{"$f":"IFERROR(_xlfn.XLOOKUP(_xlfn.XLOOKUP(D155,FORM2.3!C160:C329,FORM2.3!I160:I329),'TABELAS AUXILIARES'!$E$8:$E$13,'TABELAS AUXILIARES'!$F$8:$F$13),\"Por favor, preencha o campo\")","v":"Por favor, preencha o campo"},{"$f":"IF(COUNTIF(E155:E159,\"Por favor, preencha o campo\")>0, \"Por favor preencha todas as medidas\",(SUMIF(E155:E159,\">=0\")/(COUNTA(E155:E159)-COUNTIF(E155:E159,'TABELAS AUXILIARES'!$F$13))/2)*(1+C155*1/5))","v":"Por favor preencha todas as medidas"},null,null,null,null,{"$f":"_xlfn.XLOOKUP(D155, FORM3GERAL!$C$7:$C$11418,FORM3GERAL!$P$7:$P$11418)","v":{"$error":"#N/A"}},{"$f":"_xlfn.XLOOKUP(D155, FORM3GERAL!$C$7:$C$11418,FORM3GERAL!$L$7:$L$11418)","v":{"$error":"#N/A"}},{"$error":"#N/A"}]
[null,18,null,"18.2",{"$f":"IFERROR(_xlfn.XLOOKUP(_xlfn.XLOOKUP(D156,FORM2.3!C161:C330,FORM2.3!I161:I330),'TABELAS AUXILIARES'!$E$8:$E$13,'TABELAS AUXILIARES'!$F$8:$F$13),\"Por favor, preencha o campo\")","v":"Por favor, preencha o campo"},null,null,null,null,null,{"$f":"_xlfn.XLOOKUP(D156, FORM3GERAL!$C$7:$C$11418,FORM3GERAL!$P$7:$P$11418)","v":{"$error":"#N/A"}},{"$f":"_xlfn.XLOOKUP(D156, FORM3GERAL!$C$7:$C$11418,FORM3GERAL!$L$7:$L$11418)","v":{"$error":"#N/A"}},{"$error":"#N/A"}]
[null,18,null,"18.3",{"$f":"IFERROR(_xlfn.XLOOKUP(_xlfn.XLOOKUP(D157,FORM2.3!C162:C331,FORM2.3!I162:I331),'TABELAS AUXILIARES'!$E$8:$E$13,'TABELAS AUXILIARES'!$F$8:$F$13),\"Por favor, preencha o campo\")","v":"Por favor, preencha o campo"},null,null,null,null,null,{"$f":"_xlfn.XLOOKUP(D157, FORM3GERAL!$C$7:$C$11418,FORM3GERAL!$P$7:$P$11418)","v":{"$error":"#N/A"}},{"$f":"_xlfn.XLOOKUP(D157, FORM3GERAL!$C$7:$C$11418,FORM3GERAL!$L$7:$L$11418)","v":{"$error":"#N/A"}},{"$error":"#N/A"}]
[null,18,null,"18.4",{"$f":"IFERROR(_xlfn.XLOOKUP(_xlfn.XLOOKUP(D158,FORM2.3!C163:C332,FORM2.3!I163:I332),'TABELAS AUXILIARES'!$E$8:$E$13,'TABELAS AUXILIARES'!$F$8:$F$13),\"Por favor, preencha o campo\")","v":"Por favor, preencha o campo"},null,null,null,null,null,{"$f":"_xlfn.XLOOKUP(D158, FORM3GERAL!$C$7:$C$11418,FORM3GERAL!$P$7:$P$11418)","v":{"$error":"#N/A"}},{"$f":"_xlfn.XLOOKUP(D158, FORM3GERAL!$C$7:$C$11418,FORM3GERAL!$L$7:$L$11418)","v":{"$error":"#N/A"}},{"$error":"#N/A"}]
[null,18,null,"18.5",{"$f":"IFERROR(_xlfn.XLOOKUP(_xlfn.XLOOKUP(D159,FORM2.3!C164:C333,FORM2.3!I164:I333),'TABELAS AUXILIARES'!$E$8:$E$13,'TABELAS AUXILIARES'!$F$8:$F$13),\"Por favor, preencha o campo\")","v":"Por favor, preencha o campo"},null,null,null,null,null,{"$f":"_xlfn.XLOOKUP(D159, FORM3GERAL!$C$7:$C$11418,FORM3GERAL!$P$7:$P$11418)","v":{"$error":"#N/A"}},{"$f":"_xlfn.XLOOKUP(D159, FORM3GERAL!$C$7:$C$11418,FORM3GERAL!$L$7:$L$11418)","v":{"$error":"#N/A"}},{"$error":"#N/A"}]

{"sheet":"LOGICA_IPRIV","index":19,"n_rows":152,"n_cols":10,"rows_kept":152,"cut":false,"hidden":true,"merged":[[3,1,3,2]]}
[]
[]
[null,null,null,null,null,"QTD MEDIDAS",{"$f":"COUNTA(D7:D169)","v":146}]
[null,"Importante: LÓGICA do indicador iPriv - Privacidade",null,null,null,"Número de Respostas Pendentes para Obtenção de Maturidade de Privacidade:",{"$f":"COUNTIF(FORM2.4!$F$10:EG$183,\"Selecione a Resposta\")","v":150}]
[]
[null,"ID Controle","INCC","ID medida","Resposta","Maturidade Controle","Maturidade Privacidade","Quantidade Planos de Ação Prioritários","Quantidade Planos de Ação Finalizados","Planos de Ação Prioritários Concluídos"]
[null,19,{"$f":"FORM2.4!H9","v":"Selecione sua Resposta"},"19.1",{"$f":"_xlfn.XLOOKUP(_xlfn.XLOOKUP(D7,FORM2.4!$B$10:$B$179,FORM2.4!$F$10:$F$179),'TABELAS AUXILIARES'!$E$8:$E$13,'TABELAS AUXILIARES'!$F$8:$F$13)","v":{"$error":"#N/A"}},{"$f":"IFERROR(IF(COUNTIF(E7:E20,\"Preencha o campo\")>0, \"Por favor preencha todas as medidas\",(SUMIF(E7:E20,\">=0\")/(COUNTA(E7:E20)-COUNTIF(E7:E20,'TABELAS AUXILIARES'!$F$13))/2)*(1+C7*1/5)), \"Preencha todos os campos\")","v":"Por favor preencha todas as medidas"},{"$f":"IFERROR(((LOGICA_CONTROLE_0!E4*4) + SUM(F7:F152))/17, \"Por favor preencha todos os campos\")","v":"Por favor preencha todos os campos"},{"$f":"_xlfn.XLOOKUP(D7, FORM3GERAL!$C$7:$C$11418,FORM3GERAL!$P$7:$P$11418)","v":{"$error":"#N/A"}},{"$f":"_xlfn.XLOOKUP(D7, FORM3GERAL!$C$7:$C$11418,FORM3GERAL!$L$7:$L$11418)","v":{"$error":"#N/A"}},{"$f":"IF(H7=1,IF(I7=\"Concluído\",1,0),0)","v":{"$error":"#N/A"}}]
[null,19,null,"19.2",{"$f":"IFERROR(_xlfn.XLOOKUP(_xlfn.XLOOKUP(D8,FORM2.4!$B$10:$B$179,FORM2.4!$F$10:$F$179),'TABELAS AUXILIARES'!$E$8:$E$13,'TABELAS AUXILIARES'!$F$8:$F$13), \"Preencha o campo\")","v":"Preencha o campo"},null,null,{"$f":"_xlfn.XLOOKUP(D8, FORM3GERAL!$C$7:$C$11418,FORM3GERAL!$P$7:$P$11418)","v":{"$error":"#N/A"}},{"$f":"_xlfn.XLOOKUP(D8, FORM3GERAL!$C$7:$C$11418,FORM3GERAL!$L$7:$L$11418)","v":{"$error":"#N/A"}},{"$f":"IF(H8=1,IF(I8=\"Concluído\",1,0),0)","v":{"$error":"#N/A"}}]
[null,19,null,"19.3",{"$f":"IFERROR(_xlfn.XLOOKUP(_xlfn.XLOOKUP(D9,FORM2.4!$B$10:$B$179,FORM2.4!$F$10:$F$179),'TABELAS AUXILIARES'!$E$8:$E$13,'TABELAS AUXILIARES'!$F$8:$F$13), \"Preencha o campo\")","v":"Preencha o campo"},null,null,{"$f":"_xlfn.XLOOKUP(D9, FORM3GERAL!$C$7:$C$11418,FORM3GERAL!$P$7:$P$11418)","v":{"$error":"#N/A"}},{"$f":"_xlfn.XLOOKUP(D9, FORM3GERAL!$C$7:$C$11418,FORM3GERAL!$L$7:$L$11418)","v":{"$error":"#N/A"}},{"$error":"#N/A"}]
[null,19,null,"19.4",{"$f":"IFERROR(_xlfn.XLOOKUP(_xlfn.XLOOKUP(D10,FORM2.4!$B$10:$B$179,FORM2.4!$F$10:$F$179),'TABELAS AUXILIARES'!$E$8:$E$13,'TABELAS AUXILIARES'!$F$8:$F$13), \"Preencha o campo\")","v":"Preencha o campo"},null,null,{"$f":"_xlfn.XLOOKUP(D10, FORM3GERAL!$C$7:$C$11418,FORM3GERAL!$P$7:$P$11418)","v":{"$error":"#N/A"}},{"$f":"_xlfn.XLOOKUP(D10, FORM3GERAL!$C$7:$C$11418,FORM3GERAL!$L$7:$L$11418)","v":{"$error":"#N/A"}},{"$error":"#N/A"}]
[null,19,null,"19.5",{"$f":"IFERROR(_xlfn.XLOOKUP(_xlfn.XLOOKUP(D11,FORM2.4!$B$10:$B$179,FORM2.4!$F$10:$F$179),'TABELAS AUXILIARES'!$E$8:$E$13,'TABELAS AUXILIARES'!$F$8:$F$13), \"Preencha o campo\")","v":"Preencha o campo"},null,null,{"$f":"_xlfn.XLOOKUP(D11, FORM3GERAL!$C$7:$C$11418,FORM3GERAL!$P$7:$P$11418)","v":{"$error":"#N/A"}},{"$f":"_xlfn.XLOOKUP(D11, FORM3GERAL!$C$7:$C$11418,FORM3GERAL!$L$7:$L$11418)","v":{"$error":"#N/A"}},{"$error":"#N/A"}]
[null,19,null,"19.6",{"$f":"IFERROR(_xlfn.XLOOKUP(_xlfn.XLOOKUP(D12,FORM2.4!$B$10:$B$179,FORM2.4!$F$10:$F$179),'TABELAS AUXILIARES'!$E$8:$E$13,'TABELAS AUXILIARES'!$F$8:$F$13), \"Preencha o campo\")","v":"Preencha o campo"},null,null,{"$f":"_xlfn.XLOOKUP(D12, FORM3GERAL!$C$7:$C$11418,FORM3GERAL!$P$7:$P$11418)","v":{"$error":"#N/A"}},{"$f":"_xlfn.XLOOKUP(D12, FORM3GERAL!$C$7:$C$11418,FORM3GERAL!$L$7:$L$11418)","v":{"$error":"#N/A"}},{"$error":"#N/A"}]
[null,19,null,"19.7",{"$f":"IFERROR(_xlfn.XLOOKUP(_xlfn.XLOOKUP(D13,FORM2.4!$B$10:$B$179,FORM2.4!$F$10:$F$179),'TABELAS AUXILIARES'!$E$8:$E$13,'TABELAS AUXILIARES'!$F$8:$F$13), \"Preencha o campo\")","v":"Preencha o campo"},null,null,{"$f":"_xlfn.XLOOKUP(D13, FORM3GERAL!$C$7:$C$11418,FORM3GERAL!$P$7:$P$11418)","v":{"$error":"#N/A"}},{"$f":"_xlfn.XLOOKUP(D13, FORM3GERAL!$C$7:$C$11418,FORM3GERAL!$L$7:$L$11418)","v":{"$error":"#N/A"}},{"$error":"#N/A"}]
[null,19,null,"19.8",{"$f":"IFERROR(_xlfn.XLOOKUP(_xlfn.XLOOKUP(D14,FORM2.4!$B$10:$B$179,FORM2.4!$F$10:$F$179),'TABELAS AUXILIARES'!$E$8:$E$13,'TABELAS AUXILIARES'!$F$8:$F$13), \"Preencha o campo\")","v":"Preencha o campo"},null,null,{"$f":"_xlfn.XLOOKUP(D14, FORM3GERAL!$C$7:$C$11418,FORM3GERAL!$P$7:$P$11418)","v":{"$error":"#N/A"}},{"$f":"_xlfn.XLOOKUP(D14, FORM3GERAL!$C$7:$C$11418,FORM3GERAL!$L$7:$L$11418)","v":{"$error":"#N/A"}},{"$error":"#N/A"}]
[null,19,null,"19.9",{"$f":"IFERROR(_xlfn.XLOOKUP(_xlfn.XLOOKUP(D15,FORM2.4!$B$10:$B$179,FORM2.4!$F$10:$F$179),'TABELAS AUXILIARES'!$E$8:$E$13,'TABELAS AUXILIARES'!$F$8:$F$13), \"Preencha o campo\")","v":"Preencha o campo"},null,null,{"$f":"_xlfn.XLOOKUP(D15, FORM3GERAL!$C$7:$C$11418,FORM3GERAL!$P$7:$P$11418)","v":{"$error":"#N/A"}},{"$f":"_xlfn.XLOOKUP(D15, FORM3GERAL!$C$7:$C$11418,FORM3GERAL!$L$7:$L$11418)","v":{"$error":"#N/A"}},{"$error":"#N/A"}]
[null,19,null,"19.10",{"$f":"IFERROR(_xlfn.XLOOKUP(_xlfn.XLOOKUP(D16,FORM2.4!$B$10:$B$179,FORM2.4!$F$10:$F$179),'TABELAS AUXILIARES'!$E$8:$E$13,'TABELAS AUXILIARES'!$F$8:$F$13), \"Preencha o campo\")","v":"Preencha o campo"},null,null,{"$f":"_xlfn.XLOOKUP(D16, FORM3GERAL!$C$7:$C$11418,FORM3GERAL!$P$7:$P$11418)","v":{"$error":"#N/A"}},{"$f":"_xlfn.XLOOKUP(D16, FORM3GERAL!$C$7:$C$11418,FORM3GERAL!$L$7:$L$11418)","v":{"$error":"#N/A"}},{"$error":"#N/A"}]
[null,19,null,"19.11",{"$f":"IFERROR(_xlfn.XLOOKUP(_xlfn.XLOOKUP(D17,FORM2.4!$B$10:$B$179,FORM2.4!$F$10:$F$179),'TABELAS AUXILIARES'!$E$8:$E$13,'TABELAS AUXILIARES'!$F$8:$F$13), \"Preencha o campo\")","v":"Preencha o campo"},null,null,{"$f":"_xlfn.XLOOKUP(D17, FORM3GERAL!$C$7:$C$11418,FORM3GERAL!$P$7:$P$11418)","v":{"$error":"#N/A"}},{"$f":"_xlfn.XLOOKUP(D17, FORM3GERAL!$C$7:$C$11418,FORM3GERAL!$L$7:$L$11418)","v":{"$error":"#N/A"}},{"$error":"#N/A"}]
[null,19,null,"19.12",{"$f":"IFERROR(_xlfn.XLOOKUP(_xlfn.XLOOKUP(D18,FORM2.4!$B$10:$B$179,FORM2.4!$F$10:$F$179),'TABELAS AUXILIARES'!$E$8:$E$13,'TABELAS AUXILIARES'!$F$8:$F$13), \"Preencha o campo\")","v":"Preencha o campo"},null,null,{"$f":"_xlfn.XLOOKUP(D18, FORM3GERAL!$C$7:$C$11418,FORM3GERAL!$P$7:$P$11418)","v":{"$error":"#N/A"}},{"$f":"_xlfn.XLOOKUP(D18, FORM3GERAL!$C$7:$C$11418,FORM3GERAL!$L$7:$L$11418)","v":{"$error":"#N/A"}},{"$error":"#N/A"}]
[null,19,null,"19.13",{"$f":"IFERROR(_xlfn.XLOOKUP(_xlfn.XLOOKUP(D19,FORM2.4!$B$10:$B$179,FORM2.4!$F$10:$F$179),'TABELAS AUXILIARES'!$E$8:$E$13,'TABELAS AUXILIARES'!$F$8:$F$13), \"Preencha o campo\")","v":"Preencha o campo"},null,null,{"$f":"_xlfn.XLOOKUP(D19, FORM3GERAL!$C$7:$C$11418,FORM3GERAL!$P$7:$P$11418)","v":{"$error":"#N/A"}},{"$f":"_xlfn.XLOOKUP(D19, FORM3GERAL!$C$7:$C$11418,FORM3GERAL!$L$7:$L$11418)","v":{"$error":"#N/A"}},{"$error":"#N/A"}]
[null,19,null,"19.14",{"$f":"IFERROR(_xlfn.XLOOKUP(_xlfn.XLOOKUP(D20,FORM2.4!$B$10:$B$179,FORM2.4!$F$10:$F$179),'TABELAS AUXILIARES'!$E$8:$E$13,'TABELAS AUXILIARES'!$F$8:$F$13), \"Preencha o campo\")","v":"Preencha o campo"},null,null,{"$f":"_xlfn.XLOOKUP(D20, FORM3GERAL!$C$7:$C$11418,FORM3GERAL!$P$7:$P$11418)","v":{"$error":"#N/A"}},{"$f":"_xlfn.XLOOKUP(D20, FORM3GERAL!$C$7:$C$11418,FORM3GERAL!$L$7:$L$11418)","v":{"$error":"#N/A"}},{"$error":"#N/A"}]
[null,20,{"$f":"FORM2.4!H24","v":"Selecione sua Resposta"},"20.1",{"$f":"IFERROR(_xlfn.XLOOKUP(_xlfn.XLOOKUP(D21,FORM2.4!$B$10:$B$179,FORM2.4!$F$10:$F$179),'TABELAS AUXILIARES'!$E$8:$E$13,'TABELAS AUXILIARES'!$F$8:$F$13), \"Preencha o campo\")","v":"Preencha o campo"},{"$f":"IFERROR(IF(COUNTIF(E21:E34,\"Preencha o campo\")>0, \"Por favor preencha todas as medidas\",(SUMIF(E21:E34,\">=0\")/(COUNTA(E21:E34)-COUNTIF(E21:E34,'TABELAS AUXILIARES'!$F$13))/2)*(1+C21*1/5)), \"Preencha todos os campos\")","v":"Por favor preencha todas as medidas"},null,{"$f":"_xlfn.XLOOKUP(D21, FORM3GERAL!$C$7:$C$11418,FORM3GERAL!$P$7:$P$11418)","v":{"$error":"#N/A"}},{"$f":"_xlfn.XLOOKUP(D21, FORM3GERAL!$C$7:$C$11418,FORM3GERAL!$L$7:$L$11418)","v":{"$error":"#N/A"}},{"$error":"#N/A"}]
[null,20,null,"20.2",{"$f":"IFERROR(_xlfn.XLOOKUP(_xlfn.XLOOKUP(D22,FORM2.4!$B$10:$B$179,FORM2.4!$F$10:$F$179),'TABELAS AUXILIARES'!$E$8:$E$13,'TABELAS AUXILIARES'!$F$8:$F$13), \"Preencha o campo\")","v":"Preencha o campo"},null,null,{"$f":"_xlfn.XLOOKUP(D22, FORM3GERAL!$C$7:$C$11418,FORM3GERAL!$P$7:$P$11418)","v":{"$error":"#N/A"}},{"$f":"_xlfn.XLOOKUP(D22, FORM3GERAL!$C$7:$C$11418,FORM3GERAL!$L$7:$L$11418)","v":{"$error":"#N/A"}},{"$error":"#N/A"}]
[null,20,null,"20.3",{"$f":"IFERROR(_xlfn.XLOOKUP(_xlfn.XLOOKUP(D23,FORM2.4!$B$10:$B$179,FORM2.4!$F$10:$F$179),'TABELAS AUXILIARES'!$E$8:$E$13,'TABELAS AUXILIARES'!$F$8:$F$13), \"Preencha o campo\")","v":"Preencha o campo"},null,null,{"$f":"_xlfn.XLOOKUP(D23, FORM3GERAL!$C$7:$C$11418,FORM3GERAL!$P$7:$P$11418)","v":{"$error":"#N/A"}},{"$f":"_xlfn.XLOOKUP(D23, FORM3GERAL!$C$7:$C$11418,FORM3GERAL!$L$7:$L$11418)","v":{"$error":"#N/A"}},{"$error":"#N/A"}]
[null,20,null,"20.4",{"$f":"IFERROR(_xlfn.XLOOKUP(_xlfn.XLOOKUP(D24,FORM2.4!$B$10:$B$179,FORM2.4!$F$10:$F$179),'TABELAS AUXILIARES'!$E$8:$E$13,'TABELAS AUXILIARES'!$F$8:$F$13), \"Preencha o campo\")","v":"Preencha o campo"},null,null,{"$f":"_xlfn.XLOOKUP(D24, FORM3GERAL!$C$7:$C$11418,FORM3GERAL!$P$7:$P$11418)","v":{"$error":"#N/A"}},{"$f":"_xlfn.XLOOKUP(D24, FORM3GERAL!$C$7:$C$11418,FORM3GERAL!$L$7:$L$11418)","v":{"$error":"#N/A"}},{"$error":"#N/A"}]
[null,20,null,"20.5",{"$f":"IFERROR(_xlfn.XLOOKUP(_xlfn.XLOOKUP(D25,FORM2.4!$B$10:$B$179,FORM2.4!$F$10:$F$179),'TABELAS AUXILIARES'!$E$8:$E$13,'TABELAS AUXILIARES'!$F$8:$F$13), \"Preencha o campo\")","v":"Preencha o campo"},null,null,{"$f":"_xlfn.XLOOKUP(D25, FORM3GERAL!$C$7:$C$11418,FORM3GERAL!$P$7:$P$11418)","v":{"$error":"#N/A"}},{"$f":"_xlfn.XLOOKUP(D25, FORM3GERAL!$C$7:$C$11418,FORM3GERAL!$L$7:$L$11418)","v":{"$error":"#N/A"}},{"$error":"#N/A"}]
[null,20,null,"20.6",{"$f":"IFERROR(_xlfn.XLOOKUP(_xlfn.XLOOKUP(D26,FORM2.4!$B$10:$B$179,FORM2.4!$F$10:$F$179),'TABELAS AUXILIARES'!$E$8:$E$13,'TABELAS AUXILIARES'!$F$8:$F$13), \"Preencha o campo\")","v":"Preencha o campo"},null,null,{"$f":"_xlfn.XLOOKUP(D26, FORM3GERAL!$C$7:$C$11418,FORM3GERAL!$P$7:$P$11418)","v":{"$error":"#N/A"}},{"$f":"_xlfn.XLOOKUP(D26, FORM3GERAL!$C$7:$C$11418,FORM3GERAL!$L$7:$L$11418)","v":{"$error":"#N/A"}},{"$error":"#N/A"}]
[null,20,null,"20.7",{"$f":"IFERROR(_xlfn.XLOOKUP(_xlfn.XLOOKUP(D27,FORM2.4!$B$10:$B$179,FORM2.4!$F$10:$F$179),'TABELAS AUXILIARES'!$E$8:$E$13,'TABELAS AUXILIARES'!$F$8:$F$13), \"Preencha o campo\")","v":"Preencha o campo"},null,null,{"$f":"_xlfn.XLOOKUP(D27, FORM3GERAL!$C$7:$C$11418,FORM3GERAL!$P$7:$P$11418)","v":{"$error":"#N/A"}},{"$f":"_xlfn.XLOOKUP(D27, FORM3GERAL!$C$7:$C$11418,FORM3GERAL!$L$7:$L$11418)","v":{"$error":"#N/A"}},{"$error":"#N/A"}]
[null,20,null,"20.8",{"$f":"IFERROR(_xlfn.XLOOKUP(_xlfn.XLOOKUP(D28,FORM2.4!$B$10:$B$179,FORM2.4!$F$10:$F$179),'TABELAS AUXILIARES'!$E$8:$E$13,'TABELAS AUXILIARES'!$F$8:$F$13), \"Preencha o campo\")","v":"Preencha o campo"},null,null,{"$f":"_xlfn.XLOOKUP(D28, FORM3GERAL!$C$7:$C$11418,FORM3GERAL!$P$7:$P$11418)","v":{"$error":"#N/A"}},{"$f":"_xlfn.XLOOKUP(D28, FORM3GERAL!$C$7:$C$11418,FORM3GERAL!$L$7:$L$11418)","v":{"$error":"#N/A"}},{"$error":"#N/A"}]
[null,20,null,"20.9",{"$f":"IFERROR(_xlfn.XLOOKUP(_xlfn.XLOOKUP(D29,FORM2.4!$B$10:$B$179,FORM2.4!$F$10:$F$179),'TABELAS AUXILIARES'!$E$8:$E$13,'TABELAS AUXILIARES'!$F$8:$F$13), \"Preencha o campo\")","v":"Preencha o campo"},null,null,{"$f":"_xlfn.XLOOKUP(D29, FORM3GERAL!$C$7:$C$11418,FORM3GERAL!$P$7:$P$11418)","v":{"$error":"#N/A"}},{"$f":"_xlfn.XLOOKUP(D29, FORM3GERAL!$C$7:$C$11418,FORM3GERAL!$L$7:$L$11418)","v":{"$error":"#N/A"}},{"$error":"#N/A"}]
[null,20,null,"20.10",{"$f":"IFERROR(_xlfn.XLOOKUP(_xlfn.XLOOKUP(D30,FORM2.4!$B$10:$B$179,FORM2.4!$F$10:$F$179),'TABELAS AUXILIARES'!$E$8:$E$13,'TABELAS AUXILIARES'!$F$8:$F$13), \"Preencha o campo\")","v":"Preencha o campo"},null,null,{"$f":"_xlfn.XLOOKUP(D30, FORM3GERAL!$C$7:$C$11418,FORM3GERAL!$P$7:$P$11418)","v":{"$error":"#N/A"}},{"$f":"_xlfn.XLOOKUP(D30, FORM3GERAL!$C$7:$C$11418,FORM3GERAL!$L$7:$L$11418)","v":{"$error":"#N/A"}},{"$error":"#N/A"}]
[null,20,null,"20.11",{"$f":"IFERROR(_xlfn.XLOOKUP(_xlfn.XLOOKUP(D31,FORM2.4!$B$10:$B$179,FORM2.4!$F$10:$F$179),'TABELAS AUXILIARES'!$E$8:$E$13,'TABELAS AUXILIARES'!$F$8:$F$13), \"Preencha o campo\")","v":"Preencha o campo"},null,null,{"$f":"_xlfn.XLOOKUP(D31, FORM3GERAL!$C$7:$C$11418,FORM3GERAL!$P$7:$P$11418)","v":{"$error":"#N/A"}},{"$f":"_xlfn.XLOOKUP(D31, FORM3GERAL!$C$7:$C$11418,FORM3GERAL!$L$7:$L$11418)","v":{"$error":"#N/A"}},{"$error":"#N/A"}]
[null,20,null,"20.12",{"$f":"IFERROR(_xlfn.XLOOKUP(_xlfn.XLOOKUP(D32,FORM2.4!$B$10:$B$179,FORM2.4!$F$10:$F$179),'TABELAS AUXILIARES'!$E$8:$E$13,'TABELAS AUXILIARES'!$F$8:$F$13), \"Preencha o campo\")","v":"Preencha o campo"},null,null,{"$f":"_xlfn.XLOOKUP(D32, FORM3GERAL!$C$7:$C$11418,FORM3GERAL!$P$7:$P$11418)","v":{"$error":"#N/A"}},{"$f":"_xlfn.XLOOKUP(D32, FORM3GERAL!$C$7:$C$11418,FORM3GERAL!$L$7:$L$11418)","v":{"$error":"#N/A"}},{"$error":"#N/A"}]
[null,20,null,"20.13",{"$f":"IFERROR(_xlfn.XLOOKUP(_xlfn.XLOOKUP(D33,FORM2.4!$B$10:$B$179,FORM2.4!$F$10:$F$179),'TABELAS AUXILIARES'!$E$8:$E$13,'TABELAS AUXILIARES'!$F$8:$F$13), \"Preencha o campo\")","v":"Preencha o campo"},null,null,{"$f":"_xlfn.XLOOKUP(D33, FORM3GERAL!$C$7:$C$11418,FORM3GERAL!$P$7:$P$11418)","v":{"$error":"#N/A"}},{"$f":"_xlfn.XLOOKUP(D33, FORM3GERAL!$C$7:$C$11418,FORM3GERAL!$L$7:$L$11418)","v":{"$error":"#N/A"}},{"$error":"#N/A"}]
[null,20,null,"20.14",{"$f":"IFERROR(_xlfn.XLOOKUP(_xlfn.XLOOKUP(D34,FORM2.4!$B$10:$B$179,FORM2.4!$F$10:$F$179),'TABELAS AUXILIARES'!$E$8:$E$13,'TABELAS AUXILIARES'!$F$8:$F$13), \"Preencha o campo\")","v":"Preencha o campo"},null,null,{"$f":"_xlfn.XLOOKUP(D34, FORM3GERAL!$C$7:$C$11418,FORM3GERAL!$P$7:$P$11418)","v":{"$error":"#N/A"}},{"$f":"_xlfn.XLOOKUP(D34, FORM3GERAL!$C$7:$C$11418,FORM3GERAL!$L$7:$L$11418)","v":{"$error":"#N/A"}},{"$error":"#N/A"}]
[null,21,{"$f":"FORM2.4!H39","v":"Selecione sua Resposta"},"21.1",{"$f":"IFERROR(_xlfn.XLOOKUP(_xlfn.XLOOKUP(D35,FORM2.4!$B$10:$B$179,FORM2.4!$F$10:$F$179),'TABELAS AUXILIARES'!$E$8:$E$13,'TABELAS AUXILIARES'!$F$8:$F$13), \"Preencha o campo\")","v":"Preencha o campo"},{"$f":"IFERROR(IF(COUNTIF(E35:E44,\"Preencha o campo\")>0, \"Por favor preencha todas as medidas\",(SUMIF(E35:E44,\">=0\")/(COUNTA(E35:E44)-COUNTIF(E35:E44,'TABELAS AUXILIARES'!$F$13))/2)*(1+C35*1/5)), \"Preencha todos os campos\")","v":"Por favor preencha todas as medidas"},null,{"$f":"_xlfn.XLOOKUP(D35, FORM3GERAL!$C$7:$C$11418,FORM3GERAL!$P$7:$P$11418)","v":{"$error":"#N/A"}},{"$f":"_xlfn.XLOOKUP(D35, FORM3GERAL!$C$7:$C$11418,FORM3GERAL!$L$7:$L$11418)","v":{"$error":"#N/A"}},{"$error":"#N/A"}]
[null,21,null,"21.2",{"$f":"IFERROR(_xlfn.XLOOKUP(_xlfn.XLOOKUP(D36,FORM2.4!$B$10:$B$179,FORM2.4!$F$10:$F$179),'TABELAS AUXILIARES'!$E$8:$E$13,'TABELAS AUXILIARES'!$F$8:$F$13), \"Preencha o campo\")","v":"Preencha o campo"},null,null,{"$f":"_xlfn.XLOOKUP(D36, FORM3GERAL!$C$7:$C$11418,FORM3GERAL!$P$7:$P$11418)","v":{"$error":"#N/A"}},{"$f":"_xlfn.XLOOKUP(D36, FORM3GERAL!$C$7:$C$11418,FORM3GERAL!$L$7:$L$11418)","v":{"$error":"#N/A"}},{"$error":"#N/A"}]
[null,21,null,"21.3",{"$f":"IFERROR(_xlfn.XLOOKUP(_xlfn.XLOOKUP(D37,FORM2.4!$B$10:$B$179,FORM2.4!$F$10:$F$179),'TABELAS AUXILIARES'!$E$8:$E$13,'TABELAS AUXILIARES'!$F$8:$F$13), \"Preencha o campo\")","v":"Preencha o campo"},null,null,{"$f":"_xlfn.XLOOKUP(D37, FORM3GERAL!$C$7:$C$11418,FORM3GERAL!$P$7:$P$11418)","v":{"$error":"#N/A"}},{"$f":"_xlfn.XLOOKUP(D37, FORM3GERAL!$C$7:$C$11418,FORM3GERAL!$L$7:$L$11418)","v":{"$error":"#N/A"}},{"$error":"#N/A"}]
[null,21,null,"21.4",{"$f":"IFERROR(_xlfn.XLOOKUP(_xlfn.XLOOKUP(D38,FORM2.4!$B$10:$B$179,FORM2.4!$F$10:$F$179),'TABELAS AUXILIARES'!$E$8:$E$13,'TABELAS AUXILIARES'!$F$8:$F$13), \"Preencha o campo\")","v":"Preencha o campo"},null,null,{"$f":"_xlfn.XLOOKUP(D38, FORM3GERAL!$C$7:$C$11418,FORM3GERAL!$P$7:$P$11418)","v":{"$error":"#N/A"}},{"$f":"_xlfn.XLOOKUP(D38, FORM3GERAL!$C$7:$C$11418,FORM3GERAL!$L$7:$L$11418)","v":{"$error":"#N/A"}},{"$error":"#N/A"}]
[null,21,null,"21.5",{"$f":"IFERROR(_xlfn.XLOOKUP(_xlfn.XLOOKUP(D39,FORM2.4!$B$10:$B$179,FORM2.4!$F$10:$F$179),'TABELAS AUXILIARES'!$E$8:$E$13,'TABELAS AUXILIARES'!$F$8:$F$13), \"Preencha o campo\")","v":"Preencha o campo"},null,null,{"$f":"_xlfn.XLOOKUP(D39, FORM3GERAL!$C$7:$C$11418,FORM3GERAL!$P$7:$P$11418)","v":{"$error":"#N/A"}},{"$f":"_xlfn.XLOOKUP(D39, FORM3GERAL!$C$7:$C$11418,FORM3GERAL!$L$7:$L$11418)","v":{"$error":"#N/A"}},{"$error":"#N/A"}]
[null,21,null,"21.6",{"$f":"IFERROR(_xlfn.XLOOKUP(_xlfn.XLOOKUP(D40,FORM2.4!$B$10:$B$179,FORM2.4!$F$10:$F$179),'TABELAS AUXILIARES'!$E$8:$E$13,'TABELAS AUXILIARES'!$F$8:$F$13), \"Preencha o campo\")","v":"Preencha o campo"},null,null,{"$f":"_xlfn.XLOOKUP(D40, FORM3GERAL!$C$7:$C$11418,FORM3GERAL!$P$7:$P$11418)","v":{"$error":"#N/A"}},{"$f":"_xlfn.XLOOKUP(D40, FORM3GERAL!$C$7:$C$11418,FORM3GERAL!$L$7:$L$11418)","v":{"$error":"#N/A"}},{"$error":"#N/A"}]
[null,21,null,"21.7",{"$f":"IFERROR(_xlfn.XLOOKUP(_xlfn.XLOOKUP(D41,FORM2.4!$B$10:$B$179,FORM2.4!$F$10:$F$179),'TABELAS AUXILIARES'!$E$8:$E$13,'TABELAS AUXILIARES'!$F$8:$F$13), \"Preencha o campo\")","v":"Preencha o campo"},null,null,{"$f":"_xlfn.XLOOKUP(D41, FORM3GERAL!$C$7:$C$11418,FORM3GERAL!$P$7:$P$11418)","v":{"$error":"#N/A"}},{"$f":"_xlfn.XLOOKUP(D41, FORM3GERAL!$C$7:$C$11418,FORM3GERAL!$L$7:$L$11418)","v":{"$error":"#N/A"}},{"$error":"#N/A"}]
[null,21,null,"21.8",{"$f":"IFERROR(_xlfn.XLOOKUP(_xlfn.XLOOKUP(D42,FORM2.4!$B$10:$B$179,FORM2.4!$F$10:$F$179),'TABELAS AUXILIARES'!$E$8:$E$13,'TABELAS AUXILIARES'!$F$8:$F$13), \"Preencha o campo\")","v":"Preencha o campo"},null,null,{"$f":"_xlfn.XLOOKUP(D42, FORM3GERAL!$C$7:$C$11418,FORM3GERAL!$P$7:$P$11418)","v":{"$error":"#N/A"}},{"$f":"_xlfn.XLOOKUP(D42, FORM3GERAL!$C$7:$C$11418,FORM3GERAL!$L$7:$L$11418)","v":{"$error":"#N/A"}},{"$error":"#N/A"}]
[null,21,null,"21.9",{"$f":"IFERROR(_xlfn.XLOOKUP(_xlfn.XLOOKUP(D43,FORM2.4!$B$10:$B$179,FORM2.4!$F$10:$F$179),'TABELAS AUXILIARES'!$E$8:$E$13,'TABELAS AUXILIARES'!$F$8:$F$13), \"Preencha o campo\")","v":"Preencha o campo"},null,null,{"$f":"_xlfn.XLOOKUP(D43, FORM3GERAL!$C$7:$C$11418,FORM3GERAL!$P$7:$P$11418)","v":{"$error":"#N/A"}},{"$f":"_xlfn.XLOOKUP(D43, FORM3GERAL!$C$7:$C$11418,FORM3GERAL!$L$7:$L$11418)","v":{"$error":"#N/A"}},{"$error":"#N/A"}]
[null,21,null,"21.10",{"$f":"IFERROR(_xlfn.XLOOKUP(_xlfn.XLOOKUP(D44,FORM2.4!$B$10:$B$179,FORM2.4!$F$10:$F$179),'TABELAS AUXILIARES'!$E$8:$E$13,'TABELAS AUXILIARES'!$F$8:$F$13), \"Preencha o campo\")","v":"Preencha o campo"},null,null,{"$f":"_xlfn.XLOOKUP(D44, FORM3GERAL!$C$7:$C$11418,FORM3GERAL!$P$7:$P$11418)","v":{"$error":"#N/A"}},{"$f":"_xlfn.XLOOKUP(D44, FORM3GERAL!$C$7:$C$11418,FORM3GERAL!$L$7:$L$11418)","v":{"$error":"#N/A"}},{"$error":"#N/A"}]
[null,22,{"$f":"FORM2.4!H50","v":"Selecione sua Resposta"},"22.1",{"$f":"IFERROR(_xlfn.XLOOKUP(_xlfn.XLOOKUP(D45,FORM2.4!$B$10:$B$179,FORM2.4!$F$10:$F$179),'TABELAS AUXILIARES'!$E$8:$E$13,'TABELAS AUXILIARES'!$F$8:$F$13), \"Preencha o campo\")","v":"Preencha o campo"},{"$f":"IFERROR(IF(COUNTIF(E45:E56,\"Preencha o campo\")>0, \"Por favor preencha todas as medidas\",(SUMIF(E45:E56,\">=0\")/(COUNTA(E45:E56)-COUNTIF(E45:E56,'TABELAS AUXILIARES'!$F$13))/2)*(1+C45*1/5)), \"Preencha todos os campos\")","v":"Por favor preencha todas as medidas"},null,{"$f":"_xlfn.XLOOKUP(D45, FORM3GERAL!$C$7:$C$11418,FORM3GERAL!$P$7:$P$11418)","v":{"$error":"#N/A"}},{"$f":"_xlfn.XLOOKUP(D45, FORM3GERAL!$C$7:$C$11418,FORM3GERAL!$L$7:$L$11418)","v":{"$error":"#N/A"}},{"$error":"#N/A"}]
[null,22,null,"22.2",{"$f":"IFERROR(_xlfn.XLOOKUP(_xlfn.XLOOKUP(D46,FORM2.4!$B$10:$B$179,FORM2.4!$F$10:$F$179),'TABELAS AUXILIARES'!$E$8:$E$13,'TABELAS AUXILIARES'!$F$8:$F$13), \"Preencha o campo\")","v":"Preencha o campo"},null,null,{"$f":"_xlfn.XLOOKUP(D46, FORM3GERAL!$C$7:$C$11418,FORM3GERAL!$P$7:$P$11418)","v":{"$error":"#N/A"}},{"$f":"_xlfn.XLOOKUP(D46, FORM3GERAL!$C$7:$C$11418,FORM3GERAL!$L$7:$L$11418)","v":{"$error":"#N/A"}},{"$error":"#N/A"}]
[null,22,null,"22.3",{"$f":"IFERROR(_xlfn.XLOOKUP(_xlfn.XLOOKUP(D47,FORM2.4!$B$10:$B$179,FORM2.4!$F$10:$F$179),'TABELAS AUXILIARES'!$E$8:$E$13,'TABELAS AUXILIARES'!$F$8:$F$13), \"Preencha o campo\")","v":"Preencha o campo"},null,null,{"$f":"_xlfn.XLOOKUP(D47, FORM3GERAL!$C$7:$C$11418,FORM3GERAL!$P$7:$P$11418)","v":{"$error":"#N/A"}},{"$f":"_xlfn.XLOOKUP(D47, FORM3GERAL!$C$7:$C$11418,FORM3GERAL!$L$7:$L$11418)","v":{"$error":"#N/A"}},{"$error":"#N/A"}]
[null,22,null,"22.4",{"$f":"IFERROR(_xlfn.XLOOKUP(_xlfn.XLOOKUP(D48,FORM2.4!$B$10:$B$179,FORM2.4!$F$10:$F$179),'TABELAS AUXILIARES'!$E$8:$E$13,'TABELAS AUXILIARES'!$F$8:$F$13), \"Preencha o campo\")","v":"Preencha o campo"},null,null,{"$f":"_xlfn.XLOOKUP(D48, FORM3GERAL!$C$7:$C$11418,FORM3GERAL!$P$7:$P$11418)","v":{"$error":"#N/A"}},{"$f":"_xlfn.XLOOKUP(D48, FORM3GERAL!$C$7:$C$11418,FORM3GERAL!$L$7:$L$11418)","v":{"$error":"#N/A"}},{"$error":"#N/A"}]
[null,22,null,"22.5",{"$f":"IFERROR(_xlfn.XLOOKUP(_xlfn.XLOOKUP(D49,FORM2.4!$B$10:$B$179,FORM2.4!$F$10:$F$179),'TABELAS AUXILIARES'!$E$8:$E$13,'TABELAS AUXILIARES'!$F$8:$F$13), \"Preencha o campo\")","v":"Preencha o campo"},null,null,{"$f":"_xlfn.XLOOKUP(D49, FORM3GERAL!$C$7:$C$11418,FORM3GERAL!$P$7:$P$11418)","v":{"$error":"#N/A"}},{"$f":"_xlfn.XLOOKUP(D49, FORM3GERAL!$C$7:$C$11418,FORM3GERAL!$L$7:$L$11418)","v":{"$error":"#N/A"}},{"$error":"#N/A"}]
[null,22,null,"22.6",{"$f":"IFERROR(_xlfn.XLOOKUP(_xlfn.XLOOKUP(D50,FORM2.4!$B$10:$B$179,FORM2.4!$F$10:$F$179),'TABELAS AUXILIARES'!$E$8:$E$13,'TABELAS AUXILIARES'!$F$8:$F$13), \"Preencha o campo\")","v":"Preencha o campo"},null,null,{"$f":"_xlfn.XLOOKUP(D50, FORM3GERAL!$C$7:$C$11418,FORM3GERAL!$P$7:$P$11418)","v":{"$error":"#N/A"}},{"$f":"_xlfn.XLOOKUP(D50, FORM3GERAL!$C$7:$C$11418,FORM3GERAL!$L$7:$L$11418)","v":{"$error":"#N/A"}},{"$error":"#N/A"}]
[null,22,null,"22.7",{"$f":"IFERROR(_xlfn.XLOOKUP(_xlfn.XLOOKUP(D51,FORM2.4!$B$10:$B$179,FORM2.4!$F$10:$F$179),'TABELAS AUXILIARES'!$E$8:$E$13,'TABELAS AUXILIARES'!$F$8:$F$13), \"Preencha o campo\")","v":"Preencha o campo"},null,null,{"$f":"_xlfn.XLOOKUP(D51, FORM3GERAL!$C$7:$C$11418,FORM3GERAL!$P$7:$P$11418)","v":{"$error":"#N/A"}},{"$f":"_xlfn.XLOOKUP(D51, FORM3GERAL!$C$7:$C$11418,FORM3GERAL!$L$7:$L$11418)","v":{"$error":"#N/A"}},{"$error":"#N/A"}]
[null,22,null,"22.8",{"$f":"IFERROR(_xlfn.XLOOKUP(_xlfn.XLOOKUP(D52,FORM2.4!$B$10:$B$179,FORM2.4!$F$10:$F$179),'TABELAS AUXILIARES'!$E$8:$E$13,'TABELAS AUXILIARES'!$F$8:$F$13), \"Preencha o campo\")","v":"Preencha o campo"},null,null,{"$f":"_xlfn.XLOOKUP(D52, FORM3GERAL!$C$7:$C$11418,FORM3GERAL!$P$7:$P$11418)","v":{"$error":"#N/A"}},{"$f":"_xlfn.XLOOKUP(D52, FORM3GERAL!$C$7:$C$11418,FORM3GERAL!$L$7:$L$11418)","v":{"$error":"#N/A"}},{"$error":"#N/A"}]
[null,22,null,"22.9",{"$f":"IFERROR(_xlfn.XLOOKUP(_xlfn.XLOOKUP(D53,FORM2.4!$B$10:$B$179,FORM2.4!$F$10:$F$179),'TABELAS AUXILIARES'!$E$8:$E$13,'TABELAS AUXILIARES'!$F$8:$F$13), \"Preencha o campo\")","v":"Preencha o campo"},null,null,{"$f":"_xlfn.XLOOKUP(D53, FORM3GERAL!$C$7:$C$11418,FORM3GERAL!$P$7:$P$11418)","v":{"$error":"#N/A"}},{"$f":"_xlfn.XLOOKUP(D53, FORM3GERAL!$C$7:$C$11418,FORM3GERAL!$L$7:$L$11418)","v":{"$error":"#N/A"}},{"$error":"#N/A"}]
[null,22,null,"22.10",{"$f":"IFERROR(_xlfn.XLOOKUP(_xlfn.XLOOKUP(D54,FORM2.4!$B$10:$B$179,FORM2.4!$F$10:$F$179),'TABELAS AUXILIARES'!$E$8:$E$13,'TABELAS AUXILIARES'!$F$8:$F$13), \"Preencha o campo\")","v":"Preencha o campo"},null,null,{"$f":"_xlfn.XLOOKUP(D54, FORM3GERAL!$C$7:$C$11418,FORM3GERAL!$P$7:$P$11418)","v":{"$error":"#N/A"}},{"$f":"_xlfn.XLOOKUP(D54, FORM3GERAL!$C$7:$C$11418,FORM3GERAL!$L$7:$L$11418)","v":{"$error":"#N/A"}},{"$error":"#N/A"}]
[null,22,null,"22.11",{"$f":"IFERROR(_xlfn.XLOOKUP(_xlfn.XLOOKUP(D55,FORM2.4!$B$10:$B$179,FORM2.4!$F$10:$F$179),'TABELAS AUXILIARES'!$E$8:$E$13,'TABELAS AUXILIARES'!$F$8:$F$13), \"Preencha o campo\")","v":"Preencha o campo"},null,null,{"$f":"_xlfn.XLOOKUP(D55, FORM3GERAL!$C$7:$C$11418,FORM3GERAL!$P$7:$P$11418)","v":{"$error":"#N/A"}},{"$f":"_xlfn.XLOOKUP(D55, FORM3GERAL!$C$7:$C$11418,FORM3GERAL!$L$7:$L$11418)","v":{"$error":"#N/A"}},{"$error":"#N/A"}]
[null,22,null,"22.12",{"$f":"IFERROR(_xlfn.XLOOKUP(_xlfn.XLOOKUP(D56,FORM2.4!$B$10:$B$179,FORM2.4!$F$10:$F$179),'TABELAS AUXILIARES'!$E$8:$E$13,'TABELAS AUXILIARES'!$F$8:$F$13), \"Preencha o campo\")","v":"Preencha o campo"},null,null,{"$f":"_xlfn.XLOOKUP(D56, FORM3GERAL!$C$7:$C$11418,FORM3GERAL!$P$7:$P$11418)","v":{"$error":"#N/A"}},{"$f":"_xlfn.XLOOKUP(D56, FORM3GERAL!$C$7:$C$11418,FORM3GERAL!$L$7:$L$11418)","v":{"$error":"#N/A"}},{"$error":"#N/A"}]
[null,23,{"$f":"FORM2.4!H63","v":"Selecione sua Resposta"},"23.1",{"$f":"IFERROR(_xlfn.XLOOKUP(_xlfn.XLOOKUP(D57,FORM2.4!$B$10:$B$179,FORM2.4!$F$10:$F$179),'TABELAS AUXILIARES'!$E$8:$E$13,'TABELAS AUXILIARES'!$F$8:$F$13), \"Preencha o campo\")","v":"Preencha o campo"},{"$f":"IFERROR(IF(COUNTIF(E57:E60,\"Preencha o campo\")>0, \"Por favor preencha todas as medidas\",(SUMIF(E57:E60,\">=0\")/(COUNTA(E57:E60)-COUNTIF(E57:E60,'TABELAS AUXILIARES'!$F$13))/2)*(1+C57*1/5)), \"Preencha todos os campos\")","v":"Por favor preencha todas as medidas"},null,{"$f":"_xlfn.XLOOKUP(D57, FORM3GERAL!$C$7:$C$11418,FORM3GERAL!$P$7:$P$11418)","v":{"$error":"#N/A"}},{"$f":"_xlfn.XLOOKUP(D57, FORM3GERAL!$C$7:$C$11418,FORM3GERAL!$L$7:$L$11418)","v":{"$error":"#N/A"}},{"$error":"#N/A"}]
[null,23,null,"23.2",{"$f":"IFERROR(_xlfn.XLOOKUP(_xlfn.XLOOKUP(D58,FORM2.4!$B$10:$B$179,FORM2.4!$F$10:$F$179),'TABELAS AUXILIARES'!$E$8:$E$13,'TABELAS AUXILIARES'!$F$8:$F$13), \"Preencha o campo\")","v":"Preencha o campo"},null,null,{"$f":"_xlfn.XLOOKUP(D58, FORM3GERAL!$C$7:$C$11418,FORM3GERAL!$P$7:$P$11418)","v":{"$error":"#N/A"}},{"$f":"_xlfn.XLOOKUP(D58, FORM3GERAL!$C$7:$C$11418,FORM3GERAL!$L$7:$L$11418)","v":{"$error":"#N/A"}},{"$error":"#N/A"}]
[null,23,null,"23.3",{"$f":"IFERROR(_xlfn.XLOOKUP(_xlfn.XLOOKUP(D59,FORM2.4!$B$10:$B$179,FORM2.4!$F$10:$F$179),'TABELAS AUXILIARES'!$E$8:$E$13,'TABELAS AUXILIARES'!$F$8:$F$13), \"Preencha o campo\")","v":"Preencha o campo"},null,null,{"$f":"_xlfn.XLOOKUP(D59, FORM3GERAL!$C$7:$C$11418,FORM3GERAL!$P$7:$P$11418)","v":{"$error":"#N/A"}},{"$f":"_xlfn.XLOOKUP(D59, FORM3GERAL!$C$7:$C$11418,FORM3GERAL!$L$7:$L$11418)","v":{"$error":"#N/A"}},{"$error":"#N/A"}]
[null,23,null,"23.4",{"$f":"IFERROR(_xlfn.XLOOKUP(_xlfn.XLOOKUP(D60,FORM2.4!$B$10:$B$179,FORM2.4!$F$10:$F$179),'TABELAS AUXILIARES'!$E$8:$E$13,'TABELAS AUXILIARES'!$F$8:$F$13), \"Preencha o campo\")","v":"Preencha o campo"},null,null,{"$f":"_xlfn.XLOOKUP(D60, FORM3GERAL!$C$7:$C$11418,FORM3GERAL!$P$7:$P$11418)","v":{"$error":"#N/A"}},{"$f":"_xlfn.XLOOKUP(D60, FORM3GERAL!$C$7:$C$11418,FORM3GERAL!$L$7:$L$11418)","v":{"$error":"#N/A"}},{"$error":"#N/A"}]
[null,24,{"$f":"FORM2.4!H68","v":"Selecione sua Resposta"},"24.1",{"$f":"IFERROR(_xlfn.XLOOKUP(_xlfn.XLOOKUP(D61,FORM2.4!$B$10:$B$179,FORM2.4!$F$10:$F$179),'TABELAS AUXILIARES'!$E$8:$E$13,'TABELAS AUXILIARES'!$F$8:$F$13), \"Preencha o campo\")","v":"Preencha o campo"},{"$f":"IFERROR(IF(COUNTIF(E61:E75,\"Preencha o campo\")>0, \"Por favor preencha todas as medidas\",(SUMIF(E61:E75,\">=0\")/(COUNTA(E61:E75)-COUNTIF(E61:E75,'TABELAS AUXILIARES'!$F$13))/2)*(1+C61*1/5)), \"Preencha todos os campos\")","v":"Por favor preencha todas as medidas"},null,{"$f":"_xlfn.XLOOKUP(D61, FORM3GERAL!$C$7:$C$11418,FORM3GERAL!$P$7:$P$11418)","v":{"$error":"#N/A"}},{"$f":"_xlfn.XLOOKUP(D61, FORM3GERAL!$C$7:$C$11418,FORM3GERAL!$L$7:$L$11418)","v":{"$error":"#N/A"}},{"$error":"#N/A"}]
[null,24,null,"24.2",{"$f":"IFERROR(_xlfn.XLOOKUP(_xlfn.XLOOKUP(D62,FORM2.4!$B$10:$B$179,FORM2.4!$F$10:$F$179),'TABELAS AUXILIARES'!$E$8:$E$13,'TABELAS AUXILIARES'!$F$8:$F$13), \"Preencha o campo\")","v":"Preencha o campo"},null,null,{"$f":"_xlfn.XLOOKUP(D62, FORM3GERAL!$C$7:$C$11418,FORM3GERAL!$P$7:$P$11418)","v":{"$error":"#N/A"}},{"$f":"_xlfn.XLOOKUP(D62, FORM3GERAL!$C$7:$C$11418,FORM3GERAL!$L$7:$L$11418)","v":{"$error":"#N/A"}},{"$error":"#N/A"}]
[null,24,null,"24.3",{"$f":"IFERROR(_xlfn.XLOOKUP(_xlfn.XLOOKUP(D63,FORM2.4!$B$10:$B$179,FORM2.4!$F$10:$F$179),'TABELAS AUXILIARES'!$E$8:$E$13,'TABELAS AUXILIARES'!$F$8:$F$13), \"Preencha o campo\")","v":"Preencha o campo"},null,null,{"$f":"_xlfn.XLOOKUP(D63, FORM3GERAL!$C$7:$C$11418,FORM3GERAL!$P$7:$P$11418)","v":{"$error":"#N/A"}},{"$f":"_xlfn.XLOOKUP(D63, FORM3GERAL!$C$7:$C$11418,FORM3GERAL!$L$7:$L$11418)","v":{"$error":"#N/A"}},{"$error":"#N/A"}]
[null,24,null,"24.4",{"$f":"IFERROR(_xlfn.XLOOKUP(_xlfn.XLOOKUP(D64,FORM2.4!$B$10:$B$179,FORM2.4!$F$10:$F$179),'TABELAS AUXILIARES'!$E$8:$E$13,'TABELAS AUXILIARES'!$F$8:$F$13), \"Preencha o campo\")","v":"Preencha o campo"},null,null,{"$f":"_xlfn.XLOOKUP(D64, FORM3GERAL!$C$7:$C$11418,FORM3GERAL!$P$7:$P$11418)","v":{"$error":"#N/A"}},{"$f":"_xlfn.XLOOKUP(D64, FORM3GERAL!$C$7:$C$11418,FORM3GERAL!$L$7:$L$11418)","v":{"$error":"#N/A"}},{"$error":"#N/A"}]
[null,24,null,"24.5",{"$f":"IFERROR(_xlfn.XLOOKUP(_xlfn.XLOOKUP(D65,FORM2.4!$B$10:$B$179,FORM2.4!$F$10:$F$179),'TABELAS AUXILIARES'!$E$8:$E$13,'TABELAS AUXILIARES'!$F$8:$F$13), \"Preencha o campo\")","v":"Preencha o campo"},null,null,{"$f":"_xlfn.XLOOKUP(D65, FORM3GERAL!$C$7:$C$11418,FORM3GERAL!$P$7:$P$11418)","v":{"$error":"#N/A"}},{"$f":"_xlfn.XLOOKUP(D65, FORM3GERAL!$C$7:$C$11418,FORM3GERAL!$L$7:$L$11418)","v":{"$error":"#N/A"}},{"$error":"#N/A"}]
[null,24,null,"24.6",{"$f":"IFERROR(_xlfn.XLOOKUP(_xlfn.XLOOKUP(D66,FORM2.4!$B$10:$B$179,FORM2.4!$F$10:$F$179),'TABELAS AUXILIARES'!$E$8:$E$13,'TABELAS AUXILIARES'!$F$8:$F$13), \"Preencha o campo\")","v":"Preencha o campo"},null,null,{"$f":"_xlfn.XLOOKUP(D66, FORM3GERAL!$C$7:$C$11418,FORM3GERAL!$P$7:$P$11418)","v":{"$error":"#N/A"}},{"$f":"_xlfn.XLOOKUP(D66, FORM3GERAL!$C$7:$C$11418,FORM3GERAL!$L$7:$L$11418)","v":{"$error":"#N/A"}},{"$error":"#N/A"}]
[null,24,null,"24.7",{"$f":"IFERROR(_xlfn.XLOOKUP(_xlfn.XLOOKUP(D67,FORM2.4!$B$10:$B$179,FORM2.4!$F$10:$F$179),'TABELAS AUXILIARES'!$E$8:$E$13,'TABELAS AUXILIARES'!$F$8:$F$13), \"Preencha o campo\")","v":"Preencha o campo"},null,null,{"$f":"_xlfn.XLOOKUP(D67, FORM3GERAL!$C$7:$C$11418,FORM3GERAL!$P$7:$P$11418)","v":{"$error":"#N/A"}},{"$f":"_xlfn.XLOOKUP(D67, FORM3GERAL!$C$7:$C$11418,FORM3GERAL!$L$7:$L$11418)","v":{"$error":"#N/A"}},{"$error":"#N/A"}]
[null,24,null,"24.8",{"$f":"IFERROR(_xlfn.XLOOKUP(_xlfn.XLOOKUP(D68,FORM2.4!$B$10:$B$179,FORM2.4!$F$10:$F$179),'TABELAS AUXILIARES'!$E$8:$E$13,'TABELAS AUXILIARES'!$F$8:$F$13), \"Preencha o campo\")","v":"Preencha o campo"},null,null,{"$f":"_xlfn.XLOOKUP(D68, FORM3GERAL!$C$7:$C$11418,FORM3GERAL!$P$7:$P$11418)","v":{"$error":"#N/A"}},{"$f":"_xlfn.XLOOKUP(D68, FORM3GERAL!$C$7:$C$11418,FORM3GERAL!$L$7:$L$11418)","v":{"$error":"#N/A"}},{"$error":"#N/A"}]
[null,24,null,"24.9",{"$f":"IFERROR(_xlfn.XLOOKUP(_xlfn.XLOOKUP(D69,FORM2.4!$B$10:$B$179,FORM2.4!$F$10:$F$179),'TABELAS AUXILIARES'!$E$8:$E$13,'TABELAS AUXILIARES'!$F$8:$F$13), \"Preencha o campo\")","v":"Preencha o campo"},null,null,{"$f":"_xlfn.XLOOKUP(D69, FORM3GERAL!$C$7:$C$11418,FORM3GERAL!$P$7:$P$11418)","v":{"$error":"#N/A"}},{"$f":"_xlfn.XLOOKUP(D69, FORM3GERAL!$C$7:$C$11418,FORM3GERAL!$L$7:$L$11418)","v":{"$error":"#N/A"}},{"$error":"#N/A"}]
[null,24,null,"24.10",{"$f":"IFERROR(_xlfn.XLOOKUP(_xlfn.XLOOKUP(D70,FORM2.4!$B$10:$B$179,FORM2.4!$F$10:$F$179),'TABELAS AUXILIARES'!$E$8:$E$13,'TABELAS AUXILIARES'!$F$8:$F$13), \"Preencha o campo\")","v":"Preencha o campo"},null,null,{"$f":"_xlfn.XLOOKUP(D70, FORM3GERAL!$C$7:$C$11418,FORM3GERAL!$P$7:$P$11418)","v":{"$error":"#N/A"}},{"$f":"_xlfn.XLOOKUP(D70, FORM3GERAL!$C$7:$C$11418,FORM3GERAL!$L$7:$L$11418)","v":{"$error":"#N/A"}},{"$error":"#N/A"}]
[null,24,null,"24.11",{"$f":"IFERROR(_xlfn.XLOOKUP(_xlfn.XLOOKUP(D71,FORM2.4!$B$10:$B$179,FORM2.4!$F$10:$F$179),'TABELAS AUXILIARES'!$E$8:$E$13,'TABELAS AUXILIARES'!$F$8:$F$13), \"Preencha o campo\")","v":"Preencha o campo"},null,null,{"$f":"_xlfn.XLOOKUP(D71, FORM3GERAL!$C$7:$C$11418,FORM3GERAL!$P$7:$P$11418)","v":{"$error":"#N/A"}},{"$f":"_xlfn.XLOOKUP(D71, FORM3GERAL!$C$7:$C$11418,FORM3GERAL!$L$7:$L$11418)","v":{"$error":"#N/A"}},{"$error":"#N/A"}]
[null,24,null,"24.12",{"$f":"IFERROR(_xlfn.XLOOKUP(_xlfn.XLOOKUP(D72,FORM2.4!$B$10:$B$179,FORM2.4!$F$10:$F$179),'TABELAS AUXILIARES'!$E$8:$E$13,'TABELAS AUXILIARES'!$F$8:$F$13), \"Preencha o campo\")","v":"Preencha o campo"},null,null,{"$f":"_xlfn.XLOOKUP(D72, FORM3GERAL!$C$7:$C$11418,FORM3GERAL!$P$7:$P$11418)","v":{"$error":"#N/A"}},{"$f":"_xlfn.XLOOKUP(D72, FORM3GERAL!$C$7:$C$11418,FORM3GERAL!$L$7:$L$11418)","v":{"$error":"#N/A"}},{"$f":"IF(H72=1,IF(I72=\"Concluído\",1,0),0)","v":{"$error":"#N/A"}}]
[null,24,null,"24.13",{"$f":"IFERROR(_xlfn.XLOOKUP(_xlfn.XLOOKUP(D73,FORM2.4!$B$10:$B$179,FORM2.4!$F$10:$F$179),'TABELAS AUXILIARES'!$E$8:$E$13,'TABELAS AUXILIARES'!$F$8:$F$13), \"Preencha o campo\")","v":"Preencha o campo"},null,null,{"$f":"_xlfn.XLOOKUP(D73, FORM3GERAL!$C$7:$C$11418,FORM3GERAL!$P$7:$P$11418)","v":{"$error":"#N/A"}},{"$f":"_xlfn.XLOOKUP(D73, FORM3GERAL!$C$7:$C$11418,FORM3GERAL!$L$7:$L$11418)","v":{"$error":"#N/A"}},{"$error":"#N/A"}]
[null,24,null,"24.14",{"$f":"IFERROR(_xlfn.XLOOKUP(_xlfn.XLOOKUP(D74,FORM2.4!$B$10:$B$179,FORM2.4!$F$10:$F$179),'TABELAS AUXILIARES'!$E$8:$E$13,'TABELAS AUXILIARES'!$F$8:$F$13), \"Preencha o campo\")","v":"Preencha o campo"},null,null,{"$f":"_xlfn.XLOOKUP(D74, FORM3GERAL!$C$7:$C$11418,FORM3GERAL!$P$7:$P$11418)","v":{"$error":"#N/A"}},{"$f":"_xlfn.XLOOKUP(D74, FORM3GERAL!$C$7:$C$11418,FORM3GERAL!$L$7:$L$11418)","v":{"$error":"#N/A"}},{"$error":"#N/A"}]
[null,24,null,"24.15",{"$f":"IFERROR(_xlfn.XLOOKUP(_xlfn.XLOOKUP(D75,FORM2.4!$B$10:$B$179,FORM2.4!$F$10:$F$179),'TABELAS AUXILIARES'!$E$8:$E$13,'TABELAS AUXILIARES'!$F$8:$F$13), \"Preencha o campo\")","v":"Preencha o campo"},null,null,{"$f":"_xlfn.XLOOKUP(D75, FORM3GERAL!$C$7:$C$11418,FORM3GERAL!$P$7:$P$11418)","v":{"$error":"#N/A"}},{"$f":"_xlfn.XLOOKUP(D75, FORM3GERAL!$C$7:$C$11418,FORM3GERAL!$L$7:$L$11418)","v":{"$error":"#N/A"}},{"$error":"#N/A"}]
[null,25,{"$f":"FORM2.4!H68","v":"Selecione sua Resposta"},"25.1",{"$f":"IFERROR(_xlfn.XLOOKUP(_xlfn.XLOOKUP(D76,FORM2.4!$B$10:$B$179,FORM2.4!$F$10:$F$179),'TABELAS AUXILIARES'!$E$8:$E$13,'TABELAS AUXILIARES'!$F$8:$F$13), \"Preencha o campo\")","v":"Preencha o campo"},{"$f":"IFERROR(IF(COUNTIF(E76:E84,\"Preencha o campo\")>0, \"Por favor preencha todas as medidas\",(SUMIF(E76:E84,\">=0\")/(COUNTA(E76:E84)-COUNTIF(E76:E84,'TABELAS AUXILIARES'!$F$13))/2)*(1+C76*1/5)), \"Preencha todos os campos\")","v":"Por favor preencha todas as medidas"},null,{"$f":"_xlfn.XLOOKUP(D76, FORM3GERAL!$C$7:$C$11418,FORM3GERAL!$P$7:$P$11418)","v":{"$error":"#N/A"}},{"$f":"_xlfn.XLOOKUP(D76, FORM3GERAL!$C$7:$C$11418,FORM3GERAL!$L$7:$L$11418)","v":{"$error":"#N/A"}},{"$error":"#N/A"}]
[null,25,null,"25.2",{"$f":"IFERROR(_xlfn.XLOOKUP(_xlfn.XLOOKUP(D77,FORM2.4!$B$10:$B$179,FORM2.4!$F$10:$F$179),'TABELAS AUXILIARES'!$E$8:$E$13,'TABELAS AUXILIARES'!$F$8:$F$13), \"Preencha o campo\")","v":"Preencha o campo"},null,null,{"$f":"_xlfn.XLOOKUP(D77, FORM3GERAL!$C$7:$C$11418,FORM3GERAL!$P$7:$P$11418)","v":{"$error":"#N/A"}},{"$f":"_xlfn.XLOOKUP(D77, FORM3GERAL!$C$7:$C$11418,FORM3GERAL!$L$7:$L$11418)","v":{"$error":"#N/A"}},{"$error":"#N/A"}]
[null,25,null,"25.3",{"$f":"IFERROR(_xlfn.XLOOKUP(_xlfn.XLOOKUP(D78,FORM2.4!$B$10:$B$179,FORM2.4!$F$10:$F$179),'TABELAS AUXILIARES'!$E$8:$E$13,'TABELAS AUXILIARES'!$F$8:$F$13), \"Preencha o campo\")","v":"Preencha o campo"},null,null,{"$f":"_xlfn.XLOOKUP(D78, FORM3GERAL!$C$7:$C$11418,FORM3GERAL!$P$7:$P$11418)","v":{"$error":"#N/A"}},{"$f":"_xlfn.XLOOKUP(D78, FORM3GERAL!$C$7:$C$11418,FORM3GERAL!$L$7:$L$11418)","v":{"$error":"#N/A"}},{"$error":"#N/A"}]
[null,25,null,"25.4",{"$f":"IFERROR(_xlfn.XLOOKUP(_xlfn.XLOOKUP(D79,FORM2.4!$B$10:$B$179,FORM2.4!$F$10:$F$179),'TABELAS AUXILIARES'!$E$8:$E$13,'TABELAS AUXILIARES'!$F$8:$F$13), \"Preencha o campo\")","v":"Preencha o campo"},null,null,{"$f":"_xlfn.XLOOKUP(D79, FORM3GERAL!$C$7:$C$11418,FORM3GERAL!$P$7:$P$11418)","v":{"$error":"#N/A"}},{"$f":"_xlfn.XLOOKUP(D79, FORM3GERAL!$C$7:$C$11418,FORM3GERAL!$L$7:$L$11418)","v":{"$error":"#N/A"}},{"$error":"#N/A"}]
[null,25,null,"25.5",{"$f":"IFERROR(_xlfn.XLOOKUP(_xlfn.XLOOKUP(D80,FORM2.4!$B$10:$B$179,FORM2.4!$F$10:$F$179),'TABELAS AUXILIARES'!$E$8:$E$13,'TABELAS AUXILIARES'!$F$8:$F$13), \"Preencha o campo\")","v":"Preencha o campo"},null,null,{"$f":"_xlfn.XLOOKUP(D80, FORM3GERAL!$C$7:$C$11418,FORM3GERAL!$P$7:$P$11418)","v":{"$error":"#N/A"}},{"$f":"_xlfn.XLOOKUP(D80, FORM3GERAL!$C$7:$C$11418,FORM3GERAL!$L$7:$L$11418)","v":{"$error":"#N/A"}},{"$error":"#N/A"}]
[null,25,null,"25.6",{"$f":"IFERROR(_xlfn.XLOOKUP(_xlfn.XLOOKUP(D81,FORM2.4!$B$10:$B$179,FORM2.4!$F$10:$F$179),'TABELAS AUXILIARES'!$E$8:$E$13,'TABELAS AUXILIARES'!$F$8:$F$13), \"Preencha o campo\")","v":"Preencha o campo"},null,null,{"$f":"_xlfn.XLOOKUP(D81, FORM3GERAL!$C$7:$C$11418,FORM3GERAL!$P$7:$P$11418)","v":{"$error":"#N/A"}},{"$f":"_xlfn.XLOOKUP(D81, FORM3GERAL!$C$7:$C$11418,FORM3GERAL!$L$7:$L$11418)","v":{"$error":"#N/A"}},{"$error":"#N/A"}]
[null,25,null,"25.7",{"$f":"IFERROR(_xlfn.XLOOKUP(_xlfn.XLOOKUP(D82,FORM2.4!$B$10:$B$179,FORM2.4!$F$10:$F$179),'TABELAS AUXILIARES'!$E$8:$E$13,'TABELAS AUXILIARES'!$F$8:$F$13), \"Preencha o campo\")","v":"Preencha o campo"},null,null,{"$f":"_xlfn.XLOOKUP(D82, FORM3GERAL!$C$7:$C$11418,FORM3GERAL!$P$7:$P$11418)","v":{"$error":"#N/A"}},{"$f":"_xlfn.XLOOKUP(D82, FORM3GERAL!$C$7:$C$11418,FORM3GERAL!$L$7:$L$11418)","v":{"$error":"#N/A"}},{"$error":"#N/A"}]
[null,25,null,"25.8",{"$f":"IFERROR(_xlfn.XLOOKUP(_xlfn.XLOOKUP(D83,FORM2.4!$B$10:$B$179,FORM2.4!$F$10:$F$179),'TABELAS AUXILIARES'!$E$8:$E$13,'TABELAS AUXILIARES'!$F$8:$F$13), \"Preencha o campo\")","v":"Preencha o campo"},null,null,{"$f":"_xlfn.XLOOKUP(D83, FORM3GERAL!$C$7:$C$11418,FORM3GERAL!$P$7:$P$11418)","v":{"$error":"#N/A"}},{"$f":"_xlfn.XLOOKUP(D83, FORM3GERAL!$C$7:$C$11418,FORM3GERAL!$L$7:$L$11418)","v":{"$error":"#N/A"}},{"$error":"#N/A"}]
[null,25,null,"25.9",{"$f":"IFERROR(_xlfn.XLOOKUP(_xlfn.XLOOKUP(D84,FORM2.4!$B$10:$B$179,FORM2.4!$F$10:$F$179),'TABELAS AUXILIARES'!$E$8:$E$13,'TABELAS AUXILIARES'!$F$8:$F$13), \"Preencha o campo\")","v":"Preencha o campo"},null,null,{"$f":"_xlfn.XLOOKUP(D84, FORM3GERAL!$C$7:$C$11418,FORM3GERAL!$P$7:$P$11418)","v":{"$error":"#N/A"}},{"$f":"_xlfn.XLOOKUP(D84, FORM3GERAL!$C$7:$C$11418,FORM3GERAL!$L$7:$L$11418)","v":{"$error":"#N/A"}},{"$error":"#N/A"}]
[null,26,{"$f":"FORM2.4!H84","v":"Selecione sua Resposta"},"26.1",{"$f":"IFERROR(_xlfn.XLOOKUP(_xlfn.XLOOKUP(D85,FORM2.4!$B$10:$B$179,FORM2.4!$F$10:$F$179),'TABELAS AUXILIARES'!$E$8:$E$13,'TABELAS AUXILIARES'!$F$8:$F$13), \"Preencha o campo\")","v":"Preencha o campo"},{"$f":"IFERROR(IF(COUNTIF(E85:E96,\"Preencha o campo\")>0, \"Por favor preencha todas as medidas\",(SUMIF(E85:E96,\">=0\")/(COUNTA(E85:E96)-COUNTIF(E85:E96,'TABELAS AUXILIARES'!$F$13))/2)*(1+C85*1/5)), \"Preencha todos os campos\")","v":"Por favor preencha todas as medidas"},null,{"$f":"_xlfn.XLOOKUP(D85, FORM3GERAL!$C$7:$C$11418,FORM3GERAL!$P$7:$P$11418)","v":{"$error":"#N/A"}},{"$f":"_xlfn.XLOOKUP(D85, FORM3GERAL!$C$7:$C$11418,FORM3GERAL!$L$7:$L$11418)","v":{"$error":"#N/A"}},{"$error":"#N/A"}]
[null,26,null,"26.2",{"$f":"IFERROR(_xlfn.XLOOKUP(_xlfn.XLOOKUP(D86,FORM2.4!$B$10:$B$179,FORM2.4!$F$10:$F$179),'TABELAS AUXILIARES'!$E$8:$E$13,'TABELAS AUXILIARES'!$F$8:$F$13), \"Preencha o campo\")","v":"Preencha o campo"},null,null,{"$f":"_xlfn.XLOOKUP(D86, FORM3GERAL!$C$7:$C$11418,FORM3GERAL!$P$7:$P$11418)","v":{"$error":"#N/A"}},{"$f":"_xlfn.XLOOKUP(D86, FORM3GERAL!$C$7:$C$11418,FORM3GERAL!$L$7:$L$11418)","v":{"$error":"#N/A"}},{"$error":"#N/A"}]
[null,26,null,"26.3",{"$f":"IFERROR(_xlfn.XLOOKUP(_xlfn.XLOOKUP(D87,FORM2.4!$B$10:$B$179,FORM2.4!$F$10:$F$179),'TABELAS AUXILIARES'!$E$8:$E$13,'TABELAS AUXILIARES'!$F$8:$F$13), \"Preencha o campo\")","v":"Preencha o campo"},null,null,{"$f":"_xlfn.XLOOKUP(D87, FORM3GERAL!$C$7:$C$11418,FORM3GERAL!$P$7:$P$11418)","v":{"$error":"#N/A"}},{"$f":"_xlfn.XLOOKUP(D87, FORM3GERAL!$C$7:$C$11418,FORM3GERAL!$L$7:$L$11418)","v":{"$error":"#N/A"}},{"$error":"#N/A"}]
[null,26,null,"26.4",{"$f":"IFERROR(_xlfn.XLOOKUP(_xlfn.XLOOKUP(D88,FORM2.4!$B$10:$B$179,FORM2.4!$F$10:$F$179),'TABELAS AUXILIARES'!$E$8:$E$13,'TABELAS AUXILIARES'!$F$8:$F$13), \"Preencha o campo\")","v":"Preencha o campo"},null,null,{"$f":"_xlfn.XLOOKUP(D88, FORM3GERAL!$C$7:$C$11418,FORM3GERAL!$P$7:$P$11418)","v":{"$error":"#N/A"}},{"$f":"_xlfn.XLOOKUP(D88, FORM3GERAL!$C$7:$C$11418,FORM3GERAL!$L$7:$L$11418)","v":{"$error":"#N/A"}},{"$error":"#N/A"}]
[null,26,null,"26.5",{"$f":"IFERROR(_xlfn.XLOOKUP(_xlfn.XLOOKUP(D89,FORM2.4!$B$10:$B$179,FORM2.4!$F$10:$F$179),'TABELAS AUXILIARES'!$E$8:$E$13,'TABELAS AUXILIARES'!$F$8:$F$13), \"Preencha o campo\")","v":"Preencha o campo"},null,null,{"$f":"_xlfn.XLOOKUP(D89, FORM3GERAL!$C$7:$C$11418,FORM3GERAL!$P$7:$P$11418)","v":{"$error":"#N/A"}},{"$f":"_xlfn.XLOOKUP(D89, FORM3GERAL!$C$7:$C$11418,FORM3GERAL!$L$7:$L$11418)","v":{"$error":"#N/A"}},{"$error":"#N/A"}]
[null,26,null,"26.6",{"$f":"IFERROR(_xlfn.XLOOKUP(_xlfn.XLOOKUP(D90,FORM2.4!$B$10:$B$179,FORM2.4!$F$10:$F$179),'TABELAS AUXILIARES'!$E$8:$E$13,'TABELAS AUXILIARES'!$F$8:$F$13), \"Preencha o campo\")","v":"Preencha o campo"},null,null,{"$f":"_xlfn.XLOOKUP(D90, FORM3GERAL!$C$7:$C$11418,FORM3GERAL!$P$7:$P$11418)","v":{"$error":"#N/A"}},{"$f":"_xlfn.XLOOKUP(D90, FORM3GERAL!$C$7:$C$11418,FORM3GERAL!$L$7:$L$11418)","v":{"$error":"#N/A"}},{"$error":"#N/A"}]
[null,26,null,"26.7",{"$f":"IFERROR(_xlfn.XLOOKUP(_xlfn.XLOOKUP(D91,FORM2.4!$B$10:$B$179,FORM2.4!$F$10:$F$179),'TABELAS AUXILIARES'!$E$8:$E$13,'TABELAS AUXILIARES'!$F$8:$F$13), \"Preencha o campo\")","v":"Preencha o campo"},null,null,{"$f":"_xlfn.XLOOKUP(D91, FORM3GERAL!$C$7:$C$11418,FORM3GERAL!$P$7:$P$11418)","v":{"$error":"#N/A"}},{"$f":"_xlfn.XLOOKUP(D91, FORM3GERAL!$C$7:$C$11418,FORM3GERAL!$L$7:$L$11418)","v":{"$error":"#N/A"}},{"$error":"#N/A"}]
[null,26,null,"26.8",{"$f":"IFERROR(_xlfn.XLOOKUP(_xlfn.XLOOKUP(D92,FORM2.4!$B$10:$B$179,FORM2.4!$F$10:$F$179),'TABELAS AUXILIARES'!$E$8:$E$13,'TABELAS AUXILIARES'!$F$8:$F$13), \"Preencha o campo\")","v":"Preencha o campo"},null,null,{"$f":"_xlfn.XLOOKUP(D92, FORM3GERAL!$C$7:$C$11418,FORM3GERAL!$P$7:$P$11418)","v":{"$error":"#N/A"}},{"$f":"_xlfn.XLOOKUP(D92, FORM3GERAL!$C$7:$C$11418,FORM3GERAL!$L$7:$L$11418)","v":{"$error":"#N/A"}},{"$error":"#N/A"}]
[null,26,null,"26.9",{"$f":"IFERROR(_xlfn.XLOOKUP(_xlfn.XLOOKUP(D93,FORM2.4!$B$10:$B$179,FORM2.4!$F$10:$F$179),'TABELAS AUXILIARES'!$E$8:$E$13,'TABELAS AUXILIARES'!$F$8:$F$13), \"Preencha o campo\")","v":"Preencha o campo"},null,null,{"$f":"_xlfn.XLOOKUP(D93, FORM3GERAL!$C$7:$C$11418,FORM3GERAL!$P$7:$P$11418)","v":{"$error":"#N/A"}},{"$f":"_xlfn.XLOOKUP(D93, FORM3GERAL!$C$7:$C$11418,FORM3GERAL!$L$7:$L$11418)","v":{"$error":"#N/A"}},{"$error":"#N/A"}]
[null,26,null,"26.10",{"$f":"IFERROR(_xlfn.XLOOKUP(_xlfn.XLOOKUP(D94,FORM2.4!$B$10:$B$179,FORM2.4!$F$10:$F$179),'TABELAS AUXILIARES'!$E$8:$E$13,'TABELAS AUXILIARES'!$F$8:$F$13), \"Preencha o campo\")","v":"Preencha o campo"},null,null,{"$f":"_xlfn.XLOOKUP(D94, FORM3GERAL!$C$7:$C$11418,FORM3GERAL!$P$7:$P$11418)","v":{"$error":"#N/A"}},{"$f":"_xlfn.XLOOKUP(D94, FORM3GERAL!$C$7:$C$11418,FORM3GERAL!$L$7:$L$11418)","v":{"$error":"#N/A"}},{"$error":"#N/A"}]
[null,26,null,"26.11",{"$f":"IFERROR(_xlfn.XLOOKUP(_xlfn.XLOOKUP(D95,FORM2.4!$B$10:$B$179,FORM2.4!$F$10:$F$179),'TABELAS AUXILIARES'!$E$8:$E$13,'TABELAS AUXILIARES'!$F$8:$F$13), \"Preencha o campo\")","v":"Preencha o campo"},null,null,{"$f":"_xlfn.XLOOKUP(D95, FORM3GERAL!$C$7:$C$11418,FORM3GERAL!$P$7:$P$11418)","v":{"$error":"#N/A"}},{"$f":"_xlfn.XLOOKUP(D95, FORM3GERAL!$C$7:$C$11418,FORM3GERAL!$L$7:$L$11418)","v":{"$error":"#N/A"}},{"$error":"#N/A"}]
[null,26,null,"26.12",{"$f":"IFERROR(_xlfn.XLOOKUP(_xlfn.XLOOKUP(D96,FORM2.4!$B$10:$B$179,FORM2.4!$F$10:$F$179),'TABELAS AUXILIARES'!$E$8:$E$13,'TABELAS AUXILIARES'!$F$8:$F$13), \"Preencha o campo\")","v":"Preencha o campo"},null,null,{"$f":"_xlfn.XLOOKUP(D96, FORM3GERAL!$C$7:$C$11418,FORM3GERAL!$P$7:$P$11418)","v":{"$error":"#N/A"}},{"$f":"_xlfn.XLOOKUP(D96, FORM3GERAL!$C$7:$C$11418,FORM3GERAL!$L$7:$L$11418)","v":{"$error":"#N/A"}},{"$error":"#N/A"}]
[null,27,{"$f":"FORM2.4!H94","v":"Selecione sua Resposta"},"27.1",{"$f":"IFERROR(_xlfn.XLOOKUP(_xlfn.XLOOKUP(D97,FORM2.4!$B$10:$B$179,FORM2.4!$F$10:$F$179),'TABELAS AUXILIARES'!$E$8:$E$13,'TABELAS AUXILIARES'!$F$8:$F$13), \"Preencha o campo\")","v":"Preencha o campo"},{"$f":"IFERROR(IF(COUNTIF(E97:E101,\"Preencha o campo\")>0, \"Por favor preencha todas as medidas\",(SUMIF(E97:E101,\">=0\")/(COUNTA(E97:E101)-COUNTIF(E97:E101,'TABELAS AUXILIARES'!$F$13))/2)*(1+C97*1/5)), \"Preencha todos os campos\")","v":"Por favor preencha todas as medidas"},null,{"$f":"_xlfn.XLOOKUP(D97, FORM3GERAL!$C$7:$C$11418,FORM3GERAL!$P$7:$P$11418)","v":{"$error":"#N/A"}},{"$f":"_xlfn.XLOOKUP(D97, FORM3GERAL!$C$7:$C$11418,FORM3GERAL!$L$7:$L$11418)","v":{"$error":"#N/A"}},{"$error":"#N/A"}]
[null,27,null,"27.2",{"$f":"IFERROR(_xlfn.XLOOKUP(_xlfn.XLOOKUP(D98,FORM2.4!$B$10:$B$179,FORM2.4!$F$10:$F$179),'TABELAS AUXILIARES'!$E$8:$E$13,'TABELAS AUXILIARES'!$F$8:$F$13), \"Preencha o campo\")","v":"Preencha o campo"},null,null,{"$f":"_xlfn.XLOOKUP(D98, FORM3GERAL!$C$7:$C$11418,FORM3GERAL!$P$7:$P$11418)","v":{"$error":"#N/A"}},{"$f":"_xlfn.XLOOKUP(D98, FORM3GERAL!$C$7:$C$11418,FORM3GERAL!$L$7:$L$11418)","v":{"$error":"#N/A"}},{"$error":"#N/A"}]
[null,27,null,"27.3",{"$f":"IFERROR(_xlfn.XLOOKUP(_xlfn.XLOOKUP(D99,FORM2.4!$B$10:$B$179,FORM2.4!$F$10:$F$179),'TABELAS AUXILIARES'!$E$8:$E$13,'TABELAS AUXILIARES'!$F$8:$F$13), \"Preencha o campo\")","v":"Preencha o campo"},null,null,{"$f":"_xlfn.XLOOKUP(D99, FORM3GERAL!$C$7:$C$11418,FORM3GERAL!$P$7:$P$11418)","v":{"$error":"#N/A"}},{"$f":"_xlfn.XLOOKUP(D99, FORM3GERAL!$C$7:$C$11418,FORM3GERAL!$L$7:$L$11418)","v":{"$error":"#N/A"}},{"$error":"#N/A"}]
[null,27,null,"27.4",{"$f":"IFERROR(_xlfn.XLOOKUP(_xlfn.XLOOKUP(D100,FORM2.4!$B$10:$B$179,FORM2.4!$F$10:$F$179),'TABELAS AUXILIARES'!$E$8:$E$13,'TABELAS AUXILIARES'!$F$8:$F$13), \"Preencha o campo\")","v":"Preencha o campo"},null,null,{"$f":"_xlfn.XLOOKUP(D100, FORM3GERAL!$C$7:$C$11418,FORM3GERAL!$P$7:$P$11418)","v":{"$error":"#N/A"}},{"$f":"_xlfn.XLOOKUP(D100, FORM3GERAL!$C$7:$C$11418,FORM3GERAL!$L$7:$L$11418)","v":{"$error":"#N/A"}},{"$error":"#N/A"}]
[null,27,null,"27.5",{"$f":"IFERROR(_xlfn.XLOOKUP(_xlfn.XLOOKUP(D101,FORM2.4!$B$10:$B$179,FORM2.4!$F$10:$F$179),'TABELAS AUXILIARES'!$E$8:$E$13,'TABELAS AUXILIARES'!$F$8:$F$13), \"Preencha o campo\")","v":"Preencha o campo"},null,null,{"$f":"_xlfn.XLOOKUP(D101, FORM3GERAL!$C$7:$C$11418,FORM3GERAL!$P$7:$P$11418)","v":{"$error":"#N/A"}},{"$f":"_xlfn.XLOOKUP(D101, FORM3GERAL!$C$7:$C$11418,FORM3GERAL!$L$7:$L$11418)","v":{"$error":"#N/A"}},{"$error":"#N/A"}]
[null,28,{"$f":"FORM2.4!H113","v":"Selecione sua Resposta"},"28.1",{"$f":"IFERROR(_xlfn.XLOOKUP(_xlfn.XLOOKUP(D102,FORM2.4!$B$10:$B$179,FORM2.4!$F$10:$F$179),'TABELAS AUXILIARES'!$E$8:$E$13,'TABELAS AUXILIARES'!$F$8:$F$13), \"Preencha o campo\")","v":"Preencha o campo"},{"$f":"IFERROR(IF(COUNTIF(E102:E114,\"Preencha o campo\")>0, \"Por favor preencha todas as medidas\",(SUMIF(E102:E114,\">=0\")/(COUNTA(E102:E114)-COUNTIF(E102:E114,'TABELAS AUXILIARES'!$F$13))/2)*(1+C102*1/5)), \"Preencha todos os campos\")","v":"Por favor preencha todas as medidas"},null,{"$f":"_xlfn.XLOOKUP(D102, FORM3GERAL!$C$7:$C$11418,FORM3GERAL!$P$7:$P$11418)","v":{"$error":"#N/A"}},{"$f":"_xlfn.XLOOKUP(D102, FORM3GERAL!$C$7:$C$11418,FORM3GERAL!$L$7:$L$11418)","v":{"$error":"#N/A"}},{"$error":"#N/A"}]
[null,28,null,"28.2",{"$f":"IFERROR(_xlfn.XLOOKUP(_xlfn.XLOOKUP(D103,FORM2.4!$B$10:$B$179,FORM2.4!$F$10:$F$179),'TABELAS AUXILIARES'!$E$8:$E$13,'TABELAS AUXILIARES'!$F$8:$F$13), \"Preencha o campo\")","v":"Preencha o campo"},null,null,{"$f":"_xlfn.XLOOKUP(D103, FORM3GERAL!$C$7:$C$11418,FORM3GERAL!$P$7:$P$11418)","v":{"$error":"#N/A"}},{"$f":"_xlfn.XLOOKUP(D103, FORM3GERAL!$C$7:$C$11418,FORM3GERAL!$L$7:$L$11418)","v":{"$error":"#N/A"}},{"$error":"#N/A"}]
[null,28,null,"28.3",{"$f":"IFERROR(_xlfn.XLOOKUP(_xlfn.XLOOKUP(D104,FORM2.4!$B$10:$B$179,FORM2.4!$F$10:$F$179),'TABELAS AUXILIARES'!$E$8:$E$13,'TABELAS AUXILIARES'!$F$8:$F$13), \"Preencha o campo\")","v":"Preencha o campo"},null,null,{"$f":"_xlfn.XLOOKUP(D104, FORM3GERAL!$C$7:$C$11418,FORM3GERAL!$P$7:$P$11418)","v":{"$error":"#N/A"}},{"$f":"_xlfn.XLOOKUP(D104, FORM3GERAL!$C$7:$C$11418,FORM3GERAL!$L$7:$L$11418)","v":{"$error":"#N/A"}},{"$error":"#N/A"}]
[null,28,null,"28.4",{"$f":"IFERROR(_xlfn.XLOOKUP(_xlfn.XLOOKUP(D105,FORM2.4!$B$10:$B$179,FORM2.4!$F$10:$F$179),'TABELAS AUXILIARES'!$E$8:$E$13,'TABELAS AUXILIARES'!$F$8:$F$13), \"Preencha o campo\")","v":"Preencha o campo"},null,null,{"$f":"_xlfn.XLOOKUP(D105, FORM3GERAL!$C$7:$C$11418,FORM3GERAL!$P$7:$P$11418)","v":{"$error":"#N/A"}},{"$f":"_xlfn.XLOOKUP(D105, FORM3GERAL!$C$7:$C$11418,FORM3GERAL!$L$7:$L$11418)","v":{"$error":"#N/A"}},{"$error":"#N/A"}]
[null,28,null,"28.5",{"$f":"IFERROR(_xlfn.XLOOKUP(_xlfn.XLOOKUP(D106,FORM2.4!$B$10:$B$179,FORM2.4!$F$10:$F$179),'TABELAS AUXILIARES'!$E$8:$E$13,'TABELAS AUXILIARES'!$F$8:$F$13), \"Preencha o campo\")","v":"Preencha o campo"},null,null,{"$f":"_xlfn.XLOOKUP(D106, FORM3GERAL!$C$7:$C$11418,FORM3GERAL!$P$7:$P$11418)","v":{"$error":"#N/A"}},{"$f":"_xlfn.XLOOKUP(D106, FORM3GERAL!$C$7:$C$11418,FORM3GERAL!$L$7:$L$11418)","v":{"$error":"#N/A"}},{"$error":"#N/A"}]
[null,28,null,"28.6",{"$f":"IFERROR(_xlfn.XLOOKUP(_xlfn.XLOOKUP(D107,FORM2.4!$B$10:$B$179,FORM2.4!$F$10:$F$179),'TABELAS AUXILIARES'!$E$8:$E$13,'TABELAS AUXILIARES'!$F$8:$F$13), \"Preencha o campo\")","v":"Preencha o campo"},null,null,{"$f":"_xlfn.XLOOKUP(D107, FORM3GERAL!$C$7:$C$11418,FORM3GERAL!$P$7:$P$11418)","v":{"$error":"#N/A"}},{"$f":"_xlfn.XLOOKUP(D107, FORM3GERAL!$C$7:$C$11418,FORM3GERAL!$L$7:$L$11418)","v":{"$error":"#N/A"}},{"$error":"#N/A"}]
[null,28,null,"28.7",{"$f":"IFERROR(_xlfn.XLOOKUP(_xlfn.XLOOKUP(D108,FORM2.4!$B$10:$B$179,FORM2.4!$F$10:$F$179),'TABELAS AUXILIARES'!$E$8:$E$13,'TABELAS AUXILIARES'!$F$8:$F$13), \"Preencha o campo\")","v":"Preencha o campo"},null,null,{"$f":"_xlfn.XLOOKUP(D108, FORM3GERAL!$C$7:$C$11418,FORM3GERAL!$P$7:$P$11418)","v":{"$error":"#N/A"}},{"$f":"_xlfn.XLOOKUP(D108, FORM3GERAL!$C$7:$C$11418,FORM3GERAL!$L$7:$L$11418)","v":{"$error":"#N/A"}},{"$error":"#N/A"}]
[null,28,null,"28.8",{"$f":"IFERROR(_xlfn.XLOOKUP(_xlfn.XLOOKUP(D109,FORM2.4!$B$10:$B$179,FORM2.4!$F$10:$F$179),'TABELAS AUXILIARES'!$E$8:$E$13,'TABELAS AUXILIARES'!$F$8:$F$13), \"Preencha o campo\")","v":"Preencha o campo"},null,null,{"$f":"_xlfn.XLOOKUP(D109, FORM3GERAL!$C$7:$C$11418,FORM3GERAL!$P$7:$P$11418)","v":{"$error":"#N/A"}},{"$f":"_xlfn.XLOOKUP(D109, FORM3GERAL!$C$7:$C$11418,FORM3GERAL!$L$7:$L$11418)","v":{"$error":"#N/A"}},{"$error":"#N/A"}]
[null,28,null,"28.9",{"$f":"IFERROR(_xlfn.XLOOKUP(_xlfn.XLOOKUP(D110,FORM2.4!$B$10:$B$179,FORM2.4!$F$10:$F$179),'TABELAS AUXILIARES'!$E$8:$E$13,'TABELAS AUXILIARES'!$F$8:$F$13), \"Preencha o campo\")","v":"Preencha o campo"},null,null,{"$f":"_xlfn.XLOOKUP(D110, FORM3GERAL!$C$7:$C$11418,FORM3GERAL!$P$7:$P$11418)","v":{"$error":"#N/A"}},{"$f":"_xlfn.XLOOKUP(D110, FORM3GERAL!$C$7:$C$11418,FORM3GERAL!$L$7:$L$11418)","v":{"$error":"#N/A"}},{"$error":"#N/A"}]
[null,28,null,"28.10",{"$f":"IFERROR(_xlfn.XLOOKUP(_xlfn.XLOOKUP(D111,FORM2.4!$B$10:$B$179,FORM2.4!$F$10:$F$179),'TABELAS AUXILIARES'!$E$8:$E$13,'TABELAS AUXILIARES'!$F$8:$F$13), \"Preencha o campo\")","v":"Preencha o campo"},null,null,{"$f":"_xlfn.XLOOKUP(D111, FORM3GERAL!$C$7:$C$11418,FORM3GERAL!$P$7:$P$11418)","v":{"$error":"#N/A"}},{"$f":"_xlfn.XLOOKUP(D111, FORM3GERAL!$C$7:$C$11418,FORM3GERAL!$L$7:$L$11418)","v":{"$error":"#N/A"}},{"$error":"#N/A"}]
[null,28,null,"28.11",{"$f":"IFERROR(_xlfn.XLOOKUP(_xlfn.XLOOKUP(D112,FORM2.4!$B$10:$B$179,FORM2.4!$F$10:$F$179),'TABELAS AUXILIARES'!$E$8:$E$13,'TABELAS AUXILIARES'!$F$8:$F$13), \"Preencha o campo\")","v":"Preencha o campo"},null,null,{"$f":"_xlfn.XLOOKUP(D112, FORM3GERAL!$C$7:$C$11418,FORM3GERAL!$P$7:$P$11418)","v":{"$error":"#N/A"}},{"$f":"_xlfn.XLOOKUP(D112, FORM3GERAL!$C$7:$C$11418,FORM3GERAL!$L$7:$L$11418)","v":{"$error":"#N/A"}},{"$error":"#N/A"}]
[null,28,null,"28.12",{"$f":"IFERROR(_xlfn.XLOOKUP(_xlfn.XLOOKUP(D113,FORM2.4!$B$10:$B$179,FORM2.4!$F$10:$F$179),'TABELAS AUXILIARES'!$E$8:$E$13,'TABELAS AUXILIARES'!$F$8:$F$13), \"Preencha o campo\")","v":"Preencha o campo"},null,null,{"$f":"_xlfn.XLOOKUP(D113, FORM3GERAL!$C$7:$C$11418,FORM3GERAL!$P$7:$P$11418)","v":{"$error":"#N/A"}},{"$f":"_xlfn.XLOOKUP(D113, FORM3GERAL!$C$7:$C$11418,FORM3GERAL!$L$7:$L$11418)","v":{"$error":"#N/A"}},{"$error":"#N/A"}]
[null,28,null,"28.13",{"$f":"IFERROR(_xlfn.XLOOKUP(_xlfn.XLOOKUP(D114,FORM2.4!$B$10:$B$179,FORM2.4!$F$10:$F$179),'TABELAS AUXILIARES'!$E$8:$E$13,'TABELAS AUXILIARES'!$F$8:$F$13), \"Preencha o campo\")","v":"Preencha o campo"},null,null,{"$f":"_xlfn.XLOOKUP(D114, FORM3GERAL!$C$7:$C$11418,FORM3GERAL!$P$7:$P$11418)","v":{"$error":"#N/A"}},{"$f":"_xlfn.XLOOKUP(D114, FORM3GERAL!$C$7:$C$11418,FORM3GERAL!$L$7:$L$11418)","v":{"$error":"#N/A"}},{"$error":"#N/A"}]
[null,29,{"$f":"FORM2.4!H127","v":"Selecione sua Resposta"},"29.1",{"$f":"IFERROR(_xlfn.XLOOKUP(_xlfn.XLOOKUP(D115,FORM2.4!$B$10:$B$179,FORM2.4!$F$10:$F$179),'TABELAS AUXILIARES'!$E$8:$E$13,'TABELAS AUXILIARES'!$F$8:$F$13), \"Preencha o campo\")","v":"Preencha o campo"},{"$f":"IFERROR(IF(COUNTIF(E115:E126,\"Preencha o campo\")>0, \"Por favor preencha todas as medidas\",(SUMIF(E115:E126,\">=0\")/(COUNTA(E115:E126)-COUNTIF(E115:E126,'TABELAS AUXILIARES'!$F$13))/2)*(1+C115*1/5)), \"Preencha todos os campos\")","v":"Por favor preencha todas as medidas"},null,{"$f":"_xlfn.XLOOKUP(D115, FORM3GERAL!$C$7:$C$11418,FORM3GERAL!$P$7:$P$11418)","v":{"$error":"#N/A"}},{"$f":"_xlfn.XLOOKUP(D115, FORM3GERAL!$C$7:$C$11418,FORM3GERAL!$L$7:$L$11418)","v":{"$error":"#N/A"}},{"$error":"#N/A"}]
[null,29,null,"29.2",{"$f":"IFERROR(_xlfn.XLOOKUP(_xlfn.XLOOKUP(D116,FORM2.4!$B$10:$B$179,FORM2.4!$F$10:$F$179),'TABELAS AUXILIARES'!$E$8:$E$13,'TABELAS AUXILIARES'!$F$8:$F$13), \"Preencha o campo\")","v":"Preencha o campo"},null,null,{"$f":"_xlfn.XLOOKUP(D116, FORM3GERAL!$C$7:$C$11418,FORM3GERAL!$P$7:$P$11418)","v":{"$error":"#N/A"}},{"$f":"_xlfn.XLOOKUP(D116, FORM3GERAL!$C$7:$C$11418,FORM3GERAL!$L$7:$L$11418)","v":{"$error":"#N/A"}},{"$error":"#N/A"}]
[null,29,null,"29.3",{"$f":"IFERROR(_xlfn.XLOOKUP(_xlfn.XLOOKUP(D117,FORM2.4!$B$10:$B$179,FORM2.4!$F$10:$F$179),'TABELAS AUXILIARES'!$E$8:$E$13,'TABELAS AUXILIARES'!$F$8:$F$13), \"Preencha o campo\")","v":"Preencha o campo"},null,null,{"$f":"_xlfn.XLOOKUP(D117, FORM3GERAL!$C$7:$C$11418,FORM3GERAL!$P$7:$P$11418)","v":{"$error":"#N/A"}},{"$f":"_xlfn.XLOOKUP(D117, FORM3GERAL!$C$7:$C$11418,FORM3GERAL!$L$7:$L$11418)","v":{"$error":"#N/A"}},{"$error":"#N/A"}]
[null,29,null,"29.4",{"$f":"IFERROR(_xlfn.XLOOKUP(_xlfn.XLOOKUP(D118,FORM2.4!$B$10:$B$179,FORM2.4!$F$10:$F$179),'TABELAS AUXILIARES'!$E$8:$E$13,'TABELAS AUXILIARES'!$F$8:$F$13), \"Preencha o campo\")","v":"Preencha o campo"},null,null,{"$f":"_xlfn.XLOOKUP(D118, FORM3GERAL!$C$7:$C$11418,FORM3GERAL!$P$7:$P$11418)","v":{"$error":"#N/A"}},{"$f":"_xlfn.XLOOKUP(D118, FORM3GERAL!$C$7:$C$11418,FORM3GERAL!$L$7:$L$11418)","v":{"$error":"#N/A"}},{"$error":"#N/A"}]
[null,29,null,"29.5",{"$f":"IFERROR(_xlfn.XLOOKUP(_xlfn.XLOOKUP(D119,FORM2.4!$B$10:$B$179,FORM2.4!$F$10:$F$179),'TABELAS AUXILIARES'!$E$8:$E$13,'TABELAS AUXILIARES'!$F$8:$F$13), \"Preencha o campo\")","v":"Preencha o campo"},null,null,{"$f":"_xlfn.XLOOKUP(D119, FORM3GERAL!$C$7:$C$11418,FORM3GERAL!$P$7:$P$11418)","v":{"$error":"#N/A"}},{"$f":"_xlfn.XLOOKUP(D119, FORM3GERAL!$C$7:$C$11418,FORM3GERAL!$L$7:$L$11418)","v":{"$error":"#N/A"}},{"$error":"#N/A"}]
[null,29,null,"29.6",{"$f":"IFERROR(_xlfn.XLOOKUP(_xlfn.XLOOKUP(D120,FORM2.4!$B$10:$B$179,FORM2.4!$F$10:$F$179),'TABELAS AUXILIARES'!$E$8:$E$13,'TABELAS AUXILIARES'!$F$8:$F$13), \"Preencha o campo\")","v":"Preencha o campo"},null,null,{"$f":"_xlfn.XLOOKUP(D120, FORM3GERAL!$C$7:$C$11418,FORM3GERAL!$P$7:$P$11418)","v":{"$error":"#N/A"}},{"$f":"_xlfn.XLOOKUP(D120, FORM3GERAL!$C$7:$C$11418,FORM3GERAL!$L$7:$L$11418)","v":{"$error":"#N/A"}},{"$error":"#N/A"}]
[null,29,null,"29.7",{"$f":"IFERROR(_xlfn.XLOOKUP(_xlfn.XLOOKUP(D121,FORM2.4!$B$10:$B$179,FORM2.4!$F$10:$F$179),'TABELAS AUXILIARES'!$E$8:$E$13,'TABELAS AUXILIARES'!$F$8:$F$13), \"Preencha o campo\")","v":"Preencha o campo"},null,null,{"$f":"_xlfn.XLOOKUP(D121, FORM3GERAL!$C$7:$C$11418,FORM3GERAL!$P$7:$P$11418)","v":{"$error":"#N/A"}},{"$f":"_xlfn.XLOOKUP(D121, FORM3GERAL!$C$7:$C$11418,FORM3GERAL!$L$7:$L$11418)","v":{"$error":"#N/A"}},{"$error":"#N/A"}]
[null,29,null,"29.8",{"$f":"IFERROR(_xlfn.XLOOKUP(_xlfn.XLOOKUP(D122,FORM2.4!$B$10:$B$179,FORM2.4!$F$10:$F$179),'TABELAS AUXILIARES'!$E$8:$E$13,'TABELAS AUXILIARES'!$F$8:$F$13), \"Preencha o campo\")","v":"Preencha o campo"},null,null,{"$f":"_xlfn.XLOOKUP(D122, FORM3GERAL!$C$7:$C$11418,FORM3GERAL!$P$7:$P$11418)","v":{"$error":"#N/A"}},{"$f":"_xlfn.XLOOKUP(D122, FORM3GERAL!$C$7:$C$11418,FORM3GERAL!$L$7:$L$11418)","v":{"$error":"#N/A"}},{"$error":"#N/A"}]
[null,29,null,"29.9",{"$f":"IFERROR(_xlfn.XLOOKUP(_xlfn.XLOOKUP(D123,FORM2.4!$B$10:$B$179,FORM2.4!$F$10:$F$179),'TABELAS AUXILIARES'!$E$8:$E$13,'TABELAS AUXILIARES'!$F$8:$F$13), \"Preencha o campo\")","v":"Preencha o campo"},null,null,{"$f":"_xlfn.XLOOKUP(D123, FORM3GERAL!$C$7:$C$11418,FORM3GERAL!$P$7:$P$11418)","v":{"$error":"#N/A"}},{"$f":"_xlfn.XLOOKUP(D123, FORM3GERAL!$C$7:$C$11418,FORM3GERAL!$L$7:$L$11418)","v":{"$error":"#N/A"}},{"$error":"#N/A"}]
[null,29,null,"29.10",{"$f":"IFERROR(_xlfn.XLOOKUP(_xlfn.XLOOKUP(D124,FORM2.4!$B$10:$B$179,FORM2.4!$F$10:$F$179),'TABELAS AUXILIARES'!$E$8:$E$13,'TABELAS AUXILIARES'!$F$8:$F$13), \"Preencha o campo\")","v":"Preencha o campo"},null,null,{"$f":"_xlfn.XLOOKUP(D124, FORM3GERAL!$C$7:$C$11418,FORM3GERAL!$P$7:$P$11418)","v":{"$error":"#N/A"}},{"$f":"_xlfn.XLOOKUP(D124, FORM3GERAL!$C$7:$C$11418,FORM3GERAL!$L$7:$L$11418)","v":{"$error":"#N/A"}},{"$error":"#N/A"}]
[null,29,null,"29.11",{"$f":"IFERROR(_xlfn.XLOOKUP(_xlfn.XLOOKUP(D125,FORM2.4!$B$10:$B$179,FORM2.4!$F$10:$F$179),'TABELAS AUXILIARES'!$E$8:$E$13,'TABELAS AUXILIARES'!$F$8:$F$13), \"Preencha o campo\")","v":"Preencha o campo"},null,null,{"$f":"_xlfn.XLOOKUP(D125, FORM3GERAL!$C$7:$C$11418,FORM3GERAL!$P$7:$P$11418)","v":{"$error":"#N/A"}},{"$f":"_xlfn.XLOOKUP(D125, FORM3GERAL!$C$7:$C$11418,FORM3GERAL!$L$7:$L$11418)","v":{"$error":"#N/A"}},{"$error":"#N/A"}]
[null,29,null,"29.12",{"$f":"IFERROR(_xlfn.XLOOKUP(_xlfn.XLOOKUP(D126,FORM2.4!$B$10:$B$179,FORM2.4!$F$10:$F$179),'TABELAS AUXILIARES'!$E$8:$E$13,'TABELAS AUXILIARES'!$F$8:$F$13), \"Preencha o campo\")","v":"Preencha o campo"},null,null,{"$f":"_xlfn.XLOOKUP(D126, FORM3GERAL!$C$7:$C$11418,FORM3GERAL!$P$7:$P$11418)","v":{"$error":"#N/A"}},{"$f":"_xlfn.XLOOKUP(D126, FORM3GERAL!$C$7:$C$11418,FORM3GERAL!$L$7:$L$11418)","v":{"$error":"#N/A"}},{"$error":"#N/A"}]
[null,30,{"$f":"FORM2.4!H140","v":"Selecione sua Resposta"},"30.1",{"$f":"IFERROR(_xlfn.XLOOKUP(_xlfn.XLOOKUP(D127,FORM2.4!$B$10:$B$179,FORM2.4!$F$10:$F$179),'TABELAS AUXILIARES'!$E$8:$E$13,'TABELAS AUXILIARES'!$F$8:$F$13), \"Preencha o campo\")","v":"Preencha o campo"},{"$f":"IFERROR(IF(COUNTIF(E127:E138,\"Preencha o campo\")>0, \"Por favor preencha todas as medidas\",(SUMIF(E127:E138,\">=0\")/(COUNTA(E127:E138)-COUNTIF(E127:E138,'TABELAS AUXILIARES'!$F$13))/2)*(1+C127*1/5)), \"Preencha todos os campos\")","v":"Por favor preencha todas as medidas"},null,{"$f":"_xlfn.XLOOKUP(D127, FORM3GERAL!$C$7:$C$11418,FORM3GERAL!$P$7:$P$11418)","v":{"$error":"#N/A"}},{"$f":"_xlfn.XLOOKUP(D127, FORM3GERAL!$C$7:$C$11418,FORM3GERAL!$L$7:$L$11418)","v":{"$error":"#N/A"}},{"$error":"#N/A"}]
[null,30,null,"30.2",{"$f":"IFERROR(_xlfn.XLOOKUP(_xlfn.XLOOKUP(D128,FORM2.4!$B$10:$B$179,FORM2.4!$F$10:$F$179),'TABELAS AUXILIARES'!$E$8:$E$13,'TABELAS AUXILIARES'!$F$8:$F$13), \"Preencha o campo\")","v":"Preencha o campo"},null,null,{"$f":"_xlfn.XLOOKUP(D128, FORM3GERAL!$C$7:$C$11418,FORM3GERAL!$P$7:$P$11418)","v":{"$error":"#N/A"}},{"$f":"_xlfn.XLOOKUP(D128, FORM3GERAL!$C$7:$C$11418,FORM3GERAL!$L$7:$L$11418)","v":{"$error":"#N/A"}},{"$error":"#N/A"}]
[null,30,null,"30.3",{"$f":"IFERROR(_xlfn.XLOOKUP(_xlfn.XLOOKUP(D129,FORM2.4!$B$10:$B$179,FORM2.4!$F$10:$F$179),'TABELAS AUXILIARES'!$E$8:$E$13,'TABELAS AUXILIARES'!$F$8:$F$13), \"Preencha o campo\")","v":"Preencha o campo"},null,null,{"$f":"_xlfn.XLOOKUP(D129, FORM3GERAL!$C$7:$C$11418,FORM3GERAL!$P$7:$P$11418)","v":{"$error":"#N/A"}},{"$f":"_xlfn.XLOOKUP(D129, FORM3GERAL!$C$7:$C$11418,FORM3GERAL!$L$7:$L$11418)","v":{"$error":"#N/A"}},{"$error":"#N/A"}]
[null,30,null,"30.4",{"$f":"IFERROR(_xlfn.XLOOKUP(_xlfn.XLOOKUP(D130,FORM2.4!$B$10:$B$179,FORM2.4!$F$10:$F$179),'TABELAS AUXILIARES'!$E$8:$E$13,'TABELAS AUXILIARES'!$F$8:$F$13), \"Preencha o campo\")","v":"Preencha o campo"},null,null,{"$f":"_xlfn.XLOOKUP(D130, FORM3GERAL!$C$7:$C$11418,FORM3GERAL!$P$7:$P$11418)","v":{"$error":"#N/A"}},{"$f":"_xlfn.XLOOKUP(D130, FORM3GERAL!$C$7:$C$11418,FORM3GERAL!$L$7:$L$11418)","v":{"$error":"#N/A"}},{"$error":"#N/A"}]
[null,30,null,"30.5",{"$f":"IFERROR(_xlfn.XLOOKUP(_xlfn.XLOOKUP(D131,FORM2.4!$B$10:$B$179,FORM2.4!$F$10:$F$179),'TABELAS AUXILIARES'!$E$8:$E$13,'TABELAS AUXILIARES'!$F$8:$F$13), \"Preencha o campo\")","v":"Preencha o campo"},null,null,{"$f":"_xlfn.XLOOKUP(D131, FORM3GERAL!$C$7:$C$11418,FORM3GERAL!$P$7:$P$11418)","v":{"$error":"#N/A"}},{"$f":"_xlfn.XLOOKUP(D131, FORM3GERAL!$C$7:$C$11418,FORM3GERAL!$L$7:$L$11418)","v":{"$error":"#N/A"}},{"$error":"#N/A"}]
[null,30,null,"30.6",{"$f":"IFERROR(_xlfn.XLOOKUP(_xlfn.XLOOKUP(D132,FORM2.4!$B$10:$B$179,FORM2.4!$F$10:$F$179),'TABELAS AUXILIARES'!$E$8:$E$13,'TABELAS AUXILIARES'!$F$8:$F$13), \"Preencha o campo\")","v":"Preencha o campo"},null,null,{"$f":"_xlfn.XLOOKUP(D132, FORM3GERAL!$C$7:$C$11418,FORM3GERAL!$P$7:$P$11418)","v":{"$error":"#N/A"}},{"$f":"_xlfn.XLOOKUP(D132, FORM3GERAL!$C$7:$C$11418,FORM3GERAL!$L$7:$L$11418)","v":{"$error":"#N/A"}},{"$error":"#N/A"}]
[null,30,null,"30.7",{"$f":"IFERROR(_xlfn.XLOOKUP(_xlfn.XLOOKUP(D133,FORM2.4!$B$10:$B$179,FORM2.4!$F$10:$F$179),'TABELAS AUXILIARES'!$E$8:$E$13,'TABELAS AUXILIARES'!$F$8:$F$13), \"Preencha o campo\")","v":"Preencha o campo"},null,null,{"$f":"_xlfn.XLOOKUP(D133, FORM3GERAL!$C$7:$C$11418,FORM3GERAL!$P$7:$P$11418)","v":{"$error":"#N/A"}},{"$f":"_xlfn.XLOOKUP(D133, FORM3GERAL!$C$7:$C$11418,FORM3GERAL!$L$7:$L$11418)","v":{"$error":"#N/A"}},{"$error":"#N/A"}]
[null,30,null,"30.8",{"$f":"IFERROR(_xlfn.XLOOKUP(_xlfn.XLOOKUP(D134,FORM2.4!$B$10:$B$179,FORM2.4!$F$10:$F$179),'TABELAS AUXILIARES'!$E$8:$E$13,'TABELAS AUXILIARES'!$F$8:$F$13), \"Preencha o campo\")","v":"Preencha o campo"},null,null,{"$f":"_xlfn.XLOOKUP(D134, FORM3GERAL!$C$7:$C$11418,FORM3GERAL!$P$7:$P$11418)","v":{"$error":"#N/A"}},{"$f":"_xlfn.XLOOKUP(D134, FORM3GERAL!$C$7:$C$11418,FORM3GERAL!$L$7:$L$11418)","v":{"$error":"#N/A"}},{"$error":"#N/A"}]
[null,30,null,"30.9",{"$f":"IFERROR(_xlfn.XLOOKUP(_xlfn.XLOOKUP(D135,FORM2.4!$B$10:$B$179,FORM2.4!$F$10:$F$179),'TABELAS AUXILIARES'!$E$8:$E$13,'TABELAS AUXILIARES'!$F$8:$F$13), \"Preencha o campo\")","v":"Preencha o campo"},null,null,{"$f":"_xlfn.XLOOKUP(D135, FORM3GERAL!$C$7:$C$11418,FORM3GERAL!$P$7:$P$11418)","v":{"$error":"#N/A"}},{"$f":"_xlfn.XLOOKUP(D135, FORM3GERAL!$C$7:$C$11418,FORM3GERAL!$L$7:$L$11418)","v":{"$error":"#N/A"}},{"$error":"#N/A"}]
[null,30,null,"30.10",{"$f":"IFERROR(_xlfn.XLOOKUP(_xlfn.XLOOKUP(D136,FORM2.4!$B$10:$B$179,FORM2.4!$F$10:$F$179),'TABELAS AUXILIARES'!$E$8:$E$13,'TABELAS AUXILIARES'!$F$8:$F$13), \"Preencha o campo\")","v":"Preencha o campo"},null,null,{"$f":"_xlfn.XLOOKUP(D136, FORM3GERAL!$C$7:$C$11418,FORM3GERAL!$P$7:$P$11418)","v":{"$error":"#N/A"}},{"$f":"_xlfn.XLOOKUP(D136, FORM3GERAL!$C$7:$C$11418,FORM3GERAL!$L$7:$L$11418)","v":{"$error":"#N/A"}},{"$f":"IF(H136=1,IF(I136=\"Concluído\",1,0),0)","v":{"$error":"#N/A"}}]
[null,30,null,"30.11",{"$f":"IFERROR(_xlfn.XLOOKUP(_xlfn.XLOOKUP(D137,FORM2.4!$B$10:$B$179,FORM2.4!$F$10:$F$179),'TABELAS AUXILIARES'!$E$8:$E$13,'TABELAS AUXILIARES'!$F$8:$F$13), \"Preencha o campo\")","v":"Preencha o campo"},null,null,{"$f":"_xlfn.XLOOKUP(D137, FORM3GERAL!$C$7:$C$11418,FORM3GERAL!$P$7:$P$11418)","v":{"$error":"#N/A"}},{"$f":"_xlfn.XLOOKUP(D137, FORM3GERAL!$C$7:$C$11418,FORM3GERAL!$L$7:$L$11418)","v":{"$error":"#N/A"}},{"$error":"#N/A"}]
[null,30,null,"30.12",{"$f":"IFERROR(_xlfn.XLOOKUP(_xlfn.XLOOKUP(D138,FORM2.4!$B$10:$B$179,FORM2.4!$F$10:$F$179),'TABELAS AUXILIARES'!$E$8:$E$13,'TABELAS AUXILIARES'!$F$8:$F$13), \"Preencha o campo\")","v":"Preencha o campo"},null,null,{"$f":"_xlfn.XLOOKUP(D138, FORM3GERAL!$C$7:$C$11418,FORM3GERAL!$P$7:$P$11418)","v":{"$error":"#N/A"}},{"$f":"_xlfn.XLOOKUP(D138, FORM3GERAL!$C$7:$C$11418,FORM3GERAL!$L$7:$L$11418)","v":{"$error":"#N/A"}},{"$error":"#N/A"}]
[null,31,{"$f":"FORM2.4!H153","v":"Selecione sua Resposta"},"31.1",{"$f":"IFERROR(_xlfn.XLOOKUP(_xlfn.XLOOKUP(D139,FORM2.4!$B$10:$B$179,FORM2.4!$F$10:$F$179),'TABELAS AUXILIARES'!$E$8:$E$13,'TABELAS AUXILIARES'!$F$8:$F$13), \"Preencha o campo\")","v":"Preencha o campo"},{"$f":"IFERROR(IF(COUNTIF(E139:E152,\"Preencha o campo\")>0, \"Por favor preencha todas as medidas\",(SUMIF(E139:E152,\">=0\")/(COUNTA(E139:E152)-COUNTIF(E139:E152,'TABELAS AUXILIARES'!$F$13))/2)*(1+C139*1/5)), \"Preencha todos os campos\")","v":"Por favor preencha todas as medidas"},null,{"$f":"_xlfn.XLOOKUP(D139, FORM3GERAL!$C$7:$C$11418,FORM3GERAL!$P$7:$P$11418)","v":{"$error":"#N/A"}},{"$f":"_xlfn.XLOOKUP(D139, FORM3GERAL!$C$7:$C$11418,FORM3GERAL!$L$7:$L$11418)","v":{"$error":"#N/A"}},{"$error":"#N/A"}]
[null,31,null,"31.2",{"$f":"IFERROR(_xlfn.XLOOKUP(_xlfn.XLOOKUP(D140,FORM2.4!$B$10:$B$179,FORM2.4!$F$10:$F$179),'TABELAS AUXILIARES'!$E$8:$E$13,'TABELAS AUXILIARES'!$F$8:$F$13), \"Preencha o campo\")","v":"Preencha o campo"},null,null,{"$f":"_xlfn.XLOOKUP(D140, FORM3GERAL!$C$7:$C$11418,FORM3GERAL!$P$7:$P$11418)","v":{"$error":"#N/A"}},{"$f":"_xlfn.XLOOKUP(D140, FORM3GERAL!$C$7:$C$11418,FORM3GERAL!$L$7:$L$11418)","v":{"$error":"#N/A"}},{"$error":"#N/A"}]
[null,31,null,"31.3",{"$f":"IFERROR(_xlfn.XLOOKUP(_xlfn.XLOOKUP(D141,FORM2.4!$B$10:$B$179,FORM2.4!$F$10:$F$179),'TABELAS AUXILIARES'!$E$8:$E$13,'TABELAS AUXILIARES'!$F$8:$F$13), \"Preencha o campo\")","v":"Preencha o campo"},null,null,{"$f":"_xlfn.XLOOKUP(D141, FORM3GERAL!$C$7:$C$11418,FORM3GERAL!$P$7:$P$11418)","v":{"$error":"#N/A"}},{"$f":"_xlfn.XLOOKUP(D141, FORM3GERAL!$C$7:$C$11418,FORM3GERAL!$L$7:$L$11418)","v":{"$error":"#N/A"}},{"$error":"#N/A"}]
[null,31,null,"31.4",{"$f":"IFERROR(_xlfn.XLOOKUP(_xlfn.XLOOKUP(D142,FORM2.4!$B$10:$B$179,FORM2.4!$F$10:$F$179),'TABELAS AUXILIARES'!$E$8:$E$13,'TABELAS AUXILIARES'!$F$8:$F$13), \"Preencha o campo\")","v":"Preencha o campo"},null,null,{"$f":"_xlfn.XLOOKUP(D142, FORM3GERAL!$C$7:$C$11418,FORM3GERAL!$P$7:$P$11418)","v":{"$error":"#N/A"}},{"$f":"_xlfn.XLOOKUP(D142, FORM3GERAL!$C$7:$C$11418,FORM3GERAL!$L$7:$L$11418)","v":{"$error":"#N/A"}},{"$error":"#N/A"}]
[null,31,null,"31.5",{"$f":"IFERROR(_xlfn.XLOOKUP(_xlfn.XLOOKUP(D143,FORM2.4!$B$10:$B$179,FORM2.4!$F$10:$F$179),'TABELAS AUXILIARES'!$E$8:$E$13,'TABELAS AUXILIARES'!$F$8:$F$13), \"Preencha o campo\")","v":"Preencha o campo"},null,null,{"$f":"_xlfn.XLOOKUP(D143, FORM3GERAL!$C$7:$C$11418,FORM3GERAL!$P$7:$P$11418)","v":{"$error":"#N/A"}},{"$f":"_xlfn.XLOOKUP(D143, FORM3GERAL!$C$7:$C$11418,FORM3GERAL!$L$7:$L$11418)","v":{"$error":"#N/A"}},{"$error":"#N/A"}]
[null,31,null,"31.6",{"$f":"IFERROR(_xlfn.XLOOKUP(_xlfn.XLOOKUP(D144,FORM2.4!$B$10:$B$179,FORM2.4!$F$10:$F$179),'TABELAS AUXILIARES'!$E$8:$E$13,'TABELAS AUXILIARES'!$F$8:$F$13), \"Preencha o campo\")","v":"Preencha o campo"},null,null,{"$f":"_xlfn.XLOOKUP(D144, FORM3GERAL!$C$7:$C$11418,FORM3GERAL!$P$7:$P$11418)","v":{"$error":"#N/A"}},{"$f":"_xlfn.XLOOKUP(D144, FORM3GERAL!$C$7:$C$11418,FORM3GERAL!$L$7:$L$11418)","v":{"$error":"#N/A"}},{"$error":"#N/A"}]
[null,31,null,"31.7",{"$f":"IFERROR(_xlfn.XLOOKUP(_xlfn.XLOOKUP(D145,FORM2.4!$B$10:$B$179,FORM2.4!$F$10:$F$179),'TABELAS AUXILIARES'!$E$8:$E$13,'TABELAS AUXILIARES'!$F$8:$F$13), \"Preencha o campo\")","v":"Preencha o campo"},null,null,{"$f":"_xlfn.XLOOKUP(D145, FORM3GERAL!$C$7:$C$11418,FORM3GERAL!$P$7:$P$11418)","v":{"$error":"#N/A"}},{"$f":"_xlfn.XLOOKUP(D145, FORM3GERAL!$C$7:$C$11418,FORM3GERAL!$L$7:$L$11418)","v":{"$error":"#N/A"}},{"$error":"#N/A"}]
[null,31,null,"31.8",{"$f":"IFERROR(_xlfn.XLOOKUP(_xlfn.XLOOKUP(D146,FORM2.4!$B$10:$B$179,FORM2.4!$F$10:$F$179),'TABELAS AUXILIARES'!$E$8:$E$13,'TABELAS AUXILIARES'!$F$8:$F$13), \"Preencha o campo\")","v":"Preencha o campo"},null,null,{"$f":"_xlfn.XLOOKUP(D146, FORM3GERAL!$C$7:$C$11418,FORM3GERAL!$P$7:$P$11418)","v":{"$error":"#N/A"}},{"$f":"_xlfn.XLOOKUP(D146, FORM3GERAL!$C$7:$C$11418,FORM3GERAL!$L$7:$L$11418)","v":{"$error":"#N/A"}},{"$error":"#N/A"}]
[null,31,null,"31.9",{"$f":"IFERROR(_xlfn.XLOOKUP(_xlfn.XLOOKUP(D147,FORM2.4!$B$10:$B$179,FORM2.4!$F$10:$F$179),'TABELAS AUXILIARES'!$E$8:$E$13,'TABELAS AUXILIARES'!$F$8:$F$13), \"Preencha o campo\")","v":"Preencha o campo"},null,null,{"$f":"_xlfn.XLOOKUP(D147, FORM3GERAL!$C$7:$C$11418,FORM3GERAL!$P$7:$P$11418)","v":{"$error":"#N/A"}},{"$f":"_xlfn.XLOOKUP(D147, FORM3GERAL!$C$7:$C$11418,FORM3GERAL!$L$7:$L$11418)","v":{"$error":"#N/A"}},{"$error":"#N/A"}]
[null,31,null,"31.10",{"$f":"IFERROR(_xlfn.XLOOKUP(_xlfn.XLOOKUP(D148,FORM2.4!$B$10:$B$179,FORM2.4!$F$10:$F$179),'TABELAS AUXILIARES'!$E$8:$E$13,'TABELAS AUXILIARES'!$F$8:$F$13), \"Preencha o campo\")","v":"Preencha o campo"},null,null,{"$f":"_xlfn.XLOOKUP(D148, FORM3GERAL!$C$7:$C$11418,FORM3GERAL!$P$7:$P$11418)","v":{"$error":"#N/A"}},{"$f":"_xlfn.XLOOKUP(D148, FORM3GERAL!$C$7:$C$11418,FORM3GERAL!$L$7:$L$11418)","v":{"$error":"#N/A"}},{"$error":"#N/A"}]
[null,31,null,"31.11",{"$f":"IFERROR(_xlfn.XLOOKUP(_xlfn.XLOOKUP(D149,FORM2.4!$B$10:$B$179,FORM2.4!$F$10:$F$179),'TABELAS AUXILIARES'!$E$8:$E$13,'TABELAS AUXILIARES'!$F$8:$F$13), \"Preencha o campo\")","v":"Preencha o campo"},null,null,{"$f":"_xlfn.XLOOKUP(D149, FORM3GERAL!$C$7:$C$11418,FORM3GERAL!$P$7:$P$11418)","v":{"$error":"#N/A"}},{"$f":"_xlfn.XLOOKUP(D149, FORM3GERAL!$C$7:$C$11418,FORM3GERAL!$L$7:$L$11418)","v":{"$error":"#N/A"}},{"$error":"#N/A"}]
[null,31,null,"31.12",{"$f":"IFERROR(_xlfn.XLOOKUP(_xlfn.XLOOKUP(D150,FORM2.4!$B$10:$B$179,FORM2.4!$F$10:$F$179),'TABELAS AUXILIARES'!$E$8:$E$13,'TABELAS AUXILIARES'!$F$8:$F$13), \"Preencha o campo\")","v":"Preencha o campo"},null,null,{"$f":"_xlfn.XLOOKUP(D150, FORM3GERAL!$C$7:$C$11418,FORM3GERAL!$P$7:$P$11418)","v":{"$error":"#N/A"}},{"$f":"_xlfn.XLOOKUP(D150, FORM3GERAL!$C$7:$C$11418,FORM3GERAL!$L$7:$L$11418)","v":{"$error":"#N/A"}},{"$error":"#N/A"}]
[null,31,null,"31.13",{"$f":"IFERROR(_xlfn.XLOOKUP(_xlfn.XLOOKUP(D151,FORM2.4!$B$10:$B$179,FORM2.4!$F$10:$F$179),'TABELAS AUXILIARES'!$E$8:$E$13,'TABELAS AUXILIARES'!$F$8:$F$13), \"Preencha o campo\")","v":"Preencha o campo"},null,null,{"$f":"_xlfn.XLOOKUP(D151, FORM3GERAL!$C$7:$C$11418,FORM3GERAL!$P$7:$P$11418)","v":{"$error":"#N/A"}},{"$f":"_xlfn.XLOOKUP(D151, FORM3GERAL!$C$7:$C$11418,FORM3GERAL!$L$7:$L$11418)","v":{"$error":"#N/A"}},{"$error":"#N/A"}]
[null,31,null,"31.14",{"$f":"IFERROR(_xlfn.XLOOKUP(_xlfn.XLOOKUP(D152,FORM2.4!$B$10:$B$179,FORM2.4!$F$10:$F$179),'TABELAS AUXILIARES'!$E$8:$E$13,'TABELAS AUXILIARES'!$F$8:$F$13), \"Preencha o campo\")","v":"Preencha o campo"},null,null,{"$f":"_xlfn.XLOOKUP(D152, FORM3GERAL!$C$7:$C$11418,FORM3GERAL!$P$7:$P$11418)","v":{"$error":"#N/A"}},{"$f":"_xlfn.XLOOKUP(D152, FORM3GERAL!$C$7:$C$11418,FORM3GERAL!$L$7:$L$11418)","v":{"$error":"#N/A"}},{"$error":"#N/A"}]

{"sheet":"BASE_CIS8","index":20,"n_rows":48,"n_cols":8,"rows_kept":48,"cut":false,"hidden":true,"merged":[[6,6,7,6],[8,3,8,6],[9,4,9,5],[33,4,33,5]]}
[]
[]
[]
[]
[]
[]
[null,null,null,"ID CONTROLE","NOME CONTROLE","Maturidade Controle",{"$f":"IFERROR(_xlfn.IFS(F8<0.3,'TABELAS AUXILIARES'!O8,F8 <0.5,'TABELAS AUXILIARES'!O9,F8 < 0.7,'TABELAS AUXILIARES'!O10,F8 < 0.89,'TABELAS AUXILIARES'!O11,F8 <= 1,'TABELAS AUXILIARES'!O12),\"Por favor preencha todos os campos\")","v":"Por favor preencha todos os campos"}]
[null,null,null,0,"ESTRUTURAÇÃO BÁSICA DE GESTÃO EM SEGURANÇA DA INFORMAÇÃO E PRIVACIDADE",{"$f":"LOGICA_CONTROLE_0!E4","v":"Por favor preencher o INCC"}]
[]
[null,null,null,"ISEG",{"$f":"LOGICA_ISEG!G7","v":"Por favor preencha todos os campos"},null,{"$f":"IFERROR(_xlfn.IFS(E10<0.3,'TABELAS AUXILIARES'!O8,E10 <0.5,'TABELAS AUXILIARES'!O9,E10 < 0.7,'TABELAS AUXILIARES'!O10,E10 < 0.89,'TABELAS AUXILIARES'!O11,E10 <= 1,'TABELAS AUXILIARES'!O12), \"Por favor preencha todos os campos\")","v":"Por favor preencha todos os campos"}]
[null,null,null,"ID CONTROLE","NOME CONTROLE","Maturidade do Controle de Segurança da Informação"]
[null,null,null,1,"CIS CONTROLE 1: INVENTÁRIO E CONTROLE DE ATIVOS INSTITUCIONAIS",{"$f":"LOGICA_ISEG!F7","v":"Por favor preencha todas as medidas"},{"$f":"_xlfn.IFNA(_xlfn.IFS(F12<0.3,'TABELAS AUXILIARES'!$O$8,F12 <0.5,'TABELAS AUXILIARES'!$O$9,F12 < 0.7,'TABELAS AUXILIARES'!$O$10,F12 < 0.89,'TABELAS AUXILIARES'!$O$11,F12 <= 1,'TABELAS AUXILIARES'!$O$12,F12=LISTA_GERAL!$A$2,\" \"),\"Preencha todas as medidas\")","v":"Preencha todas as medidas"},{"$f":"IF(OR(F12=\"Por favor preencha todas as medidas\",G12=\"Por favor preencha todas as medidas\"),\"Por favor preencha todas as medidas\",_xlfn.CONCAT(G12, \" \", F12))","v":"Por favor preencha todas as medidas"}]
[null,null,null,2,"CIS CONTROLE 2: INVENTÁRIO E CONTROLE DE ATIVOS DE SOFTWARE",{"$f":"LOGICA_ISEG!F12","v":"Por favor preencha todas as medidas"},{"$f":"_xlfn.IFNA(_xlfn.IFS(F13<0.3,'TABELAS AUXILIARES'!$O$8,F13 <0.5,'TABELAS AUXILIARES'!$O$9,F13 < 0.7,'TABELAS AUXILIARES'!$O$10,F13 < 0.89,'TABELAS AUXILIARES'!$O$11,F13 <= 1,'TABELAS AUXILIARES'!$O$12,F13=LISTA_GERAL!$A$2,\" \"),\"Preencha todas as medidas\")","v":"Preencha todas as medidas"},"Por favor preencha todas as medidas"]
[null,null,null,3,"CIS CONTROLE 3: PROTEÇÃO DE DADOS",{"$f":"LOGICA_ISEG!F19","v":"Por favor preencha todas as medidas"},{"$f":"_xlfn.IFNA(_xlfn.IFS(F14<0.3,'TABELAS AUXILIARES'!$O$8,F14 <0.5,'TABELAS AUXILIARES'!$O$9,F14 < 0.7,'TABELAS AUXILIARES'!$O$10,F14 < 0.89,'TABELAS AUXILIARES'!$O$11,F14 <= 1,'TABELAS AUXILIARES'!$O$12,F14=LISTA_GERAL!$A$2,\" \"),\"Preencha todas as medidas\")","v":"Preencha todas as medidas"},"Por favor preencha todas as medidas"]
[null,null,null,4,"CIS CONTROLE 4: CONFIGURAÇÃO SEGURA DE ATIVOS INSTITUCIONAIS E SOFTWARE",{"$f":"LOGICA_ISEG!F33","v":"Por favor preencha todas as medidas"},{"$f":"_xlfn.IFNA(_xlfn.IFS(F15<0.3,'TABELAS AUXILIARES'!$O$8,F15 <0.5,'TABELAS AUXILIARES'!$O$9,F15 < 0.7,'TABELAS AUXILIARES'!$O$10,F15 < 0.89,'TABELAS AUXILIARES'!$O$11,F15 <= 1,'TABELAS AUXILIARES'!$O$12,F15=LISTA_GERAL!$A$2,\" \"),\"Preencha todas as medidas\")","v":"Preencha todas as medidas"},"Por favor preencha todas as medidas"]
[null,null,null,5,"CIS CONTROLE 5: GESTÃO DE CONTAS",{"$f":"LOGICA_ISEG!F45","v":"Por favor preencha todas as medidas"},{"$f":"_xlfn.IFNA(_xlfn.IFS(F16<0.3,'TABELAS AUXILIARES'!$O$8,F16 <0.5,'TABELAS AUXILIARES'!$O$9,F16 < 0.7,'TABELAS AUXILIARES'!$O$10,F16 < 0.89,'TABELAS AUXILIARES'!$O$11,F16 <= 1,'TABELAS AUXILIARES'!$O$12,F16=LISTA_GERAL!$A$2,\" \"),\"Preencha todas as medidas\")","v":"Preencha todas as medidas"},"Por favor preencha todas as medidas"]
[null,null,null,6,"CIS CONTROLE 6: GESTÃO DO CONTROLE DE ACESSO",{"$f":"LOGICA_ISEG!F51","v":"Por favor preencha todas as medidas"},{"$f":"_xlfn.IFNA(_xlfn.IFS(F17<0.3,'TABELAS AUXILIARES'!$O$8,F17 <0.5,'TABELAS AUXILIARES'!$O$9,F17 < 0.7,'TABELAS AUXILIARES'!$O$10,F17 < 0.89,'TABELAS AUXILIARES'!$O$11,F17 <= 1,'TABELAS AUXILIARES'!$O$12,F17=LISTA_GERAL!$A$2,\" \"),\"Preencha todas as medidas\")","v":"Preencha todas as medidas"},"Por favor preencha todas as medidas"]
[null,null,null,7,"CIS CONTROLE 7: GESTÃO CONTÍNUA DE VULNERABILIDADES",{"$f":"LOGICA_ISEG!F59","v":"Por favor preencha todas as medidas"},{"$f":"_xlfn.IFNA(_xlfn.IFS(F18<0.3,'TABELAS AUXILIARES'!$O$8,F18 <0.5,'TABELAS AUXILIARES'!$O$9,F18 < 0.7,'TABELAS AUXILIARES'!$O$10,F18 < 0.89,'TABELAS AUXILIARES'!$O$11,F18 <= 1,'TABELAS AUXILIARES'!$O$12,F18=LISTA_GERAL!$A$2,\" \"),\"Preencha todas as medidas\")","v":"Preencha todas as medidas"},"Por favor preencha todas as medidas"]
[null,null,null,8,"CIS CONTROLE 8: GESTÃO DE REGISTROS DE AUDITORIA",{"$f":"LOGICA_ISEG!F66","v":"Por favor preencha todas as medidas"},{"$f":"_xlfn.IFNA(_xlfn.IFS(F19<0.3,'TABELAS AUXILIARES'!$O$8,F19 <0.5,'TABELAS AUXILIARES'!$O$9,F19 < 0.7,'TABELAS AUXILIARES'!$O$10,F19 < 0.89,'TABELAS AUXILIARES'!$O$11,F19 <= 1,'TABELAS AUXILIARES'!$O$12,F19=LISTA_GERAL!$A$2,\" \"),\"Preencha todas as medidas\")","v":"Preencha todas as medidas"},"Por favor preencha todas as medidas"]
[null,null,null,9,"CIS CONTROLE 9: PROTEÇÕES DE E-MAIL E NAVEGADOR WEB",{"$f":"LOGICA_ISEG!F78","v":"Por favor preencha todas as medidas"},{"$f":"_xlfn.IFNA(_xlfn.IFS(F20<0.3,'TABELAS AUXILIARES'!$O$8,F20 <0.5,'TABELAS AUXILIARES'!$O$9,F20 < 0.7,'TABELAS AUXILIARES'!$O$10,F20 < 0.89,'TABELAS AUXILIARES'!$O$11,F20 <= 1,'TABELAS AUXILIARES'!$O$12,F20=LISTA_GERAL!$A$2,\" \"),\"Preencha todas as medidas\")","v":"Preencha todas as medidas"},"Por favor preencha todas as medidas"]
[null,null,null,10,"CIS CONTROLE 10: DEFESAS CONTRA MALWARE",{"$f":"LOGICA_ISEG!F85","v":"Por favor preencha todas as medidas"},{"$f":"_xlfn.IFNA(_xlfn.IFS(F21<0.3,'TABELAS AUXILIARES'!$O$8,F21 <0.5,'TABELAS AUXILIARES'!$O$9,F21 < 0.7,'TABELAS AUXILIARES'!$O$10,F21 < 0.89,'TABELAS AUXILIARES'!$O$11,F21 <= 1,'TABELAS AUXILIARES'!$O$12,F21=LISTA_GERAL!$A$2,\" \"),\"Preencha todas as medidas\")","v":"Preencha todas as medidas"},"Por favor preencha todas as medidas"]
[null,null,null,11,"CIS CONTROLE 11: RECUPERAÇÃO DE DADOS",{"$f":"LOGICA_ISEG!F92","v":"Por favor preencha todas as medidas"},{"$f":"_xlfn.IFNA(_xlfn.IFS(F22<0.3,'TABELAS AUXILIARES'!$O$8,F22 <0.5,'TABELAS AUXILIARES'!$O$9,F22 < 0.7,'TABELAS AUXILIARES'!$O$10,F22 < 0.89,'TABELAS AUXILIARES'!$O$11,F22 <= 1,'TABELAS AUXILIARES'!$O$12,F22=LISTA_GERAL!$A$2,\" \"),\"Preencha todas as medidas\")","v":"Preencha todas as medidas"},"Por favor preencha todas as medidas"]
[null,null,null,12,"CIS CONTROLE 12: GESTÃO DA INFRAESTRUTURA DE REDE",{"$f":"LOGICA_ISEG!F97","v":"Por favor preencha todas as medidas"},{"$f":"_xlfn.IFNA(_xlfn.IFS(F23<0.3,'TABELAS AUXILIARES'!$O$8,F23 <0.5,'TABELAS AUXILIARES'!$O$9,F23 < 0.7,'TABELAS AUXILIARES'!$O$10,F23 < 0.89,'TABELAS AUXILIARES'!$O$11,F23 <= 1,'TABELAS AUXILIARES'!$O$12,F23=LISTA_GERAL!$A$2,\" \"),\"Preencha todas as medidas\")","v":"Preencha todas as medidas"},"Por favor preencha todas as medidas"]
[null,null,null,13,"CIS CONTROLE 13: MONITORAMENTO E DEFESA DA REDE",{"$f":"LOGICA_ISEG!F105","v":"Por favor preencha todas as medidas"},{"$f":"_xlfn.IFNA(_xlfn.IFS(F24<0.3,'TABELAS AUXILIARES'!$O$8,F24 <0.5,'TABELAS AUXILIARES'!$O$9,F24 < 0.7,'TABELAS AUXILIARES'!$O$10,F24 < 0.89,'TABELAS AUXILIARES'!$O$11,F24 <= 1,'TABELAS AUXILIARES'!$O$12,F24=LISTA_GERAL!$A$2,\" \"),\"Preencha todas as medidas\")","v":"Preencha todas as medidas"},"Por favor preencha todas as medidas"]
[null,null,null,14,"CIS CONTROLE 14: CONSCIENTIZAÇÃO E TREINAMENTO DE COMPETÊNCIAS SOBRE SEGURANÇA",{"$f":"LOGICA_ISEG!F116","v":"Por favor preencha todas as medidas"},{"$f":"_xlfn.IFNA(_xlfn.IFS(F25<0.3,'TABELAS AUXILIARES'!$O$8,F25 <0.5,'TABELAS AUXILIARES'!$O$9,F25 < 0.7,'TABELAS AUXILIARES'!$O$10,F25 < 0.89,'TABELAS AUXILIARES'!$O$11,F25 <= 1,'TABELAS AUXILIARES'!$O$12,F25=LISTA_GERAL!$A$2,\" \"),\"Preencha todas as medidas\")","v":"Preencha todas as medidas"},"Por favor preencha todas as medidas"]
[null,null,null,15,"CIS CONTROLE 15: GESTÃO DE PROVEDOR DE SERVIÇOS",{"$f":"LOGICA_ISEG!F125","v":"Por favor preencha todas as medidas"},{"$f":"_xlfn.IFNA(_xlfn.IFS(F26<0.3,'TABELAS AUXILIARES'!$O$8,F26 <0.5,'TABELAS AUXILIARES'!$O$9,F26 < 0.7,'TABELAS AUXILIARES'!$O$10,F26 < 0.89,'TABELAS AUXILIARES'!$O$11,F26 <= 1,'TABELAS AUXILIARES'!$O$12,F26=LISTA_GERAL!$A$2,\" \"),\"Preencha todas as medidas\")","v":"Preencha todas as medidas"},"Por favor preencha todas as medidas"]
[null,null,null,16,"CIS CONTROLE 16: SEGURANÇA DE APLICAÇÕES",{"$f":"LOGICA_ISEG!F132","v":"Por favor preencha todas as medidas"},{"$f":"_xlfn.IFNA(_xlfn.IFS(F27<0.3,'TABELAS AUXILIARES'!$O$8,F27 <0.5,'TABELAS AUXILIARES'!$O$9,F27 < 0.7,'TABELAS AUXILIARES'!$O$10,F27 < 0.89,'TABELAS AUXILIARES'!$O$11,F27 <= 1,'TABELAS AUXILIARES'!$O$12,F27=LISTA_GERAL!$A$2,\" \"),\"Preencha todas as medidas\")","v":"Preencha todas as medidas"},"Por favor preencha todas as medidas"]
[null,null,null,17,"CIS CONTROLE 17: GESTÃO DE RESPOSTA A INCIDENTES",{"$f":"LOGICA_ISEG!F146","v":"Por favor preencha todas as medidas"},{"$f":"_xlfn.IFNA(_xlfn.IFS(F28<0.3,'TABELAS AUXILIARES'!$O$8,F28 <0.5,'TABELAS AUXILIARES'!$O$9,F28 < 0.7,'TABELAS AUXILIARES'!$O$10,F28 < 0.89,'TABELAS AUXILIARES'!$O$11,F28 <= 1,'TABELAS AUXILIARES'!$O$12,F28=LISTA_GERAL!$A$2,\" \"),\"Preencha todas as medidas\")","v":"Preencha todas as medidas"},"Por favor preencha todas as medidas"]
[null,null,null,18,"CIS CONTROLE 18: TESTES DE INVASÃO",{"$f":"LOGICA_ISEG!F155","v":"Por favor preencha todas as medidas"},{"$f":"_xlfn.IFNA(_xlfn.IFS(F29<0.3,'TABELAS AUXILIARES'!$O$8,F29 <0.5,'TABELAS AUXILIARES'!$O$9,F29 < 0.7,'TABELAS AUXILIARES'!$O$10,F29 < 0.89,'TABELAS AUXILIARES'!$O$11,F29 <= 1,'TABELAS AUXILIARES'!$O$12,F29=LISTA_GERAL!$A$2,\" \"),\"Preencha todas as medidas\")","v":"Preencha todas as medidas"},"Por favor preencha todas as medidas"]
[]
[]
["e"]
[]
[null,null,null,"IPRIV",{"$f":"LOGICA_IPRIV!G7","v":"Por favor preencha todos os campos"},null,{"$f":"IFERROR(_xlfn.IFS(E34<0.3,'TABELAS AUXILIARES'!O8,E10 <0.5,'TABELAS AUXILIARES'!O9,E34 < 0.7,'TABELAS AUXILIARES'!O10,E34 < 0.89,'TABELAS AUXILIARES'!O11,E34 <= 1,'TABELAS AUXILIARES'!O12), \"Por favor preencha todos os campos\")","v":"Por favor preencha todos os campos"}]
[null,null,null,"ID CONTROLE","NOME CONTROLE","Maturidade Privacidade - CONTROLE"]
[null,null,null,19,"PRIVACIDADE CONTROLE 19: INVENTÁRIO E MAPEAMENTO",{"$f":"LOGICA_IPRIV!F7","v":"Por favor preencha todas as medidas"},{"$f":"_xlfn.IFNA(_xlfn.IFS(F36<0.3,'TABELAS AUXILIARES'!$O$8,F36 <0.5,'TABELAS AUXILIARES'!$O$9,F36 < 0.7,'TABELAS AUXILIARES'!$O$10,F36 < 0.89,'TABELAS AUXILIARES'!$O$11,F36 <= 1,'TABELAS AUXILIARES'!$O$12,F36=LISTA_GERAL!$A$2,\" \"),\"Preencha todas as medidas\")","v":"Preencha todas as medidas"},{"$f":"IF(OR(F36=\"Por favor preencha todas as medidas\",G36=\"Por favor preencha todas as medidas\"),\"Por favor preencha todas as medidas\",_xlfn.CONCAT(G36, \" \", F36))","v":"Por favor preencha todas as medidas"}]
[null,null,null,20,"PRIVACIDADE CONTROLE 20: FINALIDADE E HIPÓTESES LEGAIS",{"$f":"LOGICA_IPRIV!F21","v":"Por favor preencha todas as medidas"},{"$f":"_xlfn.IFNA(_xlfn.IFS(F37<0.3,'TABELAS AUXILIARES'!$O$8,F37 <0.5,'TABELAS AUXILIARES'!$O$9,F37 < 0.7,'TABELAS AUXILIARES'!$O$10,F37 < 0.89,'TABELAS AUXILIARES'!$O$11,F37 <= 1,'TABELAS AUXILIARES'!$O$12,F37=LISTA_GERAL!$A$2,\" \"),\"Preencha todas as medidas\")","v":"Preencha todas as medidas"},{"$f":"IF(OR(F37=\"Por favor preencha todas as medidas\",G37=\"Por favor preencha todas as medidas\"),\"Por favor preencha todas as medidas\",_xlfn.CONCAT(G37, \" \", F37))","v":"Por favor preencha todas as medidas"}]
[null,null,null,21,"PRIVACIDADE CONTROLE 21: GOVERNANÇA",{"$f":"LOGICA_IPRIV!F21","v":"Por favor preencha todas as medidas"},{"$f":"_xlfn.IFNA(_xlfn.IFS(F38<0.3,'TABELAS AUXILIARES'!$O$8,F38 <0.5,'TABELAS AUXILIARES'!$O$9,F38 < 0.7,'TABELAS AUXILIARES'!$O$10,F38 < 0.89,'TABELAS AUXILIARES'!$O$11,F38 <= 1,'TABELAS AUXILIARES'!$O$12,F38=LISTA_GERAL!$A$2,\" \"),\"Preencha todas as medidas\")","v":"Preencha todas as medidas"},"Por favor preencha todas as medidas"]
[null,null,null,22,"PRIVACIDADE CONTROLE 22: POLÍTICAS, PROCESSOS E PROCEDIMENTOS",{"$f":"LOGICA_IPRIV!F45","v":"Por favor preencha todas as medidas"},{"$f":"_xlfn.IFNA(_xlfn.IFS(F39<0.3,'TABELAS AUXILIARES'!$O$8,F39 <0.5,'TABELAS AUXILIARES'!$O$9,F39 < 0.7,'TABELAS AUXILIARES'!$O$10,F39 < 0.89,'TABELAS AUXILIARES'!$O$11,F39 <= 1,'TABELAS AUXILIARES'!$O$12,F39=LISTA_GERAL!$A$2,\" \"),\"Preencha todas as medidas\")","v":"Preencha todas as medidas"},"Por favor preencha todas as medidas"]
[null,null,null,23,"PRIVACIDADE CONTROLE 23: CONSCIENTIZAÇÃO E TREINAMENTO",{"$f":"LOGICA_IPRIV!F57","v":"Por favor preencha todas as medidas"},{"$f":"_xlfn.IFNA(_xlfn.IFS(F40<0.3,'TABELAS AUXILIARES'!$O$8,F40 <0.5,'TABELAS AUXILIARES'!$O$9,F40 < 0.7,'TABELAS AUXILIARES'!$O$10,F40 < 0.89,'TABELAS AUXILIARES'!$O$11,F40 <= 1,'TABELAS AUXILIARES'!$O$12,F40=LISTA_GERAL!$A$2,\" \"),\"Preencha todas as medidas\")","v":"Preencha todas as medidas"},"Por favor preencha todas as medidas"]
[null,null,null,24,"PRIVACIDADE CONTROLE 24: MINIMIZAÇÃO DE DADOS",{"$f":"LOGICA_IPRIV!F61","v":"Por favor preencha todas as medidas"},{"$f":"_xlfn.IFNA(_xlfn.IFS(F41<0.3,'TABELAS AUXILIARES'!$O$8,F41 <0.5,'TABELAS AUXILIARES'!$O$9,F41 < 0.7,'TABELAS AUXILIARES'!$O$10,F41 < 0.89,'TABELAS AUXILIARES'!$O$11,F41 <= 1,'TABELAS AUXILIARES'!$O$12,F41=LISTA_GERAL!$A$2,\" \"),\"Preencha todas as medidas\")","v":"Preencha todas as medidas"},"Por favor preencha todas as medidas"]
[null,null,null,25,"PRIVACIDADE CONTROLE 25: GESTÃO DO TRATAMENTO",{"$f":"LOGICA_IPRIV!F76","v":"Por favor preencha todas as medidas"},{"$f":"_xlfn.IFNA(_xlfn.IFS(F42<0.3,'TABELAS AUXILIARES'!$O$8,F42 <0.5,'TABELAS AUXILIARES'!$O$9,F42 < 0.7,'TABELAS AUXILIARES'!$O$10,F42 < 0.89,'TABELAS AUXILIARES'!$O$11,F42 <= 1,'TABELAS AUXILIARES'!$O$12,F42=LISTA_GERAL!$A$2,\" \"),\"Preencha todas as medidas\")","v":"Preencha todas as medidas"},"Por favor preencha todas as medidas"]
[null,null,null,26,"PRIVACIDADE CONTROLE 26: ACESSO E QUALIDADE",{"$f":"LOGICA_IPRIV!F85","v":"Por favor preencha todas as medidas"},{"$f":"_xlfn.IFNA(_xlfn.IFS(F43<0.3,'TABELAS AUXILIARES'!$O$8,F43 <0.5,'TABELAS AUXILIARES'!$O$9,F43 < 0.7,'TABELAS AUXILIARES'!$O$10,F43 < 0.89,'TABELAS AUXILIARES'!$O$11,F43 <= 1,'TABELAS AUXILIARES'!$O$12,F43=LISTA_GERAL!$A$2,\" \"),\"Preencha todas as medidas\")","v":"Preencha todas as medidas"},"Por favor preencha todas as medidas"]
[null,null,null,27,"PRIVACIDADE CONTROLE 27: COMPARTILHAMENTO, TRANSFERÊNCIA E DIVULGAÇÃO",{"$f":"LOGICA_IPRIV!F97","v":"Por favor preencha todas as medidas"},{"$f":"_xlfn.IFNA(_xlfn.IFS(F44<0.3,'TABELAS AUXILIARES'!$O$8,F44 <0.5,'TABELAS AUXILIARES'!$O$9,F44 < 0.7,'TABELAS AUXILIARES'!$O$10,F44 < 0.89,'TABELAS AUXILIARES'!$O$11,F44 <= 1,'TABELAS AUXILIARES'!$O$12,F44=LISTA_GERAL!$A$2,\" \"),\"Preencha todas as medidas\")","v":"Preencha todas as medidas"},"Por favor preencha todas as medidas"]
[null,null,null,28,"PRIVACIDADE CONTROLE 28: SUPERVISÃO EM TERCEIROS",{"$f":"LOGICA_IPRIV!F102","v":"Por favor preencha todas as medidas"},{"$f":"_xlfn.IFNA(_xlfn.IFS(F45<0.3,'TABELAS AUXILIARES'!$O$8,F45 <0.5,'TABELAS AUXILIARES'!$O$9,F45 < 0.7,'TABELAS AUXILIARES'!$O$10,F45 < 0.89,'TABELAS AUXILIARES'!$O$11,F45 <= 1,'TABELAS AUXILIARES'!$O$12,F45=LISTA_GERAL!$A$2,\" \"),\"Preencha todas as medidas\")","v":"Preencha todas as medidas"},"Por favor preencha todas as medidas"]
[null,null,null,29,"PRIVACIDADE CONTROLE 29:  ABERTURA, TRANSPARÊNCIA E NOTIFICAÇÃO",{"$f":"LOGICA_IPRIV!F102","v":"Por favor preencha todas as medidas"},{"$f":"_xlfn.IFNA(_xlfn.IFS(F46<0.3,'TABELAS AUXILIARES'!$O$8,F46 <0.5,'TABELAS AUXILIARES'!$O$9,F46 < 0.7,'TABELAS AUXILIARES'!$O$10,F46 < 0.89,'TABELAS AUXILIARES'!$O$11,F46 <= 1,'TABELAS AUXILIARES'!$O$12,F46=LISTA_GERAL!$A$2,\" \"),\"Preencha todas as medidas\")","v":"Preencha todas as medidas"},"Por favor preencha todas as medidas"]
[null,null,null,30,"PRIVACIDADE CONTROLE 30: AVALIAÇÃO DE IMPACTO, MONITORAMENTO E AUDITORIA",{"$f":"LOGICA_IPRIV!F115","v":"Por favor preencha todas as medidas"},{"$f":"_xlfn.IFNA(_xlfn.IFS(F47<0.3,'TABELAS AUXILIARES'!$O$8,F47 <0.5,'TABELAS AUXILIARES'!$O$9,F47 < 0.7,'TABELAS AUXILIARES'!$O$10,F47 < 0.89,'TABELAS AUXILIARES'!$O$11,F47 <= 1,'TABELAS AUXILIARES'!$O$12,F47=LISTA_GERAL!$A$2,\" \"),\"Preencha todas as medidas\")","v":"Preencha todas as medidas"},"Por favor preencha todas as medidas"]
[null,null,null,31,"PRIVACIDADE CONTROLE 31:  SEGURANÇA APLICADA A PRIVACIDADE",{"$f":"LOGICA_IPRIV!F127","v":"Por favor preencha todas as medidas"},{"$f":"_xlfn.IFNA(_xlfn.IFS(F48<0.3,'TABELAS AUXILIARES'!$O$8,F48 <0.5,'TABELAS AUXILIARES'!$O$9,F48 < 0.7,'TABELAS AUXILIARES'!$O$10,F48 < 0.89,'TABELAS AUXILIARES'!$O$11,F48 <= 1,'TABELAS AUXILIARES'!$O$12,F48=LISTA_GERAL!$A$2,\" \"),\"Preencha todas as medidas\")","v":"Preencha todas as medidas"},"Por favor preencha todas as medidas"]

{"sheet":"BASE_SGD","index":21,"n_rows":2,"n_cols":478,"rows_kept":2,"cut":false,"hidden":true,"merged":[]}
["N DOCUMENTO","DATA ENVIO DO DIAGNOSTICO","ÓRGÃOS/INTITUIÇÃO","VERSÃO DO DIAGNÓSTICO","DATA FIM DIAGNOSTICO","NIVEL DE CRITICIDADE","GRUPO DE IMPLEMENTAÇÃO","ISEG","IPRIV","CONTROLE_0","INCC_0","DESCRIÇÃO_0","MED_CONTROLE_0.1","MED_CONTROLE_0.2","MED_CONTROLE_0.3","MED_CONTROLE_0.4","MED_CONTROLE_0.5","MED_CONTROLE 0.6","MED_CONTROLE_0.7","MATURIDADE_CONTROLE_0","NIVEL_C_0","CONTROLE_1","CONTROLE_1.1","CONTROLE_1.2","CONTROLE_1.3","CONTROLE_1.4","CONTROLE_1.5","MATURIDADE_CONTROLE_1","NIVEL_C_1","DESCRIÇÃO_C_1","CONTROLE_2","CONTROLE_2.1","CONTROLE_2.2","CONTROLE_2.3","CONTROLE_2.4","CONTROLE_2.5","CONTROLE_2.6","CONTROLE_2.7","MATURIDADE_CONTROLE_2","NIVEL_C_2","INCC_2","DESCRIÇÃO_2","CONTROLE_3","CONTROLE_3.1","CONTROLE_3.2","CONTROLE_3.3","CONTROLE_3.4","CONTROLE_3.5","CONTROLE_3.6","CONTROLE_3.7","CONTROLE_3.8","CONTROLE_3.9","CONTROLE_3.10","CONTROLE_3.11","CONTROLE_3.12","CONTROLE_3.13","CONTROLE_3.14","MATURIDADE_CONTROLE_3","NIVEL_C_3","INCC_3","DESCRIÇÃO_3","CONTROLE_4","CONTROLE_4.1","CONTROLE_4.2","CONTROLE_4.3","CONTROLE_4.4","CONTROLE_4.5","CONTROLE_4.6","CONTROLE_4.7","CONTROLE_4.8","CONTROLE_4.9","CONTROLE_4.10","CONTROLE_4.11","CONTROLE_4.12","MATURIDADE_CONTROLE_4","NIVEL_C_4","INCC_4","DESCRIÇÃO_4","CONTROLE_5","CONTROLE_5.1","CONTROLE_5.2","CONTROLE_5.3","CONTROLE_5.4","CONTROLE_5.5","CONTROLE_5.6","MATURIDADE_CONTROLE_5","NIVEL_C_5","INCC_5","DESCRIÇÃO_5","CONTROLE_6","CONTROLE_6.1","CONTROLE_6.2","CONTROLE_6.3","CONTROLE_6.4","CONTROLE_6.5","CONTROLE_6.6","CONTROLE_6.7","CONTROLE_6.8","MATURIDADE_CONTROLE_6","NIVEL_C_6","INCC_6","DESCRIÇÃO_6","CONTROLE_7","CONTROLE_7.1","CONTROLE_7.2","CONTROLE_7.3","CONTROLE_7.4","CONTROLE_7.5","CONTROLE_7.6","CONTROLE_7.7","MATURIDADE_CONTROLE_7","NIVEL_C_7","INCC_7","DESCRIÇÃO_7","CONTROLE_8","CONTROLE_8.1","CONTROLE_8.2","CONTROLE_8.3","CONTROLE_8.4","CONTROLE_8.5","CONTROLE_8.6","CONTROLE_8.7","CONTROLE_8.8","CONTROLE_8.9","CONTROLE_8.10","CONTROLE_8.11","CONTROLE_8.12","MATURIDADE_CONTROLE_8","NIVEL_C_8","INCC_8","DESCRIÇÃO_8","CONTROLE_9","CONTROLE_9.1","CONTROLE_9.2","CONTROLE_9.3","CONTROLE_9.4","CONTROLE_9.5","CONTROLE_9.6","CONTROLE_9.7","MATURIDADE_CONTROLE_9","NIVEL_C_9","INCC_9","DESCRIÇÃO_9","CONTROLE_10","CONTROLE_10.1","CONTROLE_10.2","CONTROLE_10.3","CONTROLE_10.4","CONTROLE_10.5","CONTROLE_10.6","CONTROLE_10.7","MATURIDADE_CONTROLE_10","NIVEL_C_10","INCC_10","DESCRIÇÃO_10","CONTROLE_11","CONTROLE_11.1","CONTROLE_11.2","CONTROLE_11.3","CONTROLE_11.4","CONTROLE_11.5","MATURIDADE_CONTROLE_11","NIVEL_C_11","INCC_11","DESCRIÇÃO_11","CONTROLE_12","CONTROLE_12.1","CONTROLE_12.2","CONTROLE_12.3","CONTROLE_12.4","CONTROLE_12.5","CONTROLE_12.6","CONTROLE_12.7","CONTROLE_12.8","MATURIDADE_CONTROLE_12","NIVEL_C_12","INCC_12","DESCRIÇÃO_12","CONTROLE_13","CONTROLE_13.1","CONTROLE_13.2","CONTROLE_13.3","CONTROLE_13.4","CONTROLE_13.5","CONTROLE_13.6","CONTROLE_13.7","CONTROLE_13.8","CONTROLE_13.9","CONTROLE_13.10","CONTROLE_13.11","MATURIDADE_CONTROLE_13","NIVEL_C_13","INCC_13","DESCRIÇÃO_13","CONTROLE_14","CONTROLE_14.1","CONTROLE_14.2","CONTROLE_14.3","CONTROLE_14.4","CONTROLE_14.5","CONTROLE_14.6","CONTROLE_14.7","CONTROLE_14.8","CONTROLE_14.9","MATURIDADE_CONTROLE_14","NIVEL_C_14","INCC_14","DESCRIÇÃO_14","CONTROLE_15","CONTROLE_15.1","CONTROLE_15.2","CONTROLE_15.3","CONTROLE_15.4","CONTROLE_15.5","CONTROLE_15.6","CONTROLE_15.7","MATURIDADE_CONTROLE_15","NIVEL_C_15","INCC_15","DESCRIÇÃO_15","CONTROLE_16","CONTROLE_16.1","CONTROLE_16.2","CONTROLE_16.3","CONTROLE_16.4","CONTROLE_16.5","CONTROLE_16.6","CONTROLE_16.7","CONTROLE_16.8","CONTROLE_16.9","CONTROLE_16.10","CONTROLE_16.11","CONTROLE_16.12","CONTROLE_16.13","CONTROLE_16.14","MATURIDADE_CONTROLE_16","NIVEL_C_16","INCC_16","DESCRIÇÃO_16","CONTROLE_17","CONTROLE_17.1","CONTROLE_17.2","CONTROLE_17.3","CONTROLE_17.4","CONTROLE_17.5","CONTROLE_17.6","CONTROLE_17.7","CONTROLE_17.8","CONTROLE_17.9","MATURIDADE_CONTROLE_17","NIVEL_C_17","INCC_17","DESCRIÇÃO_17","CONTROLE_18","CONTROLE_18.1","CONTROLE_18.2","CONTROLE_18.3","CONTROLE_18.4","CONTROLE_18.5","MATURIDADE_CONTROLE_18","NIVEL_C_18","INCC_18","DESCRIÇÃO_18","CONTROLE_19","CONTROLE_19.1","CONTROLE_19.2","CONTROLE_19.3","CONTROLE_19.4","CONTROLE_19.5","CONTROLE_19.6","CONTROLE_19.7","CONTROLE_19.8","CONTROLE_19.9","CONTROLE_19.10","CONTROLE_19.11","CONTROLE_19.12","CONTROLE_19.13","CONTROLE_19.14","MATURIDADE_CONTROLE_19","NIVEL_C_19","INCC_19","DESCRIÇÃO_19","CONTROLE_20","CONTROLE_20.1","CONTROLE_20.2","CONTROLE_20.3","CONTROLE_20.4","CONTROLE_20.5","CONTROLE_20.6","CONTROLE_20.7","CONTROLE_20.8","CONTROLE_20.9","CONTROLE_20.10","CONTROLE_20.11","CONTROLE_20.12","CONTROLE_20.13","CONTROLE_20.14","MATURIDADE_CONTROLE_20","NIVEL_C_20","INCC_20","DESCRIÇÃO_20","CONTROLE_21","CONTROLE_21.1","CONTROLE_21.2","CONTROLE_21.3","CONTROLE_21.4","CONTROLE_21.5","CONTROLE_21.6","CONTROLE_21.7","CONTROLE_21.8","CONTROLE_21.9","CONTROLE_21.10","MATURIDADE_CONTROLE_21","NIVEL_C_21","INCC_21","DESCRIÇÃO_21","CONTROLE_22","CONTROLE_22.1","CONTROLE_22.2","CONTROLE_22.3","CONTROLE_22.4","CONTROLE_22.5","CONTROLE_22.6","CONTROLE_22.7","CONTROLE_22.8","CONTROLE_22.9","CONTROLE_22.10","CONTROLE_22.11","CONTROLE_22.12","MATURIDADE_CONTROLE_22","NIVEL_C_22","INCC_22","DESCRIÇÃO_22","CONTROLE_23","CONTROLE_23.1","CONTROLE_23.2","CONTROLE_23.3","CONTROLE_23.4","MATURIDADE_CONTROLE_23","NIVEL_C_23","INCC_23","DESCRIÇÃO_23","CONTROLE_24","CONTROLE_24.1","CONTROLE_24.2","CONTROLE_24.3","CONTROLE_24.4","CONTROLE_24.5","CONTROLE_24.6","CONTROLE_24.7","CONTROLE_24.8","CONTROLE_24.9","CONTROLE_24.10","CONTROLE_24.11","CONTROLE_24.12","CONTROLE_24.13","CONTROLE_24.14","CONTROLE_24.15","MATURIDADE_CONTROLE_24","NIVEL_C_24","INCC_24","DESCRIÇÃO_24","CONTROLE_25","CONTROLE_25.1","CONTROLE_25.2","CONTROLE_25.3","CONTROLE_25.4","CONTROLE_25.5","CONTROLE_25.6","CONTROLE_25.7","CONTROLE_25.8","CONTROLE_25.9","MATURIDADE_CONTROLE_25","NIVEL_C_25","INCC_25","DESCRIÇÃO_25","CONTROLE_26","CONTROLE_26.1","CONTROLE_26.2","CONTROLE_26.3","CONTROLE_26.4","CONTROLE_26.5","CONTROLE_26.6","CONTROLE_26.7","CONTROLE_26.8","CONTROLE_26.9","CONTROLE_26.10","CONTROLE_26.11","CONTROLE_26.12","MATURIDADE_CONTROLE_26","NIVEL_C_26","INCC_26","DESCRIÇÃO_26","CONTROLE_27","CONTROLE_27.1","CONTROLE_27.2","CONTROLE_27.3","CONTROLE_27.4","CONTROLE_27.5","MATURIDADE_CONTROLE_27","NIVEL_C_27","INCC_27","DESCRIÇÃO_27","CONTROLE_28","CONTROLE_28.1","CONTROLE_28.2","CONTROLE_28.3","CONTROLE_28.4","CONTROLE_28.5","CONTROLE_28.6","CONTROLE_28.7","CONTROLE_28.8","CONTROLE_28.9","CONTROLE_28.10","CONTROLE_28.11","CONTROLE_28.12","CONTROLE_28.13","MATURIDADE_CONTROLE_28","NIVEL_C_28","INCC_28","DESCRIÇÃO_28","CONTROLE_29","CONTROLE_29.1","CONTROLE_29.2","CONTROLE_29.3","CONTROLE_29.4","CONTROLE_29.5","CONTROLE_29.6","CONTROLE_29.7","CONTROLE_29.8","CONTROLE_29.9","CONTROLE_29.10","CONTROLE_29.11","CONTROLE_29.12","MATURIDADE_CONTROLE_29","NIVEL_C_29","INCC_29","DESCRIÇÃO_29","CONTROLE_30","CONTROLE_30.1","CONTROLE_30.2","CONTROLE_30.3","CONTROLE_30.4","CONTROLE_30.5","CONTROLE_30.6","CONTROLE_30.7","CONTROLE_30.8","CONTROLE_30.9","CONTROLE_30.10","CONTROLE_30.11","CONTROLE_30.12","MATURIDADE_CONTROLE_30","NIVEL_C_30","INCC_30","DESCRIÇÃO_30","CONTROLE_31","CONTROLE_31.1","CONTROLE_31.2","CONTROLE_31.3","CONTROLE_31.4","CONTROLE_31.5","CONTROLE_31.6","CONTROLE_31.7","CONTROLE_31.8","CONTROLE_31.9","CONTROLE_31.10","CONTROLE_31.11","CONTROLE_31.12","CONTROLE_31.13","CONTROLE_31.14","CONTROLE_31.15","CONTROLE_31.16","CONTROLE_31.17","CONTROLE_31.18","MATURIDADE_CONTROLE_31","NIVEL_C_31","INCC_31","DESCRIÇÃO_31"]
[{"$f":"FORM1!F17","v":0},{"$f":"FORM1!F22","v":"00:00:00"},{"$f":"FORM1!C6","v":0},{"$f":"FORM1!F18","v":0},{"$f":"FORM1!F19","v":"00:00:00"},{"$f":"FORM2.1!B11","v":"Selecione a Opção"},{"$f":"FORM2.1!C11","v":"Selecione o nível de criticidade"},{"$f":"LOGICA_ISEG!G7","v":"Por favor preencha todos os campos"},{"$f":"LOGICA_IPRIV!G7","v":"Por favor preencha todos os campos"},"Estrutura Básica",{"$f":"LOGICA_CONTROLE_0!C4","v":"Selecione sua Resposta"},{"$f":"FORM2.2!B8","v":"Controle Não Foi Respondido"},{"$f":"LOGICA_CONTROLE_0!D8","v":"Selecione a Opção"},{"$f":"LOGICA_CONTROLE_0!D9","v":"Selecione a Opção"},{"$f":"LOGICA_CONTROLE_0!D10","v":"Selecione a Opção"},{"$f":"LOGICA_CONTROLE_0!D11","v":"Selecione a Opção"},{"$f":"LOGICA_CONTROLE_0!D12","v":"Selecione a Opção"},{"$f":"LOGICA_CONTROLE_0!D13","v":"Selecione a Opção"},{"$f":"LOGICA_CONTROLE_0!D14","v":"Selecione a Opção"},{"$f":"LOGICA_CONTROLE_0!E4","v":"Por favor preencher o INCC"},{"$f":"LOGICA_CONTROLE_0!F4","v":"Por favor preencher o INCC"},{"$f":"BASE_CIS8!E12","v":"CIS CONTROLE 1: INVENTÁRIO E CONTROLE DE ATIVOS INSTITUCIONAIS"},{"$f":"FORM2.3!I12","v":"Selecione a Resposta"},{"$f":"FORM2.3!I13","v":"Selecione a Resposta"},{"$f":"FORM2.3!I14","v":"Selecione a Resposta"},{"$f":"FORM2.3!I15","v":"Selecione a Resposta"},{"$f":"FORM2.3!I16","v":"Selecione a Resposta"},{"$f":"BASE_CIS8!F12","v":"Por favor preencha todas as medidas"},{"$f":"BASE_CIS8!G12","v":"Preencha todas as medidas"},{"$f":"FORM2.3!K12","v":"Controle Não Foi Respondido"},{"$f":"BASE_CIS8!E13","v":"CIS CONTROLE 2: INVENTÁRIO E CONTROLE DE ATIVOS DE SOFTWARE"},{"$f":"FORM2.3!I18","v":"Selecione a Resposta"},{"$f":"FORM2.3!I19","v":"Selecione a Resposta"},{"$f":"FORM2.3!I20","v":"Selecione a Resposta"},{"$f":"FORM2.3!I21","v":"Selecione a Resposta"},{"$f":"FORM2.3!I22","v":"Selecione a Resposta"},{"$f":"FORM2.3!I23","v":"Selecione a Resposta"},{"$f":"FORM2.3!I24","v":"Selecione a Resposta"},{"$f":"BASE_CIS8!F13","v":"Por favor preencha todas as medidas"},{"$f":"BASE_CIS8!G13","v":"Preencha todas as medidas"},{"$f":"FORM2.3!K17","v":"Selecione sua Resposta"},{"$f":"FORM2.3!K18","v":"Controle Não Foi Respondido"},{"$f":"BASE_CIS8!E14","v":"CIS CONTROLE 3: PROTEÇÃO DE DADOS"},{"$f":"FORM2.3!I26","v":"Selecione a Resposta"},{"$f":"FORM2.3!I27","v":"Selecione a Resposta"},{"$f":"FORM2.3!I28","v":"Selecione a Resposta"},{"$f":"FORM2.3!I29","v":"Selecione a Resposta"},{"$f":"FORM2.3!I30","v":"Selecione a Resposta"},{"$f":"FORM2.3!I31","v":"Selecione a Resposta"},{"$f":"FORM2.3!I32","v":"Selecione a Resposta"},{"$f":"FORM2.3!I33","v":"Selecione a Resposta"},{"$f":"FORM2.3!I34","v":"Selecione a Resposta"},{"$f":"FORM2.3!I35","v":"Selecione a Resposta"},{"$f":"FORM2.3!I36","v":"Selecione a Resposta"},{"$f":"FORM2.3!I37","v":"Selecione a Resposta"},{"$f":"FORM2.3!I38","v":"Selecione a Resposta"},{"$f":"FORM2.3!I39","v":"Selecione a Resposta"},{"$f":"BASE_CIS8!F14","v":"Por favor preencha todas as medidas"},{"$f":"BASE_CIS8!G14","v":"Preencha todas as medidas"},{"$f":"FORM2.3!K25","v":"Selecione sua Resposta"},{"$f":"FORM2.3!K26","v":"Controle Não Foi Respondido"},{"$f":"BASE_CIS8!E15","v":"CIS CONTROLE 4: CONFIGURAÇÃO SEGURA DE ATIVOS INSTITUCIONAIS E SOFTWARE"},{"$f":"FORM2.3!I41","v":"Selecione a Resposta"},{"$f":"FORM2.3!I42","v":"Selecione a Resposta"},{"$f":"FORM2.3!I43","v":"Selecione a Resposta"},{"$f":"FORM2.3!I44","v":"Selecione a Resposta"},{"$f":"FORM2.3!I45","v":"Selecione a Resposta"},{"$f":"FORM2.3!I46","v":"Selecione a Resposta"},{"$f":"FORM2.3!I47","v":"Selecione a Resposta"},{"$f":"FORM2.3!I48","v":"Selecione a Resposta"},{"$f":"FORM2.3!I49","v":"Selecione a Resposta"},{"$f":"FORM2.3!I50","v":"Selecione a Resposta"},{"$f":"FORM2.3!I51","v":"Selecione a Resposta"},{"$f":"FORM2.3!I52","v":"Selecione a Resposta"},{"$f":"BASE_CIS8!F15","v":"Por favor preencha todas as medidas"},{"$f":"BASE_CIS8!G15","v":"Preencha todas as medidas"},{"$f":"FORM2.3!K40","v":"Selecione sua Resposta"},{"$f":"FORM2.3!K41","v":"Controle Não Foi Respondido"},{"$f":"BASE_CIS8!E16","v":"CIS CONTROLE 5: GESTÃO DE CONTAS"},{"$f":"FORM2.3!I54","v":"Selecione a Resposta"},{"$f":"FORM2.3!I55","v":"Selecione a Resposta"},{"$f":"FORM2.3!I56","v":"Selecione a Resposta"},{"$f":"FORM2.3!I57","v":"Selecione a Resposta"},{"$f":"FORM2.3!I58","v":"Selecione a Resposta"},{"$f":"FORM2.3!I59","v":"Selecione a Resposta"},{"$f":"BASE_CIS8!F16","v":"Por favor preencha todas as medidas"},{"$f":"BASE_CIS8!G16","v":"Preencha todas as medidas"},{"$f":"FORM2.3!K53","v":"Selecione sua Resposta"},{"$f":"FORM2.3!K54","v":"Controle Não Foi Respondido"},{"$f":"BASE_CIS8!E17","v":"CIS CONTROLE 6: GESTÃO DO CONTROLE DE ACESSO"},{"$f":"FORM2.3!I61","v":"Selecione a Resposta"},{"$f":"FORM2.3!I62","v":"Selecione a Resposta"},{"$f":"FORM2.3!I63","v":"Selecione a Resposta"},{"$f":"FORM2.3!I64","v":"Selecione a Resposta"},{"$f":"FORM2.3!I65","v":"Selecione a Resposta"},{"$f":"FORM2.3!I66","v":"Selecione a Resposta"},{"$f":"FORM2.3!I67","v":"Selecione a Resposta"},{"$f":"FORM2.3!I68","v":"Selecione a Resposta"},{"$f":"BASE_CIS8!F17","v":"Por favor preencha todas as medidas"},{"$f":"BASE_CIS8!G17","v":"Preencha todas as medidas"},{"$f":"FORM2.3!K60","v":"Selecione sua Resposta"},{"$f":"FORM2.3!K61","v":"Controle Não Foi Respondido"},{"$f":"BASE_CIS8!E18","v":"CIS CONTROLE 7: GESTÃO CONTÍNUA DE VULNERABILIDADES"},{"$f":"FORM2.3!I70","v":"Selecione a Resposta"},{"$f":"FORM2.3!I71","v":"Selecione a Resposta"},{"$f":"FORM2.3!I72","v":"Selecione a Resposta"},{"$f":"FORM2.3!I73","v":"Selecione a Resposta"},{"$f":"FORM2.3!I74","v":"Selecione a Resposta"},{"$f":"FORM2.3!I75","v":"Selecione a Resposta"},{"$f":"FORM2.3!I76","v":"Selecione a Resposta"},{"$f":"BASE_CIS8!F18","v":"Por favor preencha todas as medidas"},{"$f":"BASE_CIS8!G18","v":"Preencha todas as medidas"},{"$f":"FORM2.3!K69","v":"Selecione sua Resposta"},{"$f":"FORM2.3!K70","v":"Controle Não Foi Respondido"},{"$f":"BASE_CIS8!E19","v":"CIS CONTROLE 8: GESTÃO DE REGISTROS DE AUDITORIA"},{"$f":"FORM2.3!I78","v":"Selecione a Resposta"},{"$f":"FORM2.3!I79","v":"Selecione a Resposta"},{"$f":"FORM2.3!I80","v":"Selecione a Resposta"},{"$f":"FORM2.3!I81","v":"Selecione a Resposta"},{"$f":"FORM2.3!I82","v":"Selecione a Resposta"},{"$f":"FORM2.3!I83","v":"Selecione a Resposta"},{"$f":"FORM2.3!I84","v":"Selecione a Resposta"},{"$f":"FORM2.3!I85","v":"Selecione a Resposta"},{"$f":"FORM2.3!I86","v":"Selecione a Resposta"},{"$f":"FORM2.3!I87","v":"Selecione a Resposta"},{"$f":"FORM2.3!I88","v":"Selecione a Resposta"},{"$f":"FORM2.3!I89","v":"Selecione a Resposta"},{"$f":"BASE_CIS8!F19","v":"Por favor preencha todas as medidas"},{"$f":"BASE_CIS8!G19","v":"Preencha todas as medidas"},{"$f":"FORM2.3!K77","v":"Selecione sua Resposta"},{"$f":"FORM2.3!K78","v":"Controle Não Foi Respondido"},{"$f":"BASE_CIS8!E20","v":"CIS CONTROLE 9: PROTEÇÕES DE E-MAIL E NAVEGADOR WEB"},{"$f":"FORM2.3!I91","v":"Selecione a Resposta"},{"$f":"FORM2.3!I92","v":"Selecione a Resposta"},{"$f":"FORM2.3!I93","v":"Selecione a Resposta"},{"$f":"FORM2.3!I94","v":"Selecione a Resposta"},{"$f":"FORM2.3!I95","v":"Selecione a Resposta"},{"$f":"FORM2.3!I96","v":"Selecione a Resposta"},{"$f":"FORM2.3!I97","v":"Selecione a Resposta"},{"$f":"BASE_CIS8!F20","v":"Por favor preencha todas as medidas"},{"$f":"BASE_CIS8!G20","v":"Preencha todas as medidas"},{"$f":"FORM2.3!K90","v":"Selecione sua Resposta"},{"$f":"FORM2.3!K91","v":"Controle Não Foi Respondido"},{"$f":"BASE_CIS8!E21","v":"CIS CONTROLE 10: DEFESAS CONTRA MALWARE"},{"$f":"FORM2.3!I99","v":"Selecione a Resposta"},{"$f":"FORM2.3!I100","v":"Selecione a Resposta"},{"$f":"FORM2.3!I101","v":"Selecione a Resposta"},{"$f":"FORM2.3!I102","v":"Selecione a Resposta"},{"$f":"FORM2.3!I103","v":"Selecione a Resposta"},{"$f":"FORM2.3!I104","v":"Selecione a Resposta"},{"$f":"FORM2.3!I105","v":"Selecione a Resposta"},{"$f":"BASE_CIS8!F21","v":"Por favor preencha todas as medidas"},{"$f":"BASE_CIS8!G21","v":"Preencha todas as medidas"},{"$f":"FORM2.3!K98","v":"Selecione sua Resposta"},{"$f":"FORM2.3!K99","v":"Controle Não Foi Respondido"},{"$f":"BASE_CIS8!E22","v":"CIS CONTROLE 11: RECUPERAÇÃO DE DADOS"},{"$f":"FORM2.3!I107","v":"Selecione a Resposta"},{"$f":"FORM2.3!I108","v":"Selecione a Resposta"},{"$f":"FORM2.3!I109","v":"Selecione a Resposta"},{"$f":"FORM2.3!I110","v":"Selecione a Resposta"},{"$f":"FORM2.3!I111","v":"Selecione a Resposta"},{"$f":"BASE_CIS8!F22","v":"Por favor preencha todas as medidas"},{"$f":"BASE_CIS8!G22","v":"Preencha todas as medidas"},{"$f":"FORM2.3!K106","v":"Selecione sua Resposta"},{"$f":"FORM2.3!K107","v":"Controle Não Foi Respondido"},{"$f":"BASE_CIS8!E23","v":"CIS CONTROLE 12: GESTÃO DA INFRAESTRUTURA DE REDE"},{"$f":"FORM2.3!I113","v":"Selecione a Resposta"},{"$f":"FORM2.3!I114","v":"Selecione a Resposta"},{"$f":"FORM2.3!I115","v":"Selecione a Resposta"},{"$f":"FORM2.3!I116","v":"Selecione a Resposta"},{"$f":"FORM2.3!I117","v":"Selecione a Resposta"},{"$f":"FORM2.3!I118","v":"Selecione a Resposta"},{"$f":"FORM2.3!I119","v":"Selecione a Resposta"},{"$f":"FORM2.3!I120","v":"Selecione a Resposta"},{"$f":"BASE_CIS8!F23","v":"Por favor preencha todas as medidas"},{"$f":"BASE_CIS8!G23","v":"Preencha todas as medidas"},{"$f":"FORM2.3!K112","v":"Selecione sua Resposta"},{"$f":"FORM2.3!K113","v":"Controle Não Foi Respondido"},{"$f":"BASE_CIS8!E24","v":"CIS CONTROLE 13: MONITORAMENTO E DEFESA DA REDE"},{"$f":"FORM2.3!I122","v":"Selecione a Resposta"},{"$f":"FORM2.3!I123","v":"Selecione a Resposta"},{"$f":"FORM2.3!I124","v":"Selecione a Resposta"},{"$f":"FORM2.3!I125","v":"Selecione a Resposta"},{"$f":"FORM2.3!I126","v":"Selecione a Resposta"},{"$f":"FORM2.3!I127","v":"Selecione a Resposta"},{"$f":"FORM2.3!I128","v":"Selecione a Resposta"},{"$f":"FORM2.3!I129","v":"Selecione a Resposta"},{"$f":"FORM2.3!I130","v":"Selecione a Resposta"},{"$f":"FORM2.3!I131","v":"Selecione a Resposta"},{"$f":"FORM2.3!I132","v":"Selecione a Resposta"},{"$f":"BASE_CIS8!F24","v":"Por favor preencha todas as medidas"},{"$f":"BASE_CIS8!G24","v":"Preencha todas as medidas"},{"$f":"FORM2.3!K121","v":"Selecione sua Resposta"},{"$f":"FORM2.3!K122","v":"Controle Não Foi Respondido"},{"$f":"BASE_CIS8!E25","v":"CIS CONTROLE 14: CONSCIENTIZAÇÃO E TREINAMENTO DE COMPETÊNCIAS SOBRE SEGURANÇA"},{"$f":"FORM2.3!I134","v":"Selecione a Resposta"},{"$f":"FORM2.3!I135","v":"Selecione a Resposta"},{"$f":"FORM2.3!I136","v":"Selecione a Resposta"},{"$f":"FORM2.3!I137","v":"Selecione a Resposta"},{"$f":"FORM2.3!I138","v":"Selecione a Resposta"},{"$f":"FORM2.3!I139","v":"Selecione a Resposta"},{"$f":"FORM2.3!I140","v":"Selecione a Resposta"},{"$f":"FORM2.3!I141","v":"Selecione a Resposta"},{"$f":"FORM2.3!I142","v":"Selecione a Resposta"},{"$f":"BASE_CIS8!F25","v":"Por favor preencha todas as medidas"},{"$f":"BASE_CIS8!G25","v":"Preencha todas as medidas"},{"$f":"FORM2.3!K133","v":"Selecione sua Resposta"},{"$f":"FORM2.3!K134","v":"Controle Não Foi Respondido"},{"$f":"BASE_CIS8!E26","v":"CIS CONTROLE 15: GESTÃO DE PROVEDOR DE SERVIÇOS"},{"$f":"FORM2.3!I144","v":"Selecione a Resposta"},{"$f":"FORM2.3!I145","v":"Selecione a Resposta"},{"$f":"FORM2.3!I146","v":"Selecione a Resposta"},{"$f":"FORM2.3!I147","v":"Selecione a Resposta"},{"$f":"FORM2.3!I148","v":"Selecione a Resposta"},{"$f":"FORM2.3!I149","v":"Selecione a Resposta"},{"$f":"FORM2.3!I150","v":"Selecione a Resposta"},{"$f":"BASE_CIS8!F26","v":"Por favor preencha todas as medidas"},{"$f":"BASE_CIS8!G26","v":"Preencha todas as medidas"},{"$f":"FORM2.3!K143","v":"Selecione sua Resposta"},{"$f":"FORM2.3!K144","v":"Controle Não Foi Respondido"},{"$f":"BASE_CIS8!E27","v":"CIS CONTROLE 16: SEGURANÇA DE APLICAÇÕES"},{"$f":"FORM2.3!I152","v":"Selecione a Resposta"},{"$f":"FORM2.3!I153","v":"Selecione a Resposta"},{"$f":"FORM2.3!I154","v":"Selecione a Resposta"},{"$f":"FORM2.3!I155","v":"Selecione a Resposta"},{"$f":"FORM2.3!I156","v":"Selecione a Resposta"},{"$f":"FORM2.3!I157","v":"Selecione a Resposta"},{"$f":"FORM2.3!I158","v":"Selecione a Resposta"},{"$f":"FORM2.3!I159","v":"Selecione a Resposta"},{"$f":"FORM2.3!I160","v":"Selecione a Resposta"},{"$f":"FORM2.3!I161","v":"Selecione a Resposta"},{"$f":"FORM2.3!I162","v":"Selecione a Resposta"},{"$f":"FORM2.3!I163","v":"Selecione a Resposta"},{"$f":"FORM2.3!I164","v":"Selecione a Resposta"},{"$f":"FORM2.3!I165","v":"Selecione a Resposta"},{"$f":"BASE_CIS8!F27","v":"Por favor preencha todas as medidas"},{"$f":"BASE_CIS8!G27","v":"Preencha todas as medidas"},{"$f":"FORM2.3!K151","v":"Selecione sua Resposta"},{"$f":"FORM2.3!K152","v":"Controle Não Foi Respondido"},{"$f":"BASE_CIS8!E28","v":"CIS CONTROLE 17: GESTÃO DE RESPOSTA A INCIDENTES"},{"$f":"FORM2.3!I167","v":"Selecione a Resposta"},{"$f":"FORM2.3!I168","v":"Selecione a Resposta"},{"$f":"FORM2.3!I169","v":"Selecione a Resposta"},{"$f":"FORM2.3!I170","v":"Selecione a Resposta"},{"$f":"FORM2.3!I171","v":"Selecione a Resposta"},{"$f":"FORM2.3!I172","v":"Selecione a Resposta"},{"$f":"FORM2.3!I173","v":"Selecione a Resposta"},{"$f":"FORM2.3!I174","v":"Selecione a Resposta"},{"$f":"FORM2.3!I175","v":"Selecione a Resposta"},{"$f":"BASE_CIS8!F28","v":"Por favor preencha todas as medidas"},{"$f":"BASE_CIS8!G28","v":"Preencha todas as medidas"},{"$f":"FORM2.3!K166","v":"Selecione sua Resposta"},{"$f":"FORM2.3!K167","v":"Controle Não Foi Respondido"},{"$f":"BASE_CIS8!E29","v":"CIS CONTROLE 18: TESTES DE INVASÃO"},{"$f":"FORM2.3!I177","v":"Selecione a Resposta"},{"$f":"FORM2.3!I178","v":"Selecione a Resposta"},{"$f":"FORM2.3!I179","v":"Selecione a Resposta"},{"$f":"FORM2.3!I180","v":"Selecione a Resposta"},{"$f":"FORM2.3!I181","v":"Selecione a Resposta"},{"$f":"BASE_CIS8!F29","v":"Por favor preencha todas as medidas"},{"$f":"BASE_CIS8!G29","v":"Preencha todas as medidas"},{"$f":"FORM2.3!K176","v":"Selecione sua Resposta"},{"$f":"FORM2.3!K177","v":"Controle Não Foi Respondido"},{"$f":"BASE_CIS8!E36","v":"PRIVACIDADE CONTROLE 19: INVENTÁRIO E MAPEAMENTO"},{"$f":"FORM2.4!F10","v":"Selecione a Resposta"},{"$f":"FORM2.4!F11","v":"Selecione a Resposta"},{"$f":"FORM2.4!F12","v":"Selecione a Resposta"},{"$f":"FORM2.4!F13","v":"Selecione a Resposta"},{"$f":"FORM2.4!F14","v":"Selecione a Resposta"},{"$f":"FORM2.4!F15","v":"Selecione a Resposta"},{"$f":"FORM2.4!F16","v":"Selecione a Resposta"},{"$f":"FORM2.4!F17","v":"Selecione a Resposta"},{"$f":"FORM2.4!F18","v":"Selecione a Resposta"},{"$f":"FORM2.4!F19","v":"Selecione a Resposta"},{"$f":"FORM2.4!F20","v":"Selecione a Resposta"},{"$f":"FORM2.4!F21","v":"Selecione a Resposta"},{"$f":"FORM2.4!F22","v":"Selecione a Resposta"},{"$f":"FORM2.4!F23","v":"Selecione a Resposta"},{"$f":"BASE_CIS8!F36","v":"Por favor preencha todas as medidas"},{"$f":"BASE_CIS8!G36","v":"Preencha todas as medidas"},{"$f":"FORM2.4!H9","v":"Selecione sua Resposta"},{"$f":"FORM2.4!I9","v":"Controle Não Foi Respondido"},{"$f":"BASE_CIS8!E37","v":"PRIVACIDADE CONTROLE 20: FINALIDADE E HIPÓTESES LEGAIS"},{"$f":"FORM2.4!F25","v":"Selecione a Resposta"},{"$f":"FORM2.4!F26","v":"Selecione a Resposta"},{"$f":"FORM2.4!F27","v":"Selecione a Resposta"},{"$f":"FORM2.4!F28","v":"Selecione a Resposta"},{"$f":"FORM2.4!F29","v":"Selecione a Resposta"},{"$f":"FORM2.4!F30","v":"Selecione a Resposta"},{"$f":"FORM2.4!F31","v":"Selecione a Resposta"},{"$f":"FORM2.4!F32","v":"Selecione a Resposta"},{"$f":"FORM2.4!F33","v":"Selecione a Resposta"},{"$f":"FORM2.4!F34","v":"Selecione a Resposta"},{"$f":"FORM2.4!F35","v":"Selecione a Resposta"},{"$f":"FORM2.4!F36","v":"Selecione a Resposta"},{"$f":"FORM2.4!F37","v":"Selecione a Resposta"},{"$f":"FORM2.4!F38","v":"Selecione a Resposta"},{"$f":"BASE_CIS8!F37","v":"Por favor preencha todas as medidas"},{"$f":"BASE_CIS8!G37","v":"Preencha todas as medidas"},{"$f":"FORM2.4!H24","v":"Selecione sua Resposta"},{"$f":"FORM2.4!I24","v":"Controle Não Foi Respondido"},{"$f":"BASE_CIS8!E38","v":"PRIVACIDADE CONTROLE 21: GOVERNANÇA"},{"$f":"FORM2.4!F40","v":"Selecione a Resposta"},{"$f":"FORM2.4!F41","v":"Selecione a Resposta"},{"$f":"FORM2.4!F42","v":"Selecione a Resposta"},{"$f":"FORM2.4!F43","v":"Selecione a Resposta"},{"$f":"FORM2.4!F44","v":"Selecione a Resposta"},{"$f":"FORM2.4!F45","v":"Selecione a Resposta"},{"$f":"FORM2.4!F46","v":"Selecione a Resposta"},{"$f":"FORM2.4!F47","v":"Selecione a Resposta"},{"$f":"FORM2.4!F48","v":"Selecione a Resposta"},{"$f":"FORM2.4!F49","v":"Selecione a Resposta"},{"$f":"BASE_CIS8!F38","v":"Por favor preencha todas as medidas"},{"$f":"BASE_CIS8!G38","v":"Preencha todas as medidas"},{"$f":"FORM2.4!H39","v":"Selecione sua Resposta"},{"$f":"FORM2.4!I39","v":"Controle Não Foi Respondido"},{"$f":"BASE_CIS8!E39","v":"PRIVACIDADE CONTROLE 22: POLÍTICAS, PROCESSOS E PROCEDIMENTOS"},{"$f":"FORM2.4!F51","v":"Selecione a Resposta"},{"$f":"FORM2.4!F52","v":"Selecione a Resposta"},{"$f":"FORM2.4!F53","v":"Selecione a Resposta"},{"$f":"FORM2.4!F54","v":"Selecione a Resposta"},{"$f":"FORM2.4!F55","v":"Selecione a Resposta"},{"$f":"FORM2.4!F56","v":"Selecione a Resposta"},{"$f":"FORM2.4!F57","v":"Selecione a Resposta"},{"$f":"FORM2.4!F58","v":"Selecione a Resposta"},{"$f":"FORM2.4!F59","v":"Selecione a Resposta"},{"$f":"FORM2.4!F60","v":"Selecione a Resposta"},{"$f":"FORM2.4!F61","v":"Selecione a Resposta"},{"$f":"FORM2.4!F62","v":"Selecione a Resposta"},{"$f":"BASE_CIS8!F39","v":"Por favor preencha todas as medidas"},{"$f":"BASE_CIS8!G39","v":"Preencha todas as medidas"},{"$f":"FORM2.4!H50","v":"Selecione sua Resposta"},{"$f":"FORM2.4!I50","v":"Controle Não Foi Respondido"},{"$f":"BASE_CIS8!E40","v":"PRIVACIDADE CONTROLE 23: CONSCIENTIZAÇÃO E TREINAMENTO"},{"$f":"FORM2.4!F64","v":"Selecione a Resposta"},{"$f":"FORM2.4!F65","v":"Selecione a Resposta"},{"$f":"FORM2.4!F66","v":"Selecione a Resposta"},{"$f":"FORM2.4!F67","v":"Selecione a Resposta"},{"$f":"BASE_CIS8!F40","v":"Por favor preencha todas as medidas"},{"$f":"BASE_CIS8!G40","v":"Preencha todas as medidas"},{"$f":"FORM2.4!H63","v":"Selecione sua Resposta"},{"$f":"FORM2.4!I63","v":"Controle Não Foi Respondido"},{"$f":"BASE_CIS8!E41","v":"PRIVACIDADE CONTROLE 24: MINIMIZAÇÃO DE DADOS"},{"$f":"FORM2.4!F69","v":"Selecione a Resposta"},{"$f":"FORM2.4!F70","v":"Selecione a Resposta"},{"$f":"FORM2.4!F71","v":"Selecione a Resposta"},{"$f":"FORM2.4!F72","v":"Selecione a Resposta"},{"$f":"FORM2.4!F73","v":"Selecione a Resposta"},{"$f":"FORM2.4!F74","v":"Selecione a Resposta"},{"$f":"FORM2.4!F75","v":"Selecione a Resposta"},{"$f":"FORM2.4!F76","v":"Selecione a Resposta"},{"$f":"FORM2.4!F77","v":"Selecione a Resposta"},{"$f":"FORM2.4!F78","v":"Selecione a Resposta"},{"$f":"FORM2.4!F79","v":"Selecione a Resposta"},{"$f":"FORM2.4!F80","v":"Selecione a Resposta"},{"$f":"FORM2.4!F81","v":"Selecione a Resposta"},{"$f":"FORM2.4!F82","v":"Selecione a Resposta"},{"$f":"FORM2.4!F83","v":"Selecione a Resposta"},{"$f":"BASE_CIS8!F41","v":"Por favor preencha todas as medidas"},{"$f":"BASE_CIS8!G41","v":"Preencha todas as medidas"},{"$f":"FORM2.4!H68","v":"Selecione sua Resposta"},{"$f":"FORM2.4!I68","v":"Controle Não Foi Respondido"},{"$f":"BASE_CIS8!E42","v":"PRIVACIDADE CONTROLE 25: GESTÃO DO TRATAMENTO"},{"$f":"FORM2.4!F85","v":"Selecione a Resposta"},{"$f":"FORM2.4!F86","v":"Selecione a Resposta"},{"$f":"FORM2.4!F87","v":"Selecione a Resposta"},{"$f":"FORM2.4!F88","v":"Selecione a Resposta"},{"$f":"FORM2.4!F89","v":"Selecione a Resposta"},{"$f":"FORM2.4!F90","v":"Selecione a Resposta"},{"$f":"FORM2.4!F91","v":"Selecione a Resposta"},{"$f":"FORM2.4!F92","v":"Selecione a Resposta"},{"$f":"FORM2.4!F93","v":"Selecione a Resposta"},{"$f":"BASE_CIS8!F42","v":"Por favor preencha todas as medidas"},{"$f":"BASE_CIS8!G42","v":"Preencha todas as medidas"},{"$f":"FORM2.4!H84","v":"Selecione sua Resposta"},{"$f":"FORM2.4!I84","v":"Controle Não Foi Respondido"},{"$f":"BASE_CIS8!E43","v":"PRIVACIDADE CONTROLE 26: ACESSO E QUALIDADE"},{"$f":"FORM2.4!F95","v":"Selecione a Resposta"},{"$f":"FORM2.4!F96","v":"Selecione a Resposta"},{"$f":"FORM2.4!F97","v":"Selecione a Resposta"},{"$f":"FORM2.4!F98","v":"Selecione a Resposta"},{"$f":"FORM2.4!F99","v":"Selecione a Resposta"},{"$f":"FORM2.4!F100","v":"Selecione a Resposta"},{"$f":"FORM2.4!F101","v":"Selecione a Resposta"},{"$f":"FORM2.4!F102","v":"Selecione a Resposta"},{"$f":"FORM2.4!F103","v":"Selecione a Resposta"},{"$f":"FORM2.4!F104","v":"Selecione a Resposta"},{"$f":"FORM2.4!F105","v":"Selecione a Resposta"},{"$f":"FORM2.4!F106","v":"Selecione a Resposta"},{"$f":"BASE_CIS8!F43","v":"Por favor preencha todas as medidas"},{"$f":"BASE_CIS8!G43","v":"Preencha todas as medidas"},{"$f":"FORM2.4!H94","v":"Selecione sua Resposta"},{"$f":"FORM2.4!I94","v":"Controle Não Foi Respondido"},{"$f":"BASE_CIS8!E44","v":"PRIVACIDADE CONTROLE 27: COMPARTILHAMENTO, TRANSFERÊNCIA E DIVULGAÇÃO"},{"$f":"FORM2.4!F108","v":"Selecione a Resposta"},{"$f":"FORM2.4!F109","v":"Selecione a Resposta"},{"$f":"FORM2.4!F110","v":"Selecione a Resposta"},{"$f":"FORM2.4!F111","v":"Selecione a Resposta"},{"$f":"FORM2.4!F112","v":"Selecione a Resposta"},{"$f":"BASE_CIS8!F44","v":"Por favor preencha todas as medidas"},{"$f":"BASE_CIS8!G44","v":"Preencha todas as medidas"},{"$f":"FORM2.4!H107","v":"Selecione sua Resposta"},{"$f":"FORM2.4!I107","v":"Controle Não Foi Respondido"},{"$f":"BASE_CIS8!E45","v":"PRIVACIDADE CONTROLE 28: SUPERVISÃO EM TERCEIROS"},{"$f":"FORM2.4!F114","v":"Selecione a Resposta"},{"$f":"FORM2.4!F115","v":"Selecione a Resposta"},{"$f":"FORM2.4!F116","v":"Selecione a Resposta"},{"$f":"FORM2.4!F117","v":"Selecione a Resposta"},{"$f":"FORM2.4!F118","v":"Selecione a Resposta"},{"$f":"FORM2.4!F119","v":"Selecione a Resposta"},{"$f":"FORM2.4!F120","v":"Selecione a Resposta"},{"$f":"FORM2.4!F121","v":"Selecione a Resposta"},{"$f":"FORM2.4!F122","v":"Selecione a Resposta"},{"$f":"FORM2.4!F123","v":"Selecione a Resposta"},{"$f":"FORM2.4!F124","v":"Selecione a Resposta"},{"$f":"FORM2.4!F125","v":"Selecione a Resposta"},{"$f":"FORM2.4!F126","v":"Selecione a Resposta"},{"$f":"BASE_CIS8!F45","v":"Por favor preencha todas as medidas"},{"$f":"BASE_CIS8!G45","v":"Preencha todas as medidas"},{"$f":"FORM2.4!H113","v":"Selecione sua Resposta"},{"$f":"FORM2.4!I113","v":"Controle Não Foi Respondido"},{"$f":"BASE_CIS8!E46","v":"PRIVACIDADE CONTROLE 29:  ABERTURA, TRANSPARÊNCIA E NOTIFICAÇÃO"},{"$f":"FORM2.4!F128","v":"Selecione a Resposta"},{"$f":"FORM2.4!F129","v":"Selecione a Resposta"},{"$f":"FORM2.4!F130","v":"Selecione a Resposta"},{"$f":"FORM2.4!F131","v":"Selecione a Resposta"},{"$f":"FORM2.4!F132","v":"Selecione a Resposta"},{"$f":"FORM2.4!F133","v":"Selecione a Resposta"},{"$f":"FORM2.4!F134","v":"Selecione a Resposta"},{"$f":"FORM2.4!F135","v":"Selecione a Resposta"},{"$f":"FORM2.4!F136","v":"Selecione a Resposta"},{"$f":"FORM2.4!F137","v":"Selecione a Resposta"},{"$f":"FORM2.4!F138","v":"Selecione a Resposta"},{"$f":"FORM2.4!F139","v":"Selecione a Resposta"},{"$f":"BASE_CIS8!F46","v":"Por favor preencha todas as medidas"},{"$f":"BASE_CIS8!G46","v":"Preencha todas as medidas"},{"$f":"FORM2.4!H127","v":"Selecione sua Resposta"},{"$f":"FORM2.4!I127","v":"Controle Não Foi Respondido"},{"$f":"BASE_CIS8!E47","v":"PRIVACIDADE CONTROLE 30: AVALIAÇÃO DE IMPACTO, MONITORAMENTO E AUDITORIA"},{"$f":"FORM2.4!F141","v":"Selecione a Resposta"},{"$f":"FORM2.4!F142","v":"Selecione a Resposta"},{"$f":"FORM2.4!F143","v":"Selecione a Resposta"},{"$f":"FORM2.4!F144","v":"Selecione a Resposta"},{"$f":"FORM2.4!F145","v":"Selecione a Resposta"},{"$f":"FORM2.4!F146","v":"Selecione a Resposta"},{"$f":"FORM2.4!F147","v":"Selecione a Resposta"},{"$f":"FORM2.4!F148","v":"Selecione a Resposta"},{"$f":"FORM2.4!F149","v":"Selecione a Resposta"},{"$f":"FORM2.4!F150","v":"Selecione a Resposta"},{"$f":"FORM2.4!F151","v":"Selecione a Resposta"},{"$f":"FORM2.4!F152","v":"Selecione a Resposta"},{"$f":"BASE_CIS8!F47","v":"Por favor preencha todas as medidas"},{"$f":"BASE_CIS8!G47","v":"Preencha todas as medidas"},{"$f":"FORM2.4!H140","v":"Selecione sua Resposta"},{"$f":"FORM2.4!I140","v":"Controle Não Foi Respondido"},{"$f":"BASE_CIS8!E48","v":"PRIVACIDADE CONTROLE 31:  SEGURANÇA APLICADA A PRIVACIDADE"},{"$f":"FORM2.4!F154","v":"Selecione a Resposta"},{"$f":"FORM2.4!F155","v":"Selecione a Resposta"},{"$f":"FORM2.4!F156","v":"Selecione a Resposta"},{"$f":"FORM2.4!F157","v":"Selecione a Resposta"},{"$f":"FORM2.4!F158","v":"Selecione a Resposta"},{"$f":"FORM2.4!F159","v":"Selecione a Resposta"},{"$f":"FORM2.4!F160","v":"Selecione a Resposta"},{"$f":"FORM2.4!F161","v":"Selecione a Resposta"},{"$f":"FORM2.4!F162","v":"Selecione a Resposta"},{"$f":"FORM2.4!F163","v":"Selecione a Resposta"},{"$f":"FORM2.4!F164","v":"Selecione a Resposta"},{"$f":"FORM2.4!F165","v":"Selecione a Resposta"},{"$f":"FORM2.4!F166","v":"Selecione a Resposta"},{"$f":"FORM2.4!F167","v":"Selecione a Resposta"},{"$f":"FORM2.4!F168","v":"Selecione a Resposta"},{"$f":"FORM2.4!F169","v":"Selecione a Resposta"},{"$f":"FORM2.4!F170","v":"Selecione a Resposta"},{"$f":"FORM2.4!F171","v":"Selecione a Resposta"},{"$f":"BASE_CIS8!F48","v":"Por favor preencha todas as medidas"},{"$f":"BASE_CIS8!G48","v":"Preencha todas as medidas"},{"$f":"FORM2.4!H153","v":"Selecione sua Resposta"},{"$f":"FORM2.4!I153","v":"Controle Não Foi Respondido"}]