{"text_format":"2","workbook":"xlsx","n_sheets":8,"sheets":["Iniciar","1 - InfoBasicas","2 - PCA","Planilha1","3 - Demanda","4 - Resultado","Mapa Referência","5 - Configurações"],"not_rendered":{"charts":0,"images":4,"macros":1,"external_links":0,"defined_names":8,"comments":4,"pivot_tables":0},"unopened":[],"bounds":{"document_bytes":16777216,"sheet_cells":100000,"run_cost":"one","rows_first":2000,"rows_last":500,"rows_between":2000,"halvings":0,"cell_chars":16384,"cell_head_chars":4096},"cells_cut":0,"cells_raw":0,"read":"whole","date_system":"1900"}

{"sheet":"Iniciar","index":0,"n_rows":26,"n_cols":10,"rows_kept":26,"cut":false,"hidden":false,"merged":[[25,5,25,16],[21,3,21,4],[22,3,22,4],[23,3,23,4],[24,3,24,4],[25,3,25,4],[24,5,24,16],[10,3,10,16],[8,3,9,16],[21,5,21,16],[23,5,23,16],[22,5,22,16],[12,3,12,16],[17,9,17,11],[20,3,20,16]]}
[]
[]
[]
[]
[]
[]
[null,null,null,"Projeto CodificaGov.Br"]
[]
[null,null,null,"CONTRATAÇÃO CENTRALIZADA DE SERVIÇOS DE DESENVOLVIMENTO, MANUTENÇÃO E SUSTENTAÇÃO DE SOFTWARE"]
[]
[null,null,null,"Esta pasta de trabalho é composta por abas (planilhas) que permitem ao usuário informar as suas necessidades de desenvolvimento e manutenção de software, visando estimar o volume de contratação destes serviços, projetados para 12 meses (2023) "]
[]
[null,null,null,"ORIENTAÇÕES GERAIS"]
[null,null,null,"Preencha os campos com \"cor de preenchimento\" AZUL:"]
[]
[null,null,null,"Não preencha os campos com \"cor de preenchimento\" CINZA, pois apresentam fórmulas que podem ser utilizadas em outras planilhas. "]
[]
[null,null,null,"Selecione uma opção nos campos que apresentam caixa de seleção:",{"$nulls":5},"SIM"]
[]
[]
[null,null,null,"ORIENTAÇÕES SOBRE O PREENCHIMENTO DAS ABAS (planilhas)"]
[null,null,null,"Aba 1 - Informações Básicas",null,"Nessa aba devem ser preenchidas as informações gerais do órgão, a saber: identificação do órgão (UASG, Responsável Técnico, etc), link da Metodologia de desenvolvimento, capacidade de fiscalização e gestão, etc. "]
[null,null,null,"Aba 2 - PCA",null,"Aqui são apresentadas as Iniciativas extraídas do Sistema PGC, conforme a UASG selecionada na aba de Informações Básicas (aba 1).  O usuário deve selecionar a opção \"SIM\" para a iniciativa que será adotada para a presente contratação. "]
[null,null,null,"Aba 3 - Demanda",null,"Nessa planilha o usuário deve informar as demandas de desenvolvimento, evolução, manutenção projetadas para 12 meses (2023), visando estimar o volume da contratação destes serviços. \n\nInforme a previsão de pontos de função por tecnologia. Há duas formas de se estimar o volume de pontos de função:\na) Por meio da estimativa de pontos de função simplificados, identificando a quantidade estimada de funções de transação (entradas, consultas e relatórios) e a identificação de arquivos lógicos relacionados, seja arquivos criados e mantidos na fronteira da aplicação, seja aqueles oriundos de outras aplicações ou sistemas.\nb) Por meio da evolução histórica acrescida ou não de taxa de crescimento ou taxa de redução a depender da realidade de cada sistema. ( Neste Caso não é necessário informar a quantidade de \n\nInforme também a previsão de produtos complementares previstos para suportar os serviços de desenvolvimento. Os produtos são contabilizados em Horas e vinculados ao perfil mínimo executor. Deve-se documentar as justificativas para o dimensionamento das quantidades."]
[null,null,null,"Aba 4 -  Resultado",null,"Essa aba não precisa ser preenchida. A aba apresenta o resultado estimado com base nas informações preenchidas nas planilhas 1, 2 e 3. "]
[null,null,null,"Aba 5 -  Configurações",null,"Nessa aba são apresentados vários parâmetros que estão sendo utilizados nas planilhas do documento, a saber: Tecnologias, banco de dados, modalidades de remuneração, produtividade de referência, metodologias ágeis, etc. "]

{"sheet":"1 - InfoBasicas","index":1,"n_rows":66,"n_cols":7,"rows_kept":66,"cut":false,"hidden":false,"merged":[[59,4,59,5],[61,4,61,5],[33,1,33,2],[18,2,18,6],[45,1,45,2],[2,1,2,6],[6,2,6,6],[5,2,5,6],[10,1,10,6],[24,1,24,6],[9,2,9,6],[7,2,7,6],[8,2,8,6],[22,4,22,6],[20,4,20,6],[14,1,14,2]]}
[]
[]
[null,"Informações Gerais sobre Serviços de Desenvolvimento, Manutenção e Sustentação de Software"]
[]
[null,"IDENTIFICAÇÃO"]
[null,"Código e Descrição da UASG*:"]
[null,"Nome do Órgão*:"]
[null,"Nome do Responsável Técnico*:"]
[null,"Telefone do Responsável Técnico*"]
[null,"E-mail do Responsável Técnico*"]
[null,"(*) Campos  Obrigatórios"]
[]
[null,"PROCESSO DE DESENVOLVIMENTO DE SOFTWARE"]
[]
[null,"Informe o link da metodologia de desenvolvimento de software adotada pelo órgão (se houver):"]
[]
[null,"Possui contrato vigente de desenvolvimento ágil ?*","Selecionar","Término da vigência:*",null,"Informe o Método Ágil:"]
[]
[null,"Qual a modalidade de remuneração do contrato vigente?"]
[]
[null,"Possui Roteiro de Métricas? *","Selecionar","Informe o Link: "]
[]
[null,"Possui catálogo de serviços com remuneração por UST ou HST?*","Selecionar","Informe o Link: "]
[]
[null,"(*) Campos  Obrigatórios"]
[]
[]
[null,"CAPACIDADE DE FISCALIZAÇÃO E GESTÃO"]
[]
[null,"Quantos Fiscais Administrativos são alocados atualmente ?*"]
[]
[null,"Quantos Fiscais Técnicos são alocados atualmente?*"]
[]
[null,"Há gerentes de projeto ou servidores da área de TIC que atuem no gerenciamento dos projetos de desenvolvimento?*",null,"Selecionar","Quantos:"]
[]
[null,"Há servidores treinados ou capacitados atuando como Product Owner?*","Selecionar",null,"Quantos:"]
[]
[null,"Há contratação vigente de serviços de apoio à fiscalização?*","Selecionar"]
[]
[null,"Possui ferramenta de registro de chamados?","Selecionar",null,"Qual:"]
[]
[{"$nulls":6},"(*) Campos Obrigatórios"]
[]
[null,"SEGURANÇA DA INFORMAÇÃO"]
[]
[null,"Adota o Guia de Requisitos e de Obrigações quanto a Segurança da Informação e Privacidade do SISP?*",null,"Selecionar","(link do Guia de Requisitos e de Obrigações )"]
[]
[null,"Adota o Guia de Segurança em Aplicações Web do SISP?*","Selecionar","(link do Guia de Segurança em Aplicações Web do SISP)"]
[]
[null,"Adota práticas de codificação Segura do OWASP - Level 1","Selecionar","em quantos sistemas:",null,"Prevê adotar em quantos sistemas:"]
[]
[null,"Adota práticas de codificação Segura do OWASP - Level 2","Selecionar","em quantos sistemas:",null,"Prevê adotar em quantos sistemas:"]
[]
[null,"Adota práticas de codificação Segura do OWASP - Level 3","Selecionar","em quantos sistemas:",null,"Prevê adotar em quantos sistemas:"]
[]
[]
[]
[null,"QUALIDADE DE CÓDIGO"]
[]
[null,"Possui Ferramenta automatizada de Análise de Qualidade de Código?*","Selecionar","Informe a ferramenta:"]
[]
[null,"Há Contrato específico para análise da qualidade de Código?*","Selecionar","Métrica da contratação:"]
[]
[null,"Realiza práticas de revisão de código (Code Reviews)?*","Selecionar"]
[]
[{"$nulls":6},"(*) Campos Obrigatórios"]

{"sheet":"2 - PCA","index":2,"n_rows":4,"n_cols":6,"rows_kept":4,"cut":false,"hidden":false,"merged":[[1,2,1,5]]}
[]
[null,null,"Iniciativas PGC "]
[null,null,"Informe se a iniciativa será adotada para a presente contratação\t"]
["Código e Descrição da UASG*:",null,"Iniciativa","Valor estimado ","ANO","Adotada para presente contratação? "]

{"sheet":"Planilha1","index":3,"n_rows":8,"n_cols":1,"rows_kept":8,"cut":false,"hidden":true,"merged":[]}
["Selecionar"]
["Abordagem híbrida"]
["Migração completa para nuvem pública"]
[]
[]
["Selecionar"]
["SIM"]
["NÃO"]

{"sheet":"3 - Demanda","index":4,"n_rows":81,"n_cols":12,"rows_kept":81,"cut":false,"hidden":false,"merged":[[52,8,52,10],[46,8,46,10],[42,8,42,10],[43,8,43,10],[47,8,47,10],[48,8,48,10],[49,8,49,10],[39,8,39,10],[40,8,40,10],[41,8,41,10],[50,8,50,10],[51,8,51,10],[31,8,31,10],[32,8,32,10],[33,8,33,10],[35,8,35,10],[38,8,38,10],[34,8,34,10],[24,8,24,10],[25,8,25,10],[26,8,26,10],[27,8,27,10],[30,8,30,10],[45,5,45,6],[57,10,57,11],[6,8,6,10],[7,8,7,10],[8,8,8,10],[9,8,9,10],[10,8,10,10],[11,8,11,10],[14,8,14,10],[15,8,15,10],[16,8,16,10],[17,8,17,10],[18,8,18,10],[19,8,19,10],[22,8,22,10],[23,8,23,10],[64,1,64,10],[70,1,70,10],[74,1,74,10],[2,1,2,8],[5,1,5,4],[56,1,56,4],[5,5,5,6],[13,1,13,4],[13,5,13,6],[21,1,21,4],[21,5,21,6],[29,1,29,4],[29,5,29,6],[37,1,37,4],[37,5,37,6],[45,1,45,4]]}
[]
[]
[null,"Informações sobre o volume de contratação de Serviços de Desenvolvimento e Manutenção de Software"]
[]
[]
[null,"Informe as demandas para DESENVOLVIMENTO, EVOLUÇÃO E MANUTENÇÃO de software no órgão para o ano de 2023 em Tecnologia JAVA:",null,null,null,"Memória de Cálculo baseada em Simple Function Point - SFP"]
[null,"Sigla","Identificação do Sistema ou Solução","Iniciativa PDTIC","Banco de Dados","Quantidade de Funções Transacionais","Quantidade de Funções de Dados (Arquivos Lógicos)","Volume em PF estimado (12 meses)","Jutificativa / Memória de cálculo"]
[{"$nulls":7},{"$f":"G8*7+F8*4.6","v":0}]
[{"$nulls":7},{"$f":"G9*7+F9*4.6","v":0}]
[{"$nulls":7},{"$f":"G10*7+F10*4.6","v":0}]
[{"$nulls":7},{"$f":"G11*7+F11*4.6","v":0}]
[{"$nulls":7},{"$f":"G12*7+F12*4.6","v":0}]
[{"$nulls":6},"Estimativa Total (SFP) em JAVA",{"$f":"SUM(H8:H12)","v":0}]
[null,"Informe as demandas para DESENVOLVIMENTO, EVOLUÇÃO E MANUTENÇÃO de software no órgão para o ano de 2023 em Tecnologia PHP:",null,null,null,"Memória de Cálculo baseada em Simple Function Point - SFP"]
[null,"Sigla","Identificação do Sistema ou Solução","Iniciativa PDTIC","Banco de Dados","Quantidade de Funções Transacionais","Quantidade de Funções de Dados (Arquivos Lógicos)","Volume em PF estimado (12 meses)","Jutificativa / Memória de cálculo"]
[{"$nulls":7},{"$f":"G16*7+F16*4.6","v":0}]
[{"$nulls":7},{"$f":"G17*7+F17*4.6","v":0}]
[{"$nulls":7},{"$f":"G18*7+F18*4.6","v":0}]
[{"$nulls":7},{"$f":"G19*7+F19*4.6","v":0}]
[{"$nulls":7},{"$f":"G20*7+F20*4.6","v":0}]
[{"$nulls":6},"Estimativa Total (SFP) em PHP",{"$f":"SUM(H16:H20)","v":0}]
[null,"Informe as demandas para DESENVOLVIMENTO, EVOLUÇÃO E MANUTENÇÃO de software no órgão para o ano de 2023 em Tecnologia PYTHON:",null,null,null,"Memória de Cálculo baseada em Simple Function Point - SFP"]
[null,"Sigla","Identificação do Sistema ou Solução","Iniciativa PDTIC","Banco de Dados","Quantidade de Funções Transacionais","Quantidade de Funções de Dados (Arquivos Lógicos)","Volume em PF estimado (12 meses)","Jutificativa / Memória de cálculo"]
[{"$nulls":7},{"$f":"G24*7+F24*4.6","v":0}]
[{"$nulls":7},{"$f":"G25*7+F25*4.6","v":0}]
[{"$nulls":7},{"$f":"G26*7+F26*4.6","v":0}]
[{"$nulls":7},{"$f":"G27*7+F27*4.6","v":0}]
[{"$nulls":7},{"$f":"G28*7+F28*4.6","v":0}]
[{"$nulls":6},"Estimativa Total (SFP) em PYTHON",{"$f":"SUM(H24:H28)","v":0}]
[null,"Informe as demandas para DESENVOLVIMENTO, EVOLUÇÃO E MANUTENÇÃO de software no órgão para o ano de 2023 em Tecnologia MOBILE:",null,null,null,"Memória de Cálculo baseada em Simple Function Point - SFP"]
[null,"Sigla","Identificação do Sistema ou Solução","Iniciativa PDTIC","Banco de Dados","Quantidade de Funções Transacionais","Quantidade de Funções de Dados (Arquivos Lógicos)","Volume em PF estimado (12 meses)","Jutificativa / Memória de cálculo"]
[{"$nulls":7},{"$f":"G32*7+F32*4.6","v":0}]
[{"$nulls":7},{"$f":"G33*7+F33*4.6","v":0}]
[{"$nulls":7},{"$f":"G34*7+F34*4.6","v":0}]
[{"$nulls":7},{"$f":"G35*7+F35*4.6","v":0},null,{"$f":"I35*7+H35*4.6","v":0},{"$f":"J35*7+I35*4.6","v":0}]
[{"$nulls":7},{"$f":"G36*7+F36*4.6","v":0}]
[{"$nulls":6},"Estimativa Total (SFP) em MOBILE",{"$f":"SUM(H32:H36)","v":0}]
[null,"Informe as demandas para DESENVOLVIMENTO, EVOLUÇÃO E MANUTENÇÃO de software no órgão para o ano de 2023 em Tecnologia ASP, .NET, Delphi, C#, VB:",null,null,null,"Memória de Cálculo baseada em Simple Function Point - SFP"]
[null,"Sigla","Identificação do Sistema ou Solução","Iniciativa PDTIC","Banco de Dados","Quantidade de Funções Transacionais","Quantidade de Funções de Dados (Arquivos Lógicos)","Volume em PF estimado (12 meses)","Jutificativa / Memória de cálculo"]
[{"$nulls":7},{"$f":"G40*7+F40*4.6","v":0}]
[{"$nulls":7},{"$f":"G41*7+F41*4.6","v":0}]
[{"$nulls":7},{"$f":"G42*7+F42*4.6","v":0}]
[{"$nulls":7},{"$f":"G43*7+F43*4.6","v":0}]
[{"$nulls":7},{"$f":"G44*7+F44*4.6","v":0}]
[{"$nulls":6},"Estimativa Total (SFP) em Informe as demandas para  ASP, .NET, Delphi, C#, VB:\t\t\t",{"$f":"SUM(H40:H44)","v":0}]
[null,"Informe as demandas para MANUTENÇÃO CORRETIVA E ADAPTATIVA NÃO COBERTAS POR GARANTIA DOS ITENS ANTERIORES :",null,null,null,"Memória de Cálculo baseada em Simple Function Point - SFP"]
[null,"Sigla","Identificação do Sistema ou Solução","Iniciativa PDTIC","Banco de Dados","Média Histórica","Estimativa de Crescimento (+) ou de Redução (-)","Volume em PF estimado (12 meses)","Jutificativa / Memória de cálculo"]
[{"$nulls":7},{"$f":"G48*7+F48*4.6","v":0}]
[{"$nulls":7},{"$f":"G49*7+F49*4.6","v":0}]
[{"$nulls":7},{"$f":"G50*7+F50*4.6","v":0}]
[{"$nulls":7},{"$f":"G51*7+F51*4.6","v":0}]
[{"$nulls":7},{"$f":"G52*7+F52*4.6","v":0}]
[{"$nulls":6},"Estimativa Total (SFP) Manutenção:",{"$f":"SUM(H48:H52)","v":0}]
[]
[]
[]
[null,"Informe as demandas para Serviços Complementares a serem mensurados pela métrica HST (Hora de Serviço Técnico)"]
[null,"1. Categoria: Requisitos de Negócio"]
[null,"ID","Serviço Técnico","Unidade de medida","Qualificação profissional do executor","Esforço (Horas) necessário para execução do serviço (A)","Fator \n(F)","Valor Unitário de Referência \n(V = ValorHST x F)","Quantidade estimada de \nexecuções do serviço \n(B)","Quantitativo estimado total de HST no contrato  \n(C = A x B)","Valor Total Estimado por serviço\n(D = C x V)","Jutificativa / Memória de cálculo"]
[null,"RN1","Construir a Visão do Négócio","por artefato","ANR-02 Analista de Negócios/ Requisitos - Pleno",44,{"$f":"'5 - Configurações'!E$90","v":1.4239999999999999},{"$f":"'5 - Configurações'!$B$80*'3 - Demanda'!G60","v":93.02991999999999},null,{"$f":"I60*F60","v":0},{"$f":"J60*H60","v":0}]
[null,"RN2","Atualizar a visão do Négócio","por artefato","ANR-02 Analista de Negócios/ Requisitos - Pleno",10,{"$f":"'5 - Configurações'!E$90","v":1.4239999999999999},{"$f":"'5 - Configurações'!$B$80*'3 - Demanda'!G61","v":93.02991999999999},null,{"$f":"I61*F61","v":0},{"$f":"J61*H61","v":0}]
[null,"RN3","Planejar o Roadmap do produto","por artefato","Analista de Negócios/ Requisitos - Sênior",24,{"$f":"'5 - Configurações'!E$91","v":1.8580000000000001},{"$f":"'5 - Configurações'!$B$80*'3 - Demanda'!G62","v":121.38314},null,{"$f":"I62*F62","v":0},{"$f":"J62*H62","v":0}]
[null,"RN4","Elaborar o backlog do produto","por artefato","Analista de Negócios/ Requisitos - Sênior",24,{"$f":"'5 - Configurações'!E$91","v":1.8580000000000001},{"$f":"'5 - Configurações'!$B$80*'3 - Demanda'!G63","v":121.38314},null,{"$f":"I63*F63","v":0},{"$f":"J63*H63","v":0}]
[null,"RN5","Planejar o release","por artefato ","Gerente de projetos",16,{"$f":"'5 - Configurações'!E$95","v":2.6719999999999997},{"$f":"'5 - Configurações'!$B$80*'3 - Demanda'!G64","v":174.56175999999996},null,{"$f":"I64*F64","v":0},{"$f":"J64*H64","v":0}]
[null,"2. Categoria: Testes "]
[null,"ID","Serviço Técnico","Unidade de medida","Qualificação profissional do executor","Esforço (Horas) necessário para execução do serviço (A)","Fator (F)","Valor Unitário de Referência","Quantidade estimada de \nexecuções do serviço (B)","Quantitativo estimado total de HST no contrato  (C = A x B x F)","Valor Total Estimado por serviço","Jutificativa / Memória de cálculo"]
[null,"TS1","Elaborar caso de testes não funcional de stress ou carga","por caso de teste","Analista de Testes/Qualidade - Pleno ",10,{"$f":"'5 - Configurações'!E$97","v":1.2589999999999999},{"$f":"'5 - Configurações'!$B$80*'3 - Demanda'!G67","v":82.250469999999993},null,{"$f":"I67*F67","v":0},{"$f":"J67*H67","v":0}]
[null,"TS2","Executar, monitorar, controlar e analisar os testes não funcionais  de stress ou carga","por caso de teste","Analista de Testes/Qualidade - Pleno ",20,{"$f":"'5 - Configurações'!E$97","v":1.2589999999999999},{"$f":"'5 - Configurações'!$B$80*'3 - Demanda'!G68","v":82.250469999999993},null,{"$f":"I68*F68","v":0},{"$f":"J68*H68","v":0}]
[null,"TS3","Elaborar Plano de Testes ","por plano de testes do projeto","Analista de Testes/Qualidade - Pleno ",16,{"$f":"'5 - Configurações'!E$97","v":1.2589999999999999},{"$f":"'5 - Configurações'!$B$80*'3 - Demanda'!G69","v":82.250469999999993},null,{"$f":"I69*F69","v":0},{"$f":"J69*H69","v":0}]
[null,"TS4","Atualizar Plano de Testes","por plano de testes do projeto","Analista de Testes/Qualidade - Pleno ",8,{"$f":"'5 - Configurações'!E$97","v":1.2589999999999999},{"$f":"'5 - Configurações'!$B$80*'3 - Demanda'!G70","v":82.250469999999993},null,{"$f":"I70*F70","v":0},{"$f":"J70*H70","v":0}]
[null,"3. Categoria: Homologação"]
[null,"ID","Serviço Técnico","Unidade de medida","Qualificação profissional do executor","Esforço (Horas) necessário para execução do serviço (A)","Fator (F)","Valor Unitário de Referência","Quantidade estimada de \nexecuções do serviço (B)","Quantitativo estimado total de HST no contrato  (C = A x B x F)","Valor Total Estimado por serviço","Jutificativa / Memória de cálculo"]
[null,"HM1","Disponibilizar ambiente para realizar homologação assistida","por demanda ","Desenvolvedor de Software - Pleno",20,{"$f":"'5 - Configurações'!E$86","v":1.657},{"$f":"'5 - Configurações'!$B$80*'3 - Demanda'!G73","v":108.25181000000001},null,{"$f":"I73*F73","v":0},{"$f":"J73*H73","v":0}]
[null,"HM2","Elaborar/gerar massa de dados específica no ambiente de homologação","por plano de testes do projeto","Desenvolvedor de Software - Pleno",12,{"$f":"'5 - Configurações'!E$86","v":1.657},{"$f":"'5 - Configurações'!$B$80*'3 - Demanda'!G74","v":108.25181000000001},null,{"$f":"I74*F74","v":0},{"$f":"J74*H74","v":0}]
[null,"4. Categoria: Manual do Usuário"]
[null,"ID","Serviço Técnico","Unidade de medida","Qualificação profissional do executor","Esforço (Horas) necessário para execução do serviço (A)","Fator (F)","Valor Unitário de Referência","Quantidade estimada de \nexecuções do serviço (B)","Quantitativo estimado total de HST no contrato  (C = A x B x F)","Valor Total Estimado por serviço","Jutificativa / Memória de cálculo"]
[null,"MU1","Elaborar Help / Manual de Usuário de Sistema em Desenvolvimento","por funcionalidade","ANR-02 Analista de Negócios/Requisitos - Pleno",4,{"$f":"'5 - Configurações'!E$90","v":1.4239999999999999},{"$f":"'5 - Configurações'!$B$80*'3 - Demanda'!G77","v":93.02991999999999},null,{"$f":"I77*F77","v":0},{"$f":"J77*H77","v":0}]
[null,"MU2","Atualizar Help / Manual de Usuário de Sistema em Desenvolvimento","por funcionalidade","ANR-02 Analista de Negócios/Requisitos - Pleno",2,{"$f":"'5 - Configurações'!E$90","v":1.4239999999999999},{"$f":"'5 - Configurações'!$B$80*'3 - Demanda'!G78","v":93.02991999999999},null,{"$f":"I78*F78","v":0},{"$f":"J78*H78","v":0}]
[null,"MU3","Elaborar Manual do Usuário de sistema já implantado,","por funcionalidade","ANR-02 Analista de Negócios/Requisitos - Pleno",6,{"$f":"'5 - Configurações'!E$90","v":1.4239999999999999},{"$f":"'5 - Configurações'!$B$80*'3 - Demanda'!G79","v":93.02991999999999},null,{"$f":"I79*F79","v":0},{"$f":"J79*H79","v":0}]
[null,"MU4","Elaborar Manual de usuário de sistema NÃO desenvolvido pela contratada","por funcionalidade","ANR-02 Analista de Negócios/Requisitos - Pleno",8,{"$f":"'5 - Configurações'!E$90","v":1.4239999999999999},{"$f":"'5 - Configurações'!$B$80*'3 - Demanda'!G80","v":93.02991999999999},null,{"$f":"I80*F80","v":0},{"$f":"J80*H80","v":0}]
[{"$nulls":8},"TOTAL HST (12 meses):",{"$f":"SUM(J60:J80)","v":0}]

{"sheet":"4 - Resultado","index":5,"n_rows":13,"n_cols":9,"rows_kept":13,"cut":false,"hidden":false,"merged":[[3,2,3,6]]}
[]
[null,null,"Resultado"]
[]
[null,null,"LOTE 1 - DESENVOLVIMENTO E MANUTENÇÃO  DE SOFTWARE (grupo de órgãos 1)"]
[null,null,"ITEM","ITEM","CATSER","UNIDADE","QUANTIDADE ESTIMADA","VALOR UNITÁRIO ESTIMADO","VALOR ESTIMADO"]
[null,null,1,"Desenvolvimento e Manutenção de Software baseado em tecnologia Java","25852 - Desenvolvimento de Novo Software - Java","PONTO DE FUNÇÃO (PF)",{"$f":"'3 - Demanda'!H13","v":0},{"$f":"'5 - Configurações'!$B$79","v":1037.67},{"$f":"H6*G6","v":0}]
[null,null,2,"Desenvolvimento e Manutenção de Software baseado em tecnologia PHP","25860 Desenvolvimento e ou evolução de software - PHP","PONTO DE FUNÇÃO (PF)",{"$f":"'3 - Demanda'!H21","v":0},{"$f":"'5 - Configurações'!$B$79","v":1037.67},0]
[null,null,3,"Desenvolvimento e Manutenção de Software baseado em tecnologia Python","25887 Desenvolvimento e ou evolução de software - Python","PONTO DE FUNÇÃO (PF)",{"$f":"'3 - Demanda'!H29","v":0},{"$f":"'5 - Configurações'!$B$79","v":1037.67},0]
[null,null,4,"Desenvolvimento e Manutenção de Software baseado em tecnologias para Dispositivos Móveis","25895 Desenvolvimento e ou evolução de software - Dispositivos móveis","PONTO DE FUNÇÃO (PF)",{"$f":"'3 - Demanda'!H37","v":0},{"$f":"'5 - Configurações'!$B$79","v":1037.67},0]
[null,null,5,"Desenvolvimento e ou evolução de software -FRAMEWORK .Net, C#, Visual Basic, ASP, Delphi, Pascal e Perl.","25879 Desenvolvimento e ou evolução de software -FRAMEWORK .Net, C#, Visual Basic, ASP, Delphi, Pascal e Perl.","PONTO DE FUNÇÃO (PF)",{"$f":"'3 - Demanda'!H45","v":0},{"$f":"'5 - Configurações'!$B$79","v":1037.67},0]
[null,null,6,"Manutenção manutenção Corretiva, Preventiva e Adaptativa","25992 Manutenção de Software","PONTO DE FUNÇÃO (PF)",{"$f":"'3 - Demanda'!H53","v":0},{"$f":"'5 - Configurações'!$B$79","v":1037.67},0]
[null,null,7,"Serviços Complementares de Desenvolvimento e manutenção de Software","30001 - Implementação Ágil de Software","HORA SERVIÇO TÉCNICO (HST)",{"$f":"'3 - Demanda'!J81","v":0},{"$f":"'5 - Configurações'!B80","v":65.33},0]
[{"$nulls":6},"Valor Total Estimado:",null,{"$f":"SUM(I6:I12)","v":0}]

{"sheet":"Mapa Referência","index":6,"n_rows":21,"n_cols":6,"rows_kept":21,"cut":false,"hidden":true,"merged":[]}
[]
[null,"Cód. Identificação do Perfil ","Descrição do Perfil ","Valor Salarial (R$) ","Alocação de Ref.","Capacidade máxima de Compartilhamento \n(n° de projetos simultâneos"]
[null,"ARQSOF-01 ","Arquiteto de Software – Pleno ","R$ 10.498,73 ",{"$f":"1/F3","v":0.33333333333333331},3]
[null,"ARQSOF-02 ","Arquiteto de Software – Sênior ","R$ 15.779,17 ",{"$f":"1/F4","v":0.33333333333333331},3]
[null,"ATQ-01 ","Analista de Testes/Qualidade – Junior ","R$ 5.200,46 ",0.2,5]
[null,"ATQ-02 ","Analista de Testes/Qualidade – Pleno ","R$ 6.550,32 ",0.2,5]
[null,"ATQ-03 ","Analista de Testes/Qualidade – Sênior ","R$ 9.671,80 ",0.2,5]
[null,"DESENV-01 ","Desenvolvedor de Software – Junior ",5611.32,1,1]
[null,"DESENV-02 ","Desenvolvedor de Software – Pleno ",8622.2999999999993,1,1]
[null,"DESENV-03 ","Desenvolvedor de Software – Sênior ",11669.09,1,1]
[null,"LDESENV ","Líder Técnico de Desenvolvimento ","R$ 13.389,21 ",0.25,4]
[null,"ANR-01 ","Analista de Negócios/Requisitos Júnior ","R$ 5.838,48 ",0.5,2]
[null,"ANR-02 ","Analista de Negócios/Requisitos Pleno ","R$ 7.407,49 ",0.5,2]
[null,"ANR-03 ","Analista de Negócios/Requisitos Sênior ","R$ 9.664,58 ",0.5,2]
[null,"ABI-01 ","Analista de BI Júnior ","R$ 6.683,31 ",1,1]
[null,"ABI-02 ","Analista de BI Pleno ","R$ 9.967,63 ",1,1]
[null,"ABI-03 ","Analista de BI Sênior ","R$ 12.816,73 ",1,1]
[null,"ADADOS-02 ","Administrador de Dados Pleno ","R$ 7.816,50 ",0.33333333333333331,3]
[null,"ADADOS-03 ","Administrador de Dados Sênior ","R$ 9.946,67 ",0.33333333333333331,3]
[null,"SCRUM ","Scrum Master ","R$ 11.488,00 ",0.33333333333333331,3]
[null,"GEPRO ","Gerente de projetos de tecnologia da informação ","R$ 13.896,33 ",0.25,4]

{"sheet":"5 - Configurações","index":7,"n_rows":98,"n_cols":14,"rows_kept":98,"cut":false,"hidden":false,"merged":[[10,1,10,4],[1,0,1,4]]}
[]
["Parâmetros Gerais e Específicos"]
["A - DESENVOLVIMENTO E MANUTENÇÃO"]
["Duração da Sprint:",3,"semanas"]
["Quantidade de Horas da sprint",{"$f":"B4*5","v":15},"dias"]
["Fator K",2.0099999999999998,null,null,"AGU","MINFRA","TCU","GovBA","CNJ ","SENADO","TRF 2aR","CA","CAPES","DPU"]
["Produtividade de Referência (PF):",{"$f":"MEDIAN(E7:N7)","v":0.56000000000000005},"PF/dia/Dev",null,0.57999999999999996,0.57999999999999996,0.56000000000000005,1.51,0.56000000000000005,0.56000000000000005,0.56000000000000005,0.56000000000000005,0.6,0.56000000000000005]
["Estimativa de Sprints em 12 meses",{"$f":"ROUNDDOWN(52/B4,0)","v":17},null,null,"TCU","ANA"]
["Produtividade de Referência (Loc):",{"$f":"AVERAGE(E9:R9)","v":44.325000000000003},"Loc/Dia/Dev",null,33.33,55.32]
["B - SUSTENTAÇÃO"]
["Tabela de Esforço por Chamado - Sustentação","Esforço em horas"]
["Criticidade","baixa complexidade","média complexidade",null,"alta complexidade"]
["Crítico",4,6,null,8]
["Convencional",2,4,null,6]
["C - ANALYTICS"]
["Distribuição de referência dos Perfis de Analytics","Participação na equipe"]
["Junior",0.2]
["Pleno",0.6]
["Senior",0.2]
["D - QUALIDADE, TESTES E SEGURANÇA"]
["Horas de verificação por PF",5]
["Distribuição de referência dos Perfis de Qualidade","Participação na equipe"]
["Junior",0.2]
["Pleno",0.6]
["Senior",0.2]
[]
[]
["E - LISTAS"]
["Lista Tecnologias","Lista Modalidades","Métodos Ágil",null,"Banco de Dados","Lista de Criticidade"]
["Java","Ponto de Função","Scrum",null,"Oracle","Crítico"]
["PHP","UST","XP",null,"MySQL","Convencional"]
["PYTHON","Posto de trabalho","Lean",null,"Microsoft SQL Server"]
["C#","HST","Kanban",null,"PostgreSQL"]
["Delphi","Fixo Mensal","Craftsmanship",null,"MongoDB"]
["C / C++",null,null,null,"Redis"]
["Ruby",null,null,null,"IBM Db2"]
["ASP",null,null,null,"Elasticsearch"]
[".NET",null,null,null,"Microsoft Acess"]
["Go",null,null,null,"SQLite"]
["Kotlin",null,null,null,"Cassandra"]
["Swift",null,null,null,"MariaDB"]
["R",null,null,null,"Splunk"]
[{"$nulls":4},"Microsoft Azure SQL Database"]
[{"$nulls":4},"Snowflake"]
[{"$nulls":4},"Hive"]
[{"$nulls":4},"Amazon DynamoDB"]
[{"$nulls":4},"Teradata"]
[{"$nulls":4},"Solr"]
[{"$nulls":4},"Neo4j"]
[]
[]
[]
["Lista de Órgãos"]
[" - "]
["AGENCIA NACIONAL DE AGUAS - ANA - 443001"]
["AGENCIA NACIONAL DE SAUDE SUPLEMENTAR/MS - 253003"]
["AGÊNCIA NACIONAL DE TRANSPORTES AQUAVIÁRIOS - 682010"]
["AGENCIA NACIONAL DE VIGILÂNCIA SANITÁRIA - 253002"]
["AGENCIA NACIONAL DO CINEMA - PR - 203003"]
["CENTRO GESTOR OP. SISTEMA PROTECAO AMAZONIA - 110511"]
["CNPQ - ADMINISTRACAO CENTRAL - 364102"]
["COORD.-GERAL DE EXECUCAO ORç.E FIN./DA/MAPA - 130005"]
["COORD.GERAL DE RECURSOS LOGÍSTICOS - 390004"]
["COORDENACAO GERAL DE RECURSOS LOGISTICOS - 410003"]
["COORDENAÇÃO-GERAL DE LOGÍSTICA DO MDH - 810005"]
["COORDENAÇÃO-GERAL DE RECURSOS LOGÍSTICOS - 540004"]
["DEPARTAMENTO DE ADMINISTRACAO DA ABIN/GSI/PR - 110120"]
["DEPARTAMENTO DE ADMINISTRAÇÃO INTERNA - 110404"]
["DEPTO. NAC. DE INFRA-ESTRUTURA DE TRANSPORTES - 393003"]
["GABINETE DE SEGURANÇA INSTITUCIONAL - 110322"]
["INCRA-SEDE/DF - 373083"]
["INSTIT.NAC.DE PESQ.ESPACIAIS-S.J.CAMPOS - MCT - 240106"]
["INSTITUTO NAC. DE TECNOLOGIA DA INFORMAçãO - 243001"]
["MCT-COORD. GERAL DE RECURSOS LOGÍSTICOS/DF - 240101"]
["MCT-INSTITUTO NACIONAL DE TECNOLOGIA-RJ - 240104"]
["MUSEU DE ASTRONOMIA E CIENCIAS AFINS - 240124"]
["SECRETARIA DE ADMINISTRAÇÃO - 110001"]
["SERVIÇO FLORESTAL BRASILEIRO - 130149"]
["Valor de Referência Ponto de Função",1037.67]
["Valor de Referência HST:",65.33]
["Fator k",2.0099999999999998]
["Perfil","Descrição do Perfil","Salário de Ref.","Custo do Profissional Mensal","Fator","Valor Unitário de Ref."]
["ARQSOF-01 ","Arquiteto de Software – Pleno ",10498.73,{"$f":"C83*$B$81","v":21102.447299999996},{"$f":"ROUNDDOWN((C83-$C$96)/$C$96,3)+1","v":2.0179999999999998},{"$f":"$B$80*E83","v":131.83593999999999}]
["ARQSOF-02 ","Arquiteto de Software – Sênior ",15779.17,31716.131699999998,3.0339999999999998,198.21121999999997]
["DESENV-01 ","Desenvolvedor de Software – Junior ",5611.32,11278.753199999997,1.079,70.491069999999993]
["DESENV-02 ","Desenvolvedor de Software – Pleno ",8622.2999999999993,17330.822999999997,1.657,108.25181000000001]
["DESENV-03 ","Desenvolvedor de Software – Sênior ",11669.09,23454.870899999998,2.2430000000000003,146.53519000000003]
["LDESENV ","Líder Técnico de Desenvolvimento ",13389.21,26912.312099999996,2.5739999999999998,168.15941999999998]
["ANR-01 ","Analista de Negócios/Requisitos Júnior ",5838.48,11735.344799999997,1.1219999999999999,73.300259999999994]
["ANR-02 ","Analista de Negócios/Requisitos Pleno ",7407.49,14889.054899999997,1.4239999999999999,93.02991999999999]
["ANR-03 ","Analista de Negócios/Requisitos Sênior ",9664.58,19425.805799999998,1.8580000000000001,121.38314]
["ADADOS-02 ","Administrador de Dados Pleno ",7816.5,15711.164999999999,1.5030000000000001,98.190989999999999]
["ADADOS-03 ","Administrador de Dados Sênior ",9946.67,19992.806699999997,1.9119999999999999,124.91095999999999]
["SCRUM ","Scrum Master ",11488,23090.879999999997,2.2090000000000001,144.31397000000001]
["GEPRO ","Gerente de projetos de tecnologia da informação ",13896.33,27931.623299999996,2.6719999999999997,174.56175999999996]
["ATQ-01 ","Analista de Testes/Qualidade – Junior ",5200.46,10452.924599999998,1,65.33]
["ATQ-02 ","Analista de Testes/Qualidade – Pleno ",6550.32,13166.143199999999,{"$f":"ROUNDDOWN((C97-$C$96)/$C$96,3)+1","v":1.2589999999999999},82.250469999999993]
["ATQ-03 ","Analista de Testes/Qualidade – Sênior ",9671.7999999999993,19440.317999999996,{"$f":"ROUNDDOWN((C98-$C$96)/$C$96,3)+1","v":1.859},121.44847]