BEGIN:VCALENDAR
PRODID:brasil.gov.agenda
VERSION:1.0
BEGIN:VEVENT
DTSTART:20210127T113000Z
DTEND:20210128T025900Z
DCREATED:20201223T203446Z
UID:Compromisso-fe4111920dc6448bbd982c71c5ef37b9
SEQUENCE:0
LAST-MODIFIED:20201223T203446Z
SUMMARY:Banco Central do Brasil divulga Estatísticas do Setor Externo
PRIORITY:3
TRANSP:0
END:VEVENT
END:VCALENDAR
