BEGIN:VCALENDAR
PRODID:brasil.gov.agenda
VERSION:1.0
BEGIN:VEVENT
DTSTART:20210122T110000Z
DTEND:20210123T025900Z
DCREATED:20201223T202618Z
UID:Compromisso-36fe539d328342d2bb258ad62815f162
SEQUENCE:0
LAST-MODIFIED:20201223T202618Z
SUMMARY:FGV divulga Prévia da Sondagem da Indústria de janeiro/21
PRIORITY:3
TRANSP:0
END:VEVENT
END:VCALENDAR
