BEGIN:VCALENDAR
PRODID:brasil.gov.agenda
VERSION:1.0
BEGIN:VEVENT
DTSTART:20210119T110000Z
DTEND:20210120T025900Z
DCREATED:20201223T202250Z
UID:Compromisso-f2e8d9ce1b894e1cadcbead0afa520f8
SEQUENCE:0
LAST-MODIFIED:20201223T202250Z
SUMMARY:FGV divulga IGP-M 2º decêndio de janeiro/21
PRIORITY:3
TRANSP:0
END:VEVENT
END:VCALENDAR
