BEGIN:VCALENDAR
PRODID:brasil.gov.agenda
VERSION:1.0
BEGIN:VEVENT
DTSTART:20220325T200000Z
DTEND:20220325T030000Z
DCREATED:20220325T141423Z
UID:Compromisso-900c4e3bb43d46e38067da41f971f7de
SEQUENCE:0
LAST-MODIFIED:20220325T141423Z
SUMMARY:Reunião Interna.
LOCATION:DNIT
PRIORITY:3
TRANSP:0
END:VEVENT
END:VCALENDAR
