BEGIN:VCALENDAR
PRODID:brasil.gov.agenda
VERSION:1.0
BEGIN:VEVENT
DTSTART:20220325T143000Z
DTEND:20220325T030000Z
DCREATED:20220325T141317Z
UID:Compromisso-e45b4c296281419aa27280aff745335e
SEQUENCE:0
LAST-MODIFIED:20220325T141317Z
SUMMARY:Despachos internos.
LOCATION:DNIT
PRIORITY:3
TRANSP:0
END:VEVENT
END:VCALENDAR
