BEGIN:VCALENDAR
PRODID:brasil.gov.agenda
VERSION:1.0
BEGIN:VEVENT
DTSTART:20220324T193000Z
DTEND:20220324T030000Z
DCREATED:20220324T172622Z
UID:Compromisso-578b415356ff488fb9b50c506f8d21bc
SEQUENCE:0
LAST-MODIFIED:20220324T172622Z
SUMMARY:Compromisso Externo.
PRIORITY:3
TRANSP:0
END:VEVENT
END:VCALENDAR
