BEGIN:VCALENDAR
PRODID:brasil.gov.agenda
VERSION:1.0
BEGIN:VEVENT
DTSTART:20220323T210000Z
DTEND:20220323T030000Z
DCREATED:20220323T171638Z
UID:Compromisso-742be8a6bb974499a987ebe136c2b974
SEQUENCE:0
LAST-MODIFIED:20220323T171638Z
SUMMARY:Videoconferência com o Governo do Ceará.
LOCATION:Microsoft Teams
PRIORITY:3
TRANSP:0
END:VEVENT
END:VCALENDAR
